{"text_format":"1","workbook":"xlsx","n_sheets":26,"sheets":["事業者基本情報","様式第２号の８","様式第２号の９_第1面","様式第２号の９_第2面","様式第２号の９_第3面","様式第２号の13","様式第２号の14_第1面","様式第２号の14_第2面","様式第２号の14_第3面","様式第３号","様式第６号_本紙","様式第６号_別紙","様式第６号_本紙_特別","様式第６号_別紙_特別","様式第７号_本紙","様式第７号_別紙1","様式第７号_別紙2","様式第７号_本紙_特別","様式第７号_別紙1_特別","様式第７号_別紙2_特別","様式第24号","様式第25号","様式第25号_特別","コード表","様式第２号_必須入力チェック","様式第２号"],"not_rendered":{"charts":0,"images":19,"macros":1,"external_links":0,"defined_names":26,"comments":0,"pivot_tables":0},"unopened":[],"bounds":{"document_bytes":16777216,"sheet_cells":100000,"rows_first":2000,"rows_last":500,"rows_between":2000,"halvings":0,"cell_chars":16384,"cell_head_chars":4096},"cells_cut":0,"cells_raw":0,"read":"whole","date_system":"1900"}

{"sheet":"事業者基本情報","index":0,"n_rows":29,"n_cols":25,"rows_kept":29,"cut":false,"hidden":false,"merged":[[3,7,3,19],[4,10,4,19],[5,4,5,19],[6,4,6,19],[7,4,7,19],[8,7,8,19],[9,5,9,19],[10,9,10,19],[11,5,11,19],[13,1,13,19],[14,1,14,19],[16,2,16,7],[16,10,16,19],[17,2,17,7],[17,10,17,19],[18,2,18,7],[18,10,18,19],[19,2,19,7],[19,10,19,19],[20,2,20,7],[20,10,20,19],[21,6,21,7],[21,10,21,19],[22,6,22,7],[22,10,22,19],[23,6,23,7],[23,10,23,19],[24,6,24,7],[24,10,24,19],[25,2,25,7],[25,10,25,19],[26,6,26,7],[26,10,26,19],[27,6,27,7],[27,10,27,19],[28,1,28,19],[6,2,11,2],[21,2,22,5],[23,2,24,5],[26,2,27,5]]}
["X","M",1]
[null,"事業者基本情報"]
[null,"No","分類","項目名","入力項目(※黄色セルの入力をお願いします)",null,null,null,null,null,null,null,null,null,null,null,null,null,null,null,null,null,"令和年度（西暦）"]
[null,null,"報告年度","報告年度","令和",7,"年度",null,null,null,null,null,null,null,null,null,null,null,null,null,null,null,{"$f":"2018+F4","v":2025}]
[null,null,"入力年月日","入力年月日",2026,"年",null,"月",null,"日",null,null,null,null,null,null,null,null,null,null,null,null,null,null,"全角変換"]
[null,null,"報告者情報","事業場名称",null,null,null,null,null,null,null,null,null,null,null,null,null,null,null,null,null,null,null,null,{"$f":"DBCS(E6)","v":""}]
[null,"1-1","法人(個人)情報","名称",null,null,null,null,null,null,null,null,null,null,null,null,null,null,null,null,null,null,null,null,{"$f":"DBCS(E7)","v":""}]
[null,"1-2",null,"代表者氏名",null,null,null,null,null,null,null,null,null,null,null,null,null,null,null,null,null,null,null,null,{"$f":"DBCS(E8)","v":""}]
[null,"1-3",null,"郵便番号",null,"-"]
[null,"1-4",null,"住所","静岡県",null,null,null,null,null,null,null,null,null,null,null,null,null,null,null,null,null,null,null,{"$f":"E10&DBCS(F10)","v":"静岡県"}]
[null,"1-5",null,"電話番号",null,"-",null,"-",null,null,null,null,null,null,null,null,null,null,null,null,null,null,"担当センター"]
[null,"1-6",null,"担当センター",null,null,null,null,null,null,null,null,null,null,null,null,null,null,null,null,null,null,{"$f":"IF(E12=\"賀茂\",\"賀電\",IF(E12=\"東部\",\"東電\",IF(E12=\"中部\",\"中電\",IF(E12=\"西部\",\"西電\",\"\"))))","v":""}]
[]
[null,"※提出する様式のチェックボックスにレ点を付けて下さい。(提出シートが表示されます。記入をお願いします。)"]
[null,"実績が無い場合は、実績無しのチェックボックスにレ点を付けて下さい。"]
[null,"No","様式シート名",null,null,null,null,null,"提出\n有","実績\n無","説明",null,null,null,null,null,null,null,null,null,null,null,"提出有"]
[null,"01","産業廃棄物処理計画書(様式第２号の８)",null,null,null,null,null,null,null,"産業廃棄物を多量（前年度の発生量が1,000ｔ以上）に生ずる事業場を設置している事業者",null,null,null,null,null,null,null,null,null,null,null,false]
[null,"02","産業廃棄物処理計画実施状況報告書(様式第２号の９)",null,null,null,null,null,null,null,"前年度に「産業廃棄物処理計画書」を提出した事業者",null,null,null,null,null,null,null,null,null,null,null,false]
[null,"03","特別管理産業廃棄物処理計画書(様式第２号の13)",null,null,null,null,null,null,null,"特別管理産業廃棄物を多量（前年度の発生量が50ｔ以上）に生ずる事業場を設置している事業者",null,null,null,null,null,null,null,null,null,null,null,false]
[null,"04","特別管理産業廃棄物処理計画実施状況報告書(様式第２号の14)",null,null,null,null,null,null,null,"前年度に「特別管理産業廃棄物処理計画書」を提出した事業者",null,null,null,null,null,null,null,null,null,null,null,false]
[null,"05","産業廃棄物管理票交付等状況報告書(様式第３号)",null,null,null,null,null,null,null,"前年度に紙マニフェストを交付した事業者（電子マニフェスト利用者を除く）",null,null,null,null,null,null,null,null,null,null,null,false]
[null,"06","産業廃棄物運搬状況報告書(様式第６号)",null,null,null,"※普通産廃",null,null,null,"積み替え保管を含む収集運搬業許可（法14条許可）を取得している事業者",null,null,null,null,null,null,null,null,null,null,null,false]
[null,"07",null,null,null,null,"※特別産廃",null,null,null,"積み替え保管を含む特別管理産業廃棄物収集運搬業許可（法14条許可）を取得している事業者",null,null,null,null,null,null,null,null,null,null,null,false]
[null,"08","産業廃棄物処分状況報告書(様式第７号)",null,null,null,"※普通産廃",null,null,null,"産業廃棄物処分業許可（法14条許可）を取得している事業者",null,null,null,null,null,null,null,null,null,null,null,false]
[null,"09",null,null,null,null,"※特別産廃",null,null,null,"特別管理産業廃棄物処分業許可（法14条許可）を取得している事業者",null,null,null,null,null,null,null,null,null,null,null,false]
[null,"10","産業廃棄物処理実績報告書(様式第24号)",null,null,null,null,null,null,null,"産業廃棄物処理施設の設置許可（法15条許可）を取得している事業者",null,null,null,null,null,null,null,null,null,null,null,false]
[null,"11","産業廃棄物運搬実績報告書(様式第25号)",null,null,null,"※普通産廃",null,null,null,"積み替え保管を含まない収集運搬業許可（法14条許可）を取得している事業者",null,null,null,null,null,null,null,null,null,null,null,false]
[null,"12",null,null,null,null,"※特別産廃",null,null,null,"積み替え保管を含まない特別管理産業廃棄物収集運搬業許可（法14条許可）を取得している事業者",null,null,null,null,null,null,null,null,null,null,null,false]
[null,"※対象のシート入力後、下記ボタンを押下し、入力漏れが無いか確認後、静岡県電子申請システムより提出をお願いします。"]

{"sheet":"様式第２号の８","index":1,"n_rows":161,"n_cols":58,"rows_kept":161,"cut":false,"hidden":true,"merged":[[1,52,1,55],[4,1,4,24],[6,1,6,24],[7,18,7,19],[9,8,9,24],[10,2,10,3],[10,4,10,7],[12,16,12,23],[13,16,13,24],[14,16,14,24],[14,52,14,55],[15,16,15,24],[16,14,16,24],[17,17,17,18],[17,20,17,21],[17,23,17,24],[24,2,24,6],[24,8,24,24],[25,2,25,6],[25,8,25,10],[25,11,25,12],[25,14,25,24],[27,2,27,6],[27,8,27,24],[29,2,29,7],[29,8,29,24],[30,2,30,7],[30,8,30,24],[31,2,31,7],[31,8,31,24],[32,2,32,7],[32,8,32,24],[35,1,35,24],[44,7,44,10],[44,12,44,15],[45,7,45,15],[45,16,45,24],[46,7,46,15],[46,16,46,23],[47,7,47,15],[47,16,47,23],[48,7,48,15],[48,16,48,23],[49,7,49,15],[49,16,49,23],[51,7,51,24],[53,7,53,15],[53,16,53,24],[54,7,54,15],[54,16,54,23],[55,7,55,15],[55,16,55,23],[56,7,56,15],[56,16,56,23],[57,7,57,15],[57,16,57,23],[59,7,59,24],[61,7,61,24],[62,7,62,24],[63,7,63,24],[64,7,64,24],[66,1,66,24],[68,7,68,10],[68,12,68,15],[69,7,69,15],[69,16,69,24],[70,7,70,15],[70,16,70,23],[71,7,71,15],[71,16,71,23],[72,7,72,15],[72,16,72,23],[73,7,73,15],[73,16,73,23],[75,7,75,24],[77,7,77,15],[77,16,77,24],[78,7,78,15],[78,16,78,23],[79,7,79,15],[79,16,79,23],[80,7,80,15],[80,16,80,23],[81,7,81,15],[81,16,81,23],[83,7,83,24],[85,7,85,10],[85,12,85,15],[86,7,86,12],[86,13,86,18],[86,19,86,24],[87,7,87,12],[87,13,87,17],[87,19,87,23],[88,7,88,12],[88,13,88,17],[88,19,88,23],[89,7,89,12],[89,13,89,17],[89,19,89,23],[90,7,90,12],[90,13,90,17],[90,19,90,23],[91,7,91,12],[91,13,91,17],[91,19,91,23],[92,7,92,12],[92,13,92,17],[92,19,92,23],[94,7,94,24],[96,7,96,12],[96,13,96,18],[96,19,96,24],[97,7,97,12],[97,13,97,17],[97,19,97,23],[98,7,98,12],[98,13,98,17],[98,19,98,23],[99,7,99,12],[99,13,99,17],[99,19,99,23],[100,7,100,12],[100,13,100,17],[100,19,100,23],[101,7,101,12],[101,13,101,17],[101,19,101,23],[102,7,102,12],[102,13,102,17],[102,19,102,23],[104,7,104,24],[105,1,105,24],[107,7,107,10],[107,12,107,15],[108,7,108,15],[108,16,108,24],[109,7,109,15],[109,16,109,23],[110,7,110,15],[110,16,110,23],[111,7,111,15],[111,16,111,23],[112,7,112,15],[112,16,112,23],[114,7,114,24],[116,7,116,15],[116,16,116,24],[117,7,117,15],[117,16,117,23],[118,7,118,15],[118,16,118,23],[119,7,119,15],[119,16,119,23],[120,7,120,15],[120,16,120,23],[122,7,122,24],[124,7,124,10],[124,12,124,15],[125,13,125,24],[126,13,126,14],[126,15,126,16],[126,17,126,18],[126,19,126,20],[126,21,126,24],[127,7,127,12],[127,13,127,14],[127,15,127,16],[127,17,127,18],[127,19,127,20],[127,21,127,24],[128,7,128,12],[129,7,129,12],[130,7,130,12],[131,7,131,12],[132,7,132,12],[132,13,132,14],[132,15,132,16],[132,17,132,18],[132,19,132,20],[132,21,132,24],[133,7,133,12],[134,7,134,12],[135,7,135,12],[136,7,136,12],[138,7,138,24],[141,1,141,24],[143,13,143,24],[144,13,144,14],[144,15,144,16],[144,17,144,18],[144,19,144,20],[144,21,144,24],[145,7,145,12],[145,13,145,14],[145,15,145,16],[145,17,145,18],[145,19,145,20],[145,21,145,24],[146,7,146,12],[147,7,147,12],[148,7,148,12],[149,7,149,12],[150,7,150,12],[150,13,150,14],[150,15,150,16],[150,17,150,18],[150,19,150,20],[150,21,150,24],[151,7,151,12],[152,7,152,12],[153,7,153,12],[154,7,154,12],[156,7,156,24],[157,1,157,6],[157,7,157,24],[159,1,159,24],[214,1,214,24],[20,1,21,24],[38,2,42,24],[61,2,62,6],[63,2,64,6],[125,7,126,12],[143,7,144,12],[3,54,12,54],[3,55,12,55],[16,54,25,54],[16,55,25,55],[44,2,51,6],[52,2,59,6],[68,2,75,6],[76,2,83,6],[85,2,94,6],[95,2,104,6],[107,2,114,6],[115,2,122,6],[124,2,138,6],[142,2,156,6],[160,1,209,24]]}
["D","P",1,"N"]
[null,null,null,null,null,null,null,null,null,null,null,null,null,null,null,null,null,null,null,null,null,null,null,null,null,null,null,null,null,null,null,null,null,null,null,null,null,null,null,null,null,null,"エラーフラグ","必須項目フラグ","必須入力内容","対象セル",null,null,null,null,null,null,"行追加用T",null,null,null,null,"該当無しT"]
[null,"様式第二号の八（第八条の四の五関係）",null,null,null,null,null,null,null,null,null,null,null,null,null,null,null,null,null,null,null,null,null,null,null,null,null,null,null,null,null,null,null,null,null,null,null,null,null,null,null,null,null,null,null,null,{"$f":"AU55","v":55},null,null,null,null,null,"開始行","終了行","行追加用T\n最終行","削除不可\n最低行数",null,false]
[null,null,null,null,null,null,null,null,null,null,null,null,null,null,null,null,null,null,null,null,null,null,null,null,null,null,null,null,null,null,null,null,null,null,null,null,null,null,null,null,null,null,null,null,null,null,null,null,null,null,null,null,49,{"$f":"BA4+1","v":50},{"$f":"ROW()-1+COUNT(BA4:BA13)","v":13},49,null,false]
[null,"（第１面）",null,null,null,null,null,null,null,null,null,null,null,null,null,null,null,null,null,null,null,null,null,null,null,null,null,null,null,null,null,null,null,null,null,null,null,null,null,null,null,null,null,null,null,null,null,null,null,null,null,null,57,{"$f":"BA5+1","v":58},null,null,null,false]
[null,null,null,null,null,null,null,null,null,null,null,null,null,null,null,null,null,null,null,null,null,null,null,null,null,null,null,null,null,null,null,null,null,null,null,null,null,null,null,null,null,null,null,null,null,null,null,null,null,null,null,null,73,{"$f":"BA6+1","v":74},null,null,null,false]
[null,"産業廃棄物処理計画書",null,null,null,null,null,null,null,null,null,null,null,null,null,null,null,null,null,null,null,null,null,null,null,null,null,null,null,null,null,null,null,null,null,null,null,null,null,null,null,null,null,null,null,null,null,null,null,null,null,null,81,{"$f":"BA7+1","v":82},null,null,null,false]
[null,null,null,null,null,null,null,null,null,null,null,null,null,null,null,null,null,null,{"$f":"事業者基本情報!E5","v":2026},null,"年",{"$f":"事業者基本情報!G5","v":0},"月",{"$f":"事業者基本情報!I5","v":0},"日",null,null,null,null,null,null,null,null,null,null,null,null,null,null,null,null,null,null,null,null,null,null,null,null,null,null,null,91,{"$f":"BA8+2","v":93},null,null,null,false]
[null,null,null,null,null,null,null,null,null,null,null,null,null,null,null,null,null,null,null,null,null,null,null,null,null,null,null,null,null,null,null,null,null,null,null,null,null,null,null,null,null,null,null,null,null,null,null,null,null,null,null,null,101,{"$f":"BA9+2","v":103},null,null,null,false]
[null,null,null,null,null,null,null,null,null,null,null,null,null,null,null,null,null,null,null,null,null,null,null,null,null,null,null,null,null,null,null,null,null,null,null,null,null,null,null,null,null,null,null,null,null,null,null,null,null,null,null,null,112,{"$f":"BA10+1","v":113},null,null,null,false]
[null,null,null,null,"静岡県知事",null,null,null,"殿",null,null,null,null,null,null,null,null,null,null,null,null,null,null,null,null,null,null,null,null,null,null,null,null,null,null,null,null,null,null,null,null,null,null,null,null,null,null,null,null,null,null,null,120,{"$f":"BA11+1","v":121}]
[null,null,null,null,null,null,null,null,null,null,null,null,null,null,null,null,null,null,null,null,null,null,null,null,null,null,null,null,null,null,null,null,null,null,null,null,null,null,null,null,null,null,null,null,null,null,null,null,null,null,null,null,133,{"$f":"BA12+4","v":137}]
[null,null,null,null,null,null,null,null,null,null,null,null,null,"　提出者",null,null,null,null,null,null,null,null,null,null,null,null,null,null,null,null,null,null,null,null,null,null,null,null,null,null,null,null,null,null,null,null,null,null,null,null,null,null,151,{"$f":"BA13+4","v":155}]
[null,null,null,null,null,null,null,null,null,null,null,null,null,null,"住　所",null,{"$f":"事業者基本情報!Y10","v":"静岡県"}]
[null,null,null,null,null,null,null,null,null,null,null,null,null,null,"氏　名",null,{"$f":"事業者基本情報!Y7","v":""},null,null,null,null,null,null,null,null,null,null,null,null,null,null,null,null,null,null,null,null,null,null,null,null,null,null,null,null,null,null,null,null,null,null,null,"行追加用T\n初期値"]
[null,null,null,null,null,null,null,null,null,null,null,null,null,null,null,null,{"$f":"IF(事業者基本情報!Y7=事業者基本情報!Y8,\"\",事業者基本情報!Y8)","v":""},null,null,null,null,null,null,null,null,null,null,null,null,null,null,null,null,null,null,null,null,null,null,null,null,null,null,null,null,null,null,null,null,null,null,null,"開始行","終了行","行追加用T\n最終行","削除不可\n最低行数"]
[null,null,null,null,null,null,null,null,null,null,null,null,null,null,"　(法人にあっては、名称及び代表者の氏名)",null,null,null,null,null,null,null,null,null,null,null,null,null,null,null,null,null,null,null,null,null,null,null,null,null,null,null,null,null,null,null,null,null,null,null,null,null,49,50,13,49]
[null,null,null,null,null,null,null,null,null,null,null,null,null,null,"電話番号",null,null,{"$f":"事業者基本情報!E11","v":0},null,"-",{"$f":"事業者基本情報!G11","v":0},null,"-",{"$f":"事業者基本情報!I11","v":0},null,null,null,null,null,null,null,null,null,null,null,null,null,null,null,null,null,null,null,null,null,null,null,null,null,null,null,null,57,58]
[null,null,null,null,null,null,null,null,null,null,null,null,null,null,null,null,null,null,null,null,null,null,null,null,null,null,null,null,null,null,null,null,null,null,null,null,null,null,null,null,null,null,null,null,null,null,null,null,null,null,null,null,73,74]
[null,null,null,null,null,null,null,null,null,null,null,null,null,null,null,null,null,null,null,null,null,null,null,null,null,null,null,null,null,null,null,null,null,null,null,null,null,null,null,null,null,null,null,null,null,null,null,null,null,null,null,null,81,82]
[null,"　廃棄物の処理及び清掃に関する法律第12条第９項の規定に基づき、産業廃棄物の減量その他その処理に関する計画を作成したので、提出します。",null,null,null,null,null,null,null,null,null,null,null,null,null,null,null,null,null,null,null,null,null,null,null,null,null,null,null,null,null,null,null,null,null,null,null,null,null,null,null,null,null,null,null,null,null,null,null,null,null,null,91,93]
[null,null,null,null,null,null,null,null,null,null,null,null,null,null,null,null,null,null,null,null,null,null,null,null,null,null,null,null,null,null,null,null,null,null,null,null,null,null,null,null,null,null,null,null,null,null,null,null,null,null,null,null,101,103]
[null,null,null,null,null,null,null,null,null,null,null,null,null,null,null,null,null,null,null,null,null,null,null,null,null,null,null,null,null,null,null,null,null,null,null,null,null,null,null,null,null,null,null,null,null,null,null,null,null,null,null,null,112,113]
[null,null,null,null,null,null,null,null,null,null,null,null,null,null,null,null,null,null,null,null,null,null,null,null,null,null,null,null,null,null,null,null,null,null,null,null,null,null,null,null,null,null,{"$f":"IF(TRIM(AS24)=\"\",1,0)","v":1},1,{"$f":"INDIRECT(AT24)&\"\"","v":""},{"$f":"\"I\"&ROW()+1","v":"I25"},null,null,null,null,null,null,120,121]
[null,null,"事業場の名称",null,null,null,null,null,null,null,null,null,null,null,null,null,null,null,null,null,null,null,null,null,null,null,null,null,null,null,null,null,null,null,null,null,null,null,null,null,null,null,0,1,{"$f":"INDIRECT(AT25)&\"\"","v":"静岡県"},{"$f":"\"I\"&ROW()+1","v":"I26"},null,null,null,null,null,null,133,137]
[null,null,"事業場の所在地",null,null,null,null,null,"静岡県",null,null,null,null,"市",null,null,null,null,null,null,null,null,null,null,null,null,null,null,null,null,null,null,null,null,null,null,null,null,null,null,null,null,1,1,{"$f":"INDIRECT(AT26)&\"\"","v":""},{"$f":"\"L\"&ROW()","v":"L26"},null,null,null,null,null,null,151,155]
[null,null,null,null,null,null,null,null,null,null,null,null,null,null,null,null,null,null,null,null,null,null,null,null,null,null,null,null,null,null,null,null,null,null,null,null,null,null,null,null,null,null,1,1,{"$f":"INDIRECT(AT27)&\"\"","v":""},{"$f":"\"O\"&ROW()-1","v":"O26"}]
[null,null,"計画期間",null,null,null,null,null,{"$f":"事業者基本情報!W4+1&\"/4/1 ～ \"&事業者基本情報!W4+2&\"/3/31\"","v":"2026/4/1 ～ 2027/3/31"},null,null,null,null,null,null,null,null,null,null,null,null,null,null,null,null,null,null,null,null,null,null,null,null,null,null,null,null,null,null,null,null,null,0,1,{"$f":"INDIRECT(AT28)&\"\"","v":"2026/4/1 ～ 2027/3/31"},{"$f":"\"I\"&ROW()","v":"I28"}]
[null,"当該事業場において現に行っている事業に関する事項",null,null,null,null,null,null,null,null,null,null,null,null,null,null,null,null,null,null,null,null,null,null,null,null,null,null,null,null,null,null,null,null,null,null,null,null,null,null,null,null,0,1,{"$f":"INDIRECT(AT29)&\"\"","v":"市"},{"$f":"\"N\"&ROW()-3","v":"N26"}]
[null,null,"①事業の種類",null,null,null,null,null,null,null,null,null,null,null,null,null,null,null,null,null,null,null,null,null,null,null,null,null,null,null,null,null,null,null,null,null,null,null,null,null,null,null,1,1,{"$f":"INDIRECT(AT30)&\"\"","v":""},{"$f":"\"I\"&ROW()","v":"I30"}]
[null,null,"②事業の規模",null,null,null,null,null,null,null,null,null,null,null,null,null,null,null,null,null,null,null,null,null,null,null,null,null,null,null,null,null,null,null,null,null,null,null,null,null,null,null,1,1,{"$f":"INDIRECT(AT31)&\"\"","v":""},{"$f":"\"I\"&ROW()","v":"I31"}]
[null,null,"③従業員数",null,null,null,null,null,null,null,null,null,null,null,null,null,null,null,null,null,null,null,null,null,null,null,null,null,null,null,null,null,null,null,null,null,null,null,null,null,null,null,1,1,{"$f":"INDIRECT(AT32)&\"\"","v":""},{"$f":"\"I\"&ROW()","v":"I32"}]
[null,null,"④産業廃棄物の\n　一連の処理の工程"]
[null,null,null,null,null,null,null,null,null,null,null,null,null,null,null,null,null,null,"（日本産業規格　Ａ列４番）"]
[]
[null,"（第２面）"]
[null,"産業廃棄物の処理に係る管理体制に関する事項"]
[null,null,"（管理体制図）"]
[]
[]
[]
[]
[]
[null,"産業廃棄物の排出の抑制に関する事項"]
[null,null,"①現状",null,null,null,null,"【前年度（令和　",null,null,null,{"$f":"事業者基本情報!F4","v":7},"年度）実績】"]
[null,null,null,null,null,null,null,"産業廃棄物の種類",null,null,null,null,null,null,null,null,"排出量"]
[null,null,null,null,null,null,null,null,null,null,null,null,null,null,null,null,0,null,null,null,null,null,null,null,"ｔ",null,null,null,null,null,null,null,null,null,null,null,null,null,null,null,null,null,{"$f":"IF(TRIM(AS47)=\"\",1,0)","v":1},1,{"$f":"INDIRECT(AT47)&\"\"","v":""},{"$f":"\"H\"&ROW()","v":"H47"}]
[null,null,null,null,null,null,null,null,null,null,null,null,null,null,null,null,null,null,null,null,null,null,null,null,null,null,null,null,null,null,null,null,null,null,null,null,null,null,null,null,null,null,{"$f":"IF(TRIM(AS48)=\"\",1,0)","v":1},1,{"$f":"IF(INDIRECT(AT48)=0,\"\",INDIRECT(AT48))","v":""},{"$f":"\"Q\"&ROW()-1","v":"Q47"}]
[null,null,null,null,null,null,null,null,null,null,null,null,null,null,null,null,0,null,null,null,null,null,null,null,"ｔ",null,null,null,null,null,null,null,null,null,null,null,null,null,null,null,null,null,{"$f":"IF(AND(TRIM(AS49)=\"\",TRIM(AS50)<>\"0\"),1,0)","v":0},1,{"$f":"INDIRECT(AT49)&\"\"","v":""},{"$f":"\"H\"&ROW()","v":"H49"}]
[null,null,null,null,null,null,null,null,null,null,null,null,null,null,null,null,null,null,null,null,null,null,null,null,null,null,null,null,null,null,null,null,null,null,null,null,null,null,null,null,null,null,{"$f":"IF(TRIM(AS50)=\"\",1,IF(AND(TRIM(AS50)=\"0\",TRIM(AS49)<>\"\"),1,0))","v":0},1,{"$f":"INDIRECT(AT50)&\"\"","v":"0"},{"$f":"\"Q\"&ROW()-1","v":"Q49"}]
[null,null,null,null,null,null,null,"（これまでに実施した取組）"]
[null,null,null,null,null,null,null,null,null,null,null,null,null,null,null,null,null,null,null,null,null,null,null,null,null,null,null,null,null,null,null,null,null,null,null,null,null,null,null,null,null,null,{"$f":"IF(TRIM(AS52)=\"\",1,0)","v":1},1,{"$f":"INDIRECT(AT52)&\"\"","v":""},{"$f":"\"H\"&ROW()","v":"H52"}]
[null,null,"②計画",null,null,null,null,"【目標】"]
[null,null,null,null,null,null,null,"産業廃棄物の種類",null,null,null,null,null,null,null,null,"排出量"]
[null,null,null,null,null,null,null,null,null,null,null,null,null,null,null,null,0,null,null,null,null,null,null,null,"ｔ",null,null,null,null,null,null,null,null,null,null,null,null,null,null,null,null,null,{"$f":"IF(TRIM(AS55)=\"\",1,0)","v":1},1,{"$f":"INDIRECT(AT55)&\"\"","v":""},{"$f":"\"H\"&ROW()","v":"H55"},{"$f":"ROW()","v":55}]
[null,null,null,null,null,null,null,null,null,null,null,null,null,null,null,null,null,null,null,null,null,null,null,null,null,null,null,null,null,null,null,null,null,null,null,null,null,null,null,null,null,null,{"$f":"IF(TRIM(AS56)=\"\",1,0)","v":1},1,{"$f":"IF(INDIRECT(AT56)=0,\"\",INDIRECT(AT56))","v":""},{"$f":"\"Q\"&ROW()-1","v":"Q55"}]
[null,null,null,null,null,null,null,null,null,null,null,null,null,null,null,null,0,null,null,null,null,null,null,null,"ｔ",null,null,null,null,null,null,null,null,null,null,null,null,null,null,null,null,null,{"$f":"IF(AND(TRIM(AS57)=\"\",TRIM(AS58)<>\"0\"),1,0)","v":0},1,{"$f":"INDIRECT(AT57)&\"\"","v":""},{"$f":"\"H\"&ROW()","v":"H57"}]
[null,null,null,null,null,null,null,null,null,null,null,null,null,null,null,null,null,null,null,null,null,null,null,null,null,null,null,null,null,null,null,null,null,null,null,null,null,null,null,null,null,null,{"$f":"IF(TRIM(AS58)=\"\",1,IF(AND(TRIM(AS58)=\"0\",TRIM(AS57)<>\"\"),1,0))","v":0},1,{"$f":"INDIRECT(AT58)&\"\"","v":"0"},{"$f":"\"Q\"&ROW()-1","v":"Q57"}]
[null,null,null,null,null,null,null,"（今後実施する予定の取組）"]
[null,null,null,null,null,null,null,null,null,null,null,null,null,null,null,null,null,null,null,null,null,null,null,null,null,null,null,null,null,null,null,null,null,null,null,null,null,null,null,null,null,null,{"$f":"IF(TRIM(AS60)=\"\",1,0)","v":1},1,{"$f":"INDIRECT(AT60)&\"\"","v":""},{"$f":"\"H\"&ROW()","v":"H60"}]
[null,"産業廃棄物の分別に関する事項"]
[null,null,"①現状",null,null,null,null,"（分別している産業廃棄物の種類及び分別に関する取組）"]
[null,null,null,null,null,null,null,null,null,null,null,null,null,null,null,null,null,null,null,null,null,null,null,null,null,null,null,null,null,null,null,null,null,null,null,null,null,null,null,null,null,null,{"$f":"IF(TRIM(AS63)=\"\",1,0)","v":1},1,{"$f":"INDIRECT(AT63)&\"\"","v":""},{"$f":"\"H\"&ROW()","v":"H63"}]
[null,null,"②計画",null,null,null,null,"(今後分別する予定の産業廃棄物の種類及び分別に関する取組)"]
[null,null,null,null,null,null,null,null,null,null,null,null,null,null,null,null,null,null,null,null,null,null,null,null,null,null,null,null,null,null,null,null,null,null,null,null,null,null,null,null,null,null,{"$f":"IF(TRIM(AS65)=\"\",1,0)","v":1},1,{"$f":"INDIRECT(AT65)&\"\"","v":""},{"$f":"\"H\"&ROW()","v":"H65"}]
[]
[null,"（第３面）"]
[null,"自ら行う産業廃棄物の再生利用に関する事項"]
[null,null,"①現状",null,null,null,null,"【前年度（令和　",null,null,null,{"$f":"事業者基本情報!F4","v":7},"年度）実績】"]
[null,null,null,null,null,null,null,"産業廃棄物の種類",null,null,null,null,null,null,null,null,"自ら再生利用を行った\n産業廃棄物の量"]
[null,null,null,null,null,null,null,null,null,null,null,null,null,null,null,null,0,null,null,null,null,null,null,null,"ｔ",null,null,null,null,null,null,null,null,null,null,null,null,null,null,null,null,null,{"$f":"IF($BF$3=TRUE,0,IF(TRIM(AS71)=\"\",1,0))","v":1},1,{"$f":"INDIRECT(AT71)&\"\"","v":""},{"$f":"\"H\"&ROW()","v":"H71"}]
[null,null,null,null,null,null,null,null,null,null,null,null,null,null,null,null,null,null,null,null,null,null,null,null,null,null,null,null,null,null,null,null,null,null,null,null,null,null,null,null,null,null,{"$f":"IF($BF$3=TRUE,0,IF(TRIM(AS72)=\"\",1,0))","v":1},1,{"$f":"IF(INDIRECT(AT72)=0,\"\",INDIRECT(AT72))","v":""},{"$f":"\"Q\"&ROW()-1","v":"Q71"}]
[null,null,null,null,null,null,null,null,null,null,null,null,null,null,null,null,0,null,null,null,null,null,null,null,"ｔ",null,null,null,null,null,null,null,null,null,null,null,null,null,null,null,null,null,{"$f":"IF($BF$3=TRUE,0,IF(AND(TRIM(AS73)=\"\",TRIM(AS74)<>\"0\"),1,0))","v":0},1,{"$f":"INDIRECT(AT73)&\"\"","v":""},{"$f":"\"H\"&ROW()","v":"H73"}]
[null,null,null,null,null,null,null,null,null,null,null,null,null,null,null,null,null,null,null,null,null,null,null,null,null,null,null,null,null,null,null,null,null,null,null,null,null,null,null,null,null,null,{"$f":"IF($BF$3=TRUE,0,IF(TRIM(AS74)=\"\",1,IF(AND(TRIM(AS74)=\"0\",TRIM(AS73)<>\"\"),1,0)))","v":0},1,{"$f":"INDIRECT(AT74)&\"\"","v":"0"},{"$f":"\"Q\"&ROW()-1","v":"Q73"}]
[null,null,null,null,null,null,null,"（これまでに実施した取組）"]
[null,null,null,null,null,null,null,null,null,null,null,null,null,null,null,null,null,null,null,null,null,null,null,null,null,null,null,null,null,null,null,null,null,null,null,null,null,null,null,null,null,null,{"$f":"IF($BF$3=TRUE,0,IF($BF$3=TRUE,0,IF(TRIM(AS76)=\"\",1,0)))","v":1},1,{"$f":"INDIRECT(AT76)&\"\"","v":""},{"$f":"\"H\"&ROW()","v":"H76"}]
[null,null,"②計画",null,null,null,null,"【目標】"]
[null,null,null,null,null,null,null,"産業廃棄物の種類",null,null,null,null,null,null,null,null,"自ら再生利用を行う\n産業廃棄物の量"]
[null,null,null,null,null,null,null,null,null,null,null,null,null,null,null,null,0,null,null,null,null,null,null,null,"ｔ",null,null,null,null,null,null,null,null,null,null,null,null,null,null,null,null,null,{"$f":"IF($BF$4=TRUE,0,IF(TRIM(AS79)=\"\",1,0))","v":1},1,{"$f":"INDIRECT(AT79)&\"\"","v":""},{"$f":"\"H\"&ROW()","v":"H79"}]
[null,null,null,null,null,null,null,null,null,null,null,null,null,null,null,null,null,null,null,null,null,null,null,null,null,null,null,null,null,null,null,null,null,null,null,null,null,null,null,null,null,null,{"$f":"IF($BF$4=TRUE,0,IF(TRIM(AS80)=\"\",1,0))","v":1},1,{"$f":"IF(INDIRECT(AT80)=0,\"\",INDIRECT(AT80))","v":""},{"$f":"\"Q\"&ROW()-1","v":"Q79"}]
[null,null,null,null,null,null,null,null,null,null,null,null,null,null,null,null,0,null,null,null,null,null,null,null,"ｔ",null,null,null,null,null,null,null,null,null,null,null,null,null,null,null,null,null,{"$f":"IF($BF$4=TRUE,0,IF(AND(TRIM(AS81)=\"\",TRIM(AS82)<>\"0\"),1,0))","v":0},1,{"$f":"INDIRECT(AT81)&\"\"","v":""},{"$f":"\"H\"&ROW()","v":"H81"}]
[null,null,null,null,null,null,null,null,null,null,null,null,null,null,null,null,null,null,null,null,null,null,null,null,null,null,null,null,null,null,null,null,null,null,null,null,null,null,null,null,null,null,{"$f":"IF($BF$4=TRUE,0,IF(TRIM(AS82)=\"\",1,IF(AND(TRIM(AS82)=\"0\",TRIM(AS81)<>\"\"),1,0)))","v":0},1,{"$f":"INDIRECT(AT82)&\"\"","v":"0"},{"$f":"\"Q\"&ROW()-1","v":"Q81"}]
[null,null,null,null,null,null,null,"（今後実施する予定の取組）"]
[null,null,null,null,null,null,null,null,null,null,null,null,null,null,null,null,null,null,null,null,null,null,null,null,null,null,null,null,null,null,null,null,null,null,null,null,null,null,null,null,null,null,{"$f":"IF($BF$4=TRUE,0,IF(TRIM(AS84)=\"\",1,0))","v":1},1,{"$f":"INDIRECT(AT84)&\"\"","v":""},{"$f":"\"H\"&ROW()","v":"H84"}]
[null,"自ら行う産業廃棄物の中間処理に関する事項"]
[null,null,"①現状",null,null,null,null,"【前年度（令和　",null,null,null,{"$f":"事業者基本情報!F4","v":7},"年度）実績】"]
[null,null,null,null,null,null,null," 産業廃棄物の種類",null,null,null,null,null,"自ら熱回収を行った\n産業廃棄物の量",null,null,null,null,null,"自ら中間処理により減量した\n産業廃棄物の量"]
[null,null,null,null,null,null,null,null,null,null,null,null,null,0,null,null,null,null,"ｔ",0,null,null,null,null,"ｔ",null,null,null,null,null,null,null,null,null,null,null,null,null,null,null,null,null,{"$f":"IF($BF$5=TRUE,0,IF(TRIM(AS88)=\"\",1,0))","v":1},1,{"$f":"INDIRECT(AT88)&\"\"","v":""},{"$f":"\"H\"&ROW()","v":"H88"}]
[null,null,null,null,null,null,null,null,null,null,null,null,null,null,null,null,null,null,null,null,null,null,null,null,null,null,null,null,null,null,null,null,null,null,null,null,null,null,null,null,null,null,{"$f":"IF($BF$5=TRUE,0,IF(AND(TRIM(AS89)=\"\",TRIM(AS90)=\"\"),1,0))","v":1},1,{"$f":"IF(INDIRECT(AT89)=0,\"\",INDIRECT(AT89))","v":""},{"$f":"\"N\"&ROW()-1","v":"N88"}]
[null,null,null,null,null,null,null,null,null,null,null,null,null,null,null,null,null,null,null,null,null,null,null,null,null,null,null,null,null,null,null,null,null,null,null,null,null,null,null,null,null,null,{"$f":"IF($BF$5=TRUE,0,IF(AND(TRIM(AS89)=\"\",TRIM(AS90)=\"\"),1,0))","v":1},1,{"$f":"IF(INDIRECT(AT90)=0,\"\",INDIRECT(AT90))","v":""},{"$f":"\"T\"&ROW()-2","v":"T88"}]
[null,null,null,null,null,null,null,null,null,null,null,null,null,0,null,null,null,null,"ｔ",0,null,null,null,null,"ｔ",null,null,null,null,null,null,null,null,null,null,null,null,null,null,null,null,null,{"$f":"IF($BF$5=TRUE,0,IF(AND(TRIM(AS91)=\"\",OR(TRIM(AS92)<>\"0\",TRIM(AS93)<>\"0\")),1,0))","v":0},1,{"$f":"INDIRECT(AT91)&\"\"","v":""},{"$f":"\"H\"&ROW()","v":"H91"}]
[null,null,null,null,null,null,null,null,null,null,null,null,null,null,null,null,null,null,null,null,null,null,null,null,null,null,null,null,null,null,null,null,null,null,null,null,null,null,null,null,null,null,{"$f":"IF($BF$5=TRUE,0,IF(TRIM(AS92)=\"\",1,IF(AND(TRIM(AS92)=\"0\",TRIM(AS93)=\"0\",TRIM(AS91)<>\"\"),1,0)))","v":0},1,{"$f":"INDIRECT(AT92)&\"\"","v":"0"},{"$f":"\"N\"&ROW()-1","v":"N91"}]
[null,null,null,null,null,null,null,null,null,null,null,null,null,null,null,null,null,null,null,null,null,null,null,null,null,null,null,null,null,null,null,null,null,null,null,null,null,null,null,null,null,null,{"$f":"IF($BF$5=TRUE,0,IF(TRIM(AS93)=\"\",1,IF(AND(TRIM(AS92)=\"0\",TRIM(AS93)=\"0\",TRIM(AS91)<>\"\"),1,0)))","v":0},1,{"$f":"INDIRECT(AT93)&\"\"","v":"0"},{"$f":"\"T\"&ROW()-2","v":"T91"}]
[null,null,null,null,null,null,null,"（これまでに実施した取組）"]
[null,null,null,null,null,null,null,null,null,null,null,null,null,null,null,null,null,null,null,null,null,null,null,null,null,null,null,null,null,null,null,null,null,null,null,null,null,null,null,null,null,null,{"$f":"IF($BF$5=TRUE,0,IF(TRIM(AS95)=\"\",1,0))","v":1},1,{"$f":"INDIRECT(AT95)&\"\"","v":""},{"$f":"\"H\"&ROW()","v":"H95"}]
[null,null,"②計画",null,null,null,null,"【目標】"]
[null,null,null,null,null,null,null," 産業廃棄物の種類",null,null,null,null,null,"自ら熱回収を行う\n産業廃棄物の量",null,null,null,null,null,"自ら中間処理により減量する\n産業廃棄物の量"]
[null,null,null,null,null,null,null,null,null,null,null,null,null,0,null,null,null,null,"ｔ",0,null,null,null,null,"ｔ",null,null,null,null,null,null,null,null,null,null,null,null,null,null,null,null,null,{"$f":"IF($BF$6=TRUE,0,IF(TRIM(AS98)=\"\",1,0))","v":1},1,{"$f":"INDIRECT(AT98)&\"\"","v":""},{"$f":"\"H\"&ROW()","v":"H98"}]
[null,null,null,null,null,null,null,null,null,null,null,null,null,null,null,null,null,null,null,null,null,null,null,null,null,null,null,null,null,null,null,null,null,null,null,null,null,null,null,null,null,null,{"$f":"IF($BF$6=TRUE,0,IF(AND(TRIM(AS99)=\"\",TRIM(AS100)=\"\"),1,0))","v":1},1,{"$f":"IF(INDIRECT(AT99)=0,\"\",INDIRECT(AT99))","v":""},{"$f":"\"N\"&ROW()-1","v":"N98"}]
[null,null,null,null,null,null,null,null,null,null,null,null,null,null,null,null,null,null,null,null,null,null,null,null,null,null,null,null,null,null,null,null,null,null,null,null,null,null,null,null,null,null,{"$f":"IF($BF$6=TRUE,0,IF(AND(TRIM(AS99)=\"\",TRIM(AS100)=\"\"),1,0))","v":1},1,{"$f":"IF(INDIRECT(AT100)=0,\"\",INDIRECT(AT100))","v":""},{"$f":"\"T\"&ROW()-2","v":"T98"}]
[null,null,null,null,null,null,null,null,null,null,null,null,null,0,null,null,null,null,"ｔ",0,null,null,null,null,"ｔ",null,null,null,null,null,null,null,null,null,null,null,null,null,null,null,null,null,{"$f":"IF($BF$6=TRUE,0,IF(AND(TRIM(AS101)=\"\",OR(TRIM(AS102)<>\"0\",TRIM(AS103)<>\"0\")),1,0))","v":0},1,{"$f":"INDIRECT(AT101)&\"\"","v":""},{"$f":"\"H\"&ROW()","v":"H101"}]
[null,null,null,null,null,null,null,null,null,null,null,null,null,null,null,null,null,null,null,null,null,null,null,null,null,null,null,null,null,null,null,null,null,null,null,null,null,null,null,null,null,null,{"$f":"IF($BF$6=TRUE,0,IF(TRIM(AS102)=\"\",1,IF(AND(TRIM(AS102)=\"0\",TRIM(AS103)=\"0\",TRIM(AS101)<>\"\"),1,0)))","v":0},1,{"$f":"INDIRECT(AT102)&\"\"","v":"0"},{"$f":"\"N\"&ROW()-1","v":"N101"}]
[null,null,null,null,null,null,null,null,null,null,null,null,null,null,null,null,null,null,null,null,null,null,null,null,null,null,null,null,null,null,null,null,null,null,null,null,null,null,null,null,null,null,{"$f":"IF($BF$6=TRUE,0,IF(TRIM(AS103)=\"\",1,IF(AND(TRIM(AS102)=\"0\",TRIM(AS103)=\"0\",TRIM(AS101)<>\"\"),1,0)))","v":0},1,{"$f":"INDIRECT(AT103)&\"\"","v":"0"},{"$f":"\"T\"&ROW()-2","v":"T101"}]
[null,null,null,null,null,null,null,"（今後実施する予定の取組）"]
[null,null,null,null,null,null,null,null,null,null,null,null,null,null,null,null,null,null,null,null,null,null,null,null,null,null,null,null,null,null,null,null,null,null,null,null,null,null,null,null,null,null,{"$f":"IF($BF$6=TRUE,0,IF(TRIM(AS105)=\"\",1,0))","v":1},1,{"$f":"INDIRECT(AT105)&\"\"","v":""},{"$f":"\"H\"&ROW()","v":"H105"}]
[null,"（第４面）"]
[null,"自ら行う産業廃棄物の埋立処分又は海洋投入処分に関する事項"]
[null,null,"①現状",null,null,null,null,"【前年度（令和　",null,null,null,{"$f":"事業者基本情報!F4","v":7},"年度）実績】"]
[null,null,null,null,null,null,null,"産業廃棄物の種類",null,null,null,null,null,null,null,null,"自ら埋立処分又は海洋投入\n処分を行った産業廃棄物の量"]
[null,null,null,null,null,null,null,null,null,null,null,null,null,null,null,null,0,null,null,null,null,null,null,null,"ｔ",null,null,null,null,null,null,null,null,null,null,null,null,null,null,null,null,null,{"$f":"IF($BF$7=TRUE,0,IF(TRIM(AS110)=\"\",1,0))","v":1},1,{"$f":"INDIRECT(AT110)&\"\"","v":""},{"$f":"\"H\"&ROW()","v":"H110"}]
[null,null,null,null,null,null,null,null,null,null,null,null,null,null,null,null,null,null,null,null,null,null,null,null,null,null,null,null,null,null,null,null,null,null,null,null,null,null,null,null,null,null,{"$f":"IF($BF$7=TRUE,0,IF(TRIM(AS111)=\"\",1,0))","v":1},1,{"$f":"IF(INDIRECT(AT111)=0,\"\",INDIRECT(AT111))","v":""},{"$f":"\"Q\"&ROW()-1","v":"Q110"}]
[null,null,null,null,null,null,null,null,null,null,null,null,null,null,null,null,0,null,null,null,null,null,null,null,"ｔ",null,null,null,null,null,null,null,null,null,null,null,null,null,null,null,null,null,{"$f":"IF($BF$7=TRUE,0,IF(AND(TRIM(AS112)=\"\",TRIM(AS113)<>\"0\"),1,0))","v":0},1,{"$f":"INDIRECT(AT112)&\"\"","v":""},{"$f":"\"H\"&ROW()","v":"H112"}]
[null,null,null,null,null,null,null,null,null,null,null,null,null,null,null,null,null,null,null,null,null,null,null,null,null,null,null,null,null,null,null,null,null,null,null,null,null,null,null,null,null,null,{"$f":"IF($BF$7=TRUE,0,IF(TRIM(AS113)=\"\",1,IF(AND(TRIM(AS113)=\"0\",TRIM(AS112)<>\"\"),1,0)))","v":0},1,{"$f":"INDIRECT(AT113)&\"\"","v":"0"},{"$f":"\"Q\"&ROW()-1","v":"Q112"}]
[null,null,null,null,null,null,null,"（これまでに実施した取組）"]
[null,null,null,null,null,null,null,null,null,null,null,null,null,null,null,null,null,null,null,null,null,null,null,null,null,null,null,null,null,null,null,null,null,null,null,null,null,null,null,null,null,null,{"$f":"IF($BF$7=TRUE,0,IF(TRIM(AS115)=\"\",1,0))","v":1},1,{"$f":"INDIRECT(AT115)&\"\"","v":""},{"$f":"\"H\"&ROW()","v":"H115"}]
[null,null,"②計画",null,null,null,null,"【目標】"]
[null,null,null,null,null,null,null,"産業廃棄物の種類",null,null,null,null,null,null,null,null,"自ら埋立処分又は海洋投入\n処分を行う産業廃棄物の量"]
[null,null,null,null,null,null,null,null,null,null,null,null,null,null,null,null,0,null,null,null,null,null,null,null,"ｔ",null,null,null,null,null,null,null,null,null,null,null,null,null,null,null,null,null,{"$f":"IF($BF$8=TRUE,0,IF(TRIM(AS118)=\"\",1,0))","v":1},1,{"$f":"INDIRECT(AT118)&\"\"","v":""},{"$f":"\"H\"&ROW()","v":"H118"}]
[null,null,null,null,null,null,null,null,null,null,null,null,null,null,null,null,null,null,null,null,null,null,null,null,null,null,null,null,null,null,null,null,null,null,null,null,null,null,null,null,null,null,{"$f":"IF($BF$8=TRUE,0,IF(TRIM(AS119)=\"\",1,0))","v":1},1,{"$f":"IF(INDIRECT(AT119)=0,\"\",INDIRECT(AT119))","v":""},{"$f":"\"Q\"&ROW()-1","v":"Q118"}]
[null,null,null,null,null,null,null,null,null,null,null,null,null,null,null,null,0,null,null,null,null,null,null,null,"ｔ",null,null,null,null,null,null,null,null,null,null,null,null,null,null,null,null,null,{"$f":"IF($BF$8=TRUE,0,IF(AND(TRIM(AS120)=\"\",TRIM(AS121)<>\"0\"),1,0))","v":0},1,{"$f":"INDIRECT(AT120)&\"\"","v":""},{"$f":"\"H\"&ROW()","v":"H120"}]
[null,null,null,null,null,null,null,null,null,null,null,null,null,null,null,null,null,null,null,null,null,null,null,null,null,null,null,null,null,null,null,null,null,null,null,null,null,null,null,null,null,null,{"$f":"IF($BF$8=TRUE,0,IF(TRIM(AS121)=\"\",1,IF(AND(TRIM(AS121)=\"0\",TRIM(AS120)<>\"\"),1,0)))","v":0},1,{"$f":"INDIRECT(AT121)&\"\"","v":"0"},{"$f":"\"Q\"&ROW()-1","v":"Q120"}]
[null,null,null,null,null,null,null,"（今後実施する予定の取組）"]
[null,null,null,null,null,null,null,null,null,null,null,null,null,null,null,null,null,null,null,null,null,null,null,null,null,null,null,null,null,null,null,null,null,null,null,null,null,null,null,null,null,null,{"$f":"IF($BF$8=TRUE,0,IF(TRIM(AS123)=\"\",1,0))","v":1},1,{"$f":"INDIRECT(AT123)&\"\"","v":""},{"$f":"\"H\"&ROW()","v":"H123"}]
[null,"産業廃棄物の処理の委託に関する事項"]
[null,null,"①現状",null,null,null,null,"【前年度（令和　",null,null,null,{"$f":"事業者基本情報!F4","v":7},"年度）実績】"]
[null,null,null,null,null,null,null,"産業廃棄物の種類",null,null,null,null,null,"①優良認定処理業者への処理委託量\n②再生利用業者への処理委託量\n③認定熱回収業者への処理委託量\n④認定熱回収業者以外の熱回収を行う\n　業者への処理委託量"]
[null,null,null,null,null,null,null,null,null,null,null,null,null,"①\n（t）",null,"②\n（t）",null,"③\n（t）",null,"④\n（t）",null,"全処理委託量\n（t）"]
[null,null,null,null,null,null,null,null,null,null,null,null,null,0,null,0,null,0,null,0,null,0,null,null,null,null,null,null,null,null,null,null,null,null,null,null,null,null,null,null,null,null,{"$f":"IF($BF$9=TRUE,0,IF(TRIM(AS128)=\"\",1,0))","v":1},1,{"$f":"INDIRECT(AT128)&\"\"","v":""},{"$f":"\"H\"&ROW()","v":"H128"}]
[null,null,null,null,null,null,null,null,null,null,null,null,null,null,null,null,null,null,null,null,null,null,null,null,null,null,null,null,null,null,null,null,null,null,null,null,null,null,null,null,null,null,{"$f":"IF($BF$9=TRUE,0,IF(AND(TRIM(AS129)=\"\",TRIM(AS130)=\"\",TRIM(AS131)=\"\",TRIM(AS132)=\"\"),1,0))","v":1},1,{"$f":"IF(INDIRECT(AT129)=0,\"\",INDIRECT(AT129))","v":""},{"$f":"\"N\"&ROW()-1","v":"N128"}]
[null,null,null,null,null,null,null,null,null,null,null,null,null,null,null,null,null,null,null,null,null,null,null,null,null,null,null,null,null,null,null,null,null,null,null,null,null,null,null,null,null,null,{"$f":"IF($BF$9=TRUE,0,IF(AND(TRIM(AS129)=\"\",TRIM(AS130)=\"\",TRIM(AS131)=\"\",TRIM(AS132)=\"\"),1,0))","v":1},1,{"$f":"IF(INDIRECT(AT130)=0,\"\",INDIRECT(AT130))","v":""},{"$f":"\"P\"&ROW()-2","v":"P128"}]
[null,null,null,null,null,null,null,null,null,null,null,null,null,null,null,null,null,null,null,null,null,null,null,null,null,null,null,null,null,null,null,null,null,null,null,null,null,null,null,null,null,null,{"$f":"IF($BF$9=TRUE,0,IF(AND(TRIM(AS129)=\"\",TRIM(AS130)=\"\",TRIM(AS131)=\"\",TRIM(AS132)=\"\"),1,0))","v":1},1,{"$f":"IF(INDIRECT(AT131)=0,\"\",INDIRECT(AT131))","v":""},{"$f":"\"R\"&ROW()-3","v":"R128"}]
[null,null,null,null,null,null,null,null,null,null,null,null,null,null,null,null,null,null,null,null,null,null,null,null,null,null,null,null,null,null,null,null,null,null,null,null,null,null,null,null,null,null,{"$f":"IF($BF$9=TRUE,0,IF(AND(TRIM(AS129)=\"\",TRIM(AS130)=\"\",TRIM(AS131)=\"\",TRIM(AS132)=\"\"),1,0))","v":1},1,{"$f":"IF(INDIRECT(AT132)=0,\"\",INDIRECT(AT132))","v":""},{"$f":"\"T\"&ROW()-4","v":"T128"}]
[null,null,null,null,null,null,null,null,null,null,null,null,null,0,null,0,null,0,null,0,null,0,null,null,null,null,null,null,null,null,null,null,null,null,null,null,null,null,null,null,null,null,{"$f":"IF($BF$9=TRUE,0,IF(AND(TRIM(AS133)=\"\",OR(TRIM(AS134)<>\"0\",TRIM(AS135)<>\"0\",TRIM(AS136)<>\"0\")),1,0))","v":0},1,{"$f":"INDIRECT(AT133)&\"\"","v":""},{"$f":"\"H\"&ROW()","v":"H133"}]
[null,null,null,null,null,null,null,null,null,null,null,null,null,null,null,null,null,null,null,null,null,null,null,null,null,null,null,null,null,null,null,null,null,null,null,null,null,null,null,null,null,null,{"$f":"IF($BF$9=TRUE,0,IF(TRIM(AS134)=\"\",1,IF(AND(TRIM(AS134)=\"0\",TRIM(AS135)=\"0\",TRIM(AS136)=\"0\",TRIM(AS137)=\"0\",TRIM(AS133)<>\"\"),1,0)))","v":0},1,{"$f":"INDIRECT(AT134)&\"\"","v":"0"},{"$f":"\"N\"&ROW()-1","v":"N133"}]
[null,null,null,null,null,null,null,null,null,null,null,null,null,null,null,null,null,null,null,null,null,null,null,null,null,null,null,null,null,null,null,null,null,null,null,null,null,null,null,null,null,null,{"$f":"IF($BF$9=TRUE,0,IF(TRIM(AS135)=\"\",1,IF(AND(TRIM(AS134)=\"0\",TRIM(AS135)=\"0\",TRIM(AS136)=\"0\",TRIM(AS137)=\"0\",TRIM(AS133)<>\"\"),1,0)))","v":0},1,{"$f":"INDIRECT(AT135)&\"\"","v":"0"},{"$f":"\"P\"&ROW()-2","v":"P133"}]
[null,null,null,null,null,null,null,null,null,null,null,null,null,null,null,null,null,null,null,null,null,null,null,null,null,null,null,null,null,null,null,null,null,null,null,null,null,null,null,null,null,null,{"$f":"IF($BF$9=TRUE,0,IF(TRIM(AS136)=\"\",1,IF(AND(TRIM(AS134)=\"0\",TRIM(AS135)=\"0\",TRIM(AS136)=\"0\",TRIM(AS137)=\"0\",TRIM(AS133)<>\"\"),1,0)))","v":0},1,{"$f":"INDIRECT(AT136)&\"\"","v":"0"},{"$f":"\"R\"&ROW()-3","v":"R133"}]
[null,null,null,null,null,null,null,null,null,null,null,null,null,null,null,null,null,null,null,null,null,null,null,null,null,null,null,null,null,null,null,null,null,null,null,null,null,null,null,null,null,null,{"$f":"IF($BF$9=TRUE,0,IF(TRIM(AS137)=\"\",1,IF(AND(TRIM(AS134)=\"0\",TRIM(AS135)=\"0\",TRIM(AS136)=\"0\",TRIM(AS137)=\"0\",TRIM(AS133)<>\"\"),1,0)))","v":0},1,{"$f":"INDIRECT(AT137)&\"\"","v":"0"},{"$f":"\"T\"&ROW()-4","v":"T133"}]
[null,null,null,null,null,null,null,"（これまでに実施した取組）"]
[null,null,null,null,null,null,null,null,null,null,null,null,null,null,null,null,null,null,null,null,null,null,null,null,null,null,null,null,null,null,null,null,null,null,null,null,null,null,null,null,null,null,{"$f":"IF($BF$9=TRUE,0,IF(TRIM(AS139)=\"\",1,0))","v":1},1,{"$f":"INDIRECT(AT139)&\"\"","v":""},{"$f":"\"H\"&ROW()","v":"H139"}]
[]
[]
[null,"（第５面）"]
[null,null,"②計画",null,null,null,null,"【目標】"]
[null,null,null,null,null,null,null,"産業廃棄物の種類",null,null,null,null,null,"①優良認定処理業者への処理委託量\n②再生利用業者への処理委託量\n③認定熱回収業者への処理委託量\n④認定熱回収業者以外の熱回収を行う\n　業者への処理委託量"]
[null,null,null,null,null,null,null,null,null,null,null,null,null,"①\n（t）",null,"②\n（t）",null,"③\n（t）",null,"④\n（t）",null,"全処理委託量\n（t）"]
[null,null,null,null,null,null,null,null,null,null,null,null,null,0,null,0,null,0,null,0,null,0,null,null,null,null,null,null,null,null,null,null,null,null,null,null,null,null,null,null,null,null,{"$f":"IF($BF$10=TRUE,0,IF(TRIM(AS146)=\"\",1,0))","v":1},1,{"$f":"INDIRECT(AT146)&\"\"","v":""},{"$f":"\"H\"&ROW()","v":"H146"}]
[null,null,null,null,null,null,null,null,null,null,null,null,null,null,null,null,null,null,null,null,null,null,null,null,null,null,null,null,null,null,null,null,null,null,null,null,null,null,null,null,null,null,{"$f":"IF($BF$10=TRUE,0,IF(AND(TRIM(AS147)=\"\",TRIM(AS148)=\"\",TRIM(AS149)=\"\",TRIM(AS150)=\"\"),1,0))","v":1},1,{"$f":"IF(INDIRECT(AT147)=0,\"\",INDIRECT(AT147))","v":""},{"$f":"\"N\"&ROW()-1","v":"N146"}]
[null,null,null,null,null,null,null,null,null,null,null,null,null,null,null,null,null,null,null,null,null,null,null,null,null,null,null,null,null,null,null,null,null,null,null,null,null,null,null,null,null,null,{"$f":"IF($BF$10=TRUE,0,IF(AND(TRIM(AS147)=\"\",TRIM(AS148)=\"\",TRIM(AS149)=\"\",TRIM(AS150)=\"\"),1,0))","v":1},1,{"$f":"IF(INDIRECT(AT148)=0,\"\",INDIRECT(AT148))","v":""},{"$f":"\"P\"&ROW()-2","v":"P146"}]
[null,null,null,null,null,null,null,null,null,null,null,null,null,null,null,null,null,null,null,null,null,null,null,null,null,null,null,null,null,null,null,null,null,null,null,null,null,null,null,null,null,null,{"$f":"IF($BF$10=TRUE,0,IF(AND(TRIM(AS147)=\"\",TRIM(AS148)=\"\",TRIM(AS149)=\"\",TRIM(AS150)=\"\"),1,0))","v":1},1,{"$f":"IF(INDIRECT(AT149)=0,\"\",INDIRECT(AT149))","v":""},{"$f":"\"R\"&ROW()-3","v":"R146"}]
[null,null,null,null,null,null,null,null,null,null,null,null,null,null,null,null,null,null,null,null,null,null,null,null,null,null,null,null,null,null,null,null,null,null,null,null,null,null,null,null,null,null,{"$f":"IF($BF$10=TRUE,0,IF(AND(TRIM(AS147)=\"\",TRIM(AS148)=\"\",TRIM(AS149)=\"\",TRIM(AS150)=\"\"),1,0))","v":1},1,{"$f":"IF(INDIRECT(AT150)=0,\"\",INDIRECT(AT150))","v":""},{"$f":"\"T\"&ROW()-4","v":"T146"}]
[null,null,null,null,null,null,null,null,null,null,null,null,null,0,null,0,null,0,null,0,null,0,null,null,null,null,null,null,null,null,null,null,null,null,null,null,null,null,null,null,null,null,{"$f":"IF($BF$10=TRUE,0,IF(AND(TRIM(AS151)=\"\",OR(TRIM(AS152)<>\"0\",TRIM(AS153)<>\"0\",TRIM(AS154)<>\"0\")),1,0))","v":0},1,{"$f":"INDIRECT(AT151)&\"\"","v":""},{"$f":"\"H\"&ROW()","v":"H151"}]
[null,null,null,null,null,null,null,null,null,null,null,null,null,null,null,null,null,null,null,null,null,null,null,null,null,null,null,null,null,null,null,null,null,null,null,null,null,null,null,null,null,null,{"$f":"IF($BF$10=TRUE,0,IF(TRIM(AS152)=\"\",1,IF(AND(TRIM(AS152)=\"0\",TRIM(AS153)=\"0\",TRIM(AS154)=\"0\",TRIM(AS155)=\"0\",TRIM(AS151)<>\"\"),1,0)))","v":0},1,{"$f":"INDIRECT(AT152)&\"\"","v":"0"},{"$f":"\"N\"&ROW()-1","v":"N151"}]
[null,null,null,null,null,null,null,null,null,null,null,null,null,null,null,null,null,null,null,null,null,null,null,null,null,null,null,null,null,null,null,null,null,null,null,null,null,null,null,null,null,null,{"$f":"IF($BF$10=TRUE,0,IF(TRIM(AS153)=\"\",1,IF(AND(TRIM(AS152)=\"0\",TRIM(AS153)=\"0\",TRIM(AS154)=\"0\",TRIM(AS155)=\"0\",TRIM(AS151)<>\"\"),1,0)))","v":0},1,{"$f":"INDIRECT(AT153)&\"\"","v":"0"},{"$f":"\"P\"&ROW()-2","v":"P151"}]
[null,null,null,null,null,null,null,null,null,null,null,null,null,null,null,null,null,null,null,null,null,null,null,null,null,null,null,null,null,null,null,null,null,null,null,null,null,null,null,null,null,null,{"$f":"IF($BF$10=TRUE,0,IF(TRIM(AS154)=\"\",1,IF(AND(TRIM(AS152)=\"0\",TRIM(AS153)=\"0\",TRIM(AS154)=\"0\",TRIM(AS155)=\"0\",TRIM(AS151)<>\"\"),1,0)))","v":0},1,{"$f":"INDIRECT(AT154)&\"\"","v":"0"},{"$f":"\"R\"&ROW()-3","v":"R151"}]
[null,null,null,null,null,null,null,null,null,null,null,null,null,null,null,null,null,null,null,null,null,null,null,null,null,null,null,null,null,null,null,null,null,null,null,null,null,null,null,null,null,null,{"$f":"IF($BF$10=TRUE,0,IF(TRIM(AS155)=\"\",1,IF(AND(TRIM(AS152)=\"0\",TRIM(AS153)=\"0\",TRIM(AS154)=\"0\",TRIM(AS155)=\"0\",TRIM(AS151)<>\"\"),1,0)))","v":0},1,{"$f":"INDIRECT(AT155)&\"\"","v":"0"},{"$f":"\"T\"&ROW()-4","v":"T151"}]
[null,null,null,null,null,null,null,"（今後実施する予定の取組）"]
[null,null,null,null,null,null,null,null,null,null,null,null,null,null,null,null,null,null,null,null,null,null,null,null,null,null,null,null,null,null,null,null,null,null,null,null,null,null,null,null,null,null,{"$f":"IF($BF$10=TRUE,0,IF(TRIM(AS157)=\"\",1,0))","v":1},1,{"$f":"INDIRECT(AT157)&\"\"","v":""},{"$f":"\"H\"&ROW()","v":"H157"}]
[null,"※事務処理欄"]
[]
[null,"（第６面）"]
[null,"備考\n　１　前年度の産業廃棄物の発生量が1,000トン以上の事業場ごとに１枚作成すること。\n　\n　２　当該年度の６月30日までに提出すること。\n　\n　３　「当該事業場において現に行っている事業に関する事項」の欄は、以下に従って記入するこ\n     と。\n\n　　(1)①欄には、日本標準産業分類の区分を記入すること。\n　　(2)②欄には、製造業の場合における製造品出荷額（前年度実績）、建設業の場合における元請\n　　　完成工事高（前年度実績）、医療機関の場合における病床数（前年度末時点）等の業種に応じ\n　　　事業規模が分かるような前年度の実績を記入すること。\n　　(3)④欄には、当該事業場において生ずる産業廃棄物についての発生から最終処分が終了するま\n　　　での一連の処理の工程（当該処理を委託する場合は、委託の内容を含む。）を記入すること。\n　\n　４　「自ら行う産業廃棄物の中間処理に関する事項」の欄には、産業廃棄物の種類ごとに、自ら中\n　　間処理を行うに際して熱回収を行った場合における熱回収を行った産業廃棄物の量と、自ら中間\n　　処理を行うことによって減量した量について、前年度の実績、目標及び取組を記入すること。\n　\n　５　「産業廃棄物の処理の委託に関する事項」の欄には、産業廃棄物の種類ごとに、全処理委託量\n　　を記入するほか、その内数として、優良認定処理業者（廃棄物の処理及び清掃に関する法律施行\n　　令第６条の11第２号に該当する者）への処理委託量、処理業者への再生利用委託量、認定熱回収\n　　施設設置者（廃棄物の処理及び清掃に関する法律第15条の３の３第１項の認定を受けた者）であ\n　　る処理業者への焼却処理委託量及び認定熱回収施設設置者以外の熱回収を行っている処理業者へ\n　　の焼却処理委託量について、前年度実績、目標及び取組を記入すること。\n　\n　６　それぞれの欄に記入すべき事項の全てを記入することができないときは、当該欄に「別紙のと\n　　おり」と記入し、当該欄に記入すべき内容を記入した別紙を添付すること。また、産業廃棄物の\n　　種類が３以上あるときは、前年度実績及び目標の欄に「別紙のとおり」と記入し、当該欄に記入\n　　すべき内容を記入した別紙を添付すること。また、それぞれの欄に記入すべき事項がないとき\n　　は、「―」を記入すること。\n\n　７　※欄は記入しないこと。\n\n"]

{"sheet":"様式第２号の９_第1面","index":2,"n_rows":59,"n_cols":46,"rows_kept":59,"cut":false,"hidden":true,"merged":[[7,17,7,18],[9,1,9,2],[9,3,9,6],[12,15,12,23],[13,15,13,23],[14,15,14,23],[17,13,17,15],[17,16,17,17],[17,19,17,20],[17,22,17,23],[20,1,20,18],[20,19,20,20],[40,1,40,7],[40,8,40,12],[40,13,40,19],[40,20,40,24],[42,9,42,11],[42,21,42,23],[45,9,45,11],[45,21,45,23],[48,9,48,11],[48,21,48,23],[51,9,51,11],[51,21,51,23],[54,9,54,11],[54,21,54,23],[56,8,56,24],[23,10,26,23],[24,1,25,7],[27,10,30,12],[27,13,30,14],[27,15,30,15],[27,16,30,23],[28,1,29,7],[31,10,34,23],[32,1,33,7],[35,10,38,23],[36,1,37,7],[41,1,43,7],[41,13,43,19],[44,1,46,7],[44,13,46,19],[47,1,49,7],[47,13,49,19],[50,1,52,7],[50,13,52,19],[53,1,55,7],[53,13,55,19]]}
["E","P",1,"N"]
["様式第二号の九（第八条の四の六関係）",null,null,null,null,null,null,null,null,null,null,null,null,null,null,null,null,null,null,null,null,null,null,null,null,null,null,null,null,null,null,null,null,null,null,null,null,null,null,null,null,null,"エラーフラグ","必須項目フラグ","必須入力内容","対象セル"]
[null,null,null,null,null,null,null,null,null,null,null,null,"（第１面）"]
[]
[]
[null,null,null,null,null,null,null,null,null,null,null,null,"産業廃棄物処理計画実施状況報告書"]
[]
[null,null,null,null,null,null,null,null,null,null,null,null,null,null,null,null,null,{"$f":"事業者基本情報!E5","v":2026},null,"年",{"$f":"事業者基本情報!G5","v":0},"月",{"$f":"事業者基本情報!I5","v":0},"日"]
[]
["     ",null,null,"静岡県知事",null,null,null,"殿"]
[]
[null,null,null,null,null,null,null,null,null,null,null,null,"　提出者"]
[null,null,null,null,null,null,null,null,null,null,null,null,null,"住　所",null,{"$f":"事業者基本情報!Y10","v":"静岡県"}]
[null,null,null,null,null,null,null,null,null,null,null,null,null,"氏　名",null,{"$f":"事業者基本情報!Y7","v":""}]
[null,null,null,null,null,null,null,null,null,null,null,null,null,null,null,{"$f":"IF(事業者基本情報!Y7=事業者基本情報!Y8,\"\",事業者基本情報!Y8)","v":""}]
[null,null,null,null,null,null,null,null,null,null,null,null,null,"　（法人にあっては、名称及び代表者の氏名）"]
[]
[null,null,null,null,null,null,null,null,null,null,null,null,null,"電話番号",null,null,{"$f":"事業者基本情報!E11","v":0},null,"-",{"$f":"事業者基本情報!G11","v":0},null,"-",{"$f":"事業者基本情報!I11","v":0}]
[]
[]
[null," 　廃棄物の処理及び清掃に関する法律第12条第10項の規定に基づき、",null,null,null,null,null,null,null,null,null,null,null,null,null,null,null,null,null,{"$f":"TEXT(TODAY(),\"ggg\")&事業者基本情報!F4","v":"令和7"},null,"年度の産業"]
[null,"廃棄物処理計画の実施状況を報告します。"]
[]
[null,null,null,null,null,null,null,null,null,null,null,null,null,null,null,null,null,null,null,null,null,null,null,null,null,null,null,null,null,null,null,null,null,null,null,null,null,null,null,null,null,null,{"$f":"IF(TRIM(AS24)=\"\",1,0)","v":1},1,{"$f":"IF(INDIRECT(AT24)=0,\"\",INDIRECT(AT24))","v":""},{"$f":"\"K\"&ROW()","v":"K24"}]
[null,"事業場の名称"]
[]
[]
[null,null,null,null,null,null,null,null,null,null,"静岡県",null,null,null,null,"市",null,null,null,null,null,null,null,null,null,null,null,null,null,null,null,null,null,null,null,null,null,null,null,null,null,null,{"$f":"IF(TRIM(AS28)=\"\",1,0)","v":0},1,{"$f":"IF(INDIRECT(AT28)=0,\"\",INDIRECT(AT28))","v":"静岡県"},{"$f":"\"K\"&ROW()","v":"K28"}]
[null,"事業場の所在地",null,null,null,null,null,null,null,null,null,null,null,null,null,null,null,null,null,null,null,null,null,null,null,null,null,null,null,null,null,null,null,null,null,null,null,null,null,null,null,null,{"$f":"IF(TRIM(AS29)=\"\",1,0)","v":1},1,{"$f":"IF(INDIRECT(AT29)=0,\"\",INDIRECT(AT29))","v":""},{"$f":"\"N\"&ROW()-1","v":"N28"}]
[null,null,null,null,null,null,null,null,null,null,null,null,null,null,null,null,null,null,null,null,null,null,null,null,null,null,null,null,null,null,null,null,null,null,null,null,null,null,null,null,null,null,{"$f":"IF(TRIM(AS30)=\"\",1,0)","v":1},1,{"$f":"IF(INDIRECT(AT30)=0,\"\",INDIRECT(AT30))","v":""},{"$f":"\"Q\"&ROW()-2","v":"Q28"}]
[null,null,null,null,null,null,null,null,null,null,null,null,null,null,null,null,null,null,null,null,null,null,null,null,null,null,null,null,null,null,null,null,null,null,null,null,null,null,null,null,null,null,{"$f":"IF(TRIM(AS31)=\"\",1,0)","v":0},1,{"$f":"IF(INDIRECT(AT31)=0,\"\",INDIRECT(AT31))","v":"市"},{"$f":"\"P\"&ROW()-3","v":"P28"}]
[null,null,null,null,null,null,null,null,null,null,null,null,null,null,null,null,null,null,null,null,null,null,null,null,null,null,null,null,null,null,null,null,null,null,null,null,null,null,null,null,null,null,{"$f":"IF(TRIM(AS32)=\"\",1,0)","v":1},1,{"$f":"IF(INDIRECT(AT32)=0,\"\",INDIRECT(AT32))","v":""},{"$f":"\"K\"&ROW()","v":"K32"}]
[null,"事業の種類"]
[]
[]
[null,null,null,null,null,null,null,null,null,null,{"$f":"事業者基本情報!W4&\"/4/1 ～ \"&事業者基本情報!W4+1&\"/3/31\"","v":"2025/4/1 ～ 2026/3/31"},null,null,null,null,null,null,null,null,null,null,null,null,null,null,null,null,null,null,null,null,null,null,null,null,null,null,null,null,null,null,null,{"$f":"IF(TRIM(AS36)=\"\",1,0)","v":0},1,{"$f":"IF(INDIRECT(AT36)=0,\"\",INDIRECT(AT36))","v":"2025/4/1 ～ 2026/3/31"},{"$f":"\"K\"&ROW()","v":"K36"}]
[null,"産業廃棄物処理計画における\n計画期間"]
[]
[]
["  産業廃棄物処理計画における目標値"]
[null,"項目",null,null,null,null,null,null,"目標値",null,null,null,null,"項目",null,null,null,null,null,null,"目標値"]
[null,"排出量",null,null,null,null,null,null,null,null,null,null,null,"全  処  理  委  託  量",null,null,null,null,null,null,null,null,null,null,null,null,null,null,null,null,null,null,null,null,null,null,null,null,null,null,null,null,{"$f":"IF(TRIM(AS42)=\"\",1,0)","v":0},1,{"$f":"INDIRECT(AT42)&\"\"","v":"0"},{"$f":"\"J\"&ROW()+1","v":"J43"}]
[null,null,null,null,null,null,null,null,null,0,null,null,"ｔ",null,null,null,null,null,null,null,null,0,null,null,"ｔ",null,null,null,null,null,null,null,null,null,null,null,null,null,null,null,null,null,{"$f":"IF(TRIM(AS43)=\"\",1,0)","v":0},1,{"$f":"INDIRECT(AT43)&\"\"","v":"0"},{"$f":"\"V\"&ROW()","v":"V43"}]
[]
[null,"自ら再生利用を行う\n産業廃棄物の量",null,null,null,null,null,null,null,null,null,null,null,"優良認定処理業者への\n処理委託量",null,null,null,null,null,null,null,null,null,null,null,null,null,null,null,null,null,null,null,null,null,null,null,null,null,null,null,null,{"$f":"IF(TRIM(AS45)=\"\",1,0)","v":0},1,{"$f":"INDIRECT(AT45)&\"\"","v":"0"},{"$f":"\"J\"&ROW()+1","v":"J46"}]
[null,null,null,null,null,null,null,null,null,0,null,null,"ｔ",null,null,null,null,null,null,null,null,0,null,null,"ｔ",null,null,null,null,null,null,null,null,null,null,null,null,null,null,null,null,null,{"$f":"IF(TRIM(AS46)=\"\",1,0)","v":0},1,{"$f":"INDIRECT(AT46)&\"\"","v":"0"},{"$f":"\"V\"&ROW()","v":"V46"}]
[]
[null,"自ら熱回収を行う\n産業廃棄物の量",null,null,null,null,null,null,null,null,null,null,null,"再生利用業者への\n処理委託量",null,null,null,null,null,null,null,null,null,null,null,null,null,null,null,null,null,null,null,null,null,null,null,null,null,null,null,null,{"$f":"IF(TRIM(AS48)=\"\",1,0)","v":0},1,{"$f":"INDIRECT(AT48)&\"\"","v":"0"},{"$f":"\"J\"&ROW()+1","v":"J49"}]
[null,null,null,null,null,null,null,null,null,0,null,null,"ｔ",null,null,null,null,null,null,null,null,0,null,null,"ｔ",null,null,null,null,null,null,null,null,null,null,null,null,null,null,null,null,null,{"$f":"IF(TRIM(AS49)=\"\",1,0)","v":0},1,{"$f":"INDIRECT(AT49)&\"\"","v":"0"},{"$f":"\"V\"&ROW()","v":"V49"}]
[]
[null,"自ら中間処理により減量する\n産業廃棄物の量",null,null,null,null,null,null,null,null,null,null,null,"認定熱回収業者への\n処理委託量",null,null,null,null,null,null,null,null,null,null,null,null,null,null,null,null,null,null,null,null,null,null,null,null,null,null,null,null,{"$f":"IF(TRIM(AS51)=\"\",1,0)","v":0},1,{"$f":"INDIRECT(AT51)&\"\"","v":"0"},{"$f":"\"J\"&ROW()+1","v":"J52"}]
[null,null,null,null,null,null,null,null,null,0,null,null,"ｔ",null,null,null,null,null,null,null,null,0,null,null,"ｔ",null,null,null,null,null,null,null,null,null,null,null,null,null,null,null,null,null,{"$f":"IF(TRIM(AS52)=\"\",1,0)","v":0},1,{"$f":"INDIRECT(AT52)&\"\"","v":"0"},{"$f":"\"V\"&ROW()","v":"V52"}]
[]
[null,"自ら埋立処分又は\n海洋投入処分を行う\n産業廃棄物の量",null,null,null,null,null,null,null,null,null,null,null,"認定熱回収業者以外の\n熱回収を行う業者への\n処理委託量",null,null,null,null,null,null,null,null,null,null,null,null,null,null,null,null,null,null,null,null,null,null,null,null,null,null,null,null,{"$f":"IF(TRIM(AS54)=\"\",1,0)","v":0},1,{"$f":"INDIRECT(AT54)&\"\"","v":"0"},{"$f":"\"J\"&ROW()+1","v":"J55"}]
[null,null,null,null,null,null,null,null,null,0,null,null,"ｔ",null,null,null,null,null,null,null,null,0,null,null,"ｔ",null,null,null,null,null,null,null,null,null,null,null,null,null,null,null,null,null,{"$f":"IF(TRIM(AS55)=\"\",1,0)","v":0},1,{"$f":"INDIRECT(AT55)&\"\"","v":"0"},{"$f":"\"V\"&ROW()","v":"V55"}]
[]
["　　※事務処理欄"]
[]
[null,null,null,null,null,null,null,null,null,null,null,null,null,null,null,null,null,null,"（日本産業規格　Ａ列４番）"]

{"sheet":"様式第２号の９_第2面","index":3,"n_rows":45,"n_cols":56,"rows_kept":45,"cut":false,"hidden":true,"merged":[[1,52,1,55],[2,1,2,11],[2,21,2,27],[3,13,3,19],[14,52,14,55],[17,1,17,6],[17,7,17,9],[6,13,7,16],[7,7,8,10],[8,14,9,16],[8,25,9,28],[9,1,10,4],[10,26,11,28],[11,7,12,10],[11,13,12,16],[13,8,14,10],[13,14,14,16],[13,31,15,34],[16,13,17,16],[16,19,17,22],[16,25,18,28],[16,32,17,34],[18,1,19,6],[18,7,19,9],[18,14,19,16],[18,20,19,22],[19,26,20,28],[20,1,21,6],[20,7,21,9],[20,31,22,34],[21,13,22,16],[21,19,22,22],[22,1,23,6],[22,7,23,9],[23,14,24,16],[23,20,24,22],[23,25,25,28],[23,32,24,34],[24,1,25,6],[24,7,25,9],[26,1,27,6],[26,7,27,9],[26,26,28,28],[27,31,29,34],[28,1,29,6],[28,7,29,9],[30,1,31,6],[30,7,31,9],[30,32,31,34],[31,25,33,28],[32,1,33,6],[32,7,33,9],[34,1,35,6],[34,7,35,9],[34,26,37,28],[36,1,38,6],[36,7,38,9],[3,54,12,54],[3,55,12,55],[16,54,25,54],[16,55,25,55]]}
["E","P",2,"N"]
[null,null,null,null,null,null,null,null,null,null,null,null,null,null,null,null,null,null,null,null,null,null,null,null,null,null,null,null,null,null,null,null,null,null,null,null,null,null,null,null,null,null,null,null,null,null,null,null,null,null,null,null,"行追加用T"]
[null,"計画の実施状況",null,null,null,null,null,null,null,null,null,null,"　（産業廃棄物の種類 ：",null,null,null,null,null,null,null,null,null,null,null,null,null,null,null,"）",null,null,null,null,null,null,null,null,null,null,null,null,null,null,null,null,null,null,null,{"$f":"IF(AY3=\"\",1,0)","v":1},1,{"$f":"TRIM(INDIRECT(AZ3))","v":""},{"$f":"\"V\"&ROW()","v":"V3"},"開始行","終了行","行追加用T\n最終行","削除不可\n最低行数"]
[null,null,null,null,null,null,null,null,null,null,null,null,null,null,null,null,null,null,null,null,null,null,null,null,null,null,null,null,null,null,null,null,null,null,null,null,null,null,null,null,null,null,null,null,null,null,null,null,0,1,{"$f":"TRIM(INDIRECT(AZ4))","v":"0"},{"$f":"\"I\"&ROW()+10","v":"I14"},2,{"$f":"BA4+38","v":40},{"$f":"ROW()-1+COUNT(BA4:BA13)","v":4},2]
[null,null,null,null,null,null,null,null,null,null,null,null,null,null,null,null,null,null,null,null,null,null,null,null,null,null,null,null,null,null,null,null,null,null,null,null,null,null,null,null,null,null,null,null,null,null,null,null,0,1,{"$f":"TRIM(INDIRECT(AZ5))","v":"0"},{"$f":"\"O\"&ROW()+4","v":"O9"}]
[null,null,null,null,null,null,null,null,null,null,null,null,null,null,null,null,null,null,null,null,null,null,null,null,null,null,null,null,null,null,null,null,null,null,null,null,null,null,null,null,null,null,null,null,null,null,null,null,0,1,{"$f":"TRIM(INDIRECT(AZ6))","v":"0"},{"$f":"\"O\"&ROW()+8","v":"O14"}]
[null,null,null,null,null,null,null,null,null,null,null,null,null,"自ら直接\n再生利用した量",null,null,null,null,null,null,null,null,null,null,null,null,null,null,null,null,null,null,null,null,null,null,null,null,null,null,null,null,null,null,null,null,null,null,0,1,{"$f":"TRIM(INDIRECT(AZ7))","v":"0"},{"$f":"\"O\"&ROW()+12","v":"O19"}]
[null,null,null,null,null,null,null,"有 償 物 量",null,null,null,null,null,null,null,null,null,null,null,null,null,null,null,null,null,null,null,null,null,null,null,null,null,null,null,null,null,null,null,null,null,null,null,null,null,null,null,null,0,1,{"$f":"TRIM(INDIRECT(AZ8))","v":"0"},{"$f":"\"O\"&ROW()+16","v":"O24"}]
[null,null,null,null,null,null,null,null,null,null,null,null,null,"②",0,null,null,null,null,null,null,null,null,null,null,"自ら中間処理した後\n再生利用した量",null,null,null,null,null,null,null,null,null,null,null,null,null,null,null,null,null,null,null,null,null,null,0,1,{"$f":"TRIM(INDIRECT(AZ9))","v":"0"},{"$f":"\"U\"&ROW()+10","v":"U19"}]
[null,"不要物等発生量",null,null,null,null,null,null,null,null,null,null,null,null,null,null,null,null,null,null,null,null,null,null,null,null,null,null,null,null,null,null,null,null,null,null,null,null,null,null,null,null,null,null,null,null,null,null,0,1,{"$f":"TRIM(INDIRECT(AZ10))","v":"0"},{"$f":"\"U\"&ROW()+14","v":"U24"}]
[null,null,null,null,null,null,null,null,null,null,null,null,null,null,null,null,null,null,null,null,null,null,null,null,null,"⑧",0,null,null,null,null,null,null,null,null,null,null,null,null,null,null,null,null,null,null,null,null,null,0,1,{"$f":"TRIM(INDIRECT(AZ11))","v":"0"},{"$f":"\"AA\"&ROW()","v":"AA11"}]
[null,null,null,null,null,null,null,"排出量",null,null,null,null,null,"自ら直接埋立処分又は\n海洋投入処分した量",null,null,null,null,null,null,null,null,null,null,null,null,null,null,null,null,null,null,null,null,null,null,null,null,null,null,null,null,null,null,null,null,null,null,0,1,{"$f":"TRIM(INDIRECT(AZ12))","v":"0"},{"$f":"\"AA\"&ROW()+8","v":"AA20"}]
[null,null,null,null,null,null,null,null,null,null,null,null,null,null,null,null,null,null,null,null,null,null,null,null,null,null,null,null,null,null,null,null,null,null,null,null,null,null,null,null,null,null,null,null,null,null,null,null,0,1,{"$f":"TRIM(INDIRECT(AZ13))","v":"0"},{"$f":"\"AA\"&ROW()+14","v":"AA27"}]
[null,null,null,null,null,null,null,"①",0,null,null,null,null,"③",0,null,null,null,null,null,null,null,null,null,null,null,null,null,null,null,null,"⑩のうち再生利用\n業者への処理委託量",null,null,null,null,null,null,null,null,null,null,null,null,null,null,null,null,0,1,{"$f":"TRIM(INDIRECT(AZ14))","v":"0"},{"$f":"\"AA\"&ROW()+21","v":"AA35"}]
[null,null,null,null,null,null,null,null,null,null,null,null,null,null,null,null,null,null,null,null,null,null,null,null,null,null,null,null,null,null,null,null,null,null,null,null,null,null,null,null,null,null,null,null,null,null,null,null,0,1,{"$f":"TRIM(INDIRECT(AZ15))","v":"0"},{"$f":"\"AG\"&ROW()+2","v":"AG17"},"行追加用T\n初期値"]
[null,null,null,null,null,null,null,null,null,null,null,null,null,null,null,null,null,null,null,null,null,null,null,null,null,null,null,null,null,null,null,null,null,null,null,null,null,null,null,null,null,null,null,null,null,null,null,null,0,1,{"$f":"TRIM(INDIRECT(AZ16))","v":"0"},{"$f":"\"AG\"&ROW()+8","v":"AG24"},"開始行","終了行","行追加用T\n最終行","削除不可\n最低行数"]
[null,null,null,null,null,null,null,null,null,null,null,null,null,"自ら中間処理\nした量",null,null,null,null,null,"自ら中間処理した\n後の残さ量",null,null,null,null,null,"自ら中間処理した後\n自ら埋立処分又は\n海洋投入処分した量",null,null,null,null,null,"⑫",0,null,null,null,null,null,null,null,null,null,null,null,null,null,null,null,0,1,{"$f":"TRIM(INDIRECT(AZ17))","v":"0"},{"$f":"\"AG\"&ROW()+14","v":"AG31"},2,{"$f":"BA17+38","v":40},4,2]
[null,"項目",null,null,null,null,null,"実績値"]
[null,"① 排出量",null,null,null,null,null,{"$f":"I14","v":0},null,null,null,null,null,"④",0,null,null,null,null,"⑥",0]
[null,null,null,null,null,null,null,null,null,null,null,null,null,null,null,null,null,null,null,null,null,null,null,null,null,"⑨",0]
[null,"②＋⑧ 自ら再生利用を\n行った量",null,null,null,null,null,{"$f":"O9+AA11","v":0},null,null,null,null,null,null,null,null,null,null,null,null,null,null,null,null,null,null,null,null,null,null,null,"⑩のうち熱回収認定\n業者への処理委託量"]
[null,null,null,null,null,null,null,null,null,null,null,null,null,"④のうち熱回収\nを行った量",null,null,null,null,null,"自ら中間処理により減量した量"]
[null,"⑤ 自ら熱回収を行った量",null,null,null,null,null,{"$f":"O24","v":0}]
[null,null,null,null,null,null,null,null,null,null,null,null,null,"⑤",0,null,null,null,null,"⑦",0,null,null,null,null,"直接及び自ら\n中間処理した後の\n処理委託量",null,null,null,null,null,"⑬",0]
[null,"⑦ 自ら中間処理により減\n量した量",null,null,null,null,null,{"$f":"U24","v":0}]
[]
[null,"③＋⑨ 自ら埋立処分又は\n海洋投入処分を行った量",null,null,null,null,null,{"$f":"O14+AA20","v":0},null,null,null,null,null,null,null,null,null,null,null,null,null,null,null,null,null,"⑩",0]
[null,null,null,null,null,null,null,null,null,null,null,null,null,null,null,null,null,null,null,null,null,null,null,null,null,null,null,null,null,null,null,"⑩のうち熱回収認定\n業者以外の熱回収を\n行う業者への\n処理委託量"]
[null,"⑩ 全処理委託量",null,null,null,null,null,{"$f":"AA27","v":0}]
[]
[null,"⑪ 優良認定処理業者への処理委託量",null,null,null,null,null,{"$f":"AA35","v":0},null,null,null,null,null,null,null,null,null,null,null,null,null,null,null,null,null,null,null,null,null,null,null,"⑭",0]
[null,null,null,null,null,null,null,null,null,null,null,null,null,null,null,null,null,null,null,null,null,null,null,null,null,"⑩のうち優良認定\n処理業者への\n処理委託量"]
[null,"⑫ 再生利用業者への処理\n委託量",null,null,null,null,null,{"$f":"AG17","v":0}]
[]
[null,"⑬熱回収認定業者への処\n理委託量",null,null,null,null,null,{"$f":"AG24","v":0},null,null,null,null,null,null,null,null,null,null,null,null,null,null,null,null,null,"⑪",0]
[]
[null,"⑭ 熱回収認定業者以外の\n熱回収を行う業者への処\n理委託量",null,null,null,null,null,{"$f":"AG31","v":0}]
[]
[]
[]
[]
[]
[null,null,null,null,"※　数字の０（ゼロ）が入っているところは自動計算になっています。"]
[]
[null,null,null,null,"　　　　 "]

{"sheet":"様式第２号の９_第3面","index":4,"n_rows":55,"n_cols":27,"rows_kept":55,"cut":false,"hidden":true,"merged":[[37,5,37,24],[38,2,38,23],[40,5,40,24],[42,5,42,24],[45,5,45,24],[11,2,12,24],[14,2,15,24],[48,2,49,24],[51,2,52,24]]}
["E","P",3,"N"]
[]
[null,null,null,null,null,null,null,null,null,null,null,null,"（第３面）"]
[]
[]
["　備考"]
[]
[null,"１","　翌年度の６月30日までに提出すること。"]
[]
[null,"２","　「事業の種類」の欄には、日本標準産業分類の区分を記入すること。"]
[]
[null,"３","　「産業廃棄物処理計画における目標値」の欄には、項目ごとに、産業廃棄物処理計画に記載した目標値を記入すること。"]
[]
[]
[null,"４","　第２面には、前年度の産業廃棄物の処理に関して、①～⑭の欄のそれぞれに、(1)から(14)に掲げる量を記入すること。"]
[]
[]
[null,null,"(1)"," ①欄",null,"当該事業場において生じた産業廃棄物の量"]
[]
[null,null,"(2)"," ②欄",null,"(1)の量のうち、中間処理をせず直接自ら再生利用した量"]
[]
[null,null,"(3)"," ③欄",null,"(1)の量のうち、中間処理をせず直接自ら埋立処分又は海洋投入処分した量"]
[]
[null,null,"(4)"," ④欄",null,"(1)の量のうち、自ら中間処理をした産業廃棄物の当該中間処理前の量"]
[]
[null,null,"(5)"," ⑤欄",null,"(4)の量のうち、熱回収を行った量"]
[]
[null,null,"(6)"," ⑥欄",null,"自ら中間処理をした後の量"]
[]
[null,null,"(7)"," ⑦欄",null,"(4)の量から(6)の量を差し引いた量"]
[]
[null,null,"(8)"," ⑧欄",null,"(6)の量のうち、自ら利用し、又は他人に売却した量"]
[]
[null,null,"(9)"," ⑨欄",null,"(6)の量のうち、自ら埋立処分及び海洋投入処分した量"]
[null,null,null,null,null,null,null,null,null,null,null,null,null,null,null,null,null,null,null,null,"　　　     "]
[null,null,"(10)"," ⑩欄",null,"中間処理及び最終処分を委託した量"]
[]
[null,null,"(11)"," ⑪欄",null,"(10)の量のうち、優良認定処理業者（廃棄物の処理及び清掃に関する法律施行令"]
[null,null,"  第６条の11第２号に該当する者）への処理委託量"]
[]
[null,null,"(12)"," ⑫欄",null,"(10)の量のうち、処理業者への再生利用委託量"]
[]
[null,null,"(13)"," ⑬欄",null,"(10)の量のうち、認定熱回収施設設置者（廃棄物の処理及び清掃に関する法律",null,null,null,null,null,null,null,null,null,null,null,null,null,null,null,null,null,null,null,null,"　　　      "]
[null,null,"  第15条の３の３第１項の認定を受けた者）である処理業者への焼却処理委託量"]
[]
[null,null,"(14)"," ⑭欄 ",null,"(10)の量のうち、認定熱回収施設設置者以外の熱回収を行っている処理業者への",null,null,null,null,null,null,null,null,null,null,null,null,null,null,null,null,null,null,null,null,"　　　     "]
[null,null,"  焼却処理委託量"]
[]
[null,"５","　第２面の左下の表には、項目ごとに、産業廃棄物処理計画に記載したそれぞれの実績値を記入すること。"]
[]
[]
[null,"６","　産業廃棄物の種類が２以上あるときは、産業廃棄物の種類ごとに、第２面の例により産業廃棄物処理\n計画の実施状況を明らかにした書面を作成し、当該書面を添付すること。"]
[]
[]
[null,"７","　※欄は記入しないこと。"]

{"sheet":"様式第２号の13","index":5,"n_rows":168,"n_cols":58,"rows_kept":168,"cut":false,"hidden":true,"merged":[[1,52,1,55],[4,1,4,24],[6,1,6,24],[7,18,7,19],[9,8,9,24],[10,2,10,3],[10,4,10,7],[12,16,12,23],[13,16,13,24],[14,16,14,24],[14,52,14,55],[15,16,15,24],[16,14,16,24],[17,17,17,18],[17,20,17,21],[17,23,17,24],[24,2,24,6],[24,8,24,24],[25,2,25,6],[25,8,25,10],[25,11,25,12],[25,14,25,24],[27,2,27,6],[27,8,27,24],[29,2,29,7],[29,8,29,24],[30,2,30,7],[30,8,30,24],[31,2,31,7],[31,8,31,24],[32,2,32,7],[32,8,32,24],[35,1,35,24],[44,7,44,10],[44,12,44,15],[45,7,45,15],[45,16,45,24],[46,7,46,15],[46,16,46,23],[47,7,47,15],[47,16,47,23],[48,7,48,15],[48,16,48,23],[49,7,49,15],[49,16,49,23],[51,7,51,24],[53,7,53,15],[53,16,53,24],[54,7,54,15],[54,16,54,23],[55,7,55,15],[55,16,55,23],[56,7,56,15],[56,16,56,23],[57,7,57,15],[57,16,57,23],[59,7,59,24],[61,7,61,24],[62,7,62,24],[63,7,63,24],[64,7,64,24],[66,1,66,24],[68,7,68,10],[68,12,68,15],[69,7,69,15],[69,16,69,24],[70,7,70,15],[70,16,70,23],[71,7,71,15],[71,16,71,23],[72,7,72,15],[72,16,72,23],[73,7,73,15],[73,16,73,23],[75,7,75,24],[77,7,77,15],[77,16,77,24],[78,7,78,15],[78,16,78,23],[79,7,79,15],[79,16,79,23],[80,7,80,15],[80,16,80,23],[81,7,81,15],[81,16,81,23],[83,7,83,24],[85,7,85,10],[85,12,85,15],[86,7,86,12],[86,13,86,18],[86,19,86,24],[87,7,87,12],[87,13,87,17],[87,19,87,23],[88,7,88,12],[88,13,88,17],[88,19,88,23],[89,7,89,12],[89,13,89,17],[89,19,89,23],[90,7,90,12],[90,13,90,17],[90,19,90,23],[91,7,91,12],[91,13,91,17],[91,19,91,23],[92,7,92,12],[92,13,92,17],[92,19,92,23],[94,7,94,24],[96,7,96,12],[96,13,96,18],[96,19,96,24],[97,7,97,12],[97,13,97,17],[97,19,97,23],[98,7,98,12],[98,13,98,17],[98,19,98,23],[99,7,99,12],[99,13,99,17],[99,19,99,23],[100,7,100,12],[100,13,100,17],[100,19,100,23],[101,7,101,12],[101,13,101,17],[101,19,101,23],[102,7,102,12],[102,13,102,17],[102,19,102,23],[104,7,104,24],[105,1,105,24],[107,7,107,10],[107,12,107,15],[108,7,108,15],[108,16,108,24],[109,7,109,15],[109,16,109,23],[110,7,110,15],[110,16,110,23],[111,7,111,15],[111,16,111,23],[112,7,112,15],[112,16,112,23],[114,7,114,24],[116,7,116,15],[116,16,116,24],[117,7,117,15],[117,16,117,23],[118,7,118,15],[118,16,118,23],[119,7,119,15],[119,16,119,23],[120,7,120,15],[120,16,120,23],[122,7,122,24],[124,7,124,10],[124,12,124,15],[125,13,125,24],[126,13,126,14],[126,15,126,16],[126,17,126,18],[126,19,126,20],[126,21,126,24],[127,7,127,12],[127,13,127,14],[127,15,127,16],[127,17,127,18],[127,19,127,20],[127,21,127,24],[128,7,128,12],[129,7,129,12],[130,7,130,12],[131,7,131,12],[132,7,132,12],[132,13,132,14],[132,15,132,16],[132,17,132,18],[132,19,132,20],[132,21,132,24],[133,7,133,12],[134,7,134,12],[135,7,135,12],[136,7,136,12],[138,7,138,24],[141,1,141,24],[143,13,143,24],[144,13,144,14],[144,15,144,16],[144,17,144,18],[144,19,144,20],[144,21,144,24],[145,7,145,12],[145,13,145,14],[145,15,145,16],[145,17,145,18],[145,19,145,20],[145,21,145,24],[146,7,146,12],[147,7,147,12],[148,7,148,12],[149,7,149,12],[150,7,150,12],[150,13,150,14],[150,15,150,16],[150,17,150,18],[150,19,150,20],[150,21,150,24],[151,7,151,12],[152,7,152,12],[153,7,153,12],[154,7,154,12],[156,7,156,24],[157,7,157,10],[157,12,157,15],[158,8,158,15],[159,8,159,15],[160,8,160,15],[162,7,162,24],[163,1,163,6],[163,7,163,24],[165,1,165,24],[166,1,166,24],[20,1,21,24],[38,2,42,24],[61,2,62,6],[63,2,64,6],[125,7,126,12],[143,7,144,12],[157,1,162,6],[158,17,160,23],[158,24,160,24],[3,54,12,54],[3,55,12,55],[16,54,25,54],[16,55,25,55],[44,2,51,6],[52,2,59,6],[68,2,75,6],[76,2,83,6],[85,2,94,6],[95,2,104,6],[107,2,114,6],[115,2,122,6],[124,2,138,6],[142,2,156,6],[167,1,212,24]]}
["F","P",1,"S",null,null,null,null,null,null,null,null,null,null,null,null,null,null,null,null,null,null,null,null,null,null,null,null,null,null,null,null,null,null,null,null,null,null,null,null,null,null,null,null,null,null,null,null,null,null,null,null,null,null,null,null,null,"該当無しT"]
[null,null,null,null,null,null,null,null,null,null,null,null,null,null,null,null,null,null,null,null,null,null,null,null,null,null,null,null,null,null,null,null,null,null,null,null,null,null,null,null,null,null,"エラーフラグ","必須項目フラグ","必須入力内容","対象セル",null,null,"排出量合計",null,null,null,"行追加用T",null,null,null,null,"該当無しT"]
[null,"様式第二号の十三(第八条の十七の二関係)",null,null,null,null,null,null,null,null,null,null,null,null,null,null,null,null,null,null,null,null,null,null,null,null,null,null,null,null,null,null,null,null,null,null,null,null,null,null,null,null,null,null,null,null,{"$f":"AU55","v":55},null,{"$f":"SUM(AV:AV)","v":0},null,null,null,"開始行","終了行","行追加用T\n最終行","削除不可\n最低行数",null,false]
[null,null,null,null,null,null,null,null,null,null,null,null,null,null,null,null,null,null,null,null,null,null,null,null,null,null,null,null,null,null,null,null,null,null,null,null,null,null,null,null,null,null,null,null,null,null,null,null,null,null,null,null,49,{"$f":"BA4+1","v":50},{"$f":"ROW()-1+COUNT(BA4:BA13)","v":13},49,null,false]
[null,"（第１面）",null,null,null,null,null,null,null,null,null,null,null,null,null,null,null,null,null,null,null,null,null,null,null,null,null,null,null,null,null,null,null,null,null,null,null,null,null,null,null,null,null,null,null,null,null,null,null,null,null,null,57,{"$f":"BA5+1","v":58},null,null,null,false]
[null,null,null,null,null,null,null,null,null,null,null,null,null,null,null,null,null,null,null,null,null,null,null,null,null,null,null,null,null,null,null,null,null,null,null,null,null,null,null,null,null,null,null,null,null,null,null,null,null,null,null,null,73,{"$f":"BA6+1","v":74}]
[null,"特別管理産業廃棄物処理計画書",null,null,null,null,null,null,null,null,null,null,null,null,null,null,null,null,null,null,null,null,null,null,null,null,null,null,null,null,null,null,null,null,null,null,null,null,null,null,null,null,null,null,null,null,null,null,null,null,null,null,81,{"$f":"BA7+1","v":82},null,null,null,false]
[null,null,null,null,null,null,null,null,null,null,null,null,null,null,null,null,null,null,{"$f":"事業者基本情報!E5","v":2026},null,"年",{"$f":"事業者基本情報!G5","v":0},"月",{"$f":"事業者基本情報!I5","v":0},"日",null,null,null,null,null,null,null,null,null,null,null,null,null,null,null,null,null,null,null,null,null,null,null,null,null,null,null,91,{"$f":"BA8+2","v":93},null,null,null,false]
[null,null,null,null,null,null,null,null,null,null,null,null,null,null,null,null,null,null,null,null,null,null,null,null,null,null,null,null,null,null,null,null,null,null,null,null,null,null,null,null,null,null,null,null,null,null,null,null,null,null,null,null,101,{"$f":"BA9+2","v":103},null,null,null,false]
[null,null,null,null,null,null,null,null,null,null,null,null,null,null,null,null,null,null,null,null,null,null,null,null,null,null,null,null,null,null,null,null,null,null,null,null,null,null,null,null,null,null,null,null,null,null,null,null,null,null,null,null,112,{"$f":"BA10+1","v":113}]
[null,null,null,null,"静岡県知事",null,null,null,"殿",null,null,null,null,null,null,null,null,null,null,null,null,null,null,null,null,null,null,null,null,null,null,null,null,null,null,null,null,null,null,null,null,null,null,null,null,null,null,null,null,null,null,null,120,{"$f":"BA11+1","v":121}]
[null,null,null,null,null,null,null,null,null,null,null,null,null,null,null,null,null,null,null,null,null,null,null,null,null,null,null,null,null,null,null,null,null,null,null,null,null,null,null,null,null,null,null,null,null,null,null,null,null,null,null,null,133,{"$f":"BA12+4","v":137}]
[null,null,null,null,null,null,null,null,null,null,null,null,null,"　提出者",null,null,null,null,null,null,null,null,null,null,null,null,null,null,null,null,null,null,null,null,null,null,null,null,null,null,null,null,null,null,null,null,null,null,null,null,null,null,151,{"$f":"BA13+4","v":155}]
[null,null,null,null,null,null,null,null,null,null,null,null,null,null,"住　所",null,{"$f":"事業者基本情報!Y10","v":"静岡県"}]
[null,null,null,null,null,null,null,null,null,null,null,null,null,null,"氏　名",null,{"$f":"事業者基本情報!Y7","v":""},null,null,null,null,null,null,null,null,null,null,null,null,null,null,null,null,null,null,null,null,null,null,null,null,null,null,null,null,null,null,null,null,null,null,null,"行追加用T\n初期値"]
[null,null,null,null,null,null,null,null,null,null,null,null,null,null,null,null,{"$f":"IF(事業者基本情報!Y7=事業者基本情報!Y8,\"\",事業者基本情報!Y8)","v":""},null,null,null,null,null,null,null,null,null,null,null,null,null,null,null,null,null,null,null,null,null,null,null,null,null,null,null,null,null,null,null,null,null,null,null,"開始行","終了行","行追加用T\n最終行","削除不可\n最低行数"]
[null,null,null,null,null,null,null,null,null,null,null,null,null,null,"　(法人にあっては、名称及び代表者の氏名)",null,null,null,null,null,null,null,null,null,null,null,null,null,null,null,null,null,null,null,null,null,null,null,null,null,null,null,null,null,null,null,null,null,null,null,null,null,49,50,13,49]
[null,null,null,null,null,null,null,null,null,null,null,null,null,null,"電話番号",null,null,{"$f":"事業者基本情報!E11","v":0},null,"-",{"$f":"事業者基本情報!G11","v":0},null,"-",{"$f":"事業者基本情報!I11","v":0},null,null,null,null,null,null,null,null,null,null,null,null,null,null,null,null,null,null,null,null,null,null,null,null,null,null,null,null,57,58]
[null,null,null,null,null,null,null,null,null,null,null,null,null,null,null,null,null,null,null,null,null,null,null,null,null,null,null,null,null,null,null,null,null,null,null,null,null,null,null,null,null,null,null,null,null,null,null,null,null,null,null,null,73,74]
[null,null,null,null,null,null,null,null,null,null,null,null,null,null,null,null,null,null,null,null,null,null,null,null,null,null,null,null,null,null,null,null,null,null,null,null,null,null,null,null,null,null,null,null,null,null,null,null,null,null,null,null,81,82]
[null,"　廃棄物の処理及び清掃に関する法律第12条の２第10項の規定に基づき、特別管理産業廃棄物の減量その他その処理に関する計画を作成したので、提出します。",null,null,null,null,null,null,null,null,null,null,null,null,null,null,null,null,null,null,null,null,null,null,null,null,null,null,null,null,null,null,null,null,null,null,null,null,null,null,null,null,null,null,null,null,null,null,null,null,null,null,91,93]
[null,null,null,null,null,null,null,null,null,null,null,null,null,null,null,null,null,null,null,null,null,null,null,null,null,null,null,null,null,null,null,null,null,null,null,null,null,null,null,null,null,null,null,null,null,null,null,null,null,null,null,null,101,103]
[null,null,null,null,null,null,null,null,null,null,null,null,null,null,null,null,null,null,null,null,null,null,null,null,null,null,null,null,null,null,null,null,null,null,null,null,null,null,null,null,null,null,null,null,null,null,null,null,null,null,null,null,112,113]
[null,null,null,null,null,null,null,null,null,null,null,null,null,null,null,null,null,null,null,null,null,null,null,null,null,null,null,null,null,null,null,null,null,null,null,null,null,null,null,null,null,null,{"$f":"IF(TRIM(AS24)=\"\",1,0)","v":1},1,{"$f":"INDIRECT(AT24)&\"\"","v":""},{"$f":"\"I\"&ROW()+1","v":"I25"},null,null,null,null,null,null,120,121]
[null,null,"事業場の名称",null,null,null,null,null,null,null,null,null,null,null,null,null,null,null,null,null,null,null,null,null,null,null,null,null,null,null,null,null,null,null,null,null,null,null,null,null,null,null,0,1,{"$f":"INDIRECT(AT25)&\"\"","v":"静岡県"},{"$f":"\"I\"&ROW()+1","v":"I26"},null,null,null,null,null,null,134,139]
[null,null,"事業場の所在地",null,null,null,null,null,"静岡県",null,null,null,null,"市",null,null,null,null,null,null,null,null,null,null,null,null,null,null,null,null,null,null,null,null,null,null,null,null,null,null,null,null,1,1,{"$f":"INDIRECT(AT26)&\"\"","v":""},{"$f":"\"L\"&ROW()","v":"L26"},null,null,null,null,null,null,154,159]
[null,null,null,null,null,null,null,null,null,null,null,null,null,null,null,null,null,null,null,null,null,null,null,null,null,null,null,null,null,null,null,null,null,null,null,null,null,null,null,null,null,null,1,1,{"$f":"INDIRECT(AT27)&\"\"","v":""},{"$f":"\"O\"&ROW()-1","v":"O26"}]
[null,null,"計画期間",null,null,null,null,null,{"$f":"事業者基本情報!W4+1&\"/4/1 ～ \"&事業者基本情報!W4+2&\"/3/31\"","v":"2026/4/1 ～ 2027/3/31"},null,null,null,null,null,null,null,null,null,null,null,null,null,null,null,null,null,null,null,null,null,null,null,null,null,null,null,null,null,null,null,null,null,0,1,{"$f":"INDIRECT(AT28)&\"\"","v":"2026/4/1 ～ 2027/3/31"},{"$f":"\"I\"&ROW()","v":"I28"}]
[null,"当該事業場において現に行っている事業に関する事項",null,null,null,null,null,null,null,null,null,null,null,null,null,null,null,null,null,null,null,null,null,null,null,null,null,null,null,null,null,null,null,null,null,null,null,null,null,null,null,null,0,1,{"$f":"INDIRECT(AT29)&\"\"","v":"市"},{"$f":"\"N\"&ROW()-3","v":"N26"}]
[null,null,"①事業の種類",null,null,null,null,null,null,null,null,null,null,null,null,null,null,null,null,null,null,null,null,null,null,null,null,null,null,null,null,null,null,null,null,null,null,null,null,null,null,null,1,1,{"$f":"INDIRECT(AT30)&\"\"","v":""},{"$f":"\"I\"&ROW()","v":"I30"}]
[null,null,"②事業の規模",null,null,null,null,null,null,null,null,null,null,null,null,null,null,null,null,null,null,null,null,null,null,null,null,null,null,null,null,null,null,null,null,null,null,null,null,null,null,null,1,1,{"$f":"INDIRECT(AT31)&\"\"","v":""},{"$f":"\"I\"&ROW()","v":"I31"}]
[null,null,"③従業員数",null,null,null,null,null,null,null,null,null,null,null,null,null,null,null,null,null,null,null,null,null,null,null,null,null,null,null,null,null,null,null,null,null,null,null,null,null,null,null,1,1,{"$f":"INDIRECT(AT32)&\"\"","v":""},{"$f":"\"I\"&ROW()","v":"I32"}]
[null,null,"④特別管理産業廃棄物　\nの一連の処理の工程\n"]
[null,null,null,null,null,null,null,null,null,null,null,null,null,null,null,null,null,"（日本産業規格　Ａ列４番）"]
[]
[null,"（第２面）"]
[null,"特別管理産業廃棄物の処理に係る管理体制に関する事項"]
[null,null,"（管理体制図）"]
[]
[]
[]
[]
[]
[null,"特別管理産業廃棄物の排出の抑制に関する事項"]
[null,null," ①現状",null,null,null,null,"【前年度（令和　",null,null,null,{"$f":"事業者基本情報!F4","v":7},"年度）実績】"]
[null,null,null,null,null,null,null,"特別管理産業廃棄物の種類",null,null,null,null,null,null,null,null,"排出量"]
[null,null,null,null,null,null,null,null,null,null,null,null,null,null,null,null,0,null,null,null,null,null,null,null,"ｔ",null,null,null,null,null,null,null,null,null,null,null,null,null,null,null,null,null,{"$f":"IF(TRIM(AS47)=\"\",1,0)","v":1},1,{"$f":"INDIRECT(AT47)&\"\"","v":""},{"$f":"\"H\"&ROW()","v":"H47"},null,{"$f":"IF(AS47=\"　廃ＰＣＢ等・ＰＣＢ汚染物・ＰＣＢ処理物\",0,IF(AS47=\"　　廃ＰＣＢ\",0,IF(AS47=\"　　ＰＣＢ汚染物\",0,IF(AS47=\"　　ＰＣＢ処理物\",0,VALUE(INDIRECT(\"Q\"&ROW())&\"\")))))","v":0}]
[null,null,null,null,null,null,null,null,null,null,null,null,null,null,null,null,null,null,null,null,null,null,null,null,null,null,null,null,null,null,null,null,null,null,null,null,null,null,null,null,null,null,{"$f":"IF(TRIM(AS48)=\"\",1,0)","v":1},1,{"$f":"IF(INDIRECT(AT48)=0,\"\",INDIRECT(AT48))","v":""},{"$f":"\"Q\"&ROW()-1","v":"Q47"}]
[null,null,null,null,null,null,null,null,null,null,null,null,null,null,null,null,0,null,null,null,null,null,null,null,"ｔ",null,null,null,null,null,null,null,null,null,null,null,null,null,null,null,null,null,{"$f":"IF(AND(TRIM(AS49)=\"\",TRIM(AS50)<>\"0\"),1,0)","v":0},1,{"$f":"INDIRECT(AT49)&\"\"","v":""},{"$f":"\"H\"&ROW()","v":"H49"},null,{"$f":"IF(AS49=\"　廃ＰＣＢ等・ＰＣＢ汚染物・ＰＣＢ処理物\",0,IF(AS49=\"　　廃ＰＣＢ\",0,IF(AS49=\"　　ＰＣＢ汚染物\",0,IF(AS49=\"　　ＰＣＢ処理物\",0,VALUE(INDIRECT(\"Q\"&ROW())&\"\")))))","v":0}]
[null,null,null,null,null,null,null,null,null,null,null,null,null,null,null,null,null,null,null,null,null,null,null,null,null,null,null,null,null,null,null,null,null,null,null,null,null,null,null,null,null,null,{"$f":"IF(TRIM(AS50)=\"\",1,IF(AND(TRIM(AS50)=\"0\",TRIM(AS49)<>\"\"),1,0))","v":0},1,{"$f":"INDIRECT(AT50)&\"\"","v":"0"},{"$f":"\"Q\"&ROW()-1","v":"Q49"}]
[null,null,null,null,null,null,null,"（これまでに実施した取組）"]
[null,null,null,null,null,null,null,null,null,null,null,null,null,null,null,null,null,null,null,null,null,null,null,null,null,null,null,null,null,null,null,null,null,null,null,null,null,null,null,null,null,null,{"$f":"IF(TRIM(AS52)=\"\",1,0)","v":1},1,{"$f":"INDIRECT(AT52)&\"\"","v":""},{"$f":"\"H\"&ROW()","v":"H52"}]
[null,null," ②計画",null,null,null,null,"【目標】"]
[null,null,null,null,null,null,null,"特別管理産業廃棄物の種類",null,null,null,null,null,null,null,null,"排出量"]
[null,null,null,null,null,null,null,null,null,null,null,null,null,null,null,null,0,null,null,null,null,null,null,null,"ｔ",null,null,null,null,null,null,null,null,null,null,null,null,null,null,null,null,null,{"$f":"IF(TRIM(AS55)=\"\",1,0)","v":1},1,{"$f":"INDIRECT(AT55)&\"\"","v":""},{"$f":"\"H\"&ROW()","v":"H55"},{"$f":"ROW()","v":55}]
[null,null,null,null,null,null,null,null,null,null,null,null,null,null,null,null,null,null,null,null,null,null,null,null,null,null,null,null,null,null,null,null,null,null,null,null,null,null,null,null,null,null,{"$f":"IF(TRIM(AS56)=\"\",1,0)","v":1},1,{"$f":"IF(INDIRECT(AT56)=0,\"\",INDIRECT(AT56))","v":""},{"$f":"\"Q\"&ROW()-1","v":"Q55"}]
[null,null,null,null,null,null,null,null,null,null,null,null,null,null,null,null,0,null,null,null,null,null,null,null,"ｔ",null,null,null,null,null,null,null,null,null,null,null,null,null,null,null,null,null,{"$f":"IF(AND(TRIM(AS57)=\"\",TRIM(AS58)<>\"0\"),1,0)","v":0},1,{"$f":"INDIRECT(AT57)&\"\"","v":""},{"$f":"\"H\"&ROW()","v":"H57"}]
[null,null,null,null,null,null,null,null,null,null,null,null,null,null,null,null,null,null,null,null,null,null,null,null,null,null,null,null,null,null,null,null,null,null,null,null,null,null,null,null,null,null,{"$f":"IF(TRIM(AS58)=\"\",1,IF(AND(TRIM(AS58)=\"0\",TRIM(AS57)<>\"\"),1,0))","v":0},1,{"$f":"INDIRECT(AT58)&\"\"","v":"0"},{"$f":"\"Q\"&ROW()-1","v":"Q57"}]
[null,null,null,null,null,null,null,"（今後実施する予定の取組）"]
[null,null,null,null,null,null,null,null,null,null,null,null,null,null,null,null,null,null,null,null,null,null,null,null,null,null,null,null,null,null,null,null,null,null,null,null,null,null,null,null,null,null,{"$f":"IF(TRIM(AS60)=\"\",1,0)","v":1},1,{"$f":"INDIRECT(AT60)&\"\"","v":""},{"$f":"\"H\"&ROW()","v":"H60"}]
[null,"特別管理産業廃棄物の分別に関する事項"]
[null,null,"①現状",null,null,null,null,"（分別している特別管理産業廃棄物の種類及び分別に関する取組）"]
[null,null,null,null,null,null,null,null,null,null,null,null,null,null,null,null,null,null,null,null,null,null,null,null,null,null,null,null,null,null,null,null,null,null,null,null,null,null,null,null,null,null,{"$f":"IF(TRIM(AS63)=\"\",1,0)","v":1},1,{"$f":"INDIRECT(AT63)&\"\"","v":""},{"$f":"\"H\"&ROW()","v":"H63"}]
[null,null,"②計画",null,null,null,null,"(今後分別する予定の特別管理産業廃棄物の種類及び分別に関する取組)"]
[null,null,null,null,null,null,null,null,null,null,null,null,null,null,null,null,null,null,null,null,null,null,null,null,null,null,null,null,null,null,null,null,null,null,null,null,null,null,null,null,null,null,{"$f":"IF(TRIM(AS65)=\"\",1,0)","v":1},1,{"$f":"INDIRECT(AT65)&\"\"","v":""},{"$f":"\"H\"&ROW()","v":"H65"}]
[]
[null,"（第３面）"]
[null,"自ら行う特別管理産業廃棄物の再生利用に関する事項"]
[null,null,"①現状",null,null,null,null,"【前年度（令和　",null,null,null,{"$f":"事業者基本情報!F4","v":7},"年度）実績】"]
[null,null,null,null,null,null,null,"特別管理産業廃棄物の種類_",null,null,null,null,null,null,null,null,"自ら再生利用を行った\n特別管理産業廃棄物の量"]
[null,null,null,null,null,null,null,null,null,null,null,null,null,null,null,null,0,null,null,null,null,null,null,null,"ｔ",null,null,null,null,null,null,null,null,null,null,null,null,null,null,null,null,null,{"$f":"IF($BF$3=TRUE,0,IF(TRIM(AS71)=\"\",1,0))","v":1},1,{"$f":"INDIRECT(AT71)&\"\"","v":""},{"$f":"\"H\"&ROW()","v":"H71"}]
[null,null,null,null,null,null,null,null,null,null,null,null,null,null,null,null,null,null,null,null,null,null,null,null,null,null,null,null,null,null,null,null,null,null,null,null,null,null,null,null,null,null,{"$f":"IF($BF$3=TRUE,0,IF(TRIM(AS72)=\"\",1,0))","v":1},1,{"$f":"IF(INDIRECT(AT72)=0,\"\",INDIRECT(AT72))","v":""},{"$f":"\"Q\"&ROW()-1","v":"Q71"}]
[null,null,null,null,null,null,null,null,null,null,null,null,null,null,null,null,0,null,null,null,null,null,null,null,"ｔ",null,null,null,null,null,null,null,null,null,null,null,null,null,null,null,null,null,{"$f":"IF($BF$3=TRUE,0,IF(AND(TRIM(AS73)=\"\",TRIM(AS74)<>\"0\"),1,0))","v":0},1,{"$f":"INDIRECT(AT73)&\"\"","v":""},{"$f":"\"H\"&ROW()","v":"H73"}]
[null,null,null,null,null,null,null,null,null,null,null,null,null,null,null,null,null,null,null,null,null,null,null,null,null,null,null,null,null,null,null,null,null,null,null,null,null,null,null,null,null,null,{"$f":"IF($BF$3=TRUE,0,IF(TRIM(AS74)=\"\",1,IF(AND(TRIM(AS74)=\"0\",TRIM(AS73)<>\"\"),1,0)))","v":0},1,{"$f":"INDIRECT(AT74)&\"\"","v":"0"},{"$f":"\"Q\"&ROW()-1","v":"Q73"}]
[null,null,null,null,null,null,null,"（これまでに実施した取組）"]
[null,null,null,null,null,null,null,null,null,null,null,null,null,null,null,null,null,null,null,null,null,null,null,null,null,null,null,null,null,null,null,null,null,null,null,null,null,null,null,null,null,null,{"$f":"IF($BF$3=TRUE,0,IF($BF$3=TRUE,0,IF(TRIM(AS76)=\"\",1,0)))","v":1},1,{"$f":"INDIRECT(AT76)&\"\"","v":""},{"$f":"\"H\"&ROW()","v":"H76"}]
[null,null,"②計画",null,null,null,null,"【目標】"]
[null,null,null,null,null,null,null,"特別管理産業廃棄物の種類_",null,null,null,null,null,null,null,null,"自ら再生利用を行う\n特別管理産業廃棄物の量"]
[null,null,null,null,null,null,null,null,null,null,null,null,null,null,null,null,0,null,null,null,null,null,null,null,"ｔ",null,null,null,null,null,null,null,null,null,null,null,null,null,null,null,null,null,{"$f":"IF($BF$4=TRUE,0,IF(TRIM(AS79)=\"\",1,0))","v":1},1,{"$f":"INDIRECT(AT79)&\"\"","v":""},{"$f":"\"H\"&ROW()","v":"H79"}]
[null,null,null,null,null,null,null,null,null,null,null,null,null,null,null,null,null,null,null,null,null,null,null,null,null,null,null,null,null,null,null,null,null,null,null,null,null,null,null,null,null,null,{"$f":"IF($BF$4=TRUE,0,IF(TRIM(AS80)=\"\",1,0))","v":1},1,{"$f":"IF(INDIRECT(AT80)=0,\"\",INDIRECT(AT80))","v":""},{"$f":"\"Q\"&ROW()-1","v":"Q79"}]
[null,null,null,null,null,null,null,null,null,null,null,null,null,null,null,null,0,null,null,null,null,null,null,null,"ｔ",null,null,null,null,null,null,null,null,null,null,null,null,null,null,null,null,null,{"$f":"IF($BF$4=TRUE,0,IF(AND(TRIM(AS81)=\"\",TRIM(AS82)<>\"0\"),1,0))","v":0},1,{"$f":"INDIRECT(AT81)&\"\"","v":""},{"$f":"\"H\"&ROW()","v":"H81"}]
[null,null,null,null,null,null,null,null,null,null,null,null,null,null,null,null,null,null,null,null,null,null,null,null,null,null,null,null,null,null,null,null,null,null,null,null,null,null,null,null,null,null,{"$f":"IF($BF$4=TRUE,0,IF(TRIM(AS82)=\"\",1,IF(AND(TRIM(AS82)=\"0\",TRIM(AS81)<>\"\"),1,0)))","v":0},1,{"$f":"INDIRECT(AT82)&\"\"","v":"0"},{"$f":"\"Q\"&ROW()-1","v":"Q81"}]
[null,null,null,null,null,null,null,"（今後実施する予定の取組）"]
[null,null,null,null,null,null,null,null,null,null,null,null,null,null,null,null,null,null,null,null,null,null,null,null,null,null,null,null,null,null,null,null,null,null,null,null,null,null,null,null,null,null,{"$f":"IF($BF$4=TRUE,0,IF(TRIM(AS84)=\"\",1,0))","v":1},1,{"$f":"INDIRECT(AT84)&\"\"","v":""},{"$f":"\"H\"&ROW()","v":"H84"}]
[null,"自ら行う特別管理産業廃棄物の中間処理に関する事項"]
[null,null,"①現状",null,null,null,null,"【前年度（令和　",null,null,null,{"$f":"事業者基本情報!F4","v":7},"年度）実績】"]
[null,null,null,null,null,null,null," 産業廃棄物の種類_",null,null,null,null,null,"自ら熱回収を行った\n特別管理産業廃棄物の量",null,null,null,null,null,"自ら中間処理により減量した\n特別管理産業廃棄物の量"]
[null,null,null,null,null,null,null,null,null,null,null,null,null,0,null,null,null,null,"ｔ",0,null,null,null,null,"ｔ",null,null,null,null,null,null,null,null,null,null,null,null,null,null,null,null,null,{"$f":"IF($BF$5=TRUE,0,IF(TRIM(AS88)=\"\",1,0))","v":1},1,{"$f":"INDIRECT(AT88)&\"\"","v":""},{"$f":"\"H\"&ROW()","v":"H88"}]
[null,null,null,null,null,null,null,null,null,null,null,null,null,null,null,null,null,null,null,null,null,null,null,null,null,null,null,null,null,null,null,null,null,null,null,null,null,null,null,null,null,null,{"$f":"IF($BF$5=TRUE,0,IF(AND(TRIM(AS89)=\"\",TRIM(AS90)=\"\"),1,0))","v":1},1,{"$f":"IF(INDIRECT(AT89)=0,\"\",INDIRECT(AT89))","v":""},{"$f":"\"N\"&ROW()-1","v":"N88"}]
[null,null,null,null,null,null,null,null,null,null,null,null,null,null,null,null,null,null,null,null,null,null,null,null,null,null,null,null,null,null,null,null,null,null,null,null,null,null,null,null,null,null,{"$f":"IF($BF$5=TRUE,0,IF(AND(TRIM(AS89)=\"\",TRIM(AS90)=\"\"),1,0))","v":1},1,{"$f":"IF(INDIRECT(AT90)=0,\"\",INDIRECT(AT90))","v":""},{"$f":"\"T\"&ROW()-2","v":"T88"}]
[null,null,null,null,null,null,null,null,null,null,null,null,null,0,null,null,null,null,"ｔ",0,null,null,null,null,"ｔ",null,null,null,null,null,null,null,null,null,null,null,null,null,null,null,null,null,{"$f":"IF($BF$5=TRUE,0,IF(AND(TRIM(AS91)=\"\",OR(TRIM(AS92)<>\"0\",TRIM(AS93)<>\"0\")),1,0))","v":0},1,{"$f":"INDIRECT(AT91)&\"\"","v":""},{"$f":"\"H\"&ROW()","v":"H91"}]
[null,null,null,null,null,null,null,null,null,null,null,null,null,null,null,null,null,null,null,null,null,null,null,null,null,null,null,null,null,null,null,null,null,null,null,null,null,null,null,null,null,null,{"$f":"IF($BF$5=TRUE,0,IF(TRIM(AS92)=\"\",1,IF(AND(TRIM(AS92)=\"0\",TRIM(AS93)=\"0\",TRIM(AS91)<>\"\"),1,0)))","v":0},1,{"$f":"INDIRECT(AT92)&\"\"","v":"0"},{"$f":"\"N\"&ROW()-1","v":"N91"}]
[null,null,null,null,null,null,null,null,null,null,null,null,null,null,null,null,null,null,null,null,null,null,null,null,null,null,null,null,null,null,null,null,null,null,null,null,null,null,null,null,null,null,{"$f":"IF($BF$5=TRUE,0,IF(TRIM(AS93)=\"\",1,IF(AND(TRIM(AS92)=\"0\",TRIM(AS93)=\"0\",TRIM(AS91)<>\"\"),1,0)))","v":0},1,{"$f":"INDIRECT(AT93)&\"\"","v":"0"},{"$f":"\"T\"&ROW()-2","v":"T91"}]
[null,null,null,null,null,null,null,"（これまでに実施した取組）"]
[null,null,null,null,null,null,null,null,null,null,null,null,null,null,null,null,null,null,null,null,null,null,null,null,null,null,null,null,null,null,null,null,null,null,null,null,null,null,null,null,null,null,{"$f":"IF($BF$5=TRUE,0,IF(TRIM(AS95)=\"\",1,0))","v":1},1,{"$f":"INDIRECT(AT95)&\"\"","v":""},{"$f":"\"H\"&ROW()","v":"H95"}]
[null,null,"②計画",null,null,null,null,"【目標】"]
[null,null,null,null,null,null,null," 産業廃棄物の種類_",null,null,null,null,null,"自ら熱回収を行う\n特別管理産業廃棄物の量",null,null,null,null,null,"自ら中間処理により減量する\n特別管理産業廃棄物の量"]
[null,null,null,null,null,null,null,null,null,null,null,null,null,0,null,null,null,null,"ｔ",0,null,null,null,null,"ｔ",null,null,null,null,null,null,null,null,null,null,null,null,null,null,null,null,null,{"$f":"IF($BF$6=TRUE,0,IF(TRIM(AS98)=\"\",1,0))","v":1},1,{"$f":"INDIRECT(AT98)&\"\"","v":""},{"$f":"\"H\"&ROW()","v":"H98"}]
[null,null,null,null,null,null,null,null,null,null,null,null,null,null,null,null,null,null,null,null,null,null,null,null,null,null,null,null,null,null,null,null,null,null,null,null,null,null,null,null,null,null,{"$f":"IF($BF$6=TRUE,0,IF(AND(TRIM(AS99)=\"\",TRIM(AS100)=\"\"),1,0))","v":1},1,{"$f":"IF(INDIRECT(AT99)=0,\"\",INDIRECT(AT99))","v":""},{"$f":"\"N\"&ROW()-1","v":"N98"}]
[null,null,null,null,null,null,null,null,null,null,null,null,null,null,null,null,null,null,null,null,null,null,null,null,null,null,null,null,null,null,null,null,null,null,null,null,null,null,null,null,null,null,{"$f":"IF($BF$6=TRUE,0,IF(AND(TRIM(AS99)=\"\",TRIM(AS100)=\"\"),1,0))","v":1},1,{"$f":"IF(INDIRECT(AT100)=0,\"\",INDIRECT(AT100))","v":""},{"$f":"\"T\"&ROW()-2","v":"T98"}]
[null,null,null,null,null,null,null,null,null,null,null,null,null,0,null,null,null,null,"ｔ",0,null,null,null,null,"ｔ",null,null,null,null,null,null,null,null,null,null,null,null,null,null,null,null,null,{"$f":"IF($BF$6=TRUE,0,IF(AND(TRIM(AS101)=\"\",OR(TRIM(AS102)<>\"0\",TRIM(AS103)<>\"0\")),1,0))","v":0},1,{"$f":"INDIRECT(AT101)&\"\"","v":""},{"$f":"\"H\"&ROW()","v":"H101"}]
[null,null,null,null,null,null,null,null,null,null,null,null,null,null,null,null,null,null,null,null,null,null,null,null,null,null,null,null,null,null,null,null,null,null,null,null,null,null,null,null,null,null,{"$f":"IF($BF$6=TRUE,0,IF(TRIM(AS102)=\"\",1,IF(AND(TRIM(AS102)=\"0\",TRIM(AS103)=\"0\",TRIM(AS101)<>\"\"),1,0)))","v":0},1,{"$f":"INDIRECT(AT102)&\"\"","v":"0"},{"$f":"\"N\"&ROW()-1","v":"N101"}]
[null,null,null,null,null,null,null,null,null,null,null,null,null,null,null,null,null,null,null,null,null,null,null,null,null,null,null,null,null,null,null,null,null,null,null,null,null,null,null,null,null,null,{"$f":"IF($BF$6=TRUE,0,IF(TRIM(AS103)=\"\",1,IF(AND(TRIM(AS102)=\"0\",TRIM(AS103)=\"0\",TRIM(AS101)<>\"\"),1,0)))","v":0},1,{"$f":"INDIRECT(AT103)&\"\"","v":"0"},{"$f":"\"T\"&ROW()-2","v":"T101"}]
[null,null,null,null,null,null,null,"（今後実施する予定の取組 ）"]
[null,null,null,null,null,null,null,null,null,null,null,null,null,null,null,null,null,null,null,null,null,null,null,null,null,null,null,null,null,null,null,null,null,null,null,null,null,null,null,null,null,null,{"$f":"IF($BF$6=TRUE,0,IF(TRIM(AS105)=\"\",1,0))","v":1},1,{"$f":"INDIRECT(AT105)&\"\"","v":""},{"$f":"\"H\"&ROW()","v":"H105"}]
[null,"（第４面）"]
[null,"自ら行う特別管理産業廃棄物の埋立処分に関する事項"]
[null,null,"①現状",null,null,null,null,"【前年度（令和　",null,null,null,{"$f":"事業者基本情報!F4","v":7},"年度）実績】",null,null,null,null,null,null,null,null,null,null,null,null,null,null,null,null,null,null,null,null,null,null,null,null,null,null,null,null,null,{"$f":"IF($BF$7=TRUE,0,IF(TRIM(AS108)=\"\",1,0))","v":0},1,{"$f":"INDIRECT(AT108)&\"\"","v":"7"},{"$f":"\"L\"&ROW()","v":"L108"}]
[null,null,null,null,null,null,null,"特別管理産業廃棄物の種類",null,null,null,null,null,null,null,null,"自ら埋立処分又は海洋投入\n処分を行った特別管理産業廃棄物の量"]
[null,null,null,null,null,null,null,null,null,null,null,null,null,null,null,null,0,null,null,null,null,null,null,null,"ｔ",null,null,null,null,null,null,null,null,null,null,null,null,null,null,null,null,null,{"$f":"IF($BF$7=TRUE,0,IF(TRIM(AS110)=\"\",1,0))","v":1},1,{"$f":"INDIRECT(AT110)&\"\"","v":""},{"$f":"\"H\"&ROW()","v":"H110"}]
[null,null,null,null,null,null,null,null,null,null,null,null,null,null,null,null,null,null,null,null,null,null,null,null,null,null,null,null,null,null,null,null,null,null,null,null,null,null,null,null,null,null,{"$f":"IF($BF$7=TRUE,0,IF(TRIM(AS111)=\"\",1,0))","v":1},1,{"$f":"IF(INDIRECT(AT111)=0,\"\",INDIRECT(AT111))","v":""},{"$f":"\"Q\"&ROW()-1","v":"Q110"}]
[null,null,null,null,null,null,null,null,null,null,null,null,null,null,null,null,0,null,null,null,null,null,null,null,"ｔ",null,null,null,null,null,null,null,null,null,null,null,null,null,null,null,null,null,{"$f":"IF($BF$7=TRUE,0,IF(AND(TRIM(AS112)=\"\",TRIM(AS113)<>\"0\"),1,0))","v":0},1,{"$f":"INDIRECT(AT112)&\"\"","v":""},{"$f":"\"H\"&ROW()","v":"H112"}]
[null,null,null,null,null,null,null,null,null,null,null,null,null,null,null,null,null,null,null,null,null,null,null,null,null,null,null,null,null,null,null,null,null,null,null,null,null,null,null,null,null,null,{"$f":"IF($BF$7=TRUE,0,IF(TRIM(AS113)=\"\",1,IF(AND(TRIM(AS113)=\"0\",TRIM(AS112)<>\"\"),1,0)))","v":0},1,{"$f":"INDIRECT(AT113)&\"\"","v":"0"},{"$f":"\"Q\"&ROW()-1","v":"Q112"}]
[null,null,null,null,null,null,null,"（これまでに実施した取組）"]
[null,null,null,null,null,null,null,null,null,null,null,null,null,null,null,null,null,null,null,null,null,null,null,null,null,null,null,null,null,null,null,null,null,null,null,null,null,null,null,null,null,null,{"$f":"IF($BF$7=TRUE,0,IF(TRIM(AS115)=\"\",1,0))","v":1},1,{"$f":"INDIRECT(AT115)&\"\"","v":""},{"$f":"\"H\"&ROW()","v":"H115"}]
[null,null,"②計画",null,null,null,null,"【目標】"]
[null,null,null,null,null,null,null,"特別管理産業廃棄物の種類",null,null,null,null,null,null,null,null,"自ら埋立処分又は海洋投入\n処分を行う特別管理産業廃棄物の量"]
[null,null,null,null,null,null,null,null,null,null,null,null,null,null,null,null,0,null,null,null,null,null,null,null,"ｔ",null,null,null,null,null,null,null,null,null,null,null,null,null,null,null,null,null,{"$f":"IF($BF$8=TRUE,0,IF(TRIM(AS118)=\"\",1,0))","v":1},1,{"$f":"INDIRECT(AT118)&\"\"","v":""},{"$f":"\"H\"&ROW()","v":"H118"}]
[null,null,null,null,null,null,null,null,null,null,null,null,null,null,null,null,null,null,null,null,null,null,null,null,null,null,null,null,null,null,null,null,null,null,null,null,null,null,null,null,null,null,{"$f":"IF($BF$8=TRUE,0,IF(TRIM(AS119)=\"\",1,0))","v":1},1,{"$f":"IF(INDIRECT(AT119)=0,\"\",INDIRECT(AT119))","v":""},{"$f":"\"Q\"&ROW()-1","v":"Q118"}]
[null,null,null,null,null,null,null,null,null,null,null,null,null,null,null,null,0,null,null,null,null,null,null,null,"ｔ",null,null,null,null,null,null,null,null,null,null,null,null,null,null,null,null,null,{"$f":"IF($BF$8=TRUE,0,IF(AND(TRIM(AS120)=\"\",TRIM(AS121)<>\"0\"),1,0))","v":0},1,{"$f":"INDIRECT(AT120)&\"\"","v":""},{"$f":"\"H\"&ROW()","v":"H120"}]
[null,null,null,null,null,null,null,null,null,null,null,null,null,null,null,null,null,null,null,null,null,null,null,null,null,null,null,null,null,null,null,null,null,null,null,null,null,null,null,null,null,null,{"$f":"IF($BF$8=TRUE,0,IF(TRIM(AS121)=\"\",1,IF(AND(TRIM(AS121)=\"0\",TRIM(AS120)<>\"\"),1,0)))","v":0},1,{"$f":"INDIRECT(AT121)&\"\"","v":"0"},{"$f":"\"Q\"&ROW()-1","v":"Q120"}]
[null,null,null,null,null,null,null,"（今後実施する予定の取組）"]
[null,null,null,null,null,null,null,null,null,null,null,null,null,null,null,null,null,null,null,null,null,null,null,null,null,null,null,null,null,null,null,null,null,null,null,null,null,null,null,null,null,null,{"$f":"IF($BF$8=TRUE,0,IF(TRIM(AS123)=\"\",1,0))","v":1},1,{"$f":"INDIRECT(AT123)&\"\"","v":""},{"$f":"\"H\"&ROW()","v":"H123"}]
[null,"特別管理産業廃棄物の処理の委託に関する事項"]
[null,null,"①現状",null,null,null,null,"【前年度（令和　",null,null,null,{"$f":"事業者基本情報!F4","v":7},"年度）実績】"]
[null,null,null,null,null,null,null,"特別管理産業廃棄物の種類",null,null,null,null,null,"①優良認定処理業者への処理委託量\n②再生利用業者への処理委託量\n③認定熱回収業者への処理委託量\n④認定熱回収業者以外の熱回収を行う\n　業者への処理委託量"]
[null,null,null,null,null,null,null,null,null,null,null,null,null,"①\n（t）",null,"②\n（t）",null,"③\n（t）",null,"④\n（t）",null,"全処理委託量\n（t）"]
[null,null,null,null,null,null,null,null,null,null,null,null,null,0,null,0,null,0,null,0,null,0,null,null,null,null,null,null,null,null,null,null,null,null,null,null,null,null,null,null,null,null,{"$f":"IF($BF$9=TRUE,0,IF(TRIM(AS128)=\"\",1,0))","v":1},1,{"$f":"INDIRECT(AT128)&\"\"","v":""},{"$f":"\"H\"&ROW()","v":"H128"}]
[null,null,null,null,null,null,null,null,null,null,null,null,null,null,null,null,null,null,null,null,null,null,null,null,null,null,null,null,null,null,null,null,null,null,null,null,null,null,null,null,null,null,{"$f":"IF($BF$9=TRUE,0,IF(AND(TRIM(AS129)=\"\",TRIM(AS130)=\"\",TRIM(AS131)=\"\",TRIM(AS132)=\"\"),1,0))","v":1},1,{"$f":"IF(INDIRECT(AT129)=0,\"\",INDIRECT(AT129))","v":""},{"$f":"\"N\"&ROW()-1","v":"N128"}]
[null,null,null,null,null,null,null,null,null,null,null,null,null,null,null,null,null,null,null,null,null,null,null,null,null,null,null,null,null,null,null,null,null,null,null,null,null,null,null,null,null,null,{"$f":"IF($BF$9=TRUE,0,IF(AND(TRIM(AS129)=\"\",TRIM(AS130)=\"\",TRIM(AS131)=\"\",TRIM(AS132)=\"\"),1,0))","v":1},1,{"$f":"IF(INDIRECT(AT130)=0,\"\",INDIRECT(AT130))","v":""},{"$f":"\"P\"&ROW()-2","v":"P128"}]
[null,null,null,null,null,null,null,null,null,null,null,null,null,null,null,null,null,null,null,null,null,null,null,null,null,null,null,null,null,null,null,null,null,null,null,null,null,null,null,null,null,null,{"$f":"IF($BF$9=TRUE,0,IF(AND(TRIM(AS129)=\"\",TRIM(AS130)=\"\",TRIM(AS131)=\"\",TRIM(AS132)=\"\"),1,0))","v":1},1,{"$f":"IF(INDIRECT(AT131)=0,\"\",INDIRECT(AT131))","v":""},{"$f":"\"R\"&ROW()-3","v":"R128"}]
[null,null,null,null,null,null,null,null,null,null,null,null,null,null,null,null,null,null,null,null,null,null,null,null,null,null,null,null,null,null,null,null,null,null,null,null,null,null,null,null,null,null,{"$f":"IF($BF$9=TRUE,0,IF(AND(TRIM(AS129)=\"\",TRIM(AS130)=\"\",TRIM(AS131)=\"\",TRIM(AS132)=\"\"),1,0))","v":1},1,{"$f":"IF(INDIRECT(AT132)=0,\"\",INDIRECT(AT132))","v":""},{"$f":"\"T\"&ROW()-4","v":"T128"}]
[null,null,null,null,null,null,null,null,null,null,null,null,null,0,null,0,null,0,null,0,null,0,null,null,null,null,null,null,null,null,null,null,null,null,null,null,null,null,null,null,null,null,{"$f":"IF($BF$9=TRUE,0,IF(AND(TRIM(AS133)=\"\",OR(TRIM(AS134)<>\"0\",TRIM(AS135)<>\"0\",TRIM(AS136)<>\"0\")),1,0))","v":0},1,{"$f":"INDIRECT(AT133)&\"\"","v":""},{"$f":"\"H\"&ROW()","v":"H133"}]
[null,null,null,null,null,null,null,null,null,null,null,null,null,null,null,null,null,null,null,null,null,null,null,null,null,null,null,null,null,null,null,null,null,null,null,null,null,null,null,null,null,null,{"$f":"IF($BF$9=TRUE,0,IF(TRIM(AS134)=\"\",1,IF(AND(TRIM(AS134)=\"0\",TRIM(AS135)=\"0\",TRIM(AS136)=\"0\",TRIM(AS137)=\"0\",TRIM(AS133)<>\"\"),1,0)))","v":0},1,{"$f":"INDIRECT(AT134)&\"\"","v":"0"},{"$f":"\"N\"&ROW()-1","v":"N133"}]
[null,null,null,null,null,null,null,null,null,null,null,null,null,null,null,null,null,null,null,null,null,null,null,null,null,null,null,null,null,null,null,null,null,null,null,null,null,null,null,null,null,null,{"$f":"IF($BF$9=TRUE,0,IF(TRIM(AS135)=\"\",1,IF(AND(TRIM(AS134)=\"0\",TRIM(AS135)=\"0\",TRIM(AS136)=\"0\",TRIM(AS137)=\"0\",TRIM(AS133)<>\"\"),1,0)))","v":0},1,{"$f":"INDIRECT(AT135)&\"\"","v":"0"},{"$f":"\"P\"&ROW()-2","v":"P133"}]
[null,null,null,null,null,null,null,null,null,null,null,null,null,null,null,null,null,null,null,null,null,null,null,null,null,null,null,null,null,null,null,null,null,null,null,null,null,null,null,null,null,null,{"$f":"IF($BF$9=TRUE,0,IF(TRIM(AS136)=\"\",1,IF(AND(TRIM(AS134)=\"0\",TRIM(AS135)=\"0\",TRIM(AS136)=\"0\",TRIM(AS137)=\"0\",TRIM(AS133)<>\"\"),1,0)))","v":0},1,{"$f":"INDIRECT(AT136)&\"\"","v":"0"},{"$f":"\"R\"&ROW()-3","v":"R133"}]
[null,null,null,null,null,null,null,null,null,null,null,null,null,null,null,null,null,null,null,null,null,null,null,null,null,null,null,null,null,null,null,null,null,null,null,null,null,null,null,null,null,null,{"$f":"IF($BF$9=TRUE,0,IF(TRIM(AS137)=\"\",1,IF(AND(TRIM(AS134)=\"0\",TRIM(AS135)=\"0\",TRIM(AS136)=\"0\",TRIM(AS137)=\"0\",TRIM(AS133)<>\"\"),1,0)))","v":0},1,{"$f":"INDIRECT(AT137)&\"\"","v":"0"},{"$f":"\"T\"&ROW()-4","v":"T133"}]
[null,null,null,null,null,null,null,"（これまでに実施した取組）"]
[null,null,null,null,null,null,null,null,null,null,null,null,null,null,null,null,null,null,null,null,null,null,null,null,null,null,null,null,null,null,null,null,null,null,null,null,null,null,null,null,null,null,{"$f":"IF($BF$9=TRUE,0,IF(TRIM(AS139)=\"\",1,0))","v":1},1,{"$f":"INDIRECT(AT139)&\"\"","v":""},{"$f":"\"H\"&ROW()","v":"H139"}]
[]
[]
[null,"（第５面）"]
[null,null,"②計画",null,null,null,null,"【目標】"]
[null,null,null,null,null,null,null,"特別管理産業廃棄物の種類",null,null,null,null,null,"①優良認定処理業者への処理委託量\n②再生利用業者への処理委託量\n③認定熱回収業者への処理委託量\n④認定熱回収業者以外の熱回収を行う\n　業者への処理委託量"]
[null,null,null,null,null,null,null,null,null,null,null,null,null,"①\n（t）",null,"②\n（t）",null,"③\n（t）",null,"④\n（t）",null,"全処理委託量\n（t）"]
[null,null,null,null,null,null,null,null,null,null,null,null,null,0,null,0,null,0,null,0,null,0,null,null,null,null,null,null,null,null,null,null,null,null,null,null,null,null,null,null,null,null,{"$f":"IF($BF$10=TRUE,0,IF(TRIM(AS146)=\"\",1,0))","v":1},1,{"$f":"INDIRECT(AT146)&\"\"","v":""},{"$f":"\"H\"&ROW()","v":"H146"}]
[null,null,null,null,null,null,null,null,null,null,null,null,null,null,null,null,null,null,null,null,null,null,null,null,null,null,null,null,null,null,null,null,null,null,null,null,null,null,null,null,null,null,{"$f":"IF($BF$10=TRUE,0,IF(AND(TRIM(AS147)=\"\",TRIM(AS148)=\"\",TRIM(AS149)=\"\",TRIM(AS150)=\"\"),1,0))","v":1},1,{"$f":"IF(INDIRECT(AT147)=0,\"\",INDIRECT(AT147))","v":""},{"$f":"\"N\"&ROW()-1","v":"N146"}]
[null,null,null,null,null,null,null,null,null,null,null,null,null,null,null,null,null,null,null,null,null,null,null,null,null,null,null,null,null,null,null,null,null,null,null,null,null,null,null,null,null,null,{"$f":"IF($BF$10=TRUE,0,IF(AND(TRIM(AS147)=\"\",TRIM(AS148)=\"\",TRIM(AS149)=\"\",TRIM(AS150)=\"\"),1,0))","v":1},1,{"$f":"IF(INDIRECT(AT148)=0,\"\",INDIRECT(AT148))","v":""},{"$f":"\"P\"&ROW()-2","v":"P146"}]
[null,null,null,null,null,null,null,null,null,null,null,null,null,null,null,null,null,null,null,null,null,null,null,null,null,null,null,null,null,null,null,null,null,null,null,null,null,null,null,null,null,null,{"$f":"IF($BF$10=TRUE,0,IF(AND(TRIM(AS147)=\"\",TRIM(AS148)=\"\",TRIM(AS149)=\"\",TRIM(AS150)=\"\"),1,0))","v":1},1,{"$f":"IF(INDIRECT(AT149)=0,\"\",INDIRECT(AT149))","v":""},{"$f":"\"R\"&ROW()-3","v":"R146"}]
[null,null,null,null,null,null,null,null,null,null,null,null,null,null,null,null,null,null,null,null,null,null,null,null,null,null,null,null,null,null,null,null,null,null,null,null,null,null,null,null,null,null,{"$f":"IF($BF$10=TRUE,0,IF(AND(TRIM(AS147)=\"\",TRIM(AS148)=\"\",TRIM(AS149)=\"\",TRIM(AS150)=\"\"),1,0))","v":1},1,{"$f":"IF(INDIRECT(AT150)=0,\"\",INDIRECT(AT150))","v":""},{"$f":"\"T\"&ROW()-4","v":"T146"}]
[null,null,null,null,null,null,null,null,null,null,null,null,null,0,null,0,null,0,null,0,null,0,null,null,null,null,null,null,null,null,null,null,null,null,null,null,null,null,null,null,null,null,{"$f":"IF($BF$10=TRUE,0,IF(AND(TRIM(AS151)=\"\",OR(TRIM(AS152)<>\"0\",TRIM(AS153)<>\"0\",TRIM(AS154)<>\"0\")),1,0))","v":0},1,{"$f":"INDIRECT(AT151)&\"\"","v":""},{"$f":"\"H\"&ROW()","v":"H151"}]
[null,null,null,null,null,null,null,null,null,null,null,null,null,null,null,null,null,null,null,null,null,null,null,null,null,null,null,null,null,null,null,null,null,null,null,null,null,null,null,null,null,null,{"$f":"IF($BF$10=TRUE,0,IF(TRIM(AS152)=\"\",1,IF(AND(TRIM(AS152)=\"0\",TRIM(AS153)=\"0\",TRIM(AS154)=\"0\",TRIM(AS155)=\"0\",TRIM(AS151)<>\"\"),1,0)))","v":0},1,{"$f":"INDIRECT(AT152)&\"\"","v":"0"},{"$f":"\"N\"&ROW()-1","v":"N151"}]
[null,null,null,null,null,null,null,null,null,null,null,null,null,null,null,null,null,null,null,null,null,null,null,null,null,null,null,null,null,null,null,null,null,null,null,null,null,null,null,null,null,null,{"$f":"IF($BF$10=TRUE,0,IF(TRIM(AS153)=\"\",1,IF(AND(TRIM(AS152)=\"0\",TRIM(AS153)=\"0\",TRIM(AS154)=\"0\",TRIM(AS155)=\"0\",TRIM(AS151)<>\"\"),1,0)))","v":0},1,{"$f":"INDIRECT(AT153)&\"\"","v":"0"},{"$f":"\"P\"&ROW()-2","v":"P151"}]
[null,null,null,null,null,null,null,null,null,null,null,null,null,null,null,null,null,null,null,null,null,null,null,null,null,null,null,null,null,null,null,null,null,null,null,null,null,null,null,null,null,null,{"$f":"IF($BF$10=TRUE,0,IF(TRIM(AS154)=\"\",1,IF(AND(TRIM(AS152)=\"0\",TRIM(AS153)=\"0\",TRIM(AS154)=\"0\",TRIM(AS155)=\"0\",TRIM(AS151)<>\"\"),1,0)))","v":0},1,{"$f":"INDIRECT(AT154)&\"\"","v":"0"},{"$f":"\"R\"&ROW()-3","v":"R151"}]
[null,null,null,null,null,null,null,null,null,null,null,null,null,null,null,null,null,null,null,null,null,null,null,null,null,null,null,null,null,null,null,null,null,null,null,null,null,null,null,null,null,null,{"$f":"IF($BF$10=TRUE,0,IF(TRIM(AS155)=\"\",1,IF(AND(TRIM(AS152)=\"0\",TRIM(AS153)=\"0\",TRIM(AS154)=\"0\",TRIM(AS155)=\"0\",TRIM(AS151)<>\"\"),1,0)))","v":0},1,{"$f":"INDIRECT(AT155)&\"\"","v":"0"},{"$f":"\"T\"&ROW()-4","v":"T151"}]
[null,null,null,null,null,null,null,"（今後実施する予定の取組）"]
[null,null,null,null,null,null,null,null,null,null,null,null,null,null,null,null,null,null,null,null,null,null,null,null,null,null,null,null,null,null,null,null,null,null,null,null,null,null,null,null,null,null,{"$f":"IF($BF$10=TRUE,0,IF(TRIM(AS157)=\"\",1,0))","v":1},1,{"$f":"INDIRECT(AT157)&\"\"","v":""},{"$f":"\"H\"&ROW()","v":"H157"}]
[null,"電子情報処理組織の使用\nに関する事項",null,null,null,null,null,"【前年度（令和　",null,null,null,{"$f":"事業者基本情報!F4","v":7},"年度）実績】"]
[null,null,null,null,null,null,null,null,"特別管理産業廃棄物",null,null,null,null,null,null,null,null,{"$f":"IFERROR(AW3,\"\")","v":0},null,null,null,null,null,null,"ｔ"]
[null,null,null,null,null,null,null,null,"排出量"]
[null,null,null,null,null,null,null,null,"（ポリ塩化ビフェニル廃棄物を除く。）"]
[null,null,null,null,null,null,null,"（今後実施する予定の取組等）"]
[null,null,null,null,null,null,null,null,null,null,null,null,null,null,null,null,null,null,null,null,null,null,null,null,null,null,null,null,null,null,null,null,null,null,null,null,null,null,null,null,null,null,{"$f":"IF(TRIM(AS163)=\"\",1,0)","v":1},1,{"$f":"INDIRECT(AT163)&\"\"","v":""},{"$f":"\"H\"&ROW()","v":"H163"}]
[null,"※事務処理欄"]
[]
[]
[null,"（第６面）"]
[null,"備考\n　１  前年度の特別管理産業廃棄物の発生量が50トン以上の事業場ごとに１枚作成すること。\n\n　２　当該年度の６月30日までに提出すること。\n\n　３　「当該事業場において現に行っている事業に関する事項」の欄は、以下に従って記入する\n　　　こと。\n　(1)①欄には、日本標準産業分類の区分を記入すること。\n　(2)②欄には、製造業の場合における製造品出荷額（前年度実績）、建設業の場合における元請\n　　完成工事高（前年度実績）、医療機関の場合における病床数（前年度末時点）等の業種に応じ\n　　事業規模が分かるような前年度の実績を記入すること。\n　(3)④欄には、当該事業場において生ずる特別管理産業廃棄物についての発生から最終処分が終了\n　　するまでの一連の処理の工程（当該処理を委託する場合は、委託の内容を含む｡)を記入するこ\n　　と。\n\n　４　「自ら行う特別管理産業廃棄物の中間処理に関する事項」の欄には、特別管理産業廃棄物の\n　　種類ごとに、自ら中間処理を行うに際して熱回収を行った場合における熱回収を行った特別管\n　　理産業廃棄物の量と、自ら中間処理を行うことによって減量した量について、前年度の実績、\n　　目標及び取組を記入すること。\n\n　５　「自ら行う特別管理産業廃棄物の埋立処分に関する事項」の欄には、特別管理産業廃棄物の\n　　種類ごとに、埋立処分した量を記入すること。なお、中間処理を行うことにより特別管理産業\n　　廃棄物に該当しなくなった産業廃棄物を海洋投入処分するときは、その量も含めて記入するこ\n　　と。\n\n　６　「特別管理産業廃棄物の処理の委託に関する事項」の欄には、特別管理産業廃棄物の種類ご\n　　とに、全処理委託量を記入するほか、その内数として、優良認定処理業者（廃棄物の処理及び\n　　清掃に関する法律施行令（以下「令」という。）第６条の14第２号に該当する者）への処理\n　　委託量、処理業者への再生利用委託量、認定熱回収施設設置者（廃棄物の処理及び清掃に関す\n　　る法律第15条の３の３第１項の認定を受けた者）である処理業者への焼却処理委託量及び認定\n　　熱回収施設設置者以外の熱回収を行っている処理業者への焼却処理委託量について、前年度実\n　　績、目標及び取組を記入すること。\n\n　７　「電子情報処理組織の使用に関する事項」の欄には、前年度の特別管理産業廃棄物の全発生\n　　量（ポリ塩化ビフェニル廃棄物（令第２条の４第５号イからハまでに掲げるものをいう。）を\n　　除く。）を記入すること。その量が50トン以上の者にあっては、今後の電子情報処理組織の使\n　　用に関する取組等（情報処理センターへの登録が困難な場合として廃棄物の処理及び清掃に関\n　　する法律施行規則第８条の31の４に該当するときは、その旨及び理由を含む。）について記入\n　　すること。\n\n　８　それぞれの欄に記入すべき事項の全てを記入することができないときは、当該欄に「別紙の\n　　とおり」と記入し、当該欄に記入すべき内容を記入した別紙を添付すること。また、特別管理\n　　産業廃棄物の種類が３以上あるときは、前年度実績及び目標の欄に「別紙のとおり」と記入\n　　し、当該欄に記入すべき内容を記入した別紙を添付すること。また、それぞれの欄に記入すべ\n　　き事項がないときは、「―」を記入すること。\n\n　９　※欄は記入しないこと。\n"]

{"sheet":"様式第２号の14_第1面","index":6,"n_rows":57,"n_cols":46,"rows_kept":57,"cut":false,"hidden":true,"merged":[[7,17,7,18],[9,1,9,2],[9,3,9,6],[12,15,12,23],[13,15,13,23],[14,15,14,23],[17,13,17,15],[17,16,17,17],[17,19,17,20],[17,22,17,23],[20,1,20,18],[20,19,20,20],[32,1,32,7],[32,8,32,12],[32,13,32,19],[32,20,32,24],[34,9,34,11],[34,21,34,23],[37,9,37,11],[37,21,37,23],[40,9,40,11],[40,21,40,23],[43,9,43,11],[43,21,43,23],[46,9,46,11],[46,21,46,23],[49,3,49,10],[49,15,49,17],[49,18,49,21],[50,3,50,10],[50,15,50,17],[50,18,50,21],[54,8,54,24],[23,1,24,7],[23,10,24,23],[25,1,26,7],[25,10,26,12],[25,13,26,14],[25,15,26,15],[25,16,26,23],[27,1,28,7],[27,10,28,23],[29,1,30,7],[29,10,30,23],[33,1,35,7],[33,13,35,19],[36,1,38,7],[36,13,38,19],[39,1,41,7],[39,13,41,19],[42,1,44,7],[42,13,44,19],[45,1,47,7],[45,13,47,19],[52,2,53,23]]}
["G","P",1,"S"]
["様式第二号の十四（第八条の十七の三関係）",null,null,null,null,null,null,null,null,null,null,null,null,null,null,null,null,null,null,null,null,null,null,null,null,null,null,null,null,null,null,null,null,null,null,null,null,null,null,null,null,null,"エラーフラグ","必須項目フラグ","必須入力内容","対象セル"]
[null,null,null,null,null,null,null,null,null,null,null,null,"（第１面）"]
[]
[]
[null,null,null,null,null,null,null,null,null,null,null,null,"特別管理産業廃棄物処理計画実施状況報告書"]
[]
[null,null,null,null,null,null,null,null,null,null,null,null,null,null,null,null,null,{"$f":"事業者基本情報!E5","v":2026},null,"年",{"$f":"事業者基本情報!G5","v":0},"月",{"$f":"事業者基本情報!I5","v":0},"日"]
[]
[null,null,null,"静岡県知事",null,null,null,"殿"]
[]
[null,null,null,null,null,null,null,null,null,null,null,null,"　提出者"]
[null,null,null,null,null,null,null,null,null,null,null,null,null,"住　所",null,{"$f":"事業者基本情報!Y10","v":"静岡県"}]
[null,null,null,null,null,null,null,null,null,null,null,null,null,"氏　名",null,{"$f":"事業者基本情報!Y7","v":""}]
[null,null,null,null,null,null,null,null,null,null,null,null,null,null,null,{"$f":"IF(事業者基本情報!Y7=事業者基本情報!Y8,\"\",事業者基本情報!Y8)","v":""}]
[null,null,null,null,null,null,null,null,null,null,null,null,null,"　　（法人にあっては、名称及び代表者氏名）"]
[]
[null,null,null,null,null,null,null,null,null,null,null,null,null,"電話番号",null,null,{"$f":"事業者基本情報!E11","v":0},null,"-",{"$f":"事業者基本情報!G11","v":0},null,"-",{"$f":"事業者基本情報!I11","v":0}]
[]
[]
[null,"　廃棄物の処理及び清掃に関する法律第12条の2第11項の規定に基づき、",null,null,null,null,null,null,null,null,null,null,null,null,null,null,null,null,null,{"$f":"TEXT(TODAY(),\"ggg\")&事業者基本情報!F4","v":"令和7"},null,"年度の特別管"]
[null,"理産業廃棄物処理計画の実施状況を報告します。"]
[]
[null,"事業場の名称",null,null,null,null,null,null,null,null,null,null,null,null,null,null,null,null,null,null,null,null,null,null,null,null,null,null,null,null,null,null,null,null,null,null,null,null,null,null,null,null,{"$f":"IF(TRIM(AS24)=\"\",1,0)","v":1},1,{"$f":"IF(INDIRECT(AT24)=0,\"\",INDIRECT(AT24))","v":""},{"$f":"\"K\"&ROW()","v":"K24"}]
[null,null,null,null,null,null,null,null,null,null,null,null,null,null,null,null,null,null,null,null,null,null,null,null,null,null,null,null,null,null,null,null,null,null,null,null,null,null,null,null,null,null,0,1,{"$f":"IF(INDIRECT(AT25)=0,\"\",INDIRECT(AT25))","v":"静岡県"},{"$f":"\"K\"&ROW()+1","v":"K26"}]
[null,"事業場の所在地",null,null,null,null,null,null,null,null,"静岡県",null,null,null,null,"市",null,null,null,null,null,null,null,null,null,null,null,null,null,null,null,null,null,null,null,null,null,null,null,null,null,null,1,1,{"$f":"IF(INDIRECT(AT26)=0,\"\",INDIRECT(AT26))","v":""},{"$f":"\"N\"&ROW()","v":"N26"}]
[null,null,null,null,null,null,null,null,null,null,null,null,null,null,null,null,null,null,null,null,null,null,null,null,null,null,null,null,null,null,null,null,null,null,null,null,null,null,null,null,null,null,1,1,{"$f":"IF(INDIRECT(AT27)=0,\"\",INDIRECT(AT27))","v":""},{"$f":"\"Q\"&ROW()-1","v":"Q26"}]
[null,"事業の種類",null,null,null,null,null,null,null,null,null,null,null,null,null,null,null,null,null,null,null,null,null,null,null,null,null,null,null,null,null,null,null,null,null,null,null,null,null,null,null,null,1,1,{"$f":"IF(INDIRECT(AT28)=0,\"\",INDIRECT(AT28))","v":""},{"$f":"\"K\"&ROW()","v":"K28"}]
[null,null,null,null,null,null,null,null,null,null,null,null,null,null,null,null,null,null,null,null,null,null,null,null,null,null,null,null,null,null,null,null,null,null,null,null,null,null,null,null,null,null,0,1,{"$f":"IF(INDIRECT(AT29)=0,\"\",INDIRECT(AT29))","v":"市"},{"$f":"\"P\"&ROW()-3","v":"P26"}]
[null,"特別管理産業廃棄物処理計画における\n計画期間",null,null,null,null,null,null,null,null,{"$f":"事業者基本情報!W4&\"/4/1 ～ \"&事業者基本情報!W4+1&\"/3/31\"","v":"2025/4/1 ～ 2026/3/31"},null,null,null,null,null,null,null,null,null,null,null,null,null,null,null,null,null,null,null,null,null,null,null,null,null,null,null,null,null,null,null,0,1,{"$f":"IF(INDIRECT(AT30)=0,\"\",INDIRECT(AT30))","v":"2025/4/1 ～ 2026/3/31"},{"$f":"\"K\"&ROW()","v":"K30"}]
[]
["　特別管理産業廃棄物処理計画における目標値"]
[null,"項目",null,null,null,null,null,null,"目標値",null,null,null,null,"項目",null,null,null,null,null,null,"目標値"]
[null,"排出量",null,null,null,null,null,null,null,null,null,null,null,"全 処 理 委 託 量",null,null,null,null,null,null,null,null,null,null,null,null,null,null,null,null,null,null,null,null,null,null,null,null,null,null,null,null,{"$f":"IF(TRIM(AS34)=\"\",1,0)","v":0},1,{"$f":"INDIRECT(AT34)&\"\"","v":"0"},{"$f":"\"J\"&ROW()+1","v":"J35"}]
[null,null,null,null,null,null,null,null,null,0,null,null,"ｔ",null,null,null,null,null,null,null,null,0,null,null,"ｔ",null,null,null,null,null,null,null,null,null,null,null,null,null,null,null,null,null,{"$f":"IF(TRIM(AS35)=\"\",1,0)","v":0},1,{"$f":"INDIRECT(AT35)&\"\"","v":"0"},{"$f":"\"V\"&ROW()","v":"V35"}]
[]
[null,"自ら再生利用を行う\n特別管理産業廃棄物の量",null,null,null,null,null,null,null,null,null,null,null,"優良認定処理業者への\n処理委託量",null,null,null,null,null,null,null,null,null,null,null,null,null,null,null,null,null,null,null,null,null,null,null,null,null,null,null,null,{"$f":"IF(TRIM(AS37)=\"\",1,0)","v":0},1,{"$f":"INDIRECT(AT37)&\"\"","v":"0"},{"$f":"\"J\"&ROW()+1","v":"J38"}]
[null,null,null,null,null,null,null,null,null,0,null,null,"ｔ",null,null,null,null,null,null,null,null,0,null,null,"ｔ",null,null,null,null,null,null,null,null,null,null,null,null,null,null,null,null,null,{"$f":"IF(TRIM(AS38)=\"\",1,0)","v":0},1,{"$f":"INDIRECT(AT38)&\"\"","v":"0"},{"$f":"\"V\"&ROW()","v":"V38"}]
[]
[null,"自ら熱回収を行う\n特別管理産業廃棄物の量",null,null,null,null,null,null,null,null,null,null,null,"再生利用業者への\n処理委託量",null,null,null,null,null,null,null,null,null,null,null,null,null,null,null,null,null,null,null,null,null,null,null,null,null,null,null,null,{"$f":"IF(TRIM(AS40)=\"\",1,0)","v":0},1,{"$f":"INDIRECT(AT40)&\"\"","v":"0"},{"$f":"\"J\"&ROW()+1","v":"J41"}]
[null,null,null,null,null,null,null,null,null,0,null,null,"ｔ",null,null,null,null,null,null,null,null,0,null,null,"ｔ",null,null,null,null,null,null,null,null,null,null,null,null,null,null,null,null,null,{"$f":"IF(TRIM(AS41)=\"\",1,0)","v":0},1,{"$f":"INDIRECT(AT41)&\"\"","v":"0"},{"$f":"\"V\"&ROW()","v":"V41"}]
[]
[null,"自ら中間処理により減量する\n特別管理産業廃棄物の量",null,null,null,null,null,null,null,null,null,null,null,"認定熱回収業者への\n処理委託量",null,null,null,null,null,null,null,null,null,null,null,null,null,null,null,null,null,null,null,null,null,null,null,null,null,null,null,null,{"$f":"IF(TRIM(AS43)=\"\",1,0)","v":0},1,{"$f":"INDIRECT(AT43)&\"\"","v":"0"},{"$f":"\"J\"&ROW()+1","v":"J44"}]
[null,null,null,null,null,null,null,null,null,0,null,null,"ｔ",null,null,null,null,null,null,null,null,0,null,null,"ｔ",null,null,null,null,null,null,null,null,null,null,null,null,null,null,null,null,null,{"$f":"IF(TRIM(AS44)=\"\",1,0)","v":0},1,{"$f":"INDIRECT(AT44)&\"\"","v":"0"},{"$f":"\"V\"&ROW()","v":"V44"}]
[]
[null,"自ら埋立処分\nを行う\n特別管理産業廃棄物の量",null,null,null,null,null,null,null,null,null,null,null,"認定熱回収業者以外の\n熱回収を行う業者への\n処理委託量",null,null,null,null,null,null,null,null,null,null,null,null,null,null,null,null,null,null,null,null,null,null,null,null,null,null,null,null,{"$f":"IF(TRIM(AS46)=\"\",1,0)","v":0},1,{"$f":"INDIRECT(AT46)&\"\"","v":"0"},{"$f":"\"J\"&ROW()+1","v":"J47"}]
[null,null,null,null,null,null,null,null,null,0,null,null,"ｔ",null,null,null,null,null,null,null,null,0,null,null,"ｔ",null,null,null,null,null,null,null,null,null,null,null,null,null,null,null,null,null,{"$f":"IF(TRIM(AS47)=\"\",1,0)","v":0},1,{"$f":"INDIRECT(AT47)&\"\"","v":"0"},{"$f":"\"V\"&ROW()","v":"V47"}]
[]
["　電子情報処理組織の使用に関する事項"]
[null,null,null,"特別管理産業廃棄物排出量",null,null,null,null,null,null,null,null,null,null,null,"前々年度",null,null,0,null,null,null,"ｔ",null,null,null,null,null,null,null,null,null,null,null,null,null,null,null,null,null,null,null,{"$f":"IF(TRIM(AS50)=\"\",1,0)","v":0},1,{"$f":"INDIRECT(AT50)&\"\"","v":"0"},{"$f":"\"S\"&ROW()","v":"S50"}]
[null,null,null,"(ポリ塩化ビフェニル廃棄物を除く。)",null,null,null,null,null,null,null,null,null,null,null,"前年度",null,null,0,null,null,null,"ｔ",null,null,null,null,null,null,null,null,null,null,null,null,null,null,null,null,null,null,null,{"$f":"IF(TRIM(AS51)=\"\",1,0)","v":0},1,{"$f":"INDIRECT(AT51)&\"\"","v":"0"},{"$f":"\"S\"&ROW()","v":"S51"}]
[null,null,"（電子情報処理組織の使用に関して実施した取組）"]
[null,null,null,null,null,null,null,null,null,null,null,null,null,null,null,null,null,null,null,null,null,null,null,null,null,null,null,null,null,null,null,null,null,null,null,null,null,null,null,null,null,null,{"$f":"IF(TRIM(AS53)=\"\",1,0)","v":1},1,{"$f":"INDIRECT(AT53)&\"\"","v":""},{"$f":"\"C\"&ROW()","v":"C53"}]
[]
["　　※事務処理欄"]
[]
[null,null,null,null,null,null,null,null,null,null,null,null,null,null,null,null,null,null,"（日本産業規格　Ａ列４番）"]

{"sheet":"様式第２号の14_第2面","index":7,"n_rows":45,"n_cols":56,"rows_kept":45,"cut":false,"hidden":true,"merged":[[1,52,1,55],[2,1,2,11],[2,21,2,27],[3,13,3,19],[14,52,14,55],[17,1,17,6],[17,7,17,9],[6,13,7,16],[7,7,8,10],[8,14,9,16],[8,25,9,28],[9,1,10,4],[10,26,11,28],[11,7,12,10],[11,13,12,16],[13,8,14,10],[13,14,14,16],[13,31,15,34],[16,13,17,16],[16,19,17,22],[16,25,18,28],[16,32,17,34],[18,1,19,6],[18,7,19,9],[18,14,19,16],[18,20,19,22],[19,26,20,28],[20,1,21,6],[20,7,21,9],[20,31,22,34],[21,13,22,16],[21,19,22,22],[22,1,23,6],[22,7,23,9],[23,14,24,16],[23,20,24,22],[23,25,25,28],[23,32,24,34],[24,1,25,6],[24,7,25,9],[26,1,27,6],[26,7,27,9],[26,26,28,28],[27,31,29,34],[28,1,29,6],[28,7,29,9],[30,1,31,6],[30,7,31,9],[30,32,31,34],[31,25,33,28],[32,1,33,6],[32,7,33,9],[34,1,35,6],[34,7,35,9],[34,26,37,28],[36,1,38,6],[36,7,38,9],[3,54,12,54],[3,55,12,55],[16,54,25,54],[16,55,25,55]]}
["G","P",2,"S"]
[null,null,null,null,null,null,null,null,null,null,null,null,null,null,null,null,null,null,null,null,null,null,null,null,null,null,null,null,null,null,null,null,null,null,null,null,null,null,null,null,null,null,null,null,null,null,null,null,null,null,null,null,"行追加用T"]
[null,"計画の実施状況",null,null,null,null,null,null,null,null,null,null,"　（特別管理産業廃棄物の種類 ：",null,null,null,null,null,null,null,null,null,null,null,null,null,null,null,"）",null,null,null,null,null,null,null,null,null,null,null,null,null,null,null,null,null,null,null,{"$f":"IF(AY3=\"\",1,0)","v":1},1,{"$f":"TRIM(INDIRECT(AZ3))","v":""},{"$f":"\"V\"&ROW()","v":"V3"},"開始行","終了行","行追加用T\n最終行","削除不可\n最低行数"]
[null,null,null,null,null,null,null,null,null,null,null,null,null,null,null,null,null,null,null,null,null,null,null,null,null,null,null,null,null,null,null,null,null,null,null,null,null,null,null,null,null,null,null,null,null,null,null,null,0,1,{"$f":"TRIM(INDIRECT(AZ4))","v":"0"},{"$f":"\"I\"&ROW()+10","v":"I14"},2,{"$f":"BA4+38","v":40},{"$f":"ROW()-1+COUNT(BA4:BA13)","v":4},2]
[null,null,null,null,null,null,null,null,null,null,null,null,null,null,null,null,null,null,null,null,null,null,null,null,null,null,null,null,null,null,null,null,null,null,null,null,null,null,null,null,null,null,null,null,null,null,null,null,0,1,{"$f":"TRIM(INDIRECT(AZ5))","v":"0"},{"$f":"\"O\"&ROW()+4","v":"O9"}]
[null,null,null,null,null,null,null,null,null,null,null,null,null,null,null,null,null,null,null,null,null,null,null,null,null,null,null,null,null,null,null,null,null,null,null,null,null,null,null,null,null,null,null,null,null,null,null,null,0,1,{"$f":"TRIM(INDIRECT(AZ6))","v":"0"},{"$f":"\"O\"&ROW()+8","v":"O14"}]
[null,null,null,null,null,null,null,null,null,null,null,null,null,"自ら直接\n再生利用した量",null,null,null,null,null,null,null,null,null,null,null,null,null,null,null,null,null,null,null,null,null,null,null,null,null,null,null,null,null,null,null,null,null,null,0,1,{"$f":"TRIM(INDIRECT(AZ7))","v":"0"},{"$f":"\"O\"&ROW()+12","v":"O19"}]
[null,null,null,null,null,null,null,"有 償 物 量",null,null,null,null,null,null,null,null,null,null,null,null,null,null,null,null,null,null,null,null,null,null,null,null,null,null,null,null,null,null,null,null,null,null,null,null,null,null,null,null,0,1,{"$f":"TRIM(INDIRECT(AZ8))","v":"0"},{"$f":"\"O\"&ROW()+16","v":"O24"}]
[null,null,null,null,null,null,null,null,null,null,null,null,null,"②",0,null,null,null,null,null,null,null,null,null,null,"自ら中間処理した後\n再生利用した量",null,null,null,null,null,null,null,null,null,null,null,null,null,null,null,null,null,null,null,null,null,null,0,1,{"$f":"TRIM(INDIRECT(AZ9))","v":"0"},{"$f":"\"U\"&ROW()+10","v":"U19"}]
[null,"不要物等発生量",null,null,null,null,null,null,null,null,null,null,null,null,null,null,null,null,null,null,null,null,null,null,null,null,null,null,null,null,null,null,null,null,null,null,null,null,null,null,null,null,null,null,null,null,null,null,0,1,{"$f":"TRIM(INDIRECT(AZ10))","v":"0"},{"$f":"\"U\"&ROW()+14","v":"U24"}]
[null,null,null,null,null,null,null,null,null,null,null,null,null,null,null,null,null,null,null,null,null,null,null,null,null,"⑧",0,null,null,null,null,null,null,null,null,null,null,null,null,null,null,null,null,null,null,null,null,null,0,1,{"$f":"TRIM(INDIRECT(AZ11))","v":"0"},{"$f":"\"AA\"&ROW()","v":"AA11"}]
[null,null,null,null,null,null,null,"排出量",null,null,null,null,null,"自ら直接埋立処分した量",null,null,null,null,null,null,null,null,null,null,null,null,null,null,null,null,null,null,null,null,null,null,null,null,null,null,null,null,null,null,null,null,null,null,0,1,{"$f":"TRIM(INDIRECT(AZ12))","v":"0"},{"$f":"\"AA\"&ROW()+8","v":"AA20"}]
[null,null,null,null,null,null,null,null,null,null,null,null,null,null,null,null,null,null,null,null,null,null,null,null,null,null,null,null,null,null,null,null,null,null,null,null,null,null,null,null,null,null,null,null,null,null,null,null,0,1,{"$f":"TRIM(INDIRECT(AZ13))","v":"0"},{"$f":"\"AA\"&ROW()+14","v":"AA27"}]
[null,null,null,null,null,null,null,"①",0,null,null,null,null,"③",0,null,null,null,null,null,null,null,null,null,null,null,null,null,null,null,null,"⑩のうち再生利用\n業者への処理委託量",null,null,null,null,null,null,null,null,null,null,null,null,null,null,null,null,0,1,{"$f":"TRIM(INDIRECT(AZ14))","v":"0"},{"$f":"\"AA\"&ROW()+21","v":"AA35"}]
[null,null,null,null,null,null,null,null,null,null,null,null,null,null,null,null,null,null,null,null,null,null,null,null,null,null,null,null,null,null,null,null,null,null,null,null,null,null,null,null,null,null,null,null,null,null,null,null,0,1,{"$f":"TRIM(INDIRECT(AZ15))","v":"0"},{"$f":"\"AG\"&ROW()+2","v":"AG17"},"行追加用T\n初期値"]
[null,null,null,null,null,null,null,null,null,null,null,null,null,null,null,null,null,null,null,null,null,null,null,null,null,null,null,null,null,null,null,null,null,null,null,null,null,null,null,null,null,null,null,null,null,null,null,null,0,1,{"$f":"TRIM(INDIRECT(AZ16))","v":"0"},{"$f":"\"AG\"&ROW()+8","v":"AG24"},"開始行","終了行","行追加用T\n最終行","削除不可\n最低行数"]
[null,null,null,null,null,null,null,null,null,null,null,null,null,"自ら中間処理\nした量",null,null,null,null,null,"自ら中間処理した\n後の残さ量",null,null,null,null,null,"自ら中間処理した後\n自ら埋立処分又は\n海洋投入処分した量",null,null,null,null,null,"⑫",0,null,null,null,null,null,null,null,null,null,null,null,null,null,null,null,0,1,{"$f":"TRIM(INDIRECT(AZ17))","v":"0"},{"$f":"\"AG\"&ROW()+14","v":"AG31"},2,{"$f":"BA17+38","v":40},4,2]
[null,"項目",null,null,null,null,null,"実績値"]
[null,"① 排出量",null,null,null,null,null,{"$f":"I14","v":0},null,null,null,null,null,"④",0,null,null,null,null,"⑥",0]
[null,null,null,null,null,null,null,null,null,null,null,null,null,null,null,null,null,null,null,null,null,null,null,null,null,"⑨",0]
[null,"②＋⑧ 自ら再生利用を\n行った量",null,null,null,null,null,{"$f":"O9+AA11","v":0},null,null,null,null,null,null,null,null,null,null,null,null,null,null,null,null,null,null,null,null,null,null,null,"⑩のうち熱回収認定\n業者への処理委託量"]
[null,null,null,null,null,null,null,null,null,null,null,null,null,"④のうち熱回収\nを行った量",null,null,null,null,null,"自ら中間処理により減量した量"]
[null,"⑤ 自ら熱回収を行った量",null,null,null,null,null,{"$f":"O24","v":0}]
[null,null,null,null,null,null,null,null,null,null,null,null,null,"⑤",0,null,null,null,null,"⑦",0,null,null,null,null,"直接及び自ら\n中間処理した後の\n処理委託量",null,null,null,null,null,"⑬",0]
[null,"⑦ 自ら中間処理により減\n量した量",null,null,null,null,null,{"$f":"U24","v":0}]
[]
[null,"③＋⑨ 自ら埋立処分又は\n海洋投入処分を行った量",null,null,null,null,null,{"$f":"O14+AA20","v":0},null,null,null,null,null,null,null,null,null,null,null,null,null,null,null,null,null,"⑩",0]
[null,null,null,null,null,null,null,null,null,null,null,null,null,null,null,null,null,null,null,null,null,null,null,null,null,null,null,null,null,null,null,"⑩のうち熱回収認定\n業者以外の熱回収を\n行う業者への\n処理委託量"]
[null,"⑩ 全処理委託量",null,null,null,null,null,{"$f":"AA27","v":0}]
[]
[null,"⑪ 優良認定処理業者への処理委託量",null,null,null,null,null,{"$f":"AA35","v":0},null,null,null,null,null,null,null,null,null,null,null,null,null,null,null,null,null,null,null,null,null,null,null,"⑭",0]
[null,null,null,null,null,null,null,null,null,null,null,null,null,null,null,null,null,null,null,null,null,null,null,null,null,"⑩のうち優良認定\n処理業者への\n処理委託量"]
[null,"⑫ 再生利用業者への処理\n委託量",null,null,null,null,null,{"$f":"AG17","v":0}]
[]
[null,"⑬熱回収認定業者への処\n理委託量",null,null,null,null,null,{"$f":"AG24","v":0},null,null,null,null,null,null,null,null,null,null,null,null,null,null,null,null,null,"⑪",0]
[]
[null,"⑭ 熱回収認定業者以外の\n熱回収を行う業者への処\n理委託量",null,null,null,null,null,{"$f":"AG31","v":0}]
[]
[]
[]
[]
[]
[null,null,null,null,"※　数字の０（ゼロ）が入っているところは自動計算になっています。"]
[]
[null,null,null,null,"　　　　 "]

{"sheet":"様式第２号の14_第3面","index":8,"n_rows":63,"n_cols":13,"rows_kept":63,"cut":false,"hidden":true,"merged":[]}
["G","P",3,"S"]
[]
[null,null,null,null,null,null,null,null,null,null,null,null,"（第３面）"]
[]
[]
["　備考"]
[]
[null,"１","　翌年度の６月30日までに提出すること。"]
[]
[null,"２","　「事業の種類」の欄には、日本標準産業分類の区分を記入すること。"]
[]
[null,"３","　「特別管理産業廃棄物処理計画における目標値」の欄には、項目ごとに、特別管理産業廃棄物"]
[null,null,"処理計画に記載した目標値を記入すること。"]
[]
[null,"４","　第２面には、前年度の特別管理産業廃棄物の処理に関して、①～⑭の欄のそれぞれに、(1)"]
[null,null,"から(14)に掲げる量を記入すること。"]
[]
[null,null,"(1)"," ①欄",null,"当該事業場において生じた特別管理産業廃棄物の量"]
[]
[null,null,"(2)"," ②欄",null,"(1)の量のうち、中間処理をせず直接自ら再生利用した量"]
[]
[null,null,"(3)"," ③欄",null,"(1)の量のうち、中間処理をせず直接自ら埋立処分した量"]
[]
[null,null,"(4)"," ④欄",null,"(1)の量のうち、自ら中間処理をした特別管理産業廃棄物の当該中間処理前の量"]
[]
[null,null,"(5)"," ⑤欄",null,"(4)の量のうち、熱回収を行った量"]
[]
[null,null,"(6)"," ⑥欄",null,"自ら中間処理をした後の量"]
[]
[null,null,"(7)"," ⑦欄",null,"(4)の量から(6)の量を差し引いた量"]
[]
[null,null,"(8)"," ⑧欄",null,"(6)の量のうち、自ら利用し、又は他人に売却した量"]
[]
[null,null,"(9)"," ⑨欄",null,"(6)の量のうち、自ら埋立処分及び海洋投入処分した量"]
[]
[null,null,"(10)"," ⑩欄",null,"中間処理及び最終処分を委託した量"]
[]
[null,null,"(11)"," ⑪欄",null,"(10)の量のうち、優良認定処理業者（廃棄物の処理及び清掃に関する法律施行令"]
[null,null,null,"（以下「令」という。）第6条の11第2号に該当する者）への処理委託量"]
[]
[null,null,"(12)"," ⑫欄",null,"(10)の量のうち、処理業者への再生利用委託量"]
[]
[null,null,"(13)"," ⑬欄",null,"(10)の量のうち、認定熱回収施設設置者（廃棄物の処理及び清掃に関する法律第"]
[null,null,null,"15条の3の3第1項の認定を受けた者）である処理業者への焼却処理委託量"]
[]
[null,null,"(14)"," ⑭欄",null,"(10)の量のうち、認定熱回収施設設置者以外の熱回収を行っている処理業者への"]
[null,null,null,"焼却処理委託量"]
[]
[null,"５","　第２面の左下の表には、項目ごとに、特別管理産業廃棄物処理計画に記載したそれぞれの実"]
[null,null,"績値を記入すること。"]
[]
[null,"６","　特別管理産業廃棄物の種類が２以上あるときは、特別管理産業廃棄物の種類ごとに、第２面"]
[null,null,"の例により特別管理産業実績値を廃棄物処理計画の実施状況を明らかにした書面を作成し、"]
[null,null,"当該書面を添付すること。"]
[]
[null,"７","　　「電子情報処理組織の使用に関する事項」の欄には、前々年度及び前年度における特別管理"]
[null,null,"産業廃棄物の排出量（ポリ塩化ビフェニル廃棄物（令第２条の４第５号イからハまでに掲げる"]
[null,null,"ものをいう。）を除く。）並びに電子情報処理組織使用義務者にあっては前年度に実施した電子"]
[null,null,"情報処理組織の使用に関する取組（情報処理センターへの登録が困難な場合として廃棄物の処"]
[null,null,"理及び清掃に関する法律施行規則第８条の31の４に該当したときは、その旨及び理由を含む。）"]
[null,null,"について記入すること。"]
[]
[null,"８","　※欄は記入しないこと。"]

{"sheet":"様式第３号","index":9,"n_rows":2000,"n_cols":77,"rows_kept":1125,"cut":true,"hidden":true,"merged":[[1,0,1,4],[1,5,1,14],[1,15,1,16],[1,17,1,18],[1,22,1,25],[1,26,1,29],[1,30,1,33],[1,34,1,37],[1,38,1,41],[1,42,1,45],[1,68,1,73],[1,74,1,75],[2,6,2,9],[2,10,2,14],[2,24,2,25],[2,28,2,29],[2,32,2,33],[2,36,2,37],[2,40,2,41],[2,44,2,45],[1,19,2,19],[1,20,2,20],[1,21,2,21],[1,76,2,76]],"bounds":{"rows_first":500,"rows_last":125,"rows_between":500,"halvings":2}}
["A","I",1]
["報告者",null,null,null,null,"事業所",null,null,null,null,null,null,null,null,null,"業種",null,"産業廃棄物の種類",null,"排出量","単位","管理票の交付枚数","区間１運搬受託",null,null,null,"処分受託",null,null,null,"区間２運搬受託",null,null,null,"区間３運搬受託",null,null,null,"区間４運搬受託",null,null,null,"区間５運搬受託",null,null,null,null,null,null,null,null,null,null,null,null,null,null,null,null,null,null,null,null,null,null,null,"処理開始行","処理終了行","入力チェック条件⑤",null,null,null,null,null,"入力チェック条件④",null,"行入力チェック\n（処理終了行用）"]
["郵便番号","住所","名称","氏名","電話番号","名称","　　　　　　　　　　所在地\n　郵便番号　　　市名　　　　　　住所",null,null,null,"電話番号",null,null,null,null,"ｺｰﾄﾞ","業種名","ｺｰﾄﾞ","名称",null,null,null,"運搬受託者の許可番号","運搬受託者の氏名又は名称","運搬先の\n所在地\n郵便番号　　　住所",null,"処分受託者の許可番号","処分受託者の氏名又は名称","処分場所の\n所在地\n郵便番号　　　住所",null,"運搬受託者の許可番号","運搬受託者の氏名又は名称","運搬先の\n所在地\n郵便番号　　　住所",null,"運搬受託者の許可番号","運搬受託者の氏名又は名称","運搬先の\n所在地\n郵便番号　　　住所",null,"運搬受託者の許可番号","運搬受託者の氏名又は名称","運搬先の\n所在地\n郵便番号　　　住所",null,"運搬受託者の許可番号","運搬受託者の氏名又は名称","運搬先の\n所在地\n郵便番号　　　住所",null,null,null,null,null,null,null,null,null,null,null,null,null,null,null,null,null,null,null,null,null,4,{"$f":"IF(MAX(INDEX((LEN(BY:BY)>0)*ROW(BY:BY),0))=3,\"\",MAX(INDEX((LEN(BY:BY)>0)*ROW(BY:BY),0)))","v":2},{"$f":"IF(MAX(INDEX((LEN(BU:BU)>0)*ROW(BU:BU),0))=3,\"\",MAX(INDEX((LEN(BU:BU)>0)*ROW(BU:BU),0)))","v":""},"普通・特別産廃","事業所名称+\n普通・特別産廃","事業所名称\nUNIQキーWORK","事業所名称\nUNIQキー","排出量合計","運搬先の\n所在地\n郵便番号","運搬先の\n所在地\n住所"]
[{"$f":"IF(F4<>\"\",事業者基本情報!$E$9&事業者基本情報!$F$9&事業者基本情報!$G$9,\"\")","v":""},{"$f":"IF(F4<>\"\",事業者基本情報!$Y$10,\"\")","v":""},{"$f":"IF(F4<>\"\",事業者基本情報!$Y$7,\"\")","v":""},{"$f":"IF(F4<>\"\",事業者基本情報!$Y$8,\"\")","v":""},{"$f":"IF(F4<>\"\",事業者基本情報!$E$11&事業者基本情報!$F$11&事業者基本情報!$G$11&事業者基本情報!$H$11&事業者基本情報!$I$11,\"\")","v":""},null,null,null,"市",null,null,"-",null,"-","",{"$f":"IFERROR(VLOOKUP(Q4,コード表!$B$3:$C$101,2,FALSE),\"\")","v":""},null,{"$f":"IFERROR(VLOOKUP(S4,コード表!$F$7:$G$141,2,FALSE),\"\")","v":""},null,null,"t",null,"","",null,null,null,null,null,null,null,null,null,null,null,null,null,null,null,null,null,null,null,null,null,null,null,null,null,null,null,null,null,null,null,null,null,null,null,null,null,null,null,null,null,null,null,null,null,{"$f":"IFERROR(IF(TRIM(F4)=\"\",\"\",IF(AND(VALUE(TRIM(R4))>=100000,VALUE(TRIM(R4))<7000000),\"普通産廃\",IF(AND(VALUE(TRIM(R4))>=7000000,VALUE(TRIM(R4))<9000000),\"特別産廃\",\"\"))),\"\")","v":""},{"$f":"IF(BR4<>\"\",TRIM(F4)&\"(\"&BR4&\")\",\"\")","v":""},{"$f":"IF(BS4=\"\",\"\",IF(COUNTIF(BS$4:BS4,BS4)=1,ROW(),\"\"))","v":""},{"$f":"IFERROR(INDEX(BS:BS,SMALL(BT:BT,ROW(A1))),\"\")","v":""},{"$f":"IF(BU4=\"\",\"\",IF(SUMIF(BS:BS,BU4,T:T)=0,\"\",SUMIF(BS:BS,BU4,T:T)))","v":""},{"$f":"IF(AS4<>\"\",AS4,IF(AO4<>\"\",AO4,IF(AK4<>\"\",AK4,IF(AG4<>\"\",AG4,IF(Y4<>\"\",Y4,\"\")))))","v":""},"",{"$f":"IF(F4&G4&H4&J4&K4&M4&O4&Q4&S4&T4&V4&W4&X4&Y4&Z4&AA4&AB4&AC4&AD4&AE4&AF4&AG4&AH4&AI4&AJ4&AK4&AL4&AM4&AN4&AO4&AP4&AQ4&AR4&AS4&AT4=\"\",\"\",1)","v":""}]
[{"$f":"IF(F5<>\"\",事業者基本情報!$E$9&事業者基本情報!$F$9&事業者基本情報!$G$9,\"\")","v":""},{"$f":"IF(F5<>\"\",事業者基本情報!$Y$10,\"\")","v":""},{"$f":"IF(F5<>\"\",事業者基本情報!$Y$7,\"\")","v":""},{"$f":"IF(F5<>\"\",事業者基本情報!$Y$8,\"\")","v":""},{"$f":"IF(F5<>\"\",事業者基本情報!$E$11&事業者基本情報!$F$11&事業者基本情報!$G$11&事業者基本情報!$H$11&事業者基本情報!$I$11,\"\")","v":""},null,null,null,"市",null,null,"-",null,"-",null,{"$f":"IFERROR(VLOOKUP(Q5,コード表!$B$3:$C$101,2,FALSE),\"\")","v":""},null,{"$f":"IFERROR(VLOOKUP(S5,コード表!$F$7:$G$141,2,FALSE),\"\")","v":""},null,null,"t",null,"","",null,null,null,null,null,null,null,null,null,null,null,null,null,null,null,null,null,null,null,null,null,null,null,null,null,null,null,null,null,null,null,null,null,null,null,null,null,null,null,null,null,null,null,null,null,"","",{"$f":"IF(BS5=\"\",\"\",IF(COUNTIF(BS$4:BS5,BS5)=1,ROW(),\"\"))","v":""},{"$f":"IFERROR(INDEX(BS:BS,SMALL(BT:BT,ROW(A2))),\"\")","v":""},"","","",""]
[{"$f":"IF(F6<>\"\",事業者基本情報!$E$9&事業者基本情報!$F$9&事業者基本情報!$G$9,\"\")","v":""},{"$f":"IF(F6<>\"\",事業者基本情報!$Y$10,\"\")","v":""},{"$f":"IF(F6<>\"\",事業者基本情報!$Y$7,\"\")","v":""},{"$f":"IF(F6<>\"\",事業者基本情報!$Y$8,\"\")","v":""},{"$f":"IF(F6<>\"\",事業者基本情報!$E$11&事業者基本情報!$F$11&事業者基本情報!$G$11&事業者基本情報!$H$11&事業者基本情報!$I$11,\"\")","v":""},null,null,null,"市",null,null,"-",null,"-",null,{"$f":"IFERROR(VLOOKUP(Q6,コード表!$B$3:$C$101,2,FALSE),\"\")","v":""},null,{"$f":"IFERROR(VLOOKUP(S6,コード表!$F$7:$G$141,2,FALSE),\"\")","v":""},null,null,"t",null,"","",null,null,null,null,null,null,null,null,null,null,null,null,null,null,null,null,null,null,null,null,null,null,null,null,null,null,null,null,null,null,null,null,null,null,null,null,null,null,null,null,null,null,null,null,null,"","",{"$f":"IF(BS6=\"\",\"\",IF(COUNTIF(BS$4:BS6,BS6)=1,ROW(),\"\"))","v":""},{"$f":"IFERROR(INDEX(BS:BS,SMALL(BT:BT,ROW(A3))),\"\")","v":""},"","","",""]
[{"$f":"IF(F7<>\"\",事業者基本情報!$E$9&事業者基本情報!$F$9&事業者基本情報!$G$9,\"\")","v":""},{"$f":"IF(F7<>\"\",事業者基本情報!$Y$10,\"\")","v":""},{"$f":"IF(F7<>\"\",事業者基本情報!$Y$7,\"\")","v":""},{"$f":"IF(F7<>\"\",事業者基本情報!$Y$8,\"\")","v":""},{"$f":"IF(F7<>\"\",事業者基本情報!$E$11&事業者基本情報!$F$11&事業者基本情報!$G$11&事業者基本情報!$H$11&事業者基本情報!$I$11,\"\")","v":""},null,null,null,"市",null,null,"-",null,"-",null,{"$f":"IFERROR(VLOOKUP(Q7,コード表!$B$3:$C$101,2,FALSE),\"\")","v":""},null,{"$f":"IFERROR(VLOOKUP(S7,コード表!$F$7:$G$141,2,FALSE),\"\")","v":""},null,null,"t",null,"","",null,null,null,null,null,null,null,null,null,null,null,null,null,null,null,null,null,null,null,null,null,null,null,null,null,null,null,null,null,null,null,null,null,null,null,null,null,null,null,null,null,null,null,null,null,"","",{"$f":"IF(BS7=\"\",\"\",IF(COUNTIF(BS$4:BS7,BS7)=1,ROW(),\"\"))","v":""},{"$f":"IFERROR(INDEX(BS:BS,SMALL(BT:BT,ROW(A4))),\"\")","v":""},"","","",""]
[{"$f":"IF(F8<>\"\",事業者基本情報!$E$9&事業者基本情報!$F$9&事業者基本情報!$G$9,\"\")","v":""},{"$f":"IF(F8<>\"\",事業者基本情報!$Y$10,\"\")","v":""},{"$f":"IF(F8<>\"\",事業者基本情報!$Y$7,\"\")","v":""},{"$f":"IF(F8<>\"\",事業者基本情報!$Y$8,\"\")","v":""},{"$f":"IF(F8<>\"\",事業者基本情報!$E$11&事業者基本情報!$F$11&事業者基本情報!$G$11&事業者基本情報!$H$11&事業者基本情報!$I$11,\"\")","v":""},null,null,null,"市",null,null,"-",null,"-",null,{"$f":"IFERROR(VLOOKUP(Q8,コード表!$B$3:$C$101,2,FALSE),\"\")","v":""},null,{"$f":"IFERROR(VLOOKUP(S8,コード表!$F$7:$G$141,2,FALSE),\"\")","v":""},null,null,"t",null,"","",null,null,null,null,null,null,null,null,null,null,null,null,null,null,null,null,null,null,null,null,null,null,null,null,null,null,null,null,null,null,null,null,null,null,null,null,null,null,null,null,null,null,null,null,null,"","",{"$f":"IF(BS8=\"\",\"\",IF(COUNTIF(BS$4:BS8,BS8)=1,ROW(),\"\"))","v":""},{"$f":"IFERROR(INDEX(BS:BS,SMALL(BT:BT,ROW(A5))),\"\")","v":""},"","","",""]
[{"$f":"IF(F9<>\"\",事業者基本情報!$E$9&事業者基本情報!$F$9&事業者基本情報!$G$9,\"\")","v":""},{"$f":"IF(F9<>\"\",事業者基本情報!$Y$10,\"\")","v":""},{"$f":"IF(F9<>\"\",事業者基本情報!$Y$7,\"\")","v":""},{"$f":"IF(F9<>\"\",事業者基本情報!$Y$8,\"\")","v":""},{"$f":"IF(F9<>\"\",事業者基本情報!$E$11&事業者基本情報!$F$11&事業者基本情報!$G$11&事業者基本情報!$H$11&事業者基本情報!$I$11,\"\")","v":""},null,null,null,"市",null,null,"-",null,"-",null,{"$f":"IFERROR(VLOOKUP(Q9,コード表!$B$3:$C$101,2,FALSE),\"\")","v":""},null,{"$f":"IFERROR(VLOOKUP(S9,コード表!$F$7:$G$141,2,FALSE),\"\")","v":""},null,null,"t",null,"","",null,null,null,null,null,null,null,null,null,null,null,null,null,null,null,null,null,null,null,null,null,null,null,null,null,null,null,null,null,null,null,null,null,null,null,null,null,null,null,null,null,null,null,null,null,"","",{"$f":"IF(BS9=\"\",\"\",IF(COUNTIF(BS$4:BS9,BS9)=1,ROW(),\"\"))","v":""},{"$f":"IFERROR(INDEX(BS:BS,SMALL(BT:BT,ROW(A6))),\"\")","v":""},"","","",""]
[{"$f":"IF(F10<>\"\",事業者基本情報!$E$9&事業者基本情報!$F$9&事業者基本情報!$G$9,\"\")","v":""},{"$f":"IF(F10<>\"\",事業者基本情報!$Y$10,\"\")","v":""},{"$f":"IF(F10<>\"\",事業者基本情報!$Y$7,\"\")","v":""},{"$f":"IF(F10<>\"\",事業者基本情報!$Y$8,\"\")","v":""},{"$f":"IF(F10<>\"\",事業者基本情報!$E$11&事業者基本情報!$F$11&事業者基本情報!$G$11&事業者基本情報!$H$11&事業者基本情報!$I$11,\"\")","v":""},null,null,null,"市",null,null,"-",null,"-",null,{"$f":"IFERROR(VLOOKUP(Q10,コード表!$B$3:$C$101,2,FALSE),\"\")","v":""},null,{"$f":"IFERROR(VLOOKUP(S10,コード表!$F$7:$G$141,2,FALSE),\"\")","v":""},null,null,"t",null,"","",null,null,null,null,null,null,null,null,null,null,null,null,null,null,null,null,null,null,null,null,null,null,null,null,null,null,null,null,null,null,null,null,null,null,null,null,null,null,null,null,null,null,null,null,null,"","",{"$f":"IF(BS10=\"\",\"\",IF(COUNTIF(BS$4:BS10,BS10)=1,ROW(),\"\"))","v":""},{"$f":"IFERROR(INDEX(BS:BS,SMALL(BT:BT,ROW(A7))),\"\")","v":""},"","","",""]
[{"$f":"IF(F11<>\"\",事業者基本情報!$E$9&事業者基本情報!$F$9&事業者基本情報!$G$9,\"\")","v":""},{"$f":"IF(F11<>\"\",事業者基本情報!$Y$10,\"\")","v":""},{"$f":"IF(F11<>\"\",事業者基本情報!$Y$7,\"\")","v":""},{"$f":"IF(F11<>\"\",事業者基本情報!$Y$8,\"\")","v":""},{"$f":"IF(F11<>\"\",事業者基本情報!$E$11&事業者基本情報!$F$11&事業者基本情報!$G$11&事業者基本情報!$H$11&事業者基本情報!$I$11,\"\")","v":""},null,null,null,"市",null,null,"-",null,"-",null,{"$f":"IFERROR(VLOOKUP(Q11,コード表!$B$3:$C$101,2,FALSE),\"\")","v":""},null,{"$f":"IFERROR(VLOOKUP(S11,コード表!$F$7:$G$141,2,FALSE),\"\")","v":""},null,null,"t",null,"","",null,null,null,null,null,null,null,null,null,null,null,null,null,null,null,null,null,null,null,null,null,null,null,null,null,null,null,null,null,null,null,null,null,null,null,null,null,null,null,null,null,null,null,null,null,"","",{"$f":"IF(BS11=\"\",\"\",IF(COUNTIF(BS$4:BS11,BS11)=1,ROW(),\"\"))","v":""},{"$f":"IFERROR(INDEX(BS:BS,SMALL(BT:BT,ROW(A8))),\"\")","v":""},"","","",""]
[{"$f":"IF(F12<>\"\",事業者基本情報!$E$9&事業者基本情報!$F$9&事業者基本情報!$G$9,\"\")","v":""},{"$f":"IF(F12<>\"\",事業者基本情報!$Y$10,\"\")","v":""},{"$f":"IF(F12<>\"\",事業者基本情報!$Y$7,\"\")","v":""},{"$f":"IF(F12<>\"\",事業者基本情報!$Y$8,\"\")","v":""},{"$f":"IF(F12<>\"\",事業者基本情報!$E$11&事業者基本情報!$F$11&事業者基本情報!$G$11&事業者基本情報!$H$11&事業者基本情報!$I$11,\"\")","v":""},null,null,null,"市",null,null,"-",null,"-",null,{"$f":"IFERROR(VLOOKUP(Q12,コード表!$B$3:$C$101,2,FALSE),\"\")","v":""},null,{"$f":"IFERROR(VLOOKUP(S12,コード表!$F$7:$G$141,2,FALSE),\"\")","v":""},null,null,"t",null,"","",null,null,null,null,null,null,null,null,null,null,null,null,null,null,null,null,null,null,null,null,null,null,null,null,null,null,null,null,null,null,null,null,null,null,null,null,null,null,null,null,null,null,null,null,null,"","",{"$f":"IF(BS12=\"\",\"\",IF(COUNTIF(BS$4:BS12,BS12)=1,ROW(),\"\"))","v":""},{"$f":"IFERROR(INDEX(BS:BS,SMALL(BT:BT,ROW(A9))),\"\")","v":""},"","","",""]
[{"$f":"IF(F13<>\"\",事業者基本情報!$E$9&事業者基本情報!$F$9&事業者基本情報!$G$9,\"\")","v":""},{"$f":"IF(F13<>\"\",事業者基本情報!$Y$10,\"\")","v":""},{"$f":"IF(F13<>\"\",事業者基本情報!$Y$7,\"\")","v":""},{"$f":"IF(F13<>\"\",事業者基本情報!$Y$8,\"\")","v":""},{"$f":"IF(F13<>\"\",事業者基本情報!$E$11&事業者基本情報!$F$11&事業者基本情報!$G$11&事業者基本情報!$H$11&事業者基本情報!$I$11,\"\")","v":""},null,null,null,"市",null,null,"-",null,"-",null,{"$f":"IFERROR(VLOOKUP(Q13,コード表!$B$3:$C$101,2,FALSE),\"\")","v":""},null,{"$f":"IFERROR(VLOOKUP(S13,コード表!$F$7:$G$141,2,FALSE),\"\")","v":""},null,null,"t",null,"","",null,null,null,null,null,null,null,null,null,null,null,null,null,null,null,null,null,null,null,null,null,null,null,null,null,null,null,null,null,null,null,null,null,null,null,null,null,null,null,null,null,null,null,null,null,"","",{"$f":"IF(BS13=\"\",\"\",IF(COUNTIF(BS$4:BS13,BS13)=1,ROW(),\"\"))","v":""},{"$f":"IFERROR(INDEX(BS:BS,SMALL(BT:BT,ROW(A10))),\"\")","v":""},"","","",""]
[{"$f":"IF(F14<>\"\",事業者基本情報!$E$9&事業者基本情報!$F$9&事業者基本情報!$G$9,\"\")","v":""},{"$f":"IF(F14<>\"\",事業者基本情報!$Y$10,\"\")","v":""},{"$f":"IF(F14<>\"\",事業者基本情報!$Y$7,\"\")","v":""},{"$f":"IF(F14<>\"\",事業者基本情報!$Y$8,\"\")","v":""},{"$f":"IF(F14<>\"\",事業者基本情報!$E$11&事業者基本情報!$F$11&事業者基本情報!$G$11&事業者基本情報!$H$11&事業者基本情報!$I$11,\"\")","v":""},null,null,null,"市",null,null,"-",null,"-",null,{"$f":"IFERROR(VLOOKUP(Q14,コード表!$B$3:$C$101,2,FALSE),\"\")","v":""},null,{"$f":"IFERROR(VLOOKUP(S14,コード表!$F$7:$G$141,2,FALSE),\"\")","v":""},null,null,"t",null,"","",null,null,null,null,null,null,null,null,null,null,null,null,null,null,null,null,null,null,null,null,null,null,null,null,null,null,null,null,null,null,null,null,null,null,null,null,null,null,null,null,null,null,null,null,null,"","",{"$f":"IF(BS14=\"\",\"\",IF(COUNTIF(BS$4:BS14,BS14)=1,ROW(),\"\"))","v":""},{"$f":"IFERROR(INDEX(BS:BS,SMALL(BT:BT,ROW(A11))),\"\")","v":""},"","","",""]
[{"$f":"IF(F15<>\"\",事業者基本情報!$E$9&事業者基本情報!$F$9&事業者基本情報!$G$9,\"\")","v":""},{"$f":"IF(F15<>\"\",事業者基本情報!$Y$10,\"\")","v":""},{"$f":"IF(F15<>\"\",事業者基本情報!$Y$7,\"\")","v":""},{"$f":"IF(F15<>\"\",事業者基本情報!$Y$8,\"\")","v":""},{"$f":"IF(F15<>\"\",事業者基本情報!$E$11&事業者基本情報!$F$11&事業者基本情報!$G$11&事業者基本情報!$H$11&事業者基本情報!$I$11,\"\")","v":""},null,null,null,"市",null,null,"-",null,"-",null,{"$f":"IFERROR(VLOOKUP(Q15,コード表!$B$3:$C$101,2,FALSE),\"\")","v":""},null,{"$f":"IFERROR(VLOOKUP(S15,コード表!$F$7:$G$141,2,FALSE),\"\")","v":""},null,null,"t",null,"","",null,null,null,null,null,null,null,null,null,null,null,null,null,null,null,null,null,null,null,null,null,null,null,null,null,null,null,null,null,null,null,null,null,null,null,null,null,null,null,null,null,null,null,null,null,"","",{"$f":"IF(BS15=\"\",\"\",IF(COUNTIF(BS$4:BS15,BS15)=1,ROW(),\"\"))","v":""},{"$f":"IFERROR(INDEX(BS:BS,SMALL(BT:BT,ROW(A12))),\"\")","v":""},"","","",""]
[{"$f":"IF(F16<>\"\",事業者基本情報!$E$9&事業者基本情報!$F$9&事業者基本情報!$G$9,\"\")","v":""},{"$f":"IF(F16<>\"\",事業者基本情報!$Y$10,\"\")","v":""},{"$f":"IF(F16<>\"\",事業者基本情報!$Y$7,\"\")","v":""},{"$f":"IF(F16<>\"\",事業者基本情報!$Y$8,\"\")","v":""},{"$f":"IF(F16<>\"\",事業者基本情報!$E$11&事業者基本情報!$F$11&事業者基本情報!$G$11&事業者基本情報!$H$11&事業者基本情報!$I$11,\"\")","v":""},null,null,null,"市",null,null,"-",null,"-",null,{"$f":"IFERROR(VLOOKUP(Q16,コード表!$B$3:$C$101,2,FALSE),\"\")","v":""},null,{"$f":"IFERROR(VLOOKUP(S16,コード表!$F$7:$G$141,2,FALSE),\"\")","v":""},null,null,"t",null,"","",null,null,null,null,null,null,null,null,null,null,null,null,null,null,null,null,null,null,null,null,null,null,null,null,null,null,null,null,null,null,null,null,null,null,null,null,null,null,null,null,null,null,null,null,null,"","",{"$f":"IF(BS16=\"\",\"\",IF(COUNTIF(BS$4:BS16,BS16)=1,ROW(),\"\"))","v":""},{"$f":"IFERROR(INDEX(BS:BS,SMALL(BT:BT,ROW(A13))),\"\")","v":""},"","","",""]
[{"$f":"IF(F17<>\"\",事業者基本情報!$E$9&事業者基本情報!$F$9&事業者基本情報!$G$9,\"\")","v":""},{"$f":"IF(F17<>\"\",事業者基本情報!$Y$10,\"\")","v":""},{"$f":"IF(F17<>\"\",事業者基本情報!$Y$7,\"\")","v":""},{"$f":"IF(F17<>\"\",事業者基本情報!$Y$8,\"\")","v":""},{"$f":"IF(F17<>\"\",事業者基本情報!$E$11&事業者基本情報!$F$11&事業者基本情報!$G$11&事業者基本情報!$H$11&事業者基本情報!$I$11,\"\")","v":""},null,null,null,"市",null,null,"-",null,"-",null,{"$f":"IFERROR(VLOOKUP(Q17,コード表!$B$3:$C$101,2,FALSE),\"\")","v":""},null,{"$f":"IFERROR(VLOOKUP(S17,コード表!$F$7:$G$141,2,FALSE),\"\")","v":""},null,null,"t",null,"","",null,null,null,null,null,null,null,null,null,null,null,null,null,null,null,null,null,null,null,null,null,null,null,null,null,null,null,null,null,null,null,null,null,null,null,null,null,null,null,null,null,null,null,null,null,"","",{"$f":"IF(BS17=\"\",\"\",IF(COUNTIF(BS$4:BS17,BS17)=1,ROW(),\"\"))","v":""},{"$f":"IFERROR(INDEX(BS:BS,SMALL(BT:BT,ROW(A14))),\"\")","v":""},"","","",""]
[{"$f":"IF(F18<>\"\",事業者基本情報!$E$9&事業者基本情報!$F$9&事業者基本情報!$G$9,\"\")","v":""},{"$f":"IF(F18<>\"\",事業者基本情報!$Y$10,\"\")","v":""},{"$f":"IF(F18<>\"\",事業者基本情報!$Y$7,\"\")","v":""},{"$f":"IF(F18<>\"\",事業者基本情報!$Y$8,\"\")","v":""},{"$f":"IF(F18<>\"\",事業者基本情報!$E$11&事業者基本情報!$F$11&事業者基本情報!$G$11&事業者基本情報!$H$11&事業者基本情報!$I$11,\"\")","v":""},null,null,null,"市",null,null,"-",null,"-",null,{"$f":"IFERROR(VLOOKUP(Q18,コード表!$B$3:$C$101,2,FALSE),\"\")","v":""},null,{"$f":"IFERROR(VLOOKUP(S18,コード表!$F$7:$G$141,2,FALSE),\"\")","v":""},null,null,"t",null,"","",null,null,null,null,null,null,null,null,null,null,null,null,null,null,null,null,null,null,null,null,null,null,null,null,null,null,null,null,null,null,null,null,null,null,null,null,null,null,null,null,null,null,null,null,null,"","",{"$f":"IF(BS18=\"\",\"\",IF(COUNTIF(BS$4:BS18,BS18)=1,ROW(),\"\"))","v":""},{"$f":"IFERROR(INDEX(BS:BS,SMALL(BT:BT,ROW(A15))),\"\")","v":""},"","","",""]
[{"$f":"IF(F19<>\"\",事業者基本情報!$E$9&事業者基本情報!$F$9&事業者基本情報!$G$9,\"\")","v":""},{"$f":"IF(F19<>\"\",事業者基本情報!$Y$10,\"\")","v":""},{"$f":"IF(F19<>\"\",事業者基本情報!$Y$7,\"\")","v":""},{"$f":"IF(F19<>\"\",事業者基本情報!$Y$8,\"\")","v":""},{"$f":"IF(F19<>\"\",事業者基本情報!$E$11&事業者基本情報!$F$11&事業者基本情報!$G$11&事業者基本情報!$H$11&事業者基本情報!$I$11,\"\")","v":""},null,null,null,"市",null,null,"-",null,"-",null,{"$f":"IFERROR(VLOOKUP(Q19,コード表!$B$3:$C$101,2,FALSE),\"\")","v":""},null,{"$f":"IFERROR(VLOOKUP(S19,コード表!$F$7:$G$141,2,FALSE),\"\")","v":""},null,null,"t",null,"","",null,null,null,null,null,null,null,null,null,null,null,null,null,null,null,null,null,null,null,null,null,null,null,null,null,null,null,null,null,null,null,null,null,null,null,null,null,null,null,null,null,null,null,null,null,"","",{"$f":"IF(BS19=\"\",\"\",IF(COUNTIF(BS$4:BS19,BS19)=1,ROW(),\"\"))","v":""},{"$f":"IFERROR(INDEX(BS:BS,SMALL(BT:BT,ROW(A16))),\"\")","v":""},"","","",""]
[{"$f":"IF(F20<>\"\",事業者基本情報!$E$9&事業者基本情報!$F$9&事業者基本情報!$G$9,\"\")","v":""},{"$f":"IF(F20<>\"\",事業者基本情報!$Y$10,\"\")","v":""},{"$f":"IF(F20<>\"\",事業者基本情報!$Y$7,\"\")","v":""},{"$f":"IF(F20<>\"\",事業者基本情報!$Y$8,\"\")","v":""},{"$f":"IF(F20<>\"\",事業者基本情報!$E$11&事業者基本情報!$F$11&事業者基本情報!$G$11&事業者基本情報!$H$11&事業者基本情報!$I$11,\"\")","v":""},null,null,null,"市",null,null,"-",null,"-",null,{"$f":"IFERROR(VLOOKUP(Q20,コード表!$B$3:$C$101,2,FALSE),\"\")","v":""},null,{"$f":"IFERROR(VLOOKUP(S20,コード表!$F$7:$G$141,2,FALSE),\"\")","v":""},null,null,"t",null,"","",null,null,null,null,null,null,null,null,null,null,null,null,null,null,null,null,null,null,null,null,null,null,null,null,null,null,null,null,null,null,null,null,null,null,null,null,null,null,null,null,null,null,null,null,null,"","",{"$f":"IF(BS20=\"\",\"\",IF(COUNTIF(BS$4:BS20,BS20)=1,ROW(),\"\"))","v":""},{"$f":"IFERROR(INDEX(BS:BS,SMALL(BT:BT,ROW(A17))),\"\")","v":""},"","","",""]
[{"$f":"IF(F21<>\"\",事業者基本情報!$E$9&事業者基本情報!$F$9&事業者基本情報!$G$9,\"\")","v":""},{"$f":"IF(F21<>\"\",事業者基本情報!$Y$10,\"\")","v":""},{"$f":"IF(F21<>\"\",事業者基本情報!$Y$7,\"\")","v":""},{"$f":"IF(F21<>\"\",事業者基本情報!$Y$8,\"\")","v":""},{"$f":"IF(F21<>\"\",事業者基本情報!$E$11&事業者基本情報!$F$11&事業者基本情報!$G$11&事業者基本情報!$H$11&事業者基本情報!$I$11,\"\")","v":""},null,null,null,"市",null,null,"-",null,"-",null,{"$f":"IFERROR(VLOOKUP(Q21,コード表!$B$3:$C$101,2,FALSE),\"\")","v":""},null,{"$f":"IFERROR(VLOOKUP(S21,コード表!$F$7:$G$141,2,FALSE),\"\")","v":""},null,null,"t",null,"","",null,null,null,null,null,null,null,null,null,null,null,null,null,null,null,null,null,null,null,null,null,null,null,null,null,null,null,null,null,null,null,null,null,null,null,null,null,null,null,null,null,null,null,null,null,"","",{"$f":"IF(BS21=\"\",\"\",IF(COUNTIF(BS$4:BS21,BS21)=1,ROW(),\"\"))","v":""},{"$f":"IFERROR(INDEX(BS:BS,SMALL(BT:BT,ROW(A18))),\"\")","v":""},"","","",""]
[{"$f":"IF(F22<>\"\",事業者基本情報!$E$9&事業者基本情報!$F$9&事業者基本情報!$G$9,\"\")","v":""},{"$f":"IF(F22<>\"\",事業者基本情報!$Y$10,\"\")","v":""},{"$f":"IF(F22<>\"\",事業者基本情報!$Y$7,\"\")","v":""},{"$f":"IF(F22<>\"\",事業者基本情報!$Y$8,\"\")","v":""},{"$f":"IF(F22<>\"\",事業者基本情報!$E$11&事業者基本情報!$F$11&事業者基本情報!$G$11&事業者基本情報!$H$11&事業者基本情報!$I$11,\"\")","v":""},null,null,null,"市",null,null,"-",null,"-",null,{"$f":"IFERROR(VLOOKUP(Q22,コード表!$B$3:$C$101,2,FALSE),\"\")","v":""},null,{"$f":"IFERROR(VLOOKUP(S22,コード表!$F$7:$G$141,2,FALSE),\"\")","v":""},null,null,"t",null,"","",null,null,null,null,null,null,null,null,null,null,null,null,null,null,null,null,null,null,null,null,null,null,null,null,null,null,null,null,null,null,null,null,null,null,null,null,null,null,null,null,null,null,null,null,null,"","",{"$f":"IF(BS22=\"\",\"\",IF(COUNTIF(BS$4:BS22,BS22)=1,ROW(),\"\"))","v":""},{"$f":"IFERROR(INDEX(BS:BS,SMALL(BT:BT,ROW(A19))),\"\")","v":""},"","","",""]
[{"$f":"IF(F23<>\"\",事業者基本情報!$E$9&事業者基本情報!$F$9&事業者基本情報!$G$9,\"\")","v":""},{"$f":"IF(F23<>\"\",事業者基本情報!$Y$10,\"\")","v":""},{"$f":"IF(F23<>\"\",事業者基本情報!$Y$7,\"\")","v":""},{"$f":"IF(F23<>\"\",事業者基本情報!$Y$8,\"\")","v":""},{"$f":"IF(F23<>\"\",事業者基本情報!$E$11&事業者基本情報!$F$11&事業者基本情報!$G$11&事業者基本情報!$H$11&事業者基本情報!$I$11,\"\")","v":""},null,null,null,"市",null,null,"-",null,"-",null,{"$f":"IFERROR(VLOOKUP(Q23,コード表!$B$3:$C$101,2,FALSE),\"\")","v":""},null,{"$f":"IFERROR(VLOOKUP(S23,コード表!$F$7:$G$141,2,FALSE),\"\")","v":""},null,null,"t",null,"","",null,null,null,null,null,null,null,null,null,null,null,null,null,null,null,null,null,null,null,null,null,null,null,null,null,null,null,null,null,null,null,null,null,null,null,null,null,null,null,null,null,null,null,null,null,"","",{"$f":"IF(BS23=\"\",\"\",IF(COUNTIF(BS$4:BS23,BS23)=1,ROW(),\"\"))","v":""},{"$f":"IFERROR(INDEX(BS:BS,SMALL(BT:BT,ROW(A20))),\"\")","v":""},"","","",""]
[{"$f":"IF(F24<>\"\",事業者基本情報!$E$9&事業者基本情報!$F$9&事業者基本情報!$G$9,\"\")","v":""},{"$f":"IF(F24<>\"\",事業者基本情報!$Y$10,\"\")","v":""},{"$f":"IF(F24<>\"\",事業者基本情報!$Y$7,\"\")","v":""},{"$f":"IF(F24<>\"\",事業者基本情報!$Y$8,\"\")","v":""},{"$f":"IF(F24<>\"\",事業者基本情報!$E$11&事業者基本情報!$F$11&事業者基本情報!$G$11&事業者基本情報!$H$11&事業者基本情報!$I$11,\"\")","v":""},null,null,null,"市",null,null,"-",null,"-",null,{"$f":"IFERROR(VLOOKUP(Q24,コード表!$B$3:$C$101,2,FALSE),\"\")","v":""},null,{"$f":"IFERROR(VLOOKUP(S24,コード表!$F$7:$G$141,2,FALSE),\"\")","v":""},null,null,"t",null,"","",null,null,null,null,null,null,null,null,null,null,null,null,null,null,null,null,null,null,null,null,null,null,null,null,null,null,null,null,null,null,null,null,null,null,null,null,null,null,null,null,null,null,null,null,null,"","",{"$f":"IF(BS24=\"\",\"\",IF(COUNTIF(BS$4:BS24,BS24)=1,ROW(),\"\"))","v":""},{"$f":"IFERROR(INDEX(BS:BS,SMALL(BT:BT,ROW(A21))),\"\")","v":""},"","","",""]
[{"$f":"IF(F25<>\"\",事業者基本情報!$E$9&事業者基本情報!$F$9&事業者基本情報!$G$9,\"\")","v":""},{"$f":"IF(F25<>\"\",事業者基本情報!$Y$10,\"\")","v":""},{"$f":"IF(F25<>\"\",事業者基本情報!$Y$7,\"\")","v":""},{"$f":"IF(F25<>\"\",事業者基本情報!$Y$8,\"\")","v":""},{"$f":"IF(F25<>\"\",事業者基本情報!$E$11&事業者基本情報!$F$11&事業者基本情報!$G$11&事業者基本情報!$H$11&事業者基本情報!$I$11,\"\")","v":""},null,null,null,"市",null,null,"-",null,"-",null,{"$f":"IFERROR(VLOOKUP(Q25,コード表!$B$3:$C$101,2,FALSE),\"\")","v":""},null,{"$f":"IFERROR(VLOOKUP(S25,コード表!$F$7:$G$141,2,FALSE),\"\")","v":""},null,null,"t",null,"","",null,null,null,null,null,null,null,null,null,null,null,null,null,null,null,null,null,null,null,null,null,null,null,null,null,null,null,null,null,null,null,null,null,null,null,null,null,null,null,null,null,null,null,null,null,"","",{"$f":"IF(BS25=\"\",\"\",IF(COUNTIF(BS$4:BS25,BS25)=1,ROW(),\"\"))","v":""},{"$f":"IFERROR(INDEX(BS:BS,SMALL(BT:BT,ROW(A22))),\"\")","v":""},"","","",""]
[{"$f":"IF(F26<>\"\",事業者基本情報!$E$9&事業者基本情報!$F$9&事業者基本情報!$G$9,\"\")","v":""},{"$f":"IF(F26<>\"\",事業者基本情報!$Y$10,\"\")","v":""},{"$f":"IF(F26<>\"\",事業者基本情報!$Y$7,\"\")","v":""},{"$f":"IF(F26<>\"\",事業者基本情報!$Y$8,\"\")","v":""},{"$f":"IF(F26<>\"\",事業者基本情報!$E$11&事業者基本情報!$F$11&事業者基本情報!$G$11&事業者基本情報!$H$11&事業者基本情報!$I$11,\"\")","v":""},null,null,null,"市",null,null,"-",null,"-",null,{"$f":"IFERROR(VLOOKUP(Q26,コード表!$B$3:$C$101,2,FALSE),\"\")","v":""},null,{"$f":"IFERROR(VLOOKUP(S26,コード表!$F$7:$G$141,2,FALSE),\"\")","v":""},null,null,"t",null,"","",null,null,null,null,null,null,null,null,null,null,null,null,null,null,null,null,null,null,null,null,null,null,null,null,null,null,null,null,null,null,null,null,null,null,null,null,null,null,null,null,null,null,null,null,null,"","",{"$f":"IF(BS26=\"\",\"\",IF(COUNTIF(BS$4:BS26,BS26)=1,ROW(),\"\"))","v":""},{"$f":"IFERROR(INDEX(BS:BS,SMALL(BT:BT,ROW(A23))),\"\")","v":""},"","","",""]
[{"$f":"IF(F27<>\"\",事業者基本情報!$E$9&事業者基本情報!$F$9&事業者基本情報!$G$9,\"\")","v":""},{"$f":"IF(F27<>\"\",事業者基本情報!$Y$10,\"\")","v":""},{"$f":"IF(F27<>\"\",事業者基本情報!$Y$7,\"\")","v":""},{"$f":"IF(F27<>\"\",事業者基本情報!$Y$8,\"\")","v":""},{"$f":"IF(F27<>\"\",事業者基本情報!$E$11&事業者基本情報!$F$11&事業者基本情報!$G$11&事業者基本情報!$H$11&事業者基本情報!$I$11,\"\")","v":""},null,null,null,"市",null,null,"-",null,"-",null,{"$f":"IFERROR(VLOOKUP(Q27,コード表!$B$3:$C$101,2,FALSE),\"\")","v":""},null,{"$f":"IFERROR(VLOOKUP(S27,コード表!$F$7:$G$141,2,FALSE),\"\")","v":""},null,null,"t",null,"","",null,null,null,null,null,null,null,null,null,null,null,null,null,null,null,null,null,null,null,null,null,null,null,null,null,null,null,null,null,null,null,null,null,null,null,null,null,null,null,null,null,null,null,null,null,"","",{"$f":"IF(BS27=\"\",\"\",IF(COUNTIF(BS$4:BS27,BS27)=1,ROW(),\"\"))","v":""},{"$f":"IFERROR(INDEX(BS:BS,SMALL(BT:BT,ROW(A24))),\"\")","v":""},"","","",""]
[{"$f":"IF(F28<>\"\",事業者基本情報!$E$9&事業者基本情報!$F$9&事業者基本情報!$G$9,\"\")","v":""},{"$f":"IF(F28<>\"\",事業者基本情報!$Y$10,\"\")","v":""},{"$f":"IF(F28<>\"\",事業者基本情報!$Y$7,\"\")","v":""},{"$f":"IF(F28<>\"\",事業者基本情報!$Y$8,\"\")","v":""},{"$f":"IF(F28<>\"\",事業者基本情報!$E$11&事業者基本情報!$F$11&事業者基本情報!$G$11&事業者基本情報!$H$11&事業者基本情報!$I$11,\"\")","v":""},null,null,null,"市",null,null,"-",null,"-",null,{"$f":"IFERROR(VLOOKUP(Q28,コード表!$B$3:$C$101,2,FALSE),\"\")","v":""},null,{"$f":"IFERROR(VLOOKUP(S28,コード表!$F$7:$G$141,2,FALSE),\"\")","v":""},null,null,"t",null,"","",null,null,null,null,null,null,null,null,null,null,null,null,null,null,null,null,null,null,null,null,null,null,null,null,null,null,null,null,null,null,null,null,null,null,null,null,null,null,null,null,null,null,null,null,null,"","",{"$f":"IF(BS28=\"\",\"\",IF(COUNTIF(BS$4:BS28,BS28)=1,ROW(),\"\"))","v":""},{"$f":"IFERROR(INDEX(BS:BS,SMALL(BT:BT,ROW(A25))),\"\")","v":""},"","","",""]
[{"$f":"IF(F29<>\"\",事業者基本情報!$E$9&事業者基本情報!$F$9&事業者基本情報!$G$9,\"\")","v":""},{"$f":"IF(F29<>\"\",事業者基本情報!$Y$10,\"\")","v":""},{"$f":"IF(F29<>\"\",事業者基本情報!$Y$7,\"\")","v":""},{"$f":"IF(F29<>\"\",事業者基本情報!$Y$8,\"\")","v":""},{"$f":"IF(F29<>\"\",事業者基本情報!$E$11&事業者基本情報!$F$11&事業者基本情報!$G$11&事業者基本情報!$H$11&事業者基本情報!$I$11,\"\")","v":""},null,null,null,"市",null,null,"-",null,"-",null,{"$f":"IFERROR(VLOOKUP(Q29,コード表!$B$3:$C$101,2,FALSE),\"\")","v":""},null,{"$f":"IFERROR(VLOOKUP(S29,コード表!$F$7:$G$141,2,FALSE),\"\")","v":""},null,null,"t",null,"","",null,null,null,null,null,null,null,null,null,null,null,null,null,null,null,null,null,null,null,null,null,null,null,null,null,null,null,null,null,null,null,null,null,null,null,null,null,null,null,null,null,null,null,null,null,"","",{"$f":"IF(BS29=\"\",\"\",IF(COUNTIF(BS$4:BS29,BS29)=1,ROW(),\"\"))","v":""},{"$f":"IFERROR(INDEX(BS:BS,SMALL(BT:BT,ROW(A26))),\"\")","v":""},"","","",""]
[{"$f":"IF(F30<>\"\",事業者基本情報!$E$9&事業者基本情報!$F$9&事業者基本情報!$G$9,\"\")","v":""},{"$f":"IF(F30<>\"\",事業者基本情報!$Y$10,\"\")","v":""},{"$f":"IF(F30<>\"\",事業者基本情報!$Y$7,\"\")","v":""},{"$f":"IF(F30<>\"\",事業者基本情報!$Y$8,\"\")","v":""},{"$f":"IF(F30<>\"\",事業者基本情報!$E$11&事業者基本情報!$F$11&事業者基本情報!$G$11&事業者基本情報!$H$11&事業者基本情報!$I$11,\"\")","v":""},null,null,null,"市",null,null,"-",null,"-",null,{"$f":"IFERROR(VLOOKUP(Q30,コード表!$B$3:$C$101,2,FALSE),\"\")","v":""},null,{"$f":"IFERROR(VLOOKUP(S30,コード表!$F$7:$G$141,2,FALSE),\"\")","v":""},null,null,"t",null,"","",null,null,null,null,null,null,null,null,null,null,null,null,null,null,null,null,null,null,null,null,null,null,null,null,null,null,null,null,null,null,null,null,null,null,null,null,null,null,null,null,null,null,null,null,null,"","",{"$f":"IF(BS30=\"\",\"\",IF(COUNTIF(BS$4:BS30,BS30)=1,ROW(),\"\"))","v":""},{"$f":"IFERROR(INDEX(BS:BS,SMALL(BT:BT,ROW(A27))),\"\")","v":""},"","","",""]
[{"$f":"IF(F31<>\"\",事業者基本情報!$E$9&事業者基本情報!$F$9&事業者基本情報!$G$9,\"\")","v":""},{"$f":"IF(F31<>\"\",事業者基本情報!$Y$10,\"\")","v":""},{"$f":"IF(F31<>\"\",事業者基本情報!$Y$7,\"\")","v":""},{"$f":"IF(F31<>\"\",事業者基本情報!$Y$8,\"\")","v":""},{"$f":"IF(F31<>\"\",事業者基本情報!$E$11&事業者基本情報!$F$11&事業者基本情報!$G$11&事業者基本情報!$H$11&事業者基本情報!$I$11,\"\")","v":""},null,null,null,"市",null,null,"-",null,"-",null,{"$f":"IFERROR(VLOOKUP(Q31,コード表!$B$3:$C$101,2,FALSE),\"\")","v":""},null,{"$f":"IFERROR(VLOOKUP(S31,コード表!$F$7:$G$141,2,FALSE),\"\")","v":""},null,null,"t",null,"","",null,null,null,null,null,null,null,null,null,null,null,null,null,null,null,null,null,null,null,null,null,null,null,null,null,null,null,null,null,null,null,null,null,null,null,null,null,null,null,null,null,null,null,null,null,"","",{"$f":"IF(BS31=\"\",\"\",IF(COUNTIF(BS$4:BS31,BS31)=1,ROW(),\"\"))","v":""},{"$f":"IFERROR(INDEX(BS:BS,SMALL(BT:BT,ROW(A28))),\"\")","v":""},"","","",""]
[{"$f":"IF(F32<>\"\",事業者基本情報!$E$9&事業者基本情報!$F$9&事業者基本情報!$G$9,\"\")","v":""},{"$f":"IF(F32<>\"\",事業者基本情報!$Y$10,\"\")","v":""},{"$f":"IF(F32<>\"\",事業者基本情報!$Y$7,\"\")","v":""},{"$f":"IF(F32<>\"\",事業者基本情報!$Y$8,\"\")","v":""},{"$f":"IF(F32<>\"\",事業者基本情報!$E$11&事業者基本情報!$F$11&事業者基本情報!$G$11&事業者基本情報!$H$11&事業者基本情報!$I$11,\"\")","v":""},null,null,null,"市",null,null,"-",null,"-",null,{"$f":"IFERROR(VLOOKUP(Q32,コード表!$B$3:$C$101,2,FALSE),\"\")","v":""},null,{"$f":"IFERROR(VLOOKUP(S32,コード表!$F$7:$G$141,2,FALSE),\"\")","v":""},null,null,"t",null,"","",null,null,null,null,null,null,null,null,null,null,null,null,null,null,null,null,null,null,null,null,null,null,null,null,null,null,null,null,null,null,null,null,null,null,null,null,null,null,null,null,null,null,null,null,null,"","",{"$f":"IF(BS32=\"\",\"\",IF(COUNTIF(BS$4:BS32,BS32)=1,ROW(),\"\"))","v":""},{"$f":"IFERROR(INDEX(BS:BS,SMALL(BT:BT,ROW(A29))),\"\")","v":""},"","","",""]
[{"$f":"IF(F33<>\"\",事業者基本情報!$E$9&事業者基本情報!$F$9&事業者基本情報!$G$9,\"\")","v":""},{"$f":"IF(F33<>\"\",事業者基本情報!$Y$10,\"\")","v":""},{"$f":"IF(F33<>\"\",事業者基本情報!$Y$7,\"\")","v":""},{"$f":"IF(F33<>\"\",事業者基本情報!$Y$8,\"\")","v":""},{"$f":"IF(F33<>\"\",事業者基本情報!$E$11&事業者基本情報!$F$11&事業者基本情報!$G$11&事業者基本情報!$H$11&事業者基本情報!$I$11,\"\")","v":""},null,null,null,"市",null,null,"-",null,"-",null,{"$f":"IFERROR(VLOOKUP(Q33,コード表!$B$3:$C$101,2,FALSE),\"\")","v":""},null,{"$f":"IFERROR(VLOOKUP(S33,コード表!$F$7:$G$141,2,FALSE),\"\")","v":""},null,null,"t",null,"","",null,null,null,null,null,null,null,null,null,null,null,null,null,null,null,null,null,null,null,null,null,null,null,null,null,null,null,null,null,null,null,null,null,null,null,null,null,null,null,null,null,null,null,null,null,"","",{"$f":"IF(BS33=\"\",\"\",IF(COUNTIF(BS$4:BS33,BS33)=1,ROW(),\"\"))","v":""},{"$f":"IFERROR(INDEX(BS:BS,SMALL(BT:BT,ROW(A30))),\"\")","v":""},"","","",""]
[{"$f":"IF(F34<>\"\",事業者基本情報!$E$9&事業者基本情報!$F$9&事業者基本情報!$G$9,\"\")","v":""},{"$f":"IF(F34<>\"\",事業者基本情報!$Y$10,\"\")","v":""},{"$f":"IF(F34<>\"\",事業者基本情報!$Y$7,\"\")","v":""},{"$f":"IF(F34<>\"\",事業者基本情報!$Y$8,\"\")","v":""},{"$f":"IF(F34<>\"\",事業者基本情報!$E$11&事業者基本情報!$F$11&事業者基本情報!$G$11&事業者基本情報!$H$11&事業者基本情報!$I$11,\"\")","v":""},null,null,null,"市",null,null,"-",null,"-",null,{"$f":"IFERROR(VLOOKUP(Q34,コード表!$B$3:$C$101,2,FALSE),\"\")","v":""},null,{"$f":"IFERROR(VLOOKUP(S34,コード表!$F$7:$G$141,2,FALSE),\"\")","v":""},null,null,"t",null,"","",null,null,null,null,null,null,null,null,null,null,null,null,null,null,null,null,null,null,null,null,null,null,null,null,null,null,null,null,null,null,null,null,null,null,null,null,null,null,null,null,null,null,null,null,null,"","",{"$f":"IF(BS34=\"\",\"\",IF(COUNTIF(BS$4:BS34,BS34)=1,ROW(),\"\"))","v":""},{"$f":"IFERROR(INDEX(BS:BS,SMALL(BT:BT,ROW(A31))),\"\")","v":""},"","","",""]
[{"$f":"IF(F35<>\"\",事業者基本情報!$E$9&事業者基本情報!$F$9&事業者基本情報!$G$9,\"\")","v":""},{"$f":"IF(F35<>\"\",事業者基本情報!$Y$10,\"\")","v":""},{"$f":"IF(F35<>\"\",事業者基本情報!$Y$7,\"\")","v":""},{"$f":"IF(F35<>\"\",事業者基本情報!$Y$8,\"\")","v":""},{"$f":"IF(F35<>\"\",事業者基本情報!$E$11&事業者基本情報!$F$11&事業者基本情報!$G$11&事業者基本情報!$H$11&事業者基本情報!$I$11,\"\")","v":""},null,null,null,"市",null,null,"-",null,"-",null,{"$f":"IFERROR(VLOOKUP(Q35,コード表!$B$3:$C$101,2,FALSE),\"\")","v":""},null,{"$f":"IFERROR(VLOOKUP(S35,コード表!$F$7:$G$141,2,FALSE),\"\")","v":""},null,null,"t",null,"","",null,null,null,null,null,null,null,null,null,null,null,null,null,null,null,null,null,null,null,null,null,null,null,null,null,null,null,null,null,null,null,null,null,null,null,null,null,null,null,null,null,null,null,null,null,"","",{"$f":"IF(BS35=\"\",\"\",IF(COUNTIF(BS$4:BS35,BS35)=1,ROW(),\"\"))","v":""},{"$f":"IFERROR(INDEX(BS:BS,SMALL(BT:BT,ROW(A32))),\"\")","v":""},"","","",""]
[{"$f":"IF(F36<>\"\",事業者基本情報!$E$9&事業者基本情報!$F$9&事業者基本情報!$G$9,\"\")","v":""},{"$f":"IF(F36<>\"\",事業者基本情報!$Y$10,\"\")","v":""},{"$f":"IF(F36<>\"\",事業者基本情報!$Y$7,\"\")","v":""},{"$f":"IF(F36<>\"\",事業者基本情報!$Y$8,\"\")","v":""},{"$f":"IF(F36<>\"\",事業者基本情報!$E$11&事業者基本情報!$F$11&事業者基本情報!$G$11&事業者基本情報!$H$11&事業者基本情報!$I$11,\"\")","v":""},null,null,null,"市",null,null,"-",null,"-",null,{"$f":"IFERROR(VLOOKUP(Q36,コード表!$B$3:$C$101,2,FALSE),\"\")","v":""},null,{"$f":"IFERROR(VLOOKUP(S36,コード表!$F$7:$G$141,2,FALSE),\"\")","v":""},null,null,"t",null,"","",null,null,null,null,null,null,null,null,null,null,null,null,null,null,null,null,null,null,null,null,null,null,null,null,null,null,null,null,null,null,null,null,null,null,null,null,null,null,null,null,null,null,null,null,null,"","",{"$f":"IF(BS36=\"\",\"\",IF(COUNTIF(BS$4:BS36,BS36)=1,ROW(),\"\"))","v":""},{"$f":"IFERROR(INDEX(BS:BS,SMALL(BT:BT,ROW(A33))),\"\")","v":""},"","","",""]
[{"$f":"IF(F37<>\"\",事業者基本情報!$E$9&事業者基本情報!$F$9&事業者基本情報!$G$9,\"\")","v":""},{"$f":"IF(F37<>\"\",事業者基本情報!$Y$10,\"\")","v":""},{"$f":"IF(F37<>\"\",事業者基本情報!$Y$7,\"\")","v":""},{"$f":"IF(F37<>\"\",事業者基本情報!$Y$8,\"\")","v":""},{"$f":"IF(F37<>\"\",事業者基本情報!$E$11&事業者基本情報!$F$11&事業者基本情報!$G$11&事業者基本情報!$H$11&事業者基本情報!$I$11,\"\")","v":""},null,null,null,"市",null,null,"-",null,"-",null,{"$f":"IFERROR(VLOOKUP(Q37,コード表!$B$3:$C$101,2,FALSE),\"\")","v":""},null,{"$f":"IFERROR(VLOOKUP(S37,コード表!$F$7:$G$141,2,FALSE),\"\")","v":""},null,null,"t",null,"","",null,null,null,null,null,null,null,null,null,null,null,null,null,null,null,null,null,null,null,null,null,null,null,null,null,null,null,null,null,null,null,null,null,null,null,null,null,null,null,null,null,null,null,null,null,"","",{"$f":"IF(BS37=\"\",\"\",IF(COUNTIF(BS$4:BS37,BS37)=1,ROW(),\"\"))","v":""},{"$f":"IFERROR(INDEX(BS:BS,SMALL(BT:BT,ROW(A34))),\"\")","v":""},"","","",""]
[{"$f":"IF(F38<>\"\",事業者基本情報!$E$9&事業者基本情報!$F$9&事業者基本情報!$G$9,\"\")","v":""},{"$f":"IF(F38<>\"\",事業者基本情報!$Y$10,\"\")","v":""},{"$f":"IF(F38<>\"\",事業者基本情報!$Y$7,\"\")","v":""},{"$f":"IF(F38<>\"\",事業者基本情報!$Y$8,\"\")","v":""},{"$f":"IF(F38<>\"\",事業者基本情報!$E$11&事業者基本情報!$F$11&事業者基本情報!$G$11&事業者基本情報!$H$11&事業者基本情報!$I$11,\"\")","v":""},null,null,null,"市",null,null,"-",null,"-",null,{"$f":"IFERROR(VLOOKUP(Q38,コード表!$B$3:$C$101,2,FALSE),\"\")","v":""},null,{"$f":"IFERROR(VLOOKUP(S38,コード表!$F$7:$G$141,2,FALSE),\"\")","v":""},null,null,"t",null,"","",null,null,null,null,null,null,null,null,null,null,null,null,null,null,null,null,null,null,null,null,null,null,null,null,null,null,null,null,null,null,null,null,null,null,null,null,null,null,null,null,null,null,null,null,null,"","",{"$f":"IF(BS38=\"\",\"\",IF(COUNTIF(BS$4:BS38,BS38)=1,ROW(),\"\"))","v":""},{"$f":"IFERROR(INDEX(BS:BS,SMALL(BT:BT,ROW(A35))),\"\")","v":""},"","","",""]
[{"$f":"IF(F39<>\"\",事業者基本情報!$E$9&事業者基本情報!$F$9&事業者基本情報!$G$9,\"\")","v":""},{"$f":"IF(F39<>\"\",事業者基本情報!$Y$10,\"\")","v":""},{"$f":"IF(F39<>\"\",事業者基本情報!$Y$7,\"\")","v":""},{"$f":"IF(F39<>\"\",事業者基本情報!$Y$8,\"\")","v":""},{"$f":"IF(F39<>\"\",事業者基本情報!$E$11&事業者基本情報!$F$11&事業者基本情報!$G$11&事業者基本情報!$H$11&事業者基本情報!$I$11,\"\")","v":""},null,null,null,"市",null,null,"-",null,"-",null,{"$f":"IFERROR(VLOOKUP(Q39,コード表!$B$3:$C$101,2,FALSE),\"\")","v":""},null,{"$f":"IFERROR(VLOOKUP(S39,コード表!$F$7:$G$141,2,FALSE),\"\")","v":""},null,null,"t",null,"","",null,null,null,null,null,null,null,null,null,null,null,null,null,null,null,null,null,null,null,null,null,null,null,null,null,null,null,null,null,null,null,null,null,null,null,null,null,null,null,null,null,null,null,null,null,"","",{"$f":"IF(BS39=\"\",\"\",IF(COUNTIF(BS$4:BS39,BS39)=1,ROW(),\"\"))","v":""},{"$f":"IFERROR(INDEX(BS:BS,SMALL(BT:BT,ROW(A36))),\"\")","v":""},"","","",""]
[{"$f":"IF(F40<>\"\",事業者基本情報!$E$9&事業者基本情報!$F$9&事業者基本情報!$G$9,\"\")","v":""},{"$f":"IF(F40<>\"\",事業者基本情報!$Y$10,\"\")","v":""},{"$f":"IF(F40<>\"\",事業者基本情報!$Y$7,\"\")","v":""},{"$f":"IF(F40<>\"\",事業者基本情報!$Y$8,\"\")","v":""},{"$f":"IF(F40<>\"\",事業者基本情報!$E$11&事業者基本情報!$F$11&事業者基本情報!$G$11&事業者基本情報!$H$11&事業者基本情報!$I$11,\"\")","v":""},null,null,null,"市",null,null,"-",null,"-",null,{"$f":"IFERROR(VLOOKUP(Q40,コード表!$B$3:$C$101,2,FALSE),\"\")","v":""},null,{"$f":"IFERROR(VLOOKUP(S40,コード表!$F$7:$G$141,2,FALSE),\"\")","v":""},null,null,"t",null,"","",null,null,null,null,null,null,null,null,null,null,null,null,null,null,null,null,null,null,null,null,null,null,null,null,null,null,null,null,null,null,null,null,null,null,null,null,null,null,null,null,null,null,null,null,null,"","",{"$f":"IF(BS40=\"\",\"\",IF(COUNTIF(BS$4:BS40,BS40)=1,ROW(),\"\"))","v":""},{"$f":"IFERROR(INDEX(BS:BS,SMALL(BT:BT,ROW(A37))),\"\")","v":""},"","","",""]
[{"$f":"IF(F41<>\"\",事業者基本情報!$E$9&事業者基本情報!$F$9&事業者基本情報!$G$9,\"\")","v":""},{"$f":"IF(F41<>\"\",事業者基本情報!$Y$10,\"\")","v":""},{"$f":"IF(F41<>\"\",事業者基本情報!$Y$7,\"\")","v":""},{"$f":"IF(F41<>\"\",事業者基本情報!$Y$8,\"\")","v":""},{"$f":"IF(F41<>\"\",事業者基本情報!$E$11&事業者基本情報!$F$11&事業者基本情報!$G$11&事業者基本情報!$H$11&事業者基本情報!$I$11,\"\")","v":""},null,null,null,"市",null,null,"-",null,"-",null,{"$f":"IFERROR(VLOOKUP(Q41,コード表!$B$3:$C$101,2,FALSE),\"\")","v":""},null,{"$f":"IFERROR(VLOOKUP(S41,コード表!$F$7:$G$141,2,FALSE),\"\")","v":""},null,null,"t",null,"","",null,null,null,null,null,null,null,null,null,null,null,null,null,null,null,null,null,null,null,null,null,null,null,null,null,null,null,null,null,null,null,null,null,null,null,null,null,null,null,null,null,null,null,null,null,"","",{"$f":"IF(BS41=\"\",\"\",IF(COUNTIF(BS$4:BS41,BS41)=1,ROW(),\"\"))","v":""},{"$f":"IFERROR(INDEX(BS:BS,SMALL(BT:BT,ROW(A38))),\"\")","v":""},"","","",""]
[{"$f":"IF(F42<>\"\",事業者基本情報!$E$9&事業者基本情報!$F$9&事業者基本情報!$G$9,\"\")","v":""},{"$f":"IF(F42<>\"\",事業者基本情報!$Y$10,\"\")","v":""},{"$f":"IF(F42<>\"\",事業者基本情報!$Y$7,\"\")","v":""},{"$f":"IF(F42<>\"\",事業者基本情報!$Y$8,\"\")","v":""},{"$f":"IF(F42<>\"\",事業者基本情報!$E$11&事業者基本情報!$F$11&事業者基本情報!$G$11&事業者基本情報!$H$11&事業者基本情報!$I$11,\"\")","v":""},null,null,null,"市",null,null,"-",null,"-",null,{"$f":"IFERROR(VLOOKUP(Q42,コード表!$B$3:$C$101,2,FALSE),\"\")","v":""},null,{"$f":"IFERROR(VLOOKUP(S42,コード表!$F$7:$G$141,2,FALSE),\"\")","v":""},null,null,"t",null,"","",null,null,null,null,null,null,null,null,null,null,null,null,null,null,null,null,null,null,null,null,null,null,null,null,null,null,null,null,null,null,null,null,null,null,null,null,null,null,null,null,null,null,null,null,null,"","",{"$f":"IF(BS42=\"\",\"\",IF(COUNTIF(BS$4:BS42,BS42)=1,ROW(),\"\"))","v":""},{"$f":"IFERROR(INDEX(BS:BS,SMALL(BT:BT,ROW(A39))),\"\")","v":""},"","","",""]
[{"$f":"IF(F43<>\"\",事業者基本情報!$E$9&事業者基本情報!$F$9&事業者基本情報!$G$9,\"\")","v":""},{"$f":"IF(F43<>\"\",事業者基本情報!$Y$10,\"\")","v":""},{"$f":"IF(F43<>\"\",事業者基本情報!$Y$7,\"\")","v":""},{"$f":"IF(F43<>\"\",事業者基本情報!$Y$8,\"\")","v":""},{"$f":"IF(F43<>\"\",事業者基本情報!$E$11&事業者基本情報!$F$11&事業者基本情報!$G$11&事業者基本情報!$H$11&事業者基本情報!$I$11,\"\")","v":""},null,null,null,"市",null,null,"-",null,"-",null,{"$f":"IFERROR(VLOOKUP(Q43,コード表!$B$3:$C$101,2,FALSE),\"\")","v":""},null,{"$f":"IFERROR(VLOOKUP(S43,コード表!$F$7:$G$141,2,FALSE),\"\")","v":""},null,null,"t",null,"","",null,null,null,null,null,null,null,null,null,null,null,null,null,null,null,null,null,null,null,null,null,null,null,null,null,null,null,null,null,null,null,null,null,null,null,null,null,null,null,null,null,null,null,null,null,"","",{"$f":"IF(BS43=\"\",\"\",IF(COUNTIF(BS$4:BS43,BS43)=1,ROW(),\"\"))","v":""},{"$f":"IFERROR(INDEX(BS:BS,SMALL(BT:BT,ROW(A40))),\"\")","v":""},"","","",""]
[{"$f":"IF(F44<>\"\",事業者基本情報!$E$9&事業者基本情報!$F$9&事業者基本情報!$G$9,\"\")","v":""},{"$f":"IF(F44<>\"\",事業者基本情報!$Y$10,\"\")","v":""},{"$f":"IF(F44<>\"\",事業者基本情報!$Y$7,\"\")","v":""},{"$f":"IF(F44<>\"\",事業者基本情報!$Y$8,\"\")","v":""},{"$f":"IF(F44<>\"\",事業者基本情報!$E$11&事業者基本情報!$F$11&事業者基本情報!$G$11&事業者基本情報!$H$11&事業者基本情報!$I$11,\"\")","v":""},null,null,null,"市",null,null,"-",null,"-",null,{"$f":"IFERROR(VLOOKUP(Q44,コード表!$B$3:$C$101,2,FALSE),\"\")","v":""},null,{"$f":"IFERROR(VLOOKUP(S44,コード表!$F$7:$G$141,2,FALSE),\"\")","v":""},null,null,"t",null,"","",null,null,null,null,null,null,null,null,null,null,null,null,null,null,null,null,null,null,null,null,null,null,null,null,null,null,null,null,null,null,null,null,null,null,null,null,null,null,null,null,null,null,null,null,null,"","",{"$f":"IF(BS44=\"\",\"\",IF(COUNTIF(BS$4:BS44,BS44)=1,ROW(),\"\"))","v":""},{"$f":"IFERROR(INDEX(BS:BS,SMALL(BT:BT,ROW(A41))),\"\")","v":""},"","","",""]
[{"$f":"IF(F45<>\"\",事業者基本情報!$E$9&事業者基本情報!$F$9&事業者基本情報!$G$9,\"\")","v":""},{"$f":"IF(F45<>\"\",事業者基本情報!$Y$10,\"\")","v":""},{"$f":"IF(F45<>\"\",事業者基本情報!$Y$7,\"\")","v":""},{"$f":"IF(F45<>\"\",事業者基本情報!$Y$8,\"\")","v":""},{"$f":"IF(F45<>\"\",事業者基本情報!$E$11&事業者基本情報!$F$11&事業者基本情報!$G$11&事業者基本情報!$H$11&事業者基本情報!$I$11,\"\")","v":""},null,null,null,"市",null,null,"-",null,"-",null,{"$f":"IFERROR(VLOOKUP(Q45,コード表!$B$3:$C$101,2,FALSE),\"\")","v":""},null,{"$f":"IFERROR(VLOOKUP(S45,コード表!$F$7:$G$141,2,FALSE),\"\")","v":""},null,null,"t",null,"","",null,null,null,null,null,null,null,null,null,null,null,null,null,null,null,null,null,null,null,null,null,null,null,null,null,null,null,null,null,null,null,null,null,null,null,null,null,null,null,null,null,null,null,null,null,"","",{"$f":"IF(BS45=\"\",\"\",IF(COUNTIF(BS$4:BS45,BS45)=1,ROW(),\"\"))","v":""},{"$f":"IFERROR(INDEX(BS:BS,SMALL(BT:BT,ROW(A42))),\"\")","v":""},"","","",""]
[{"$f":"IF(F46<>\"\",事業者基本情報!$E$9&事業者基本情報!$F$9&事業者基本情報!$G$9,\"\")","v":""},{"$f":"IF(F46<>\"\",事業者基本情報!$Y$10,\"\")","v":""},{"$f":"IF(F46<>\"\",事業者基本情報!$Y$7,\"\")","v":""},{"$f":"IF(F46<>\"\",事業者基本情報!$Y$8,\"\")","v":""},{"$f":"IF(F46<>\"\",事業者基本情報!$E$11&事業者基本情報!$F$11&事業者基本情報!$G$11&事業者基本情報!$H$11&事業者基本情報!$I$11,\"\")","v":""},null,null,null,"市",null,null,"-",null,"-",null,{"$f":"IFERROR(VLOOKUP(Q46,コード表!$B$3:$C$101,2,FALSE),\"\")","v":""},null,{"$f":"IFERROR(VLOOKUP(S46,コード表!$F$7:$G$141,2,FALSE),\"\")","v":""},null,null,"t",null,"","",null,null,null,null,null,null,null,null,null,null,null,null,null,null,null,null,null,null,null,null,null,null,null,null,null,null,null,null,null,null,null,null,null,null,null,null,null,null,null,null,null,null,null,null,null,"","",{"$f":"IF(BS46=\"\",\"\",IF(COUNTIF(BS$4:BS46,BS46)=1,ROW(),\"\"))","v":""},{"$f":"IFERROR(INDEX(BS:BS,SMALL(BT:BT,ROW(A43))),\"\")","v":""},"","","",""]
[{"$f":"IF(F47<>\"\",事業者基本情報!$E$9&事業者基本情報!$F$9&事業者基本情報!$G$9,\"\")","v":""},{"$f":"IF(F47<>\"\",事業者基本情報!$Y$10,\"\")","v":""},{"$f":"IF(F47<>\"\",事業者基本情報!$Y$7,\"\")","v":""},{"$f":"IF(F47<>\"\",事業者基本情報!$Y$8,\"\")","v":""},{"$f":"IF(F47<>\"\",事業者基本情報!$E$11&事業者基本情報!$F$11&事業者基本情報!$G$11&事業者基本情報!$H$11&事業者基本情報!$I$11,\"\")","v":""},null,null,null,"市",null,null,"-",null,"-",null,{"$f":"IFERROR(VLOOKUP(Q47,コード表!$B$3:$C$101,2,FALSE),\"\")","v":""},null,{"$f":"IFERROR(VLOOKUP(S47,コード表!$F$7:$G$141,2,FALSE),\"\")","v":""},null,null,"t",null,"","",null,null,null,null,null,null,null,null,null,null,null,null,null,null,null,null,null,null,null,null,null,null,null,null,null,null,null,null,null,null,null,null,null,null,null,null,null,null,null,null,null,null,null,null,null,"","",{"$f":"IF(BS47=\"\",\"\",IF(COUNTIF(BS$4:BS47,BS47)=1,ROW(),\"\"))","v":""},{"$f":"IFERROR(INDEX(BS:BS,SMALL(BT:BT,ROW(A44))),\"\")","v":""},"","","",""]
[{"$f":"IF(F48<>\"\",事業者基本情報!$E$9&事業者基本情報!$F$9&事業者基本情報!$G$9,\"\")","v":""},{"$f":"IF(F48<>\"\",事業者基本情報!$Y$10,\"\")","v":""},{"$f":"IF(F48<>\"\",事業者基本情報!$Y$7,\"\")","v":""},{"$f":"IF(F48<>\"\",事業者基本情報!$Y$8,\"\")","v":""},{"$f":"IF(F48<>\"\",事業者基本情報!$E$11&事業者基本情報!$F$11&事業者基本情報!$G$11&事業者基本情報!$H$11&事業者基本情報!$I$11,\"\")","v":""},null,null,null,"市",null,null,"-",null,"-",null,{"$f":"IFERROR(VLOOKUP(Q48,コード表!$B$3:$C$101,2,FALSE),\"\")","v":""},null,{"$f":"IFERROR(VLOOKUP(S48,コード表!$F$7:$G$141,2,FALSE),\"\")","v":""},null,null,"t",null,"","",null,null,null,null,null,null,null,null,null,null,null,null,null,null,null,null,null,null,null,null,null,null,null,null,null,null,null,null,null,null,null,null,null,null,null,null,null,null,null,null,null,null,null,null,null,"","",{"$f":"IF(BS48=\"\",\"\",IF(COUNTIF(BS$4:BS48,BS48)=1,ROW(),\"\"))","v":""},{"$f":"IFERROR(INDEX(BS:BS,SMALL(BT:BT,ROW(A45))),\"\")","v":""},"","","",""]
[{"$f":"IF(F49<>\"\",事業者基本情報!$E$9&事業者基本情報!$F$9&事業者基本情報!$G$9,\"\")","v":""},{"$f":"IF(F49<>\"\",事業者基本情報!$Y$10,\"\")","v":""},{"$f":"IF(F49<>\"\",事業者基本情報!$Y$7,\"\")","v":""},{"$f":"IF(F49<>\"\",事業者基本情報!$Y$8,\"\")","v":""},{"$f":"IF(F49<>\"\",事業者基本情報!$E$11&事業者基本情報!$F$11&事業者基本情報!$G$11&事業者基本情報!$H$11&事業者基本情報!$I$11,\"\")","v":""},null,null,null,"市",null,null,"-",null,"-",null,{"$f":"IFERROR(VLOOKUP(Q49,コード表!$B$3:$C$101,2,FALSE),\"\")","v":""},null,{"$f":"IFERROR(VLOOKUP(S49,コード表!$F$7:$G$141,2,FALSE),\"\")","v":""},null,null,"t",null,"","",null,null,null,null,null,null,null,null,null,null,null,null,null,null,null,null,null,null,null,null,null,null,null,null,null,null,null,null,null,null,null,null,null,null,null,null,null,null,null,null,null,null,null,null,null,"","",{"$f":"IF(BS49=\"\",\"\",IF(COUNTIF(BS$4:BS49,BS49)=1,ROW(),\"\"))","v":""},{"$f":"IFERROR(INDEX(BS:BS,SMALL(BT:BT,ROW(A46))),\"\")","v":""},"","","",""]
[{"$f":"IF(F50<>\"\",事業者基本情報!$E$9&事業者基本情報!$F$9&事業者基本情報!$G$9,\"\")","v":""},{"$f":"IF(F50<>\"\",事業者基本情報!$Y$10,\"\")","v":""},{"$f":"IF(F50<>\"\",事業者基本情報!$Y$7,\"\")","v":""},{"$f":"IF(F50<>\"\",事業者基本情報!$Y$8,\"\")","v":""},{"$f":"IF(F50<>\"\",事業者基本情報!$E$11&事業者基本情報!$F$11&事業者基本情報!$G$11&事業者基本情報!$H$11&事業者基本情報!$I$11,\"\")","v":""},null,null,null,"市",null,null,"-",null,"-",null,{"$f":"IFERROR(VLOOKUP(Q50,コード表!$B$3:$C$101,2,FALSE),\"\")","v":""},null,{"$f":"IFERROR(VLOOKUP(S50,コード表!$F$7:$G$141,2,FALSE),\"\")","v":""},null,null,"t",null,"","",null,null,null,null,null,null,null,null,null,null,null,null,null,null,null,null,null,null,null,null,null,null,null,null,null,null,null,null,null,null,null,null,null,null,null,null,null,null,null,null,null,null,null,null,null,"","",{"$f":"IF(BS50=\"\",\"\",IF(COUNTIF(BS$4:BS50,BS50)=1,ROW(),\"\"))","v":""},{"$f":"IFERROR(INDEX(BS:BS,SMALL(BT:BT,ROW(A47))),\"\")","v":""},"","","",""]
[{"$f":"IF(F51<>\"\",事業者基本情報!$E$9&事業者基本情報!$F$9&事業者基本情報!$G$9,\"\")","v":""},{"$f":"IF(F51<>\"\",事業者基本情報!$Y$10,\"\")","v":""},{"$f":"IF(F51<>\"\",事業者基本情報!$Y$7,\"\")","v":""},{"$f":"IF(F51<>\"\",事業者基本情報!$Y$8,\"\")","v":""},{"$f":"IF(F51<>\"\",事業者基本情報!$E$11&事業者基本情報!$F$11&事業者基本情報!$G$11&事業者基本情報!$H$11&事業者基本情報!$I$11,\"\")","v":""},null,null,null,"市",null,null,"-",null,"-",null,{"$f":"IFERROR(VLOOKUP(Q51,コード表!$B$3:$C$101,2,FALSE),\"\")","v":""},null,{"$f":"IFERROR(VLOOKUP(S51,コード表!$F$7:$G$141,2,FALSE),\"\")","v":""},null,null,"t",null,"","",null,null,null,null,null,null,null,null,null,null,null,null,null,null,null,null,null,null,null,null,null,null,null,null,null,null,null,null,null,null,null,null,null,null,null,null,null,null,null,null,null,null,null,null,null,"","",{"$f":"IF(BS51=\"\",\"\",IF(COUNTIF(BS$4:BS51,BS51)=1,ROW(),\"\"))","v":""},{"$f":"IFERROR(INDEX(BS:BS,SMALL(BT:BT,ROW(A48))),\"\")","v":""},"","","",""]
[{"$f":"IF(F52<>\"\",事業者基本情報!$E$9&事業者基本情報!$F$9&事業者基本情報!$G$9,\"\")","v":""},{"$f":"IF(F52<>\"\",事業者基本情報!$Y$10,\"\")","v":""},{"$f":"IF(F52<>\"\",事業者基本情報!$Y$7,\"\")","v":""},{"$f":"IF(F52<>\"\",事業者基本情報!$Y$8,\"\")","v":""},{"$f":"IF(F52<>\"\",事業者基本情報!$E$11&事業者基本情報!$F$11&事業者基本情報!$G$11&事業者基本情報!$H$11&事業者基本情報!$I$11,\"\")","v":""},null,null,null,"市",null,null,"-",null,"-",null,{"$f":"IFERROR(VLOOKUP(Q52,コード表!$B$3:$C$101,2,FALSE),\"\")","v":""},null,{"$f":"IFERROR(VLOOKUP(S52,コード表!$F$7:$G$141,2,FALSE),\"\")","v":""},null,null,"t",null,"","",null,null,null,null,null,null,null,null,null,null,null,null,null,null,null,null,null,null,null,null,null,null,null,null,null,null,null,null,null,null,null,null,null,null,null,null,null,null,null,null,null,null,null,null,null,"","",{"$f":"IF(BS52=\"\",\"\",IF(COUNTIF(BS$4:BS52,BS52)=1,ROW(),\"\"))","v":""},{"$f":"IFERROR(INDEX(BS:BS,SMALL(BT:BT,ROW(A49))),\"\")","v":""},"","","",""]
[{"$f":"IF(F53<>\"\",事業者基本情報!$E$9&事業者基本情報!$F$9&事業者基本情報!$G$9,\"\")","v":""},{"$f":"IF(F53<>\"\",事業者基本情報!$Y$10,\"\")","v":""},{"$f":"IF(F53<>\"\",事業者基本情報!$Y$7,\"\")","v":""},{"$f":"IF(F53<>\"\",事業者基本情報!$Y$8,\"\")","v":""},{"$f":"IF(F53<>\"\",事業者基本情報!$E$11&事業者基本情報!$F$11&事業者基本情報!$G$11&事業者基本情報!$H$11&事業者基本情報!$I$11,\"\")","v":""},null,null,null,"市",null,null,"-",null,"-",null,{"$f":"IFERROR(VLOOKUP(Q53,コード表!$B$3:$C$101,2,FALSE),\"\")","v":""},null,{"$f":"IFERROR(VLOOKUP(S53,コード表!$F$7:$G$141,2,FALSE),\"\")","v":""},null,null,"t",null,"","",null,null,null,null,null,null,null,null,null,null,null,null,null,null,null,null,null,null,null,null,null,null,null,null,null,null,null,null,null,null,null,null,null,null,null,null,null,null,null,null,null,null,null,null,null,"","",{"$f":"IF(BS53=\"\",\"\",IF(COUNTIF(BS$4:BS53,BS53)=1,ROW(),\"\"))","v":""},{"$f":"IFERROR(INDEX(BS:BS,SMALL(BT:BT,ROW(A50))),\"\")","v":""},"","","",""]
[{"$f":"IF(F54<>\"\",事業者基本情報!$E$9&事業者基本情報!$F$9&事業者基本情報!$G$9,\"\")","v":""},{"$f":"IF(F54<>\"\",事業者基本情報!$Y$10,\"\")","v":""},{"$f":"IF(F54<>\"\",事業者基本情報!$Y$7,\"\")","v":""},{"$f":"IF(F54<>\"\",事業者基本情報!$Y$8,\"\")","v":""},{"$f":"IF(F54<>\"\",事業者基本情報!$E$11&事業者基本情報!$F$11&事業者基本情報!$G$11&事業者基本情報!$H$11&事業者基本情報!$I$11,\"\")","v":""},null,null,null,"市",null,null,"-",null,"-",null,{"$f":"IFERROR(VLOOKUP(Q54,コード表!$B$3:$C$101,2,FALSE),\"\")","v":""},null,{"$f":"IFERROR(VLOOKUP(S54,コード表!$F$7:$G$141,2,FALSE),\"\")","v":""},null,null,"t",null,"","",null,null,null,null,null,null,null,null,null,null,null,null,null,null,null,null,null,null,null,null,null,null,null,null,null,null,null,null,null,null,null,null,null,null,null,null,null,null,null,null,null,null,null,null,null,"","",{"$f":"IF(BS54=\"\",\"\",IF(COUNTIF(BS$4:BS54,BS54)=1,ROW(),\"\"))","v":""},{"$f":"IFERROR(INDEX(BS:BS,SMALL(BT:BT,ROW(A51))),\"\")","v":""},"","","",""]
[{"$f":"IF(F55<>\"\",事業者基本情報!$E$9&事業者基本情報!$F$9&事業者基本情報!$G$9,\"\")","v":""},{"$f":"IF(F55<>\"\",事業者基本情報!$Y$10,\"\")","v":""},{"$f":"IF(F55<>\"\",事業者基本情報!$Y$7,\"\")","v":""},{"$f":"IF(F55<>\"\",事業者基本情報!$Y$8,\"\")","v":""},{"$f":"IF(F55<>\"\",事業者基本情報!$E$11&事業者基本情報!$F$11&事業者基本情報!$G$11&事業者基本情報!$H$11&事業者基本情報!$I$11,\"\")","v":""},null,null,null,"市",null,null,"-",null,"-",null,{"$f":"IFERROR(VLOOKUP(Q55,コード表!$B$3:$C$101,2,FALSE),\"\")","v":""},null,{"$f":"IFERROR(VLOOKUP(S55,コード表!$F$7:$G$141,2,FALSE),\"\")","v":""},null,null,"t",null,"","",null,null,null,null,null,null,null,null,null,null,null,null,null,null,null,null,null,null,null,null,null,null,null,null,null,null,null,null,null,null,null,null,null,null,null,null,null,null,null,null,null,null,null,null,null,"","",{"$f":"IF(BS55=\"\",\"\",IF(COUNTIF(BS$4:BS55,BS55)=1,ROW(),\"\"))","v":""},{"$f":"IFERROR(INDEX(BS:BS,SMALL(BT:BT,ROW(A52))),\"\")","v":""},"","","",""]
[{"$f":"IF(F56<>\"\",事業者基本情報!$E$9&事業者基本情報!$F$9&事業者基本情報!$G$9,\"\")","v":""},{"$f":"IF(F56<>\"\",事業者基本情報!$Y$10,\"\")","v":""},{"$f":"IF(F56<>\"\",事業者基本情報!$Y$7,\"\")","v":""},{"$f":"IF(F56<>\"\",事業者基本情報!$Y$8,\"\")","v":""},{"$f":"IF(F56<>\"\",事業者基本情報!$E$11&事業者基本情報!$F$11&事業者基本情報!$G$11&事業者基本情報!$H$11&事業者基本情報!$I$11,\"\")","v":""},null,null,null,"市",null,null,"-",null,"-",null,{"$f":"IFERROR(VLOOKUP(Q56,コード表!$B$3:$C$101,2,FALSE),\"\")","v":""},null,{"$f":"IFERROR(VLOOKUP(S56,コード表!$F$7:$G$141,2,FALSE),\"\")","v":""},null,null,"t",null,"","",null,null,null,null,null,null,null,null,null,null,null,null,null,null,null,null,null,null,null,null,null,null,null,null,null,null,null,null,null,null,null,null,null,null,null,null,null,null,null,null,null,null,null,null,null,"","",{"$f":"IF(BS56=\"\",\"\",IF(COUNTIF(BS$4:BS56,BS56)=1,ROW(),\"\"))","v":""},{"$f":"IFERROR(INDEX(BS:BS,SMALL(BT:BT,ROW(A53))),\"\")","v":""},"","","",""]
[{"$f":"IF(F57<>\"\",事業者基本情報!$E$9&事業者基本情報!$F$9&事業者基本情報!$G$9,\"\")","v":""},{"$f":"IF(F57<>\"\",事業者基本情報!$Y$10,\"\")","v":""},{"$f":"IF(F57<>\"\",事業者基本情報!$Y$7,\"\")","v":""},{"$f":"IF(F57<>\"\",事業者基本情報!$Y$8,\"\")","v":""},{"$f":"IF(F57<>\"\",事業者基本情報!$E$11&事業者基本情報!$F$11&事業者基本情報!$G$11&事業者基本情報!$H$11&事業者基本情報!$I$11,\"\")","v":""},null,null,null,"市",null,null,"-",null,"-",null,{"$f":"IFERROR(VLOOKUP(Q57,コード表!$B$3:$C$101,2,FALSE),\"\")","v":""},null,{"$f":"IFERROR(VLOOKUP(S57,コード表!$F$7:$G$141,2,FALSE),\"\")","v":""},null,null,"t",null,"","",null,null,null,null,null,null,null,null,null,null,null,null,null,null,null,null,null,null,null,null,null,null,null,null,null,null,null,null,null,null,null,null,null,null,null,null,null,null,null,null,null,null,null,null,null,"","",{"$f":"IF(BS57=\"\",\"\",IF(COUNTIF(BS$4:BS57,BS57)=1,ROW(),\"\"))","v":""},{"$f":"IFERROR(INDEX(BS:BS,SMALL(BT:BT,ROW(A54))),\"\")","v":""},"","","",""]
[{"$f":"IF(F58<>\"\",事業者基本情報!$E$9&事業者基本情報!$F$9&事業者基本情報!$G$9,\"\")","v":""},{"$f":"IF(F58<>\"\",事業者基本情報!$Y$10,\"\")","v":""},{"$f":"IF(F58<>\"\",事業者基本情報!$Y$7,\"\")","v":""},{"$f":"IF(F58<>\"\",事業者基本情報!$Y$8,\"\")","v":""},{"$f":"IF(F58<>\"\",事業者基本情報!$E$11&事業者基本情報!$F$11&事業者基本情報!$G$11&事業者基本情報!$H$11&事業者基本情報!$I$11,\"\")","v":""},null,null,null,"市",null,null,"-",null,"-",null,{"$f":"IFERROR(VLOOKUP(Q58,コード表!$B$3:$C$101,2,FALSE),\"\")","v":""},null,{"$f":"IFERROR(VLOOKUP(S58,コード表!$F$7:$G$141,2,FALSE),\"\")","v":""},null,null,"t",null,"","",null,null,null,null,null,null,null,null,null,null,null,null,null,null,null,null,null,null,null,null,null,null,null,null,null,null,null,null,null,null,null,null,null,null,null,null,null,null,null,null,null,null,null,null,null,"","",{"$f":"IF(BS58=\"\",\"\",IF(COUNTIF(BS$4:BS58,BS58)=1,ROW(),\"\"))","v":""},{"$f":"IFERROR(INDEX(BS:BS,SMALL(BT:BT,ROW(A55))),\"\")","v":""},"","","",""]
[{"$f":"IF(F59<>\"\",事業者基本情報!$E$9&事業者基本情報!$F$9&事業者基本情報!$G$9,\"\")","v":""},{"$f":"IF(F59<>\"\",事業者基本情報!$Y$10,\"\")","v":""},{"$f":"IF(F59<>\"\",事業者基本情報!$Y$7,\"\")","v":""},{"$f":"IF(F59<>\"\",事業者基本情報!$Y$8,\"\")","v":""},{"$f":"IF(F59<>\"\",事業者基本情報!$E$11&事業者基本情報!$F$11&事業者基本情報!$G$11&事業者基本情報!$H$11&事業者基本情報!$I$11,\"\")","v":""},null,null,null,"市",null,null,"-",null,"-",null,{"$f":"IFERROR(VLOOKUP(Q59,コード表!$B$3:$C$101,2,FALSE),\"\")","v":""},null,{"$f":"IFERROR(VLOOKUP(S59,コード表!$F$7:$G$141,2,FALSE),\"\")","v":""},null,null,"t",null,"","",null,null,null,null,null,null,null,null,null,null,null,null,null,null,null,null,null,null,null,null,null,null,null,null,null,null,null,null,null,null,null,null,null,null,null,null,null,null,null,null,null,null,null,null,null,"","",{"$f":"IF(BS59=\"\",\"\",IF(COUNTIF(BS$4:BS59,BS59)=1,ROW(),\"\"))","v":""},{"$f":"IFERROR(INDEX(BS:BS,SMALL(BT:BT,ROW(A56))),\"\")","v":""},"","","",""]
[{"$f":"IF(F60<>\"\",事業者基本情報!$E$9&事業者基本情報!$F$9&事業者基本情報!$G$9,\"\")","v":""},{"$f":"IF(F60<>\"\",事業者基本情報!$Y$10,\"\")","v":""},{"$f":"IF(F60<>\"\",事業者基本情報!$Y$7,\"\")","v":""},{"$f":"IF(F60<>\"\",事業者基本情報!$Y$8,\"\")","v":""},{"$f":"IF(F60<>\"\",事業者基本情報!$E$11&事業者基本情報!$F$11&事業者基本情報!$G$11&事業者基本情報!$H$11&事業者基本情報!$I$11,\"\")","v":""},null,null,null,"市",null,null,"-",null,"-",null,{"$f":"IFERROR(VLOOKUP(Q60,コード表!$B$3:$C$101,2,FALSE),\"\")","v":""},null,{"$f":"IFERROR(VLOOKUP(S60,コード表!$F$7:$G$141,2,FALSE),\"\")","v":""},null,null,"t",null,"","",null,null,null,null,null,null,null,null,null,null,null,null,null,null,null,null,null,null,null,null,null,null,null,null,null,null,null,null,null,null,null,null,null,null,null,null,null,null,null,null,null,null,null,null,null,"","",{"$f":"IF(BS60=\"\",\"\",IF(COUNTIF(BS$4:BS60,BS60)=1,ROW(),\"\"))","v":""},{"$f":"IFERROR(INDEX(BS:BS,SMALL(BT:BT,ROW(A57))),\"\")","v":""},"","","",""]
[{"$f":"IF(F61<>\"\",事業者基本情報!$E$9&事業者基本情報!$F$9&事業者基本情報!$G$9,\"\")","v":""},{"$f":"IF(F61<>\"\",事業者基本情報!$Y$10,\"\")","v":""},{"$f":"IF(F61<>\"\",事業者基本情報!$Y$7,\"\")","v":""},{"$f":"IF(F61<>\"\",事業者基本情報!$Y$8,\"\")","v":""},{"$f":"IF(F61<>\"\",事業者基本情報!$E$11&事業者基本情報!$F$11&事業者基本情報!$G$11&事業者基本情報!$H$11&事業者基本情報!$I$11,\"\")","v":""},null,null,null,"市",null,null,"-",null,"-",null,{"$f":"IFERROR(VLOOKUP(Q61,コード表!$B$3:$C$101,2,FALSE),\"\")","v":""},null,{"$f":"IFERROR(VLOOKUP(S61,コード表!$F$7:$G$141,2,FALSE),\"\")","v":""},null,null,"t",null,"","",null,null,null,null,null,null,null,null,null,null,null,null,null,null,null,null,null,null,"",null,null,null,null,null,null,null,null,null,null,null,null,null,null,null,null,null,null,null,null,null,null,null,null,null,null,"","",{"$f":"IF(BS61=\"\",\"\",IF(COUNTIF(BS$4:BS61,BS61)=1,ROW(),\"\"))","v":""},{"$f":"IFERROR(INDEX(BS:BS,SMALL(BT:BT,ROW(A58))),\"\")","v":""},"","","",""]
[{"$f":"IF(F62<>\"\",事業者基本情報!$E$9&事業者基本情報!$F$9&事業者基本情報!$G$9,\"\")","v":""},{"$f":"IF(F62<>\"\",事業者基本情報!$Y$10,\"\")","v":""},{"$f":"IF(F62<>\"\",事業者基本情報!$Y$7,\"\")","v":""},{"$f":"IF(F62<>\"\",事業者基本情報!$Y$8,\"\")","v":""},{"$f":"IF(F62<>\"\",事業者基本情報!$E$11&事業者基本情報!$F$11&事業者基本情報!$G$11&事業者基本情報!$H$11&事業者基本情報!$I$11,\"\")","v":""},null,null,null,"市",null,null,"-",null,"-",null,{"$f":"IFERROR(VLOOKUP(Q62,コード表!$B$3:$C$101,2,FALSE),\"\")","v":""},null,{"$f":"IFERROR(VLOOKUP(S62,コード表!$F$7:$G$141,2,FALSE),\"\")","v":""},null,null,"t",null,"","",null,null,null,null,null,null,null,null,null,null,null,null,null,null,null,null,null,null,null,null,null,null,null,null,null,null,null,null,null,null,null,null,null,null,null,null,null,null,null,null,null,null,null,null,null,"","",{"$f":"IF(BS62=\"\",\"\",IF(COUNTIF(BS$4:BS62,BS62)=1,ROW(),\"\"))","v":""},{"$f":"IFERROR(INDEX(BS:BS,SMALL(BT:BT,ROW(A59))),\"\")","v":""},"","","",""]
[{"$f":"IF(F63<>\"\",事業者基本情報!$E$9&事業者基本情報!$F$9&事業者基本情報!$G$9,\"\")","v":""},{"$f":"IF(F63<>\"\",事業者基本情報!$Y$10,\"\")","v":""},{"$f":"IF(F63<>\"\",事業者基本情報!$Y$7,\"\")","v":""},{"$f":"IF(F63<>\"\",事業者基本情報!$Y$8,\"\")","v":""},{"$f":"IF(F63<>\"\",事業者基本情報!$E$11&事業者基本情報!$F$11&事業者基本情報!$G$11&事業者基本情報!$H$11&事業者基本情報!$I$11,\"\")","v":""},null,null,null,"市",null,null,"-",null,"-",null,{"$f":"IFERROR(VLOOKUP(Q63,コード表!$B$3:$C$101,2,FALSE),\"\")","v":""},null,{"$f":"IFERROR(VLOOKUP(S63,コード表!$F$7:$G$141,2,FALSE),\"\")","v":""},null,null,"t",null,null,null,null,null,null,null,null,null,null,null,null,null,null,null,null,null,null,null,null,null,null,null,null,null,null,null,null,null,null,null,null,null,null,null,null,null,null,null,null,null,null,null,null,null,null,null,null,"","",{"$f":"IF(BS63=\"\",\"\",IF(COUNTIF(BS$4:BS63,BS63)=1,ROW(),\"\"))","v":""},{"$f":"IFERROR(INDEX(BS:BS,SMALL(BT:BT,ROW(A60))),\"\")","v":""},"","","",""]
[{"$f":"IF(F64<>\"\",事業者基本情報!$E$9&事業者基本情報!$F$9&事業者基本情報!$G$9,\"\")","v":""},{"$f":"IF(F64<>\"\",事業者基本情報!$Y$10,\"\")","v":""},{"$f":"IF(F64<>\"\",事業者基本情報!$Y$7,\"\")","v":""},{"$f":"IF(F64<>\"\",事業者基本情報!$Y$8,\"\")","v":""},{"$f":"IF(F64<>\"\",事業者基本情報!$E$11&事業者基本情報!$F$11&事業者基本情報!$G$11&事業者基本情報!$H$11&事業者基本情報!$I$11,\"\")","v":""},null,null,null,"市",null,null,"-",null,"-",null,{"$f":"IFERROR(VLOOKUP(Q64,コード表!$B$3:$C$101,2,FALSE),\"\")","v":""},null,{"$f":"IFERROR(VLOOKUP(S64,コード表!$F$7:$G$141,2,FALSE),\"\")","v":""},null,null,"t",null,null,null,null,null,null,null,null,null,null,null,null,null,null,null,null,null,null,null,null,null,null,null,null,null,null,null,null,null,null,null,null,null,null,null,null,null,null,null,null,null,null,null,null,null,null,null,null,"","",{"$f":"IF(BS64=\"\",\"\",IF(COUNTIF(BS$4:BS64,BS64)=1,ROW(),\"\"))","v":""},{"$f":"IFERROR(INDEX(BS:BS,SMALL(BT:BT,ROW(A61))),\"\")","v":""},"","","",""]
[{"$f":"IF(F65<>\"\",事業者基本情報!$E$9&事業者基本情報!$F$9&事業者基本情報!$G$9,\"\")","v":""},{"$f":"IF(F65<>\"\",事業者基本情報!$Y$10,\"\")","v":""},{"$f":"IF(F65<>\"\",事業者基本情報!$Y$7,\"\")","v":""},{"$f":"IF(F65<>\"\",事業者基本情報!$Y$8,\"\")","v":""},{"$f":"IF(F65<>\"\",事業者基本情報!$E$11&事業者基本情報!$F$11&事業者基本情報!$G$11&事業者基本情報!$H$11&事業者基本情報!$I$11,\"\")","v":""},null,null,null,"市",null,null,"-",null,"-",null,{"$f":"IFERROR(VLOOKUP(Q65,コード表!$B$3:$C$101,2,FALSE),\"\")","v":""},null,{"$f":"IFERROR(VLOOKUP(S65,コード表!$F$7:$G$141,2,FALSE),\"\")","v":""},null,null,"t",null,null,null,null,null,null,null,null,null,null,null,null,null,null,null,null,null,null,null,null,null,null,null,null,null,null,null,null,null,null,null,null,null,null,null,null,null,null,null,null,null,null,null,null,null,null,null,null,"","",{"$f":"IF(BS65=\"\",\"\",IF(COUNTIF(BS$4:BS65,BS65)=1,ROW(),\"\"))","v":""},{"$f":"IFERROR(INDEX(BS:BS,SMALL(BT:BT,ROW(A62))),\"\")","v":""},"","","",""]
[{"$f":"IF(F66<>\"\",事業者基本情報!$E$9&事業者基本情報!$F$9&事業者基本情報!$G$9,\"\")","v":""},{"$f":"IF(F66<>\"\",事業者基本情報!$Y$10,\"\")","v":""},{"$f":"IF(F66<>\"\",事業者基本情報!$Y$7,\"\")","v":""},{"$f":"IF(F66<>\"\",事業者基本情報!$Y$8,\"\")","v":""},{"$f":"IF(F66<>\"\",事業者基本情報!$E$11&事業者基本情報!$F$11&事業者基本情報!$G$11&事業者基本情報!$H$11&事業者基本情報!$I$11,\"\")","v":""},null,null,null,"市",null,null,"-",null,"-",null,{"$f":"IFERROR(VLOOKUP(Q66,コード表!$B$3:$C$101,2,FALSE),\"\")","v":""},null,{"$f":"IFERROR(VLOOKUP(S66,コード表!$F$7:$G$141,2,FALSE),\"\")","v":""},null,null,"t",null,null,null,null,null,null,null,null,null,null,null,null,null,null,null,null,null,null,null,null,null,null,null,null,null,null,null,null,null,null,null,null,null,null,null,null,null,null,null,null,null,null,null,null,null,null,null,null,"","",{"$f":"IF(BS66=\"\",\"\",IF(COUNTIF(BS$4:BS66,BS66)=1,ROW(),\"\"))","v":""},{"$f":"IFERROR(INDEX(BS:BS,SMALL(BT:BT,ROW(A63))),\"\")","v":""},"","","",""]
[{"$f":"IF(F67<>\"\",事業者基本情報!$E$9&事業者基本情報!$F$9&事業者基本情報!$G$9,\"\")","v":""},{"$f":"IF(F67<>\"\",事業者基本情報!$Y$10,\"\")","v":""},{"$f":"IF(F67<>\"\",事業者基本情報!$Y$7,\"\")","v":""},{"$f":"IF(F67<>\"\",事業者基本情報!$Y$8,\"\")","v":""},{"$f":"IF(F67<>\"\",事業者基本情報!$E$11&事業者基本情報!$F$11&事業者基本情報!$G$11&事業者基本情報!$H$11&事業者基本情報!$I$11,\"\")","v":""},null,null,null,"市",null,null,"-",null,"-",null,{"$f":"IFERROR(VLOOKUP(Q67,コード表!$B$3:$C$101,2,FALSE),\"\")","v":""},null,{"$f":"IFERROR(VLOOKUP(S67,コード表!$F$7:$G$141,2,FALSE),\"\")","v":""},null,null,"t",null,null,null,null,null,null,null,null,null,null,null,null,null,null,null,null,null,null,null,null,null,null,null,null,null,null,null,null,null,null,null,null,null,null,null,null,null,null,null,null,null,null,null,null,null,null,null,null,"","",{"$f":"IF(BS67=\"\",\"\",IF(COUNTIF(BS$4:BS67,BS67)=1,ROW(),\"\"))","v":""},{"$f":"IFERROR(INDEX(BS:BS,SMALL(BT:BT,ROW(A64))),\"\")","v":""},"","","",""]
[{"$f":"IF(F68<>\"\",事業者基本情報!$E$9&事業者基本情報!$F$9&事業者基本情報!$G$9,\"\")","v":""},{"$f":"IF(F68<>\"\",事業者基本情報!$Y$10,\"\")","v":""},{"$f":"IF(F68<>\"\",事業者基本情報!$Y$7,\"\")","v":""},{"$f":"IF(F68<>\"\",事業者基本情報!$Y$8,\"\")","v":""},{"$f":"IF(F68<>\"\",事業者基本情報!$E$11&事業者基本情報!$F$11&事業者基本情報!$G$11&事業者基本情報!$H$11&事業者基本情報!$I$11,\"\")","v":""},null,null,null,"市",null,null,"-",null,"-",null,{"$f":"IFERROR(VLOOKUP(Q68,コード表!$B$3:$C$101,2,FALSE),\"\")","v":""},null,{"$f":"IFERROR(VLOOKUP(S68,コード表!$F$7:$G$141,2,FALSE),\"\")","v":""},null,null,"t",null,null,null,null,null,null,null,null,null,null,null,null,null,null,null,null,null,null,null,null,null,null,null,null,null,null,null,null,null,null,null,null,null,null,null,null,null,null,null,null,null,null,null,null,null,null,null,null,{"$f":"IFERROR(IF(TRIM(F68)=\"\",\"\",IF(AND(VALUE(TRIM(R68))>=100000,VALUE(TRIM(R68))<7000000),\"普通産廃\",IF(AND(VALUE(TRIM(R68))>=7000000,VALUE(TRIM(R68))<9000000),\"特別産廃\",\"\"))),\"\")","v":""},{"$f":"IF(BR68<>\"\",TRIM(F68)&\"(\"&BR68&\")\",\"\")","v":""},{"$f":"IF(BS68=\"\",\"\",IF(COUNTIF(BS$4:BS68,BS68)=1,ROW(),\"\"))","v":""},{"$f":"IFERROR(INDEX(BS:BS,SMALL(BT:BT,ROW(A65))),\"\")","v":""},{"$f":"IF(BU68=\"\",\"\",IF(SUMIF(BS:BS,BU68,T:T)=0,\"\",SUMIF(BS:BS,BU68,T:T)))","v":""},{"$f":"IF(AS68<>\"\",AS68,IF(AO68<>\"\",AO68,IF(AK68<>\"\",AK68,IF(AG68<>\"\",AG68,IF(Y68<>\"\",Y68,\"\")))))","v":""},"",{"$f":"IF(F68&G68&H68&J68&K68&M68&O68&Q68&S68&T68&V68&W68&X68&Y68&Z68&AA68&AB68&AC68&AD68&AE68&AF68&AG68&AH68&AI68&AJ68&AK68&AL68&AM68&AN68&AO68&AP68&AQ68&AR68&AS68&AT68=\"\",\"\",1)","v":""}]
[{"$f":"IF(F69<>\"\",事業者基本情報!$E$9&事業者基本情報!$F$9&事業者基本情報!$G$9,\"\")","v":""},{"$f":"IF(F69<>\"\",事業者基本情報!$Y$10,\"\")","v":""},{"$f":"IF(F69<>\"\",事業者基本情報!$Y$7,\"\")","v":""},{"$f":"IF(F69<>\"\",事業者基本情報!$Y$8,\"\")","v":""},{"$f":"IF(F69<>\"\",事業者基本情報!$E$11&事業者基本情報!$F$11&事業者基本情報!$G$11&事業者基本情報!$H$11&事業者基本情報!$I$11,\"\")","v":""},null,null,null,"市",null,null,"-",null,"-",null,{"$f":"IFERROR(VLOOKUP(Q69,コード表!$B$3:$C$101,2,FALSE),\"\")","v":""},null,{"$f":"IFERROR(VLOOKUP(S69,コード表!$F$7:$G$141,2,FALSE),\"\")","v":""},null,null,"t",null,null,null,null,null,null,null,null,null,null,null,null,null,null,null,null,null,null,null,null,null,null,null,null,null,null,null,null,null,null,null,null,null,null,null,null,null,null,null,null,null,null,null,null,null,null,null,null,"","",{"$f":"IF(BS69=\"\",\"\",IF(COUNTIF(BS$4:BS69,BS69)=1,ROW(),\"\"))","v":""},{"$f":"IFERROR(INDEX(BS:BS,SMALL(BT:BT,ROW(A66))),\"\")","v":""},"","","",""]
[{"$f":"IF(F70<>\"\",事業者基本情報!$E$9&事業者基本情報!$F$9&事業者基本情報!$G$9,\"\")","v":""},{"$f":"IF(F70<>\"\",事業者基本情報!$Y$10,\"\")","v":""},{"$f":"IF(F70<>\"\",事業者基本情報!$Y$7,\"\")","v":""},{"$f":"IF(F70<>\"\",事業者基本情報!$Y$8,\"\")","v":""},{"$f":"IF(F70<>\"\",事業者基本情報!$E$11&事業者基本情報!$F$11&事業者基本情報!$G$11&事業者基本情報!$H$11&事業者基本情報!$I$11,\"\")","v":""},null,null,null,"市",null,null,"-",null,"-",null,{"$f":"IFERROR(VLOOKUP(Q70,コード表!$B$3:$C$101,2,FALSE),\"\")","v":""},null,{"$f":"IFERROR(VLOOKUP(S70,コード表!$F$7:$G$141,2,FALSE),\"\")","v":""},null,null,"t",null,null,null,null,null,null,null,null,null,null,null,null,null,null,null,null,null,null,null,null,null,null,null,null,null,null,null,null,null,null,null,null,null,null,null,null,null,null,null,null,null,null,null,null,null,null,null,null,"","",{"$f":"IF(BS70=\"\",\"\",IF(COUNTIF(BS$4:BS70,BS70)=1,ROW(),\"\"))","v":""},{"$f":"IFERROR(INDEX(BS:BS,SMALL(BT:BT,ROW(A67))),\"\")","v":""},"","","",""]
[{"$f":"IF(F71<>\"\",事業者基本情報!$E$9&事業者基本情報!$F$9&事業者基本情報!$G$9,\"\")","v":""},{"$f":"IF(F71<>\"\",事業者基本情報!$Y$10,\"\")","v":""},{"$f":"IF(F71<>\"\",事業者基本情報!$Y$7,\"\")","v":""},{"$f":"IF(F71<>\"\",事業者基本情報!$Y$8,\"\")","v":""},{"$f":"IF(F71<>\"\",事業者基本情報!$E$11&事業者基本情報!$F$11&事業者基本情報!$G$11&事業者基本情報!$H$11&事業者基本情報!$I$11,\"\")","v":""},null,null,null,"市",null,null,"-",null,"-",null,{"$f":"IFERROR(VLOOKUP(Q71,コード表!$B$3:$C$101,2,FALSE),\"\")","v":""},null,{"$f":"IFERROR(VLOOKUP(S71,コード表!$F$7:$G$141,2,FALSE),\"\")","v":""},null,null,"t",null,null,null,null,null,null,null,null,null,null,null,null,null,null,null,null,null,null,null,null,null,null,null,null,null,null,null,null,null,null,null,null,null,null,null,null,null,null,null,null,null,null,null,null,null,null,null,null,"","",{"$f":"IF(BS71=\"\",\"\",IF(COUNTIF(BS$4:BS71,BS71)=1,ROW(),\"\"))","v":""},{"$f":"IFERROR(INDEX(BS:BS,SMALL(BT:BT,ROW(A68))),\"\")","v":""},"","","",""]
[{"$f":"IF(F72<>\"\",事業者基本情報!$E$9&事業者基本情報!$F$9&事業者基本情報!$G$9,\"\")","v":""},{"$f":"IF(F72<>\"\",事業者基本情報!$Y$10,\"\")","v":""},{"$f":"IF(F72<>\"\",事業者基本情報!$Y$7,\"\")","v":""},{"$f":"IF(F72<>\"\",事業者基本情報!$Y$8,\"\")","v":""},{"$f":"IF(F72<>\"\",事業者基本情報!$E$11&事業者基本情報!$F$11&事業者基本情報!$G$11&事業者基本情報!$H$11&事業者基本情報!$I$11,\"\")","v":""},null,null,null,"市",null,null,"-",null,"-",null,{"$f":"IFERROR(VLOOKUP(Q72,コード表!$B$3:$C$101,2,FALSE),\"\")","v":""},null,{"$f":"IFERROR(VLOOKUP(S72,コード表!$F$7:$G$141,2,FALSE),\"\")","v":""},null,null,"t",null,null,null,null,null,null,null,null,null,null,null,null,null,null,null,null,null,null,null,null,null,null,null,null,null,null,null,null,null,null,null,null,null,null,null,null,null,null,null,null,null,null,null,null,null,null,null,null,"","",{"$f":"IF(BS72=\"\",\"\",IF(COUNTIF(BS$4:BS72,BS72)=1,ROW(),\"\"))","v":""},{"$f":"IFERROR(INDEX(BS:BS,SMALL(BT:BT,ROW(A69))),\"\")","v":""},"","","",""]
[{"$f":"IF(F73<>\"\",事業者基本情報!$E$9&事業者基本情報!$F$9&事業者基本情報!$G$9,\"\")","v":""},{"$f":"IF(F73<>\"\",事業者基本情報!$Y$10,\"\")","v":""},{"$f":"IF(F73<>\"\",事業者基本情報!$Y$7,\"\")","v":""},{"$f":"IF(F73<>\"\",事業者基本情報!$Y$8,\"\")","v":""},{"$f":"IF(F73<>\"\",事業者基本情報!$E$11&事業者基本情報!$F$11&事業者基本情報!$G$11&事業者基本情報!$H$11&事業者基本情報!$I$11,\"\")","v":""},null,null,null,"市",null,null,"-",null,"-",null,{"$f":"IFERROR(VLOOKUP(Q73,コード表!$B$3:$C$101,2,FALSE),\"\")","v":""},null,{"$f":"IFERROR(VLOOKUP(S73,コード表!$F$7:$G$141,2,FALSE),\"\")","v":""},null,null,"t",null,null,null,null,null,null,null,null,null,null,null,null,null,null,null,null,null,null,null,null,null,null,null,null,null,null,null,null,null,null,null,null,null,null,null,null,null,null,null,null,null,null,null,null,null,null,null,null,"","",{"$f":"IF(BS73=\"\",\"\",IF(COUNTIF(BS$4:BS73,BS73)=1,ROW(),\"\"))","v":""},{"$f":"IFERROR(INDEX(BS:BS,SMALL(BT:BT,ROW(A70))),\"\")","v":""},"","","",""]
[{"$f":"IF(F74<>\"\",事業者基本情報!$E$9&事業者基本情報!$F$9&事業者基本情報!$G$9,\"\")","v":""},{"$f":"IF(F74<>\"\",事業者基本情報!$Y$10,\"\")","v":""},{"$f":"IF(F74<>\"\",事業者基本情報!$Y$7,\"\")","v":""},{"$f":"IF(F74<>\"\",事業者基本情報!$Y$8,\"\")","v":""},{"$f":"IF(F74<>\"\",事業者基本情報!$E$11&事業者基本情報!$F$11&事業者基本情報!$G$11&事業者基本情報!$H$11&事業者基本情報!$I$11,\"\")","v":""},null,null,null,"市",null,null,"-",null,"-",null,{"$f":"IFERROR(VLOOKUP(Q74,コード表!$B$3:$C$101,2,FALSE),\"\")","v":""},null,{"$f":"IFERROR(VLOOKUP(S74,コード表!$F$7:$G$141,2,FALSE),\"\")","v":""},null,null,"t",null,null,null,null,null,null,null,null,null,null,null,null,null,null,null,null,null,null,null,null,null,null,null,null,null,null,null,null,null,null,null,null,null,null,null,null,null,null,null,null,null,null,null,null,null,null,null,null,"","",{"$f":"IF(BS74=\"\",\"\",IF(COUNTIF(BS$4:BS74,BS74)=1,ROW(),\"\"))","v":""},{"$f":"IFERROR(INDEX(BS:BS,SMALL(BT:BT,ROW(A71))),\"\")","v":""},"","","",""]
[{"$f":"IF(F75<>\"\",事業者基本情報!$E$9&事業者基本情報!$F$9&事業者基本情報!$G$9,\"\")","v":""},{"$f":"IF(F75<>\"\",事業者基本情報!$Y$10,\"\")","v":""},{"$f":"IF(F75<>\"\",事業者基本情報!$Y$7,\"\")","v":""},{"$f":"IF(F75<>\"\",事業者基本情報!$Y$8,\"\")","v":""},{"$f":"IF(F75<>\"\",事業者基本情報!$E$11&事業者基本情報!$F$11&事業者基本情報!$G$11&事業者基本情報!$H$11&事業者基本情報!$I$11,\"\")","v":""},null,null,null,"市",null,null,"-",null,"-",null,{"$f":"IFERROR(VLOOKUP(Q75,コード表!$B$3:$C$101,2,FALSE),\"\")","v":""},null,{"$f":"IFERROR(VLOOKUP(S75,コード表!$F$7:$G$141,2,FALSE),\"\")","v":""},null,null,"t",null,null,null,null,null,null,null,null,null,null,null,null,null,null,null,null,null,null,null,null,null,null,null,null,null,null,null,null,null,null,null,null,null,null,null,null,null,null,null,null,null,null,null,null,null,null,null,null,"","",{"$f":"IF(BS75=\"\",\"\",IF(COUNTIF(BS$4:BS75,BS75)=1,ROW(),\"\"))","v":""},{"$f":"IFERROR(INDEX(BS:BS,SMALL(BT:BT,ROW(A72))),\"\")","v":""},"","","",""]
[{"$f":"IF(F76<>\"\",事業者基本情報!$E$9&事業者基本情報!$F$9&事業者基本情報!$G$9,\"\")","v":""},{"$f":"IF(F76<>\"\",事業者基本情報!$Y$10,\"\")","v":""},{"$f":"IF(F76<>\"\",事業者基本情報!$Y$7,\"\")","v":""},{"$f":"IF(F76<>\"\",事業者基本情報!$Y$8,\"\")","v":""},{"$f":"IF(F76<>\"\",事業者基本情報!$E$11&事業者基本情報!$F$11&事業者基本情報!$G$11&事業者基本情報!$H$11&事業者基本情報!$I$11,\"\")","v":""},null,null,null,"市",null,null,"-",null,"-",null,{"$f":"IFERROR(VLOOKUP(Q76,コード表!$B$3:$C$101,2,FALSE),\"\")","v":""},null,{"$f":"IFERROR(VLOOKUP(S76,コード表!$F$7:$G$141,2,FALSE),\"\")","v":""},null,null,"t",null,null,null,null,null,null,null,null,null,null,null,null,null,null,null,null,null,null,null,null,null,null,null,null,null,null,null,null,null,null,null,null,null,null,null,null,null,null,null,null,null,null,null,null,null,null,null,null,"","",{"$f":"IF(BS76=\"\",\"\",IF(COUNTIF(BS$4:BS76,BS76)=1,ROW(),\"\"))","v":""},{"$f":"IFERROR(INDEX(BS:BS,SMALL(BT:BT,ROW(A73))),\"\")","v":""},"","","",""]
[{"$f":"IF(F77<>\"\",事業者基本情報!$E$9&事業者基本情報!$F$9&事業者基本情報!$G$9,\"\")","v":""},{"$f":"IF(F77<>\"\",事業者基本情報!$Y$10,\"\")","v":""},{"$f":"IF(F77<>\"\",事業者基本情報!$Y$7,\"\")","v":""},{"$f":"IF(F77<>\"\",事業者基本情報!$Y$8,\"\")","v":""},{"$f":"IF(F77<>\"\",事業者基本情報!$E$11&事業者基本情報!$F$11&事業者基本情報!$G$11&事業者基本情報!$H$11&事業者基本情報!$I$11,\"\")","v":""},null,null,null,"市",null,null,"-",null,"-",null,{"$f":"IFERROR(VLOOKUP(Q77,コード表!$B$3:$C$101,2,FALSE),\"\")","v":""},null,{"$f":"IFERROR(VLOOKUP(S77,コード表!$F$7:$G$141,2,FALSE),\"\")","v":""},null,null,"t",null,null,null,null,null,null,null,null,null,null,null,null,null,null,null,null,null,null,null,null,null,null,null,null,null,null,null,null,null,null,null,null,null,null,null,null,null,null,null,null,null,null,null,null,null,null,null,null,"","",{"$f":"IF(BS77=\"\",\"\",IF(COUNTIF(BS$4:BS77,BS77)=1,ROW(),\"\"))","v":""},{"$f":"IFERROR(INDEX(BS:BS,SMALL(BT:BT,ROW(A74))),\"\")","v":""},"","","",""]
[{"$f":"IF(F78<>\"\",事業者基本情報!$E$9&事業者基本情報!$F$9&事業者基本情報!$G$9,\"\")","v":""},{"$f":"IF(F78<>\"\",事業者基本情報!$Y$10,\"\")","v":""},{"$f":"IF(F78<>\"\",事業者基本情報!$Y$7,\"\")","v":""},{"$f":"IF(F78<>\"\",事業者基本情報!$Y$8,\"\")","v":""},{"$f":"IF(F78<>\"\",事業者基本情報!$E$11&事業者基本情報!$F$11&事業者基本情報!$G$11&事業者基本情報!$H$11&事業者基本情報!$I$11,\"\")","v":""},null,null,null,"市",null,null,"-",null,"-",null,{"$f":"IFERROR(VLOOKUP(Q78,コード表!$B$3:$C$101,2,FALSE),\"\")","v":""},null,{"$f":"IFERROR(VLOOKUP(S78,コード表!$F$7:$G$141,2,FALSE),\"\")","v":""},null,null,"t",null,null,null,null,null,null,null,null,null,null,null,null,null,null,null,null,null,null,null,null,null,null,null,null,null,null,null,null,null,null,null,null,null,null,null,null,null,null,null,null,null,null,null,null,null,null,null,null,"","",{"$f":"IF(BS78=\"\",\"\",IF(COUNTIF(BS$4:BS78,BS78)=1,ROW(),\"\"))","v":""},{"$f":"IFERROR(INDEX(BS:BS,SMALL(BT:BT,ROW(A75))),\"\")","v":""},"","","",""]
[{"$f":"IF(F79<>\"\",事業者基本情報!$E$9&事業者基本情報!$F$9&事業者基本情報!$G$9,\"\")","v":""},{"$f":"IF(F79<>\"\",事業者基本情報!$Y$10,\"\")","v":""},{"$f":"IF(F79<>\"\",事業者基本情報!$Y$7,\"\")","v":""},{"$f":"IF(F79<>\"\",事業者基本情報!$Y$8,\"\")","v":""},{"$f":"IF(F79<>\"\",事業者基本情報!$E$11&事業者基本情報!$F$11&事業者基本情報!$G$11&事業者基本情報!$H$11&事業者基本情報!$I$11,\"\")","v":""},null,null,null,"市",null,null,"-",null,"-",null,{"$f":"IFERROR(VLOOKUP(Q79,コード表!$B$3:$C$101,2,FALSE),\"\")","v":""},null,{"$f":"IFERROR(VLOOKUP(S79,コード表!$F$7:$G$141,2,FALSE),\"\")","v":""},null,null,"t",null,null,null,null,null,null,null,null,null,null,null,null,null,null,null,null,null,null,null,null,null,null,null,null,null,null,null,null,null,null,null,null,null,null,null,null,null,null,null,null,null,null,null,null,null,null,null,null,"","",{"$f":"IF(BS79=\"\",\"\",IF(COUNTIF(BS$4:BS79,BS79)=1,ROW(),\"\"))","v":""},{"$f":"IFERROR(INDEX(BS:BS,SMALL(BT:BT,ROW(A76))),\"\")","v":""},"","","",""]
[{"$f":"IF(F80<>\"\",事業者基本情報!$E$9&事業者基本情報!$F$9&事業者基本情報!$G$9,\"\")","v":""},{"$f":"IF(F80<>\"\",事業者基本情報!$Y$10,\"\")","v":""},{"$f":"IF(F80<>\"\",事業者基本情報!$Y$7,\"\")","v":""},{"$f":"IF(F80<>\"\",事業者基本情報!$Y$8,\"\")","v":""},{"$f":"IF(F80<>\"\",事業者基本情報!$E$11&事業者基本情報!$F$11&事業者基本情報!$G$11&事業者基本情報!$H$11&事業者基本情報!$I$11,\"\")","v":""},null,null,null,"市",null,null,"-",null,"-",null,{"$f":"IFERROR(VLOOKUP(Q80,コード表!$B$3:$C$101,2,FALSE),\"\")","v":""},null,{"$f":"IFERROR(VLOOKUP(S80,コード表!$F$7:$G$141,2,FALSE),\"\")","v":""},null,null,"t",null,null,null,null,null,null,null,null,null,null,null,null,null,null,null,null,null,null,null,null,null,null,null,null,null,null,null,null,null,null,null,null,null,null,null,null,null,null,null,null,null,null,null,null,null,null,null,null,"","",{"$f":"IF(BS80=\"\",\"\",IF(COUNTIF(BS$4:BS80,BS80)=1,ROW(),\"\"))","v":""},{"$f":"IFERROR(INDEX(BS:BS,SMALL(BT:BT,ROW(A77))),\"\")","v":""},"","","",""]
[{"$f":"IF(F81<>\"\",事業者基本情報!$E$9&事業者基本情報!$F$9&事業者基本情報!$G$9,\"\")","v":""},{"$f":"IF(F81<>\"\",事業者基本情報!$Y$10,\"\")","v":""},{"$f":"IF(F81<>\"\",事業者基本情報!$Y$7,\"\")","v":""},{"$f":"IF(F81<>\"\",事業者基本情報!$Y$8,\"\")","v":""},{"$f":"IF(F81<>\"\",事業者基本情報!$E$11&事業者基本情報!$F$11&事業者基本情報!$G$11&事業者基本情報!$H$11&事業者基本情報!$I$11,\"\")","v":""},null,null,null,"市",null,null,"-",null,"-",null,{"$f":"IFERROR(VLOOKUP(Q81,コード表!$B$3:$C$101,2,FALSE),\"\")","v":""},null,{"$f":"IFERROR(VLOOKUP(S81,コード表!$F$7:$G$141,2,FALSE),\"\")","v":""},null,null,"t",null,null,null,null,null,null,null,null,null,null,null,null,null,null,null,null,null,null,null,null,null,null,null,null,null,null,null,null,null,null,null,null,null,null,null,null,null,null,null,null,null,null,null,null,null,null,null,null,"","",{"$f":"IF(BS81=\"\",\"\",IF(COUNTIF(BS$4:BS81,BS81)=1,ROW(),\"\"))","v":""},{"$f":"IFERROR(INDEX(BS:BS,SMALL(BT:BT,ROW(A78))),\"\")","v":""},"","","",""]
[{"$f":"IF(F82<>\"\",事業者基本情報!$E$9&事業者基本情報!$F$9&事業者基本情報!$G$9,\"\")","v":""},{"$f":"IF(F82<>\"\",事業者基本情報!$Y$10,\"\")","v":""},{"$f":"IF(F82<>\"\",事業者基本情報!$Y$7,\"\")","v":""},{"$f":"IF(F82<>\"\",事業者基本情報!$Y$8,\"\")","v":""},{"$f":"IF(F82<>\"\",事業者基本情報!$E$11&事業者基本情報!$F$11&事業者基本情報!$G$11&事業者基本情報!$H$11&事業者基本情報!$I$11,\"\")","v":""},null,null,null,"市",null,null,"-",null,"-",null,{"$f":"IFERROR(VLOOKUP(Q82,コード表!$B$3:$C$101,2,FALSE),\"\")","v":""},null,{"$f":"IFERROR(VLOOKUP(S82,コード表!$F$7:$G$141,2,FALSE),\"\")","v":""},null,null,"t",null,null,null,null,null,null,null,null,null,null,null,null,null,null,null,null,null,null,null,null,null,null,null,null,null,null,null,null,null,null,null,null,null,null,null,null,null,null,null,null,null,null,null,null,null,null,null,null,"","",{"$f":"IF(BS82=\"\",\"\",IF(COUNTIF(BS$4:BS82,BS82)=1,ROW(),\"\"))","v":""},{"$f":"IFERROR(INDEX(BS:BS,SMALL(BT:BT,ROW(A79))),\"\")","v":""},"","","",""]
[{"$f":"IF(F83<>\"\",事業者基本情報!$E$9&事業者基本情報!$F$9&事業者基本情報!$G$9,\"\")","v":""},{"$f":"IF(F83<>\"\",事業者基本情報!$Y$10,\"\")","v":""},{"$f":"IF(F83<>\"\",事業者基本情報!$Y$7,\"\")","v":""},{"$f":"IF(F83<>\"\",事業者基本情報!$Y$8,\"\")","v":""},{"$f":"IF(F83<>\"\",事業者基本情報!$E$11&事業者基本情報!$F$11&事業者基本情報!$G$11&事業者基本情報!$H$11&事業者基本情報!$I$11,\"\")","v":""},null,null,null,"市",null,null,"-",null,"-",null,{"$f":"IFERROR(VLOOKUP(Q83,コード表!$B$3:$C$101,2,FALSE),\"\")","v":""},null,{"$f":"IFERROR(VLOOKUP(S83,コード表!$F$7:$G$141,2,FALSE),\"\")","v":""},null,null,"t",null,null,null,null,null,null,null,null,null,null,null,null,null,null,null,null,null,null,null,null,null,null,null,null,null,null,null,null,null,null,null,null,null,null,null,null,null,null,null,null,null,null,null,null,null,null,null,null,"","",{"$f":"IF(BS83=\"\",\"\",IF(COUNTIF(BS$4:BS83,BS83)=1,ROW(),\"\"))","v":""},{"$f":"IFERROR(INDEX(BS:BS,SMALL(BT:BT,ROW(A80))),\"\")","v":""},"","","",""]
[{"$f":"IF(F84<>\"\",事業者基本情報!$E$9&事業者基本情報!$F$9&事業者基本情報!$G$9,\"\")","v":""},{"$f":"IF(F84<>\"\",事業者基本情報!$Y$10,\"\")","v":""},{"$f":"IF(F84<>\"\",事業者基本情報!$Y$7,\"\")","v":""},{"$f":"IF(F84<>\"\",事業者基本情報!$Y$8,\"\")","v":""},{"$f":"IF(F84<>\"\",事業者基本情報!$E$11&事業者基本情報!$F$11&事業者基本情報!$G$11&事業者基本情報!$H$11&事業者基本情報!$I$11,\"\")","v":""},null,null,null,"市",null,null,"-",null,"-",null,{"$f":"IFERROR(VLOOKUP(Q84,コード表!$B$3:$C$101,2,FALSE),\"\")","v":""},null,{"$f":"IFERROR(VLOOKUP(S84,コード表!$F$7:$G$141,2,FALSE),\"\")","v":""},null,null,"t",null,null,null,null,null,null,null,null,null,null,null,null,null,null,null,null,null,null,null,null,null,null,null,null,null,null,null,null,null,null,null,null,null,null,null,null,null,null,null,null,null,null,null,null,null,null,null,null,"","",{"$f":"IF(BS84=\"\",\"\",IF(COUNTIF(BS$4:BS84,BS84)=1,ROW(),\"\"))","v":""},{"$f":"IFERROR(INDEX(BS:BS,SMALL(BT:BT,ROW(A81))),\"\")","v":""},"","","",""]
[{"$f":"IF(F85<>\"\",事業者基本情報!$E$9&事業者基本情報!$F$9&事業者基本情報!$G$9,\"\")","v":""},{"$f":"IF(F85<>\"\",事業者基本情報!$Y$10,\"\")","v":""},{"$f":"IF(F85<>\"\",事業者基本情報!$Y$7,\"\")","v":""},{"$f":"IF(F85<>\"\",事業者基本情報!$Y$8,\"\")","v":""},{"$f":"IF(F85<>\"\",事業者基本情報!$E$11&事業者基本情報!$F$11&事業者基本情報!$G$11&事業者基本情報!$H$11&事業者基本情報!$I$11,\"\")","v":""},null,null,null,"市",null,null,"-",null,"-",null,{"$f":"IFERROR(VLOOKUP(Q85,コード表!$B$3:$C$101,2,FALSE),\"\")","v":""},null,{"$f":"IFERROR(VLOOKUP(S85,コード表!$F$7:$G$141,2,FALSE),\"\")","v":""},null,null,"t",null,null,null,null,null,null,null,null,null,null,null,null,null,null,null,null,null,null,null,null,null,null,null,null,null,null,null,null,null,null,null,null,null,null,null,null,null,null,null,null,null,null,null,null,null,null,null,null,"","",{"$f":"IF(BS85=\"\",\"\",IF(COUNTIF(BS$4:BS85,BS85)=1,ROW(),\"\"))","v":""},{"$f":"IFERROR(INDEX(BS:BS,SMALL(BT:BT,ROW(A82))),\"\")","v":""},"","","",""]
[{"$f":"IF(F86<>\"\",事業者基本情報!$E$9&事業者基本情報!$F$9&事業者基本情報!$G$9,\"\")","v":""},{"$f":"IF(F86<>\"\",事業者基本情報!$Y$10,\"\")","v":""},{"$f":"IF(F86<>\"\",事業者基本情報!$Y$7,\"\")","v":""},{"$f":"IF(F86<>\"\",事業者基本情報!$Y$8,\"\")","v":""},{"$f":"IF(F86<>\"\",事業者基本情報!$E$11&事業者基本情報!$F$11&事業者基本情報!$G$11&事業者基本情報!$H$11&事業者基本情報!$I$11,\"\")","v":""},null,null,null,"市",null,null,"-",null,"-",null,{"$f":"IFERROR(VLOOKUP(Q86,コード表!$B$3:$C$101,2,FALSE),\"\")","v":""},null,{"$f":"IFERROR(VLOOKUP(S86,コード表!$F$7:$G$141,2,FALSE),\"\")","v":""},null,null,"t",null,null,null,null,null,null,null,null,null,null,null,null,null,null,null,null,null,null,null,null,null,null,null,null,null,null,null,null,null,null,null,null,null,null,null,null,null,null,null,null,null,null,null,null,null,null,null,null,"","",{"$f":"IF(BS86=\"\",\"\",IF(COUNTIF(BS$4:BS86,BS86)=1,ROW(),\"\"))","v":""},{"$f":"IFERROR(INDEX(BS:BS,SMALL(BT:BT,ROW(A83))),\"\")","v":""},"","","",""]
[{"$f":"IF(F87<>\"\",事業者基本情報!$E$9&事業者基本情報!$F$9&事業者基本情報!$G$9,\"\")","v":""},{"$f":"IF(F87<>\"\",事業者基本情報!$Y$10,\"\")","v":""},{"$f":"IF(F87<>\"\",事業者基本情報!$Y$7,\"\")","v":""},{"$f":"IF(F87<>\"\",事業者基本情報!$Y$8,\"\")","v":""},{"$f":"IF(F87<>\"\",事業者基本情報!$E$11&事業者基本情報!$F$11&事業者基本情報!$G$11&事業者基本情報!$H$11&事業者基本情報!$I$11,\"\")","v":""},null,null,null,"市",null,null,"-",null,"-",null,{"$f":"IFERROR(VLOOKUP(Q87,コード表!$B$3:$C$101,2,FALSE),\"\")","v":""},null,{"$f":"IFERROR(VLOOKUP(S87,コード表!$F$7:$G$141,2,FALSE),\"\")","v":""},null,null,"t",null,null,null,null,null,null,null,null,null,null,null,null,null,null,null,null,null,null,null,null,null,null,null,null,null,null,null,null,null,null,null,null,null,null,null,null,null,null,null,null,null,null,null,null,null,null,null,null,"","",{"$f":"IF(BS87=\"\",\"\",IF(COUNTIF(BS$4:BS87,BS87)=1,ROW(),\"\"))","v":""},{"$f":"IFERROR(INDEX(BS:BS,SMALL(BT:BT,ROW(A84))),\"\")","v":""},"","","",""]
[{"$f":"IF(F88<>\"\",事業者基本情報!$E$9&事業者基本情報!$F$9&事業者基本情報!$G$9,\"\")","v":""},{"$f":"IF(F88<>\"\",事業者基本情報!$Y$10,\"\")","v":""},{"$f":"IF(F88<>\"\",事業者基本情報!$Y$7,\"\")","v":""},{"$f":"IF(F88<>\"\",事業者基本情報!$Y$8,\"\")","v":""},{"$f":"IF(F88<>\"\",事業者基本情報!$E$11&事業者基本情報!$F$11&事業者基本情報!$G$11&事業者基本情報!$H$11&事業者基本情報!$I$11,\"\")","v":""},null,null,null,"市",null,null,"-",null,"-",null,{"$f":"IFERROR(VLOOKUP(Q88,コード表!$B$3:$C$101,2,FALSE),\"\")","v":""},null,{"$f":"IFERROR(VLOOKUP(S88,コード表!$F$7:$G$141,2,FALSE),\"\")","v":""},null,null,"t",null,null,null,null,null,null,null,null,null,null,null,null,null,null,null,null,null,null,null,null,null,null,null,null,null,null,null,null,null,null,null,null,null,null,null,null,null,null,null,null,null,null,null,null,null,null,null,null,"","",{"$f":"IF(BS88=\"\",\"\",IF(COUNTIF(BS$4:BS88,BS88)=1,ROW(),\"\"))","v":""},{"$f":"IFERROR(INDEX(BS:BS,SMALL(BT:BT,ROW(A85))),\"\")","v":""},"","","",""]
[{"$f":"IF(F89<>\"\",事業者基本情報!$E$9&事業者基本情報!$F$9&事業者基本情報!$G$9,\"\")","v":""},{"$f":"IF(F89<>\"\",事業者基本情報!$Y$10,\"\")","v":""},{"$f":"IF(F89<>\"\",事業者基本情報!$Y$7,\"\")","v":""},{"$f":"IF(F89<>\"\",事業者基本情報!$Y$8,\"\")","v":""},{"$f":"IF(F89<>\"\",事業者基本情報!$E$11&事業者基本情報!$F$11&事業者基本情報!$G$11&事業者基本情報!$H$11&事業者基本情報!$I$11,\"\")","v":""},null,null,null,"市",null,null,"-",null,"-",null,{"$f":"IFERROR(VLOOKUP(Q89,コード表!$B$3:$C$101,2,FALSE),\"\")","v":""},null,{"$f":"IFERROR(VLOOKUP(S89,コード表!$F$7:$G$141,2,FALSE),\"\")","v":""},null,null,"t",null,null,null,null,null,null,null,null,null,null,null,null,null,null,null,null,null,null,null,null,null,null,null,null,null,null,null,null,null,null,null,null,null,null,null,null,null,null,null,null,null,null,null,null,null,null,null,null,"","",{"$f":"IF(BS89=\"\",\"\",IF(COUNTIF(BS$4:BS89,BS89)=1,ROW(),\"\"))","v":""},{"$f":"IFERROR(INDEX(BS:BS,SMALL(BT:BT,ROW(A86))),\"\")","v":""},"","","",""]
[{"$f":"IF(F90<>\"\",事業者基本情報!$E$9&事業者基本情報!$F$9&事業者基本情報!$G$9,\"\")","v":""},{"$f":"IF(F90<>\"\",事業者基本情報!$Y$10,\"\")","v":""},{"$f":"IF(F90<>\"\",事業者基本情報!$Y$7,\"\")","v":""},{"$f":"IF(F90<>\"\",事業者基本情報!$Y$8,\"\")","v":""},{"$f":"IF(F90<>\"\",事業者基本情報!$E$11&事業者基本情報!$F$11&事業者基本情報!$G$11&事業者基本情報!$H$11&事業者基本情報!$I$11,\"\")","v":""},null,null,null,"市",null,null,"-",null,"-",null,{"$f":"IFERROR(VLOOKUP(Q90,コード表!$B$3:$C$101,2,FALSE),\"\")","v":""},null,{"$f":"IFERROR(VLOOKUP(S90,コード表!$F$7:$G$141,2,FALSE),\"\")","v":""},null,null,"t",null,null,null,null,null,null,null,null,null,null,null,null,null,null,null,null,null,null,null,null,null,null,null,null,null,null,null,null,null,null,null,null,null,null,null,null,null,null,null,null,null,null,null,null,null,null,null,null,"","",{"$f":"IF(BS90=\"\",\"\",IF(COUNTIF(BS$4:BS90,BS90)=1,ROW(),\"\"))","v":""},{"$f":"IFERROR(INDEX(BS:BS,SMALL(BT:BT,ROW(A87))),\"\")","v":""},"","","",""]
[{"$f":"IF(F91<>\"\",事業者基本情報!$E$9&事業者基本情報!$F$9&事業者基本情報!$G$9,\"\")","v":""},{"$f":"IF(F91<>\"\",事業者基本情報!$Y$10,\"\")","v":""},{"$f":"IF(F91<>\"\",事業者基本情報!$Y$7,\"\")","v":""},{"$f":"IF(F91<>\"\",事業者基本情報!$Y$8,\"\")","v":""},{"$f":"IF(F91<>\"\",事業者基本情報!$E$11&事業者基本情報!$F$11&事業者基本情報!$G$11&事業者基本情報!$H$11&事業者基本情報!$I$11,\"\")","v":""},null,null,null,"市",null,null,"-",null,"-",null,{"$f":"IFERROR(VLOOKUP(Q91,コード表!$B$3:$C$101,2,FALSE),\"\")","v":""},null,{"$f":"IFERROR(VLOOKUP(S91,コード表!$F$7:$G$141,2,FALSE),\"\")","v":""},null,null,"t",null,null,null,null,null,null,null,null,null,null,null,null,null,null,null,null,null,null,null,null,null,null,null,null,null,null,null,null,null,null,null,null,null,null,null,null,null,null,null,null,null,null,null,null,null,null,null,null,"","",{"$f":"IF(BS91=\"\",\"\",IF(COUNTIF(BS$4:BS91,BS91)=1,ROW(),\"\"))","v":""},{"$f":"IFERROR(INDEX(BS:BS,SMALL(BT:BT,ROW(A88))),\"\")","v":""},"","","",""]
[{"$f":"IF(F92<>\"\",事業者基本情報!$E$9&事業者基本情報!$F$9&事業者基本情報!$G$9,\"\")","v":""},{"$f":"IF(F92<>\"\",事業者基本情報!$Y$10,\"\")","v":""},{"$f":"IF(F92<>\"\",事業者基本情報!$Y$7,\"\")","v":""},{"$f":"IF(F92<>\"\",事業者基本情報!$Y$8,\"\")","v":""},{"$f":"IF(F92<>\"\",事業者基本情報!$E$11&事業者基本情報!$F$11&事業者基本情報!$G$11&事業者基本情報!$H$11&事業者基本情報!$I$11,\"\")","v":""},null,null,null,"市",null,null,"-",null,"-",null,{"$f":"IFERROR(VLOOKUP(Q92,コード表!$B$3:$C$101,2,FALSE),\"\")","v":""},null,{"$f":"IFERROR(VLOOKUP(S92,コード表!$F$7:$G$141,2,FALSE),\"\")","v":""},null,null,"t",null,null,null,null,null,null,null,null,null,null,null,null,null,null,null,null,null,null,null,null,null,null,null,null,null,null,null,null,null,null,null,null,null,null,null,null,null,null,null,null,null,null,null,null,null,null,null,null,"","",{"$f":"IF(BS92=\"\",\"\",IF(COUNTIF(BS$4:BS92,BS92)=1,ROW(),\"\"))","v":""},{"$f":"IFERROR(INDEX(BS:BS,SMALL(BT:BT,ROW(A89))),\"\")","v":""},"","","",""]
[{"$f":"IF(F93<>\"\",事業者基本情報!$E$9&事業者基本情報!$F$9&事業者基本情報!$G$9,\"\")","v":""},{"$f":"IF(F93<>\"\",事業者基本情報!$Y$10,\"\")","v":""},{"$f":"IF(F93<>\"\",事業者基本情報!$Y$7,\"\")","v":""},{"$f":"IF(F93<>\"\",事業者基本情報!$Y$8,\"\")","v":""},{"$f":"IF(F93<>\"\",事業者基本情報!$E$11&事業者基本情報!$F$11&事業者基本情報!$G$11&事業者基本情報!$H$11&事業者基本情報!$I$11,\"\")","v":""},null,null,null,"市",null,null,"-",null,"-",null,{"$f":"IFERROR(VLOOKUP(Q93,コード表!$B$3:$C$101,2,FALSE),\"\")","v":""},null,{"$f":"IFERROR(VLOOKUP(S93,コード表!$F$7:$G$141,2,FALSE),\"\")","v":""},null,null,"t",null,null,null,null,null,null,null,null,null,null,null,null,null,null,null,null,null,null,null,null,null,null,null,null,null,null,null,null,null,null,null,null,null,null,null,null,null,null,null,null,null,null,null,null,null,null,null,null,"","",{"$f":"IF(BS93=\"\",\"\",IF(COUNTIF(BS$4:BS93,BS93)=1,ROW(),\"\"))","v":""},{"$f":"IFERROR(INDEX(BS:BS,SMALL(BT:BT,ROW(A90))),\"\")","v":""},"","","",""]
[{"$f":"IF(F94<>\"\",事業者基本情報!$E$9&事業者基本情報!$F$9&事業者基本情報!$G$9,\"\")","v":""},{"$f":"IF(F94<>\"\",事業者基本情報!$Y$10,\"\")","v":""},{"$f":"IF(F94<>\"\",事業者基本情報!$Y$7,\"\")","v":""},{"$f":"IF(F94<>\"\",事業者基本情報!$Y$8,\"\")","v":""},{"$f":"IF(F94<>\"\",事業者基本情報!$E$11&事業者基本情報!$F$11&事業者基本情報!$G$11&事業者基本情報!$H$11&事業者基本情報!$I$11,\"\")","v":""},null,null,null,"市",null,null,"-",null,"-",null,{"$f":"IFERROR(VLOOKUP(Q94,コード表!$B$3:$C$101,2,FALSE),\"\")","v":""},null,{"$f":"IFERROR(VLOOKUP(S94,コード表!$F$7:$G$141,2,FALSE),\"\")","v":""},null,null,"t",null,null,null,null,null,null,null,null,null,null,null,null,null,null,null,null,null,null,null,null,null,null,null,null,null,null,null,null,null,null,null,null,null,null,null,null,null,null,null,null,null,null,null,null,null,null,null,null,"","",{"$f":"IF(BS94=\"\",\"\",IF(COUNTIF(BS$4:BS94,BS94)=1,ROW(),\"\"))","v":""},{"$f":"IFERROR(INDEX(BS:BS,SMALL(BT:BT,ROW(A91))),\"\")","v":""},"","","",""]
[{"$f":"IF(F95<>\"\",事業者基本情報!$E$9&事業者基本情報!$F$9&事業者基本情報!$G$9,\"\")","v":""},{"$f":"IF(F95<>\"\",事業者基本情報!$Y$10,\"\")","v":""},{"$f":"IF(F95<>\"\",事業者基本情報!$Y$7,\"\")","v":""},{"$f":"IF(F95<>\"\",事業者基本情報!$Y$8,\"\")","v":""},{"$f":"IF(F95<>\"\",事業者基本情報!$E$11&事業者基本情報!$F$11&事業者基本情報!$G$11&事業者基本情報!$H$11&事業者基本情報!$I$11,\"\")","v":""},null,null,null,"市",null,null,"-",null,"-",null,{"$f":"IFERROR(VLOOKUP(Q95,コード表!$B$3:$C$101,2,FALSE),\"\")","v":""},null,{"$f":"IFERROR(VLOOKUP(S95,コード表!$F$7:$G$141,2,FALSE),\"\")","v":""},null,null,"t",null,null,null,null,null,null,null,null,null,null,null,null,null,null,null,null,null,null,null,null,null,null,null,null,null,null,null,null,null,null,null,null,null,null,null,null,null,null,null,null,null,null,null,null,null,null,null,null,"","",{"$f":"IF(BS95=\"\",\"\",IF(COUNTIF(BS$4:BS95,BS95)=1,ROW(),\"\"))","v":""},{"$f":"IFERROR(INDEX(BS:BS,SMALL(BT:BT,ROW(A92))),\"\")","v":""},"","","",""]
[{"$f":"IF(F96<>\"\",事業者基本情報!$E$9&事業者基本情報!$F$9&事業者基本情報!$G$9,\"\")","v":""},{"$f":"IF(F96<>\"\",事業者基本情報!$Y$10,\"\")","v":""},{"$f":"IF(F96<>\"\",事業者基本情報!$Y$7,\"\")","v":""},{"$f":"IF(F96<>\"\",事業者基本情報!$Y$8,\"\")","v":""},{"$f":"IF(F96<>\"\",事業者基本情報!$E$11&事業者基本情報!$F$11&事業者基本情報!$G$11&事業者基本情報!$H$11&事業者基本情報!$I$11,\"\")","v":""},null,null,null,"市",null,null,"-",null,"-",null,{"$f":"IFERROR(VLOOKUP(Q96,コード表!$B$3:$C$101,2,FALSE),\"\")","v":""},null,{"$f":"IFERROR(VLOOKUP(S96,コード表!$F$7:$G$141,2,FALSE),\"\")","v":""},null,null,"t",null,null,null,null,null,null,null,null,null,null,null,null,null,null,null,null,null,null,null,null,null,null,null,null,null,null,null,null,null,null,null,null,null,null,null,null,null,null,null,null,null,null,null,null,null,null,null,null,"","",{"$f":"IF(BS96=\"\",\"\",IF(COUNTIF(BS$4:BS96,BS96)=1,ROW(),\"\"))","v":""},{"$f":"IFERROR(INDEX(BS:BS,SMALL(BT:BT,ROW(A93))),\"\")","v":""},"","","",""]
[{"$f":"IF(F97<>\"\",事業者基本情報!$E$9&事業者基本情報!$F$9&事業者基本情報!$G$9,\"\")","v":""},{"$f":"IF(F97<>\"\",事業者基本情報!$Y$10,\"\")","v":""},{"$f":"IF(F97<>\"\",事業者基本情報!$Y$7,\"\")","v":""},{"$f":"IF(F97<>\"\",事業者基本情報!$Y$8,\"\")","v":""},{"$f":"IF(F97<>\"\",事業者基本情報!$E$11&事業者基本情報!$F$11&事業者基本情報!$G$11&事業者基本情報!$H$11&事業者基本情報!$I$11,\"\")","v":""},null,null,null,"市",null,null,"-",null,"-",null,{"$f":"IFERROR(VLOOKUP(Q97,コード表!$B$3:$C$101,2,FALSE),\"\")","v":""},null,{"$f":"IFERROR(VLOOKUP(S97,コード表!$F$7:$G$141,2,FALSE),\"\")","v":""},null,null,"t",null,null,null,null,null,null,null,null,null,null,null,null,null,null,null,null,null,null,null,null,null,null,null,null,null,null,null,null,null,null,null,null,null,null,null,null,null,null,null,null,null,null,null,null,null,null,null,null,"","",{"$f":"IF(BS97=\"\",\"\",IF(COUNTIF(BS$4:BS97,BS97)=1,ROW(),\"\"))","v":""},{"$f":"IFERROR(INDEX(BS:BS,SMALL(BT:BT,ROW(A94))),\"\")","v":""},"","","",""]
[{"$f":"IF(F98<>\"\",事業者基本情報!$E$9&事業者基本情報!$F$9&事業者基本情報!$G$9,\"\")","v":""},{"$f":"IF(F98<>\"\",事業者基本情報!$Y$10,\"\")","v":""},{"$f":"IF(F98<>\"\",事業者基本情報!$Y$7,\"\")","v":""},{"$f":"IF(F98<>\"\",事業者基本情報!$Y$8,\"\")","v":""},{"$f":"IF(F98<>\"\",事業者基本情報!$E$11&事業者基本情報!$F$11&事業者基本情報!$G$11&事業者基本情報!$H$11&事業者基本情報!$I$11,\"\")","v":""},null,null,null,"市",null,null,"-",null,"-",null,{"$f":"IFERROR(VLOOKUP(Q98,コード表!$B$3:$C$101,2,FALSE),\"\")","v":""},null,{"$f":"IFERROR(VLOOKUP(S98,コード表!$F$7:$G$141,2,FALSE),\"\")","v":""},null,null,"t",null,null,null,null,null,null,null,null,null,null,null,null,null,null,null,null,null,null,null,null,null,null,null,null,null,null,null,null,null,null,null,null,null,null,null,null,null,null,null,null,null,null,null,null,null,null,null,null,"","",{"$f":"IF(BS98=\"\",\"\",IF(COUNTIF(BS$4:BS98,BS98)=1,ROW(),\"\"))","v":""},{"$f":"IFERROR(INDEX(BS:BS,SMALL(BT:BT,ROW(A95))),\"\")","v":""},"","","",""]
[{"$f":"IF(F99<>\"\",事業者基本情報!$E$9&事業者基本情報!$F$9&事業者基本情報!$G$9,\"\")","v":""},{"$f":"IF(F99<>\"\",事業者基本情報!$Y$10,\"\")","v":""},{"$f":"IF(F99<>\"\",事業者基本情報!$Y$7,\"\")","v":""},{"$f":"IF(F99<>\"\",事業者基本情報!$Y$8,\"\")","v":""},{"$f":"IF(F99<>\"\",事業者基本情報!$E$11&事業者基本情報!$F$11&事業者基本情報!$G$11&事業者基本情報!$H$11&事業者基本情報!$I$11,\"\")","v":""},null,null,null,"市",null,null,"-",null,"-",null,{"$f":"IFERROR(VLOOKUP(Q99,コード表!$B$3:$C$101,2,FALSE),\"\")","v":""},null,{"$f":"IFERROR(VLOOKUP(S99,コード表!$F$7:$G$141,2,FALSE),\"\")","v":""},null,null,"t",null,null,null,null,null,null,null,null,null,null,null,null,null,null,null,null,null,null,null,null,null,null,null,null,null,null,null,null,null,null,null,null,null,null,null,null,null,null,null,null,null,null,null,null,null,null,null,null,"","",{"$f":"IF(BS99=\"\",\"\",IF(COUNTIF(BS$4:BS99,BS99)=1,ROW(),\"\"))","v":""},{"$f":"IFERROR(INDEX(BS:BS,SMALL(BT:BT,ROW(A96))),\"\")","v":""},"","","",""]
[{"$f":"IF(F100<>\"\",事業者基本情報!$E$9&事業者基本情報!$F$9&事業者基本情報!$G$9,\"\")","v":""},{"$f":"IF(F100<>\"\",事業者基本情報!$Y$10,\"\")","v":""},{"$f":"IF(F100<>\"\",事業者基本情報!$Y$7,\"\")","v":""},{"$f":"IF(F100<>\"\",事業者基本情報!$Y$8,\"\")","v":""},{"$f":"IF(F100<>\"\",事業者基本情報!$E$11&事業者基本情報!$F$11&事業者基本情報!$G$11&事業者基本情報!$H$11&事業者基本情報!$I$11,\"\")","v":""},null,null,null,"市",null,null,"-",null,"-",null,{"$f":"IFERROR(VLOOKUP(Q100,コード表!$B$3:$C$101,2,FALSE),\"\")","v":""},null,{"$f":"IFERROR(VLOOKUP(S100,コード表!$F$7:$G$141,2,FALSE),\"\")","v":""},null,null,"t",null,null,null,null,null,null,null,null,null,null,null,null,null,null,null,null,null,null,null,null,null,null,null,null,null,null,null,null,null,null,null,null,null,null,null,null,null,null,null,null,null,null,null,null,null,null,null,null,"","",{"$f":"IF(BS100=\"\",\"\",IF(COUNTIF(BS$4:BS100,BS100)=1,ROW(),\"\"))","v":""},{"$f":"IFERROR(INDEX(BS:BS,SMALL(BT:BT,ROW(A97))),\"\")","v":""},"","","",""]
[{"$f":"IF(F101<>\"\",事業者基本情報!$E$9&事業者基本情報!$F$9&事業者基本情報!$G$9,\"\")","v":""},{"$f":"IF(F101<>\"\",事業者基本情報!$Y$10,\"\")","v":""},{"$f":"IF(F101<>\"\",事業者基本情報!$Y$7,\"\")","v":""},{"$f":"IF(F101<>\"\",事業者基本情報!$Y$8,\"\")","v":""},{"$f":"IF(F101<>\"\",事業者基本情報!$E$11&事業者基本情報!$F$11&事業者基本情報!$G$11&事業者基本情報!$H$11&事業者基本情報!$I$11,\"\")","v":""},null,null,null,"市",null,null,"-",null,"-",null,{"$f":"IFERROR(VLOOKUP(Q101,コード表!$B$3:$C$101,2,FALSE),\"\")","v":""},null,{"$f":"IFERROR(VLOOKUP(S101,コード表!$F$7:$G$141,2,FALSE),\"\")","v":""},null,null,"t",null,null,null,null,null,null,null,null,null,null,null,null,null,null,null,null,null,null,null,null,null,null,null,null,null,null,null,null,null,null,null,null,null,null,null,null,null,null,null,null,null,null,null,null,null,null,null,null,"","",{"$f":"IF(BS101=\"\",\"\",IF(COUNTIF(BS$4:BS101,BS101)=1,ROW(),\"\"))","v":""},{"$f":"IFERROR(INDEX(BS:BS,SMALL(BT:BT,ROW(A98))),\"\")","v":""},"","","",""]
[{"$f":"IF(F102<>\"\",事業者基本情報!$E$9&事業者基本情報!$F$9&事業者基本情報!$G$9,\"\")","v":""},{"$f":"IF(F102<>\"\",事業者基本情報!$Y$10,\"\")","v":""},{"$f":"IF(F102<>\"\",事業者基本情報!$Y$7,\"\")","v":""},{"$f":"IF(F102<>\"\",事業者基本情報!$Y$8,\"\")","v":""},{"$f":"IF(F102<>\"\",事業者基本情報!$E$11&事業者基本情報!$F$11&事業者基本情報!$G$11&事業者基本情報!$H$11&事業者基本情報!$I$11,\"\")","v":""},null,null,null,"市",null,null,"-",null,"-",null,{"$f":"IFERROR(VLOOKUP(Q102,コード表!$B$3:$C$101,2,FALSE),\"\")","v":""},null,{"$f":"IFERROR(VLOOKUP(S102,コード表!$F$7:$G$141,2,FALSE),\"\")","v":""},null,null,"t",null,null,null,null,null,null,null,null,null,null,null,null,null,null,null,null,null,null,null,null,null,null,null,null,null,null,null,null,null,null,null,null,null,null,null,null,null,null,null,null,null,null,null,null,null,null,null,null,"","",{"$f":"IF(BS102=\"\",\"\",IF(COUNTIF(BS$4:BS102,BS102)=1,ROW(),\"\"))","v":""},{"$f":"IFERROR(INDEX(BS:BS,SMALL(BT:BT,ROW(A99))),\"\")","v":""},"","","",""]
[{"$f":"IF(F103<>\"\",事業者基本情報!$E$9&事業者基本情報!$F$9&事業者基本情報!$G$9,\"\")","v":""},{"$f":"IF(F103<>\"\",事業者基本情報!$Y$10,\"\")","v":""},{"$f":"IF(F103<>\"\",事業者基本情報!$Y$7,\"\")","v":""},{"$f":"IF(F103<>\"\",事業者基本情報!$Y$8,\"\")","v":""},{"$f":"IF(F103<>\"\",事業者基本情報!$E$11&事業者基本情報!$F$11&事業者基本情報!$G$11&事業者基本情報!$H$11&事業者基本情報!$I$11,\"\")","v":""},null,null,null,"市",null,null,"-",null,"-",null,{"$f":"IFERROR(VLOOKUP(Q103,コード表!$B$3:$C$101,2,FALSE),\"\")","v":""},null,{"$f":"IFERROR(VLOOKUP(S103,コード表!$F$7:$G$141,2,FALSE),\"\")","v":""},null,null,"t",null,null,null,null,null,null,null,null,null,null,null,null,null,null,null,null,null,null,null,null,null,null,null,null,null,null,null,null,null,null,null,null,null,null,null,null,null,null,null,null,null,null,null,null,null,null,null,null,"","",{"$f":"IF(BS103=\"\",\"\",IF(COUNTIF(BS$4:BS103,BS103)=1,ROW(),\"\"))","v":""},{"$f":"IFERROR(INDEX(BS:BS,SMALL(BT:BT,ROW(A100))),\"\")","v":""},"","","",""]
[{"$f":"IF(F104<>\"\",事業者基本情報!$E$9&事業者基本情報!$F$9&事業者基本情報!$G$9,\"\")","v":""},{"$f":"IF(F104<>\"\",事業者基本情報!$Y$10,\"\")","v":""},{"$f":"IF(F104<>\"\",事業者基本情報!$Y$7,\"\")","v":""},{"$f":"IF(F104<>\"\",事業者基本情報!$Y$8,\"\")","v":""},{"$f":"IF(F104<>\"\",事業者基本情報!$E$11&事業者基本情報!$F$11&事業者基本情報!$G$11&事業者基本情報!$H$11&事業者基本情報!$I$11,\"\")","v":""},null,null,null,"市",null,null,"-",null,"-",null,{"$f":"IFERROR(VLOOKUP(Q104,コード表!$B$3:$C$101,2,FALSE),\"\")","v":""},null,{"$f":"IFERROR(VLOOKUP(S104,コード表!$F$7:$G$141,2,FALSE),\"\")","v":""},null,null,"t",null,null,null,null,null,null,null,null,null,null,null,null,null,null,null,null,null,null,null,null,null,null,null,null,null,null,null,null,null,null,null,null,null,null,null,null,null,null,null,null,null,null,null,null,null,null,null,null,"","",{"$f":"IF(BS104=\"\",\"\",IF(COUNTIF(BS$4:BS104,BS104)=1,ROW(),\"\"))","v":""},{"$f":"IFERROR(INDEX(BS:BS,SMALL(BT:BT,ROW(A101))),\"\")","v":""},"","","",""]
[{"$f":"IF(F105<>\"\",事業者基本情報!$E$9&事業者基本情報!$F$9&事業者基本情報!$G$9,\"\")","v":""},{"$f":"IF(F105<>\"\",事業者基本情報!$Y$10,\"\")","v":""},{"$f":"IF(F105<>\"\",事業者基本情報!$Y$7,\"\")","v":""},{"$f":"IF(F105<>\"\",事業者基本情報!$Y$8,\"\")","v":""},{"$f":"IF(F105<>\"\",事業者基本情報!$E$11&事業者基本情報!$F$11&事業者基本情報!$G$11&事業者基本情報!$H$11&事業者基本情報!$I$11,\"\")","v":""},null,null,null,"市",null,null,"-",null,"-",null,{"$f":"IFERROR(VLOOKUP(Q105,コード表!$B$3:$C$101,2,FALSE),\"\")","v":""},null,{"$f":"IFERROR(VLOOKUP(S105,コード表!$F$7:$G$141,2,FALSE),\"\")","v":""},null,null,"t",null,null,null,null,null,null,null,null,null,null,null,null,null,null,null,null,null,null,null,null,null,null,null,null,null,null,null,null,null,null,null,null,null,null,null,null,null,null,null,null,null,null,null,null,null,null,null,null,"","",{"$f":"IF(BS105=\"\",\"\",IF(COUNTIF(BS$4:BS105,BS105)=1,ROW(),\"\"))","v":""},{"$f":"IFERROR(INDEX(BS:BS,SMALL(BT:BT,ROW(A102))),\"\")","v":""},"","","",""]
[{"$f":"IF(F106<>\"\",事業者基本情報!$E$9&事業者基本情報!$F$9&事業者基本情報!$G$9,\"\")","v":""},{"$f":"IF(F106<>\"\",事業者基本情報!$Y$10,\"\")","v":""},{"$f":"IF(F106<>\"\",事業者基本情報!$Y$7,\"\")","v":""},{"$f":"IF(F106<>\"\",事業者基本情報!$Y$8,\"\")","v":""},{"$f":"IF(F106<>\"\",事業者基本情報!$E$11&事業者基本情報!$F$11&事業者基本情報!$G$11&事業者基本情報!$H$11&事業者基本情報!$I$11,\"\")","v":""},null,null,null,"市",null,null,"-",null,"-",null,{"$f":"IFERROR(VLOOKUP(Q106,コード表!$B$3:$C$101,2,FALSE),\"\")","v":""},null,{"$f":"IFERROR(VLOOKUP(S106,コード表!$F$7:$G$141,2,FALSE),\"\")","v":""},null,null,"t",null,null,null,null,null,null,null,null,null,null,null,null,null,null,null,null,null,null,null,null,null,null,null,null,null,null,null,null,null,null,null,null,null,null,null,null,null,null,null,null,null,null,null,null,null,null,null,null,"","",{"$f":"IF(BS106=\"\",\"\",IF(COUNTIF(BS$4:BS106,BS106)=1,ROW(),\"\"))","v":""},{"$f":"IFERROR(INDEX(BS:BS,SMALL(BT:BT,ROW(A103))),\"\")","v":""},"","","",""]
[{"$f":"IF(F107<>\"\",事業者基本情報!$E$9&事業者基本情報!$F$9&事業者基本情報!$G$9,\"\")","v":""},{"$f":"IF(F107<>\"\",事業者基本情報!$Y$10,\"\")","v":""},{"$f":"IF(F107<>\"\",事業者基本情報!$Y$7,\"\")","v":""},{"$f":"IF(F107<>\"\",事業者基本情報!$Y$8,\"\")","v":""},{"$f":"IF(F107<>\"\",事業者基本情報!$E$11&事業者基本情報!$F$11&事業者基本情報!$G$11&事業者基本情報!$H$11&事業者基本情報!$I$11,\"\")","v":""},null,null,null,"市",null,null,"-",null,"-",null,{"$f":"IFERROR(VLOOKUP(Q107,コード表!$B$3:$C$101,2,FALSE),\"\")","v":""},null,{"$f":"IFERROR(VLOOKUP(S107,コード表!$F$7:$G$141,2,FALSE),\"\")","v":""},null,null,"t",null,null,null,null,null,null,null,null,null,null,null,null,null,null,null,null,null,null,null,null,null,null,null,null,null,null,null,null,null,null,null,null,null,null,null,null,null,null,null,null,null,null,null,null,null,null,null,null,"","",{"$f":"IF(BS107=\"\",\"\",IF(COUNTIF(BS$4:BS107,BS107)=1,ROW(),\"\"))","v":""},{"$f":"IFERROR(INDEX(BS:BS,SMALL(BT:BT,ROW(A104))),\"\")","v":""},"","","",""]
[{"$f":"IF(F108<>\"\",事業者基本情報!$E$9&事業者基本情報!$F$9&事業者基本情報!$G$9,\"\")","v":""},{"$f":"IF(F108<>\"\",事業者基本情報!$Y$10,\"\")","v":""},{"$f":"IF(F108<>\"\",事業者基本情報!$Y$7,\"\")","v":""},{"$f":"IF(F108<>\"\",事業者基本情報!$Y$8,\"\")","v":""},{"$f":"IF(F108<>\"\",事業者基本情報!$E$11&事業者基本情報!$F$11&事業者基本情報!$G$11&事業者基本情報!$H$11&事業者基本情報!$I$11,\"\")","v":""},null,null,null,"市",null,null,"-",null,"-",null,{"$f":"IFERROR(VLOOKUP(Q108,コード表!$B$3:$C$101,2,FALSE),\"\")","v":""},null,{"$f":"IFERROR(VLOOKUP(S108,コード表!$F$7:$G$141,2,FALSE),\"\")","v":""},null,null,"t",null,null,null,null,null,null,null,null,null,null,null,null,null,null,null,null,null,null,null,null,null,null,null,null,null,null,null,null,null,null,null,null,null,null,null,null,null,null,null,null,null,null,null,null,null,null,null,null,"","",{"$f":"IF(BS108=\"\",\"\",IF(COUNTIF(BS$4:BS108,BS108)=1,ROW(),\"\"))","v":""},{"$f":"IFERROR(INDEX(BS:BS,SMALL(BT:BT,ROW(A105))),\"\")","v":""},"","","",""]
[{"$f":"IF(F109<>\"\",事業者基本情報!$E$9&事業者基本情報!$F$9&事業者基本情報!$G$9,\"\")","v":""},{"$f":"IF(F109<>\"\",事業者基本情報!$Y$10,\"\")","v":""},{"$f":"IF(F109<>\"\",事業者基本情報!$Y$7,\"\")","v":""},{"$f":"IF(F109<>\"\",事業者基本情報!$Y$8,\"\")","v":""},{"$f":"IF(F109<>\"\",事業者基本情報!$E$11&事業者基本情報!$F$11&事業者基本情報!$G$11&事業者基本情報!$H$11&事業者基本情報!$I$11,\"\")","v":""},null,null,null,"市",null,null,"-",null,"-",null,{"$f":"IFERROR(VLOOKUP(Q109,コード表!$B$3:$C$101,2,FALSE),\"\")","v":""},null,{"$f":"IFERROR(VLOOKUP(S109,コード表!$F$7:$G$141,2,FALSE),\"\")","v":""},null,null,"t",null,null,null,null,null,null,null,null,null,null,null,null,null,null,null,null,null,null,null,null,null,null,null,null,null,null,null,null,null,null,null,null,null,null,null,null,null,null,null,null,null,null,null,null,null,null,null,null,"","",{"$f":"IF(BS109=\"\",\"\",IF(COUNTIF(BS$4:BS109,BS109)=1,ROW(),\"\"))","v":""},{"$f":"IFERROR(INDEX(BS:BS,SMALL(BT:BT,ROW(A106))),\"\")","v":""},"","","",""]
[{"$f":"IF(F110<>\"\",事業者基本情報!$E$9&事業者基本情報!$F$9&事業者基本情報!$G$9,\"\")","v":""},{"$f":"IF(F110<>\"\",事業者基本情報!$Y$10,\"\")","v":""},{"$f":"IF(F110<>\"\",事業者基本情報!$Y$7,\"\")","v":""},{"$f":"IF(F110<>\"\",事業者基本情報!$Y$8,\"\")","v":""},{"$f":"IF(F110<>\"\",事業者基本情報!$E$11&事業者基本情報!$F$11&事業者基本情報!$G$11&事業者基本情報!$H$11&事業者基本情報!$I$11,\"\")","v":""},null,null,null,"市",null,null,"-",null,"-",null,{"$f":"IFERROR(VLOOKUP(Q110,コード表!$B$3:$C$101,2,FALSE),\"\")","v":""},null,{"$f":"IFERROR(VLOOKUP(S110,コード表!$F$7:$G$141,2,FALSE),\"\")","v":""},null,null,"t",null,null,null,null,null,null,null,null,null,null,null,null,null,null,null,null,null,null,null,null,null,null,null,null,null,null,null,null,null,null,null,null,null,null,null,null,null,null,null,null,null,null,null,null,null,null,null,null,"","",{"$f":"IF(BS110=\"\",\"\",IF(COUNTIF(BS$4:BS110,BS110)=1,ROW(),\"\"))","v":""},{"$f":"IFERROR(INDEX(BS:BS,SMALL(BT:BT,ROW(A107))),\"\")","v":""},"","","",""]
[{"$f":"IF(F111<>\"\",事業者基本情報!$E$9&事業者基本情報!$F$9&事業者基本情報!$G$9,\"\")","v":""},{"$f":"IF(F111<>\"\",事業者基本情報!$Y$10,\"\")","v":""},{"$f":"IF(F111<>\"\",事業者基本情報!$Y$7,\"\")","v":""},{"$f":"IF(F111<>\"\",事業者基本情報!$Y$8,\"\")","v":""},{"$f":"IF(F111<>\"\",事業者基本情報!$E$11&事業者基本情報!$F$11&事業者基本情報!$G$11&事業者基本情報!$H$11&事業者基本情報!$I$11,\"\")","v":""},null,null,null,"市",null,null,"-",null,"-",null,{"$f":"IFERROR(VLOOKUP(Q111,コード表!$B$3:$C$101,2,FALSE),\"\")","v":""},null,{"$f":"IFERROR(VLOOKUP(S111,コード表!$F$7:$G$141,2,FALSE),\"\")","v":""},null,null,"t",null,null,null,null,null,null,null,null,null,null,null,null,null,null,null,null,null,null,null,null,null,null,null,null,null,null,null,null,null,null,null,null,null,null,null,null,null,null,null,null,null,null,null,null,null,null,null,null,"","",{"$f":"IF(BS111=\"\",\"\",IF(COUNTIF(BS$4:BS111,BS111)=1,ROW(),\"\"))","v":""},{"$f":"IFERROR(INDEX(BS:BS,SMALL(BT:BT,ROW(A108))),\"\")","v":""},"","","",""]
[{"$f":"IF(F112<>\"\",事業者基本情報!$E$9&事業者基本情報!$F$9&事業者基本情報!$G$9,\"\")","v":""},{"$f":"IF(F112<>\"\",事業者基本情報!$Y$10,\"\")","v":""},{"$f":"IF(F112<>\"\",事業者基本情報!$Y$7,\"\")","v":""},{"$f":"IF(F112<>\"\",事業者基本情報!$Y$8,\"\")","v":""},{"$f":"IF(F112<>\"\",事業者基本情報!$E$11&事業者基本情報!$F$11&事業者基本情報!$G$11&事業者基本情報!$H$11&事業者基本情報!$I$11,\"\")","v":""},null,null,null,"市",null,null,"-",null,"-",null,{"$f":"IFERROR(VLOOKUP(Q112,コード表!$B$3:$C$101,2,FALSE),\"\")","v":""},null,{"$f":"IFERROR(VLOOKUP(S112,コード表!$F$7:$G$141,2,FALSE),\"\")","v":""},null,null,"t",null,null,null,null,null,null,null,null,null,null,null,null,null,null,null,null,null,null,null,null,null,null,null,null,null,null,null,null,null,null,null,null,null,null,null,null,null,null,null,null,null,null,null,null,null,null,null,null,"","",{"$f":"IF(BS112=\"\",\"\",IF(COUNTIF(BS$4:BS112,BS112)=1,ROW(),\"\"))","v":""},{"$f":"IFERROR(INDEX(BS:BS,SMALL(BT:BT,ROW(A109))),\"\")","v":""},"","","",""]
[{"$f":"IF(F113<>\"\",事業者基本情報!$E$9&事業者基本情報!$F$9&事業者基本情報!$G$9,\"\")","v":""},{"$f":"IF(F113<>\"\",事業者基本情報!$Y$10,\"\")","v":""},{"$f":"IF(F113<>\"\",事業者基本情報!$Y$7,\"\")","v":""},{"$f":"IF(F113<>\"\",事業者基本情報!$Y$8,\"\")","v":""},{"$f":"IF(F113<>\"\",事業者基本情報!$E$11&事業者基本情報!$F$11&事業者基本情報!$G$11&事業者基本情報!$H$11&事業者基本情報!$I$11,\"\")","v":""},null,null,null,"市",null,null,"-",null,"-",null,{"$f":"IFERROR(VLOOKUP(Q113,コード表!$B$3:$C$101,2,FALSE),\"\")","v":""},null,{"$f":"IFERROR(VLOOKUP(S113,コード表!$F$7:$G$141,2,FALSE),\"\")","v":""},null,null,"t",null,null,null,null,null,null,null,null,null,null,null,null,null,null,null,null,null,null,null,null,null,null,null,null,null,null,null,null,null,null,null,null,null,null,null,null,null,null,null,null,null,null,null,null,null,null,null,null,"","",{"$f":"IF(BS113=\"\",\"\",IF(COUNTIF(BS$4:BS113,BS113)=1,ROW(),\"\"))","v":""},{"$f":"IFERROR(INDEX(BS:BS,SMALL(BT:BT,ROW(A110))),\"\")","v":""},"","","",""]
[{"$f":"IF(F114<>\"\",事業者基本情報!$E$9&事業者基本情報!$F$9&事業者基本情報!$G$9,\"\")","v":""},{"$f":"IF(F114<>\"\",事業者基本情報!$Y$10,\"\")","v":""},{"$f":"IF(F114<>\"\",事業者基本情報!$Y$7,\"\")","v":""},{"$f":"IF(F114<>\"\",事業者基本情報!$Y$8,\"\")","v":""},{"$f":"IF(F114<>\"\",事業者基本情報!$E$11&事業者基本情報!$F$11&事業者基本情報!$G$11&事業者基本情報!$H$11&事業者基本情報!$I$11,\"\")","v":""},null,null,null,"市",null,null,"-",null,"-",null,{"$f":"IFERROR(VLOOKUP(Q114,コード表!$B$3:$C$101,2,FALSE),\"\")","v":""},null,{"$f":"IFERROR(VLOOKUP(S114,コード表!$F$7:$G$141,2,FALSE),\"\")","v":""},null,null,"t",null,null,null,null,null,null,null,null,null,null,null,null,null,null,null,null,null,null,null,null,null,null,null,null,null,null,null,null,null,null,null,null,null,null,null,null,null,null,null,null,null,null,null,null,null,null,null,null,"","",{"$f":"IF(BS114=\"\",\"\",IF(COUNTIF(BS$4:BS114,BS114)=1,ROW(),\"\"))","v":""},{"$f":"IFERROR(INDEX(BS:BS,SMALL(BT:BT,ROW(A111))),\"\")","v":""},"","","",""]
[{"$f":"IF(F115<>\"\",事業者基本情報!$E$9&事業者基本情報!$F$9&事業者基本情報!$G$9,\"\")","v":""},{"$f":"IF(F115<>\"\",事業者基本情報!$Y$10,\"\")","v":""},{"$f":"IF(F115<>\"\",事業者基本情報!$Y$7,\"\")","v":""},{"$f":"IF(F115<>\"\",事業者基本情報!$Y$8,\"\")","v":""},{"$f":"IF(F115<>\"\",事業者基本情報!$E$11&事業者基本情報!$F$11&事業者基本情報!$G$11&事業者基本情報!$H$11&事業者基本情報!$I$11,\"\")","v":""},null,null,null,"市",null,null,"-",null,"-",null,{"$f":"IFERROR(VLOOKUP(Q115,コード表!$B$3:$C$101,2,FALSE),\"\")","v":""},null,{"$f":"IFERROR(VLOOKUP(S115,コード表!$F$7:$G$141,2,FALSE),\"\")","v":""},null,null,"t",null,null,null,null,null,null,null,null,null,null,null,null,null,null,null,null,null,null,null,null,null,null,null,null,null,null,null,null,null,null,null,null,null,null,null,null,null,null,null,null,null,null,null,null,null,null,null,null,"","",{"$f":"IF(BS115=\"\",\"\",IF(COUNTIF(BS$4:BS115,BS115)=1,ROW(),\"\"))","v":""},{"$f":"IFERROR(INDEX(BS:BS,SMALL(BT:BT,ROW(A112))),\"\")","v":""},"","","",""]
[{"$f":"IF(F116<>\"\",事業者基本情報!$E$9&事業者基本情報!$F$9&事業者基本情報!$G$9,\"\")","v":""},{"$f":"IF(F116<>\"\",事業者基本情報!$Y$10,\"\")","v":""},{"$f":"IF(F116<>\"\",事業者基本情報!$Y$7,\"\")","v":""},{"$f":"IF(F116<>\"\",事業者基本情報!$Y$8,\"\")","v":""},{"$f":"IF(F116<>\"\",事業者基本情報!$E$11&事業者基本情報!$F$11&事業者基本情報!$G$11&事業者基本情報!$H$11&事業者基本情報!$I$11,\"\")","v":""},null,null,null,"市",null,null,"-",null,"-",null,{"$f":"IFERROR(VLOOKUP(Q116,コード表!$B$3:$C$101,2,FALSE),\"\")","v":""},null,{"$f":"IFERROR(VLOOKUP(S116,コード表!$F$7:$G$141,2,FALSE),\"\")","v":""},null,null,"t",null,null,null,null,null,null,null,null,null,null,null,null,null,null,null,null,null,null,null,null,null,null,null,null,null,null,null,null,null,null,null,null,null,null,null,null,null,null,null,null,null,null,null,null,null,null,null,null,"","",{"$f":"IF(BS116=\"\",\"\",IF(COUNTIF(BS$4:BS116,BS116)=1,ROW(),\"\"))","v":""},{"$f":"IFERROR(INDEX(BS:BS,SMALL(BT:BT,ROW(A113))),\"\")","v":""},"","","",""]
[{"$f":"IF(F117<>\"\",事業者基本情報!$E$9&事業者基本情報!$F$9&事業者基本情報!$G$9,\"\")","v":""},{"$f":"IF(F117<>\"\",事業者基本情報!$Y$10,\"\")","v":""},{"$f":"IF(F117<>\"\",事業者基本情報!$Y$7,\"\")","v":""},{"$f":"IF(F117<>\"\",事業者基本情報!$Y$8,\"\")","v":""},{"$f":"IF(F117<>\"\",事業者基本情報!$E$11&事業者基本情報!$F$11&事業者基本情報!$G$11&事業者基本情報!$H$11&事業者基本情報!$I$11,\"\")","v":""},null,null,null,"市",null,null,"-",null,"-",null,{"$f":"IFERROR(VLOOKUP(Q117,コード表!$B$3:$C$101,2,FALSE),\"\")","v":""},null,{"$f":"IFERROR(VLOOKUP(S117,コード表!$F$7:$G$141,2,FALSE),\"\")","v":""},null,null,"t",null,null,null,null,null,null,null,null,null,null,null,null,null,null,null,null,null,null,null,null,null,null,null,null,null,null,null,null,null,null,null,null,null,null,null,null,null,null,null,null,null,null,null,null,null,null,null,null,"","",{"$f":"IF(BS117=\"\",\"\",IF(COUNTIF(BS$4:BS117,BS117)=1,ROW(),\"\"))","v":""},{"$f":"IFERROR(INDEX(BS:BS,SMALL(BT:BT,ROW(A114))),\"\")","v":""},"","","",""]
[{"$f":"IF(F118<>\"\",事業者基本情報!$E$9&事業者基本情報!$F$9&事業者基本情報!$G$9,\"\")","v":""},{"$f":"IF(F118<>\"\",事業者基本情報!$Y$10,\"\")","v":""},{"$f":"IF(F118<>\"\",事業者基本情報!$Y$7,\"\")","v":""},{"$f":"IF(F118<>\"\",事業者基本情報!$Y$8,\"\")","v":""},{"$f":"IF(F118<>\"\",事業者基本情報!$E$11&事業者基本情報!$F$11&事業者基本情報!$G$11&事業者基本情報!$H$11&事業者基本情報!$I$11,\"\")","v":""},null,null,null,"市",null,null,"-",null,"-",null,{"$f":"IFERROR(VLOOKUP(Q118,コード表!$B$3:$C$101,2,FALSE),\"\")","v":""},null,{"$f":"IFERROR(VLOOKUP(S118,コード表!$F$7:$G$141,2,FALSE),\"\")","v":""},null,null,"t",null,null,null,null,null,null,null,null,null,null,null,null,null,null,null,null,null,null,null,null,null,null,null,null,null,null,null,null,null,null,null,null,null,null,null,null,null,null,null,null,null,null,null,null,null,null,null,null,"","",{"$f":"IF(BS118=\"\",\"\",IF(COUNTIF(BS$4:BS118,BS118)=1,ROW(),\"\"))","v":""},{"$f":"IFERROR(INDEX(BS:BS,SMALL(BT:BT,ROW(A115))),\"\")","v":""},"","","",""]
[{"$f":"IF(F119<>\"\",事業者基本情報!$E$9&事業者基本情報!$F$9&事業者基本情報!$G$9,\"\")","v":""},{"$f":"IF(F119<>\"\",事業者基本情報!$Y$10,\"\")","v":""},{"$f":"IF(F119<>\"\",事業者基本情報!$Y$7,\"\")","v":""},{"$f":"IF(F119<>\"\",事業者基本情報!$Y$8,\"\")","v":""},{"$f":"IF(F119<>\"\",事業者基本情報!$E$11&事業者基本情報!$F$11&事業者基本情報!$G$11&事業者基本情報!$H$11&事業者基本情報!$I$11,\"\")","v":""},null,null,null,"市",null,null,"-",null,"-",null,{"$f":"IFERROR(VLOOKUP(Q119,コード表!$B$3:$C$101,2,FALSE),\"\")","v":""},null,{"$f":"IFERROR(VLOOKUP(S119,コード表!$F$7:$G$141,2,FALSE),\"\")","v":""},null,null,"t",null,null,null,null,null,null,null,null,null,null,null,null,null,null,null,null,null,null,null,null,null,null,null,null,null,null,null,null,null,null,null,null,null,null,null,null,null,null,null,null,null,null,null,null,null,null,null,null,"","",{"$f":"IF(BS119=\"\",\"\",IF(COUNTIF(BS$4:BS119,BS119)=1,ROW(),\"\"))","v":""},{"$f":"IFERROR(INDEX(BS:BS,SMALL(BT:BT,ROW(A116))),\"\")","v":""},"","","",""]
[{"$f":"IF(F120<>\"\",事業者基本情報!$E$9&事業者基本情報!$F$9&事業者基本情報!$G$9,\"\")","v":""},{"$f":"IF(F120<>\"\",事業者基本情報!$Y$10,\"\")","v":""},{"$f":"IF(F120<>\"\",事業者基本情報!$Y$7,\"\")","v":""},{"$f":"IF(F120<>\"\",事業者基本情報!$Y$8,\"\")","v":""},{"$f":"IF(F120<>\"\",事業者基本情報!$E$11&事業者基本情報!$F$11&事業者基本情報!$G$11&事業者基本情報!$H$11&事業者基本情報!$I$11,\"\")","v":""},null,null,null,"市",null,null,"-",null,"-",null,{"$f":"IFERROR(VLOOKUP(Q120,コード表!$B$3:$C$101,2,FALSE),\"\")","v":""},null,{"$f":"IFERROR(VLOOKUP(S120,コード表!$F$7:$G$141,2,FALSE),\"\")","v":""},null,null,"t",null,null,null,null,null,null,null,null,null,null,null,null,null,null,null,null,null,null,null,null,null,null,null,null,null,null,null,null,null,null,null,null,null,null,null,null,null,null,null,null,null,null,null,null,null,null,null,null,"","",{"$f":"IF(BS120=\"\",\"\",IF(COUNTIF(BS$4:BS120,BS120)=1,ROW(),\"\"))","v":""},{"$f":"IFERROR(INDEX(BS:BS,SMALL(BT:BT,ROW(A117))),\"\")","v":""},"","","",""]
[{"$f":"IF(F121<>\"\",事業者基本情報!$E$9&事業者基本情報!$F$9&事業者基本情報!$G$9,\"\")","v":""},{"$f":"IF(F121<>\"\",事業者基本情報!$Y$10,\"\")","v":""},{"$f":"IF(F121<>\"\",事業者基本情報!$Y$7,\"\")","v":""},{"$f":"IF(F121<>\"\",事業者基本情報!$Y$8,\"\")","v":""},{"$f":"IF(F121<>\"\",事業者基本情報!$E$11&事業者基本情報!$F$11&事業者基本情報!$G$11&事業者基本情報!$H$11&事業者基本情報!$I$11,\"\")","v":""},null,null,null,"市",null,null,"-",null,"-",null,{"$f":"IFERROR(VLOOKUP(Q121,コード表!$B$3:$C$101,2,FALSE),\"\")","v":""},null,{"$f":"IFERROR(VLOOKUP(S121,コード表!$F$7:$G$141,2,FALSE),\"\")","v":""},null,null,"t",null,null,null,null,null,null,null,null,null,null,null,null,null,null,null,null,null,null,null,null,null,null,null,null,null,null,null,null,null,null,null,null,null,null,null,null,null,null,null,null,null,null,null,null,null,null,null,null,"","",{"$f":"IF(BS121=\"\",\"\",IF(COUNTIF(BS$4:BS121,BS121)=1,ROW(),\"\"))","v":""},{"$f":"IFERROR(INDEX(BS:BS,SMALL(BT:BT,ROW(A118))),\"\")","v":""},"","","",""]
[{"$f":"IF(F122<>\"\",事業者基本情報!$E$9&事業者基本情報!$F$9&事業者基本情報!$G$9,\"\")","v":""},{"$f":"IF(F122<>\"\",事業者基本情報!$Y$10,\"\")","v":""},{"$f":"IF(F122<>\"\",事業者基本情報!$Y$7,\"\")","v":""},{"$f":"IF(F122<>\"\",事業者基本情報!$Y$8,\"\")","v":""},{"$f":"IF(F122<>\"\",事業者基本情報!$E$11&事業者基本情報!$F$11&事業者基本情報!$G$11&事業者基本情報!$H$11&事業者基本情報!$I$11,\"\")","v":""},null,null,null,"市",null,null,"-",null,"-",null,{"$f":"IFERROR(VLOOKUP(Q122,コード表!$B$3:$C$101,2,FALSE),\"\")","v":""},null,{"$f":"IFERROR(VLOOKUP(S122,コード表!$F$7:$G$141,2,FALSE),\"\")","v":""},null,null,"t",null,null,null,null,null,null,null,null,null,null,null,null,null,null,null,null,null,null,null,null,null,null,null,null,null,null,null,null,null,null,null,null,null,null,null,null,null,null,null,null,null,null,null,null,null,null,null,null,"","",{"$f":"IF(BS122=\"\",\"\",IF(COUNTIF(BS$4:BS122,BS122)=1,ROW(),\"\"))","v":""},{"$f":"IFERROR(INDEX(BS:BS,SMALL(BT:BT,ROW(A119))),\"\")","v":""},"","","",""]
[{"$f":"IF(F123<>\"\",事業者基本情報!$E$9&事業者基本情報!$F$9&事業者基本情報!$G$9,\"\")","v":""},{"$f":"IF(F123<>\"\",事業者基本情報!$Y$10,\"\")","v":""},{"$f":"IF(F123<>\"\",事業者基本情報!$Y$7,\"\")","v":""},{"$f":"IF(F123<>\"\",事業者基本情報!$Y$8,\"\")","v":""},{"$f":"IF(F123<>\"\",事業者基本情報!$E$11&事業者基本情報!$F$11&事業者基本情報!$G$11&事業者基本情報!$H$11&事業者基本情報!$I$11,\"\")","v":""},null,null,null,"市",null,null,"-",null,"-",null,{"$f":"IFERROR(VLOOKUP(Q123,コード表!$B$3:$C$101,2,FALSE),\"\")","v":""},null,{"$f":"IFERROR(VLOOKUP(S123,コード表!$F$7:$G$141,2,FALSE),\"\")","v":""},null,null,"t",null,null,null,null,null,null,null,null,null,null,null,null,null,null,null,null,null,null,null,null,null,null,null,null,null,null,null,null,null,null,null,null,null,null,null,null,null,null,null,null,null,null,null,null,null,null,null,null,"","",{"$f":"IF(BS123=\"\",\"\",IF(COUNTIF(BS$4:BS123,BS123)=1,ROW(),\"\"))","v":""},{"$f":"IFERROR(INDEX(BS:BS,SMALL(BT:BT,ROW(A120))),\"\")","v":""},"","","",""]
[{"$f":"IF(F124<>\"\",事業者基本情報!$E$9&事業者基本情報!$F$9&事業者基本情報!$G$9,\"\")","v":""},{"$f":"IF(F124<>\"\",事業者基本情報!$Y$10,\"\")","v":""},{"$f":"IF(F124<>\"\",事業者基本情報!$Y$7,\"\")","v":""},{"$f":"IF(F124<>\"\",事業者基本情報!$Y$8,\"\")","v":""},{"$f":"IF(F124<>\"\",事業者基本情報!$E$11&事業者基本情報!$F$11&事業者基本情報!$G$11&事業者基本情報!$H$11&事業者基本情報!$I$11,\"\")","v":""},null,null,null,"市",null,null,"-",null,"-",null,{"$f":"IFERROR(VLOOKUP(Q124,コード表!$B$3:$C$101,2,FALSE),\"\")","v":""},null,{"$f":"IFERROR(VLOOKUP(S124,コード表!$F$7:$G$141,2,FALSE),\"\")","v":""},null,null,"t",null,null,null,null,null,null,null,null,null,null,null,null,null,null,null,null,null,null,null,null,null,null,null,null,null,null,null,null,null,null,null,null,null,null,null,null,null,null,null,null,null,null,null,null,null,null,null,null,"","",{"$f":"IF(BS124=\"\",\"\",IF(COUNTIF(BS$4:BS124,BS124)=1,ROW(),\"\"))","v":""},{"$f":"IFERROR(INDEX(BS:BS,SMALL(BT:BT,ROW(A121))),\"\")","v":""},"","","",""]
[{"$f":"IF(F125<>\"\",事業者基本情報!$E$9&事業者基本情報!$F$9&事業者基本情報!$G$9,\"\")","v":""},{"$f":"IF(F125<>\"\",事業者基本情報!$Y$10,\"\")","v":""},{"$f":"IF(F125<>\"\",事業者基本情報!$Y$7,\"\")","v":""},{"$f":"IF(F125<>\"\",事業者基本情報!$Y$8,\"\")","v":""},{"$f":"IF(F125<>\"\",事業者基本情報!$E$11&事業者基本情報!$F$11&事業者基本情報!$G$11&事業者基本情報!$H$11&事業者基本情報!$I$11,\"\")","v":""},null,null,null,"市",null,null,"-",null,"-",null,{"$f":"IFERROR(VLOOKUP(Q125,コード表!$B$3:$C$101,2,FALSE),\"\")","v":""},null,{"$f":"IFERROR(VLOOKUP(S125,コード表!$F$7:$G$141,2,FALSE),\"\")","v":""},null,null,"t",null,null,null,null,null,null,null,null,null,null,null,null,null,null,null,null,null,null,null,null,null,null,null,null,null,null,null,null,null,null,null,null,null,null,null,null,null,null,null,null,null,null,null,null,null,null,null,null,"","",{"$f":"IF(BS125=\"\",\"\",IF(COUNTIF(BS$4:BS125,BS125)=1,ROW(),\"\"))","v":""},{"$f":"IFERROR(INDEX(BS:BS,SMALL(BT:BT,ROW(A122))),\"\")","v":""},"","","",""]
[{"$f":"IF(F126<>\"\",事業者基本情報!$E$9&事業者基本情報!$F$9&事業者基本情報!$G$9,\"\")","v":""},{"$f":"IF(F126<>\"\",事業者基本情報!$Y$10,\"\")","v":""},{"$f":"IF(F126<>\"\",事業者基本情報!$Y$7,\"\")","v":""},{"$f":"IF(F126<>\"\",事業者基本情報!$Y$8,\"\")","v":""},{"$f":"IF(F126<>\"\",事業者基本情報!$E$11&事業者基本情報!$F$11&事業者基本情報!$G$11&事業者基本情報!$H$11&事業者基本情報!$I$11,\"\")","v":""},null,null,null,"市",null,null,"-",null,"-",null,{"$f":"IFERROR(VLOOKUP(Q126,コード表!$B$3:$C$101,2,FALSE),\"\")","v":""},null,{"$f":"IFERROR(VLOOKUP(S126,コード表!$F$7:$G$141,2,FALSE),\"\")","v":""},null,null,"t",null,null,null,null,null,null,null,null,null,null,null,null,null,null,null,null,null,null,null,null,null,null,null,null,null,null,null,null,null,null,null,null,null,null,null,null,null,null,null,null,null,null,null,null,null,null,null,null,"","",{"$f":"IF(BS126=\"\",\"\",IF(COUNTIF(BS$4:BS126,BS126)=1,ROW(),\"\"))","v":""},{"$f":"IFERROR(INDEX(BS:BS,SMALL(BT:BT,ROW(A123))),\"\")","v":""},"","","",""]
[{"$f":"IF(F127<>\"\",事業者基本情報!$E$9&事業者基本情報!$F$9&事業者基本情報!$G$9,\"\")","v":""},{"$f":"IF(F127<>\"\",事業者基本情報!$Y$10,\"\")","v":""},{"$f":"IF(F127<>\"\",事業者基本情報!$Y$7,\"\")","v":""},{"$f":"IF(F127<>\"\",事業者基本情報!$Y$8,\"\")","v":""},{"$f":"IF(F127<>\"\",事業者基本情報!$E$11&事業者基本情報!$F$11&事業者基本情報!$G$11&事業者基本情報!$H$11&事業者基本情報!$I$11,\"\")","v":""},null,null,null,"市",null,null,"-",null,"-",null,{"$f":"IFERROR(VLOOKUP(Q127,コード表!$B$3:$C$101,2,FALSE),\"\")","v":""},null,{"$f":"IFERROR(VLOOKUP(S127,コード表!$F$7:$G$141,2,FALSE),\"\")","v":""},null,null,"t",null,null,null,null,null,null,null,null,null,null,null,null,null,null,null,null,null,null,null,null,null,null,null,null,null,null,null,null,null,null,null,null,null,null,null,null,null,null,null,null,null,null,null,null,null,null,null,null,"","",{"$f":"IF(BS127=\"\",\"\",IF(COUNTIF(BS$4:BS127,BS127)=1,ROW(),\"\"))","v":""},{"$f":"IFERROR(INDEX(BS:BS,SMALL(BT:BT,ROW(A124))),\"\")","v":""},"","","",""]
[{"$f":"IF(F128<>\"\",事業者基本情報!$E$9&事業者基本情報!$F$9&事業者基本情報!$G$9,\"\")","v":""},{"$f":"IF(F128<>\"\",事業者基本情報!$Y$10,\"\")","v":""},{"$f":"IF(F128<>\"\",事業者基本情報!$Y$7,\"\")","v":""},{"$f":"IF(F128<>\"\",事業者基本情報!$Y$8,\"\")","v":""},{"$f":"IF(F128<>\"\",事業者基本情報!$E$11&事業者基本情報!$F$11&事業者基本情報!$G$11&事業者基本情報!$H$11&事業者基本情報!$I$11,\"\")","v":""},null,null,null,"市",null,null,"-",null,"-",null,{"$f":"IFERROR(VLOOKUP(Q128,コード表!$B$3:$C$101,2,FALSE),\"\")","v":""},null,{"$f":"IFERROR(VLOOKUP(S128,コード表!$F$7:$G$141,2,FALSE),\"\")","v":""},null,null,"t",null,null,null,null,null,null,null,null,null,null,null,null,null,null,null,null,null,null,null,null,null,null,null,null,null,null,null,null,null,null,null,null,null,null,null,null,null,null,null,null,null,null,null,null,null,null,null,null,"","",{"$f":"IF(BS128=\"\",\"\",IF(COUNTIF(BS$4:BS128,BS128)=1,ROW(),\"\"))","v":""},{"$f":"IFERROR(INDEX(BS:BS,SMALL(BT:BT,ROW(A125))),\"\")","v":""},"","","",""]
[{"$f":"IF(F129<>\"\",事業者基本情報!$E$9&事業者基本情報!$F$9&事業者基本情報!$G$9,\"\")","v":""},{"$f":"IF(F129<>\"\",事業者基本情報!$Y$10,\"\")","v":""},{"$f":"IF(F129<>\"\",事業者基本情報!$Y$7,\"\")","v":""},{"$f":"IF(F129<>\"\",事業者基本情報!$Y$8,\"\")","v":""},{"$f":"IF(F129<>\"\",事業者基本情報!$E$11&事業者基本情報!$F$11&事業者基本情報!$G$11&事業者基本情報!$H$11&事業者基本情報!$I$11,\"\")","v":""},null,null,null,"市",null,null,"-",null,"-",null,{"$f":"IFERROR(VLOOKUP(Q129,コード表!$B$3:$C$101,2,FALSE),\"\")","v":""},null,{"$f":"IFERROR(VLOOKUP(S129,コード表!$F$7:$G$141,2,FALSE),\"\")","v":""},null,null,"t",null,null,null,null,null,null,null,null,null,null,null,null,null,null,null,null,null,null,null,null,null,null,null,null,null,null,null,null,null,null,null,null,null,null,null,null,null,null,null,null,null,null,null,null,null,null,null,null,"","",{"$f":"IF(BS129=\"\",\"\",IF(COUNTIF(BS$4:BS129,BS129)=1,ROW(),\"\"))","v":""},{"$f":"IFERROR(INDEX(BS:BS,SMALL(BT:BT,ROW(A126))),\"\")","v":""},"","","",""]
[{"$f":"IF(F130<>\"\",事業者基本情報!$E$9&事業者基本情報!$F$9&事業者基本情報!$G$9,\"\")","v":""},{"$f":"IF(F130<>\"\",事業者基本情報!$Y$10,\"\")","v":""},{"$f":"IF(F130<>\"\",事業者基本情報!$Y$7,\"\")","v":""},{"$f":"IF(F130<>\"\",事業者基本情報!$Y$8,\"\")","v":""},{"$f":"IF(F130<>\"\",事業者基本情報!$E$11&事業者基本情報!$F$11&事業者基本情報!$G$11&事業者基本情報!$H$11&事業者基本情報!$I$11,\"\")","v":""},null,null,null,"市",null,null,"-",null,"-",null,{"$f":"IFERROR(VLOOKUP(Q130,コード表!$B$3:$C$101,2,FALSE),\"\")","v":""},null,{"$f":"IFERROR(VLOOKUP(S130,コード表!$F$7:$G$141,2,FALSE),\"\")","v":""},null,null,"t",null,null,null,null,null,null,null,null,null,null,null,null,null,null,null,null,null,null,null,null,null,null,null,null,null,null,null,null,null,null,null,null,null,null,null,null,null,null,null,null,null,null,null,null,null,null,null,null,"","",{"$f":"IF(BS130=\"\",\"\",IF(COUNTIF(BS$4:BS130,BS130)=1,ROW(),\"\"))","v":""},{"$f":"IFERROR(INDEX(BS:BS,SMALL(BT:BT,ROW(A127))),\"\")","v":""},"","","",""]
[{"$f":"IF(F131<>\"\",事業者基本情報!$E$9&事業者基本情報!$F$9&事業者基本情報!$G$9,\"\")","v":""},{"$f":"IF(F131<>\"\",事業者基本情報!$Y$10,\"\")","v":""},{"$f":"IF(F131<>\"\",事業者基本情報!$Y$7,\"\")","v":""},{"$f":"IF(F131<>\"\",事業者基本情報!$Y$8,\"\")","v":""},{"$f":"IF(F131<>\"\",事業者基本情報!$E$11&事業者基本情報!$F$11&事業者基本情報!$G$11&事業者基本情報!$H$11&事業者基本情報!$I$11,\"\")","v":""},null,null,null,"市",null,null,"-",null,"-",null,{"$f":"IFERROR(VLOOKUP(Q131,コード表!$B$3:$C$101,2,FALSE),\"\")","v":""},null,{"$f":"IFERROR(VLOOKUP(S131,コード表!$F$7:$G$141,2,FALSE),\"\")","v":""},null,null,"t",null,null,null,null,null,null,null,null,null,null,null,null,null,null,null,null,null,null,null,null,null,null,null,null,null,null,null,null,null,null,null,null,null,null,null,null,null,null,null,null,null,null,null,null,null,null,null,null,"","",{"$f":"IF(BS131=\"\",\"\",IF(COUNTIF(BS$4:BS131,BS131)=1,ROW(),\"\"))","v":""},{"$f":"IFERROR(INDEX(BS:BS,SMALL(BT:BT,ROW(A128))),\"\")","v":""},"","","",""]
[{"$f":"IF(F132<>\"\",事業者基本情報!$E$9&事業者基本情報!$F$9&事業者基本情報!$G$9,\"\")","v":""},{"$f":"IF(F132<>\"\",事業者基本情報!$Y$10,\"\")","v":""},{"$f":"IF(F132<>\"\",事業者基本情報!$Y$7,\"\")","v":""},{"$f":"IF(F132<>\"\",事業者基本情報!$Y$8,\"\")","v":""},{"$f":"IF(F132<>\"\",事業者基本情報!$E$11&事業者基本情報!$F$11&事業者基本情報!$G$11&事業者基本情報!$H$11&事業者基本情報!$I$11,\"\")","v":""},null,null,null,"市",null,null,"-",null,"-",null,{"$f":"IFERROR(VLOOKUP(Q132,コード表!$B$3:$C$101,2,FALSE),\"\")","v":""},null,{"$f":"IFERROR(VLOOKUP(S132,コード表!$F$7:$G$141,2,FALSE),\"\")","v":""},null,null,"t",null,null,null,null,null,null,null,null,null,null,null,null,null,null,null,null,null,null,null,null,null,null,null,null,null,null,null,null,null,null,null,null,null,null,null,null,null,null,null,null,null,null,null,null,null,null,null,null,{"$f":"IFERROR(IF(TRIM(F132)=\"\",\"\",IF(AND(VALUE(TRIM(R132))>=100000,VALUE(TRIM(R132))<7000000),\"普通産廃\",IF(AND(VALUE(TRIM(R132))>=7000000,VALUE(TRIM(R132))<9000000),\"特別産廃\",\"\"))),\"\")","v":""},{"$f":"IF(BR132<>\"\",TRIM(F132)&\"(\"&BR132&\")\",\"\")","v":""},{"$f":"IF(BS132=\"\",\"\",IF(COUNTIF(BS$4:BS132,BS132)=1,ROW(),\"\"))","v":""},{"$f":"IFERROR(INDEX(BS:BS,SMALL(BT:BT,ROW(A129))),\"\")","v":""},{"$f":"IF(BU132=\"\",\"\",IF(SUMIF(BS:BS,BU132,T:T)=0,\"\",SUMIF(BS:BS,BU132,T:T)))","v":""},{"$f":"IF(AS132<>\"\",AS132,IF(AO132<>\"\",AO132,IF(AK132<>\"\",AK132,IF(AG132<>\"\",AG132,IF(Y132<>\"\",Y132,\"\")))))","v":""},"",{"$f":"IF(F132&G132&H132&J132&K132&M132&O132&Q132&S132&T132&V132&W132&X132&Y132&Z132&AA132&AB132&AC132&AD132&AE132&AF132&AG132&AH132&AI132&AJ132&AK132&AL132&AM132&AN132&AO132&AP132&AQ132&AR132&AS132&AT132=\"\",\"\",1)","v":""}]
[{"$f":"IF(F133<>\"\",事業者基本情報!$E$9&事業者基本情報!$F$9&事業者基本情報!$G$9,\"\")","v":""},{"$f":"IF(F133<>\"\",事業者基本情報!$Y$10,\"\")","v":""},{"$f":"IF(F133<>\"\",事業者基本情報!$Y$7,\"\")","v":""},{"$f":"IF(F133<>\"\",事業者基本情報!$Y$8,\"\")","v":""},{"$f":"IF(F133<>\"\",事業者基本情報!$E$11&事業者基本情報!$F$11&事業者基本情報!$G$11&事業者基本情報!$H$11&事業者基本情報!$I$11,\"\")","v":""},null,null,null,"市",null,null,"-",null,"-",null,{"$f":"IFERROR(VLOOKUP(Q133,コード表!$B$3:$C$101,2,FALSE),\"\")","v":""},null,{"$f":"IFERROR(VLOOKUP(S133,コード表!$F$7:$G$141,2,FALSE),\"\")","v":""},null,null,"t",null,null,null,null,null,null,null,null,null,null,null,null,null,null,null,null,null,null,null,null,null,null,null,null,null,null,null,null,null,null,null,null,null,null,null,null,null,null,null,null,null,null,null,null,null,null,null,null,"","",{"$f":"IF(BS133=\"\",\"\",IF(COUNTIF(BS$4:BS133,BS133)=1,ROW(),\"\"))","v":""},{"$f":"IFERROR(INDEX(BS:BS,SMALL(BT:BT,ROW(A130))),\"\")","v":""},"","","",""]
[{"$f":"IF(F134<>\"\",事業者基本情報!$E$9&事業者基本情報!$F$9&事業者基本情報!$G$9,\"\")","v":""},{"$f":"IF(F134<>\"\",事業者基本情報!$Y$10,\"\")","v":""},{"$f":"IF(F134<>\"\",事業者基本情報!$Y$7,\"\")","v":""},{"$f":"IF(F134<>\"\",事業者基本情報!$Y$8,\"\")","v":""},{"$f":"IF(F134<>\"\",事業者基本情報!$E$11&事業者基本情報!$F$11&事業者基本情報!$G$11&事業者基本情報!$H$11&事業者基本情報!$I$11,\"\")","v":""},null,null,null,"市",null,null,"-",null,"-",null,{"$f":"IFERROR(VLOOKUP(Q134,コード表!$B$3:$C$101,2,FALSE),\"\")","v":""},null,{"$f":"IFERROR(VLOOKUP(S134,コード表!$F$7:$G$141,2,FALSE),\"\")","v":""},null,null,"t",null,null,null,null,null,null,null,null,null,null,null,null,null,null,null,null,null,null,null,null,null,null,null,null,null,null,null,null,null,null,null,null,null,null,null,null,null,null,null,null,null,null,null,null,null,null,null,null,"","",{"$f":"IF(BS134=\"\",\"\",IF(COUNTIF(BS$4:BS134,BS134)=1,ROW(),\"\"))","v":""},{"$f":"IFERROR(INDEX(BS:BS,SMALL(BT:BT,ROW(A131))),\"\")","v":""},"","","",""]
[{"$f":"IF(F135<>\"\",事業者基本情報!$E$9&事業者基本情報!$F$9&事業者基本情報!$G$9,\"\")","v":""},{"$f":"IF(F135<>\"\",事業者基本情報!$Y$10,\"\")","v":""},{"$f":"IF(F135<>\"\",事業者基本情報!$Y$7,\"\")","v":""},{"$f":"IF(F135<>\"\",事業者基本情報!$Y$8,\"\")","v":""},{"$f":"IF(F135<>\"\",事業者基本情報!$E$11&事業者基本情報!$F$11&事業者基本情報!$G$11&事業者基本情報!$H$11&事業者基本情報!$I$11,\"\")","v":""},null,null,null,"市",null,null,"-",null,"-",null,{"$f":"IFERROR(VLOOKUP(Q135,コード表!$B$3:$C$101,2,FALSE),\"\")","v":""},null,{"$f":"IFERROR(VLOOKUP(S135,コード表!$F$7:$G$141,2,FALSE),\"\")","v":""},null,null,"t",null,null,null,null,null,null,null,null,null,null,null,null,null,null,null,null,null,null,null,null,null,null,null,null,null,null,null,null,null,null,null,null,null,null,null,null,null,null,null,null,null,null,null,null,null,null,null,null,"","",{"$f":"IF(BS135=\"\",\"\",IF(COUNTIF(BS$4:BS135,BS135)=1,ROW(),\"\"))","v":""},{"$f":"IFERROR(INDEX(BS:BS,SMALL(BT:BT,ROW(A132))),\"\")","v":""},"","","",""]
[{"$f":"IF(F136<>\"\",事業者基本情報!$E$9&事業者基本情報!$F$9&事業者基本情報!$G$9,\"\")","v":""},{"$f":"IF(F136<>\"\",事業者基本情報!$Y$10,\"\")","v":""},{"$f":"IF(F136<>\"\",事業者基本情報!$Y$7,\"\")","v":""},{"$f":"IF(F136<>\"\",事業者基本情報!$Y$8,\"\")","v":""},{"$f":"IF(F136<>\"\",事業者基本情報!$E$11&事業者基本情報!$F$11&事業者基本情報!$G$11&事業者基本情報!$H$11&事業者基本情報!$I$11,\"\")","v":""},null,null,null,"市",null,null,"-",null,"-",null,{"$f":"IFERROR(VLOOKUP(Q136,コード表!$B$3:$C$101,2,FALSE),\"\")","v":""},null,{"$f":"IFERROR(VLOOKUP(S136,コード表!$F$7:$G$141,2,FALSE),\"\")","v":""},null,null,"t",null,null,null,null,null,null,null,null,null,null,null,null,null,null,null,null,null,null,null,null,null,null,null,null,null,null,null,null,null,null,null,null,null,null,null,null,null,null,null,null,null,null,null,null,null,null,null,null,"","",{"$f":"IF(BS136=\"\",\"\",IF(COUNTIF(BS$4:BS136,BS136)=1,ROW(),\"\"))","v":""},{"$f":"IFERROR(INDEX(BS:BS,SMALL(BT:BT,ROW(A133))),\"\")","v":""},"","","",""]
[{"$f":"IF(F137<>\"\",事業者基本情報!$E$9&事業者基本情報!$F$9&事業者基本情報!$G$9,\"\")","v":""},{"$f":"IF(F137<>\"\",事業者基本情報!$Y$10,\"\")","v":""},{"$f":"IF(F137<>\"\",事業者基本情報!$Y$7,\"\")","v":""},{"$f":"IF(F137<>\"\",事業者基本情報!$Y$8,\"\")","v":""},{"$f":"IF(F137<>\"\",事業者基本情報!$E$11&事業者基本情報!$F$11&事業者基本情報!$G$11&事業者基本情報!$H$11&事業者基本情報!$I$11,\"\")","v":""},null,null,null,"市",null,null,"-",null,"-",null,{"$f":"IFERROR(VLOOKUP(Q137,コード表!$B$3:$C$101,2,FALSE),\"\")","v":""},null,{"$f":"IFERROR(VLOOKUP(S137,コード表!$F$7:$G$141,2,FALSE),\"\")","v":""},null,null,"t",null,null,null,null,null,null,null,null,null,null,null,null,null,null,null,null,null,null,null,null,null,null,null,null,null,null,null,null,null,null,null,null,null,null,null,null,null,null,null,null,null,null,null,null,null,null,null,null,"","",{"$f":"IF(BS137=\"\",\"\",IF(COUNTIF(BS$4:BS137,BS137)=1,ROW(),\"\"))","v":""},{"$f":"IFERROR(INDEX(BS:BS,SMALL(BT:BT,ROW(A134))),\"\")","v":""},"","","",""]
[{"$f":"IF(F138<>\"\",事業者基本情報!$E$9&事業者基本情報!$F$9&事業者基本情報!$G$9,\"\")","v":""},{"$f":"IF(F138<>\"\",事業者基本情報!$Y$10,\"\")","v":""},{"$f":"IF(F138<>\"\",事業者基本情報!$Y$7,\"\")","v":""},{"$f":"IF(F138<>\"\",事業者基本情報!$Y$8,\"\")","v":""},{"$f":"IF(F138<>\"\",事業者基本情報!$E$11&事業者基本情報!$F$11&事業者基本情報!$G$11&事業者基本情報!$H$11&事業者基本情報!$I$11,\"\")","v":""},null,null,null,"市",null,null,"-",null,"-",null,{"$f":"IFERROR(VLOOKUP(Q138,コード表!$B$3:$C$101,2,FALSE),\"\")","v":""},null,{"$f":"IFERROR(VLOOKUP(S138,コード表!$F$7:$G$141,2,FALSE),\"\")","v":""},null,null,"t",null,null,null,null,null,null,null,null,null,null,null,null,null,null,null,null,null,null,null,null,null,null,null,null,null,null,null,null,null,null,null,null,null,null,null,null,null,null,null,null,null,null,null,null,null,null,null,null,"","",{"$f":"IF(BS138=\"\",\"\",IF(COUNTIF(BS$4:BS138,BS138)=1,ROW(),\"\"))","v":""},{"$f":"IFERROR(INDEX(BS:BS,SMALL(BT:BT,ROW(A135))),\"\")","v":""},"","","",""]
[{"$f":"IF(F139<>\"\",事業者基本情報!$E$9&事業者基本情報!$F$9&事業者基本情報!$G$9,\"\")","v":""},{"$f":"IF(F139<>\"\",事業者基本情報!$Y$10,\"\")","v":""},{"$f":"IF(F139<>\"\",事業者基本情報!$Y$7,\"\")","v":""},{"$f":"IF(F139<>\"\",事業者基本情報!$Y$8,\"\")","v":""},{"$f":"IF(F139<>\"\",事業者基本情報!$E$11&事業者基本情報!$F$11&事業者基本情報!$G$11&事業者基本情報!$H$11&事業者基本情報!$I$11,\"\")","v":""},null,null,null,"市",null,null,"-",null,"-",null,{"$f":"IFERROR(VLOOKUP(Q139,コード表!$B$3:$C$101,2,FALSE),\"\")","v":""},null,{"$f":"IFERROR(VLOOKUP(S139,コード表!$F$7:$G$141,2,FALSE),\"\")","v":""},null,null,"t",null,null,null,null,null,null,null,null,null,null,null,null,null,null,null,null,null,null,null,null,null,null,null,null,null,null,null,null,null,null,null,null,null,null,null,null,null,null,null,null,null,null,null,null,null,null,null,null,"","",{"$f":"IF(BS139=\"\",\"\",IF(COUNTIF(BS$4:BS139,BS139)=1,ROW(),\"\"))","v":""},{"$f":"IFERROR(INDEX(BS:BS,SMALL(BT:BT,ROW(A136))),\"\")","v":""},"","","",""]
[{"$f":"IF(F140<>\"\",事業者基本情報!$E$9&事業者基本情報!$F$9&事業者基本情報!$G$9,\"\")","v":""},{"$f":"IF(F140<>\"\",事業者基本情報!$Y$10,\"\")","v":""},{"$f":"IF(F140<>\"\",事業者基本情報!$Y$7,\"\")","v":""},{"$f":"IF(F140<>\"\",事業者基本情報!$Y$8,\"\")","v":""},{"$f":"IF(F140<>\"\",事業者基本情報!$E$11&事業者基本情報!$F$11&事業者基本情報!$G$11&事業者基本情報!$H$11&事業者基本情報!$I$11,\"\")","v":""},null,null,null,"市",null,null,"-",null,"-",null,{"$f":"IFERROR(VLOOKUP(Q140,コード表!$B$3:$C$101,2,FALSE),\"\")","v":""},null,{"$f":"IFERROR(VLOOKUP(S140,コード表!$F$7:$G$141,2,FALSE),\"\")","v":""},null,null,"t",null,null,null,null,null,null,null,null,null,null,null,null,null,null,null,null,null,null,null,null,null,null,null,null,null,null,null,null,null,null,null,null,null,null,null,null,null,null,null,null,null,null,null,null,null,null,null,null,"","",{"$f":"IF(BS140=\"\",\"\",IF(COUNTIF(BS$4:BS140,BS140)=1,ROW(),\"\"))","v":""},{"$f":"IFERROR(INDEX(BS:BS,SMALL(BT:BT,ROW(A137))),\"\")","v":""},"","","",""]
[{"$f":"IF(F141<>\"\",事業者基本情報!$E$9&事業者基本情報!$F$9&事業者基本情報!$G$9,\"\")","v":""},{"$f":"IF(F141<>\"\",事業者基本情報!$Y$10,\"\")","v":""},{"$f":"IF(F141<>\"\",事業者基本情報!$Y$7,\"\")","v":""},{"$f":"IF(F141<>\"\",事業者基本情報!$Y$8,\"\")","v":""},{"$f":"IF(F141<>\"\",事業者基本情報!$E$11&事業者基本情報!$F$11&事業者基本情報!$G$11&事業者基本情報!$H$11&事業者基本情報!$I$11,\"\")","v":""},null,null,null,"市",null,null,"-",null,"-",null,{"$f":"IFERROR(VLOOKUP(Q141,コード表!$B$3:$C$101,2,FALSE),\"\")","v":""},null,{"$f":"IFERROR(VLOOKUP(S141,コード表!$F$7:$G$141,2,FALSE),\"\")","v":""},null,null,"t",null,null,null,null,null,null,null,null,null,null,null,null,null,null,null,null,null,null,null,null,null,null,null,null,null,null,null,null,null,null,null,null,null,null,null,null,null,null,null,null,null,null,null,null,null,null,null,null,"","",{"$f":"IF(BS141=\"\",\"\",IF(COUNTIF(BS$4:BS141,BS141)=1,ROW(),\"\"))","v":""},{"$f":"IFERROR(INDEX(BS:BS,SMALL(BT:BT,ROW(A138))),\"\")","v":""},"","","",""]
[{"$f":"IF(F142<>\"\",事業者基本情報!$E$9&事業者基本情報!$F$9&事業者基本情報!$G$9,\"\")","v":""},{"$f":"IF(F142<>\"\",事業者基本情報!$Y$10,\"\")","v":""},{"$f":"IF(F142<>\"\",事業者基本情報!$Y$7,\"\")","v":""},{"$f":"IF(F142<>\"\",事業者基本情報!$Y$8,\"\")","v":""},{"$f":"IF(F142<>\"\",事業者基本情報!$E$11&事業者基本情報!$F$11&事業者基本情報!$G$11&事業者基本情報!$H$11&事業者基本情報!$I$11,\"\")","v":""},null,null,null,"市",null,null,"-",null,"-",null,{"$f":"IFERROR(VLOOKUP(Q142,コード表!$B$3:$C$101,2,FALSE),\"\")","v":""},null,{"$f":"IFERROR(VLOOKUP(S142,コード表!$F$7:$G$141,2,FALSE),\"\")","v":""},null,null,"t",null,null,null,null,null,null,null,null,null,null,null,null,null,null,null,null,null,null,null,null,null,null,null,null,null,null,null,null,null,null,null,null,null,null,null,null,null,null,null,null,null,null,null,null,null,null,null,null,"","",{"$f":"IF(BS142=\"\",\"\",IF(COUNTIF(BS$4:BS142,BS142)=1,ROW(),\"\"))","v":""},{"$f":"IFERROR(INDEX(BS:BS,SMALL(BT:BT,ROW(A139))),\"\")","v":""},"","","",""]
[{"$f":"IF(F143<>\"\",事業者基本情報!$E$9&事業者基本情報!$F$9&事業者基本情報!$G$9,\"\")","v":""},{"$f":"IF(F143<>\"\",事業者基本情報!$Y$10,\"\")","v":""},{"$f":"IF(F143<>\"\",事業者基本情報!$Y$7,\"\")","v":""},{"$f":"IF(F143<>\"\",事業者基本情報!$Y$8,\"\")","v":""},{"$f":"IF(F143<>\"\",事業者基本情報!$E$11&事業者基本情報!$F$11&事業者基本情報!$G$11&事業者基本情報!$H$11&事業者基本情報!$I$11,\"\")","v":""},null,null,null,"市",null,null,"-",null,"-",null,{"$f":"IFERROR(VLOOKUP(Q143,コード表!$B$3:$C$101,2,FALSE),\"\")","v":""},null,{"$f":"IFERROR(VLOOKUP(S143,コード表!$F$7:$G$141,2,FALSE),\"\")","v":""},null,null,"t",null,null,null,null,null,null,null,null,null,null,null,null,null,null,null,null,null,null,null,null,null,null,null,null,null,null,null,null,null,null,null,null,null,null,null,null,null,null,null,null,null,null,null,null,null,null,null,null,"","",{"$f":"IF(BS143=\"\",\"\",IF(COUNTIF(BS$4:BS143,BS143)=1,ROW(),\"\"))","v":""},{"$f":"IFERROR(INDEX(BS:BS,SMALL(BT:BT,ROW(A140))),\"\")","v":""},"","","",""]
[{"$f":"IF(F144<>\"\",事業者基本情報!$E$9&事業者基本情報!$F$9&事業者基本情報!$G$9,\"\")","v":""},{"$f":"IF(F144<>\"\",事業者基本情報!$Y$10,\"\")","v":""},{"$f":"IF(F144<>\"\",事業者基本情報!$Y$7,\"\")","v":""},{"$f":"IF(F144<>\"\",事業者基本情報!$Y$8,\"\")","v":""},{"$f":"IF(F144<>\"\",事業者基本情報!$E$11&事業者基本情報!$F$11&事業者基本情報!$G$11&事業者基本情報!$H$11&事業者基本情報!$I$11,\"\")","v":""},null,null,null,"市",null,null,"-",null,"-",null,{"$f":"IFERROR(VLOOKUP(Q144,コード表!$B$3:$C$101,2,FALSE),\"\")","v":""},null,{"$f":"IFERROR(VLOOKUP(S144,コード表!$F$7:$G$141,2,FALSE),\"\")","v":""},null,null,"t",null,null,null,null,null,null,null,null,null,null,null,null,null,null,null,null,null,null,null,null,null,null,null,null,null,null,null,null,null,null,null,null,null,null,null,null,null,null,null,null,null,null,null,null,null,null,null,null,"","",{"$f":"IF(BS144=\"\",\"\",IF(COUNTIF(BS$4:BS144,BS144)=1,ROW(),\"\"))","v":""},{"$f":"IFERROR(INDEX(BS:BS,SMALL(BT:BT,ROW(A141))),\"\")","v":""},"","","",""]
[{"$f":"IF(F145<>\"\",事業者基本情報!$E$9&事業者基本情報!$F$9&事業者基本情報!$G$9,\"\")","v":""},{"$f":"IF(F145<>\"\",事業者基本情報!$Y$10,\"\")","v":""},{"$f":"IF(F145<>\"\",事業者基本情報!$Y$7,\"\")","v":""},{"$f":"IF(F145<>\"\",事業者基本情報!$Y$8,\"\")","v":""},{"$f":"IF(F145<>\"\",事業者基本情報!$E$11&事業者基本情報!$F$11&事業者基本情報!$G$11&事業者基本情報!$H$11&事業者基本情報!$I$11,\"\")","v":""},null,null,null,"市",null,null,"-",null,"-",null,{"$f":"IFERROR(VLOOKUP(Q145,コード表!$B$3:$C$101,2,FALSE),\"\")","v":""},null,{"$f":"IFERROR(VLOOKUP(S145,コード表!$F$7:$G$141,2,FALSE),\"\")","v":""},null,null,"t",null,null,null,null,null,null,null,null,null,null,null,null,null,null,null,null,null,null,null,null,null,null,null,null,null,null,null,null,null,null,null,null,null,null,null,null,null,null,null,null,null,null,null,null,null,null,null,null,"","",{"$f":"IF(BS145=\"\",\"\",IF(COUNTIF(BS$4:BS145,BS145)=1,ROW(),\"\"))","v":""},{"$f":"IFERROR(INDEX(BS:BS,SMALL(BT:BT,ROW(A142))),\"\")","v":""},"","","",""]
[{"$f":"IF(F146<>\"\",事業者基本情報!$E$9&事業者基本情報!$F$9&事業者基本情報!$G$9,\"\")","v":""},{"$f":"IF(F146<>\"\",事業者基本情報!$Y$10,\"\")","v":""},{"$f":"IF(F146<>\"\",事業者基本情報!$Y$7,\"\")","v":""},{"$f":"IF(F146<>\"\",事業者基本情報!$Y$8,\"\")","v":""},{"$f":"IF(F146<>\"\",事業者基本情報!$E$11&事業者基本情報!$F$11&事業者基本情報!$G$11&事業者基本情報!$H$11&事業者基本情報!$I$11,\"\")","v":""},null,null,null,"市",null,null,"-",null,"-",null,{"$f":"IFERROR(VLOOKUP(Q146,コード表!$B$3:$C$101,2,FALSE),\"\")","v":""},null,{"$f":"IFERROR(VLOOKUP(S146,コード表!$F$7:$G$141,2,FALSE),\"\")","v":""},null,null,"t",null,null,null,null,null,null,null,null,null,null,null,null,null,null,null,null,null,null,null,null,null,null,null,null,null,null,null,null,null,null,null,null,null,null,null,null,null,null,null,null,null,null,null,null,null,null,null,null,"","",{"$f":"IF(BS146=\"\",\"\",IF(COUNTIF(BS$4:BS146,BS146)=1,ROW(),\"\"))","v":""},{"$f":"IFERROR(INDEX(BS:BS,SMALL(BT:BT,ROW(A143))),\"\")","v":""},"","","",""]
[{"$f":"IF(F147<>\"\",事業者基本情報!$E$9&事業者基本情報!$F$9&事業者基本情報!$G$9,\"\")","v":""},{"$f":"IF(F147<>\"\",事業者基本情報!$Y$10,\"\")","v":""},{"$f":"IF(F147<>\"\",事業者基本情報!$Y$7,\"\")","v":""},{"$f":"IF(F147<>\"\",事業者基本情報!$Y$8,\"\")","v":""},{"$f":"IF(F147<>\"\",事業者基本情報!$E$11&事業者基本情報!$F$11&事業者基本情報!$G$11&事業者基本情報!$H$11&事業者基本情報!$I$11,\"\")","v":""},null,null,null,"市",null,null,"-",null,"-",null,{"$f":"IFERROR(VLOOKUP(Q147,コード表!$B$3:$C$101,2,FALSE),\"\")","v":""},null,{"$f":"IFERROR(VLOOKUP(S147,コード表!$F$7:$G$141,2,FALSE),\"\")","v":""},null,null,"t",null,null,null,null,null,null,null,null,null,null,null,null,null,null,null,null,null,null,null,null,null,null,null,null,null,null,null,null,null,null,null,null,null,null,null,null,null,null,null,null,null,null,null,null,null,null,null,null,"","",{"$f":"IF(BS147=\"\",\"\",IF(COUNTIF(BS$4:BS147,BS147)=1,ROW(),\"\"))","v":""},{"$f":"IFERROR(INDEX(BS:BS,SMALL(BT:BT,ROW(A144))),\"\")","v":""},"","","",""]
[{"$f":"IF(F148<>\"\",事業者基本情報!$E$9&事業者基本情報!$F$9&事業者基本情報!$G$9,\"\")","v":""},{"$f":"IF(F148<>\"\",事業者基本情報!$Y$10,\"\")","v":""},{"$f":"IF(F148<>\"\",事業者基本情報!$Y$7,\"\")","v":""},{"$f":"IF(F148<>\"\",事業者基本情報!$Y$8,\"\")","v":""},{"$f":"IF(F148<>\"\",事業者基本情報!$E$11&事業者基本情報!$F$11&事業者基本情報!$G$11&事業者基本情報!$H$11&事業者基本情報!$I$11,\"\")","v":""},null,null,null,"市",null,null,"-",null,"-",null,{"$f":"IFERROR(VLOOKUP(Q148,コード表!$B$3:$C$101,2,FALSE),\"\")","v":""},null,{"$f":"IFERROR(VLOOKUP(S148,コード表!$F$7:$G$141,2,FALSE),\"\")","v":""},null,null,"t",null,null,null,null,null,null,null,null,null,null,null,null,null,null,null,null,null,null,null,null,null,null,null,null,null,null,null,null,null,null,null,null,null,null,null,null,null,null,null,null,null,null,null,null,null,null,null,null,"","",{"$f":"IF(BS148=\"\",\"\",IF(COUNTIF(BS$4:BS148,BS148)=1,ROW(),\"\"))","v":""},{"$f":"IFERROR(INDEX(BS:BS,SMALL(BT:BT,ROW(A145))),\"\")","v":""},"","","",""]
[{"$f":"IF(F149<>\"\",事業者基本情報!$E$9&事業者基本情報!$F$9&事業者基本情報!$G$9,\"\")","v":""},{"$f":"IF(F149<>\"\",事業者基本情報!$Y$10,\"\")","v":""},{"$f":"IF(F149<>\"\",事業者基本情報!$Y$7,\"\")","v":""},{"$f":"IF(F149<>\"\",事業者基本情報!$Y$8,\"\")","v":""},{"$f":"IF(F149<>\"\",事業者基本情報!$E$11&事業者基本情報!$F$11&事業者基本情報!$G$11&事業者基本情報!$H$11&事業者基本情報!$I$11,\"\")","v":""},null,null,null,"市",null,null,"-",null,"-",null,{"$f":"IFERROR(VLOOKUP(Q149,コード表!$B$3:$C$101,2,FALSE),\"\")","v":""},null,{"$f":"IFERROR(VLOOKUP(S149,コード表!$F$7:$G$141,2,FALSE),\"\")","v":""},null,null,"t",null,null,null,null,null,null,null,null,null,null,null,null,null,null,null,null,null,null,null,null,null,null,null,null,null,null,null,null,null,null,null,null,null,null,null,null,null,null,null,null,null,null,null,null,null,null,null,null,"","",{"$f":"IF(BS149=\"\",\"\",IF(COUNTIF(BS$4:BS149,BS149)=1,ROW(),\"\"))","v":""},{"$f":"IFERROR(INDEX(BS:BS,SMALL(BT:BT,ROW(A146))),\"\")","v":""},"","","",""]
[{"$f":"IF(F150<>\"\",事業者基本情報!$E$9&事業者基本情報!$F$9&事業者基本情報!$G$9,\"\")","v":""},{"$f":"IF(F150<>\"\",事業者基本情報!$Y$10,\"\")","v":""},{"$f":"IF(F150<>\"\",事業者基本情報!$Y$7,\"\")","v":""},{"$f":"IF(F150<>\"\",事業者基本情報!$Y$8,\"\")","v":""},{"$f":"IF(F150<>\"\",事業者基本情報!$E$11&事業者基本情報!$F$11&事業者基本情報!$G$11&事業者基本情報!$H$11&事業者基本情報!$I$11,\"\")","v":""},null,null,null,"市",null,null,"-",null,"-",null,{"$f":"IFERROR(VLOOKUP(Q150,コード表!$B$3:$C$101,2,FALSE),\"\")","v":""},null,{"$f":"IFERROR(VLOOKUP(S150,コード表!$F$7:$G$141,2,FALSE),\"\")","v":""},null,null,"t",null,null,null,null,null,null,null,null,null,null,null,null,null,null,null,null,null,null,null,null,null,null,null,null,null,null,null,null,null,null,null,null,null,null,null,null,null,null,null,null,null,null,null,null,null,null,null,null,"","",{"$f":"IF(BS150=\"\",\"\",IF(COUNTIF(BS$4:BS150,BS150)=1,ROW(),\"\"))","v":""},{"$f":"IFERROR(INDEX(BS:BS,SMALL(BT:BT,ROW(A147))),\"\")","v":""},"","","",""]
[{"$f":"IF(F151<>\"\",事業者基本情報!$E$9&事業者基本情報!$F$9&事業者基本情報!$G$9,\"\")","v":""},{"$f":"IF(F151<>\"\",事業者基本情報!$Y$10,\"\")","v":""},{"$f":"IF(F151<>\"\",事業者基本情報!$Y$7,\"\")","v":""},{"$f":"IF(F151<>\"\",事業者基本情報!$Y$8,\"\")","v":""},{"$f":"IF(F151<>\"\",事業者基本情報!$E$11&事業者基本情報!$F$11&事業者基本情報!$G$11&事業者基本情報!$H$11&事業者基本情報!$I$11,\"\")","v":""},null,null,null,"市",null,null,"-",null,"-",null,{"$f":"IFERROR(VLOOKUP(Q151,コード表!$B$3:$C$101,2,FALSE),\"\")","v":""},null,{"$f":"IFERROR(VLOOKUP(S151,コード表!$F$7:$G$141,2,FALSE),\"\")","v":""},null,null,"t",null,null,null,null,null,null,null,null,null,null,null,null,null,null,null,null,null,null,null,null,null,null,null,null,null,null,null,null,null,null,null,null,null,null,null,null,null,null,null,null,null,null,null,null,null,null,null,null,"","",{"$f":"IF(BS151=\"\",\"\",IF(COUNTIF(BS$4:BS151,BS151)=1,ROW(),\"\"))","v":""},{"$f":"IFERROR(INDEX(BS:BS,SMALL(BT:BT,ROW(A148))),\"\")","v":""},"","","",""]
[{"$f":"IF(F152<>\"\",事業者基本情報!$E$9&事業者基本情報!$F$9&事業者基本情報!$G$9,\"\")","v":""},{"$f":"IF(F152<>\"\",事業者基本情報!$Y$10,\"\")","v":""},{"$f":"IF(F152<>\"\",事業者基本情報!$Y$7,\"\")","v":""},{"$f":"IF(F152<>\"\",事業者基本情報!$Y$8,\"\")","v":""},{"$f":"IF(F152<>\"\",事業者基本情報!$E$11&事業者基本情報!$F$11&事業者基本情報!$G$11&事業者基本情報!$H$11&事業者基本情報!$I$11,\"\")","v":""},null,null,null,"市",null,null,"-",null,"-",null,{"$f":"IFERROR(VLOOKUP(Q152,コード表!$B$3:$C$101,2,FALSE),\"\")","v":""},null,{"$f":"IFERROR(VLOOKUP(S152,コード表!$F$7:$G$141,2,FALSE),\"\")","v":""},null,null,"t",null,null,null,null,null,null,null,null,null,null,null,null,null,null,null,null,null,null,null,null,null,null,null,null,null,null,null,null,null,null,null,null,null,null,null,null,null,null,null,null,null,null,null,null,null,null,null,null,"","",{"$f":"IF(BS152=\"\",\"\",IF(COUNTIF(BS$4:BS152,BS152)=1,ROW(),\"\"))","v":""},{"$f":"IFERROR(INDEX(BS:BS,SMALL(BT:BT,ROW(A149))),\"\")","v":""},"","","",""]
[{"$f":"IF(F153<>\"\",事業者基本情報!$E$9&事業者基本情報!$F$9&事業者基本情報!$G$9,\"\")","v":""},{"$f":"IF(F153<>\"\",事業者基本情報!$Y$10,\"\")","v":""},{"$f":"IF(F153<>\"\",事業者基本情報!$Y$7,\"\")","v":""},{"$f":"IF(F153<>\"\",事業者基本情報!$Y$8,\"\")","v":""},{"$f":"IF(F153<>\"\",事業者基本情報!$E$11&事業者基本情報!$F$11&事業者基本情報!$G$11&事業者基本情報!$H$11&事業者基本情報!$I$11,\"\")","v":""},null,null,null,"市",null,null,"-",null,"-",null,{"$f":"IFERROR(VLOOKUP(Q153,コード表!$B$3:$C$101,2,FALSE),\"\")","v":""},null,{"$f":"IFERROR(VLOOKUP(S153,コード表!$F$7:$G$141,2,FALSE),\"\")","v":""},null,null,"t",null,null,null,null,null,null,null,null,null,null,null,null,null,null,null,null,null,null,null,null,null,null,null,null,null,null,null,null,null,null,null,null,null,null,null,null,null,null,null,null,null,null,null,null,null,null,null,null,"","",{"$f":"IF(BS153=\"\",\"\",IF(COUNTIF(BS$4:BS153,BS153)=1,ROW(),\"\"))","v":""},{"$f":"IFERROR(INDEX(BS:BS,SMALL(BT:BT,ROW(A150))),\"\")","v":""},"","","",""]
[{"$f":"IF(F154<>\"\",事業者基本情報!$E$9&事業者基本情報!$F$9&事業者基本情報!$G$9,\"\")","v":""},{"$f":"IF(F154<>\"\",事業者基本情報!$Y$10,\"\")","v":""},{"$f":"IF(F154<>\"\",事業者基本情報!$Y$7,\"\")","v":""},{"$f":"IF(F154<>\"\",事業者基本情報!$Y$8,\"\")","v":""},{"$f":"IF(F154<>\"\",事業者基本情報!$E$11&事業者基本情報!$F$11&事業者基本情報!$G$11&事業者基本情報!$H$11&事業者基本情報!$I$11,\"\")","v":""},null,null,null,"市",null,null,"-",null,"-",null,{"$f":"IFERROR(VLOOKUP(Q154,コード表!$B$3:$C$101,2,FALSE),\"\")","v":""},null,{"$f":"IFERROR(VLOOKUP(S154,コード表!$F$7:$G$141,2,FALSE),\"\")","v":""},null,null,"t",null,null,null,null,null,null,null,null,null,null,null,null,null,null,null,null,null,null,null,null,null,null,null,null,null,null,null,null,null,null,null,null,null,null,null,null,null,null,null,null,null,null,null,null,null,null,null,null,"","",{"$f":"IF(BS154=\"\",\"\",IF(COUNTIF(BS$4:BS154,BS154)=1,ROW(),\"\"))","v":""},{"$f":"IFERROR(INDEX(BS:BS,SMALL(BT:BT,ROW(A151))),\"\")","v":""},"","","",""]
[{"$f":"IF(F155<>\"\",事業者基本情報!$E$9&事業者基本情報!$F$9&事業者基本情報!$G$9,\"\")","v":""},{"$f":"IF(F155<>\"\",事業者基本情報!$Y$10,\"\")","v":""},{"$f":"IF(F155<>\"\",事業者基本情報!$Y$7,\"\")","v":""},{"$f":"IF(F155<>\"\",事業者基本情報!$Y$8,\"\")","v":""},{"$f":"IF(F155<>\"\",事業者基本情報!$E$11&事業者基本情報!$F$11&事業者基本情報!$G$11&事業者基本情報!$H$11&事業者基本情報!$I$11,\"\")","v":""},null,null,null,"市",null,null,"-",null,"-",null,{"$f":"IFERROR(VLOOKUP(Q155,コード表!$B$3:$C$101,2,FALSE),\"\")","v":""},null,{"$f":"IFERROR(VLOOKUP(S155,コード表!$F$7:$G$141,2,FALSE),\"\")","v":""},null,null,"t",null,null,null,null,null,null,null,null,null,null,null,null,null,null,null,null,null,null,null,null,null,null,null,null,null,null,null,null,null,null,null,null,null,null,null,null,null,null,null,null,null,null,null,null,null,null,null,null,"","",{"$f":"IF(BS155=\"\",\"\",IF(COUNTIF(BS$4:BS155,BS155)=1,ROW(),\"\"))","v":""},{"$f":"IFERROR(INDEX(BS:BS,SMALL(BT:BT,ROW(A152))),\"\")","v":""},"","","",""]
[{"$f":"IF(F156<>\"\",事業者基本情報!$E$9&事業者基本情報!$F$9&事業者基本情報!$G$9,\"\")","v":""},{"$f":"IF(F156<>\"\",事業者基本情報!$Y$10,\"\")","v":""},{"$f":"IF(F156<>\"\",事業者基本情報!$Y$7,\"\")","v":""},{"$f":"IF(F156<>\"\",事業者基本情報!$Y$8,\"\")","v":""},{"$f":"IF(F156<>\"\",事業者基本情報!$E$11&事業者基本情報!$F$11&事業者基本情報!$G$11&事業者基本情報!$H$11&事業者基本情報!$I$11,\"\")","v":""},null,null,null,"市",null,null,"-",null,"-",null,{"$f":"IFERROR(VLOOKUP(Q156,コード表!$B$3:$C$101,2,FALSE),\"\")","v":""},null,{"$f":"IFERROR(VLOOKUP(S156,コード表!$F$7:$G$141,2,FALSE),\"\")","v":""},null,null,"t",null,null,null,null,null,null,null,null,null,null,null,null,null,null,null,null,null,null,null,null,null,null,null,null,null,null,null,null,null,null,null,null,null,null,null,null,null,null,null,null,null,null,null,null,null,null,null,null,"","",{"$f":"IF(BS156=\"\",\"\",IF(COUNTIF(BS$4:BS156,BS156)=1,ROW(),\"\"))","v":""},{"$f":"IFERROR(INDEX(BS:BS,SMALL(BT:BT,ROW(A153))),\"\")","v":""},"","","",""]
[{"$f":"IF(F157<>\"\",事業者基本情報!$E$9&事業者基本情報!$F$9&事業者基本情報!$G$9,\"\")","v":""},{"$f":"IF(F157<>\"\",事業者基本情報!$Y$10,\"\")","v":""},{"$f":"IF(F157<>\"\",事業者基本情報!$Y$7,\"\")","v":""},{"$f":"IF(F157<>\"\",事業者基本情報!$Y$8,\"\")","v":""},{"$f":"IF(F157<>\"\",事業者基本情報!$E$11&事業者基本情報!$F$11&事業者基本情報!$G$11&事業者基本情報!$H$11&事業者基本情報!$I$11,\"\")","v":""},null,null,null,"市",null,null,"-",null,"-",null,{"$f":"IFERROR(VLOOKUP(Q157,コード表!$B$3:$C$101,2,FALSE),\"\")","v":""},null,{"$f":"IFERROR(VLOOKUP(S157,コード表!$F$7:$G$141,2,FALSE),\"\")","v":""},null,null,"t",null,null,null,null,null,null,null,null,null,null,null,null,null,null,null,null,null,null,null,null,null,null,null,null,null,null,null,null,null,null,null,null,null,null,null,null,null,null,null,null,null,null,null,null,null,null,null,null,"","",{"$f":"IF(BS157=\"\",\"\",IF(COUNTIF(BS$4:BS157,BS157)=1,ROW(),\"\"))","v":""},{"$f":"IFERROR(INDEX(BS:BS,SMALL(BT:BT,ROW(A154))),\"\")","v":""},"","","",""]
[{"$f":"IF(F158<>\"\",事業者基本情報!$E$9&事業者基本情報!$F$9&事業者基本情報!$G$9,\"\")","v":""},{"$f":"IF(F158<>\"\",事業者基本情報!$Y$10,\"\")","v":""},{"$f":"IF(F158<>\"\",事業者基本情報!$Y$7,\"\")","v":""},{"$f":"IF(F158<>\"\",事業者基本情報!$Y$8,\"\")","v":""},{"$f":"IF(F158<>\"\",事業者基本情報!$E$11&事業者基本情報!$F$11&事業者基本情報!$G$11&事業者基本情報!$H$11&事業者基本情報!$I$11,\"\")","v":""},null,null,null,"市",null,null,"-",null,"-",null,{"$f":"IFERROR(VLOOKUP(Q158,コード表!$B$3:$C$101,2,FALSE),\"\")","v":""},null,{"$f":"IFERROR(VLOOKUP(S158,コード表!$F$7:$G$141,2,FALSE),\"\")","v":""},null,null,"t",null,null,null,null,null,null,null,null,null,null,null,null,null,null,null,null,null,null,null,null,null,null,null,null,null,null,null,null,null,null,null,null,null,null,null,null,null,null,null,null,null,null,null,null,null,null,null,null,"","",{"$f":"IF(BS158=\"\",\"\",IF(COUNTIF(BS$4:BS158,BS158)=1,ROW(),\"\"))","v":""},{"$f":"IFERROR(INDEX(BS:BS,SMALL(BT:BT,ROW(A155))),\"\")","v":""},"","","",""]
[{"$f":"IF(F159<>\"\",事業者基本情報!$E$9&事業者基本情報!$F$9&事業者基本情報!$G$9,\"\")","v":""},{"$f":"IF(F159<>\"\",事業者基本情報!$Y$10,\"\")","v":""},{"$f":"IF(F159<>\"\",事業者基本情報!$Y$7,\"\")","v":""},{"$f":"IF(F159<>\"\",事業者基本情報!$Y$8,\"\")","v":""},{"$f":"IF(F159<>\"\",事業者基本情報!$E$11&事業者基本情報!$F$11&事業者基本情報!$G$11&事業者基本情報!$H$11&事業者基本情報!$I$11,\"\")","v":""},null,null,null,"市",null,null,"-",null,"-",null,{"$f":"IFERROR(VLOOKUP(Q159,コード表!$B$3:$C$101,2,FALSE),\"\")","v":""},null,{"$f":"IFERROR(VLOOKUP(S159,コード表!$F$7:$G$141,2,FALSE),\"\")","v":""},null,null,"t",null,null,null,null,null,null,null,null,null,null,null,null,null,null,null,null,null,null,null,null,null,null,null,null,null,null,null,null,null,null,null,null,null,null,null,null,null,null,null,null,null,null,null,null,null,null,null,null,"","",{"$f":"IF(BS159=\"\",\"\",IF(COUNTIF(BS$4:BS159,BS159)=1,ROW(),\"\"))","v":""},{"$f":"IFERROR(INDEX(BS:BS,SMALL(BT:BT,ROW(A156))),\"\")","v":""},"","","",""]
[{"$f":"IF(F160<>\"\",事業者基本情報!$E$9&事業者基本情報!$F$9&事業者基本情報!$G$9,\"\")","v":""},{"$f":"IF(F160<>\"\",事業者基本情報!$Y$10,\"\")","v":""},{"$f":"IF(F160<>\"\",事業者基本情報!$Y$7,\"\")","v":""},{"$f":"IF(F160<>\"\",事業者基本情報!$Y$8,\"\")","v":""},{"$f":"IF(F160<>\"\",事業者基本情報!$E$11&事業者基本情報!$F$11&事業者基本情報!$G$11&事業者基本情報!$H$11&事業者基本情報!$I$11,\"\")","v":""},null,null,null,"市",null,null,"-",null,"-",null,{"$f":"IFERROR(VLOOKUP(Q160,コード表!$B$3:$C$101,2,FALSE),\"\")","v":""},null,{"$f":"IFERROR(VLOOKUP(S160,コード表!$F$7:$G$141,2,FALSE),\"\")","v":""},null,null,"t",null,null,null,null,null,null,null,null,null,null,null,null,null,null,null,null,null,null,null,null,null,null,null,null,null,null,null,null,null,null,null,null,null,null,null,null,null,null,null,null,null,null,null,null,null,null,null,null,"","",{"$f":"IF(BS160=\"\",\"\",IF(COUNTIF(BS$4:BS160,BS160)=1,ROW(),\"\"))","v":""},{"$f":"IFERROR(INDEX(BS:BS,SMALL(BT:BT,ROW(A157))),\"\")","v":""},"","","",""]
[{"$f":"IF(F161<>\"\",事業者基本情報!$E$9&事業者基本情報!$F$9&事業者基本情報!$G$9,\"\")","v":""},{"$f":"IF(F161<>\"\",事業者基本情報!$Y$10,\"\")","v":""},{"$f":"IF(F161<>\"\",事業者基本情報!$Y$7,\"\")","v":""},{"$f":"IF(F161<>\"\",事業者基本情報!$Y$8,\"\")","v":""},{"$f":"IF(F161<>\"\",事業者基本情報!$E$11&事業者基本情報!$F$11&事業者基本情報!$G$11&事業者基本情報!$H$11&事業者基本情報!$I$11,\"\")","v":""},null,null,null,"市",null,null,"-",null,"-",null,{"$f":"IFERROR(VLOOKUP(Q161,コード表!$B$3:$C$101,2,FALSE),\"\")","v":""},null,{"$f":"IFERROR(VLOOKUP(S161,コード表!$F$7:$G$141,2,FALSE),\"\")","v":""},null,null,"t",null,null,null,null,null,null,null,null,null,null,null,null,null,null,null,null,null,null,null,null,null,null,null,null,null,null,null,null,null,null,null,null,null,null,null,null,null,null,null,null,null,null,null,null,null,null,null,null,"","",{"$f":"IF(BS161=\"\",\"\",IF(COUNTIF(BS$4:BS161,BS161)=1,ROW(),\"\"))","v":""},{"$f":"IFERROR(INDEX(BS:BS,SMALL(BT:BT,ROW(A158))),\"\")","v":""},"","","",""]
[{"$f":"IF(F162<>\"\",事業者基本情報!$E$9&事業者基本情報!$F$9&事業者基本情報!$G$9,\"\")","v":""},{"$f":"IF(F162<>\"\",事業者基本情報!$Y$10,\"\")","v":""},{"$f":"IF(F162<>\"\",事業者基本情報!$Y$7,\"\")","v":""},{"$f":"IF(F162<>\"\",事業者基本情報!$Y$8,\"\")","v":""},{"$f":"IF(F162<>\"\",事業者基本情報!$E$11&事業者基本情報!$F$11&事業者基本情報!$G$11&事業者基本情報!$H$11&事業者基本情報!$I$11,\"\")","v":""},null,null,null,"市",null,null,"-",null,"-",null,{"$f":"IFERROR(VLOOKUP(Q162,コード表!$B$3:$C$101,2,FALSE),\"\")","v":""},null,{"$f":"IFERROR(VLOOKUP(S162,コード表!$F$7:$G$141,2,FALSE),\"\")","v":""},null,null,"t",null,null,null,null,null,null,null,null,null,null,null,null,null,null,null,null,null,null,null,null,null,null,null,null,null,null,null,null,null,null,null,null,null,null,null,null,null,null,null,null,null,null,null,null,null,null,null,null,"","",{"$f":"IF(BS162=\"\",\"\",IF(COUNTIF(BS$4:BS162,BS162)=1,ROW(),\"\"))","v":""},{"$f":"IFERROR(INDEX(BS:BS,SMALL(BT:BT,ROW(A159))),\"\")","v":""},"","","",""]
[{"$f":"IF(F163<>\"\",事業者基本情報!$E$9&事業者基本情報!$F$9&事業者基本情報!$G$9,\"\")","v":""},{"$f":"IF(F163<>\"\",事業者基本情報!$Y$10,\"\")","v":""},{"$f":"IF(F163<>\"\",事業者基本情報!$Y$7,\"\")","v":""},{"$f":"IF(F163<>\"\",事業者基本情報!$Y$8,\"\")","v":""},{"$f":"IF(F163<>\"\",事業者基本情報!$E$11&事業者基本情報!$F$11&事業者基本情報!$G$11&事業者基本情報!$H$11&事業者基本情報!$I$11,\"\")","v":""},null,null,null,"市",null,null,"-",null,"-",null,{"$f":"IFERROR(VLOOKUP(Q163,コード表!$B$3:$C$101,2,FALSE),\"\")","v":""},null,{"$f":"IFERROR(VLOOKUP(S163,コード表!$F$7:$G$141,2,FALSE),\"\")","v":""},null,null,"t",null,null,null,null,null,null,null,null,null,null,null,null,null,null,null,null,null,null,null,null,null,null,null,null,null,null,null,null,null,null,null,null,null,null,null,null,null,null,null,null,null,null,null,null,null,null,null,null,"","",{"$f":"IF(BS163=\"\",\"\",IF(COUNTIF(BS$4:BS163,BS163)=1,ROW(),\"\"))","v":""},{"$f":"IFERROR(INDEX(BS:BS,SMALL(BT:BT,ROW(A160))),\"\")","v":""},"","","",""]
[{"$f":"IF(F164<>\"\",事業者基本情報!$E$9&事業者基本情報!$F$9&事業者基本情報!$G$9,\"\")","v":""},{"$f":"IF(F164<>\"\",事業者基本情報!$Y$10,\"\")","v":""},{"$f":"IF(F164<>\"\",事業者基本情報!$Y$7,\"\")","v":""},{"$f":"IF(F164<>\"\",事業者基本情報!$Y$8,\"\")","v":""},{"$f":"IF(F164<>\"\",事業者基本情報!$E$11&事業者基本情報!$F$11&事業者基本情報!$G$11&事業者基本情報!$H$11&事業者基本情報!$I$11,\"\")","v":""},null,null,null,"市",null,null,"-",null,"-",null,{"$f":"IFERROR(VLOOKUP(Q164,コード表!$B$3:$C$101,2,FALSE),\"\")","v":""},null,{"$f":"IFERROR(VLOOKUP(S164,コード表!$F$7:$G$141,2,FALSE),\"\")","v":""},null,null,"t",null,null,null,null,null,null,null,null,null,null,null,null,null,null,null,null,null,null,null,null,null,null,null,null,null,null,null,null,null,null,null,null,null,null,null,null,null,null,null,null,null,null,null,null,null,null,null,null,"","",{"$f":"IF(BS164=\"\",\"\",IF(COUNTIF(BS$4:BS164,BS164)=1,ROW(),\"\"))","v":""},{"$f":"IFERROR(INDEX(BS:BS,SMALL(BT:BT,ROW(A161))),\"\")","v":""},"","","",""]
[{"$f":"IF(F165<>\"\",事業者基本情報!$E$9&事業者基本情報!$F$9&事業者基本情報!$G$9,\"\")","v":""},{"$f":"IF(F165<>\"\",事業者基本情報!$Y$10,\"\")","v":""},{"$f":"IF(F165<>\"\",事業者基本情報!$Y$7,\"\")","v":""},{"$f":"IF(F165<>\"\",事業者基本情報!$Y$8,\"\")","v":""},{"$f":"IF(F165<>\"\",事業者基本情報!$E$11&事業者基本情報!$F$11&事業者基本情報!$G$11&事業者基本情報!$H$11&事業者基本情報!$I$11,\"\")","v":""},null,null,null,"市",null,null,"-",null,"-",null,{"$f":"IFERROR(VLOOKUP(Q165,コード表!$B$3:$C$101,2,FALSE),\"\")","v":""},null,{"$f":"IFERROR(VLOOKUP(S165,コード表!$F$7:$G$141,2,FALSE),\"\")","v":""},null,null,"t",null,null,null,null,null,null,null,null,null,null,null,null,null,null,null,null,null,null,null,null,null,null,null,null,null,null,null,null,null,null,null,null,null,null,null,null,null,null,null,null,null,null,null,null,null,null,null,null,"","",{"$f":"IF(BS165=\"\",\"\",IF(COUNTIF(BS$4:BS165,BS165)=1,ROW(),\"\"))","v":""},{"$f":"IFERROR(INDEX(BS:BS,SMALL(BT:BT,ROW(A162))),\"\")","v":""},"","","",""]
[{"$f":"IF(F166<>\"\",事業者基本情報!$E$9&事業者基本情報!$F$9&事業者基本情報!$G$9,\"\")","v":""},{"$f":"IF(F166<>\"\",事業者基本情報!$Y$10,\"\")","v":""},{"$f":"IF(F166<>\"\",事業者基本情報!$Y$7,\"\")","v":""},{"$f":"IF(F166<>\"\",事業者基本情報!$Y$8,\"\")","v":""},{"$f":"IF(F166<>\"\",事業者基本情報!$E$11&事業者基本情報!$F$11&事業者基本情報!$G$11&事業者基本情報!$H$11&事業者基本情報!$I$11,\"\")","v":""},null,null,null,"市",null,null,"-",null,"-",null,{"$f":"IFERROR(VLOOKUP(Q166,コード表!$B$3:$C$101,2,FALSE),\"\")","v":""},null,{"$f":"IFERROR(VLOOKUP(S166,コード表!$F$7:$G$141,2,FALSE),\"\")","v":""},null,null,"t",null,null,null,null,null,null,null,null,null,null,null,null,null,null,null,null,null,null,null,null,null,null,null,null,null,null,null,null,null,null,null,null,null,null,null,null,null,null,null,null,null,null,null,null,null,null,null,null,"","",{"$f":"IF(BS166=\"\",\"\",IF(COUNTIF(BS$4:BS166,BS166)=1,ROW(),\"\"))","v":""},{"$f":"IFERROR(INDEX(BS:BS,SMALL(BT:BT,ROW(A163))),\"\")","v":""},"","","",""]
[{"$f":"IF(F167<>\"\",事業者基本情報!$E$9&事業者基本情報!$F$9&事業者基本情報!$G$9,\"\")","v":""},{"$f":"IF(F167<>\"\",事業者基本情報!$Y$10,\"\")","v":""},{"$f":"IF(F167<>\"\",事業者基本情報!$Y$7,\"\")","v":""},{"$f":"IF(F167<>\"\",事業者基本情報!$Y$8,\"\")","v":""},{"$f":"IF(F167<>\"\",事業者基本情報!$E$11&事業者基本情報!$F$11&事業者基本情報!$G$11&事業者基本情報!$H$11&事業者基本情報!$I$11,\"\")","v":""},null,null,null,"市",null,null,"-",null,"-",null,{"$f":"IFERROR(VLOOKUP(Q167,コード表!$B$3:$C$101,2,FALSE),\"\")","v":""},null,{"$f":"IFERROR(VLOOKUP(S167,コード表!$F$7:$G$141,2,FALSE),\"\")","v":""},null,null,"t",null,null,null,null,null,null,null,null,null,null,null,null,null,null,null,null,null,null,null,null,null,null,null,null,null,null,null,null,null,null,null,null,null,null,null,null,null,null,null,null,null,null,null,null,null,null,null,null,"","",{"$f":"IF(BS167=\"\",\"\",IF(COUNTIF(BS$4:BS167,BS167)=1,ROW(),\"\"))","v":""},{"$f":"IFERROR(INDEX(BS:BS,SMALL(BT:BT,ROW(A164))),\"\")","v":""},"","","",""]
[{"$f":"IF(F168<>\"\",事業者基本情報!$E$9&事業者基本情報!$F$9&事業者基本情報!$G$9,\"\")","v":""},{"$f":"IF(F168<>\"\",事業者基本情報!$Y$10,\"\")","v":""},{"$f":"IF(F168<>\"\",事業者基本情報!$Y$7,\"\")","v":""},{"$f":"IF(F168<>\"\",事業者基本情報!$Y$8,\"\")","v":""},{"$f":"IF(F168<>\"\",事業者基本情報!$E$11&事業者基本情報!$F$11&事業者基本情報!$G$11&事業者基本情報!$H$11&事業者基本情報!$I$11,\"\")","v":""},null,null,null,"市",null,null,"-",null,"-",null,{"$f":"IFERROR(VLOOKUP(Q168,コード表!$B$3:$C$101,2,FALSE),\"\")","v":""},null,{"$f":"IFERROR(VLOOKUP(S168,コード表!$F$7:$G$141,2,FALSE),\"\")","v":""},null,null,"t",null,null,null,null,null,null,null,null,null,null,null,null,null,null,null,null,null,null,null,null,null,null,null,null,null,null,null,null,null,null,null,null,null,null,null,null,null,null,null,null,null,null,null,null,null,null,null,null,"","",{"$f":"IF(BS168=\"\",\"\",IF(COUNTIF(BS$4:BS168,BS168)=1,ROW(),\"\"))","v":""},{"$f":"IFERROR(INDEX(BS:BS,SMALL(BT:BT,ROW(A165))),\"\")","v":""},"","","",""]
[{"$f":"IF(F169<>\"\",事業者基本情報!$E$9&事業者基本情報!$F$9&事業者基本情報!$G$9,\"\")","v":""},{"$f":"IF(F169<>\"\",事業者基本情報!$Y$10,\"\")","v":""},{"$f":"IF(F169<>\"\",事業者基本情報!$Y$7,\"\")","v":""},{"$f":"IF(F169<>\"\",事業者基本情報!$Y$8,\"\")","v":""},{"$f":"IF(F169<>\"\",事業者基本情報!$E$11&事業者基本情報!$F$11&事業者基本情報!$G$11&事業者基本情報!$H$11&事業者基本情報!$I$11,\"\")","v":""},null,null,null,"市",null,null,"-",null,"-",null,{"$f":"IFERROR(VLOOKUP(Q169,コード表!$B$3:$C$101,2,FALSE),\"\")","v":""},null,{"$f":"IFERROR(VLOOKUP(S169,コード表!$F$7:$G$141,2,FALSE),\"\")","v":""},null,null,"t",null,null,null,null,null,null,null,null,null,null,null,null,null,null,null,null,null,null,null,null,null,null,null,null,null,null,null,null,null,null,null,null,null,null,null,null,null,null,null,null,null,null,null,null,null,null,null,null,"","",{"$f":"IF(BS169=\"\",\"\",IF(COUNTIF(BS$4:BS169,BS169)=1,ROW(),\"\"))","v":""},{"$f":"IFERROR(INDEX(BS:BS,SMALL(BT:BT,ROW(A166))),\"\")","v":""},"","","",""]
[{"$f":"IF(F170<>\"\",事業者基本情報!$E$9&事業者基本情報!$F$9&事業者基本情報!$G$9,\"\")","v":""},{"$f":"IF(F170<>\"\",事業者基本情報!$Y$10,\"\")","v":""},{"$f":"IF(F170<>\"\",事業者基本情報!$Y$7,\"\")","v":""},{"$f":"IF(F170<>\"\",事業者基本情報!$Y$8,\"\")","v":""},{"$f":"IF(F170<>\"\",事業者基本情報!$E$11&事業者基本情報!$F$11&事業者基本情報!$G$11&事業者基本情報!$H$11&事業者基本情報!$I$11,\"\")","v":""},null,null,null,"市",null,null,"-",null,"-",null,{"$f":"IFERROR(VLOOKUP(Q170,コード表!$B$3:$C$101,2,FALSE),\"\")","v":""},null,{"$f":"IFERROR(VLOOKUP(S170,コード表!$F$7:$G$141,2,FALSE),\"\")","v":""},null,null,"t",null,null,null,null,null,null,null,null,null,null,null,null,null,null,null,null,null,null,null,null,null,null,null,null,null,null,null,null,null,null,null,null,null,null,null,null,null,null,null,null,null,null,null,null,null,null,null,null,"","",{"$f":"IF(BS170=\"\",\"\",IF(COUNTIF(BS$4:BS170,BS170)=1,ROW(),\"\"))","v":""},{"$f":"IFERROR(INDEX(BS:BS,SMALL(BT:BT,ROW(A167))),\"\")","v":""},"","","",""]
[{"$f":"IF(F171<>\"\",事業者基本情報!$E$9&事業者基本情報!$F$9&事業者基本情報!$G$9,\"\")","v":""},{"$f":"IF(F171<>\"\",事業者基本情報!$Y$10,\"\")","v":""},{"$f":"IF(F171<>\"\",事業者基本情報!$Y$7,\"\")","v":""},{"$f":"IF(F171<>\"\",事業者基本情報!$Y$8,\"\")","v":""},{"$f":"IF(F171<>\"\",事業者基本情報!$E$11&事業者基本情報!$F$11&事業者基本情報!$G$11&事業者基本情報!$H$11&事業者基本情報!$I$11,\"\")","v":""},null,null,null,"市",null,null,"-",null,"-",null,{"$f":"IFERROR(VLOOKUP(Q171,コード表!$B$3:$C$101,2,FALSE),\"\")","v":""},null,{"$f":"IFERROR(VLOOKUP(S171,コード表!$F$7:$G$141,2,FALSE),\"\")","v":""},null,null,"t",null,null,null,null,null,null,null,null,null,null,null,null,null,null,null,null,null,null,null,null,null,null,null,null,null,null,null,null,null,null,null,null,null,null,null,null,null,null,null,null,null,null,null,null,null,null,null,null,"","",{"$f":"IF(BS171=\"\",\"\",IF(COUNTIF(BS$4:BS171,BS171)=1,ROW(),\"\"))","v":""},{"$f":"IFERROR(INDEX(BS:BS,SMALL(BT:BT,ROW(A168))),\"\")","v":""},"","","",""]
[{"$f":"IF(F172<>\"\",事業者基本情報!$E$9&事業者基本情報!$F$9&事業者基本情報!$G$9,\"\")","v":""},{"$f":"IF(F172<>\"\",事業者基本情報!$Y$10,\"\")","v":""},{"$f":"IF(F172<>\"\",事業者基本情報!$Y$7,\"\")","v":""},{"$f":"IF(F172<>\"\",事業者基本情報!$Y$8,\"\")","v":""},{"$f":"IF(F172<>\"\",事業者基本情報!$E$11&事業者基本情報!$F$11&事業者基本情報!$G$11&事業者基本情報!$H$11&事業者基本情報!$I$11,\"\")","v":""},null,null,null,"市",null,null,"-",null,"-",null,{"$f":"IFERROR(VLOOKUP(Q172,コード表!$B$3:$C$101,2,FALSE),\"\")","v":""},null,{"$f":"IFERROR(VLOOKUP(S172,コード表!$F$7:$G$141,2,FALSE),\"\")","v":""},null,null,"t",null,null,null,null,null,null,null,null,null,null,null,null,null,null,null,null,null,null,null,null,null,null,null,null,null,null,null,null,null,null,null,null,null,null,null,null,null,null,null,null,null,null,null,null,null,null,null,null,"","",{"$f":"IF(BS172=\"\",\"\",IF(COUNTIF(BS$4:BS172,BS172)=1,ROW(),\"\"))","v":""},{"$f":"IFERROR(INDEX(BS:BS,SMALL(BT:BT,ROW(A169))),\"\")","v":""},"","","",""]
[{"$f":"IF(F173<>\"\",事業者基本情報!$E$9&事業者基本情報!$F$9&事業者基本情報!$G$9,\"\")","v":""},{"$f":"IF(F173<>\"\",事業者基本情報!$Y$10,\"\")","v":""},{"$f":"IF(F173<>\"\",事業者基本情報!$Y$7,\"\")","v":""},{"$f":"IF(F173<>\"\",事業者基本情報!$Y$8,\"\")","v":""},{"$f":"IF(F173<>\"\",事業者基本情報!$E$11&事業者基本情報!$F$11&事業者基本情報!$G$11&事業者基本情報!$H$11&事業者基本情報!$I$11,\"\")","v":""},null,null,null,"市",null,null,"-",null,"-",null,{"$f":"IFERROR(VLOOKUP(Q173,コード表!$B$3:$C$101,2,FALSE),\"\")","v":""},null,{"$f":"IFERROR(VLOOKUP(S173,コード表!$F$7:$G$141,2,FALSE),\"\")","v":""},null,null,"t",null,null,null,null,null,null,null,null,null,null,null,null,null,null,null,null,null,null,null,null,null,null,null,null,null,null,null,null,null,null,null,null,null,null,null,null,null,null,null,null,null,null,null,null,null,null,null,null,"","",{"$f":"IF(BS173=\"\",\"\",IF(COUNTIF(BS$4:BS173,BS173)=1,ROW(),\"\"))","v":""},{"$f":"IFERROR(INDEX(BS:BS,SMALL(BT:BT,ROW(A170))),\"\")","v":""},"","","",""]
[{"$f":"IF(F174<>\"\",事業者基本情報!$E$9&事業者基本情報!$F$9&事業者基本情報!$G$9,\"\")","v":""},{"$f":"IF(F174<>\"\",事業者基本情報!$Y$10,\"\")","v":""},{"$f":"IF(F174<>\"\",事業者基本情報!$Y$7,\"\")","v":""},{"$f":"IF(F174<>\"\",事業者基本情報!$Y$8,\"\")","v":""},{"$f":"IF(F174<>\"\",事業者基本情報!$E$11&事業者基本情報!$F$11&事業者基本情報!$G$11&事業者基本情報!$H$11&事業者基本情報!$I$11,\"\")","v":""},null,null,null,"市",null,null,"-",null,"-",null,{"$f":"IFERROR(VLOOKUP(Q174,コード表!$B$3:$C$101,2,FALSE),\"\")","v":""},null,{"$f":"IFERROR(VLOOKUP(S174,コード表!$F$7:$G$141,2,FALSE),\"\")","v":""},null,null,"t",null,null,null,null,null,null,null,null,null,null,null,null,null,null,null,null,null,null,null,null,null,null,null,null,null,null,null,null,null,null,null,null,null,null,null,null,null,null,null,null,null,null,null,null,null,null,null,null,"","",{"$f":"IF(BS174=\"\",\"\",IF(COUNTIF(BS$4:BS174,BS174)=1,ROW(),\"\"))","v":""},{"$f":"IFERROR(INDEX(BS:BS,SMALL(BT:BT,ROW(A171))),\"\")","v":""},"","","",""]
[{"$f":"IF(F175<>\"\",事業者基本情報!$E$9&事業者基本情報!$F$9&事業者基本情報!$G$9,\"\")","v":""},{"$f":"IF(F175<>\"\",事業者基本情報!$Y$10,\"\")","v":""},{"$f":"IF(F175<>\"\",事業者基本情報!$Y$7,\"\")","v":""},{"$f":"IF(F175<>\"\",事業者基本情報!$Y$8,\"\")","v":""},{"$f":"IF(F175<>\"\",事業者基本情報!$E$11&事業者基本情報!$F$11&事業者基本情報!$G$11&事業者基本情報!$H$11&事業者基本情報!$I$11,\"\")","v":""},null,null,null,"市",null,null,"-",null,"-",null,{"$f":"IFERROR(VLOOKUP(Q175,コード表!$B$3:$C$101,2,FALSE),\"\")","v":""},null,{"$f":"IFERROR(VLOOKUP(S175,コード表!$F$7:$G$141,2,FALSE),\"\")","v":""},null,null,"t",null,null,null,null,null,null,null,null,null,null,null,null,null,null,null,null,null,null,null,null,null,null,null,null,null,null,null,null,null,null,null,null,null,null,null,null,null,null,null,null,null,null,null,null,null,null,null,null,"","",{"$f":"IF(BS175=\"\",\"\",IF(COUNTIF(BS$4:BS175,BS175)=1,ROW(),\"\"))","v":""},{"$f":"IFERROR(INDEX(BS:BS,SMALL(BT:BT,ROW(A172))),\"\")","v":""},"","","",""]
[{"$f":"IF(F176<>\"\",事業者基本情報!$E$9&事業者基本情報!$F$9&事業者基本情報!$G$9,\"\")","v":""},{"$f":"IF(F176<>\"\",事業者基本情報!$Y$10,\"\")","v":""},{"$f":"IF(F176<>\"\",事業者基本情報!$Y$7,\"\")","v":""},{"$f":"IF(F176<>\"\",事業者基本情報!$Y$8,\"\")","v":""},{"$f":"IF(F176<>\"\",事業者基本情報!$E$11&事業者基本情報!$F$11&事業者基本情報!$G$11&事業者基本情報!$H$11&事業者基本情報!$I$11,\"\")","v":""},null,null,null,"市",null,null,"-",null,"-",null,{"$f":"IFERROR(VLOOKUP(Q176,コード表!$B$3:$C$101,2,FALSE),\"\")","v":""},null,{"$f":"IFERROR(VLOOKUP(S176,コード表!$F$7:$G$141,2,FALSE),\"\")","v":""},null,null,"t",null,null,null,null,null,null,null,null,null,null,null,null,null,null,null,null,null,null,null,null,null,null,null,null,null,null,null,null,null,null,null,null,null,null,null,null,null,null,null,null,null,null,null,null,null,null,null,null,"","",{"$f":"IF(BS176=\"\",\"\",IF(COUNTIF(BS$4:BS176,BS176)=1,ROW(),\"\"))","v":""},{"$f":"IFERROR(INDEX(BS:BS,SMALL(BT:BT,ROW(A173))),\"\")","v":""},"","","",""]
[{"$f":"IF(F177<>\"\",事業者基本情報!$E$9&事業者基本情報!$F$9&事業者基本情報!$G$9,\"\")","v":""},{"$f":"IF(F177<>\"\",事業者基本情報!$Y$10,\"\")","v":""},{"$f":"IF(F177<>\"\",事業者基本情報!$Y$7,\"\")","v":""},{"$f":"IF(F177<>\"\",事業者基本情報!$Y$8,\"\")","v":""},{"$f":"IF(F177<>\"\",事業者基本情報!$E$11&事業者基本情報!$F$11&事業者基本情報!$G$11&事業者基本情報!$H$11&事業者基本情報!$I$11,\"\")","v":""},null,null,null,"市",null,null,"-",null,"-",null,{"$f":"IFERROR(VLOOKUP(Q177,コード表!$B$3:$C$101,2,FALSE),\"\")","v":""},null,{"$f":"IFERROR(VLOOKUP(S177,コード表!$F$7:$G$141,2,FALSE),\"\")","v":""},null,null,"t",null,null,null,null,null,null,null,null,null,null,null,null,null,null,null,null,null,null,null,null,null,null,null,null,null,null,null,null,null,null,null,null,null,null,null,null,null,null,null,null,null,null,null,null,null,null,null,null,"","",{"$f":"IF(BS177=\"\",\"\",IF(COUNTIF(BS$4:BS177,BS177)=1,ROW(),\"\"))","v":""},{"$f":"IFERROR(INDEX(BS:BS,SMALL(BT:BT,ROW(A174))),\"\")","v":""},"","","",""]
[{"$f":"IF(F178<>\"\",事業者基本情報!$E$9&事業者基本情報!$F$9&事業者基本情報!$G$9,\"\")","v":""},{"$f":"IF(F178<>\"\",事業者基本情報!$Y$10,\"\")","v":""},{"$f":"IF(F178<>\"\",事業者基本情報!$Y$7,\"\")","v":""},{"$f":"IF(F178<>\"\",事業者基本情報!$Y$8,\"\")","v":""},{"$f":"IF(F178<>\"\",事業者基本情報!$E$11&事業者基本情報!$F$11&事業者基本情報!$G$11&事業者基本情報!$H$11&事業者基本情報!$I$11,\"\")","v":""},null,null,null,"市",null,null,"-",null,"-",null,{"$f":"IFERROR(VLOOKUP(Q178,コード表!$B$3:$C$101,2,FALSE),\"\")","v":""},null,{"$f":"IFERROR(VLOOKUP(S178,コード表!$F$7:$G$141,2,FALSE),\"\")","v":""},null,null,"t",null,null,null,null,null,null,null,null,null,null,null,null,null,null,null,null,null,null,null,null,null,null,null,null,null,null,null,null,null,null,null,null,null,null,null,null,null,null,null,null,null,null,null,null,null,null,null,null,"","",{"$f":"IF(BS178=\"\",\"\",IF(COUNTIF(BS$4:BS178,BS178)=1,ROW(),\"\"))","v":""},{"$f":"IFERROR(INDEX(BS:BS,SMALL(BT:BT,ROW(A175))),\"\")","v":""},"","","",""]
[{"$f":"IF(F179<>\"\",事業者基本情報!$E$9&事業者基本情報!$F$9&事業者基本情報!$G$9,\"\")","v":""},{"$f":"IF(F179<>\"\",事業者基本情報!$Y$10,\"\")","v":""},{"$f":"IF(F179<>\"\",事業者基本情報!$Y$7,\"\")","v":""},{"$f":"IF(F179<>\"\",事業者基本情報!$Y$8,\"\")","v":""},{"$f":"IF(F179<>\"\",事業者基本情報!$E$11&事業者基本情報!$F$11&事業者基本情報!$G$11&事業者基本情報!$H$11&事業者基本情報!$I$11,\"\")","v":""},null,null,null,"市",null,null,"-",null,"-",null,{"$f":"IFERROR(VLOOKUP(Q179,コード表!$B$3:$C$101,2,FALSE),\"\")","v":""},null,{"$f":"IFERROR(VLOOKUP(S179,コード表!$F$7:$G$141,2,FALSE),\"\")","v":""},null,null,"t",null,null,null,null,null,null,null,null,null,null,null,null,null,null,null,null,null,null,null,null,null,null,null,null,null,null,null,null,null,null,null,null,null,null,null,null,null,null,null,null,null,null,null,null,null,null,null,null,"","",{"$f":"IF(BS179=\"\",\"\",IF(COUNTIF(BS$4:BS179,BS179)=1,ROW(),\"\"))","v":""},{"$f":"IFERROR(INDEX(BS:BS,SMALL(BT:BT,ROW(A176))),\"\")","v":""},"","","",""]
[{"$f":"IF(F180<>\"\",事業者基本情報!$E$9&事業者基本情報!$F$9&事業者基本情報!$G$9,\"\")","v":""},{"$f":"IF(F180<>\"\",事業者基本情報!$Y$10,\"\")","v":""},{"$f":"IF(F180<>\"\",事業者基本情報!$Y$7,\"\")","v":""},{"$f":"IF(F180<>\"\",事業者基本情報!$Y$8,\"\")","v":""},{"$f":"IF(F180<>\"\",事業者基本情報!$E$11&事業者基本情報!$F$11&事業者基本情報!$G$11&事業者基本情報!$H$11&事業者基本情報!$I$11,\"\")","v":""},null,null,null,"市",null,null,"-",null,"-",null,{"$f":"IFERROR(VLOOKUP(Q180,コード表!$B$3:$C$101,2,FALSE),\"\")","v":""},null,{"$f":"IFERROR(VLOOKUP(S180,コード表!$F$7:$G$141,2,FALSE),\"\")","v":""},null,null,"t",null,null,null,null,null,null,null,null,null,null,null,null,null,null,null,null,null,null,null,null,null,null,null,null,null,null,null,null,null,null,null,null,null,null,null,null,null,null,null,null,null,null,null,null,null,null,null,null,"","",{"$f":"IF(BS180=\"\",\"\",IF(COUNTIF(BS$4:BS180,BS180)=1,ROW(),\"\"))","v":""},{"$f":"IFERROR(INDEX(BS:BS,SMALL(BT:BT,ROW(A177))),\"\")","v":""},"","","",""]
[{"$f":"IF(F181<>\"\",事業者基本情報!$E$9&事業者基本情報!$F$9&事業者基本情報!$G$9,\"\")","v":""},{"$f":"IF(F181<>\"\",事業者基本情報!$Y$10,\"\")","v":""},{"$f":"IF(F181<>\"\",事業者基本情報!$Y$7,\"\")","v":""},{"$f":"IF(F181<>\"\",事業者基本情報!$Y$8,\"\")","v":""},{"$f":"IF(F181<>\"\",事業者基本情報!$E$11&事業者基本情報!$F$11&事業者基本情報!$G$11&事業者基本情報!$H$11&事業者基本情報!$I$11,\"\")","v":""},null,null,null,"市",null,null,"-",null,"-",null,{"$f":"IFERROR(VLOOKUP(Q181,コード表!$B$3:$C$101,2,FALSE),\"\")","v":""},null,{"$f":"IFERROR(VLOOKUP(S181,コード表!$F$7:$G$141,2,FALSE),\"\")","v":""},null,null,"t",null,null,null,null,null,null,null,null,null,null,null,null,null,null,null,null,null,null,null,null,null,null,null,null,null,null,null,null,null,null,null,null,null,null,null,null,null,null,null,null,null,null,null,null,null,null,null,null,"","",{"$f":"IF(BS181=\"\",\"\",IF(COUNTIF(BS$4:BS181,BS181)=1,ROW(),\"\"))","v":""},{"$f":"IFERROR(INDEX(BS:BS,SMALL(BT:BT,ROW(A178))),\"\")","v":""},"","","",""]
[{"$f":"IF(F182<>\"\",事業者基本情報!$E$9&事業者基本情報!$F$9&事業者基本情報!$G$9,\"\")","v":""},{"$f":"IF(F182<>\"\",事業者基本情報!$Y$10,\"\")","v":""},{"$f":"IF(F182<>\"\",事業者基本情報!$Y$7,\"\")","v":""},{"$f":"IF(F182<>\"\",事業者基本情報!$Y$8,\"\")","v":""},{"$f":"IF(F182<>\"\",事業者基本情報!$E$11&事業者基本情報!$F$11&事業者基本情報!$G$11&事業者基本情報!$H$11&事業者基本情報!$I$11,\"\")","v":""},null,null,null,"市",null,null,"-",null,"-",null,{"$f":"IFERROR(VLOOKUP(Q182,コード表!$B$3:$C$101,2,FALSE),\"\")","v":""},null,{"$f":"IFERROR(VLOOKUP(S182,コード表!$F$7:$G$141,2,FALSE),\"\")","v":""},null,null,"t",null,null,null,null,null,null,null,null,null,null,null,null,null,null,null,null,null,null,null,null,null,null,null,null,null,null,null,null,null,null,null,null,null,null,null,null,null,null,null,null,null,null,null,null,null,null,null,null,"","",{"$f":"IF(BS182=\"\",\"\",IF(COUNTIF(BS$4:BS182,BS182)=1,ROW(),\"\"))","v":""},{"$f":"IFERROR(INDEX(BS:BS,SMALL(BT:BT,ROW(A179))),\"\")","v":""},"","","",""]
[{"$f":"IF(F183<>\"\",事業者基本情報!$E$9&事業者基本情報!$F$9&事業者基本情報!$G$9,\"\")","v":""},{"$f":"IF(F183<>\"\",事業者基本情報!$Y$10,\"\")","v":""},{"$f":"IF(F183<>\"\",事業者基本情報!$Y$7,\"\")","v":""},{"$f":"IF(F183<>\"\",事業者基本情報!$Y$8,\"\")","v":""},{"$f":"IF(F183<>\"\",事業者基本情報!$E$11&事業者基本情報!$F$11&事業者基本情報!$G$11&事業者基本情報!$H$11&事業者基本情報!$I$11,\"\")","v":""},null,null,null,"市",null,null,"-",null,"-",null,{"$f":"IFERROR(VLOOKUP(Q183,コード表!$B$3:$C$101,2,FALSE),\"\")","v":""},null,{"$f":"IFERROR(VLOOKUP(S183,コード表!$F$7:$G$141,2,FALSE),\"\")","v":""},null,null,"t",null,null,null,null,null,null,null,null,null,null,null,null,null,null,null,null,null,null,null,null,null,null,null,null,null,null,null,null,null,null,null,null,null,null,null,null,null,null,null,null,null,null,null,null,null,null,null,null,"","",{"$f":"IF(BS183=\"\",\"\",IF(COUNTIF(BS$4:BS183,BS183)=1,ROW(),\"\"))","v":""},{"$f":"IFERROR(INDEX(BS:BS,SMALL(BT:BT,ROW(A180))),\"\")","v":""},"","","",""]
[{"$f":"IF(F184<>\"\",事業者基本情報!$E$9&事業者基本情報!$F$9&事業者基本情報!$G$9,\"\")","v":""},{"$f":"IF(F184<>\"\",事業者基本情報!$Y$10,\"\")","v":""},{"$f":"IF(F184<>\"\",事業者基本情報!$Y$7,\"\")","v":""},{"$f":"IF(F184<>\"\",事業者基本情報!$Y$8,\"\")","v":""},{"$f":"IF(F184<>\"\",事業者基本情報!$E$11&事業者基本情報!$F$11&事業者基本情報!$G$11&事業者基本情報!$H$11&事業者基本情報!$I$11,\"\")","v":""},null,null,null,"市",null,null,"-",null,"-",null,{"$f":"IFERROR(VLOOKUP(Q184,コード表!$B$3:$C$101,2,FALSE),\"\")","v":""},null,{"$f":"IFERROR(VLOOKUP(S184,コード表!$F$7:$G$141,2,FALSE),\"\")","v":""},null,null,"t",null,null,null,null,null,null,null,null,null,null,null,null,null,null,null,null,null,null,null,null,null,null,null,null,null,null,null,null,null,null,null,null,null,null,null,null,null,null,null,null,null,null,null,null,null,null,null,null,"","",{"$f":"IF(BS184=\"\",\"\",IF(COUNTIF(BS$4:BS184,BS184)=1,ROW(),\"\"))","v":""},{"$f":"IFERROR(INDEX(BS:BS,SMALL(BT:BT,ROW(A181))),\"\")","v":""},"","","",""]
[{"$f":"IF(F185<>\"\",事業者基本情報!$E$9&事業者基本情報!$F$9&事業者基本情報!$G$9,\"\")","v":""},{"$f":"IF(F185<>\"\",事業者基本情報!$Y$10,\"\")","v":""},{"$f":"IF(F185<>\"\",事業者基本情報!$Y$7,\"\")","v":""},{"$f":"IF(F185<>\"\",事業者基本情報!$Y$8,\"\")","v":""},{"$f":"IF(F185<>\"\",事業者基本情報!$E$11&事業者基本情報!$F$11&事業者基本情報!$G$11&事業者基本情報!$H$11&事業者基本情報!$I$11,\"\")","v":""},null,null,null,"市",null,null,"-",null,"-",null,{"$f":"IFERROR(VLOOKUP(Q185,コード表!$B$3:$C$101,2,FALSE),\"\")","v":""},null,{"$f":"IFERROR(VLOOKUP(S185,コード表!$F$7:$G$141,2,FALSE),\"\")","v":""},null,null,"t",null,null,null,null,null,null,null,null,null,null,null,null,null,null,null,null,null,null,null,null,null,null,null,null,null,null,null,null,null,null,null,null,null,null,null,null,null,null,null,null,null,null,null,null,null,null,null,null,"","",{"$f":"IF(BS185=\"\",\"\",IF(COUNTIF(BS$4:BS185,BS185)=1,ROW(),\"\"))","v":""},{"$f":"IFERROR(INDEX(BS:BS,SMALL(BT:BT,ROW(A182))),\"\")","v":""},"","","",""]
[{"$f":"IF(F186<>\"\",事業者基本情報!$E$9&事業者基本情報!$F$9&事業者基本情報!$G$9,\"\")","v":""},{"$f":"IF(F186<>\"\",事業者基本情報!$Y$10,\"\")","v":""},{"$f":"IF(F186<>\"\",事業者基本情報!$Y$7,\"\")","v":""},{"$f":"IF(F186<>\"\",事業者基本情報!$Y$8,\"\")","v":""},{"$f":"IF(F186<>\"\",事業者基本情報!$E$11&事業者基本情報!$F$11&事業者基本情報!$G$11&事業者基本情報!$H$11&事業者基本情報!$I$11,\"\")","v":""},null,null,null,"市",null,null,"-",null,"-",null,{"$f":"IFERROR(VLOOKUP(Q186,コード表!$B$3:$C$101,2,FALSE),\"\")","v":""},null,{"$f":"IFERROR(VLOOKUP(S186,コード表!$F$7:$G$141,2,FALSE),\"\")","v":""},null,null,"t",null,null,null,null,null,null,null,null,null,null,null,null,null,null,null,null,null,null,null,null,null,null,null,null,null,null,null,null,null,null,null,null,null,null,null,null,null,null,null,null,null,null,null,null,null,null,null,null,"","",{"$f":"IF(BS186=\"\",\"\",IF(COUNTIF(BS$4:BS186,BS186)=1,ROW(),\"\"))","v":""},{"$f":"IFERROR(INDEX(BS:BS,SMALL(BT:BT,ROW(A183))),\"\")","v":""},"","","",""]
[{"$f":"IF(F187<>\"\",事業者基本情報!$E$9&事業者基本情報!$F$9&事業者基本情報!$G$9,\"\")","v":""},{"$f":"IF(F187<>\"\",事業者基本情報!$Y$10,\"\")","v":""},{"$f":"IF(F187<>\"\",事業者基本情報!$Y$7,\"\")","v":""},{"$f":"IF(F187<>\"\",事業者基本情報!$Y$8,\"\")","v":""},{"$f":"IF(F187<>\"\",事業者基本情報!$E$11&事業者基本情報!$F$11&事業者基本情報!$G$11&事業者基本情報!$H$11&事業者基本情報!$I$11,\"\")","v":""},null,null,null,"市",null,null,"-",null,"-",null,{"$f":"IFERROR(VLOOKUP(Q187,コード表!$B$3:$C$101,2,FALSE),\"\")","v":""},null,{"$f":"IFERROR(VLOOKUP(S187,コード表!$F$7:$G$141,2,FALSE),\"\")","v":""},null,null,"t",null,null,null,null,null,null,null,null,null,null,null,null,null,null,null,null,null,null,null,null,null,null,null,null,null,null,null,null,null,null,null,null,null,null,null,null,null,null,null,null,null,null,null,null,null,null,null,null,"","",{"$f":"IF(BS187=\"\",\"\",IF(COUNTIF(BS$4:BS187,BS187)=1,ROW(),\"\"))","v":""},{"$f":"IFERROR(INDEX(BS:BS,SMALL(BT:BT,ROW(A184))),\"\")","v":""},"","","",""]
[{"$f":"IF(F188<>\"\",事業者基本情報!$E$9&事業者基本情報!$F$9&事業者基本情報!$G$9,\"\")","v":""},{"$f":"IF(F188<>\"\",事業者基本情報!$Y$10,\"\")","v":""},{"$f":"IF(F188<>\"\",事業者基本情報!$Y$7,\"\")","v":""},{"$f":"IF(F188<>\"\",事業者基本情報!$Y$8,\"\")","v":""},{"$f":"IF(F188<>\"\",事業者基本情報!$E$11&事業者基本情報!$F$11&事業者基本情報!$G$11&事業者基本情報!$H$11&事業者基本情報!$I$11,\"\")","v":""},null,null,null,"市",null,null,"-",null,"-",null,{"$f":"IFERROR(VLOOKUP(Q188,コード表!$B$3:$C$101,2,FALSE),\"\")","v":""},null,{"$f":"IFERROR(VLOOKUP(S188,コード表!$F$7:$G$141,2,FALSE),\"\")","v":""},null,null,"t",null,null,null,null,null,null,null,null,null,null,null,null,null,null,null,null,null,null,null,null,null,null,null,null,null,null,null,null,null,null,null,null,null,null,null,null,null,null,null,null,null,null,null,null,null,null,null,null,"","",{"$f":"IF(BS188=\"\",\"\",IF(COUNTIF(BS$4:BS188,BS188)=1,ROW(),\"\"))","v":""},{"$f":"IFERROR(INDEX(BS:BS,SMALL(BT:BT,ROW(A185))),\"\")","v":""},"","","",""]
[{"$f":"IF(F189<>\"\",事業者基本情報!$E$9&事業者基本情報!$F$9&事業者基本情報!$G$9,\"\")","v":""},{"$f":"IF(F189<>\"\",事業者基本情報!$Y$10,\"\")","v":""},{"$f":"IF(F189<>\"\",事業者基本情報!$Y$7,\"\")","v":""},{"$f":"IF(F189<>\"\",事業者基本情報!$Y$8,\"\")","v":""},{"$f":"IF(F189<>\"\",事業者基本情報!$E$11&事業者基本情報!$F$11&事業者基本情報!$G$11&事業者基本情報!$H$11&事業者基本情報!$I$11,\"\")","v":""},null,null,null,"市",null,null,"-",null,"-",null,{"$f":"IFERROR(VLOOKUP(Q189,コード表!$B$3:$C$101,2,FALSE),\"\")","v":""},null,{"$f":"IFERROR(VLOOKUP(S189,コード表!$F$7:$G$141,2,FALSE),\"\")","v":""},null,null,"t",null,null,null,null,null,null,null,null,null,null,null,null,null,null,null,null,null,null,null,null,null,null,null,null,null,null,null,null,null,null,null,null,null,null,null,null,null,null,null,null,null,null,null,null,null,null,null,null,"","",{"$f":"IF(BS189=\"\",\"\",IF(COUNTIF(BS$4:BS189,BS189)=1,ROW(),\"\"))","v":""},{"$f":"IFERROR(INDEX(BS:BS,SMALL(BT:BT,ROW(A186))),\"\")","v":""},"","","",""]
[{"$f":"IF(F190<>\"\",事業者基本情報!$E$9&事業者基本情報!$F$9&事業者基本情報!$G$9,\"\")","v":""},{"$f":"IF(F190<>\"\",事業者基本情報!$Y$10,\"\")","v":""},{"$f":"IF(F190<>\"\",事業者基本情報!$Y$7,\"\")","v":""},{"$f":"IF(F190<>\"\",事業者基本情報!$Y$8,\"\")","v":""},{"$f":"IF(F190<>\"\",事業者基本情報!$E$11&事業者基本情報!$F$11&事業者基本情報!$G$11&事業者基本情報!$H$11&事業者基本情報!$I$11,\"\")","v":""},null,null,null,"市",null,null,"-",null,"-",null,{"$f":"IFERROR(VLOOKUP(Q190,コード表!$B$3:$C$101,2,FALSE),\"\")","v":""},null,{"$f":"IFERROR(VLOOKUP(S190,コード表!$F$7:$G$141,2,FALSE),\"\")","v":""},null,null,"t",null,null,null,null,null,null,null,null,null,null,null,null,null,null,null,null,null,null,null,null,null,null,null,null,null,null,null,null,null,null,null,null,null,null,null,null,null,null,null,null,null,null,null,null,null,null,null,null,"","",{"$f":"IF(BS190=\"\",\"\",IF(COUNTIF(BS$4:BS190,BS190)=1,ROW(),\"\"))","v":""},{"$f":"IFERROR(INDEX(BS:BS,SMALL(BT:BT,ROW(A187))),\"\")","v":""},"","","",""]
[{"$f":"IF(F191<>\"\",事業者基本情報!$E$9&事業者基本情報!$F$9&事業者基本情報!$G$9,\"\")","v":""},{"$f":"IF(F191<>\"\",事業者基本情報!$Y$10,\"\")","v":""},{"$f":"IF(F191<>\"\",事業者基本情報!$Y$7,\"\")","v":""},{"$f":"IF(F191<>\"\",事業者基本情報!$Y$8,\"\")","v":""},{"$f":"IF(F191<>\"\",事業者基本情報!$E$11&事業者基本情報!$F$11&事業者基本情報!$G$11&事業者基本情報!$H$11&事業者基本情報!$I$11,\"\")","v":""},null,null,null,"市",null,null,"-",null,"-",null,{"$f":"IFERROR(VLOOKUP(Q191,コード表!$B$3:$C$101,2,FALSE),\"\")","v":""},null,{"$f":"IFERROR(VLOOKUP(S191,コード表!$F$7:$G$141,2,FALSE),\"\")","v":""},null,null,"t",null,null,null,null,null,null,null,null,null,null,null,null,null,null,null,null,null,null,null,null,null,null,null,null,null,null,null,null,null,null,null,null,null,null,null,null,null,null,null,null,null,null,null,null,null,null,null,null,"","",{"$f":"IF(BS191=\"\",\"\",IF(COUNTIF(BS$4:BS191,BS191)=1,ROW(),\"\"))","v":""},{"$f":"IFERROR(INDEX(BS:BS,SMALL(BT:BT,ROW(A188))),\"\")","v":""},"","","",""]
[{"$f":"IF(F192<>\"\",事業者基本情報!$E$9&事業者基本情報!$F$9&事業者基本情報!$G$9,\"\")","v":""},{"$f":"IF(F192<>\"\",事業者基本情報!$Y$10,\"\")","v":""},{"$f":"IF(F192<>\"\",事業者基本情報!$Y$7,\"\")","v":""},{"$f":"IF(F192<>\"\",事業者基本情報!$Y$8,\"\")","v":""},{"$f":"IF(F192<>\"\",事業者基本情報!$E$11&事業者基本情報!$F$11&事業者基本情報!$G$11&事業者基本情報!$H$11&事業者基本情報!$I$11,\"\")","v":""},null,null,null,"市",null,null,"-",null,"-",null,{"$f":"IFERROR(VLOOKUP(Q192,コード表!$B$3:$C$101,2,FALSE),\"\")","v":""},null,{"$f":"IFERROR(VLOOKUP(S192,コード表!$F$7:$G$141,2,FALSE),\"\")","v":""},null,null,"t",null,null,null,null,null,null,null,null,null,null,null,null,null,null,null,null,null,null,null,null,null,null,null,null,null,null,null,null,null,null,null,null,null,null,null,null,null,null,null,null,null,null,null,null,null,null,null,null,"","",{"$f":"IF(BS192=\"\",\"\",IF(COUNTIF(BS$4:BS192,BS192)=1,ROW(),\"\"))","v":""},{"$f":"IFERROR(INDEX(BS:BS,SMALL(BT:BT,ROW(A189))),\"\")","v":""},"","","",""]
[{"$f":"IF(F193<>\"\",事業者基本情報!$E$9&事業者基本情報!$F$9&事業者基本情報!$G$9,\"\")","v":""},{"$f":"IF(F193<>\"\",事業者基本情報!$Y$10,\"\")","v":""},{"$f":"IF(F193<>\"\",事業者基本情報!$Y$7,\"\")","v":""},{"$f":"IF(F193<>\"\",事業者基本情報!$Y$8,\"\")","v":""},{"$f":"IF(F193<>\"\",事業者基本情報!$E$11&事業者基本情報!$F$11&事業者基本情報!$G$11&事業者基本情報!$H$11&事業者基本情報!$I$11,\"\")","v":""},null,null,null,"市",null,null,"-",null,"-",null,{"$f":"IFERROR(VLOOKUP(Q193,コード表!$B$3:$C$101,2,FALSE),\"\")","v":""},null,{"$f":"IFERROR(VLOOKUP(S193,コード表!$F$7:$G$141,2,FALSE),\"\")","v":""},null,null,"t",null,null,null,null,null,null,null,null,null,null,null,null,null,null,null,null,null,null,null,null,null,null,null,null,null,null,null,null,null,null,null,null,null,null,null,null,null,null,null,null,null,null,null,null,null,null,null,null,"","",{"$f":"IF(BS193=\"\",\"\",IF(COUNTIF(BS$4:BS193,BS193)=1,ROW(),\"\"))","v":""},{"$f":"IFERROR(INDEX(BS:BS,SMALL(BT:BT,ROW(A190))),\"\")","v":""},"","","",""]
[{"$f":"IF(F194<>\"\",事業者基本情報!$E$9&事業者基本情報!$F$9&事業者基本情報!$G$9,\"\")","v":""},{"$f":"IF(F194<>\"\",事業者基本情報!$Y$10,\"\")","v":""},{"$f":"IF(F194<>\"\",事業者基本情報!$Y$7,\"\")","v":""},{"$f":"IF(F194<>\"\",事業者基本情報!$Y$8,\"\")","v":""},{"$f":"IF(F194<>\"\",事業者基本情報!$E$11&事業者基本情報!$F$11&事業者基本情報!$G$11&事業者基本情報!$H$11&事業者基本情報!$I$11,\"\")","v":""},null,null,null,"市",null,null,"-",null,"-",null,{"$f":"IFERROR(VLOOKUP(Q194,コード表!$B$3:$C$101,2,FALSE),\"\")","v":""},null,{"$f":"IFERROR(VLOOKUP(S194,コード表!$F$7:$G$141,2,FALSE),\"\")","v":""},null,null,"t",null,null,null,null,null,null,null,null,null,null,null,null,null,null,null,null,null,null,null,null,null,null,null,null,null,null,null,null,null,null,null,null,null,null,null,null,null,null,null,null,null,null,null,null,null,null,null,null,"","",{"$f":"IF(BS194=\"\",\"\",IF(COUNTIF(BS$4:BS194,BS194)=1,ROW(),\"\"))","v":""},{"$f":"IFERROR(INDEX(BS:BS,SMALL(BT:BT,ROW(A191))),\"\")","v":""},"","","",""]
[{"$f":"IF(F195<>\"\",事業者基本情報!$E$9&事業者基本情報!$F$9&事業者基本情報!$G$9,\"\")","v":""},{"$f":"IF(F195<>\"\",事業者基本情報!$Y$10,\"\")","v":""},{"$f":"IF(F195<>\"\",事業者基本情報!$Y$7,\"\")","v":""},{"$f":"IF(F195<>\"\",事業者基本情報!$Y$8,\"\")","v":""},{"$f":"IF(F195<>\"\",事業者基本情報!$E$11&事業者基本情報!$F$11&事業者基本情報!$G$11&事業者基本情報!$H$11&事業者基本情報!$I$11,\"\")","v":""},null,null,null,"市",null,null,"-",null,"-",null,{"$f":"IFERROR(VLOOKUP(Q195,コード表!$B$3:$C$101,2,FALSE),\"\")","v":""},null,{"$f":"IFERROR(VLOOKUP(S195,コード表!$F$7:$G$141,2,FALSE),\"\")","v":""},null,null,"t",null,null,null,null,null,null,null,null,null,null,null,null,null,null,null,null,null,null,null,null,null,null,null,null,null,null,null,null,null,null,null,null,null,null,null,null,null,null,null,null,null,null,null,null,null,null,null,null,"","",{"$f":"IF(BS195=\"\",\"\",IF(COUNTIF(BS$4:BS195,BS195)=1,ROW(),\"\"))","v":""},{"$f":"IFERROR(INDEX(BS:BS,SMALL(BT:BT,ROW(A192))),\"\")","v":""},"","","",""]
[{"$f":"IF(F196<>\"\",事業者基本情報!$E$9&事業者基本情報!$F$9&事業者基本情報!$G$9,\"\")","v":""},{"$f":"IF(F196<>\"\",事業者基本情報!$Y$10,\"\")","v":""},{"$f":"IF(F196<>\"\",事業者基本情報!$Y$7,\"\")","v":""},{"$f":"IF(F196<>\"\",事業者基本情報!$Y$8,\"\")","v":""},{"$f":"IF(F196<>\"\",事業者基本情報!$E$11&事業者基本情報!$F$11&事業者基本情報!$G$11&事業者基本情報!$H$11&事業者基本情報!$I$11,\"\")","v":""},null,null,null,"市",null,null,"-",null,"-",null,{"$f":"IFERROR(VLOOKUP(Q196,コード表!$B$3:$C$101,2,FALSE),\"\")","v":""},null,{"$f":"IFERROR(VLOOKUP(S196,コード表!$F$7:$G$141,2,FALSE),\"\")","v":""},null,null,"t",null,null,null,null,null,null,null,null,null,null,null,null,null,null,null,null,null,null,null,null,null,null,null,null,null,null,null,null,null,null,null,null,null,null,null,null,null,null,null,null,null,null,null,null,null,null,null,null,{"$f":"IFERROR(IF(TRIM(F196)=\"\",\"\",IF(AND(VALUE(TRIM(R196))>=100000,VALUE(TRIM(R196))<7000000),\"普通産廃\",IF(AND(VALUE(TRIM(R196))>=7000000,VALUE(TRIM(R196))<9000000),\"特別産廃\",\"\"))),\"\")","v":""},{"$f":"IF(BR196<>\"\",TRIM(F196)&\"(\"&BR196&\")\",\"\")","v":""},{"$f":"IF(BS196=\"\",\"\",IF(COUNTIF(BS$4:BS196,BS196)=1,ROW(),\"\"))","v":""},{"$f":"IFERROR(INDEX(BS:BS,SMALL(BT:BT,ROW(A193))),\"\")","v":""},{"$f":"IF(BU196=\"\",\"\",IF(SUMIF(BS:BS,BU196,T:T)=0,\"\",SUMIF(BS:BS,BU196,T:T)))","v":""},{"$f":"IF(AS196<>\"\",AS196,IF(AO196<>\"\",AO196,IF(AK196<>\"\",AK196,IF(AG196<>\"\",AG196,IF(Y196<>\"\",Y196,\"\")))))","v":""},"",{"$f":"IF(F196&G196&H196&J196&K196&M196&O196&Q196&S196&T196&V196&W196&X196&Y196&Z196&AA196&AB196&AC196&AD196&AE196&AF196&AG196&AH196&AI196&AJ196&AK196&AL196&AM196&AN196&AO196&AP196&AQ196&AR196&AS196&AT196=\"\",\"\",1)","v":""}]
[{"$f":"IF(F197<>\"\",事業者基本情報!$E$9&事業者基本情報!$F$9&事業者基本情報!$G$9,\"\")","v":""},{"$f":"IF(F197<>\"\",事業者基本情報!$Y$10,\"\")","v":""},{"$f":"IF(F197<>\"\",事業者基本情報!$Y$7,\"\")","v":""},{"$f":"IF(F197<>\"\",事業者基本情報!$Y$8,\"\")","v":""},{"$f":"IF(F197<>\"\",事業者基本情報!$E$11&事業者基本情報!$F$11&事業者基本情報!$G$11&事業者基本情報!$H$11&事業者基本情報!$I$11,\"\")","v":""},null,null,null,"市",null,null,"-",null,"-",null,{"$f":"IFERROR(VLOOKUP(Q197,コード表!$B$3:$C$101,2,FALSE),\"\")","v":""},null,{"$f":"IFERROR(VLOOKUP(S197,コード表!$F$7:$G$141,2,FALSE),\"\")","v":""},null,null,"t",null,null,null,null,null,null,null,null,null,null,null,null,null,null,null,null,null,null,null,null,null,null,null,null,null,null,null,null,null,null,null,null,null,null,null,null,null,null,null,null,null,null,null,null,null,null,null,null,"","",{"$f":"IF(BS197=\"\",\"\",IF(COUNTIF(BS$4:BS197,BS197)=1,ROW(),\"\"))","v":""},{"$f":"IFERROR(INDEX(BS:BS,SMALL(BT:BT,ROW(A194))),\"\")","v":""},"","","",""]
[{"$f":"IF(F198<>\"\",事業者基本情報!$E$9&事業者基本情報!$F$9&事業者基本情報!$G$9,\"\")","v":""},{"$f":"IF(F198<>\"\",事業者基本情報!$Y$10,\"\")","v":""},{"$f":"IF(F198<>\"\",事業者基本情報!$Y$7,\"\")","v":""},{"$f":"IF(F198<>\"\",事業者基本情報!$Y$8,\"\")","v":""},{"$f":"IF(F198<>\"\",事業者基本情報!$E$11&事業者基本情報!$F$11&事業者基本情報!$G$11&事業者基本情報!$H$11&事業者基本情報!$I$11,\"\")","v":""},null,null,null,"市",null,null,"-",null,"-",null,{"$f":"IFERROR(VLOOKUP(Q198,コード表!$B$3:$C$101,2,FALSE),\"\")","v":""},null,{"$f":"IFERROR(VLOOKUP(S198,コード表!$F$7:$G$141,2,FALSE),\"\")","v":""},null,null,"t",null,null,null,null,null,null,null,null,null,null,null,null,null,null,null,null,null,null,null,null,null,null,null,null,null,null,null,null,null,null,null,null,null,null,null,null,null,null,null,null,null,null,null,null,null,null,null,null,"","",{"$f":"IF(BS198=\"\",\"\",IF(COUNTIF(BS$4:BS198,BS198)=1,ROW(),\"\"))","v":""},{"$f":"IFERROR(INDEX(BS:BS,SMALL(BT:BT,ROW(A195))),\"\")","v":""},"","","",""]
[{"$f":"IF(F199<>\"\",事業者基本情報!$E$9&事業者基本情報!$F$9&事業者基本情報!$G$9,\"\")","v":""},{"$f":"IF(F199<>\"\",事業者基本情報!$Y$10,\"\")","v":""},{"$f":"IF(F199<>\"\",事業者基本情報!$Y$7,\"\")","v":""},{"$f":"IF(F199<>\"\",事業者基本情報!$Y$8,\"\")","v":""},{"$f":"IF(F199<>\"\",事業者基本情報!$E$11&事業者基本情報!$F$11&事業者基本情報!$G$11&事業者基本情報!$H$11&事業者基本情報!$I$11,\"\")","v":""},null,null,null,"市",null,null,"-",null,"-",null,{"$f":"IFERROR(VLOOKUP(Q199,コード表!$B$3:$C$101,2,FALSE),\"\")","v":""},null,{"$f":"IFERROR(VLOOKUP(S199,コード表!$F$7:$G$141,2,FALSE),\"\")","v":""},null,null,"t",null,null,null,null,null,null,null,null,null,null,null,null,null,null,null,null,null,null,null,null,null,null,null,null,null,null,null,null,null,null,null,null,null,null,null,null,null,null,null,null,null,null,null,null,null,null,null,null,"","",{"$f":"IF(BS199=\"\",\"\",IF(COUNTIF(BS$4:BS199,BS199)=1,ROW(),\"\"))","v":""},{"$f":"IFERROR(INDEX(BS:BS,SMALL(BT:BT,ROW(A196))),\"\")","v":""},"","","",""]
[{"$f":"IF(F200<>\"\",事業者基本情報!$E$9&事業者基本情報!$F$9&事業者基本情報!$G$9,\"\")","v":""},{"$f":"IF(F200<>\"\",事業者基本情報!$Y$10,\"\")","v":""},{"$f":"IF(F200<>\"\",事業者基本情報!$Y$7,\"\")","v":""},{"$f":"IF(F200<>\"\",事業者基本情報!$Y$8,\"\")","v":""},{"$f":"IF(F200<>\"\",事業者基本情報!$E$11&事業者基本情報!$F$11&事業者基本情報!$G$11&事業者基本情報!$H$11&事業者基本情報!$I$11,\"\")","v":""},null,null,null,"市",null,null,"-",null,"-",null,{"$f":"IFERROR(VLOOKUP(Q200,コード表!$B$3:$C$101,2,FALSE),\"\")","v":""},null,{"$f":"IFERROR(VLOOKUP(S200,コード表!$F$7:$G$141,2,FALSE),\"\")","v":""},null,null,"t",null,null,null,null,null,null,null,null,null,null,null,null,null,null,null,null,null,null,null,null,null,null,null,null,null,null,null,null,null,null,null,null,null,null,null,null,null,null,null,null,null,null,null,null,null,null,null,null,"","",{"$f":"IF(BS200=\"\",\"\",IF(COUNTIF(BS$4:BS200,BS200)=1,ROW(),\"\"))","v":""},{"$f":"IFERROR(INDEX(BS:BS,SMALL(BT:BT,ROW(A197))),\"\")","v":""},"","","",""]
[{"$f":"IF(F201<>\"\",事業者基本情報!$E$9&事業者基本情報!$F$9&事業者基本情報!$G$9,\"\")","v":""},{"$f":"IF(F201<>\"\",事業者基本情報!$Y$10,\"\")","v":""},{"$f":"IF(F201<>\"\",事業者基本情報!$Y$7,\"\")","v":""},{"$f":"IF(F201<>\"\",事業者基本情報!$Y$8,\"\")","v":""},{"$f":"IF(F201<>\"\",事業者基本情報!$E$11&事業者基本情報!$F$11&事業者基本情報!$G$11&事業者基本情報!$H$11&事業者基本情報!$I$11,\"\")","v":""},null,null,null,"市",null,null,"-",null,"-",null,{"$f":"IFERROR(VLOOKUP(Q201,コード表!$B$3:$C$101,2,FALSE),\"\")","v":""},null,{"$f":"IFERROR(VLOOKUP(S201,コード表!$F$7:$G$141,2,FALSE),\"\")","v":""},null,null,"t",null,null,null,null,null,null,null,null,null,null,null,null,null,null,null,null,null,null,null,null,null,null,null,null,null,null,null,null,null,null,null,null,null,null,null,null,null,null,null,null,null,null,null,null,null,null,null,null,"","",{"$f":"IF(BS201=\"\",\"\",IF(COUNTIF(BS$4:BS201,BS201)=1,ROW(),\"\"))","v":""},{"$f":"IFERROR(INDEX(BS:BS,SMALL(BT:BT,ROW(A198))),\"\")","v":""},"","","",""]
[{"$f":"IF(F202<>\"\",事業者基本情報!$E$9&事業者基本情報!$F$9&事業者基本情報!$G$9,\"\")","v":""},{"$f":"IF(F202<>\"\",事業者基本情報!$Y$10,\"\")","v":""},{"$f":"IF(F202<>\"\",事業者基本情報!$Y$7,\"\")","v":""},{"$f":"IF(F202<>\"\",事業者基本情報!$Y$8,\"\")","v":""},{"$f":"IF(F202<>\"\",事業者基本情報!$E$11&事業者基本情報!$F$11&事業者基本情報!$G$11&事業者基本情報!$H$11&事業者基本情報!$I$11,\"\")","v":""},null,null,null,"市",null,null,"-",null,"-",null,{"$f":"IFERROR(VLOOKUP(Q202,コード表!$B$3:$C$101,2,FALSE),\"\")","v":""},null,{"$f":"IFERROR(VLOOKUP(S202,コード表!$F$7:$G$141,2,FALSE),\"\")","v":""},null,null,"t",null,null,null,null,null,null,null,null,null,null,null,null,null,null,null,null,null,null,null,null,null,null,null,null,null,null,null,null,null,null,null,null,null,null,null,null,null,null,null,null,null,null,null,null,null,null,null,null,"","",{"$f":"IF(BS202=\"\",\"\",IF(COUNTIF(BS$4:BS202,BS202)=1,ROW(),\"\"))","v":""},{"$f":"IFERROR(INDEX(BS:BS,SMALL(BT:BT,ROW(A199))),\"\")","v":""},"","","",""]
[{"$f":"IF(F203<>\"\",事業者基本情報!$E$9&事業者基本情報!$F$9&事業者基本情報!$G$9,\"\")","v":""},{"$f":"IF(F203<>\"\",事業者基本情報!$Y$10,\"\")","v":""},{"$f":"IF(F203<>\"\",事業者基本情報!$Y$7,\"\")","v":""},{"$f":"IF(F203<>\"\",事業者基本情報!$Y$8,\"\")","v":""},{"$f":"IF(F203<>\"\",事業者基本情報!$E$11&事業者基本情報!$F$11&事業者基本情報!$G$11&事業者基本情報!$H$11&事業者基本情報!$I$11,\"\")","v":""},null,null,null,"市",null,null,"-",null,"-",null,{"$f":"IFERROR(VLOOKUP(Q203,コード表!$B$3:$C$101,2,FALSE),\"\")","v":""},null,{"$f":"IFERROR(VLOOKUP(S203,コード表!$F$7:$G$141,2,FALSE),\"\")","v":""},null,null,"t",null,null,null,null,null,null,null,null,null,null,null,null,null,null,null,null,null,null,null,null,null,null,null,null,null,null,null,null,null,null,null,null,null,null,null,null,null,null,null,null,null,null,null,null,null,null,null,null,"","",{"$f":"IF(BS203=\"\",\"\",IF(COUNTIF(BS$4:BS203,BS203)=1,ROW(),\"\"))","v":""},{"$f":"IFERROR(INDEX(BS:BS,SMALL(BT:BT,ROW(A200))),\"\")","v":""},"","","",""]
[{"$f":"IF(F204<>\"\",事業者基本情報!$E$9&事業者基本情報!$F$9&事業者基本情報!$G$9,\"\")","v":""},{"$f":"IF(F204<>\"\",事業者基本情報!$Y$10,\"\")","v":""},{"$f":"IF(F204<>\"\",事業者基本情報!$Y$7,\"\")","v":""},{"$f":"IF(F204<>\"\",事業者基本情報!$Y$8,\"\")","v":""},{"$f":"IF(F204<>\"\",事業者基本情報!$E$11&事業者基本情報!$F$11&事業者基本情報!$G$11&事業者基本情報!$H$11&事業者基本情報!$I$11,\"\")","v":""},null,null,null,"市",null,null,"-",null,"-",null,{"$f":"IFERROR(VLOOKUP(Q204,コード表!$B$3:$C$101,2,FALSE),\"\")","v":""},null,{"$f":"IFERROR(VLOOKUP(S204,コード表!$F$7:$G$141,2,FALSE),\"\")","v":""},null,null,"t",null,null,null,null,null,null,null,null,null,null,null,null,null,null,null,null,null,null,null,null,null,null,null,null,null,null,null,null,null,null,null,null,null,null,null,null,null,null,null,null,null,null,null,null,null,null,null,null,"","",{"$f":"IF(BS204=\"\",\"\",IF(COUNTIF(BS$4:BS204,BS204)=1,ROW(),\"\"))","v":""},{"$f":"IFERROR(INDEX(BS:BS,SMALL(BT:BT,ROW(A201))),\"\")","v":""},"","","",""]
[{"$f":"IF(F205<>\"\",事業者基本情報!$E$9&事業者基本情報!$F$9&事業者基本情報!$G$9,\"\")","v":""},{"$f":"IF(F205<>\"\",事業者基本情報!$Y$10,\"\")","v":""},{"$f":"IF(F205<>\"\",事業者基本情報!$Y$7,\"\")","v":""},{"$f":"IF(F205<>\"\",事業者基本情報!$Y$8,\"\")","v":""},{"$f":"IF(F205<>\"\",事業者基本情報!$E$11&事業者基本情報!$F$11&事業者基本情報!$G$11&事業者基本情報!$H$11&事業者基本情報!$I$11,\"\")","v":""},null,null,null,"市",null,null,"-",null,"-",null,{"$f":"IFERROR(VLOOKUP(Q205,コード表!$B$3:$C$101,2,FALSE),\"\")","v":""},null,{"$f":"IFERROR(VLOOKUP(S205,コード表!$F$7:$G$141,2,FALSE),\"\")","v":""},null,null,"t",null,null,null,null,null,null,null,null,null,null,null,null,null,null,null,null,null,null,null,null,null,null,null,null,null,null,null,null,null,null,null,null,null,null,null,null,null,null,null,null,null,null,null,null,null,null,null,null,"","",{"$f":"IF(BS205=\"\",\"\",IF(COUNTIF(BS$4:BS205,BS205)=1,ROW(),\"\"))","v":""},{"$f":"IFERROR(INDEX(BS:BS,SMALL(BT:BT,ROW(A202))),\"\")","v":""},"","","",""]
[{"$f":"IF(F206<>\"\",事業者基本情報!$E$9&事業者基本情報!$F$9&事業者基本情報!$G$9,\"\")","v":""},{"$f":"IF(F206<>\"\",事業者基本情報!$Y$10,\"\")","v":""},{"$f":"IF(F206<>\"\",事業者基本情報!$Y$7,\"\")","v":""},{"$f":"IF(F206<>\"\",事業者基本情報!$Y$8,\"\")","v":""},{"$f":"IF(F206<>\"\",事業者基本情報!$E$11&事業者基本情報!$F$11&事業者基本情報!$G$11&事業者基本情報!$H$11&事業者基本情報!$I$11,\"\")","v":""},null,null,null,"市",null,null,"-",null,"-",null,{"$f":"IFERROR(VLOOKUP(Q206,コード表!$B$3:$C$101,2,FALSE),\"\")","v":""},null,{"$f":"IFERROR(VLOOKUP(S206,コード表!$F$7:$G$141,2,FALSE),\"\")","v":""},null,null,"t",null,null,null,null,null,null,null,null,null,null,null,null,null,null,null,null,null,null,null,null,null,null,null,null,null,null,null,null,null,null,null,null,null,null,null,null,null,null,null,null,null,null,null,null,null,null,null,null,"","",{"$f":"IF(BS206=\"\",\"\",IF(COUNTIF(BS$4:BS206,BS206)=1,ROW(),\"\"))","v":""},{"$f":"IFERROR(INDEX(BS:BS,SMALL(BT:BT,ROW(A203))),\"\")","v":""},"","","",""]
[{"$f":"IF(F207<>\"\",事業者基本情報!$E$9&事業者基本情報!$F$9&事業者基本情報!$G$9,\"\")","v":""},{"$f":"IF(F207<>\"\",事業者基本情報!$Y$10,\"\")","v":""},{"$f":"IF(F207<>\"\",事業者基本情報!$Y$7,\"\")","v":""},{"$f":"IF(F207<>\"\",事業者基本情報!$Y$8,\"\")","v":""},{"$f":"IF(F207<>\"\",事業者基本情報!$E$11&事業者基本情報!$F$11&事業者基本情報!$G$11&事業者基本情報!$H$11&事業者基本情報!$I$11,\"\")","v":""},null,null,null,"市",null,null,"-",null,"-",null,{"$f":"IFERROR(VLOOKUP(Q207,コード表!$B$3:$C$101,2,FALSE),\"\")","v":""},null,{"$f":"IFERROR(VLOOKUP(S207,コード表!$F$7:$G$141,2,FALSE),\"\")","v":""},null,null,"t",null,null,null,null,null,null,null,null,null,null,null,null,null,null,null,null,null,null,null,null,null,null,null,null,null,null,null,null,null,null,null,null,null,null,null,null,null,null,null,null,null,null,null,null,null,null,null,null,"","",{"$f":"IF(BS207=\"\",\"\",IF(COUNTIF(BS$4:BS207,BS207)=1,ROW(),\"\"))","v":""},{"$f":"IFERROR(INDEX(BS:BS,SMALL(BT:BT,ROW(A204))),\"\")","v":""},"","","",""]
[{"$f":"IF(F208<>\"\",事業者基本情報!$E$9&事業者基本情報!$F$9&事業者基本情報!$G$9,\"\")","v":""},{"$f":"IF(F208<>\"\",事業者基本情報!$Y$10,\"\")","v":""},{"$f":"IF(F208<>\"\",事業者基本情報!$Y$7,\"\")","v":""},{"$f":"IF(F208<>\"\",事業者基本情報!$Y$8,\"\")","v":""},{"$f":"IF(F208<>\"\",事業者基本情報!$E$11&事業者基本情報!$F$11&事業者基本情報!$G$11&事業者基本情報!$H$11&事業者基本情報!$I$11,\"\")","v":""},null,null,null,"市",null,null,"-",null,"-",null,{"$f":"IFERROR(VLOOKUP(Q208,コード表!$B$3:$C$101,2,FALSE),\"\")","v":""},null,{"$f":"IFERROR(VLOOKUP(S208,コード表!$F$7:$G$141,2,FALSE),\"\")","v":""},null,null,"t",null,null,null,null,null,null,null,null,null,null,null,null,null,null,null,null,null,null,null,null,null,null,null,null,null,null,null,null,null,null,null,null,null,null,null,null,null,null,null,null,null,null,null,null,null,null,null,null,"","",{"$f":"IF(BS208=\"\",\"\",IF(COUNTIF(BS$4:BS208,BS208)=1,ROW(),\"\"))","v":""},{"$f":"IFERROR(INDEX(BS:BS,SMALL(BT:BT,ROW(A205))),\"\")","v":""},"","","",""]
[{"$f":"IF(F209<>\"\",事業者基本情報!$E$9&事業者基本情報!$F$9&事業者基本情報!$G$9,\"\")","v":""},{"$f":"IF(F209<>\"\",事業者基本情報!$Y$10,\"\")","v":""},{"$f":"IF(F209<>\"\",事業者基本情報!$Y$7,\"\")","v":""},{"$f":"IF(F209<>\"\",事業者基本情報!$Y$8,\"\")","v":""},{"$f":"IF(F209<>\"\",事業者基本情報!$E$11&事業者基本情報!$F$11&事業者基本情報!$G$11&事業者基本情報!$H$11&事業者基本情報!$I$11,\"\")","v":""},null,null,null,"市",null,null,"-",null,"-",null,{"$f":"IFERROR(VLOOKUP(Q209,コード表!$B$3:$C$101,2,FALSE),\"\")","v":""},null,{"$f":"IFERROR(VLOOKUP(S209,コード表!$F$7:$G$141,2,FALSE),\"\")","v":""},null,null,"t",null,null,null,null,null,null,null,null,null,null,null,null,null,null,null,null,null,null,null,null,null,null,null,null,null,null,null,null,null,null,null,null,null,null,null,null,null,null,null,null,null,null,null,null,null,null,null,null,"","",{"$f":"IF(BS209=\"\",\"\",IF(COUNTIF(BS$4:BS209,BS209)=1,ROW(),\"\"))","v":""},{"$f":"IFERROR(INDEX(BS:BS,SMALL(BT:BT,ROW(A206))),\"\")","v":""},"","","",""]
[{"$f":"IF(F210<>\"\",事業者基本情報!$E$9&事業者基本情報!$F$9&事業者基本情報!$G$9,\"\")","v":""},{"$f":"IF(F210<>\"\",事業者基本情報!$Y$10,\"\")","v":""},{"$f":"IF(F210<>\"\",事業者基本情報!$Y$7,\"\")","v":""},{"$f":"IF(F210<>\"\",事業者基本情報!$Y$8,\"\")","v":""},{"$f":"IF(F210<>\"\",事業者基本情報!$E$11&事業者基本情報!$F$11&事業者基本情報!$G$11&事業者基本情報!$H$11&事業者基本情報!$I$11,\"\")","v":""},null,null,null,"市",null,null,"-",null,"-",null,{"$f":"IFERROR(VLOOKUP(Q210,コード表!$B$3:$C$101,2,FALSE),\"\")","v":""},null,{"$f":"IFERROR(VLOOKUP(S210,コード表!$F$7:$G$141,2,FALSE),\"\")","v":""},null,null,"t",null,null,null,null,null,null,null,null,null,null,null,null,null,null,null,null,null,null,null,null,null,null,null,null,null,null,null,null,null,null,null,null,null,null,null,null,null,null,null,null,null,null,null,null,null,null,null,null,"","",{"$f":"IF(BS210=\"\",\"\",IF(COUNTIF(BS$4:BS210,BS210)=1,ROW(),\"\"))","v":""},{"$f":"IFERROR(INDEX(BS:BS,SMALL(BT:BT,ROW(A207))),\"\")","v":""},"","","",""]
[{"$f":"IF(F211<>\"\",事業者基本情報!$E$9&事業者基本情報!$F$9&事業者基本情報!$G$9,\"\")","v":""},{"$f":"IF(F211<>\"\",事業者基本情報!$Y$10,\"\")","v":""},{"$f":"IF(F211<>\"\",事業者基本情報!$Y$7,\"\")","v":""},{"$f":"IF(F211<>\"\",事業者基本情報!$Y$8,\"\")","v":""},{"$f":"IF(F211<>\"\",事業者基本情報!$E$11&事業者基本情報!$F$11&事業者基本情報!$G$11&事業者基本情報!$H$11&事業者基本情報!$I$11,\"\")","v":""},null,null,null,"市",null,null,"-",null,"-",null,{"$f":"IFERROR(VLOOKUP(Q211,コード表!$B$3:$C$101,2,FALSE),\"\")","v":""},null,{"$f":"IFERROR(VLOOKUP(S211,コード表!$F$7:$G$141,2,FALSE),\"\")","v":""},null,null,"t",null,null,null,null,null,null,null,null,null,null,null,null,null,null,null,null,null,null,null,null,null,null,null,null,null,null,null,null,null,null,null,null,null,null,null,null,null,null,null,null,null,null,null,null,null,null,null,null,"","",{"$f":"IF(BS211=\"\",\"\",IF(COUNTIF(BS$4:BS211,BS211)=1,ROW(),\"\"))","v":""},{"$f":"IFERROR(INDEX(BS:BS,SMALL(BT:BT,ROW(A208))),\"\")","v":""},"","","",""]
[{"$f":"IF(F212<>\"\",事業者基本情報!$E$9&事業者基本情報!$F$9&事業者基本情報!$G$9,\"\")","v":""},{"$f":"IF(F212<>\"\",事業者基本情報!$Y$10,\"\")","v":""},{"$f":"IF(F212<>\"\",事業者基本情報!$Y$7,\"\")","v":""},{"$f":"IF(F212<>\"\",事業者基本情報!$Y$8,\"\")","v":""},{"$f":"IF(F212<>\"\",事業者基本情報!$E$11&事業者基本情報!$F$11&事業者基本情報!$G$11&事業者基本情報!$H$11&事業者基本情報!$I$11,\"\")","v":""},null,null,null,"市",null,null,"-",null,"-",null,{"$f":"IFERROR(VLOOKUP(Q212,コード表!$B$3:$C$101,2,FALSE),\"\")","v":""},null,{"$f":"IFERROR(VLOOKUP(S212,コード表!$F$7:$G$141,2,FALSE),\"\")","v":""},null,null,"t",null,null,null,null,null,null,null,null,null,null,null,null,null,null,null,null,null,null,null,null,null,null,null,null,null,null,null,null,null,null,null,null,null,null,null,null,null,null,null,null,null,null,null,null,null,null,null,null,"","",{"$f":"IF(BS212=\"\",\"\",IF(COUNTIF(BS$4:BS212,BS212)=1,ROW(),\"\"))","v":""},{"$f":"IFERROR(INDEX(BS:BS,SMALL(BT:BT,ROW(A209))),\"\")","v":""},"","","",""]
[{"$f":"IF(F213<>\"\",事業者基本情報!$E$9&事業者基本情報!$F$9&事業者基本情報!$G$9,\"\")","v":""},{"$f":"IF(F213<>\"\",事業者基本情報!$Y$10,\"\")","v":""},{"$f":"IF(F213<>\"\",事業者基本情報!$Y$7,\"\")","v":""},{"$f":"IF(F213<>\"\",事業者基本情報!$Y$8,\"\")","v":""},{"$f":"IF(F213<>\"\",事業者基本情報!$E$11&事業者基本情報!$F$11&事業者基本情報!$G$11&事業者基本情報!$H$11&事業者基本情報!$I$11,\"\")","v":""},null,null,null,"市",null,null,"-",null,"-",null,{"$f":"IFERROR(VLOOKUP(Q213,コード表!$B$3:$C$101,2,FALSE),\"\")","v":""},null,{"$f":"IFERROR(VLOOKUP(S213,コード表!$F$7:$G$141,2,FALSE),\"\")","v":""},null,null,"t",null,null,null,null,null,null,null,null,null,null,null,null,null,null,null,null,null,null,null,null,null,null,null,null,null,null,null,null,null,null,null,null,null,null,null,null,null,null,null,null,null,null,null,null,null,null,null,null,"","",{"$f":"IF(BS213=\"\",\"\",IF(COUNTIF(BS$4:BS213,BS213)=1,ROW(),\"\"))","v":""},{"$f":"IFERROR(INDEX(BS:BS,SMALL(BT:BT,ROW(A210))),\"\")","v":""},"","","",""]
[{"$f":"IF(F214<>\"\",事業者基本情報!$E$9&事業者基本情報!$F$9&事業者基本情報!$G$9,\"\")","v":""},{"$f":"IF(F214<>\"\",事業者基本情報!$Y$10,\"\")","v":""},{"$f":"IF(F214<>\"\",事業者基本情報!$Y$7,\"\")","v":""},{"$f":"IF(F214<>\"\",事業者基本情報!$Y$8,\"\")","v":""},{"$f":"IF(F214<>\"\",事業者基本情報!$E$11&事業者基本情報!$F$11&事業者基本情報!$G$11&事業者基本情報!$H$11&事業者基本情報!$I$11,\"\")","v":""},null,null,null,"市",null,null,"-",null,"-",null,{"$f":"IFERROR(VLOOKUP(Q214,コード表!$B$3:$C$101,2,FALSE),\"\")","v":""},null,{"$f":"IFERROR(VLOOKUP(S214,コード表!$F$7:$G$141,2,FALSE),\"\")","v":""},null,null,"t",null,null,null,null,null,null,null,null,null,null,null,null,null,null,null,null,null,null,null,null,null,null,null,null,null,null,null,null,null,null,null,null,null,null,null,null,null,null,null,null,null,null,null,null,null,null,null,null,"","",{"$f":"IF(BS214=\"\",\"\",IF(COUNTIF(BS$4:BS214,BS214)=1,ROW(),\"\"))","v":""},{"$f":"IFERROR(INDEX(BS:BS,SMALL(BT:BT,ROW(A211))),\"\")","v":""},"","","",""]
[{"$f":"IF(F215<>\"\",事業者基本情報!$E$9&事業者基本情報!$F$9&事業者基本情報!$G$9,\"\")","v":""},{"$f":"IF(F215<>\"\",事業者基本情報!$Y$10,\"\")","v":""},{"$f":"IF(F215<>\"\",事業者基本情報!$Y$7,\"\")","v":""},{"$f":"IF(F215<>\"\",事業者基本情報!$Y$8,\"\")","v":""},{"$f":"IF(F215<>\"\",事業者基本情報!$E$11&事業者基本情報!$F$11&事業者基本情報!$G$11&事業者基本情報!$H$11&事業者基本情報!$I$11,\"\")","v":""},null,null,null,"市",null,null,"-",null,"-",null,{"$f":"IFERROR(VLOOKUP(Q215,コード表!$B$3:$C$101,2,FALSE),\"\")","v":""},null,{"$f":"IFERROR(VLOOKUP(S215,コード表!$F$7:$G$141,2,FALSE),\"\")","v":""},null,null,"t",null,null,null,null,null,null,null,null,null,null,null,null,null,null,null,null,null,null,null,null,null,null,null,null,null,null,null,null,null,null,null,null,null,null,null,null,null,null,null,null,null,null,null,null,null,null,null,null,"","",{"$f":"IF(BS215=\"\",\"\",IF(COUNTIF(BS$4:BS215,BS215)=1,ROW(),\"\"))","v":""},{"$f":"IFERROR(INDEX(BS:BS,SMALL(BT:BT,ROW(A212))),\"\")","v":""},"","","",""]
[{"$f":"IF(F216<>\"\",事業者基本情報!$E$9&事業者基本情報!$F$9&事業者基本情報!$G$9,\"\")","v":""},{"$f":"IF(F216<>\"\",事業者基本情報!$Y$10,\"\")","v":""},{"$f":"IF(F216<>\"\",事業者基本情報!$Y$7,\"\")","v":""},{"$f":"IF(F216<>\"\",事業者基本情報!$Y$8,\"\")","v":""},{"$f":"IF(F216<>\"\",事業者基本情報!$E$11&事業者基本情報!$F$11&事業者基本情報!$G$11&事業者基本情報!$H$11&事業者基本情報!$I$11,\"\")","v":""},null,null,null,"市",null,null,"-",null,"-",null,{"$f":"IFERROR(VLOOKUP(Q216,コード表!$B$3:$C$101,2,FALSE),\"\")","v":""},null,{"$f":"IFERROR(VLOOKUP(S216,コード表!$F$7:$G$141,2,FALSE),\"\")","v":""},null,null,"t",null,null,null,null,null,null,null,null,null,null,null,null,null,null,null,null,null,null,null,null,null,null,null,null,null,null,null,null,null,null,null,null,null,null,null,null,null,null,null,null,null,null,null,null,null,null,null,null,"","",{"$f":"IF(BS216=\"\",\"\",IF(COUNTIF(BS$4:BS216,BS216)=1,ROW(),\"\"))","v":""},{"$f":"IFERROR(INDEX(BS:BS,SMALL(BT:BT,ROW(A213))),\"\")","v":""},"","","",""]
[{"$f":"IF(F217<>\"\",事業者基本情報!$E$9&事業者基本情報!$F$9&事業者基本情報!$G$9,\"\")","v":""},{"$f":"IF(F217<>\"\",事業者基本情報!$Y$10,\"\")","v":""},{"$f":"IF(F217<>\"\",事業者基本情報!$Y$7,\"\")","v":""},{"$f":"IF(F217<>\"\",事業者基本情報!$Y$8,\"\")","v":""},{"$f":"IF(F217<>\"\",事業者基本情報!$E$11&事業者基本情報!$F$11&事業者基本情報!$G$11&事業者基本情報!$H$11&事業者基本情報!$I$11,\"\")","v":""},null,null,null,"市",null,null,"-",null,"-",null,{"$f":"IFERROR(VLOOKUP(Q217,コード表!$B$3:$C$101,2,FALSE),\"\")","v":""},null,{"$f":"IFERROR(VLOOKUP(S217,コード表!$F$7:$G$141,2,FALSE),\"\")","v":""},null,null,"t",null,null,null,null,null,null,null,null,null,null,null,null,null,null,null,null,null,null,null,null,null,null,null,null,null,null,null,null,null,null,null,null,null,null,null,null,null,null,null,null,null,null,null,null,null,null,null,null,"","",{"$f":"IF(BS217=\"\",\"\",IF(COUNTIF(BS$4:BS217,BS217)=1,ROW(),\"\"))","v":""},{"$f":"IFERROR(INDEX(BS:BS,SMALL(BT:BT,ROW(A214))),\"\")","v":""},"","","",""]
[{"$f":"IF(F218<>\"\",事業者基本情報!$E$9&事業者基本情報!$F$9&事業者基本情報!$G$9,\"\")","v":""},{"$f":"IF(F218<>\"\",事業者基本情報!$Y$10,\"\")","v":""},{"$f":"IF(F218<>\"\",事業者基本情報!$Y$7,\"\")","v":""},{"$f":"IF(F218<>\"\",事業者基本情報!$Y$8,\"\")","v":""},{"$f":"IF(F218<>\"\",事業者基本情報!$E$11&事業者基本情報!$F$11&事業者基本情報!$G$11&事業者基本情報!$H$11&事業者基本情報!$I$11,\"\")","v":""},null,null,null,"市",null,null,"-",null,"-",null,{"$f":"IFERROR(VLOOKUP(Q218,コード表!$B$3:$C$101,2,FALSE),\"\")","v":""},null,{"$f":"IFERROR(VLOOKUP(S218,コード表!$F$7:$G$141,2,FALSE),\"\")","v":""},null,null,"t",null,null,null,null,null,null,null,null,null,null,null,null,null,null,null,null,null,null,null,null,null,null,null,null,null,null,null,null,null,null,null,null,null,null,null,null,null,null,null,null,null,null,null,null,null,null,null,null,"","",{"$f":"IF(BS218=\"\",\"\",IF(COUNTIF(BS$4:BS218,BS218)=1,ROW(),\"\"))","v":""},{"$f":"IFERROR(INDEX(BS:BS,SMALL(BT:BT,ROW(A215))),\"\")","v":""},"","","",""]
[{"$f":"IF(F219<>\"\",事業者基本情報!$E$9&事業者基本情報!$F$9&事業者基本情報!$G$9,\"\")","v":""},{"$f":"IF(F219<>\"\",事業者基本情報!$Y$10,\"\")","v":""},{"$f":"IF(F219<>\"\",事業者基本情報!$Y$7,\"\")","v":""},{"$f":"IF(F219<>\"\",事業者基本情報!$Y$8,\"\")","v":""},{"$f":"IF(F219<>\"\",事業者基本情報!$E$11&事業者基本情報!$F$11&事業者基本情報!$G$11&事業者基本情報!$H$11&事業者基本情報!$I$11,\"\")","v":""},null,null,null,"市",null,null,"-",null,"-",null,{"$f":"IFERROR(VLOOKUP(Q219,コード表!$B$3:$C$101,2,FALSE),\"\")","v":""},null,{"$f":"IFERROR(VLOOKUP(S219,コード表!$F$7:$G$141,2,FALSE),\"\")","v":""},null,null,"t",null,null,null,null,null,null,null,null,null,null,null,null,null,null,null,null,null,null,null,null,null,null,null,null,null,null,null,null,null,null,null,null,null,null,null,null,null,null,null,null,null,null,null,null,null,null,null,null,"","",{"$f":"IF(BS219=\"\",\"\",IF(COUNTIF(BS$4:BS219,BS219)=1,ROW(),\"\"))","v":""},{"$f":"IFERROR(INDEX(BS:BS,SMALL(BT:BT,ROW(A216))),\"\")","v":""},"","","",""]
[{"$f":"IF(F220<>\"\",事業者基本情報!$E$9&事業者基本情報!$F$9&事業者基本情報!$G$9,\"\")","v":""},{"$f":"IF(F220<>\"\",事業者基本情報!$Y$10,\"\")","v":""},{"$f":"IF(F220<>\"\",事業者基本情報!$Y$7,\"\")","v":""},{"$f":"IF(F220<>\"\",事業者基本情報!$Y$8,\"\")","v":""},{"$f":"IF(F220<>\"\",事業者基本情報!$E$11&事業者基本情報!$F$11&事業者基本情報!$G$11&事業者基本情報!$H$11&事業者基本情報!$I$11,\"\")","v":""},null,null,null,"市",null,null,"-",null,"-",null,{"$f":"IFERROR(VLOOKUP(Q220,コード表!$B$3:$C$101,2,FALSE),\"\")","v":""},null,{"$f":"IFERROR(VLOOKUP(S220,コード表!$F$7:$G$141,2,FALSE),\"\")","v":""},null,null,"t",null,null,null,null,null,null,null,null,null,null,null,null,null,null,null,null,null,null,null,null,null,null,null,null,null,null,null,null,null,null,null,null,null,null,null,null,null,null,null,null,null,null,null,null,null,null,null,null,"","",{"$f":"IF(BS220=\"\",\"\",IF(COUNTIF(BS$4:BS220,BS220)=1,ROW(),\"\"))","v":""},{"$f":"IFERROR(INDEX(BS:BS,SMALL(BT:BT,ROW(A217))),\"\")","v":""},"","","",""]
[{"$f":"IF(F221<>\"\",事業者基本情報!$E$9&事業者基本情報!$F$9&事業者基本情報!$G$9,\"\")","v":""},{"$f":"IF(F221<>\"\",事業者基本情報!$Y$10,\"\")","v":""},{"$f":"IF(F221<>\"\",事業者基本情報!$Y$7,\"\")","v":""},{"$f":"IF(F221<>\"\",事業者基本情報!$Y$8,\"\")","v":""},{"$f":"IF(F221<>\"\",事業者基本情報!$E$11&事業者基本情報!$F$11&事業者基本情報!$G$11&事業者基本情報!$H$11&事業者基本情報!$I$11,\"\")","v":""},null,null,null,"市",null,null,"-",null,"-",null,{"$f":"IFERROR(VLOOKUP(Q221,コード表!$B$3:$C$101,2,FALSE),\"\")","v":""},null,{"$f":"IFERROR(VLOOKUP(S221,コード表!$F$7:$G$141,2,FALSE),\"\")","v":""},null,null,"t",null,null,null,null,null,null,null,null,null,null,null,null,null,null,null,null,null,null,null,null,null,null,null,null,null,null,null,null,null,null,null,null,null,null,null,null,null,null,null,null,null,null,null,null,null,null,null,null,"","",{"$f":"IF(BS221=\"\",\"\",IF(COUNTIF(BS$4:BS221,BS221)=1,ROW(),\"\"))","v":""},{"$f":"IFERROR(INDEX(BS:BS,SMALL(BT:BT,ROW(A218))),\"\")","v":""},"","","",""]
[{"$f":"IF(F222<>\"\",事業者基本情報!$E$9&事業者基本情報!$F$9&事業者基本情報!$G$9,\"\")","v":""},{"$f":"IF(F222<>\"\",事業者基本情報!$Y$10,\"\")","v":""},{"$f":"IF(F222<>\"\",事業者基本情報!$Y$7,\"\")","v":""},{"$f":"IF(F222<>\"\",事業者基本情報!$Y$8,\"\")","v":""},{"$f":"IF(F222<>\"\",事業者基本情報!$E$11&事業者基本情報!$F$11&事業者基本情報!$G$11&事業者基本情報!$H$11&事業者基本情報!$I$11,\"\")","v":""},null,null,null,"市",null,null,"-",null,"-",null,{"$f":"IFERROR(VLOOKUP(Q222,コード表!$B$3:$C$101,2,FALSE),\"\")","v":""},null,{"$f":"IFERROR(VLOOKUP(S222,コード表!$F$7:$G$141,2,FALSE),\"\")","v":""},null,null,"t",null,null,null,null,null,null,null,null,null,null,null,null,null,null,null,null,null,null,null,null,null,null,null,null,null,null,null,null,null,null,null,null,null,null,null,null,null,null,null,null,null,null,null,null,null,null,null,null,"","",{"$f":"IF(BS222=\"\",\"\",IF(COUNTIF(BS$4:BS222,BS222)=1,ROW(),\"\"))","v":""},{"$f":"IFERROR(INDEX(BS:BS,SMALL(BT:BT,ROW(A219))),\"\")","v":""},"","","",""]
[{"$f":"IF(F223<>\"\",事業者基本情報!$E$9&事業者基本情報!$F$9&事業者基本情報!$G$9,\"\")","v":""},{"$f":"IF(F223<>\"\",事業者基本情報!$Y$10,\"\")","v":""},{"$f":"IF(F223<>\"\",事業者基本情報!$Y$7,\"\")","v":""},{"$f":"IF(F223<>\"\",事業者基本情報!$Y$8,\"\")","v":""},{"$f":"IF(F223<>\"\",事業者基本情報!$E$11&事業者基本情報!$F$11&事業者基本情報!$G$11&事業者基本情報!$H$11&事業者基本情報!$I$11,\"\")","v":""},null,null,null,"市",null,null,"-",null,"-",null,{"$f":"IFERROR(VLOOKUP(Q223,コード表!$B$3:$C$101,2,FALSE),\"\")","v":""},null,{"$f":"IFERROR(VLOOKUP(S223,コード表!$F$7:$G$141,2,FALSE),\"\")","v":""},null,null,"t",null,null,null,null,null,null,null,null,null,null,null,null,null,null,null,null,null,null,null,null,null,null,null,null,null,null,null,null,null,null,null,null,null,null,null,null,null,null,null,null,null,null,null,null,null,null,null,null,"","",{"$f":"IF(BS223=\"\",\"\",IF(COUNTIF(BS$4:BS223,BS223)=1,ROW(),\"\"))","v":""},{"$f":"IFERROR(INDEX(BS:BS,SMALL(BT:BT,ROW(A220))),\"\")","v":""},"","","",""]
[{"$f":"IF(F224<>\"\",事業者基本情報!$E$9&事業者基本情報!$F$9&事業者基本情報!$G$9,\"\")","v":""},{"$f":"IF(F224<>\"\",事業者基本情報!$Y$10,\"\")","v":""},{"$f":"IF(F224<>\"\",事業者基本情報!$Y$7,\"\")","v":""},{"$f":"IF(F224<>\"\",事業者基本情報!$Y$8,\"\")","v":""},{"$f":"IF(F224<>\"\",事業者基本情報!$E$11&事業者基本情報!$F$11&事業者基本情報!$G$11&事業者基本情報!$H$11&事業者基本情報!$I$11,\"\")","v":""},null,null,null,"市",null,null,"-",null,"-",null,{"$f":"IFERROR(VLOOKUP(Q224,コード表!$B$3:$C$101,2,FALSE),\"\")","v":""},null,{"$f":"IFERROR(VLOOKUP(S224,コード表!$F$7:$G$141,2,FALSE),\"\")","v":""},null,null,"t",null,null,null,null,null,null,null,null,null,null,null,null,null,null,null,null,null,null,null,null,null,null,null,null,null,null,null,null,null,null,null,null,null,null,null,null,null,null,null,null,null,null,null,null,null,null,null,null,"","",{"$f":"IF(BS224=\"\",\"\",IF(COUNTIF(BS$4:BS224,BS224)=1,ROW(),\"\"))","v":""},{"$f":"IFERROR(INDEX(BS:BS,SMALL(BT:BT,ROW(A221))),\"\")","v":""},"","","",""]
[{"$f":"IF(F225<>\"\",事業者基本情報!$E$9&事業者基本情報!$F$9&事業者基本情報!$G$9,\"\")","v":""},{"$f":"IF(F225<>\"\",事業者基本情報!$Y$10,\"\")","v":""},{"$f":"IF(F225<>\"\",事業者基本情報!$Y$7,\"\")","v":""},{"$f":"IF(F225<>\"\",事業者基本情報!$Y$8,\"\")","v":""},{"$f":"IF(F225<>\"\",事業者基本情報!$E$11&事業者基本情報!$F$11&事業者基本情報!$G$11&事業者基本情報!$H$11&事業者基本情報!$I$11,\"\")","v":""},null,null,null,"市",null,null,"-",null,"-",null,{"$f":"IFERROR(VLOOKUP(Q225,コード表!$B$3:$C$101,2,FALSE),\"\")","v":""},null,{"$f":"IFERROR(VLOOKUP(S225,コード表!$F$7:$G$141,2,FALSE),\"\")","v":""},null,null,"t",null,null,null,null,null,null,null,null,null,null,null,null,null,null,null,null,null,null,null,null,null,null,null,null,null,null,null,null,null,null,null,null,null,null,null,null,null,null,null,null,null,null,null,null,null,null,null,null,"","",{"$f":"IF(BS225=\"\",\"\",IF(COUNTIF(BS$4:BS225,BS225)=1,ROW(),\"\"))","v":""},{"$f":"IFERROR(INDEX(BS:BS,SMALL(BT:BT,ROW(A222))),\"\")","v":""},"","","",""]
[{"$f":"IF(F226<>\"\",事業者基本情報!$E$9&事業者基本情報!$F$9&事業者基本情報!$G$9,\"\")","v":""},{"$f":"IF(F226<>\"\",事業者基本情報!$Y$10,\"\")","v":""},{"$f":"IF(F226<>\"\",事業者基本情報!$Y$7,\"\")","v":""},{"$f":"IF(F226<>\"\",事業者基本情報!$Y$8,\"\")","v":""},{"$f":"IF(F226<>\"\",事業者基本情報!$E$11&事業者基本情報!$F$11&事業者基本情報!$G$11&事業者基本情報!$H$11&事業者基本情報!$I$11,\"\")","v":""},null,null,null,"市",null,null,"-",null,"-",null,{"$f":"IFERROR(VLOOKUP(Q226,コード表!$B$3:$C$101,2,FALSE),\"\")","v":""},null,{"$f":"IFERROR(VLOOKUP(S226,コード表!$F$7:$G$141,2,FALSE),\"\")","v":""},null,null,"t",null,null,null,null,null,null,null,null,null,null,null,null,null,null,null,null,null,null,null,null,null,null,null,null,null,null,null,null,null,null,null,null,null,null,null,null,null,null,null,null,null,null,null,null,null,null,null,null,"","",{"$f":"IF(BS226=\"\",\"\",IF(COUNTIF(BS$4:BS226,BS226)=1,ROW(),\"\"))","v":""},{"$f":"IFERROR(INDEX(BS:BS,SMALL(BT:BT,ROW(A223))),\"\")","v":""},"","","",""]
[{"$f":"IF(F227<>\"\",事業者基本情報!$E$9&事業者基本情報!$F$9&事業者基本情報!$G$9,\"\")","v":""},{"$f":"IF(F227<>\"\",事業者基本情報!$Y$10,\"\")","v":""},{"$f":"IF(F227<>\"\",事業者基本情報!$Y$7,\"\")","v":""},{"$f":"IF(F227<>\"\",事業者基本情報!$Y$8,\"\")","v":""},{"$f":"IF(F227<>\"\",事業者基本情報!$E$11&事業者基本情報!$F$11&事業者基本情報!$G$11&事業者基本情報!$H$11&事業者基本情報!$I$11,\"\")","v":""},null,null,null,"市",null,null,"-",null,"-",null,{"$f":"IFERROR(VLOOKUP(Q227,コード表!$B$3:$C$101,2,FALSE),\"\")","v":""},null,{"$f":"IFERROR(VLOOKUP(S227,コード表!$F$7:$G$141,2,FALSE),\"\")","v":""},null,null,"t",null,null,null,null,null,null,null,null,null,null,null,null,null,null,null,null,null,null,null,null,null,null,null,null,null,null,null,null,null,null,null,null,null,null,null,null,null,null,null,null,null,null,null,null,null,null,null,null,"","",{"$f":"IF(BS227=\"\",\"\",IF(COUNTIF(BS$4:BS227,BS227)=1,ROW(),\"\"))","v":""},{"$f":"IFERROR(INDEX(BS:BS,SMALL(BT:BT,ROW(A224))),\"\")","v":""},"","","",""]
[{"$f":"IF(F228<>\"\",事業者基本情報!$E$9&事業者基本情報!$F$9&事業者基本情報!$G$9,\"\")","v":""},{"$f":"IF(F228<>\"\",事業者基本情報!$Y$10,\"\")","v":""},{"$f":"IF(F228<>\"\",事業者基本情報!$Y$7,\"\")","v":""},{"$f":"IF(F228<>\"\",事業者基本情報!$Y$8,\"\")","v":""},{"$f":"IF(F228<>\"\",事業者基本情報!$E$11&事業者基本情報!$F$11&事業者基本情報!$G$11&事業者基本情報!$H$11&事業者基本情報!$I$11,\"\")","v":""},null,null,null,"市",null,null,"-",null,"-",null,{"$f":"IFERROR(VLOOKUP(Q228,コード表!$B$3:$C$101,2,FALSE),\"\")","v":""},null,{"$f":"IFERROR(VLOOKUP(S228,コード表!$F$7:$G$141,2,FALSE),\"\")","v":""},null,null,"t",null,null,null,null,null,null,null,null,null,null,null,null,null,null,null,null,null,null,null,null,null,null,null,null,null,null,null,null,null,null,null,null,null,null,null,null,null,null,null,null,null,null,null,null,null,null,null,null,"","",{"$f":"IF(BS228=\"\",\"\",IF(COUNTIF(BS$4:BS228,BS228)=1,ROW(),\"\"))","v":""},{"$f":"IFERROR(INDEX(BS:BS,SMALL(BT:BT,ROW(A225))),\"\")","v":""},"","","",""]
[{"$f":"IF(F229<>\"\",事業者基本情報!$E$9&事業者基本情報!$F$9&事業者基本情報!$G$9,\"\")","v":""},{"$f":"IF(F229<>\"\",事業者基本情報!$Y$10,\"\")","v":""},{"$f":"IF(F229<>\"\",事業者基本情報!$Y$7,\"\")","v":""},{"$f":"IF(F229<>\"\",事業者基本情報!$Y$8,\"\")","v":""},{"$f":"IF(F229<>\"\",事業者基本情報!$E$11&事業者基本情報!$F$11&事業者基本情報!$G$11&事業者基本情報!$H$11&事業者基本情報!$I$11,\"\")","v":""},null,null,null,"市",null,null,"-",null,"-",null,{"$f":"IFERROR(VLOOKUP(Q229,コード表!$B$3:$C$101,2,FALSE),\"\")","v":""},null,{"$f":"IFERROR(VLOOKUP(S229,コード表!$F$7:$G$141,2,FALSE),\"\")","v":""},null,null,"t",null,null,null,null,null,null,null,null,null,null,null,null,null,null,null,null,null,null,null,null,null,null,null,null,null,null,null,null,null,null,null,null,null,null,null,null,null,null,null,null,null,null,null,null,null,null,null,null,"","",{"$f":"IF(BS229=\"\",\"\",IF(COUNTIF(BS$4:BS229,BS229)=1,ROW(),\"\"))","v":""},{"$f":"IFERROR(INDEX(BS:BS,SMALL(BT:BT,ROW(A226))),\"\")","v":""},"","","",""]
[{"$f":"IF(F230<>\"\",事業者基本情報!$E$9&事業者基本情報!$F$9&事業者基本情報!$G$9,\"\")","v":""},{"$f":"IF(F230<>\"\",事業者基本情報!$Y$10,\"\")","v":""},{"$f":"IF(F230<>\"\",事業者基本情報!$Y$7,\"\")","v":""},{"$f":"IF(F230<>\"\",事業者基本情報!$Y$8,\"\")","v":""},{"$f":"IF(F230<>\"\",事業者基本情報!$E$11&事業者基本情報!$F$11&事業者基本情報!$G$11&事業者基本情報!$H$11&事業者基本情報!$I$11,\"\")","v":""},null,null,null,"市",null,null,"-",null,"-",null,{"$f":"IFERROR(VLOOKUP(Q230,コード表!$B$3:$C$101,2,FALSE),\"\")","v":""},null,{"$f":"IFERROR(VLOOKUP(S230,コード表!$F$7:$G$141,2,FALSE),\"\")","v":""},null,null,"t",null,null,null,null,null,null,null,null,null,null,null,null,null,null,null,null,null,null,null,null,null,null,null,null,null,null,null,null,null,null,null,null,null,null,null,null,null,null,null,null,null,null,null,null,null,null,null,null,"","",{"$f":"IF(BS230=\"\",\"\",IF(COUNTIF(BS$4:BS230,BS230)=1,ROW(),\"\"))","v":""},{"$f":"IFERROR(INDEX(BS:BS,SMALL(BT:BT,ROW(A227))),\"\")","v":""},"","","",""]
[{"$f":"IF(F231<>\"\",事業者基本情報!$E$9&事業者基本情報!$F$9&事業者基本情報!$G$9,\"\")","v":""},{"$f":"IF(F231<>\"\",事業者基本情報!$Y$10,\"\")","v":""},{"$f":"IF(F231<>\"\",事業者基本情報!$Y$7,\"\")","v":""},{"$f":"IF(F231<>\"\",事業者基本情報!$Y$8,\"\")","v":""},{"$f":"IF(F231<>\"\",事業者基本情報!$E$11&事業者基本情報!$F$11&事業者基本情報!$G$11&事業者基本情報!$H$11&事業者基本情報!$I$11,\"\")","v":""},null,null,null,"市",null,null,"-",null,"-",null,{"$f":"IFERROR(VLOOKUP(Q231,コード表!$B$3:$C$101,2,FALSE),\"\")","v":""},null,{"$f":"IFERROR(VLOOKUP(S231,コード表!$F$7:$G$141,2,FALSE),\"\")","v":""},null,null,"t",null,null,null,null,null,null,null,null,null,null,null,null,null,null,null,null,null,null,null,null,null,null,null,null,null,null,null,null,null,null,null,null,null,null,null,null,null,null,null,null,null,null,null,null,null,null,null,null,"","",{"$f":"IF(BS231=\"\",\"\",IF(COUNTIF(BS$4:BS231,BS231)=1,ROW(),\"\"))","v":""},{"$f":"IFERROR(INDEX(BS:BS,SMALL(BT:BT,ROW(A228))),\"\")","v":""},"","","",""]
[{"$f":"IF(F232<>\"\",事業者基本情報!$E$9&事業者基本情報!$F$9&事業者基本情報!$G$9,\"\")","v":""},{"$f":"IF(F232<>\"\",事業者基本情報!$Y$10,\"\")","v":""},{"$f":"IF(F232<>\"\",事業者基本情報!$Y$7,\"\")","v":""},{"$f":"IF(F232<>\"\",事業者基本情報!$Y$8,\"\")","v":""},{"$f":"IF(F232<>\"\",事業者基本情報!$E$11&事業者基本情報!$F$11&事業者基本情報!$G$11&事業者基本情報!$H$11&事業者基本情報!$I$11,\"\")","v":""},null,null,null,"市",null,null,"-",null,"-",null,{"$f":"IFERROR(VLOOKUP(Q232,コード表!$B$3:$C$101,2,FALSE),\"\")","v":""},null,{"$f":"IFERROR(VLOOKUP(S232,コード表!$F$7:$G$141,2,FALSE),\"\")","v":""},null,null,"t",null,null,null,null,null,null,null,null,null,null,null,null,null,null,null,null,null,null,null,null,null,null,null,null,null,null,null,null,null,null,null,null,null,null,null,null,null,null,null,null,null,null,null,null,null,null,null,null,"","",{"$f":"IF(BS232=\"\",\"\",IF(COUNTIF(BS$4:BS232,BS232)=1,ROW(),\"\"))","v":""},{"$f":"IFERROR(INDEX(BS:BS,SMALL(BT:BT,ROW(A229))),\"\")","v":""},"","","",""]
[{"$f":"IF(F233<>\"\",事業者基本情報!$E$9&事業者基本情報!$F$9&事業者基本情報!$G$9,\"\")","v":""},{"$f":"IF(F233<>\"\",事業者基本情報!$Y$10,\"\")","v":""},{"$f":"IF(F233<>\"\",事業者基本情報!$Y$7,\"\")","v":""},{"$f":"IF(F233<>\"\",事業者基本情報!$Y$8,\"\")","v":""},{"$f":"IF(F233<>\"\",事業者基本情報!$E$11&事業者基本情報!$F$11&事業者基本情報!$G$11&事業者基本情報!$H$11&事業者基本情報!$I$11,\"\")","v":""},null,null,null,"市",null,null,"-",null,"-",null,{"$f":"IFERROR(VLOOKUP(Q233,コード表!$B$3:$C$101,2,FALSE),\"\")","v":""},null,{"$f":"IFERROR(VLOOKUP(S233,コード表!$F$7:$G$141,2,FALSE),\"\")","v":""},null,null,"t",null,null,null,null,null,null,null,null,null,null,null,null,null,null,null,null,null,null,null,null,null,null,null,null,null,null,null,null,null,null,null,null,null,null,null,null,null,null,null,null,null,null,null,null,null,null,null,null,"","",{"$f":"IF(BS233=\"\",\"\",IF(COUNTIF(BS$4:BS233,BS233)=1,ROW(),\"\"))","v":""},{"$f":"IFERROR(INDEX(BS:BS,SMALL(BT:BT,ROW(A230))),\"\")","v":""},"","","",""]
[{"$f":"IF(F234<>\"\",事業者基本情報!$E$9&事業者基本情報!$F$9&事業者基本情報!$G$9,\"\")","v":""},{"$f":"IF(F234<>\"\",事業者基本情報!$Y$10,\"\")","v":""},{"$f":"IF(F234<>\"\",事業者基本情報!$Y$7,\"\")","v":""},{"$f":"IF(F234<>\"\",事業者基本情報!$Y$8,\"\")","v":""},{"$f":"IF(F234<>\"\",事業者基本情報!$E$11&事業者基本情報!$F$11&事業者基本情報!$G$11&事業者基本情報!$H$11&事業者基本情報!$I$11,\"\")","v":""},null,null,null,"市",null,null,"-",null,"-",null,{"$f":"IFERROR(VLOOKUP(Q234,コード表!$B$3:$C$101,2,FALSE),\"\")","v":""},null,{"$f":"IFERROR(VLOOKUP(S234,コード表!$F$7:$G$141,2,FALSE),\"\")","v":""},null,null,"t",null,null,null,null,null,null,null,null,null,null,null,null,null,null,null,null,null,null,null,null,null,null,null,null,null,null,null,null,null,null,null,null,null,null,null,null,null,null,null,null,null,null,null,null,null,null,null,null,"","",{"$f":"IF(BS234=\"\",\"\",IF(COUNTIF(BS$4:BS234,BS234)=1,ROW(),\"\"))","v":""},{"$f":"IFERROR(INDEX(BS:BS,SMALL(BT:BT,ROW(A231))),\"\")","v":""},"","","",""]
[{"$f":"IF(F235<>\"\",事業者基本情報!$E$9&事業者基本情報!$F$9&事業者基本情報!$G$9,\"\")","v":""},{"$f":"IF(F235<>\"\",事業者基本情報!$Y$10,\"\")","v":""},{"$f":"IF(F235<>\"\",事業者基本情報!$Y$7,\"\")","v":""},{"$f":"IF(F235<>\"\",事業者基本情報!$Y$8,\"\")","v":""},{"$f":"IF(F235<>\"\",事業者基本情報!$E$11&事業者基本情報!$F$11&事業者基本情報!$G$11&事業者基本情報!$H$11&事業者基本情報!$I$11,\"\")","v":""},null,null,null,"市",null,null,"-",null,"-",null,{"$f":"IFERROR(VLOOKUP(Q235,コード表!$B$3:$C$101,2,FALSE),\"\")","v":""},null,{"$f":"IFERROR(VLOOKUP(S235,コード表!$F$7:$G$141,2,FALSE),\"\")","v":""},null,null,"t",null,null,null,null,null,null,null,null,null,null,null,null,null,null,null,null,null,null,null,null,null,null,null,null,null,null,null,null,null,null,null,null,null,null,null,null,null,null,null,null,null,null,null,null,null,null,null,null,"","",{"$f":"IF(BS235=\"\",\"\",IF(COUNTIF(BS$4:BS235,BS235)=1,ROW(),\"\"))","v":""},{"$f":"IFERROR(INDEX(BS:BS,SMALL(BT:BT,ROW(A232))),\"\")","v":""},"","","",""]
[{"$f":"IF(F236<>\"\",事業者基本情報!$E$9&事業者基本情報!$F$9&事業者基本情報!$G$9,\"\")","v":""},{"$f":"IF(F236<>\"\",事業者基本情報!$Y$10,\"\")","v":""},{"$f":"IF(F236<>\"\",事業者基本情報!$Y$7,\"\")","v":""},{"$f":"IF(F236<>\"\",事業者基本情報!$Y$8,\"\")","v":""},{"$f":"IF(F236<>\"\",事業者基本情報!$E$11&事業者基本情報!$F$11&事業者基本情報!$G$11&事業者基本情報!$H$11&事業者基本情報!$I$11,\"\")","v":""},null,null,null,"市",null,null,"-",null,"-",null,{"$f":"IFERROR(VLOOKUP(Q236,コード表!$B$3:$C$101,2,FALSE),\"\")","v":""},null,{"$f":"IFERROR(VLOOKUP(S236,コード表!$F$7:$G$141,2,FALSE),\"\")","v":""},null,null,"t",null,null,null,null,null,null,null,null,null,null,null,null,null,null,null,null,null,null,null,null,null,null,null,null,null,null,null,null,null,null,null,null,null,null,null,null,null,null,null,null,null,null,null,null,null,null,null,null,"","",{"$f":"IF(BS236=\"\",\"\",IF(COUNTIF(BS$4:BS236,BS236)=1,ROW(),\"\"))","v":""},{"$f":"IFERROR(INDEX(BS:BS,SMALL(BT:BT,ROW(A233))),\"\")","v":""},"","","",""]
[{"$f":"IF(F237<>\"\",事業者基本情報!$E$9&事業者基本情報!$F$9&事業者基本情報!$G$9,\"\")","v":""},{"$f":"IF(F237<>\"\",事業者基本情報!$Y$10,\"\")","v":""},{"$f":"IF(F237<>\"\",事業者基本情報!$Y$7,\"\")","v":""},{"$f":"IF(F237<>\"\",事業者基本情報!$Y$8,\"\")","v":""},{"$f":"IF(F237<>\"\",事業者基本情報!$E$11&事業者基本情報!$F$11&事業者基本情報!$G$11&事業者基本情報!$H$11&事業者基本情報!$I$11,\"\")","v":""},null,null,null,"市",null,null,"-",null,"-",null,{"$f":"IFERROR(VLOOKUP(Q237,コード表!$B$3:$C$101,2,FALSE),\"\")","v":""},null,{"$f":"IFERROR(VLOOKUP(S237,コード表!$F$7:$G$141,2,FALSE),\"\")","v":""},null,null,"t",null,null,null,null,null,null,null,null,null,null,null,null,null,null,null,null,null,null,null,null,null,null,null,null,null,null,null,null,null,null,null,null,null,null,null,null,null,null,null,null,null,null,null,null,null,null,null,null,"","",{"$f":"IF(BS237=\"\",\"\",IF(COUNTIF(BS$4:BS237,BS237)=1,ROW(),\"\"))","v":""},{"$f":"IFERROR(INDEX(BS:BS,SMALL(BT:BT,ROW(A234))),\"\")","v":""},"","","",""]
[{"$f":"IF(F238<>\"\",事業者基本情報!$E$9&事業者基本情報!$F$9&事業者基本情報!$G$9,\"\")","v":""},{"$f":"IF(F238<>\"\",事業者基本情報!$Y$10,\"\")","v":""},{"$f":"IF(F238<>\"\",事業者基本情報!$Y$7,\"\")","v":""},{"$f":"IF(F238<>\"\",事業者基本情報!$Y$8,\"\")","v":""},{"$f":"IF(F238<>\"\",事業者基本情報!$E$11&事業者基本情報!$F$11&事業者基本情報!$G$11&事業者基本情報!$H$11&事業者基本情報!$I$11,\"\")","v":""},null,null,null,"市",null,null,"-",null,"-",null,{"$f":"IFERROR(VLOOKUP(Q238,コード表!$B$3:$C$101,2,FALSE),\"\")","v":""},null,{"$f":"IFERROR(VLOOKUP(S238,コード表!$F$7:$G$141,2,FALSE),\"\")","v":""},null,null,"t",null,null,null,null,null,null,null,null,null,null,null,null,null,null,null,null,null,null,null,null,null,null,null,null,null,null,null,null,null,null,null,null,null,null,null,null,null,null,null,null,null,null,null,null,null,null,null,null,"","",{"$f":"IF(BS238=\"\",\"\",IF(COUNTIF(BS$4:BS238,BS238)=1,ROW(),\"\"))","v":""},{"$f":"IFERROR(INDEX(BS:BS,SMALL(BT:BT,ROW(A235))),\"\")","v":""},"","","",""]
[{"$f":"IF(F239<>\"\",事業者基本情報!$E$9&事業者基本情報!$F$9&事業者基本情報!$G$9,\"\")","v":""},{"$f":"IF(F239<>\"\",事業者基本情報!$Y$10,\"\")","v":""},{"$f":"IF(F239<>\"\",事業者基本情報!$Y$7,\"\")","v":""},{"$f":"IF(F239<>\"\",事業者基本情報!$Y$8,\"\")","v":""},{"$f":"IF(F239<>\"\",事業者基本情報!$E$11&事業者基本情報!$F$11&事業者基本情報!$G$11&事業者基本情報!$H$11&事業者基本情報!$I$11,\"\")","v":""},null,null,null,"市",null,null,"-",null,"-",null,{"$f":"IFERROR(VLOOKUP(Q239,コード表!$B$3:$C$101,2,FALSE),\"\")","v":""},null,{"$f":"IFERROR(VLOOKUP(S239,コード表!$F$7:$G$141,2,FALSE),\"\")","v":""},null,null,"t",null,null,null,null,null,null,null,null,null,null,null,null,null,null,null,null,null,null,null,null,null,null,null,null,null,null,null,null,null,null,null,null,null,null,null,null,null,null,null,null,null,null,null,null,null,null,null,null,"","",{"$f":"IF(BS239=\"\",\"\",IF(COUNTIF(BS$4:BS239,BS239)=1,ROW(),\"\"))","v":""},{"$f":"IFERROR(INDEX(BS:BS,SMALL(BT:BT,ROW(A236))),\"\")","v":""},"","","",""]
[{"$f":"IF(F240<>\"\",事業者基本情報!$E$9&事業者基本情報!$F$9&事業者基本情報!$G$9,\"\")","v":""},{"$f":"IF(F240<>\"\",事業者基本情報!$Y$10,\"\")","v":""},{"$f":"IF(F240<>\"\",事業者基本情報!$Y$7,\"\")","v":""},{"$f":"IF(F240<>\"\",事業者基本情報!$Y$8,\"\")","v":""},{"$f":"IF(F240<>\"\",事業者基本情報!$E$11&事業者基本情報!$F$11&事業者基本情報!$G$11&事業者基本情報!$H$11&事業者基本情報!$I$11,\"\")","v":""},null,null,null,"市",null,null,"-",null,"-",null,{"$f":"IFERROR(VLOOKUP(Q240,コード表!$B$3:$C$101,2,FALSE),\"\")","v":""},null,{"$f":"IFERROR(VLOOKUP(S240,コード表!$F$7:$G$141,2,FALSE),\"\")","v":""},null,null,"t",null,null,null,null,null,null,null,null,null,null,null,null,null,null,null,null,null,null,null,null,null,null,null,null,null,null,null,null,null,null,null,null,null,null,null,null,null,null,null,null,null,null,null,null,null,null,null,null,"","",{"$f":"IF(BS240=\"\",\"\",IF(COUNTIF(BS$4:BS240,BS240)=1,ROW(),\"\"))","v":""},{"$f":"IFERROR(INDEX(BS:BS,SMALL(BT:BT,ROW(A237))),\"\")","v":""},"","","",""]
[{"$f":"IF(F241<>\"\",事業者基本情報!$E$9&事業者基本情報!$F$9&事業者基本情報!$G$9,\"\")","v":""},{"$f":"IF(F241<>\"\",事業者基本情報!$Y$10,\"\")","v":""},{"$f":"IF(F241<>\"\",事業者基本情報!$Y$7,\"\")","v":""},{"$f":"IF(F241<>\"\",事業者基本情報!$Y$8,\"\")","v":""},{"$f":"IF(F241<>\"\",事業者基本情報!$E$11&事業者基本情報!$F$11&事業者基本情報!$G$11&事業者基本情報!$H$11&事業者基本情報!$I$11,\"\")","v":""},null,null,null,"市",null,null,"-",null,"-",null,{"$f":"IFERROR(VLOOKUP(Q241,コード表!$B$3:$C$101,2,FALSE),\"\")","v":""},null,{"$f":"IFERROR(VLOOKUP(S241,コード表!$F$7:$G$141,2,FALSE),\"\")","v":""},null,null,"t",null,null,null,null,null,null,null,null,null,null,null,null,null,null,null,null,null,null,null,null,null,null,null,null,null,null,null,null,null,null,null,null,null,null,null,null,null,null,null,null,null,null,null,null,null,null,null,null,"","",{"$f":"IF(BS241=\"\",\"\",IF(COUNTIF(BS$4:BS241,BS241)=1,ROW(),\"\"))","v":""},{"$f":"IFERROR(INDEX(BS:BS,SMALL(BT:BT,ROW(A238))),\"\")","v":""},"","","",""]
[{"$f":"IF(F242<>\"\",事業者基本情報!$E$9&事業者基本情報!$F$9&事業者基本情報!$G$9,\"\")","v":""},{"$f":"IF(F242<>\"\",事業者基本情報!$Y$10,\"\")","v":""},{"$f":"IF(F242<>\"\",事業者基本情報!$Y$7,\"\")","v":""},{"$f":"IF(F242<>\"\",事業者基本情報!$Y$8,\"\")","v":""},{"$f":"IF(F242<>\"\",事業者基本情報!$E$11&事業者基本情報!$F$11&事業者基本情報!$G$11&事業者基本情報!$H$11&事業者基本情報!$I$11,\"\")","v":""},null,null,null,"市",null,null,"-",null,"-",null,{"$f":"IFERROR(VLOOKUP(Q242,コード表!$B$3:$C$101,2,FALSE),\"\")","v":""},null,{"$f":"IFERROR(VLOOKUP(S242,コード表!$F$7:$G$141,2,FALSE),\"\")","v":""},null,null,"t",null,null,null,null,null,null,null,null,null,null,null,null,null,null,null,null,null,null,null,null,null,null,null,null,null,null,null,null,null,null,null,null,null,null,null,null,null,null,null,null,null,null,null,null,null,null,null,null,"","",{"$f":"IF(BS242=\"\",\"\",IF(COUNTIF(BS$4:BS242,BS242)=1,ROW(),\"\"))","v":""},{"$f":"IFERROR(INDEX(BS:BS,SMALL(BT:BT,ROW(A239))),\"\")","v":""},"","","",""]
[{"$f":"IF(F243<>\"\",事業者基本情報!$E$9&事業者基本情報!$F$9&事業者基本情報!$G$9,\"\")","v":""},{"$f":"IF(F243<>\"\",事業者基本情報!$Y$10,\"\")","v":""},{"$f":"IF(F243<>\"\",事業者基本情報!$Y$7,\"\")","v":""},{"$f":"IF(F243<>\"\",事業者基本情報!$Y$8,\"\")","v":""},{"$f":"IF(F243<>\"\",事業者基本情報!$E$11&事業者基本情報!$F$11&事業者基本情報!$G$11&事業者基本情報!$H$11&事業者基本情報!$I$11,\"\")","v":""},null,null,null,"市",null,null,"-",null,"-",null,{"$f":"IFERROR(VLOOKUP(Q243,コード表!$B$3:$C$101,2,FALSE),\"\")","v":""},null,{"$f":"IFERROR(VLOOKUP(S243,コード表!$F$7:$G$141,2,FALSE),\"\")","v":""},null,null,"t",null,null,null,null,null,null,null,null,null,null,null,null,null,null,null,null,null,null,null,null,null,null,null,null,null,null,null,null,null,null,null,null,null,null,null,null,null,null,null,null,null,null,null,null,null,null,null,null,"","",{"$f":"IF(BS243=\"\",\"\",IF(COUNTIF(BS$4:BS243,BS243)=1,ROW(),\"\"))","v":""},{"$f":"IFERROR(INDEX(BS:BS,SMALL(BT:BT,ROW(A240))),\"\")","v":""},"","","",""]
[{"$f":"IF(F244<>\"\",事業者基本情報!$E$9&事業者基本情報!$F$9&事業者基本情報!$G$9,\"\")","v":""},{"$f":"IF(F244<>\"\",事業者基本情報!$Y$10,\"\")","v":""},{"$f":"IF(F244<>\"\",事業者基本情報!$Y$7,\"\")","v":""},{"$f":"IF(F244<>\"\",事業者基本情報!$Y$8,\"\")","v":""},{"$f":"IF(F244<>\"\",事業者基本情報!$E$11&事業者基本情報!$F$11&事業者基本情報!$G$11&事業者基本情報!$H$11&事業者基本情報!$I$11,\"\")","v":""},null,null,null,"市",null,null,"-",null,"-",null,{"$f":"IFERROR(VLOOKUP(Q244,コード表!$B$3:$C$101,2,FALSE),\"\")","v":""},null,{"$f":"IFERROR(VLOOKUP(S244,コード表!$F$7:$G$141,2,FALSE),\"\")","v":""},null,null,"t",null,null,null,null,null,null,null,null,null,null,null,null,null,null,null,null,null,null,null,null,null,null,null,null,null,null,null,null,null,null,null,null,null,null,null,null,null,null,null,null,null,null,null,null,null,null,null,null,"","",{"$f":"IF(BS244=\"\",\"\",IF(COUNTIF(BS$4:BS244,BS244)=1,ROW(),\"\"))","v":""},{"$f":"IFERROR(INDEX(BS:BS,SMALL(BT:BT,ROW(A241))),\"\")","v":""},"","","",""]
[{"$f":"IF(F245<>\"\",事業者基本情報!$E$9&事業者基本情報!$F$9&事業者基本情報!$G$9,\"\")","v":""},{"$f":"IF(F245<>\"\",事業者基本情報!$Y$10,\"\")","v":""},{"$f":"IF(F245<>\"\",事業者基本情報!$Y$7,\"\")","v":""},{"$f":"IF(F245<>\"\",事業者基本情報!$Y$8,\"\")","v":""},{"$f":"IF(F245<>\"\",事業者基本情報!$E$11&事業者基本情報!$F$11&事業者基本情報!$G$11&事業者基本情報!$H$11&事業者基本情報!$I$11,\"\")","v":""},null,null,null,"市",null,null,"-",null,"-",null,{"$f":"IFERROR(VLOOKUP(Q245,コード表!$B$3:$C$101,2,FALSE),\"\")","v":""},null,{"$f":"IFERROR(VLOOKUP(S245,コード表!$F$7:$G$141,2,FALSE),\"\")","v":""},null,null,"t",null,null,null,null,null,null,null,null,null,null,null,null,null,null,null,null,null,null,null,null,null,null,null,null,null,null,null,null,null,null,null,null,null,null,null,null,null,null,null,null,null,null,null,null,null,null,null,null,"","",{"$f":"IF(BS245=\"\",\"\",IF(COUNTIF(BS$4:BS245,BS245)=1,ROW(),\"\"))","v":""},{"$f":"IFERROR(INDEX(BS:BS,SMALL(BT:BT,ROW(A242))),\"\")","v":""},"","","",""]
[{"$f":"IF(F246<>\"\",事業者基本情報!$E$9&事業者基本情報!$F$9&事業者基本情報!$G$9,\"\")","v":""},{"$f":"IF(F246<>\"\",事業者基本情報!$Y$10,\"\")","v":""},{"$f":"IF(F246<>\"\",事業者基本情報!$Y$7,\"\")","v":""},{"$f":"IF(F246<>\"\",事業者基本情報!$Y$8,\"\")","v":""},{"$f":"IF(F246<>\"\",事業者基本情報!$E$11&事業者基本情報!$F$11&事業者基本情報!$G$11&事業者基本情報!$H$11&事業者基本情報!$I$11,\"\")","v":""},null,null,null,"市",null,null,"-",null,"-",null,{"$f":"IFERROR(VLOOKUP(Q246,コード表!$B$3:$C$101,2,FALSE),\"\")","v":""},null,{"$f":"IFERROR(VLOOKUP(S246,コード表!$F$7:$G$141,2,FALSE),\"\")","v":""},null,null,"t",null,null,null,null,null,null,null,null,null,null,null,null,null,null,null,null,null,null,null,null,null,null,null,null,null,null,null,null,null,null,null,null,null,null,null,null,null,null,null,null,null,null,null,null,null,null,null,null,"","",{"$f":"IF(BS246=\"\",\"\",IF(COUNTIF(BS$4:BS246,BS246)=1,ROW(),\"\"))","v":""},{"$f":"IFERROR(INDEX(BS:BS,SMALL(BT:BT,ROW(A243))),\"\")","v":""},"","","",""]
[{"$f":"IF(F247<>\"\",事業者基本情報!$E$9&事業者基本情報!$F$9&事業者基本情報!$G$9,\"\")","v":""},{"$f":"IF(F247<>\"\",事業者基本情報!$Y$10,\"\")","v":""},{"$f":"IF(F247<>\"\",事業者基本情報!$Y$7,\"\")","v":""},{"$f":"IF(F247<>\"\",事業者基本情報!$Y$8,\"\")","v":""},{"$f":"IF(F247<>\"\",事業者基本情報!$E$11&事業者基本情報!$F$11&事業者基本情報!$G$11&事業者基本情報!$H$11&事業者基本情報!$I$11,\"\")","v":""},null,null,null,"市",null,null,"-",null,"-",null,{"$f":"IFERROR(VLOOKUP(Q247,コード表!$B$3:$C$101,2,FALSE),\"\")","v":""},null,{"$f":"IFERROR(VLOOKUP(S247,コード表!$F$7:$G$141,2,FALSE),\"\")","v":""},null,null,"t",null,null,null,null,null,null,null,null,null,null,null,null,null,null,null,null,null,null,null,null,null,null,null,null,null,null,null,null,null,null,null,null,null,null,null,null,null,null,null,null,null,null,null,null,null,null,null,null,"","",{"$f":"IF(BS247=\"\",\"\",IF(COUNTIF(BS$4:BS247,BS247)=1,ROW(),\"\"))","v":""},{"$f":"IFERROR(INDEX(BS:BS,SMALL(BT:BT,ROW(A244))),\"\")","v":""},"","","",""]
[{"$f":"IF(F248<>\"\",事業者基本情報!$E$9&事業者基本情報!$F$9&事業者基本情報!$G$9,\"\")","v":""},{"$f":"IF(F248<>\"\",事業者基本情報!$Y$10,\"\")","v":""},{"$f":"IF(F248<>\"\",事業者基本情報!$Y$7,\"\")","v":""},{"$f":"IF(F248<>\"\",事業者基本情報!$Y$8,\"\")","v":""},{"$f":"IF(F248<>\"\",事業者基本情報!$E$11&事業者基本情報!$F$11&事業者基本情報!$G$11&事業者基本情報!$H$11&事業者基本情報!$I$11,\"\")","v":""},null,null,null,"市",null,null,"-",null,"-",null,{"$f":"IFERROR(VLOOKUP(Q248,コード表!$B$3:$C$101,2,FALSE),\"\")","v":""},null,{"$f":"IFERROR(VLOOKUP(S248,コード表!$F$7:$G$141,2,FALSE),\"\")","v":""},null,null,"t",null,null,null,null,null,null,null,null,null,null,null,null,null,null,null,null,null,null,null,null,null,null,null,null,null,null,null,null,null,null,null,null,null,null,null,null,null,null,null,null,null,null,null,null,null,null,null,null,"","",{"$f":"IF(BS248=\"\",\"\",IF(COUNTIF(BS$4:BS248,BS248)=1,ROW(),\"\"))","v":""},{"$f":"IFERROR(INDEX(BS:BS,SMALL(BT:BT,ROW(A245))),\"\")","v":""},"","","",""]
[{"$f":"IF(F249<>\"\",事業者基本情報!$E$9&事業者基本情報!$F$9&事業者基本情報!$G$9,\"\")","v":""},{"$f":"IF(F249<>\"\",事業者基本情報!$Y$10,\"\")","v":""},{"$f":"IF(F249<>\"\",事業者基本情報!$Y$7,\"\")","v":""},{"$f":"IF(F249<>\"\",事業者基本情報!$Y$8,\"\")","v":""},{"$f":"IF(F249<>\"\",事業者基本情報!$E$11&事業者基本情報!$F$11&事業者基本情報!$G$11&事業者基本情報!$H$11&事業者基本情報!$I$11,\"\")","v":""},null,null,null,"市",null,null,"-",null,"-",null,{"$f":"IFERROR(VLOOKUP(Q249,コード表!$B$3:$C$101,2,FALSE),\"\")","v":""},null,{"$f":"IFERROR(VLOOKUP(S249,コード表!$F$7:$G$141,2,FALSE),\"\")","v":""},null,null,"t",null,null,null,null,null,null,null,null,null,null,null,null,null,null,null,null,null,null,null,null,null,null,null,null,null,null,null,null,null,null,null,null,null,null,null,null,null,null,null,null,null,null,null,null,null,null,null,null,"","",{"$f":"IF(BS249=\"\",\"\",IF(COUNTIF(BS$4:BS249,BS249)=1,ROW(),\"\"))","v":""},{"$f":"IFERROR(INDEX(BS:BS,SMALL(BT:BT,ROW(A246))),\"\")","v":""},"","","",""]
[{"$f":"IF(F250<>\"\",事業者基本情報!$E$9&事業者基本情報!$F$9&事業者基本情報!$G$9,\"\")","v":""},{"$f":"IF(F250<>\"\",事業者基本情報!$Y$10,\"\")","v":""},{"$f":"IF(F250<>\"\",事業者基本情報!$Y$7,\"\")","v":""},{"$f":"IF(F250<>\"\",事業者基本情報!$Y$8,\"\")","v":""},{"$f":"IF(F250<>\"\",事業者基本情報!$E$11&事業者基本情報!$F$11&事業者基本情報!$G$11&事業者基本情報!$H$11&事業者基本情報!$I$11,\"\")","v":""},null,null,null,"市",null,null,"-",null,"-",null,{"$f":"IFERROR(VLOOKUP(Q250,コード表!$B$3:$C$101,2,FALSE),\"\")","v":""},null,{"$f":"IFERROR(VLOOKUP(S250,コード表!$F$7:$G$141,2,FALSE),\"\")","v":""},null,null,"t",null,null,null,null,null,null,null,null,null,null,null,null,null,null,null,null,null,null,null,null,null,null,null,null,null,null,null,null,null,null,null,null,null,null,null,null,null,null,null,null,null,null,null,null,null,null,null,null,"","",{"$f":"IF(BS250=\"\",\"\",IF(COUNTIF(BS$4:BS250,BS250)=1,ROW(),\"\"))","v":""},{"$f":"IFERROR(INDEX(BS:BS,SMALL(BT:BT,ROW(A247))),\"\")","v":""},"","","",""]
[{"$f":"IF(F251<>\"\",事業者基本情報!$E$9&事業者基本情報!$F$9&事業者基本情報!$G$9,\"\")","v":""},{"$f":"IF(F251<>\"\",事業者基本情報!$Y$10,\"\")","v":""},{"$f":"IF(F251<>\"\",事業者基本情報!$Y$7,\"\")","v":""},{"$f":"IF(F251<>\"\",事業者基本情報!$Y$8,\"\")","v":""},{"$f":"IF(F251<>\"\",事業者基本情報!$E$11&事業者基本情報!$F$11&事業者基本情報!$G$11&事業者基本情報!$H$11&事業者基本情報!$I$11,\"\")","v":""},null,null,null,"市",null,null,"-",null,"-",null,{"$f":"IFERROR(VLOOKUP(Q251,コード表!$B$3:$C$101,2,FALSE),\"\")","v":""},null,{"$f":"IFERROR(VLOOKUP(S251,コード表!$F$7:$G$141,2,FALSE),\"\")","v":""},null,null,"t",null,null,null,null,null,null,null,null,null,null,null,null,null,null,null,null,null,null,null,null,null,null,null,null,null,null,null,null,null,null,null,null,null,null,null,null,null,null,null,null,null,null,null,null,null,null,null,null,"","",{"$f":"IF(BS251=\"\",\"\",IF(COUNTIF(BS$4:BS251,BS251)=1,ROW(),\"\"))","v":""},{"$f":"IFERROR(INDEX(BS:BS,SMALL(BT:BT,ROW(A248))),\"\")","v":""},"","","",""]
[{"$f":"IF(F252<>\"\",事業者基本情報!$E$9&事業者基本情報!$F$9&事業者基本情報!$G$9,\"\")","v":""},{"$f":"IF(F252<>\"\",事業者基本情報!$Y$10,\"\")","v":""},{"$f":"IF(F252<>\"\",事業者基本情報!$Y$7,\"\")","v":""},{"$f":"IF(F252<>\"\",事業者基本情報!$Y$8,\"\")","v":""},{"$f":"IF(F252<>\"\",事業者基本情報!$E$11&事業者基本情報!$F$11&事業者基本情報!$G$11&事業者基本情報!$H$11&事業者基本情報!$I$11,\"\")","v":""},null,null,null,"市",null,null,"-",null,"-",null,{"$f":"IFERROR(VLOOKUP(Q252,コード表!$B$3:$C$101,2,FALSE),\"\")","v":""},null,{"$f":"IFERROR(VLOOKUP(S252,コード表!$F$7:$G$141,2,FALSE),\"\")","v":""},null,null,"t",null,null,null,null,null,null,null,null,null,null,null,null,null,null,null,null,null,null,null,null,null,null,null,null,null,null,null,null,null,null,null,null,null,null,null,null,null,null,null,null,null,null,null,null,null,null,null,null,"","",{"$f":"IF(BS252=\"\",\"\",IF(COUNTIF(BS$4:BS252,BS252)=1,ROW(),\"\"))","v":""},{"$f":"IFERROR(INDEX(BS:BS,SMALL(BT:BT,ROW(A249))),\"\")","v":""},"","","",""]
[{"$f":"IF(F253<>\"\",事業者基本情報!$E$9&事業者基本情報!$F$9&事業者基本情報!$G$9,\"\")","v":""},{"$f":"IF(F253<>\"\",事業者基本情報!$Y$10,\"\")","v":""},{"$f":"IF(F253<>\"\",事業者基本情報!$Y$7,\"\")","v":""},{"$f":"IF(F253<>\"\",事業者基本情報!$Y$8,\"\")","v":""},{"$f":"IF(F253<>\"\",事業者基本情報!$E$11&事業者基本情報!$F$11&事業者基本情報!$G$11&事業者基本情報!$H$11&事業者基本情報!$I$11,\"\")","v":""},null,null,null,"市",null,null,"-",null,"-",null,{"$f":"IFERROR(VLOOKUP(Q253,コード表!$B$3:$C$101,2,FALSE),\"\")","v":""},null,{"$f":"IFERROR(VLOOKUP(S253,コード表!$F$7:$G$141,2,FALSE),\"\")","v":""},null,null,"t",null,null,null,null,null,null,null,null,null,null,null,null,null,null,null,null,null,null,null,null,null,null,null,null,null,null,null,null,null,null,null,null,null,null,null,null,null,null,null,null,null,null,null,null,null,null,null,null,"","",{"$f":"IF(BS253=\"\",\"\",IF(COUNTIF(BS$4:BS253,BS253)=1,ROW(),\"\"))","v":""},{"$f":"IFERROR(INDEX(BS:BS,SMALL(BT:BT,ROW(A250))),\"\")","v":""},"","","",""]
[{"$f":"IF(F254<>\"\",事業者基本情報!$E$9&事業者基本情報!$F$9&事業者基本情報!$G$9,\"\")","v":""},{"$f":"IF(F254<>\"\",事業者基本情報!$Y$10,\"\")","v":""},{"$f":"IF(F254<>\"\",事業者基本情報!$Y$7,\"\")","v":""},{"$f":"IF(F254<>\"\",事業者基本情報!$Y$8,\"\")","v":""},{"$f":"IF(F254<>\"\",事業者基本情報!$E$11&事業者基本情報!$F$11&事業者基本情報!$G$11&事業者基本情報!$H$11&事業者基本情報!$I$11,\"\")","v":""},null,null,null,"市",null,null,"-",null,"-",null,{"$f":"IFERROR(VLOOKUP(Q254,コード表!$B$3:$C$101,2,FALSE),\"\")","v":""},null,{"$f":"IFERROR(VLOOKUP(S254,コード表!$F$7:$G$141,2,FALSE),\"\")","v":""},null,null,"t",null,null,null,null,null,null,null,null,null,null,null,null,null,null,null,null,null,null,null,null,null,null,null,null,null,null,null,null,null,null,null,null,null,null,null,null,null,null,null,null,null,null,null,null,null,null,null,null,"","",{"$f":"IF(BS254=\"\",\"\",IF(COUNTIF(BS$4:BS254,BS254)=1,ROW(),\"\"))","v":""},{"$f":"IFERROR(INDEX(BS:BS,SMALL(BT:BT,ROW(A251))),\"\")","v":""},"","","",""]
[{"$f":"IF(F255<>\"\",事業者基本情報!$E$9&事業者基本情報!$F$9&事業者基本情報!$G$9,\"\")","v":""},{"$f":"IF(F255<>\"\",事業者基本情報!$Y$10,\"\")","v":""},{"$f":"IF(F255<>\"\",事業者基本情報!$Y$7,\"\")","v":""},{"$f":"IF(F255<>\"\",事業者基本情報!$Y$8,\"\")","v":""},{"$f":"IF(F255<>\"\",事業者基本情報!$E$11&事業者基本情報!$F$11&事業者基本情報!$G$11&事業者基本情報!$H$11&事業者基本情報!$I$11,\"\")","v":""},null,null,null,"市",null,null,"-",null,"-",null,{"$f":"IFERROR(VLOOKUP(Q255,コード表!$B$3:$C$101,2,FALSE),\"\")","v":""},null,{"$f":"IFERROR(VLOOKUP(S255,コード表!$F$7:$G$141,2,FALSE),\"\")","v":""},null,null,"t",null,null,null,null,null,null,null,null,null,null,null,null,null,null,null,null,null,null,null,null,null,null,null,null,null,null,null,null,null,null,null,null,null,null,null,null,null,null,null,null,null,null,null,null,null,null,null,null,"","",{"$f":"IF(BS255=\"\",\"\",IF(COUNTIF(BS$4:BS255,BS255)=1,ROW(),\"\"))","v":""},{"$f":"IFERROR(INDEX(BS:BS,SMALL(BT:BT,ROW(A252))),\"\")","v":""},"","","",""]
[{"$f":"IF(F256<>\"\",事業者基本情報!$E$9&事業者基本情報!$F$9&事業者基本情報!$G$9,\"\")","v":""},{"$f":"IF(F256<>\"\",事業者基本情報!$Y$10,\"\")","v":""},{"$f":"IF(F256<>\"\",事業者基本情報!$Y$7,\"\")","v":""},{"$f":"IF(F256<>\"\",事業者基本情報!$Y$8,\"\")","v":""},{"$f":"IF(F256<>\"\",事業者基本情報!$E$11&事業者基本情報!$F$11&事業者基本情報!$G$11&事業者基本情報!$H$11&事業者基本情報!$I$11,\"\")","v":""},null,null,null,"市",null,null,"-",null,"-",null,{"$f":"IFERROR(VLOOKUP(Q256,コード表!$B$3:$C$101,2,FALSE),\"\")","v":""},null,{"$f":"IFERROR(VLOOKUP(S256,コード表!$F$7:$G$141,2,FALSE),\"\")","v":""},null,null,"t",null,null,null,null,null,null,null,null,null,null,null,null,null,null,null,null,null,null,null,null,null,null,null,null,null,null,null,null,null,null,null,null,null,null,null,null,null,null,null,null,null,null,null,null,null,null,null,null,"","",{"$f":"IF(BS256=\"\",\"\",IF(COUNTIF(BS$4:BS256,BS256)=1,ROW(),\"\"))","v":""},{"$f":"IFERROR(INDEX(BS:BS,SMALL(BT:BT,ROW(A253))),\"\")","v":""},"","","",""]
[{"$f":"IF(F257<>\"\",事業者基本情報!$E$9&事業者基本情報!$F$9&事業者基本情報!$G$9,\"\")","v":""},{"$f":"IF(F257<>\"\",事業者基本情報!$Y$10,\"\")","v":""},{"$f":"IF(F257<>\"\",事業者基本情報!$Y$7,\"\")","v":""},{"$f":"IF(F257<>\"\",事業者基本情報!$Y$8,\"\")","v":""},{"$f":"IF(F257<>\"\",事業者基本情報!$E$11&事業者基本情報!$F$11&事業者基本情報!$G$11&事業者基本情報!$H$11&事業者基本情報!$I$11,\"\")","v":""},null,null,null,"市",null,null,"-",null,"-",null,{"$f":"IFERROR(VLOOKUP(Q257,コード表!$B$3:$C$101,2,FALSE),\"\")","v":""},null,{"$f":"IFERROR(VLOOKUP(S257,コード表!$F$7:$G$141,2,FALSE),\"\")","v":""},null,null,"t",null,null,null,null,null,null,null,null,null,null,null,null,null,null,null,null,null,null,null,null,null,null,null,null,null,null,null,null,null,null,null,null,null,null,null,null,null,null,null,null,null,null,null,null,null,null,null,null,"","",{"$f":"IF(BS257=\"\",\"\",IF(COUNTIF(BS$4:BS257,BS257)=1,ROW(),\"\"))","v":""},{"$f":"IFERROR(INDEX(BS:BS,SMALL(BT:BT,ROW(A254))),\"\")","v":""},"","","",""]
[{"$f":"IF(F258<>\"\",事業者基本情報!$E$9&事業者基本情報!$F$9&事業者基本情報!$G$9,\"\")","v":""},{"$f":"IF(F258<>\"\",事業者基本情報!$Y$10,\"\")","v":""},{"$f":"IF(F258<>\"\",事業者基本情報!$Y$7,\"\")","v":""},{"$f":"IF(F258<>\"\",事業者基本情報!$Y$8,\"\")","v":""},{"$f":"IF(F258<>\"\",事業者基本情報!$E$11&事業者基本情報!$F$11&事業者基本情報!$G$11&事業者基本情報!$H$11&事業者基本情報!$I$11,\"\")","v":""},null,null,null,"市",null,null,"-",null,"-",null,{"$f":"IFERROR(VLOOKUP(Q258,コード表!$B$3:$C$101,2,FALSE),\"\")","v":""},null,{"$f":"IFERROR(VLOOKUP(S258,コード表!$F$7:$G$141,2,FALSE),\"\")","v":""},null,null,"t",null,null,null,null,null,null,null,null,null,null,null,null,null,null,null,null,null,null,null,null,null,null,null,null,null,null,null,null,null,null,null,null,null,null,null,null,null,null,null,null,null,null,null,null,null,null,null,null,"","",{"$f":"IF(BS258=\"\",\"\",IF(COUNTIF(BS$4:BS258,BS258)=1,ROW(),\"\"))","v":""},{"$f":"IFERROR(INDEX(BS:BS,SMALL(BT:BT,ROW(A255))),\"\")","v":""},"","","",""]
[{"$f":"IF(F259<>\"\",事業者基本情報!$E$9&事業者基本情報!$F$9&事業者基本情報!$G$9,\"\")","v":""},{"$f":"IF(F259<>\"\",事業者基本情報!$Y$10,\"\")","v":""},{"$f":"IF(F259<>\"\",事業者基本情報!$Y$7,\"\")","v":""},{"$f":"IF(F259<>\"\",事業者基本情報!$Y$8,\"\")","v":""},{"$f":"IF(F259<>\"\",事業者基本情報!$E$11&事業者基本情報!$F$11&事業者基本情報!$G$11&事業者基本情報!$H$11&事業者基本情報!$I$11,\"\")","v":""},null,null,null,"市",null,null,"-",null,"-",null,{"$f":"IFERROR(VLOOKUP(Q259,コード表!$B$3:$C$101,2,FALSE),\"\")","v":""},null,{"$f":"IFERROR(VLOOKUP(S259,コード表!$F$7:$G$141,2,FALSE),\"\")","v":""},null,null,"t",null,null,null,null,null,null,null,null,null,null,null,null,null,null,null,null,null,null,null,null,null,null,null,null,null,null,null,null,null,null,null,null,null,null,null,null,null,null,null,null,null,null,null,null,null,null,null,null,"","",{"$f":"IF(BS259=\"\",\"\",IF(COUNTIF(BS$4:BS259,BS259)=1,ROW(),\"\"))","v":""},{"$f":"IFERROR(INDEX(BS:BS,SMALL(BT:BT,ROW(A256))),\"\")","v":""},"","","",""]
[{"$f":"IF(F260<>\"\",事業者基本情報!$E$9&事業者基本情報!$F$9&事業者基本情報!$G$9,\"\")","v":""},{"$f":"IF(F260<>\"\",事業者基本情報!$Y$10,\"\")","v":""},{"$f":"IF(F260<>\"\",事業者基本情報!$Y$7,\"\")","v":""},{"$f":"IF(F260<>\"\",事業者基本情報!$Y$8,\"\")","v":""},{"$f":"IF(F260<>\"\",事業者基本情報!$E$11&事業者基本情報!$F$11&事業者基本情報!$G$11&事業者基本情報!$H$11&事業者基本情報!$I$11,\"\")","v":""},null,null,null,"市",null,null,"-",null,"-",null,{"$f":"IFERROR(VLOOKUP(Q260,コード表!$B$3:$C$101,2,FALSE),\"\")","v":""},null,{"$f":"IFERROR(VLOOKUP(S260,コード表!$F$7:$G$141,2,FALSE),\"\")","v":""},null,null,"t",null,null,null,null,null,null,null,null,null,null,null,null,null,null,null,null,null,null,null,null,null,null,null,null,null,null,null,null,null,null,null,null,null,null,null,null,null,null,null,null,null,null,null,null,null,null,null,null,{"$f":"IFERROR(IF(TRIM(F260)=\"\",\"\",IF(AND(VALUE(TRIM(R260))>=100000,VALUE(TRIM(R260))<7000000),\"普通産廃\",IF(AND(VALUE(TRIM(R260))>=7000000,VALUE(TRIM(R260))<9000000),\"特別産廃\",\"\"))),\"\")","v":""},{"$f":"IF(BR260<>\"\",TRIM(F260)&\"(\"&BR260&\")\",\"\")","v":""},{"$f":"IF(BS260=\"\",\"\",IF(COUNTIF(BS$4:BS260,BS260)=1,ROW(),\"\"))","v":""},{"$f":"IFERROR(INDEX(BS:BS,SMALL(BT:BT,ROW(A257))),\"\")","v":""},{"$f":"IF(BU260=\"\",\"\",IF(SUMIF(BS:BS,BU260,T:T)=0,\"\",SUMIF(BS:BS,BU260,T:T)))","v":""},{"$f":"IF(AS260<>\"\",AS260,IF(AO260<>\"\",AO260,IF(AK260<>\"\",AK260,IF(AG260<>\"\",AG260,IF(Y260<>\"\",Y260,\"\")))))","v":""},"",{"$f":"IF(F260&G260&H260&J260&K260&M260&O260&Q260&S260&T260&V260&W260&X260&Y260&Z260&AA260&AB260&AC260&AD260&AE260&AF260&AG260&AH260&AI260&AJ260&AK260&AL260&AM260&AN260&AO260&AP260&AQ260&AR260&AS260&AT260=\"\",\"\",1)","v":""}]
[{"$f":"IF(F261<>\"\",事業者基本情報!$E$9&事業者基本情報!$F$9&事業者基本情報!$G$9,\"\")","v":""},{"$f":"IF(F261<>\"\",事業者基本情報!$Y$10,\"\")","v":""},{"$f":"IF(F261<>\"\",事業者基本情報!$Y$7,\"\")","v":""},{"$f":"IF(F261<>\"\",事業者基本情報!$Y$8,\"\")","v":""},{"$f":"IF(F261<>\"\",事業者基本情報!$E$11&事業者基本情報!$F$11&事業者基本情報!$G$11&事業者基本情報!$H$11&事業者基本情報!$I$11,\"\")","v":""},null,null,null,"市",null,null,"-",null,"-",null,{"$f":"IFERROR(VLOOKUP(Q261,コード表!$B$3:$C$101,2,FALSE),\"\")","v":""},null,{"$f":"IFERROR(VLOOKUP(S261,コード表!$F$7:$G$141,2,FALSE),\"\")","v":""},null,null,"t",null,null,null,null,null,null,null,null,null,null,null,null,null,null,null,null,null,null,null,null,null,null,null,null,null,null,null,null,null,null,null,null,null,null,null,null,null,null,null,null,null,null,null,null,null,null,null,null,"","",{"$f":"IF(BS261=\"\",\"\",IF(COUNTIF(BS$4:BS261,BS261)=1,ROW(),\"\"))","v":""},{"$f":"IFERROR(INDEX(BS:BS,SMALL(BT:BT,ROW(A258))),\"\")","v":""},"","","",""]
[{"$f":"IF(F262<>\"\",事業者基本情報!$E$9&事業者基本情報!$F$9&事業者基本情報!$G$9,\"\")","v":""},{"$f":"IF(F262<>\"\",事業者基本情報!$Y$10,\"\")","v":""},{"$f":"IF(F262<>\"\",事業者基本情報!$Y$7,\"\")","v":""},{"$f":"IF(F262<>\"\",事業者基本情報!$Y$8,\"\")","v":""},{"$f":"IF(F262<>\"\",事業者基本情報!$E$11&事業者基本情報!$F$11&事業者基本情報!$G$11&事業者基本情報!$H$11&事業者基本情報!$I$11,\"\")","v":""},null,null,null,"市",null,null,"-",null,"-",null,{"$f":"IFERROR(VLOOKUP(Q262,コード表!$B$3:$C$101,2,FALSE),\"\")","v":""},null,{"$f":"IFERROR(VLOOKUP(S262,コード表!$F$7:$G$141,2,FALSE),\"\")","v":""},null,null,"t",null,null,null,null,null,null,null,null,null,null,null,null,null,null,null,null,null,null,null,null,null,null,null,null,null,null,null,null,null,null,null,null,null,null,null,null,null,null,null,null,null,null,null,null,null,null,null,null,"","",{"$f":"IF(BS262=\"\",\"\",IF(COUNTIF(BS$4:BS262,BS262)=1,ROW(),\"\"))","v":""},{"$f":"IFERROR(INDEX(BS:BS,SMALL(BT:BT,ROW(A259))),\"\")","v":""},"","","",""]
[{"$f":"IF(F263<>\"\",事業者基本情報!$E$9&事業者基本情報!$F$9&事業者基本情報!$G$9,\"\")","v":""},{"$f":"IF(F263<>\"\",事業者基本情報!$Y$10,\"\")","v":""},{"$f":"IF(F263<>\"\",事業者基本情報!$Y$7,\"\")","v":""},{"$f":"IF(F263<>\"\",事業者基本情報!$Y$8,\"\")","v":""},{"$f":"IF(F263<>\"\",事業者基本情報!$E$11&事業者基本情報!$F$11&事業者基本情報!$G$11&事業者基本情報!$H$11&事業者基本情報!$I$11,\"\")","v":""},null,null,null,"市",null,null,"-",null,"-",null,{"$f":"IFERROR(VLOOKUP(Q263,コード表!$B$3:$C$101,2,FALSE),\"\")","v":""},null,{"$f":"IFERROR(VLOOKUP(S263,コード表!$F$7:$G$141,2,FALSE),\"\")","v":""},null,null,"t",null,null,null,null,null,null,null,null,null,null,null,null,null,null,null,null,null,null,null,null,null,null,null,null,null,null,null,null,null,null,null,null,null,null,null,null,null,null,null,null,null,null,null,null,null,null,null,null,"","",{"$f":"IF(BS263=\"\",\"\",IF(COUNTIF(BS$4:BS263,BS263)=1,ROW(),\"\"))","v":""},{"$f":"IFERROR(INDEX(BS:BS,SMALL(BT:BT,ROW(A260))),\"\")","v":""},"","","",""]
[{"$f":"IF(F264<>\"\",事業者基本情報!$E$9&事業者基本情報!$F$9&事業者基本情報!$G$9,\"\")","v":""},{"$f":"IF(F264<>\"\",事業者基本情報!$Y$10,\"\")","v":""},{"$f":"IF(F264<>\"\",事業者基本情報!$Y$7,\"\")","v":""},{"$f":"IF(F264<>\"\",事業者基本情報!$Y$8,\"\")","v":""},{"$f":"IF(F264<>\"\",事業者基本情報!$E$11&事業者基本情報!$F$11&事業者基本情報!$G$11&事業者基本情報!$H$11&事業者基本情報!$I$11,\"\")","v":""},null,null,null,"市",null,null,"-",null,"-",null,{"$f":"IFERROR(VLOOKUP(Q264,コード表!$B$3:$C$101,2,FALSE),\"\")","v":""},null,{"$f":"IFERROR(VLOOKUP(S264,コード表!$F$7:$G$141,2,FALSE),\"\")","v":""},null,null,"t",null,null,null,null,null,null,null,null,null,null,null,null,null,null,null,null,null,null,null,null,null,null,null,null,null,null,null,null,null,null,null,null,null,null,null,null,null,null,null,null,null,null,null,null,null,null,null,null,"","",{"$f":"IF(BS264=\"\",\"\",IF(COUNTIF(BS$4:BS264,BS264)=1,ROW(),\"\"))","v":""},{"$f":"IFERROR(INDEX(BS:BS,SMALL(BT:BT,ROW(A261))),\"\")","v":""},"","","",""]
[{"$f":"IF(F265<>\"\",事業者基本情報!$E$9&事業者基本情報!$F$9&事業者基本情報!$G$9,\"\")","v":""},{"$f":"IF(F265<>\"\",事業者基本情報!$Y$10,\"\")","v":""},{"$f":"IF(F265<>\"\",事業者基本情報!$Y$7,\"\")","v":""},{"$f":"IF(F265<>\"\",事業者基本情報!$Y$8,\"\")","v":""},{"$f":"IF(F265<>\"\",事業者基本情報!$E$11&事業者基本情報!$F$11&事業者基本情報!$G$11&事業者基本情報!$H$11&事業者基本情報!$I$11,\"\")","v":""},null,null,null,"市",null,null,"-",null,"-",null,{"$f":"IFERROR(VLOOKUP(Q265,コード表!$B$3:$C$101,2,FALSE),\"\")","v":""},null,{"$f":"IFERROR(VLOOKUP(S265,コード表!$F$7:$G$141,2,FALSE),\"\")","v":""},null,null,"t",null,null,null,null,null,null,null,null,null,null,null,null,null,null,null,null,null,null,null,null,null,null,null,null,null,null,null,null,null,null,null,null,null,null,null,null,null,null,null,null,null,null,null,null,null,null,null,null,"","",{"$f":"IF(BS265=\"\",\"\",IF(COUNTIF(BS$4:BS265,BS265)=1,ROW(),\"\"))","v":""},{"$f":"IFERROR(INDEX(BS:BS,SMALL(BT:BT,ROW(A262))),\"\")","v":""},"","","",""]
[{"$f":"IF(F266<>\"\",事業者基本情報!$E$9&事業者基本情報!$F$9&事業者基本情報!$G$9,\"\")","v":""},{"$f":"IF(F266<>\"\",事業者基本情報!$Y$10,\"\")","v":""},{"$f":"IF(F266<>\"\",事業者基本情報!$Y$7,\"\")","v":""},{"$f":"IF(F266<>\"\",事業者基本情報!$Y$8,\"\")","v":""},{"$f":"IF(F266<>\"\",事業者基本情報!$E$11&事業者基本情報!$F$11&事業者基本情報!$G$11&事業者基本情報!$H$11&事業者基本情報!$I$11,\"\")","v":""},null,null,null,"市",null,null,"-",null,"-",null,{"$f":"IFERROR(VLOOKUP(Q266,コード表!$B$3:$C$101,2,FALSE),\"\")","v":""},null,{"$f":"IFERROR(VLOOKUP(S266,コード表!$F$7:$G$141,2,FALSE),\"\")","v":""},null,null,"t",null,null,null,null,null,null,null,null,null,null,null,null,null,null,null,null,null,null,null,null,null,null,null,null,null,null,null,null,null,null,null,null,null,null,null,null,null,null,null,null,null,null,null,null,null,null,null,null,"","",{"$f":"IF(BS266=\"\",\"\",IF(COUNTIF(BS$4:BS266,BS266)=1,ROW(),\"\"))","v":""},{"$f":"IFERROR(INDEX(BS:BS,SMALL(BT:BT,ROW(A263))),\"\")","v":""},"","","",""]
[{"$f":"IF(F267<>\"\",事業者基本情報!$E$9&事業者基本情報!$F$9&事業者基本情報!$G$9,\"\")","v":""},{"$f":"IF(F267<>\"\",事業者基本情報!$Y$10,\"\")","v":""},{"$f":"IF(F267<>\"\",事業者基本情報!$Y$7,\"\")","v":""},{"$f":"IF(F267<>\"\",事業者基本情報!$Y$8,\"\")","v":""},{"$f":"IF(F267<>\"\",事業者基本情報!$E$11&事業者基本情報!$F$11&事業者基本情報!$G$11&事業者基本情報!$H$11&事業者基本情報!$I$11,\"\")","v":""},null,null,null,"市",null,null,"-",null,"-",null,{"$f":"IFERROR(VLOOKUP(Q267,コード表!$B$3:$C$101,2,FALSE),\"\")","v":""},null,{"$f":"IFERROR(VLOOKUP(S267,コード表!$F$7:$G$141,2,FALSE),\"\")","v":""},null,null,"t",null,null,null,null,null,null,null,null,null,null,null,null,null,null,null,null,null,null,null,null,null,null,null,null,null,null,null,null,null,null,null,null,null,null,null,null,null,null,null,null,null,null,null,null,null,null,null,null,"","",{"$f":"IF(BS267=\"\",\"\",IF(COUNTIF(BS$4:BS267,BS267)=1,ROW(),\"\"))","v":""},{"$f":"IFERROR(INDEX(BS:BS,SMALL(BT:BT,ROW(A264))),\"\")","v":""},"","","",""]
[{"$f":"IF(F268<>\"\",事業者基本情報!$E$9&事業者基本情報!$F$9&事業者基本情報!$G$9,\"\")","v":""},{"$f":"IF(F268<>\"\",事業者基本情報!$Y$10,\"\")","v":""},{"$f":"IF(F268<>\"\",事業者基本情報!$Y$7,\"\")","v":""},{"$f":"IF(F268<>\"\",事業者基本情報!$Y$8,\"\")","v":""},{"$f":"IF(F268<>\"\",事業者基本情報!$E$11&事業者基本情報!$F$11&事業者基本情報!$G$11&事業者基本情報!$H$11&事業者基本情報!$I$11,\"\")","v":""},null,null,null,"市",null,null,"-",null,"-",null,{"$f":"IFERROR(VLOOKUP(Q268,コード表!$B$3:$C$101,2,FALSE),\"\")","v":""},null,{"$f":"IFERROR(VLOOKUP(S268,コード表!$F$7:$G$141,2,FALSE),\"\")","v":""},null,null,"t",null,null,null,null,null,null,null,null,null,null,null,null,null,null,null,null,null,null,null,null,null,null,null,null,null,null,null,null,null,null,null,null,null,null,null,null,null,null,null,null,null,null,null,null,null,null,null,null,"","",{"$f":"IF(BS268=\"\",\"\",IF(COUNTIF(BS$4:BS268,BS268)=1,ROW(),\"\"))","v":""},{"$f":"IFERROR(INDEX(BS:BS,SMALL(BT:BT,ROW(A265))),\"\")","v":""},"","","",""]
[{"$f":"IF(F269<>\"\",事業者基本情報!$E$9&事業者基本情報!$F$9&事業者基本情報!$G$9,\"\")","v":""},{"$f":"IF(F269<>\"\",事業者基本情報!$Y$10,\"\")","v":""},{"$f":"IF(F269<>\"\",事業者基本情報!$Y$7,\"\")","v":""},{"$f":"IF(F269<>\"\",事業者基本情報!$Y$8,\"\")","v":""},{"$f":"IF(F269<>\"\",事業者基本情報!$E$11&事業者基本情報!$F$11&事業者基本情報!$G$11&事業者基本情報!$H$11&事業者基本情報!$I$11,\"\")","v":""},null,null,null,"市",null,null,"-",null,"-",null,{"$f":"IFERROR(VLOOKUP(Q269,コード表!$B$3:$C$101,2,FALSE),\"\")","v":""},null,{"$f":"IFERROR(VLOOKUP(S269,コード表!$F$7:$G$141,2,FALSE),\"\")","v":""},null,null,"t",null,null,null,null,null,null,null,null,null,null,null,null,null,null,null,null,null,null,null,null,null,null,null,null,null,null,null,null,null,null,null,null,null,null,null,null,null,null,null,null,null,null,null,null,null,null,null,null,"","",{"$f":"IF(BS269=\"\",\"\",IF(COUNTIF(BS$4:BS269,BS269)=1,ROW(),\"\"))","v":""},{"$f":"IFERROR(INDEX(BS:BS,SMALL(BT:BT,ROW(A266))),\"\")","v":""},"","","",""]
[{"$f":"IF(F270<>\"\",事業者基本情報!$E$9&事業者基本情報!$F$9&事業者基本情報!$G$9,\"\")","v":""},{"$f":"IF(F270<>\"\",事業者基本情報!$Y$10,\"\")","v":""},{"$f":"IF(F270<>\"\",事業者基本情報!$Y$7,\"\")","v":""},{"$f":"IF(F270<>\"\",事業者基本情報!$Y$8,\"\")","v":""},{"$f":"IF(F270<>\"\",事業者基本情報!$E$11&事業者基本情報!$F$11&事業者基本情報!$G$11&事業者基本情報!$H$11&事業者基本情報!$I$11,\"\")","v":""},null,null,null,"市",null,null,"-",null,"-",null,{"$f":"IFERROR(VLOOKUP(Q270,コード表!$B$3:$C$101,2,FALSE),\"\")","v":""},null,{"$f":"IFERROR(VLOOKUP(S270,コード表!$F$7:$G$141,2,FALSE),\"\")","v":""},null,null,"t",null,null,null,null,null,null,null,null,null,null,null,null,null,null,null,null,null,null,null,null,null,null,null,null,null,null,null,null,null,null,null,null,null,null,null,null,null,null,null,null,null,null,null,null,null,null,null,null,"","",{"$f":"IF(BS270=\"\",\"\",IF(COUNTIF(BS$4:BS270,BS270)=1,ROW(),\"\"))","v":""},{"$f":"IFERROR(INDEX(BS:BS,SMALL(BT:BT,ROW(A267))),\"\")","v":""},"","","",""]
[{"$f":"IF(F271<>\"\",事業者基本情報!$E$9&事業者基本情報!$F$9&事業者基本情報!$G$9,\"\")","v":""},{"$f":"IF(F271<>\"\",事業者基本情報!$Y$10,\"\")","v":""},{"$f":"IF(F271<>\"\",事業者基本情報!$Y$7,\"\")","v":""},{"$f":"IF(F271<>\"\",事業者基本情報!$Y$8,\"\")","v":""},{"$f":"IF(F271<>\"\",事業者基本情報!$E$11&事業者基本情報!$F$11&事業者基本情報!$G$11&事業者基本情報!$H$11&事業者基本情報!$I$11,\"\")","v":""},null,null,null,"市",null,null,"-",null,"-",null,{"$f":"IFERROR(VLOOKUP(Q271,コード表!$B$3:$C$101,2,FALSE),\"\")","v":""},null,{"$f":"IFERROR(VLOOKUP(S271,コード表!$F$7:$G$141,2,FALSE),\"\")","v":""},null,null,"t",null,null,null,null,null,null,null,null,null,null,null,null,null,null,null,null,null,null,null,null,null,null,null,null,null,null,null,null,null,null,null,null,null,null,null,null,null,null,null,null,null,null,null,null,null,null,null,null,"","",{"$f":"IF(BS271=\"\",\"\",IF(COUNTIF(BS$4:BS271,BS271)=1,ROW(),\"\"))","v":""},{"$f":"IFERROR(INDEX(BS:BS,SMALL(BT:BT,ROW(A268))),\"\")","v":""},"","","",""]
[{"$f":"IF(F272<>\"\",事業者基本情報!$E$9&事業者基本情報!$F$9&事業者基本情報!$G$9,\"\")","v":""},{"$f":"IF(F272<>\"\",事業者基本情報!$Y$10,\"\")","v":""},{"$f":"IF(F272<>\"\",事業者基本情報!$Y$7,\"\")","v":""},{"$f":"IF(F272<>\"\",事業者基本情報!$Y$8,\"\")","v":""},{"$f":"IF(F272<>\"\",事業者基本情報!$E$11&事業者基本情報!$F$11&事業者基本情報!$G$11&事業者基本情報!$H$11&事業者基本情報!$I$11,\"\")","v":""},null,null,null,"市",null,null,"-",null,"-",null,{"$f":"IFERROR(VLOOKUP(Q272,コード表!$B$3:$C$101,2,FALSE),\"\")","v":""},null,{"$f":"IFERROR(VLOOKUP(S272,コード表!$F$7:$G$141,2,FALSE),\"\")","v":""},null,null,"t",null,null,null,null,null,null,null,null,null,null,null,null,null,null,null,null,null,null,null,null,null,null,null,null,null,null,null,null,null,null,null,null,null,null,null,null,null,null,null,null,null,null,null,null,null,null,null,null,"","",{"$f":"IF(BS272=\"\",\"\",IF(COUNTIF(BS$4:BS272,BS272)=1,ROW(),\"\"))","v":""},{"$f":"IFERROR(INDEX(BS:BS,SMALL(BT:BT,ROW(A269))),\"\")","v":""},"","","",""]
[{"$f":"IF(F273<>\"\",事業者基本情報!$E$9&事業者基本情報!$F$9&事業者基本情報!$G$9,\"\")","v":""},{"$f":"IF(F273<>\"\",事業者基本情報!$Y$10,\"\")","v":""},{"$f":"IF(F273<>\"\",事業者基本情報!$Y$7,\"\")","v":""},{"$f":"IF(F273<>\"\",事業者基本情報!$Y$8,\"\")","v":""},{"$f":"IF(F273<>\"\",事業者基本情報!$E$11&事業者基本情報!$F$11&事業者基本情報!$G$11&事業者基本情報!$H$11&事業者基本情報!$I$11,\"\")","v":""},null,null,null,"市",null,null,"-",null,"-",null,{"$f":"IFERROR(VLOOKUP(Q273,コード表!$B$3:$C$101,2,FALSE),\"\")","v":""},null,{"$f":"IFERROR(VLOOKUP(S273,コード表!$F$7:$G$141,2,FALSE),\"\")","v":""},null,null,"t",null,null,null,null,null,null,null,null,null,null,null,null,null,null,null,null,null,null,null,null,null,null,null,null,null,null,null,null,null,null,null,null,null,null,null,null,null,null,null,null,null,null,null,null,null,null,null,null,"","",{"$f":"IF(BS273=\"\",\"\",IF(COUNTIF(BS$4:BS273,BS273)=1,ROW(),\"\"))","v":""},{"$f":"IFERROR(INDEX(BS:BS,SMALL(BT:BT,ROW(A270))),\"\")","v":""},"","","",""]
[{"$f":"IF(F274<>\"\",事業者基本情報!$E$9&事業者基本情報!$F$9&事業者基本情報!$G$9,\"\")","v":""},{"$f":"IF(F274<>\"\",事業者基本情報!$Y$10,\"\")","v":""},{"$f":"IF(F274<>\"\",事業者基本情報!$Y$7,\"\")","v":""},{"$f":"IF(F274<>\"\",事業者基本情報!$Y$8,\"\")","v":""},{"$f":"IF(F274<>\"\",事業者基本情報!$E$11&事業者基本情報!$F$11&事業者基本情報!$G$11&事業者基本情報!$H$11&事業者基本情報!$I$11,\"\")","v":""},null,null,null,"市",null,null,"-",null,"-",null,{"$f":"IFERROR(VLOOKUP(Q274,コード表!$B$3:$C$101,2,FALSE),\"\")","v":""},null,{"$f":"IFERROR(VLOOKUP(S274,コード表!$F$7:$G$141,2,FALSE),\"\")","v":""},null,null,"t",null,null,null,null,null,null,null,null,null,null,null,null,null,null,null,null,null,null,null,null,null,null,null,null,null,null,null,null,null,null,null,null,null,null,null,null,null,null,null,null,null,null,null,null,null,null,null,null,"","",{"$f":"IF(BS274=\"\",\"\",IF(COUNTIF(BS$4:BS274,BS274)=1,ROW(),\"\"))","v":""},{"$f":"IFERROR(INDEX(BS:BS,SMALL(BT:BT,ROW(A271))),\"\")","v":""},"","","",""]
[{"$f":"IF(F275<>\"\",事業者基本情報!$E$9&事業者基本情報!$F$9&事業者基本情報!$G$9,\"\")","v":""},{"$f":"IF(F275<>\"\",事業者基本情報!$Y$10,\"\")","v":""},{"$f":"IF(F275<>\"\",事業者基本情報!$Y$7,\"\")","v":""},{"$f":"IF(F275<>\"\",事業者基本情報!$Y$8,\"\")","v":""},{"$f":"IF(F275<>\"\",事業者基本情報!$E$11&事業者基本情報!$F$11&事業者基本情報!$G$11&事業者基本情報!$H$11&事業者基本情報!$I$11,\"\")","v":""},null,null,null,"市",null,null,"-",null,"-",null,{"$f":"IFERROR(VLOOKUP(Q275,コード表!$B$3:$C$101,2,FALSE),\"\")","v":""},null,{"$f":"IFERROR(VLOOKUP(S275,コード表!$F$7:$G$141,2,FALSE),\"\")","v":""},null,null,"t",null,null,null,null,null,null,null,null,null,null,null,null,null,null,null,null,null,null,null,null,null,null,null,null,null,null,null,null,null,null,null,null,null,null,null,null,null,null,null,null,null,null,null,null,null,null,null,null,"","",{"$f":"IF(BS275=\"\",\"\",IF(COUNTIF(BS$4:BS275,BS275)=1,ROW(),\"\"))","v":""},{"$f":"IFERROR(INDEX(BS:BS,SMALL(BT:BT,ROW(A272))),\"\")","v":""},"","","",""]
[{"$f":"IF(F276<>\"\",事業者基本情報!$E$9&事業者基本情報!$F$9&事業者基本情報!$G$9,\"\")","v":""},{"$f":"IF(F276<>\"\",事業者基本情報!$Y$10,\"\")","v":""},{"$f":"IF(F276<>\"\",事業者基本情報!$Y$7,\"\")","v":""},{"$f":"IF(F276<>\"\",事業者基本情報!$Y$8,\"\")","v":""},{"$f":"IF(F276<>\"\",事業者基本情報!$E$11&事業者基本情報!$F$11&事業者基本情報!$G$11&事業者基本情報!$H$11&事業者基本情報!$I$11,\"\")","v":""},null,null,null,"市",null,null,"-",null,"-",null,{"$f":"IFERROR(VLOOKUP(Q276,コード表!$B$3:$C$101,2,FALSE),\"\")","v":""},null,{"$f":"IFERROR(VLOOKUP(S276,コード表!$F$7:$G$141,2,FALSE),\"\")","v":""},null,null,"t",null,null,null,null,null,null,null,null,null,null,null,null,null,null,null,null,null,null,null,null,null,null,null,null,null,null,null,null,null,null,null,null,null,null,null,null,null,null,null,null,null,null,null,null,null,null,null,null,"","",{"$f":"IF(BS276=\"\",\"\",IF(COUNTIF(BS$4:BS276,BS276)=1,ROW(),\"\"))","v":""},{"$f":"IFERROR(INDEX(BS:BS,SMALL(BT:BT,ROW(A273))),\"\")","v":""},"","","",""]
[{"$f":"IF(F277<>\"\",事業者基本情報!$E$9&事業者基本情報!$F$9&事業者基本情報!$G$9,\"\")","v":""},{"$f":"IF(F277<>\"\",事業者基本情報!$Y$10,\"\")","v":""},{"$f":"IF(F277<>\"\",事業者基本情報!$Y$7,\"\")","v":""},{"$f":"IF(F277<>\"\",事業者基本情報!$Y$8,\"\")","v":""},{"$f":"IF(F277<>\"\",事業者基本情報!$E$11&事業者基本情報!$F$11&事業者基本情報!$G$11&事業者基本情報!$H$11&事業者基本情報!$I$11,\"\")","v":""},null,null,null,"市",null,null,"-",null,"-",null,{"$f":"IFERROR(VLOOKUP(Q277,コード表!$B$3:$C$101,2,FALSE),\"\")","v":""},null,{"$f":"IFERROR(VLOOKUP(S277,コード表!$F$7:$G$141,2,FALSE),\"\")","v":""},null,null,"t",null,null,null,null,null,null,null,null,null,null,null,null,null,null,null,null,null,null,null,null,null,null,null,null,null,null,null,null,null,null,null,null,null,null,null,null,null,null,null,null,null,null,null,null,null,null,null,null,"","",{"$f":"IF(BS277=\"\",\"\",IF(COUNTIF(BS$4:BS277,BS277)=1,ROW(),\"\"))","v":""},{"$f":"IFERROR(INDEX(BS:BS,SMALL(BT:BT,ROW(A274))),\"\")","v":""},"","","",""]
[{"$f":"IF(F278<>\"\",事業者基本情報!$E$9&事業者基本情報!$F$9&事業者基本情報!$G$9,\"\")","v":""},{"$f":"IF(F278<>\"\",事業者基本情報!$Y$10,\"\")","v":""},{"$f":"IF(F278<>\"\",事業者基本情報!$Y$7,\"\")","v":""},{"$f":"IF(F278<>\"\",事業者基本情報!$Y$8,\"\")","v":""},{"$f":"IF(F278<>\"\",事業者基本情報!$E$11&事業者基本情報!$F$11&事業者基本情報!$G$11&事業者基本情報!$H$11&事業者基本情報!$I$11,\"\")","v":""},null,null,null,"市",null,null,"-",null,"-",null,{"$f":"IFERROR(VLOOKUP(Q278,コード表!$B$3:$C$101,2,FALSE),\"\")","v":""},null,{"$f":"IFERROR(VLOOKUP(S278,コード表!$F$7:$G$141,2,FALSE),\"\")","v":""},null,null,"t",null,null,null,null,null,null,null,null,null,null,null,null,null,null,null,null,null,null,null,null,null,null,null,null,null,null,null,null,null,null,null,null,null,null,null,null,null,null,null,null,null,null,null,null,null,null,null,null,"","",{"$f":"IF(BS278=\"\",\"\",IF(COUNTIF(BS$4:BS278,BS278)=1,ROW(),\"\"))","v":""},{"$f":"IFERROR(INDEX(BS:BS,SMALL(BT:BT,ROW(A275))),\"\")","v":""},"","","",""]
[{"$f":"IF(F279<>\"\",事業者基本情報!$E$9&事業者基本情報!$F$9&事業者基本情報!$G$9,\"\")","v":""},{"$f":"IF(F279<>\"\",事業者基本情報!$Y$10,\"\")","v":""},{"$f":"IF(F279<>\"\",事業者基本情報!$Y$7,\"\")","v":""},{"$f":"IF(F279<>\"\",事業者基本情報!$Y$8,\"\")","v":""},{"$f":"IF(F279<>\"\",事業者基本情報!$E$11&事業者基本情報!$F$11&事業者基本情報!$G$11&事業者基本情報!$H$11&事業者基本情報!$I$11,\"\")","v":""},null,null,null,"市",null,null,"-",null,"-",null,{"$f":"IFERROR(VLOOKUP(Q279,コード表!$B$3:$C$101,2,FALSE),\"\")","v":""},null,{"$f":"IFERROR(VLOOKUP(S279,コード表!$F$7:$G$141,2,FALSE),\"\")","v":""},null,null,"t",null,null,null,null,null,null,null,null,null,null,null,null,null,null,null,null,null,null,null,null,null,null,null,null,null,null,null,null,null,null,null,null,null,null,null,null,null,null,null,null,null,null,null,null,null,null,null,null,"","",{"$f":"IF(BS279=\"\",\"\",IF(COUNTIF(BS$4:BS279,BS279)=1,ROW(),\"\"))","v":""},{"$f":"IFERROR(INDEX(BS:BS,SMALL(BT:BT,ROW(A276))),\"\")","v":""},"","","",""]
[{"$f":"IF(F280<>\"\",事業者基本情報!$E$9&事業者基本情報!$F$9&事業者基本情報!$G$9,\"\")","v":""},{"$f":"IF(F280<>\"\",事業者基本情報!$Y$10,\"\")","v":""},{"$f":"IF(F280<>\"\",事業者基本情報!$Y$7,\"\")","v":""},{"$f":"IF(F280<>\"\",事業者基本情報!$Y$8,\"\")","v":""},{"$f":"IF(F280<>\"\",事業者基本情報!$E$11&事業者基本情報!$F$11&事業者基本情報!$G$11&事業者基本情報!$H$11&事業者基本情報!$I$11,\"\")","v":""},null,null,null,"市",null,null,"-",null,"-",null,{"$f":"IFERROR(VLOOKUP(Q280,コード表!$B$3:$C$101,2,FALSE),\"\")","v":""},null,{"$f":"IFERROR(VLOOKUP(S280,コード表!$F$7:$G$141,2,FALSE),\"\")","v":""},null,null,"t",null,null,null,null,null,null,null,null,null,null,null,null,null,null,null,null,null,null,null,null,null,null,null,null,null,null,null,null,null,null,null,null,null,null,null,null,null,null,null,null,null,null,null,null,null,null,null,null,"","",{"$f":"IF(BS280=\"\",\"\",IF(COUNTIF(BS$4:BS280,BS280)=1,ROW(),\"\"))","v":""},{"$f":"IFERROR(INDEX(BS:BS,SMALL(BT:BT,ROW(A277))),\"\")","v":""},"","","",""]
[{"$f":"IF(F281<>\"\",事業者基本情報!$E$9&事業者基本情報!$F$9&事業者基本情報!$G$9,\"\")","v":""},{"$f":"IF(F281<>\"\",事業者基本情報!$Y$10,\"\")","v":""},{"$f":"IF(F281<>\"\",事業者基本情報!$Y$7,\"\")","v":""},{"$f":"IF(F281<>\"\",事業者基本情報!$Y$8,\"\")","v":""},{"$f":"IF(F281<>\"\",事業者基本情報!$E$11&事業者基本情報!$F$11&事業者基本情報!$G$11&事業者基本情報!$H$11&事業者基本情報!$I$11,\"\")","v":""},null,null,null,"市",null,null,"-",null,"-",null,{"$f":"IFERROR(VLOOKUP(Q281,コード表!$B$3:$C$101,2,FALSE),\"\")","v":""},null,{"$f":"IFERROR(VLOOKUP(S281,コード表!$F$7:$G$141,2,FALSE),\"\")","v":""},null,null,"t",null,null,null,null,null,null,null,null,null,null,null,null,null,null,null,null,null,null,null,null,null,null,null,null,null,null,null,null,null,null,null,null,null,null,null,null,null,null,null,null,null,null,null,null,null,null,null,null,"","",{"$f":"IF(BS281=\"\",\"\",IF(COUNTIF(BS$4:BS281,BS281)=1,ROW(),\"\"))","v":""},{"$f":"IFERROR(INDEX(BS:BS,SMALL(BT:BT,ROW(A278))),\"\")","v":""},"","","",""]
[{"$f":"IF(F282<>\"\",事業者基本情報!$E$9&事業者基本情報!$F$9&事業者基本情報!$G$9,\"\")","v":""},{"$f":"IF(F282<>\"\",事業者基本情報!$Y$10,\"\")","v":""},{"$f":"IF(F282<>\"\",事業者基本情報!$Y$7,\"\")","v":""},{"$f":"IF(F282<>\"\",事業者基本情報!$Y$8,\"\")","v":""},{"$f":"IF(F282<>\"\",事業者基本情報!$E$11&事業者基本情報!$F$11&事業者基本情報!$G$11&事業者基本情報!$H$11&事業者基本情報!$I$11,\"\")","v":""},null,null,null,"市",null,null,"-",null,"-",null,{"$f":"IFERROR(VLOOKUP(Q282,コード表!$B$3:$C$101,2,FALSE),\"\")","v":""},null,{"$f":"IFERROR(VLOOKUP(S282,コード表!$F$7:$G$141,2,FALSE),\"\")","v":""},null,null,"t",null,null,null,null,null,null,null,null,null,null,null,null,null,null,null,null,null,null,null,null,null,null,null,null,null,null,null,null,null,null,null,null,null,null,null,null,null,null,null,null,null,null,null,null,null,null,null,null,"","",{"$f":"IF(BS282=\"\",\"\",IF(COUNTIF(BS$4:BS282,BS282)=1,ROW(),\"\"))","v":""},{"$f":"IFERROR(INDEX(BS:BS,SMALL(BT:BT,ROW(A279))),\"\")","v":""},"","","",""]
[{"$f":"IF(F283<>\"\",事業者基本情報!$E$9&事業者基本情報!$F$9&事業者基本情報!$G$9,\"\")","v":""},{"$f":"IF(F283<>\"\",事業者基本情報!$Y$10,\"\")","v":""},{"$f":"IF(F283<>\"\",事業者基本情報!$Y$7,\"\")","v":""},{"$f":"IF(F283<>\"\",事業者基本情報!$Y$8,\"\")","v":""},{"$f":"IF(F283<>\"\",事業者基本情報!$E$11&事業者基本情報!$F$11&事業者基本情報!$G$11&事業者基本情報!$H$11&事業者基本情報!$I$11,\"\")","v":""},null,null,null,"市",null,null,"-",null,"-",null,{"$f":"IFERROR(VLOOKUP(Q283,コード表!$B$3:$C$101,2,FALSE),\"\")","v":""},null,{"$f":"IFERROR(VLOOKUP(S283,コード表!$F$7:$G$141,2,FALSE),\"\")","v":""},null,null,"t",null,null,null,null,null,null,null,null,null,null,null,null,null,null,null,null,null,null,null,null,null,null,null,null,null,null,null,null,null,null,null,null,null,null,null,null,null,null,null,null,null,null,null,null,null,null,null,null,"","",{"$f":"IF(BS283=\"\",\"\",IF(COUNTIF(BS$4:BS283,BS283)=1,ROW(),\"\"))","v":""},{"$f":"IFERROR(INDEX(BS:BS,SMALL(BT:BT,ROW(A280))),\"\")","v":""},"","","",""]
[{"$f":"IF(F284<>\"\",事業者基本情報!$E$9&事業者基本情報!$F$9&事業者基本情報!$G$9,\"\")","v":""},{"$f":"IF(F284<>\"\",事業者基本情報!$Y$10,\"\")","v":""},{"$f":"IF(F284<>\"\",事業者基本情報!$Y$7,\"\")","v":""},{"$f":"IF(F284<>\"\",事業者基本情報!$Y$8,\"\")","v":""},{"$f":"IF(F284<>\"\",事業者基本情報!$E$11&事業者基本情報!$F$11&事業者基本情報!$G$11&事業者基本情報!$H$11&事業者基本情報!$I$11,\"\")","v":""},null,null,null,"市",null,null,"-",null,"-",null,{"$f":"IFERROR(VLOOKUP(Q284,コード表!$B$3:$C$101,2,FALSE),\"\")","v":""},null,{"$f":"IFERROR(VLOOKUP(S284,コード表!$F$7:$G$141,2,FALSE),\"\")","v":""},null,null,"t",null,null,null,null,null,null,null,null,null,null,null,null,null,null,null,null,null,null,null,null,null,null,null,null,null,null,null,null,null,null,null,null,null,null,null,null,null,null,null,null,null,null,null,null,null,null,null,null,"","",{"$f":"IF(BS284=\"\",\"\",IF(COUNTIF(BS$4:BS284,BS284)=1,ROW(),\"\"))","v":""},{"$f":"IFERROR(INDEX(BS:BS,SMALL(BT:BT,ROW(A281))),\"\")","v":""},"","","",""]
[{"$f":"IF(F285<>\"\",事業者基本情報!$E$9&事業者基本情報!$F$9&事業者基本情報!$G$9,\"\")","v":""},{"$f":"IF(F285<>\"\",事業者基本情報!$Y$10,\"\")","v":""},{"$f":"IF(F285<>\"\",事業者基本情報!$Y$7,\"\")","v":""},{"$f":"IF(F285<>\"\",事業者基本情報!$Y$8,\"\")","v":""},{"$f":"IF(F285<>\"\",事業者基本情報!$E$11&事業者基本情報!$F$11&事業者基本情報!$G$11&事業者基本情報!$H$11&事業者基本情報!$I$11,\"\")","v":""},null,null,null,"市",null,null,"-",null,"-",null,{"$f":"IFERROR(VLOOKUP(Q285,コード表!$B$3:$C$101,2,FALSE),\"\")","v":""},null,{"$f":"IFERROR(VLOOKUP(S285,コード表!$F$7:$G$141,2,FALSE),\"\")","v":""},null,null,"t",null,null,null,null,null,null,null,null,null,null,null,null,null,null,null,null,null,null,null,null,null,null,null,null,null,null,null,null,null,null,null,null,null,null,null,null,null,null,null,null,null,null,null,null,null,null,null,null,"","",{"$f":"IF(BS285=\"\",\"\",IF(COUNTIF(BS$4:BS285,BS285)=1,ROW(),\"\"))","v":""},{"$f":"IFERROR(INDEX(BS:BS,SMALL(BT:BT,ROW(A282))),\"\")","v":""},"","","",""]
[{"$f":"IF(F286<>\"\",事業者基本情報!$E$9&事業者基本情報!$F$9&事業者基本情報!$G$9,\"\")","v":""},{"$f":"IF(F286<>\"\",事業者基本情報!$Y$10,\"\")","v":""},{"$f":"IF(F286<>\"\",事業者基本情報!$Y$7,\"\")","v":""},{"$f":"IF(F286<>\"\",事業者基本情報!$Y$8,\"\")","v":""},{"$f":"IF(F286<>\"\",事業者基本情報!$E$11&事業者基本情報!$F$11&事業者基本情報!$G$11&事業者基本情報!$H$11&事業者基本情報!$I$11,\"\")","v":""},null,null,null,"市",null,null,"-",null,"-",null,{"$f":"IFERROR(VLOOKUP(Q286,コード表!$B$3:$C$101,2,FALSE),\"\")","v":""},null,{"$f":"IFERROR(VLOOKUP(S286,コード表!$F$7:$G$141,2,FALSE),\"\")","v":""},null,null,"t",null,null,null,null,null,null,null,null,null,null,null,null,null,null,null,null,null,null,null,null,null,null,null,null,null,null,null,null,null,null,null,null,null,null,null,null,null,null,null,null,null,null,null,null,null,null,null,null,"","",{"$f":"IF(BS286=\"\",\"\",IF(COUNTIF(BS$4:BS286,BS286)=1,ROW(),\"\"))","v":""},{"$f":"IFERROR(INDEX(BS:BS,SMALL(BT:BT,ROW(A283))),\"\")","v":""},"","","",""]
[{"$f":"IF(F287<>\"\",事業者基本情報!$E$9&事業者基本情報!$F$9&事業者基本情報!$G$9,\"\")","v":""},{"$f":"IF(F287<>\"\",事業者基本情報!$Y$10,\"\")","v":""},{"$f":"IF(F287<>\"\",事業者基本情報!$Y$7,\"\")","v":""},{"$f":"IF(F287<>\"\",事業者基本情報!$Y$8,\"\")","v":""},{"$f":"IF(F287<>\"\",事業者基本情報!$E$11&事業者基本情報!$F$11&事業者基本情報!$G$11&事業者基本情報!$H$11&事業者基本情報!$I$11,\"\")","v":""},null,null,null,"市",null,null,"-",null,"-",null,{"$f":"IFERROR(VLOOKUP(Q287,コード表!$B$3:$C$101,2,FALSE),\"\")","v":""},null,{"$f":"IFERROR(VLOOKUP(S287,コード表!$F$7:$G$141,2,FALSE),\"\")","v":""},null,null,"t",null,null,null,null,null,null,null,null,null,null,null,null,null,null,null,null,null,null,null,null,null,null,null,null,null,null,null,null,null,null,null,null,null,null,null,null,null,null,null,null,null,null,null,null,null,null,null,null,"","",{"$f":"IF(BS287=\"\",\"\",IF(COUNTIF(BS$4:BS287,BS287)=1,ROW(),\"\"))","v":""},{"$f":"IFERROR(INDEX(BS:BS,SMALL(BT:BT,ROW(A284))),\"\")","v":""},"","","",""]
[{"$f":"IF(F288<>\"\",事業者基本情報!$E$9&事業者基本情報!$F$9&事業者基本情報!$G$9,\"\")","v":""},{"$f":"IF(F288<>\"\",事業者基本情報!$Y$10,\"\")","v":""},{"$f":"IF(F288<>\"\",事業者基本情報!$Y$7,\"\")","v":""},{"$f":"IF(F288<>\"\",事業者基本情報!$Y$8,\"\")","v":""},{"$f":"IF(F288<>\"\",事業者基本情報!$E$11&事業者基本情報!$F$11&事業者基本情報!$G$11&事業者基本情報!$H$11&事業者基本情報!$I$11,\"\")","v":""},null,null,null,"市",null,null,"-",null,"-",null,{"$f":"IFERROR(VLOOKUP(Q288,コード表!$B$3:$C$101,2,FALSE),\"\")","v":""},null,{"$f":"IFERROR(VLOOKUP(S288,コード表!$F$7:$G$141,2,FALSE),\"\")","v":""},null,null,"t",null,null,null,null,null,null,null,null,null,null,null,null,null,null,null,null,null,null,null,null,null,null,null,null,null,null,null,null,null,null,null,null,null,null,null,null,null,null,null,null,null,null,null,null,null,null,null,null,"","",{"$f":"IF(BS288=\"\",\"\",IF(COUNTIF(BS$4:BS288,BS288)=1,ROW(),\"\"))","v":""},{"$f":"IFERROR(INDEX(BS:BS,SMALL(BT:BT,ROW(A285))),\"\")","v":""},"","","",""]
[{"$f":"IF(F289<>\"\",事業者基本情報!$E$9&事業者基本情報!$F$9&事業者基本情報!$G$9,\"\")","v":""},{"$f":"IF(F289<>\"\",事業者基本情報!$Y$10,\"\")","v":""},{"$f":"IF(F289<>\"\",事業者基本情報!$Y$7,\"\")","v":""},{"$f":"IF(F289<>\"\",事業者基本情報!$Y$8,\"\")","v":""},{"$f":"IF(F289<>\"\",事業者基本情報!$E$11&事業者基本情報!$F$11&事業者基本情報!$G$11&事業者基本情報!$H$11&事業者基本情報!$I$11,\"\")","v":""},null,null,null,"市",null,null,"-",null,"-",null,{"$f":"IFERROR(VLOOKUP(Q289,コード表!$B$3:$C$101,2,FALSE),\"\")","v":""},null,{"$f":"IFERROR(VLOOKUP(S289,コード表!$F$7:$G$141,2,FALSE),\"\")","v":""},null,null,"t",null,null,null,null,null,null,null,null,null,null,null,null,null,null,null,null,null,null,null,null,null,null,null,null,null,null,null,null,null,null,null,null,null,null,null,null,null,null,null,null,null,null,null,null,null,null,null,null,"","",{"$f":"IF(BS289=\"\",\"\",IF(COUNTIF(BS$4:BS289,BS289)=1,ROW(),\"\"))","v":""},{"$f":"IFERROR(INDEX(BS:BS,SMALL(BT:BT,ROW(A286))),\"\")","v":""},"","","",""]
[{"$f":"IF(F290<>\"\",事業者基本情報!$E$9&事業者基本情報!$F$9&事業者基本情報!$G$9,\"\")","v":""},{"$f":"IF(F290<>\"\",事業者基本情報!$Y$10,\"\")","v":""},{"$f":"IF(F290<>\"\",事業者基本情報!$Y$7,\"\")","v":""},{"$f":"IF(F290<>\"\",事業者基本情報!$Y$8,\"\")","v":""},{"$f":"IF(F290<>\"\",事業者基本情報!$E$11&事業者基本情報!$F$11&事業者基本情報!$G$11&事業者基本情報!$H$11&事業者基本情報!$I$11,\"\")","v":""},null,null,null,"市",null,null,"-",null,"-",null,{"$f":"IFERROR(VLOOKUP(Q290,コード表!$B$3:$C$101,2,FALSE),\"\")","v":""},null,{"$f":"IFERROR(VLOOKUP(S290,コード表!$F$7:$G$141,2,FALSE),\"\")","v":""},null,null,"t",null,null,null,null,null,null,null,null,null,null,null,null,null,null,null,null,null,null,null,null,null,null,null,null,null,null,null,null,null,null,null,null,null,null,null,null,null,null,null,null,null,null,null,null,null,null,null,null,"","",{"$f":"IF(BS290=\"\",\"\",IF(COUNTIF(BS$4:BS290,BS290)=1,ROW(),\"\"))","v":""},{"$f":"IFERROR(INDEX(BS:BS,SMALL(BT:BT,ROW(A287))),\"\")","v":""},"","","",""]
[{"$f":"IF(F291<>\"\",事業者基本情報!$E$9&事業者基本情報!$F$9&事業者基本情報!$G$9,\"\")","v":""},{"$f":"IF(F291<>\"\",事業者基本情報!$Y$10,\"\")","v":""},{"$f":"IF(F291<>\"\",事業者基本情報!$Y$7,\"\")","v":""},{"$f":"IF(F291<>\"\",事業者基本情報!$Y$8,\"\")","v":""},{"$f":"IF(F291<>\"\",事業者基本情報!$E$11&事業者基本情報!$F$11&事業者基本情報!$G$11&事業者基本情報!$H$11&事業者基本情報!$I$11,\"\")","v":""},null,null,null,"市",null,null,"-",null,"-",null,{"$f":"IFERROR(VLOOKUP(Q291,コード表!$B$3:$C$101,2,FALSE),\"\")","v":""},null,{"$f":"IFERROR(VLOOKUP(S291,コード表!$F$7:$G$141,2,FALSE),\"\")","v":""},null,null,"t",null,null,null,null,null,null,null,null,null,null,null,null,null,null,null,null,null,null,null,null,null,null,null,null,null,null,null,null,null,null,null,null,null,null,null,null,null,null,null,null,null,null,null,null,null,null,null,null,"","",{"$f":"IF(BS291=\"\",\"\",IF(COUNTIF(BS$4:BS291,BS291)=1,ROW(),\"\"))","v":""},{"$f":"IFERROR(INDEX(BS:BS,SMALL(BT:BT,ROW(A288))),\"\")","v":""},"","","",""]
[{"$f":"IF(F292<>\"\",事業者基本情報!$E$9&事業者基本情報!$F$9&事業者基本情報!$G$9,\"\")","v":""},{"$f":"IF(F292<>\"\",事業者基本情報!$Y$10,\"\")","v":""},{"$f":"IF(F292<>\"\",事業者基本情報!$Y$7,\"\")","v":""},{"$f":"IF(F292<>\"\",事業者基本情報!$Y$8,\"\")","v":""},{"$f":"IF(F292<>\"\",事業者基本情報!$E$11&事業者基本情報!$F$11&事業者基本情報!$G$11&事業者基本情報!$H$11&事業者基本情報!$I$11,\"\")","v":""},null,null,null,"市",null,null,"-",null,"-",null,{"$f":"IFERROR(VLOOKUP(Q292,コード表!$B$3:$C$101,2,FALSE),\"\")","v":""},null,{"$f":"IFERROR(VLOOKUP(S292,コード表!$F$7:$G$141,2,FALSE),\"\")","v":""},null,null,"t",null,null,null,null,null,null,null,null,null,null,null,null,null,null,null,null,null,null,null,null,null,null,null,null,null,null,null,null,null,null,null,null,null,null,null,null,null,null,null,null,null,null,null,null,null,null,null,null,"","",{"$f":"IF(BS292=\"\",\"\",IF(COUNTIF(BS$4:BS292,BS292)=1,ROW(),\"\"))","v":""},{"$f":"IFERROR(INDEX(BS:BS,SMALL(BT:BT,ROW(A289))),\"\")","v":""},"","","",""]
[{"$f":"IF(F293<>\"\",事業者基本情報!$E$9&事業者基本情報!$F$9&事業者基本情報!$G$9,\"\")","v":""},{"$f":"IF(F293<>\"\",事業者基本情報!$Y$10,\"\")","v":""},{"$f":"IF(F293<>\"\",事業者基本情報!$Y$7,\"\")","v":""},{"$f":"IF(F293<>\"\",事業者基本情報!$Y$8,\"\")","v":""},{"$f":"IF(F293<>\"\",事業者基本情報!$E$11&事業者基本情報!$F$11&事業者基本情報!$G$11&事業者基本情報!$H$11&事業者基本情報!$I$11,\"\")","v":""},null,null,null,"市",null,null,"-",null,"-",null,{"$f":"IFERROR(VLOOKUP(Q293,コード表!$B$3:$C$101,2,FALSE),\"\")","v":""},null,{"$f":"IFERROR(VLOOKUP(S293,コード表!$F$7:$G$141,2,FALSE),\"\")","v":""},null,null,"t",null,null,null,null,null,null,null,null,null,null,null,null,null,null,null,null,null,null,null,null,null,null,null,null,null,null,null,null,null,null,null,null,null,null,null,null,null,null,null,null,null,null,null,null,null,null,null,null,"","",{"$f":"IF(BS293=\"\",\"\",IF(COUNTIF(BS$4:BS293,BS293)=1,ROW(),\"\"))","v":""},{"$f":"IFERROR(INDEX(BS:BS,SMALL(BT:BT,ROW(A290))),\"\")","v":""},"","","",""]
[{"$f":"IF(F294<>\"\",事業者基本情報!$E$9&事業者基本情報!$F$9&事業者基本情報!$G$9,\"\")","v":""},{"$f":"IF(F294<>\"\",事業者基本情報!$Y$10,\"\")","v":""},{"$f":"IF(F294<>\"\",事業者基本情報!$Y$7,\"\")","v":""},{"$f":"IF(F294<>\"\",事業者基本情報!$Y$8,\"\")","v":""},{"$f":"IF(F294<>\"\",事業者基本情報!$E$11&事業者基本情報!$F$11&事業者基本情報!$G$11&事業者基本情報!$H$11&事業者基本情報!$I$11,\"\")","v":""},null,null,null,"市",null,null,"-",null,"-",null,{"$f":"IFERROR(VLOOKUP(Q294,コード表!$B$3:$C$101,2,FALSE),\"\")","v":""},null,{"$f":"IFERROR(VLOOKUP(S294,コード表!$F$7:$G$141,2,FALSE),\"\")","v":""},null,null,"t",null,null,null,null,null,null,null,null,null,null,null,null,null,null,null,null,null,null,null,null,null,null,null,null,null,null,null,null,null,null,null,null,null,null,null,null,null,null,null,null,null,null,null,null,null,null,null,null,"","",{"$f":"IF(BS294=\"\",\"\",IF(COUNTIF(BS$4:BS294,BS294)=1,ROW(),\"\"))","v":""},{"$f":"IFERROR(INDEX(BS:BS,SMALL(BT:BT,ROW(A291))),\"\")","v":""},"","","",""]
[{"$f":"IF(F295<>\"\",事業者基本情報!$E$9&事業者基本情報!$F$9&事業者基本情報!$G$9,\"\")","v":""},{"$f":"IF(F295<>\"\",事業者基本情報!$Y$10,\"\")","v":""},{"$f":"IF(F295<>\"\",事業者基本情報!$Y$7,\"\")","v":""},{"$f":"IF(F295<>\"\",事業者基本情報!$Y$8,\"\")","v":""},{"$f":"IF(F295<>\"\",事業者基本情報!$E$11&事業者基本情報!$F$11&事業者基本情報!$G$11&事業者基本情報!$H$11&事業者基本情報!$I$11,\"\")","v":""},null,null,null,"市",null,null,"-",null,"-",null,{"$f":"IFERROR(VLOOKUP(Q295,コード表!$B$3:$C$101,2,FALSE),\"\")","v":""},null,{"$f":"IFERROR(VLOOKUP(S295,コード表!$F$7:$G$141,2,FALSE),\"\")","v":""},null,null,"t",null,null,null,null,null,null,null,null,null,null,null,null,null,null,null,null,null,null,null,null,null,null,null,null,null,null,null,null,null,null,null,null,null,null,null,null,null,null,null,null,null,null,null,null,null,null,null,null,"","",{"$f":"IF(BS295=\"\",\"\",IF(COUNTIF(BS$4:BS295,BS295)=1,ROW(),\"\"))","v":""},{"$f":"IFERROR(INDEX(BS:BS,SMALL(BT:BT,ROW(A292))),\"\")","v":""},"","","",""]
[{"$f":"IF(F296<>\"\",事業者基本情報!$E$9&事業者基本情報!$F$9&事業者基本情報!$G$9,\"\")","v":""},{"$f":"IF(F296<>\"\",事業者基本情報!$Y$10,\"\")","v":""},{"$f":"IF(F296<>\"\",事業者基本情報!$Y$7,\"\")","v":""},{"$f":"IF(F296<>\"\",事業者基本情報!$Y$8,\"\")","v":""},{"$f":"IF(F296<>\"\",事業者基本情報!$E$11&事業者基本情報!$F$11&事業者基本情報!$G$11&事業者基本情報!$H$11&事業者基本情報!$I$11,\"\")","v":""},null,null,null,"市",null,null,"-",null,"-",null,{"$f":"IFERROR(VLOOKUP(Q296,コード表!$B$3:$C$101,2,FALSE),\"\")","v":""},null,{"$f":"IFERROR(VLOOKUP(S296,コード表!$F$7:$G$141,2,FALSE),\"\")","v":""},null,null,"t",null,null,null,null,null,null,null,null,null,null,null,null,null,null,null,null,null,null,null,null,null,null,null,null,null,null,null,null,null,null,null,null,null,null,null,null,null,null,null,null,null,null,null,null,null,null,null,null,"","",{"$f":"IF(BS296=\"\",\"\",IF(COUNTIF(BS$4:BS296,BS296)=1,ROW(),\"\"))","v":""},{"$f":"IFERROR(INDEX(BS:BS,SMALL(BT:BT,ROW(A293))),\"\")","v":""},"","","",""]
[{"$f":"IF(F297<>\"\",事業者基本情報!$E$9&事業者基本情報!$F$9&事業者基本情報!$G$9,\"\")","v":""},{"$f":"IF(F297<>\"\",事業者基本情報!$Y$10,\"\")","v":""},{"$f":"IF(F297<>\"\",事業者基本情報!$Y$7,\"\")","v":""},{"$f":"IF(F297<>\"\",事業者基本情報!$Y$8,\"\")","v":""},{"$f":"IF(F297<>\"\",事業者基本情報!$E$11&事業者基本情報!$F$11&事業者基本情報!$G$11&事業者基本情報!$H$11&事業者基本情報!$I$11,\"\")","v":""},null,null,null,"市",null,null,"-",null,"-",null,{"$f":"IFERROR(VLOOKUP(Q297,コード表!$B$3:$C$101,2,FALSE),\"\")","v":""},null,{"$f":"IFERROR(VLOOKUP(S297,コード表!$F$7:$G$141,2,FALSE),\"\")","v":""},null,null,"t",null,null,null,null,null,null,null,null,null,null,null,null,null,null,null,null,null,null,null,null,null,null,null,null,null,null,null,null,null,null,null,null,null,null,null,null,null,null,null,null,null,null,null,null,null,null,null,null,"","",{"$f":"IF(BS297=\"\",\"\",IF(COUNTIF(BS$4:BS297,BS297)=1,ROW(),\"\"))","v":""},{"$f":"IFERROR(INDEX(BS:BS,SMALL(BT:BT,ROW(A294))),\"\")","v":""},"","","",""]
[{"$f":"IF(F298<>\"\",事業者基本情報!$E$9&事業者基本情報!$F$9&事業者基本情報!$G$9,\"\")","v":""},{"$f":"IF(F298<>\"\",事業者基本情報!$Y$10,\"\")","v":""},{"$f":"IF(F298<>\"\",事業者基本情報!$Y$7,\"\")","v":""},{"$f":"IF(F298<>\"\",事業者基本情報!$Y$8,\"\")","v":""},{"$f":"IF(F298<>\"\",事業者基本情報!$E$11&事業者基本情報!$F$11&事業者基本情報!$G$11&事業者基本情報!$H$11&事業者基本情報!$I$11,\"\")","v":""},null,null,null,"市",null,null,"-",null,"-",null,{"$f":"IFERROR(VLOOKUP(Q298,コード表!$B$3:$C$101,2,FALSE),\"\")","v":""},null,{"$f":"IFERROR(VLOOKUP(S298,コード表!$F$7:$G$141,2,FALSE),\"\")","v":""},null,null,"t",null,null,null,null,null,null,null,null,null,null,null,null,null,null,null,null,null,null,null,null,null,null,null,null,null,null,null,null,null,null,null,null,null,null,null,null,null,null,null,null,null,null,null,null,null,null,null,null,"","",{"$f":"IF(BS298=\"\",\"\",IF(COUNTIF(BS$4:BS298,BS298)=1,ROW(),\"\"))","v":""},{"$f":"IFERROR(INDEX(BS:BS,SMALL(BT:BT,ROW(A295))),\"\")","v":""},"","","",""]
[{"$f":"IF(F299<>\"\",事業者基本情報!$E$9&事業者基本情報!$F$9&事業者基本情報!$G$9,\"\")","v":""},{"$f":"IF(F299<>\"\",事業者基本情報!$Y$10,\"\")","v":""},{"$f":"IF(F299<>\"\",事業者基本情報!$Y$7,\"\")","v":""},{"$f":"IF(F299<>\"\",事業者基本情報!$Y$8,\"\")","v":""},{"$f":"IF(F299<>\"\",事業者基本情報!$E$11&事業者基本情報!$F$11&事業者基本情報!$G$11&事業者基本情報!$H$11&事業者基本情報!$I$11,\"\")","v":""},null,null,null,"市",null,null,"-",null,"-",null,{"$f":"IFERROR(VLOOKUP(Q299,コード表!$B$3:$C$101,2,FALSE),\"\")","v":""},null,{"$f":"IFERROR(VLOOKUP(S299,コード表!$F$7:$G$141,2,FALSE),\"\")","v":""},null,null,"t",null,null,null,null,null,null,null,null,null,null,null,null,null,null,null,null,null,null,null,null,null,null,null,null,null,null,null,null,null,null,null,null,null,null,null,null,null,null,null,null,null,null,null,null,null,null,null,null,"","",{"$f":"IF(BS299=\"\",\"\",IF(COUNTIF(BS$4:BS299,BS299)=1,ROW(),\"\"))","v":""},{"$f":"IFERROR(INDEX(BS:BS,SMALL(BT:BT,ROW(A296))),\"\")","v":""},"","","",""]
[{"$f":"IF(F300<>\"\",事業者基本情報!$E$9&事業者基本情報!$F$9&事業者基本情報!$G$9,\"\")","v":""},{"$f":"IF(F300<>\"\",事業者基本情報!$Y$10,\"\")","v":""},{"$f":"IF(F300<>\"\",事業者基本情報!$Y$7,\"\")","v":""},{"$f":"IF(F300<>\"\",事業者基本情報!$Y$8,\"\")","v":""},{"$f":"IF(F300<>\"\",事業者基本情報!$E$11&事業者基本情報!$F$11&事業者基本情報!$G$11&事業者基本情報!$H$11&事業者基本情報!$I$11,\"\")","v":""},null,null,null,"市",null,null,"-",null,"-",null,{"$f":"IFERROR(VLOOKUP(Q300,コード表!$B$3:$C$101,2,FALSE),\"\")","v":""},null,{"$f":"IFERROR(VLOOKUP(S300,コード表!$F$7:$G$141,2,FALSE),\"\")","v":""},null,null,"t",null,null,null,null,null,null,null,null,null,null,null,null,null,null,null,null,null,null,null,null,null,null,null,null,null,null,null,null,null,null,null,null,null,null,null,null,null,null,null,null,null,null,null,null,null,null,null,null,"","",{"$f":"IF(BS300=\"\",\"\",IF(COUNTIF(BS$4:BS300,BS300)=1,ROW(),\"\"))","v":""},{"$f":"IFERROR(INDEX(BS:BS,SMALL(BT:BT,ROW(A297))),\"\")","v":""},"","","",""]
[{"$f":"IF(F301<>\"\",事業者基本情報!$E$9&事業者基本情報!$F$9&事業者基本情報!$G$9,\"\")","v":""},{"$f":"IF(F301<>\"\",事業者基本情報!$Y$10,\"\")","v":""},{"$f":"IF(F301<>\"\",事業者基本情報!$Y$7,\"\")","v":""},{"$f":"IF(F301<>\"\",事業者基本情報!$Y$8,\"\")","v":""},{"$f":"IF(F301<>\"\",事業者基本情報!$E$11&事業者基本情報!$F$11&事業者基本情報!$G$11&事業者基本情報!$H$11&事業者基本情報!$I$11,\"\")","v":""},null,null,null,"市",null,null,"-",null,"-",null,{"$f":"IFERROR(VLOOKUP(Q301,コード表!$B$3:$C$101,2,FALSE),\"\")","v":""},null,{"$f":"IFERROR(VLOOKUP(S301,コード表!$F$7:$G$141,2,FALSE),\"\")","v":""},null,null,"t",null,null,null,null,null,null,null,null,null,null,null,null,null,null,null,null,null,null,null,null,null,null,null,null,null,null,null,null,null,null,null,null,null,null,null,null,null,null,null,null,null,null,null,null,null,null,null,null,"","",{"$f":"IF(BS301=\"\",\"\",IF(COUNTIF(BS$4:BS301,BS301)=1,ROW(),\"\"))","v":""},{"$f":"IFERROR(INDEX(BS:BS,SMALL(BT:BT,ROW(A298))),\"\")","v":""},"","","",""]
[{"$f":"IF(F302<>\"\",事業者基本情報!$E$9&事業者基本情報!$F$9&事業者基本情報!$G$9,\"\")","v":""},{"$f":"IF(F302<>\"\",事業者基本情報!$Y$10,\"\")","v":""},{"$f":"IF(F302<>\"\",事業者基本情報!$Y$7,\"\")","v":""},{"$f":"IF(F302<>\"\",事業者基本情報!$Y$8,\"\")","v":""},{"$f":"IF(F302<>\"\",事業者基本情報!$E$11&事業者基本情報!$F$11&事業者基本情報!$G$11&事業者基本情報!$H$11&事業者基本情報!$I$11,\"\")","v":""},null,null,null,"市",null,null,"-",null,"-",null,{"$f":"IFERROR(VLOOKUP(Q302,コード表!$B$3:$C$101,2,FALSE),\"\")","v":""},null,{"$f":"IFERROR(VLOOKUP(S302,コード表!$F$7:$G$141,2,FALSE),\"\")","v":""},null,null,"t",null,null,null,null,null,null,null,null,null,null,null,null,null,null,null,null,null,null,null,null,null,null,null,null,null,null,null,null,null,null,null,null,null,null,null,null,null,null,null,null,null,null,null,null,null,null,null,null,"","",{"$f":"IF(BS302=\"\",\"\",IF(COUNTIF(BS$4:BS302,BS302)=1,ROW(),\"\"))","v":""},{"$f":"IFERROR(INDEX(BS:BS,SMALL(BT:BT,ROW(A299))),\"\")","v":""},"","","",""]
[{"$f":"IF(F303<>\"\",事業者基本情報!$E$9&事業者基本情報!$F$9&事業者基本情報!$G$9,\"\")","v":""},{"$f":"IF(F303<>\"\",事業者基本情報!$Y$10,\"\")","v":""},{"$f":"IF(F303<>\"\",事業者基本情報!$Y$7,\"\")","v":""},{"$f":"IF(F303<>\"\",事業者基本情報!$Y$8,\"\")","v":""},{"$f":"IF(F303<>\"\",事業者基本情報!$E$11&事業者基本情報!$F$11&事業者基本情報!$G$11&事業者基本情報!$H$11&事業者基本情報!$I$11,\"\")","v":""},null,null,null,"市",null,null,"-",null,"-",null,{"$f":"IFERROR(VLOOKUP(Q303,コード表!$B$3:$C$101,2,FALSE),\"\")","v":""},null,{"$f":"IFERROR(VLOOKUP(S303,コード表!$F$7:$G$141,2,FALSE),\"\")","v":""},null,null,"t",null,null,null,null,null,null,null,null,null,null,null,null,null,null,null,null,null,null,null,null,null,null,null,null,null,null,null,null,null,null,null,null,null,null,null,null,null,null,null,null,null,null,null,null,null,null,null,null,"","",{"$f":"IF(BS303=\"\",\"\",IF(COUNTIF(BS$4:BS303,BS303)=1,ROW(),\"\"))","v":""},{"$f":"IFERROR(INDEX(BS:BS,SMALL(BT:BT,ROW(A300))),\"\")","v":""},"","","",""]
[{"$f":"IF(F304<>\"\",事業者基本情報!$E$9&事業者基本情報!$F$9&事業者基本情報!$G$9,\"\")","v":""},{"$f":"IF(F304<>\"\",事業者基本情報!$Y$10,\"\")","v":""},{"$f":"IF(F304<>\"\",事業者基本情報!$Y$7,\"\")","v":""},{"$f":"IF(F304<>\"\",事業者基本情報!$Y$8,\"\")","v":""},{"$f":"IF(F304<>\"\",事業者基本情報!$E$11&事業者基本情報!$F$11&事業者基本情報!$G$11&事業者基本情報!$H$11&事業者基本情報!$I$11,\"\")","v":""},null,null,null,"市",null,null,"-",null,"-",null,{"$f":"IFERROR(VLOOKUP(Q304,コード表!$B$3:$C$101,2,FALSE),\"\")","v":""},null,{"$f":"IFERROR(VLOOKUP(S304,コード表!$F$7:$G$141,2,FALSE),\"\")","v":""},null,null,"t",null,null,null,null,null,null,null,null,null,null,null,null,null,null,null,null,null,null,null,null,null,null,null,null,null,null,null,null,null,null,null,null,null,null,null,null,null,null,null,null,null,null,null,null,null,null,null,null,"","",{"$f":"IF(BS304=\"\",\"\",IF(COUNTIF(BS$4:BS304,BS304)=1,ROW(),\"\"))","v":""},{"$f":"IFERROR(INDEX(BS:BS,SMALL(BT:BT,ROW(A301))),\"\")","v":""},"","","",""]
[{"$f":"IF(F305<>\"\",事業者基本情報!$E$9&事業者基本情報!$F$9&事業者基本情報!$G$9,\"\")","v":""},{"$f":"IF(F305<>\"\",事業者基本情報!$Y$10,\"\")","v":""},{"$f":"IF(F305<>\"\",事業者基本情報!$Y$7,\"\")","v":""},{"$f":"IF(F305<>\"\",事業者基本情報!$Y$8,\"\")","v":""},{"$f":"IF(F305<>\"\",事業者基本情報!$E$11&事業者基本情報!$F$11&事業者基本情報!$G$11&事業者基本情報!$H$11&事業者基本情報!$I$11,\"\")","v":""},null,null,null,"市",null,null,"-",null,"-",null,{"$f":"IFERROR(VLOOKUP(Q305,コード表!$B$3:$C$101,2,FALSE),\"\")","v":""},null,{"$f":"IFERROR(VLOOKUP(S305,コード表!$F$7:$G$141,2,FALSE),\"\")","v":""},null,null,"t",null,null,null,null,null,null,null,null,null,null,null,null,null,null,null,null,null,null,null,null,null,null,null,null,null,null,null,null,null,null,null,null,null,null,null,null,null,null,null,null,null,null,null,null,null,null,null,null,"","",{"$f":"IF(BS305=\"\",\"\",IF(COUNTIF(BS$4:BS305,BS305)=1,ROW(),\"\"))","v":""},{"$f":"IFERROR(INDEX(BS:BS,SMALL(BT:BT,ROW(A302))),\"\")","v":""},"","","",""]
[{"$f":"IF(F306<>\"\",事業者基本情報!$E$9&事業者基本情報!$F$9&事業者基本情報!$G$9,\"\")","v":""},{"$f":"IF(F306<>\"\",事業者基本情報!$Y$10,\"\")","v":""},{"$f":"IF(F306<>\"\",事業者基本情報!$Y$7,\"\")","v":""},{"$f":"IF(F306<>\"\",事業者基本情報!$Y$8,\"\")","v":""},{"$f":"IF(F306<>\"\",事業者基本情報!$E$11&事業者基本情報!$F$11&事業者基本情報!$G$11&事業者基本情報!$H$11&事業者基本情報!$I$11,\"\")","v":""},null,null,null,"市",null,null,"-",null,"-",null,{"$f":"IFERROR(VLOOKUP(Q306,コード表!$B$3:$C$101,2,FALSE),\"\")","v":""},null,{"$f":"IFERROR(VLOOKUP(S306,コード表!$F$7:$G$141,2,FALSE),\"\")","v":""},null,null,"t",null,null,null,null,null,null,null,null,null,null,null,null,null,null,null,null,null,null,null,null,null,null,null,null,null,null,null,null,null,null,null,null,null,null,null,null,null,null,null,null,null,null,null,null,null,null,null,null,"","",{"$f":"IF(BS306=\"\",\"\",IF(COUNTIF(BS$4:BS306,BS306)=1,ROW(),\"\"))","v":""},{"$f":"IFERROR(INDEX(BS:BS,SMALL(BT:BT,ROW(A303))),\"\")","v":""},"","","",""]
[{"$f":"IF(F307<>\"\",事業者基本情報!$E$9&事業者基本情報!$F$9&事業者基本情報!$G$9,\"\")","v":""},{"$f":"IF(F307<>\"\",事業者基本情報!$Y$10,\"\")","v":""},{"$f":"IF(F307<>\"\",事業者基本情報!$Y$7,\"\")","v":""},{"$f":"IF(F307<>\"\",事業者基本情報!$Y$8,\"\")","v":""},{"$f":"IF(F307<>\"\",事業者基本情報!$E$11&事業者基本情報!$F$11&事業者基本情報!$G$11&事業者基本情報!$H$11&事業者基本情報!$I$11,\"\")","v":""},null,null,null,"市",null,null,"-",null,"-",null,{"$f":"IFERROR(VLOOKUP(Q307,コード表!$B$3:$C$101,2,FALSE),\"\")","v":""},null,{"$f":"IFERROR(VLOOKUP(S307,コード表!$F$7:$G$141,2,FALSE),\"\")","v":""},null,null,"t",null,null,null,null,null,null,null,null,null,null,null,null,null,null,null,null,null,null,null,null,null,null,null,null,null,null,null,null,null,null,null,null,null,null,null,null,null,null,null,null,null,null,null,null,null,null,null,null,"","",{"$f":"IF(BS307=\"\",\"\",IF(COUNTIF(BS$4:BS307,BS307)=1,ROW(),\"\"))","v":""},{"$f":"IFERROR(INDEX(BS:BS,SMALL(BT:BT,ROW(A304))),\"\")","v":""},"","","",""]
[{"$f":"IF(F308<>\"\",事業者基本情報!$E$9&事業者基本情報!$F$9&事業者基本情報!$G$9,\"\")","v":""},{"$f":"IF(F308<>\"\",事業者基本情報!$Y$10,\"\")","v":""},{"$f":"IF(F308<>\"\",事業者基本情報!$Y$7,\"\")","v":""},{"$f":"IF(F308<>\"\",事業者基本情報!$Y$8,\"\")","v":""},{"$f":"IF(F308<>\"\",事業者基本情報!$E$11&事業者基本情報!$F$11&事業者基本情報!$G$11&事業者基本情報!$H$11&事業者基本情報!$I$11,\"\")","v":""},null,null,null,"市",null,null,"-",null,"-",null,{"$f":"IFERROR(VLOOKUP(Q308,コード表!$B$3:$C$101,2,FALSE),\"\")","v":""},null,{"$f":"IFERROR(VLOOKUP(S308,コード表!$F$7:$G$141,2,FALSE),\"\")","v":""},null,null,"t",null,null,null,null,null,null,null,null,null,null,null,null,null,null,null,null,null,null,null,null,null,null,null,null,null,null,null,null,null,null,null,null,null,null,null,null,null,null,null,null,null,null,null,null,null,null,null,null,"","",{"$f":"IF(BS308=\"\",\"\",IF(COUNTIF(BS$4:BS308,BS308)=1,ROW(),\"\"))","v":""},{"$f":"IFERROR(INDEX(BS:BS,SMALL(BT:BT,ROW(A305))),\"\")","v":""},"","","",""]
[{"$f":"IF(F309<>\"\",事業者基本情報!$E$9&事業者基本情報!$F$9&事業者基本情報!$G$9,\"\")","v":""},{"$f":"IF(F309<>\"\",事業者基本情報!$Y$10,\"\")","v":""},{"$f":"IF(F309<>\"\",事業者基本情報!$Y$7,\"\")","v":""},{"$f":"IF(F309<>\"\",事業者基本情報!$Y$8,\"\")","v":""},{"$f":"IF(F309<>\"\",事業者基本情報!$E$11&事業者基本情報!$F$11&事業者基本情報!$G$11&事業者基本情報!$H$11&事業者基本情報!$I$11,\"\")","v":""},null,null,null,"市",null,null,"-",null,"-",null,{"$f":"IFERROR(VLOOKUP(Q309,コード表!$B$3:$C$101,2,FALSE),\"\")","v":""},null,{"$f":"IFERROR(VLOOKUP(S309,コード表!$F$7:$G$141,2,FALSE),\"\")","v":""},null,null,"t",null,null,null,null,null,null,null,null,null,null,null,null,null,null,null,null,null,null,null,null,null,null,null,null,null,null,null,null,null,null,null,null,null,null,null,null,null,null,null,null,null,null,null,null,null,null,null,null,"","",{"$f":"IF(BS309=\"\",\"\",IF(COUNTIF(BS$4:BS309,BS309)=1,ROW(),\"\"))","v":""},{"$f":"IFERROR(INDEX(BS:BS,SMALL(BT:BT,ROW(A306))),\"\")","v":""},"","","",""]
[{"$f":"IF(F310<>\"\",事業者基本情報!$E$9&事業者基本情報!$F$9&事業者基本情報!$G$9,\"\")","v":""},{"$f":"IF(F310<>\"\",事業者基本情報!$Y$10,\"\")","v":""},{"$f":"IF(F310<>\"\",事業者基本情報!$Y$7,\"\")","v":""},{"$f":"IF(F310<>\"\",事業者基本情報!$Y$8,\"\")","v":""},{"$f":"IF(F310<>\"\",事業者基本情報!$E$11&事業者基本情報!$F$11&事業者基本情報!$G$11&事業者基本情報!$H$11&事業者基本情報!$I$11,\"\")","v":""},null,null,null,"市",null,null,"-",null,"-",null,{"$f":"IFERROR(VLOOKUP(Q310,コード表!$B$3:$C$101,2,FALSE),\"\")","v":""},null,{"$f":"IFERROR(VLOOKUP(S310,コード表!$F$7:$G$141,2,FALSE),\"\")","v":""},null,null,"t",null,null,null,null,null,null,null,null,null,null,null,null,null,null,null,null,null,null,null,null,null,null,null,null,null,null,null,null,null,null,null,null,null,null,null,null,null,null,null,null,null,null,null,null,null,null,null,null,"","",{"$f":"IF(BS310=\"\",\"\",IF(COUNTIF(BS$4:BS310,BS310)=1,ROW(),\"\"))","v":""},{"$f":"IFERROR(INDEX(BS:BS,SMALL(BT:BT,ROW(A307))),\"\")","v":""},"","","",""]
[{"$f":"IF(F311<>\"\",事業者基本情報!$E$9&事業者基本情報!$F$9&事業者基本情報!$G$9,\"\")","v":""},{"$f":"IF(F311<>\"\",事業者基本情報!$Y$10,\"\")","v":""},{"$f":"IF(F311<>\"\",事業者基本情報!$Y$7,\"\")","v":""},{"$f":"IF(F311<>\"\",事業者基本情報!$Y$8,\"\")","v":""},{"$f":"IF(F311<>\"\",事業者基本情報!$E$11&事業者基本情報!$F$11&事業者基本情報!$G$11&事業者基本情報!$H$11&事業者基本情報!$I$11,\"\")","v":""},null,null,null,"市",null,null,"-",null,"-",null,{"$f":"IFERROR(VLOOKUP(Q311,コード表!$B$3:$C$101,2,FALSE),\"\")","v":""},null,{"$f":"IFERROR(VLOOKUP(S311,コード表!$F$7:$G$141,2,FALSE),\"\")","v":""},null,null,"t",null,null,null,null,null,null,null,null,null,null,null,null,null,null,null,null,null,null,null,null,null,null,null,null,null,null,null,null,null,null,null,null,null,null,null,null,null,null,null,null,null,null,null,null,null,null,null,null,"","",{"$f":"IF(BS311=\"\",\"\",IF(COUNTIF(BS$4:BS311,BS311)=1,ROW(),\"\"))","v":""},{"$f":"IFERROR(INDEX(BS:BS,SMALL(BT:BT,ROW(A308))),\"\")","v":""},"","","",""]
[{"$f":"IF(F312<>\"\",事業者基本情報!$E$9&事業者基本情報!$F$9&事業者基本情報!$G$9,\"\")","v":""},{"$f":"IF(F312<>\"\",事業者基本情報!$Y$10,\"\")","v":""},{"$f":"IF(F312<>\"\",事業者基本情報!$Y$7,\"\")","v":""},{"$f":"IF(F312<>\"\",事業者基本情報!$Y$8,\"\")","v":""},{"$f":"IF(F312<>\"\",事業者基本情報!$E$11&事業者基本情報!$F$11&事業者基本情報!$G$11&事業者基本情報!$H$11&事業者基本情報!$I$11,\"\")","v":""},null,null,null,"市",null,null,"-",null,"-",null,{"$f":"IFERROR(VLOOKUP(Q312,コード表!$B$3:$C$101,2,FALSE),\"\")","v":""},null,{"$f":"IFERROR(VLOOKUP(S312,コード表!$F$7:$G$141,2,FALSE),\"\")","v":""},null,null,"t",null,null,null,null,null,null,null,null,null,null,null,null,null,null,null,null,null,null,null,null,null,null,null,null,null,null,null,null,null,null,null,null,null,null,null,null,null,null,null,null,null,null,null,null,null,null,null,null,"","",{"$f":"IF(BS312=\"\",\"\",IF(COUNTIF(BS$4:BS312,BS312)=1,ROW(),\"\"))","v":""},{"$f":"IFERROR(INDEX(BS:BS,SMALL(BT:BT,ROW(A309))),\"\")","v":""},"","","",""]
[{"$f":"IF(F313<>\"\",事業者基本情報!$E$9&事業者基本情報!$F$9&事業者基本情報!$G$9,\"\")","v":""},{"$f":"IF(F313<>\"\",事業者基本情報!$Y$10,\"\")","v":""},{"$f":"IF(F313<>\"\",事業者基本情報!$Y$7,\"\")","v":""},{"$f":"IF(F313<>\"\",事業者基本情報!$Y$8,\"\")","v":""},{"$f":"IF(F313<>\"\",事業者基本情報!$E$11&事業者基本情報!$F$11&事業者基本情報!$G$11&事業者基本情報!$H$11&事業者基本情報!$I$11,\"\")","v":""},null,null,null,"市",null,null,"-",null,"-",null,{"$f":"IFERROR(VLOOKUP(Q313,コード表!$B$3:$C$101,2,FALSE),\"\")","v":""},null,{"$f":"IFERROR(VLOOKUP(S313,コード表!$F$7:$G$141,2,FALSE),\"\")","v":""},null,null,"t",null,null,null,null,null,null,null,null,null,null,null,null,null,null,null,null,null,null,null,null,null,null,null,null,null,null,null,null,null,null,null,null,null,null,null,null,null,null,null,null,null,null,null,null,null,null,null,null,"","",{"$f":"IF(BS313=\"\",\"\",IF(COUNTIF(BS$4:BS313,BS313)=1,ROW(),\"\"))","v":""},{"$f":"IFERROR(INDEX(BS:BS,SMALL(BT:BT,ROW(A310))),\"\")","v":""},"","","",""]
[{"$f":"IF(F314<>\"\",事業者基本情報!$E$9&事業者基本情報!$F$9&事業者基本情報!$G$9,\"\")","v":""},{"$f":"IF(F314<>\"\",事業者基本情報!$Y$10,\"\")","v":""},{"$f":"IF(F314<>\"\",事業者基本情報!$Y$7,\"\")","v":""},{"$f":"IF(F314<>\"\",事業者基本情報!$Y$8,\"\")","v":""},{"$f":"IF(F314<>\"\",事業者基本情報!$E$11&事業者基本情報!$F$11&事業者基本情報!$G$11&事業者基本情報!$H$11&事業者基本情報!$I$11,\"\")","v":""},null,null,null,"市",null,null,"-",null,"-",null,{"$f":"IFERROR(VLOOKUP(Q314,コード表!$B$3:$C$101,2,FALSE),\"\")","v":""},null,{"$f":"IFERROR(VLOOKUP(S314,コード表!$F$7:$G$141,2,FALSE),\"\")","v":""},null,null,"t",null,null,null,null,null,null,null,null,null,null,null,null,null,null,null,null,null,null,null,null,null,null,null,null,null,null,null,null,null,null,null,null,null,null,null,null,null,null,null,null,null,null,null,null,null,null,null,null,"","",{"$f":"IF(BS314=\"\",\"\",IF(COUNTIF(BS$4:BS314,BS314)=1,ROW(),\"\"))","v":""},{"$f":"IFERROR(INDEX(BS:BS,SMALL(BT:BT,ROW(A311))),\"\")","v":""},"","","",""]
[{"$f":"IF(F315<>\"\",事業者基本情報!$E$9&事業者基本情報!$F$9&事業者基本情報!$G$9,\"\")","v":""},{"$f":"IF(F315<>\"\",事業者基本情報!$Y$10,\"\")","v":""},{"$f":"IF(F315<>\"\",事業者基本情報!$Y$7,\"\")","v":""},{"$f":"IF(F315<>\"\",事業者基本情報!$Y$8,\"\")","v":""},{"$f":"IF(F315<>\"\",事業者基本情報!$E$11&事業者基本情報!$F$11&事業者基本情報!$G$11&事業者基本情報!$H$11&事業者基本情報!$I$11,\"\")","v":""},null,null,null,"市",null,null,"-",null,"-",null,{"$f":"IFERROR(VLOOKUP(Q315,コード表!$B$3:$C$101,2,FALSE),\"\")","v":""},null,{"$f":"IFERROR(VLOOKUP(S315,コード表!$F$7:$G$141,2,FALSE),\"\")","v":""},null,null,"t",null,null,null,null,null,null,null,null,null,null,null,null,null,null,null,null,null,null,null,null,null,null,null,null,null,null,null,null,null,null,null,null,null,null,null,null,null,null,null,null,null,null,null,null,null,null,null,null,"","",{"$f":"IF(BS315=\"\",\"\",IF(COUNTIF(BS$4:BS315,BS315)=1,ROW(),\"\"))","v":""},{"$f":"IFERROR(INDEX(BS:BS,SMALL(BT:BT,ROW(A312))),\"\")","v":""},"","","",""]
[{"$f":"IF(F316<>\"\",事業者基本情報!$E$9&事業者基本情報!$F$9&事業者基本情報!$G$9,\"\")","v":""},{"$f":"IF(F316<>\"\",事業者基本情報!$Y$10,\"\")","v":""},{"$f":"IF(F316<>\"\",事業者基本情報!$Y$7,\"\")","v":""},{"$f":"IF(F316<>\"\",事業者基本情報!$Y$8,\"\")","v":""},{"$f":"IF(F316<>\"\",事業者基本情報!$E$11&事業者基本情報!$F$11&事業者基本情報!$G$11&事業者基本情報!$H$11&事業者基本情報!$I$11,\"\")","v":""},null,null,null,"市",null,null,"-",null,"-",null,{"$f":"IFERROR(VLOOKUP(Q316,コード表!$B$3:$C$101,2,FALSE),\"\")","v":""},null,{"$f":"IFERROR(VLOOKUP(S316,コード表!$F$7:$G$141,2,FALSE),\"\")","v":""},null,null,"t",null,null,null,null,null,null,null,null,null,null,null,null,null,null,null,null,null,null,null,null,null,null,null,null,null,null,null,null,null,null,null,null,null,null,null,null,null,null,null,null,null,null,null,null,null,null,null,null,"","",{"$f":"IF(BS316=\"\",\"\",IF(COUNTIF(BS$4:BS316,BS316)=1,ROW(),\"\"))","v":""},{"$f":"IFERROR(INDEX(BS:BS,SMALL(BT:BT,ROW(A313))),\"\")","v":""},"","","",""]
[{"$f":"IF(F317<>\"\",事業者基本情報!$E$9&事業者基本情報!$F$9&事業者基本情報!$G$9,\"\")","v":""},{"$f":"IF(F317<>\"\",事業者基本情報!$Y$10,\"\")","v":""},{"$f":"IF(F317<>\"\",事業者基本情報!$Y$7,\"\")","v":""},{"$f":"IF(F317<>\"\",事業者基本情報!$Y$8,\"\")","v":""},{"$f":"IF(F317<>\"\",事業者基本情報!$E$11&事業者基本情報!$F$11&事業者基本情報!$G$11&事業者基本情報!$H$11&事業者基本情報!$I$11,\"\")","v":""},null,null,null,"市",null,null,"-",null,"-",null,{"$f":"IFERROR(VLOOKUP(Q317,コード表!$B$3:$C$101,2,FALSE),\"\")","v":""},null,{"$f":"IFERROR(VLOOKUP(S317,コード表!$F$7:$G$141,2,FALSE),\"\")","v":""},null,null,"t",null,null,null,null,null,null,null,null,null,null,null,null,null,null,null,null,null,null,null,null,null,null,null,null,null,null,null,null,null,null,null,null,null,null,null,null,null,null,null,null,null,null,null,null,null,null,null,null,"","",{"$f":"IF(BS317=\"\",\"\",IF(COUNTIF(BS$4:BS317,BS317)=1,ROW(),\"\"))","v":""},{"$f":"IFERROR(INDEX(BS:BS,SMALL(BT:BT,ROW(A314))),\"\")","v":""},"","","",""]
[{"$f":"IF(F318<>\"\",事業者基本情報!$E$9&事業者基本情報!$F$9&事業者基本情報!$G$9,\"\")","v":""},{"$f":"IF(F318<>\"\",事業者基本情報!$Y$10,\"\")","v":""},{"$f":"IF(F318<>\"\",事業者基本情報!$Y$7,\"\")","v":""},{"$f":"IF(F318<>\"\",事業者基本情報!$Y$8,\"\")","v":""},{"$f":"IF(F318<>\"\",事業者基本情報!$E$11&事業者基本情報!$F$11&事業者基本情報!$G$11&事業者基本情報!$H$11&事業者基本情報!$I$11,\"\")","v":""},null,null,null,"市",null,null,"-",null,"-",null,{"$f":"IFERROR(VLOOKUP(Q318,コード表!$B$3:$C$101,2,FALSE),\"\")","v":""},null,{"$f":"IFERROR(VLOOKUP(S318,コード表!$F$7:$G$141,2,FALSE),\"\")","v":""},null,null,"t",null,null,null,null,null,null,null,null,null,null,null,null,null,null,null,null,null,null,null,null,null,null,null,null,null,null,null,null,null,null,null,null,null,null,null,null,null,null,null,null,null,null,null,null,null,null,null,null,"","",{"$f":"IF(BS318=\"\",\"\",IF(COUNTIF(BS$4:BS318,BS318)=1,ROW(),\"\"))","v":""},{"$f":"IFERROR(INDEX(BS:BS,SMALL(BT:BT,ROW(A315))),\"\")","v":""},"","","",""]
[{"$f":"IF(F319<>\"\",事業者基本情報!$E$9&事業者基本情報!$F$9&事業者基本情報!$G$9,\"\")","v":""},{"$f":"IF(F319<>\"\",事業者基本情報!$Y$10,\"\")","v":""},{"$f":"IF(F319<>\"\",事業者基本情報!$Y$7,\"\")","v":""},{"$f":"IF(F319<>\"\",事業者基本情報!$Y$8,\"\")","v":""},{"$f":"IF(F319<>\"\",事業者基本情報!$E$11&事業者基本情報!$F$11&事業者基本情報!$G$11&事業者基本情報!$H$11&事業者基本情報!$I$11,\"\")","v":""},null,null,null,"市",null,null,"-",null,"-",null,{"$f":"IFERROR(VLOOKUP(Q319,コード表!$B$3:$C$101,2,FALSE),\"\")","v":""},null,{"$f":"IFERROR(VLOOKUP(S319,コード表!$F$7:$G$141,2,FALSE),\"\")","v":""},null,null,"t",null,null,null,null,null,null,null,null,null,null,null,null,null,null,null,null,null,null,null,null,null,null,null,null,null,null,null,null,null,null,null,null,null,null,null,null,null,null,null,null,null,null,null,null,null,null,null,null,"","",{"$f":"IF(BS319=\"\",\"\",IF(COUNTIF(BS$4:BS319,BS319)=1,ROW(),\"\"))","v":""},{"$f":"IFERROR(INDEX(BS:BS,SMALL(BT:BT,ROW(A316))),\"\")","v":""},"","","",""]
[{"$f":"IF(F320<>\"\",事業者基本情報!$E$9&事業者基本情報!$F$9&事業者基本情報!$G$9,\"\")","v":""},{"$f":"IF(F320<>\"\",事業者基本情報!$Y$10,\"\")","v":""},{"$f":"IF(F320<>\"\",事業者基本情報!$Y$7,\"\")","v":""},{"$f":"IF(F320<>\"\",事業者基本情報!$Y$8,\"\")","v":""},{"$f":"IF(F320<>\"\",事業者基本情報!$E$11&事業者基本情報!$F$11&事業者基本情報!$G$11&事業者基本情報!$H$11&事業者基本情報!$I$11,\"\")","v":""},null,null,null,"市",null,null,"-",null,"-",null,{"$f":"IFERROR(VLOOKUP(Q320,コード表!$B$3:$C$101,2,FALSE),\"\")","v":""},null,{"$f":"IFERROR(VLOOKUP(S320,コード表!$F$7:$G$141,2,FALSE),\"\")","v":""},null,null,"t",null,null,null,null,null,null,null,null,null,null,null,null,null,null,null,null,null,null,null,null,null,null,null,null,null,null,null,null,null,null,null,null,null,null,null,null,null,null,null,null,null,null,null,null,null,null,null,null,"","",{"$f":"IF(BS320=\"\",\"\",IF(COUNTIF(BS$4:BS320,BS320)=1,ROW(),\"\"))","v":""},{"$f":"IFERROR(INDEX(BS:BS,SMALL(BT:BT,ROW(A317))),\"\")","v":""},"","","",""]
[{"$f":"IF(F321<>\"\",事業者基本情報!$E$9&事業者基本情報!$F$9&事業者基本情報!$G$9,\"\")","v":""},{"$f":"IF(F321<>\"\",事業者基本情報!$Y$10,\"\")","v":""},{"$f":"IF(F321<>\"\",事業者基本情報!$Y$7,\"\")","v":""},{"$f":"IF(F321<>\"\",事業者基本情報!$Y$8,\"\")","v":""},{"$f":"IF(F321<>\"\",事業者基本情報!$E$11&事業者基本情報!$F$11&事業者基本情報!$G$11&事業者基本情報!$H$11&事業者基本情報!$I$11,\"\")","v":""},null,null,null,"市",null,null,"-",null,"-",null,{"$f":"IFERROR(VLOOKUP(Q321,コード表!$B$3:$C$101,2,FALSE),\"\")","v":""},null,{"$f":"IFERROR(VLOOKUP(S321,コード表!$F$7:$G$141,2,FALSE),\"\")","v":""},null,null,"t",null,null,null,null,null,null,null,null,null,null,null,null,null,null,null,null,null,null,null,null,null,null,null,null,null,null,null,null,null,null,null,null,null,null,null,null,null,null,null,null,null,null,null,null,null,null,null,null,"","",{"$f":"IF(BS321=\"\",\"\",IF(COUNTIF(BS$4:BS321,BS321)=1,ROW(),\"\"))","v":""},{"$f":"IFERROR(INDEX(BS:BS,SMALL(BT:BT,ROW(A318))),\"\")","v":""},"","","",""]
[{"$f":"IF(F322<>\"\",事業者基本情報!$E$9&事業者基本情報!$F$9&事業者基本情報!$G$9,\"\")","v":""},{"$f":"IF(F322<>\"\",事業者基本情報!$Y$10,\"\")","v":""},{"$f":"IF(F322<>\"\",事業者基本情報!$Y$7,\"\")","v":""},{"$f":"IF(F322<>\"\",事業者基本情報!$Y$8,\"\")","v":""},{"$f":"IF(F322<>\"\",事業者基本情報!$E$11&事業者基本情報!$F$11&事業者基本情報!$G$11&事業者基本情報!$H$11&事業者基本情報!$I$11,\"\")","v":""},null,null,null,"市",null,null,"-",null,"-",null,{"$f":"IFERROR(VLOOKUP(Q322,コード表!$B$3:$C$101,2,FALSE),\"\")","v":""},null,{"$f":"IFERROR(VLOOKUP(S322,コード表!$F$7:$G$141,2,FALSE),\"\")","v":""},null,null,"t",null,null,null,null,null,null,null,null,null,null,null,null,null,null,null,null,null,null,null,null,null,null,null,null,null,null,null,null,null,null,null,null,null,null,null,null,null,null,null,null,null,null,null,null,null,null,null,null,"","",{"$f":"IF(BS322=\"\",\"\",IF(COUNTIF(BS$4:BS322,BS322)=1,ROW(),\"\"))","v":""},{"$f":"IFERROR(INDEX(BS:BS,SMALL(BT:BT,ROW(A319))),\"\")","v":""},"","","",""]
[{"$f":"IF(F323<>\"\",事業者基本情報!$E$9&事業者基本情報!$F$9&事業者基本情報!$G$9,\"\")","v":""},{"$f":"IF(F323<>\"\",事業者基本情報!$Y$10,\"\")","v":""},{"$f":"IF(F323<>\"\",事業者基本情報!$Y$7,\"\")","v":""},{"$f":"IF(F323<>\"\",事業者基本情報!$Y$8,\"\")","v":""},{"$f":"IF(F323<>\"\",事業者基本情報!$E$11&事業者基本情報!$F$11&事業者基本情報!$G$11&事業者基本情報!$H$11&事業者基本情報!$I$11,\"\")","v":""},null,null,null,"市",null,null,"-",null,"-",null,{"$f":"IFERROR(VLOOKUP(Q323,コード表!$B$3:$C$101,2,FALSE),\"\")","v":""},null,{"$f":"IFERROR(VLOOKUP(S323,コード表!$F$7:$G$141,2,FALSE),\"\")","v":""},null,null,"t",null,null,null,null,null,null,null,null,null,null,null,null,null,null,null,null,null,null,null,null,null,null,null,null,null,null,null,null,null,null,null,null,null,null,null,null,null,null,null,null,null,null,null,null,null,null,null,null,"","",{"$f":"IF(BS323=\"\",\"\",IF(COUNTIF(BS$4:BS323,BS323)=1,ROW(),\"\"))","v":""},{"$f":"IFERROR(INDEX(BS:BS,SMALL(BT:BT,ROW(A320))),\"\")","v":""},"","","",""]
[{"$f":"IF(F324<>\"\",事業者基本情報!$E$9&事業者基本情報!$F$9&事業者基本情報!$G$9,\"\")","v":""},{"$f":"IF(F324<>\"\",事業者基本情報!$Y$10,\"\")","v":""},{"$f":"IF(F324<>\"\",事業者基本情報!$Y$7,\"\")","v":""},{"$f":"IF(F324<>\"\",事業者基本情報!$Y$8,\"\")","v":""},{"$f":"IF(F324<>\"\",事業者基本情報!$E$11&事業者基本情報!$F$11&事業者基本情報!$G$11&事業者基本情報!$H$11&事業者基本情報!$I$11,\"\")","v":""},null,null,null,"市",null,null,"-",null,"-",null,{"$f":"IFERROR(VLOOKUP(Q324,コード表!$B$3:$C$101,2,FALSE),\"\")","v":""},null,{"$f":"IFERROR(VLOOKUP(S324,コード表!$F$7:$G$141,2,FALSE),\"\")","v":""},null,null,"t",null,null,null,null,null,null,null,null,null,null,null,null,null,null,null,null,null,null,null,null,null,null,null,null,null,null,null,null,null,null,null,null,null,null,null,null,null,null,null,null,null,null,null,null,null,null,null,null,{"$f":"IFERROR(IF(TRIM(F324)=\"\",\"\",IF(AND(VALUE(TRIM(R324))>=100000,VALUE(TRIM(R324))<7000000),\"普通産廃\",IF(AND(VALUE(TRIM(R324))>=7000000,VALUE(TRIM(R324))<9000000),\"特別産廃\",\"\"))),\"\")","v":""},{"$f":"IF(BR324<>\"\",TRIM(F324)&\"(\"&BR324&\")\",\"\")","v":""},{"$f":"IF(BS324=\"\",\"\",IF(COUNTIF(BS$4:BS324,BS324)=1,ROW(),\"\"))","v":""},{"$f":"IFERROR(INDEX(BS:BS,SMALL(BT:BT,ROW(A321))),\"\")","v":""},{"$f":"IF(BU324=\"\",\"\",IF(SUMIF(BS:BS,BU324,T:T)=0,\"\",SUMIF(BS:BS,BU324,T:T)))","v":""},{"$f":"IF(AS324<>\"\",AS324,IF(AO324<>\"\",AO324,IF(AK324<>\"\",AK324,IF(AG324<>\"\",AG324,IF(Y324<>\"\",Y324,\"\")))))","v":""},"",{"$f":"IF(F324&G324&H324&J324&K324&M324&O324&Q324&S324&T324&V324&W324&X324&Y324&Z324&AA324&AB324&AC324&AD324&AE324&AF324&AG324&AH324&AI324&AJ324&AK324&AL324&AM324&AN324&AO324&AP324&AQ324&AR324&AS324&AT324=\"\",\"\",1)","v":""}]
[{"$f":"IF(F325<>\"\",事業者基本情報!$E$9&事業者基本情報!$F$9&事業者基本情報!$G$9,\"\")","v":""},{"$f":"IF(F325<>\"\",事業者基本情報!$Y$10,\"\")","v":""},{"$f":"IF(F325<>\"\",事業者基本情報!$Y$7,\"\")","v":""},{"$f":"IF(F325<>\"\",事業者基本情報!$Y$8,\"\")","v":""},{"$f":"IF(F325<>\"\",事業者基本情報!$E$11&事業者基本情報!$F$11&事業者基本情報!$G$11&事業者基本情報!$H$11&事業者基本情報!$I$11,\"\")","v":""},null,null,null,"市",null,null,"-",null,"-",null,{"$f":"IFERROR(VLOOKUP(Q325,コード表!$B$3:$C$101,2,FALSE),\"\")","v":""},null,{"$f":"IFERROR(VLOOKUP(S325,コード表!$F$7:$G$141,2,FALSE),\"\")","v":""},null,null,"t",null,null,null,null,null,null,null,null,null,null,null,null,null,null,null,null,null,null,null,null,null,null,null,null,null,null,null,null,null,null,null,null,null,null,null,null,null,null,null,null,null,null,null,null,null,null,null,null,"","",{"$f":"IF(BS325=\"\",\"\",IF(COUNTIF(BS$4:BS325,BS325)=1,ROW(),\"\"))","v":""},{"$f":"IFERROR(INDEX(BS:BS,SMALL(BT:BT,ROW(A322))),\"\")","v":""},"","","",""]
[{"$f":"IF(F326<>\"\",事業者基本情報!$E$9&事業者基本情報!$F$9&事業者基本情報!$G$9,\"\")","v":""},{"$f":"IF(F326<>\"\",事業者基本情報!$Y$10,\"\")","v":""},{"$f":"IF(F326<>\"\",事業者基本情報!$Y$7,\"\")","v":""},{"$f":"IF(F326<>\"\",事業者基本情報!$Y$8,\"\")","v":""},{"$f":"IF(F326<>\"\",事業者基本情報!$E$11&事業者基本情報!$F$11&事業者基本情報!$G$11&事業者基本情報!$H$11&事業者基本情報!$I$11,\"\")","v":""},null,null,null,"市",null,null,"-",null,"-",null,{"$f":"IFERROR(VLOOKUP(Q326,コード表!$B$3:$C$101,2,FALSE),\"\")","v":""},null,{"$f":"IFERROR(VLOOKUP(S326,コード表!$F$7:$G$141,2,FALSE),\"\")","v":""},null,null,"t",null,null,null,null,null,null,null,null,null,null,null,null,null,null,null,null,null,null,null,null,null,null,null,null,null,null,null,null,null,null,null,null,null,null,null,null,null,null,null,null,null,null,null,null,null,null,null,null,"","",{"$f":"IF(BS326=\"\",\"\",IF(COUNTIF(BS$4:BS326,BS326)=1,ROW(),\"\"))","v":""},{"$f":"IFERROR(INDEX(BS:BS,SMALL(BT:BT,ROW(A323))),\"\")","v":""},"","","",""]
[{"$f":"IF(F327<>\"\",事業者基本情報!$E$9&事業者基本情報!$F$9&事業者基本情報!$G$9,\"\")","v":""},{"$f":"IF(F327<>\"\",事業者基本情報!$Y$10,\"\")","v":""},{"$f":"IF(F327<>\"\",事業者基本情報!$Y$7,\"\")","v":""},{"$f":"IF(F327<>\"\",事業者基本情報!$Y$8,\"\")","v":""},{"$f":"IF(F327<>\"\",事業者基本情報!$E$11&事業者基本情報!$F$11&事業者基本情報!$G$11&事業者基本情報!$H$11&事業者基本情報!$I$11,\"\")","v":""},null,null,null,"市",null,null,"-",null,"-",null,{"$f":"IFERROR(VLOOKUP(Q327,コード表!$B$3:$C$101,2,FALSE),\"\")","v":""},null,{"$f":"IFERROR(VLOOKUP(S327,コード表!$F$7:$G$141,2,FALSE),\"\")","v":""},null,null,"t",null,null,null,null,null,null,null,null,null,null,null,null,null,null,null,null,null,null,null,null,null,null,null,null,null,null,null,null,null,null,null,null,null,null,null,null,null,null,null,null,null,null,null,null,null,null,null,null,"","",{"$f":"IF(BS327=\"\",\"\",IF(COUNTIF(BS$4:BS327,BS327)=1,ROW(),\"\"))","v":""},{"$f":"IFERROR(INDEX(BS:BS,SMALL(BT:BT,ROW(A324))),\"\")","v":""},"","","",""]
[{"$f":"IF(F328<>\"\",事業者基本情報!$E$9&事業者基本情報!$F$9&事業者基本情報!$G$9,\"\")","v":""},{"$f":"IF(F328<>\"\",事業者基本情報!$Y$10,\"\")","v":""},{"$f":"IF(F328<>\"\",事業者基本情報!$Y$7,\"\")","v":""},{"$f":"IF(F328<>\"\",事業者基本情報!$Y$8,\"\")","v":""},{"$f":"IF(F328<>\"\",事業者基本情報!$E$11&事業者基本情報!$F$11&事業者基本情報!$G$11&事業者基本情報!$H$11&事業者基本情報!$I$11,\"\")","v":""},null,null,null,"市",null,null,"-",null,"-",null,{"$f":"IFERROR(VLOOKUP(Q328,コード表!$B$3:$C$101,2,FALSE),\"\")","v":""},null,{"$f":"IFERROR(VLOOKUP(S328,コード表!$F$7:$G$141,2,FALSE),\"\")","v":""},null,null,"t",null,null,null,null,null,null,null,null,null,null,null,null,null,null,null,null,null,null,null,null,null,null,null,null,null,null,null,null,null,null,null,null,null,null,null,null,null,null,null,null,null,null,null,null,null,null,null,null,"","",{"$f":"IF(BS328=\"\",\"\",IF(COUNTIF(BS$4:BS328,BS328)=1,ROW(),\"\"))","v":""},{"$f":"IFERROR(INDEX(BS:BS,SMALL(BT:BT,ROW(A325))),\"\")","v":""},"","","",""]
[{"$f":"IF(F329<>\"\",事業者基本情報!$E$9&事業者基本情報!$F$9&事業者基本情報!$G$9,\"\")","v":""},{"$f":"IF(F329<>\"\",事業者基本情報!$Y$10,\"\")","v":""},{"$f":"IF(F329<>\"\",事業者基本情報!$Y$7,\"\")","v":""},{"$f":"IF(F329<>\"\",事業者基本情報!$Y$8,\"\")","v":""},{"$f":"IF(F329<>\"\",事業者基本情報!$E$11&事業者基本情報!$F$11&事業者基本情報!$G$11&事業者基本情報!$H$11&事業者基本情報!$I$11,\"\")","v":""},null,null,null,"市",null,null,"-",null,"-",null,{"$f":"IFERROR(VLOOKUP(Q329,コード表!$B$3:$C$101,2,FALSE),\"\")","v":""},null,{"$f":"IFERROR(VLOOKUP(S329,コード表!$F$7:$G$141,2,FALSE),\"\")","v":""},null,null,"t",null,null,null,null,null,null,null,null,null,null,null,null,null,null,null,null,null,null,null,null,null,null,null,null,null,null,null,null,null,null,null,null,null,null,null,null,null,null,null,null,null,null,null,null,null,null,null,null,"","",{"$f":"IF(BS329=\"\",\"\",IF(COUNTIF(BS$4:BS329,BS329)=1,ROW(),\"\"))","v":""},{"$f":"IFERROR(INDEX(BS:BS,SMALL(BT:BT,ROW(A326))),\"\")","v":""},"","","",""]
[{"$f":"IF(F330<>\"\",事業者基本情報!$E$9&事業者基本情報!$F$9&事業者基本情報!$G$9,\"\")","v":""},{"$f":"IF(F330<>\"\",事業者基本情報!$Y$10,\"\")","v":""},{"$f":"IF(F330<>\"\",事業者基本情報!$Y$7,\"\")","v":""},{"$f":"IF(F330<>\"\",事業者基本情報!$Y$8,\"\")","v":""},{"$f":"IF(F330<>\"\",事業者基本情報!$E$11&事業者基本情報!$F$11&事業者基本情報!$G$11&事業者基本情報!$H$11&事業者基本情報!$I$11,\"\")","v":""},null,null,null,"市",null,null,"-",null,"-",null,{"$f":"IFERROR(VLOOKUP(Q330,コード表!$B$3:$C$101,2,FALSE),\"\")","v":""},null,{"$f":"IFERROR(VLOOKUP(S330,コード表!$F$7:$G$141,2,FALSE),\"\")","v":""},null,null,"t",null,null,null,null,null,null,null,null,null,null,null,null,null,null,null,null,null,null,null,null,null,null,null,null,null,null,null,null,null,null,null,null,null,null,null,null,null,null,null,null,null,null,null,null,null,null,null,null,"","",{"$f":"IF(BS330=\"\",\"\",IF(COUNTIF(BS$4:BS330,BS330)=1,ROW(),\"\"))","v":""},{"$f":"IFERROR(INDEX(BS:BS,SMALL(BT:BT,ROW(A327))),\"\")","v":""},"","","",""]
[{"$f":"IF(F331<>\"\",事業者基本情報!$E$9&事業者基本情報!$F$9&事業者基本情報!$G$9,\"\")","v":""},{"$f":"IF(F331<>\"\",事業者基本情報!$Y$10,\"\")","v":""},{"$f":"IF(F331<>\"\",事業者基本情報!$Y$7,\"\")","v":""},{"$f":"IF(F331<>\"\",事業者基本情報!$Y$8,\"\")","v":""},{"$f":"IF(F331<>\"\",事業者基本情報!$E$11&事業者基本情報!$F$11&事業者基本情報!$G$11&事業者基本情報!$H$11&事業者基本情報!$I$11,\"\")","v":""},null,null,null,"市",null,null,"-",null,"-",null,{"$f":"IFERROR(VLOOKUP(Q331,コード表!$B$3:$C$101,2,FALSE),\"\")","v":""},null,{"$f":"IFERROR(VLOOKUP(S331,コード表!$F$7:$G$141,2,FALSE),\"\")","v":""},null,null,"t",null,null,null,null,null,null,null,null,null,null,null,null,null,null,null,null,null,null,null,null,null,null,null,null,null,null,null,null,null,null,null,null,null,null,null,null,null,null,null,null,null,null,null,null,null,null,null,null,"","",{"$f":"IF(BS331=\"\",\"\",IF(COUNTIF(BS$4:BS331,BS331)=1,ROW(),\"\"))","v":""},{"$f":"IFERROR(INDEX(BS:BS,SMALL(BT:BT,ROW(A328))),\"\")","v":""},"","","",""]
[{"$f":"IF(F332<>\"\",事業者基本情報!$E$9&事業者基本情報!$F$9&事業者基本情報!$G$9,\"\")","v":""},{"$f":"IF(F332<>\"\",事業者基本情報!$Y$10,\"\")","v":""},{"$f":"IF(F332<>\"\",事業者基本情報!$Y$7,\"\")","v":""},{"$f":"IF(F332<>\"\",事業者基本情報!$Y$8,\"\")","v":""},{"$f":"IF(F332<>\"\",事業者基本情報!$E$11&事業者基本情報!$F$11&事業者基本情報!$G$11&事業者基本情報!$H$11&事業者基本情報!$I$11,\"\")","v":""},null,null,null,"市",null,null,"-",null,"-",null,{"$f":"IFERROR(VLOOKUP(Q332,コード表!$B$3:$C$101,2,FALSE),\"\")","v":""},null,{"$f":"IFERROR(VLOOKUP(S332,コード表!$F$7:$G$141,2,FALSE),\"\")","v":""},null,null,"t",null,null,null,null,null,null,null,null,null,null,null,null,null,null,null,null,null,null,null,null,null,null,null,null,null,null,null,null,null,null,null,null,null,null,null,null,null,null,null,null,null,null,null,null,null,null,null,null,"","",{"$f":"IF(BS332=\"\",\"\",IF(COUNTIF(BS$4:BS332,BS332)=1,ROW(),\"\"))","v":""},{"$f":"IFERROR(INDEX(BS:BS,SMALL(BT:BT,ROW(A329))),\"\")","v":""},"","","",""]
[{"$f":"IF(F333<>\"\",事業者基本情報!$E$9&事業者基本情報!$F$9&事業者基本情報!$G$9,\"\")","v":""},{"$f":"IF(F333<>\"\",事業者基本情報!$Y$10,\"\")","v":""},{"$f":"IF(F333<>\"\",事業者基本情報!$Y$7,\"\")","v":""},{"$f":"IF(F333<>\"\",事業者基本情報!$Y$8,\"\")","v":""},{"$f":"IF(F333<>\"\",事業者基本情報!$E$11&事業者基本情報!$F$11&事業者基本情報!$G$11&事業者基本情報!$H$11&事業者基本情報!$I$11,\"\")","v":""},null,null,null,"市",null,null,"-",null,"-",null,{"$f":"IFERROR(VLOOKUP(Q333,コード表!$B$3:$C$101,2,FALSE),\"\")","v":""},null,{"$f":"IFERROR(VLOOKUP(S333,コード表!$F$7:$G$141,2,FALSE),\"\")","v":""},null,null,"t",null,null,null,null,null,null,null,null,null,null,null,null,null,null,null,null,null,null,null,null,null,null,null,null,null,null,null,null,null,null,null,null,null,null,null,null,null,null,null,null,null,null,null,null,null,null,null,null,"","",{"$f":"IF(BS333=\"\",\"\",IF(COUNTIF(BS$4:BS333,BS333)=1,ROW(),\"\"))","v":""},{"$f":"IFERROR(INDEX(BS:BS,SMALL(BT:BT,ROW(A330))),\"\")","v":""},"","","",""]
[{"$f":"IF(F334<>\"\",事業者基本情報!$E$9&事業者基本情報!$F$9&事業者基本情報!$G$9,\"\")","v":""},{"$f":"IF(F334<>\"\",事業者基本情報!$Y$10,\"\")","v":""},{"$f":"IF(F334<>\"\",事業者基本情報!$Y$7,\"\")","v":""},{"$f":"IF(F334<>\"\",事業者基本情報!$Y$8,\"\")","v":""},{"$f":"IF(F334<>\"\",事業者基本情報!$E$11&事業者基本情報!$F$11&事業者基本情報!$G$11&事業者基本情報!$H$11&事業者基本情報!$I$11,\"\")","v":""},null,null,null,"市",null,null,"-",null,"-",null,{"$f":"IFERROR(VLOOKUP(Q334,コード表!$B$3:$C$101,2,FALSE),\"\")","v":""},null,{"$f":"IFERROR(VLOOKUP(S334,コード表!$F$7:$G$141,2,FALSE),\"\")","v":""},null,null,"t",null,null,null,null,null,null,null,null,null,null,null,null,null,null,null,null,null,null,null,null,null,null,null,null,null,null,null,null,null,null,null,null,null,null,null,null,null,null,null,null,null,null,null,null,null,null,null,null,"","",{"$f":"IF(BS334=\"\",\"\",IF(COUNTIF(BS$4:BS334,BS334)=1,ROW(),\"\"))","v":""},{"$f":"IFERROR(INDEX(BS:BS,SMALL(BT:BT,ROW(A331))),\"\")","v":""},"","","",""]
[{"$f":"IF(F335<>\"\",事業者基本情報!$E$9&事業者基本情報!$F$9&事業者基本情報!$G$9,\"\")","v":""},{"$f":"IF(F335<>\"\",事業者基本情報!$Y$10,\"\")","v":""},{"$f":"IF(F335<>\"\",事業者基本情報!$Y$7,\"\")","v":""},{"$f":"IF(F335<>\"\",事業者基本情報!$Y$8,\"\")","v":""},{"$f":"IF(F335<>\"\",事業者基本情報!$E$11&事業者基本情報!$F$11&事業者基本情報!$G$11&事業者基本情報!$H$11&事業者基本情報!$I$11,\"\")","v":""},null,null,null,"市",null,null,"-",null,"-",null,{"$f":"IFERROR(VLOOKUP(Q335,コード表!$B$3:$C$101,2,FALSE),\"\")","v":""},null,{"$f":"IFERROR(VLOOKUP(S335,コード表!$F$7:$G$141,2,FALSE),\"\")","v":""},null,null,"t",null,null,null,null,null,null,null,null,null,null,null,null,null,null,null,null,null,null,null,null,null,null,null,null,null,null,null,null,null,null,null,null,null,null,null,null,null,null,null,null,null,null,null,null,null,null,null,null,"","",{"$f":"IF(BS335=\"\",\"\",IF(COUNTIF(BS$4:BS335,BS335)=1,ROW(),\"\"))","v":""},{"$f":"IFERROR(INDEX(BS:BS,SMALL(BT:BT,ROW(A332))),\"\")","v":""},"","","",""]
[{"$f":"IF(F336<>\"\",事業者基本情報!$E$9&事業者基本情報!$F$9&事業者基本情報!$G$9,\"\")","v":""},{"$f":"IF(F336<>\"\",事業者基本情報!$Y$10,\"\")","v":""},{"$f":"IF(F336<>\"\",事業者基本情報!$Y$7,\"\")","v":""},{"$f":"IF(F336<>\"\",事業者基本情報!$Y$8,\"\")","v":""},{"$f":"IF(F336<>\"\",事業者基本情報!$E$11&事業者基本情報!$F$11&事業者基本情報!$G$11&事業者基本情報!$H$11&事業者基本情報!$I$11,\"\")","v":""},null,null,null,"市",null,null,"-",null,"-",null,{"$f":"IFERROR(VLOOKUP(Q336,コード表!$B$3:$C$101,2,FALSE),\"\")","v":""},null,{"$f":"IFERROR(VLOOKUP(S336,コード表!$F$7:$G$141,2,FALSE),\"\")","v":""},null,null,"t",null,null,null,null,null,null,null,null,null,null,null,null,null,null,null,null,null,null,null,null,null,null,null,null,null,null,null,null,null,null,null,null,null,null,null,null,null,null,null,null,null,null,null,null,null,null,null,null,"","",{"$f":"IF(BS336=\"\",\"\",IF(COUNTIF(BS$4:BS336,BS336)=1,ROW(),\"\"))","v":""},{"$f":"IFERROR(INDEX(BS:BS,SMALL(BT:BT,ROW(A333))),\"\")","v":""},"","","",""]
[{"$f":"IF(F337<>\"\",事業者基本情報!$E$9&事業者基本情報!$F$9&事業者基本情報!$G$9,\"\")","v":""},{"$f":"IF(F337<>\"\",事業者基本情報!$Y$10,\"\")","v":""},{"$f":"IF(F337<>\"\",事業者基本情報!$Y$7,\"\")","v":""},{"$f":"IF(F337<>\"\",事業者基本情報!$Y$8,\"\")","v":""},{"$f":"IF(F337<>\"\",事業者基本情報!$E$11&事業者基本情報!$F$11&事業者基本情報!$G$11&事業者基本情報!$H$11&事業者基本情報!$I$11,\"\")","v":""},null,null,null,"市",null,null,"-",null,"-",null,{"$f":"IFERROR(VLOOKUP(Q337,コード表!$B$3:$C$101,2,FALSE),\"\")","v":""},null,{"$f":"IFERROR(VLOOKUP(S337,コード表!$F$7:$G$141,2,FALSE),\"\")","v":""},null,null,"t",null,null,null,null,null,null,null,null,null,null,null,null,null,null,null,null,null,null,null,null,null,null,null,null,null,null,null,null,null,null,null,null,null,null,null,null,null,null,null,null,null,null,null,null,null,null,null,null,"","",{"$f":"IF(BS337=\"\",\"\",IF(COUNTIF(BS$4:BS337,BS337)=1,ROW(),\"\"))","v":""},{"$f":"IFERROR(INDEX(BS:BS,SMALL(BT:BT,ROW(A334))),\"\")","v":""},"","","",""]
[{"$f":"IF(F338<>\"\",事業者基本情報!$E$9&事業者基本情報!$F$9&事業者基本情報!$G$9,\"\")","v":""},{"$f":"IF(F338<>\"\",事業者基本情報!$Y$10,\"\")","v":""},{"$f":"IF(F338<>\"\",事業者基本情報!$Y$7,\"\")","v":""},{"$f":"IF(F338<>\"\",事業者基本情報!$Y$8,\"\")","v":""},{"$f":"IF(F338<>\"\",事業者基本情報!$E$11&事業者基本情報!$F$11&事業者基本情報!$G$11&事業者基本情報!$H$11&事業者基本情報!$I$11,\"\")","v":""},null,null,null,"市",null,null,"-",null,"-",null,{"$f":"IFERROR(VLOOKUP(Q338,コード表!$B$3:$C$101,2,FALSE),\"\")","v":""},null,{"$f":"IFERROR(VLOOKUP(S338,コード表!$F$7:$G$141,2,FALSE),\"\")","v":""},null,null,"t",null,null,null,null,null,null,null,null,null,null,null,null,null,null,null,null,null,null,null,null,null,null,null,null,null,null,null,null,null,null,null,null,null,null,null,null,null,null,null,null,null,null,null,null,null,null,null,null,"","",{"$f":"IF(BS338=\"\",\"\",IF(COUNTIF(BS$4:BS338,BS338)=1,ROW(),\"\"))","v":""},{"$f":"IFERROR(INDEX(BS:BS,SMALL(BT:BT,ROW(A335))),\"\")","v":""},"","","",""]
[{"$f":"IF(F339<>\"\",事業者基本情報!$E$9&事業者基本情報!$F$9&事業者基本情報!$G$9,\"\")","v":""},{"$f":"IF(F339<>\"\",事業者基本情報!$Y$10,\"\")","v":""},{"$f":"IF(F339<>\"\",事業者基本情報!$Y$7,\"\")","v":""},{"$f":"IF(F339<>\"\",事業者基本情報!$Y$8,\"\")","v":""},{"$f":"IF(F339<>\"\",事業者基本情報!$E$11&事業者基本情報!$F$11&事業者基本情報!$G$11&事業者基本情報!$H$11&事業者基本情報!$I$11,\"\")","v":""},null,null,null,"市",null,null,"-",null,"-",null,{"$f":"IFERROR(VLOOKUP(Q339,コード表!$B$3:$C$101,2,FALSE),\"\")","v":""},null,{"$f":"IFERROR(VLOOKUP(S339,コード表!$F$7:$G$141,2,FALSE),\"\")","v":""},null,null,"t",null,null,null,null,null,null,null,null,null,null,null,null,null,null,null,null,null,null,null,null,null,null,null,null,null,null,null,null,null,null,null,null,null,null,null,null,null,null,null,null,null,null,null,null,null,null,null,null,"","",{"$f":"IF(BS339=\"\",\"\",IF(COUNTIF(BS$4:BS339,BS339)=1,ROW(),\"\"))","v":""},{"$f":"IFERROR(INDEX(BS:BS,SMALL(BT:BT,ROW(A336))),\"\")","v":""},"","","",""]
[{"$f":"IF(F340<>\"\",事業者基本情報!$E$9&事業者基本情報!$F$9&事業者基本情報!$G$9,\"\")","v":""},{"$f":"IF(F340<>\"\",事業者基本情報!$Y$10,\"\")","v":""},{"$f":"IF(F340<>\"\",事業者基本情報!$Y$7,\"\")","v":""},{"$f":"IF(F340<>\"\",事業者基本情報!$Y$8,\"\")","v":""},{"$f":"IF(F340<>\"\",事業者基本情報!$E$11&事業者基本情報!$F$11&事業者基本情報!$G$11&事業者基本情報!$H$11&事業者基本情報!$I$11,\"\")","v":""},null,null,null,"市",null,null,"-",null,"-",null,{"$f":"IFERROR(VLOOKUP(Q340,コード表!$B$3:$C$101,2,FALSE),\"\")","v":""},null,{"$f":"IFERROR(VLOOKUP(S340,コード表!$F$7:$G$141,2,FALSE),\"\")","v":""},null,null,"t",null,null,null,null,null,null,null,null,null,null,null,null,null,null,null,null,null,null,null,null,null,null,null,null,null,null,null,null,null,null,null,null,null,null,null,null,null,null,null,null,null,null,null,null,null,null,null,null,"","",{"$f":"IF(BS340=\"\",\"\",IF(COUNTIF(BS$4:BS340,BS340)=1,ROW(),\"\"))","v":""},{"$f":"IFERROR(INDEX(BS:BS,SMALL(BT:BT,ROW(A337))),\"\")","v":""},"","","",""]
[{"$f":"IF(F341<>\"\",事業者基本情報!$E$9&事業者基本情報!$F$9&事業者基本情報!$G$9,\"\")","v":""},{"$f":"IF(F341<>\"\",事業者基本情報!$Y$10,\"\")","v":""},{"$f":"IF(F341<>\"\",事業者基本情報!$Y$7,\"\")","v":""},{"$f":"IF(F341<>\"\",事業者基本情報!$Y$8,\"\")","v":""},{"$f":"IF(F341<>\"\",事業者基本情報!$E$11&事業者基本情報!$F$11&事業者基本情報!$G$11&事業者基本情報!$H$11&事業者基本情報!$I$11,\"\")","v":""},null,null,null,"市",null,null,"-",null,"-",null,{"$f":"IFERROR(VLOOKUP(Q341,コード表!$B$3:$C$101,2,FALSE),\"\")","v":""},null,{"$f":"IFERROR(VLOOKUP(S341,コード表!$F$7:$G$141,2,FALSE),\"\")","v":""},null,null,"t",null,null,null,null,null,null,null,null,null,null,null,null,null,null,null,null,null,null,null,null,null,null,null,null,null,null,null,null,null,null,null,null,null,null,null,null,null,null,null,null,null,null,null,null,null,null,null,null,"","",{"$f":"IF(BS341=\"\",\"\",IF(COUNTIF(BS$4:BS341,BS341)=1,ROW(),\"\"))","v":""},{"$f":"IFERROR(INDEX(BS:BS,SMALL(BT:BT,ROW(A338))),\"\")","v":""},"","","",""]
[{"$f":"IF(F342<>\"\",事業者基本情報!$E$9&事業者基本情報!$F$9&事業者基本情報!$G$9,\"\")","v":""},{"$f":"IF(F342<>\"\",事業者基本情報!$Y$10,\"\")","v":""},{"$f":"IF(F342<>\"\",事業者基本情報!$Y$7,\"\")","v":""},{"$f":"IF(F342<>\"\",事業者基本情報!$Y$8,\"\")","v":""},{"$f":"IF(F342<>\"\",事業者基本情報!$E$11&事業者基本情報!$F$11&事業者基本情報!$G$11&事業者基本情報!$H$11&事業者基本情報!$I$11,\"\")","v":""},null,null,null,"市",null,null,"-",null,"-",null,{"$f":"IFERROR(VLOOKUP(Q342,コード表!$B$3:$C$101,2,FALSE),\"\")","v":""},null,{"$f":"IFERROR(VLOOKUP(S342,コード表!$F$7:$G$141,2,FALSE),\"\")","v":""},null,null,"t",null,null,null,null,null,null,null,null,null,null,null,null,null,null,null,null,null,null,null,null,null,null,null,null,null,null,null,null,null,null,null,null,null,null,null,null,null,null,null,null,null,null,null,null,null,null,null,null,"","",{"$f":"IF(BS342=\"\",\"\",IF(COUNTIF(BS$4:BS342,BS342)=1,ROW(),\"\"))","v":""},{"$f":"IFERROR(INDEX(BS:BS,SMALL(BT:BT,ROW(A339))),\"\")","v":""},"","","",""]
[{"$f":"IF(F343<>\"\",事業者基本情報!$E$9&事業者基本情報!$F$9&事業者基本情報!$G$9,\"\")","v":""},{"$f":"IF(F343<>\"\",事業者基本情報!$Y$10,\"\")","v":""},{"$f":"IF(F343<>\"\",事業者基本情報!$Y$7,\"\")","v":""},{"$f":"IF(F343<>\"\",事業者基本情報!$Y$8,\"\")","v":""},{"$f":"IF(F343<>\"\",事業者基本情報!$E$11&事業者基本情報!$F$11&事業者基本情報!$G$11&事業者基本情報!$H$11&事業者基本情報!$I$11,\"\")","v":""},null,null,null,"市",null,null,"-",null,"-",null,{"$f":"IFERROR(VLOOKUP(Q343,コード表!$B$3:$C$101,2,FALSE),\"\")","v":""},null,{"$f":"IFERROR(VLOOKUP(S343,コード表!$F$7:$G$141,2,FALSE),\"\")","v":""},null,null,"t",null,null,null,null,null,null,null,null,null,null,null,null,null,null,null,null,null,null,null,null,null,null,null,null,null,null,null,null,null,null,null,null,null,null,null,null,null,null,null,null,null,null,null,null,null,null,null,null,"","",{"$f":"IF(BS343=\"\",\"\",IF(COUNTIF(BS$4:BS343,BS343)=1,ROW(),\"\"))","v":""},{"$f":"IFERROR(INDEX(BS:BS,SMALL(BT:BT,ROW(A340))),\"\")","v":""},"","","",""]
[{"$f":"IF(F344<>\"\",事業者基本情報!$E$9&事業者基本情報!$F$9&事業者基本情報!$G$9,\"\")","v":""},{"$f":"IF(F344<>\"\",事業者基本情報!$Y$10,\"\")","v":""},{"$f":"IF(F344<>\"\",事業者基本情報!$Y$7,\"\")","v":""},{"$f":"IF(F344<>\"\",事業者基本情報!$Y$8,\"\")","v":""},{"$f":"IF(F344<>\"\",事業者基本情報!$E$11&事業者基本情報!$F$11&事業者基本情報!$G$11&事業者基本情報!$H$11&事業者基本情報!$I$11,\"\")","v":""},null,null,null,"市",null,null,"-",null,"-",null,{"$f":"IFERROR(VLOOKUP(Q344,コード表!$B$3:$C$101,2,FALSE),\"\")","v":""},null,{"$f":"IFERROR(VLOOKUP(S344,コード表!$F$7:$G$141,2,FALSE),\"\")","v":""},null,null,"t",null,null,null,null,null,null,null,null,null,null,null,null,null,null,null,null,null,null,null,null,null,null,null,null,null,null,null,null,null,null,null,null,null,null,null,null,null,null,null,null,null,null,null,null,null,null,null,null,"","",{"$f":"IF(BS344=\"\",\"\",IF(COUNTIF(BS$4:BS344,BS344)=1,ROW(),\"\"))","v":""},{"$f":"IFERROR(INDEX(BS:BS,SMALL(BT:BT,ROW(A341))),\"\")","v":""},"","","",""]
[{"$f":"IF(F345<>\"\",事業者基本情報!$E$9&事業者基本情報!$F$9&事業者基本情報!$G$9,\"\")","v":""},{"$f":"IF(F345<>\"\",事業者基本情報!$Y$10,\"\")","v":""},{"$f":"IF(F345<>\"\",事業者基本情報!$Y$7,\"\")","v":""},{"$f":"IF(F345<>\"\",事業者基本情報!$Y$8,\"\")","v":""},{"$f":"IF(F345<>\"\",事業者基本情報!$E$11&事業者基本情報!$F$11&事業者基本情報!$G$11&事業者基本情報!$H$11&事業者基本情報!$I$11,\"\")","v":""},null,null,null,"市",null,null,"-",null,"-",null,{"$f":"IFERROR(VLOOKUP(Q345,コード表!$B$3:$C$101,2,FALSE),\"\")","v":""},null,{"$f":"IFERROR(VLOOKUP(S345,コード表!$F$7:$G$141,2,FALSE),\"\")","v":""},null,null,"t",null,null,null,null,null,null,null,null,null,null,null,null,null,null,null,null,null,null,null,null,null,null,null,null,null,null,null,null,null,null,null,null,null,null,null,null,null,null,null,null,null,null,null,null,null,null,null,null,"","",{"$f":"IF(BS345=\"\",\"\",IF(COUNTIF(BS$4:BS345,BS345)=1,ROW(),\"\"))","v":""},{"$f":"IFERROR(INDEX(BS:BS,SMALL(BT:BT,ROW(A342))),\"\")","v":""},"","","",""]
[{"$f":"IF(F346<>\"\",事業者基本情報!$E$9&事業者基本情報!$F$9&事業者基本情報!$G$9,\"\")","v":""},{"$f":"IF(F346<>\"\",事業者基本情報!$Y$10,\"\")","v":""},{"$f":"IF(F346<>\"\",事業者基本情報!$Y$7,\"\")","v":""},{"$f":"IF(F346<>\"\",事業者基本情報!$Y$8,\"\")","v":""},{"$f":"IF(F346<>\"\",事業者基本情報!$E$11&事業者基本情報!$F$11&事業者基本情報!$G$11&事業者基本情報!$H$11&事業者基本情報!$I$11,\"\")","v":""},null,null,null,"市",null,null,"-",null,"-",null,{"$f":"IFERROR(VLOOKUP(Q346,コード表!$B$3:$C$101,2,FALSE),\"\")","v":""},null,{"$f":"IFERROR(VLOOKUP(S346,コード表!$F$7:$G$141,2,FALSE),\"\")","v":""},null,null,"t",null,null,null,null,null,null,null,null,null,null,null,null,null,null,null,null,null,null,null,null,null,null,null,null,null,null,null,null,null,null,null,null,null,null,null,null,null,null,null,null,null,null,null,null,null,null,null,null,"","",{"$f":"IF(BS346=\"\",\"\",IF(COUNTIF(BS$4:BS346,BS346)=1,ROW(),\"\"))","v":""},{"$f":"IFERROR(INDEX(BS:BS,SMALL(BT:BT,ROW(A343))),\"\")","v":""},"","","",""]
[{"$f":"IF(F347<>\"\",事業者基本情報!$E$9&事業者基本情報!$F$9&事業者基本情報!$G$9,\"\")","v":""},{"$f":"IF(F347<>\"\",事業者基本情報!$Y$10,\"\")","v":""},{"$f":"IF(F347<>\"\",事業者基本情報!$Y$7,\"\")","v":""},{"$f":"IF(F347<>\"\",事業者基本情報!$Y$8,\"\")","v":""},{"$f":"IF(F347<>\"\",事業者基本情報!$E$11&事業者基本情報!$F$11&事業者基本情報!$G$11&事業者基本情報!$H$11&事業者基本情報!$I$11,\"\")","v":""},null,null,null,"市",null,null,"-",null,"-",null,{"$f":"IFERROR(VLOOKUP(Q347,コード表!$B$3:$C$101,2,FALSE),\"\")","v":""},null,{"$f":"IFERROR(VLOOKUP(S347,コード表!$F$7:$G$141,2,FALSE),\"\")","v":""},null,null,"t",null,null,null,null,null,null,null,null,null,null,null,null,null,null,null,null,null,null,null,null,null,null,null,null,null,null,null,null,null,null,null,null,null,null,null,null,null,null,null,null,null,null,null,null,null,null,null,null,"","",{"$f":"IF(BS347=\"\",\"\",IF(COUNTIF(BS$4:BS347,BS347)=1,ROW(),\"\"))","v":""},{"$f":"IFERROR(INDEX(BS:BS,SMALL(BT:BT,ROW(A344))),\"\")","v":""},"","","",""]
[{"$f":"IF(F348<>\"\",事業者基本情報!$E$9&事業者基本情報!$F$9&事業者基本情報!$G$9,\"\")","v":""},{"$f":"IF(F348<>\"\",事業者基本情報!$Y$10,\"\")","v":""},{"$f":"IF(F348<>\"\",事業者基本情報!$Y$7,\"\")","v":""},{"$f":"IF(F348<>\"\",事業者基本情報!$Y$8,\"\")","v":""},{"$f":"IF(F348<>\"\",事業者基本情報!$E$11&事業者基本情報!$F$11&事業者基本情報!$G$11&事業者基本情報!$H$11&事業者基本情報!$I$11,\"\")","v":""},null,null,null,"市",null,null,"-",null,"-",null,{"$f":"IFERROR(VLOOKUP(Q348,コード表!$B$3:$C$101,2,FALSE),\"\")","v":""},null,{"$f":"IFERROR(VLOOKUP(S348,コード表!$F$7:$G$141,2,FALSE),\"\")","v":""},null,null,"t",null,null,null,null,null,null,null,null,null,null,null,null,null,null,null,null,null,null,null,null,null,null,null,null,null,null,null,null,null,null,null,null,null,null,null,null,null,null,null,null,null,null,null,null,null,null,null,null,"","",{"$f":"IF(BS348=\"\",\"\",IF(COUNTIF(BS$4:BS348,BS348)=1,ROW(),\"\"))","v":""},{"$f":"IFERROR(INDEX(BS:BS,SMALL(BT:BT,ROW(A345))),\"\")","v":""},"","","",""]
[{"$f":"IF(F349<>\"\",事業者基本情報!$E$9&事業者基本情報!$F$9&事業者基本情報!$G$9,\"\")","v":""},{"$f":"IF(F349<>\"\",事業者基本情報!$Y$10,\"\")","v":""},{"$f":"IF(F349<>\"\",事業者基本情報!$Y$7,\"\")","v":""},{"$f":"IF(F349<>\"\",事業者基本情報!$Y$8,\"\")","v":""},{"$f":"IF(F349<>\"\",事業者基本情報!$E$11&事業者基本情報!$F$11&事業者基本情報!$G$11&事業者基本情報!$H$11&事業者基本情報!$I$11,\"\")","v":""},null,null,null,"市",null,null,"-",null,"-",null,{"$f":"IFERROR(VLOOKUP(Q349,コード表!$B$3:$C$101,2,FALSE),\"\")","v":""},null,{"$f":"IFERROR(VLOOKUP(S349,コード表!$F$7:$G$141,2,FALSE),\"\")","v":""},null,null,"t",null,null,null,null,null,null,null,null,null,null,null,null,null,null,null,null,null,null,null,null,null,null,null,null,null,null,null,null,null,null,null,null,null,null,null,null,null,null,null,null,null,null,null,null,null,null,null,null,"","",{"$f":"IF(BS349=\"\",\"\",IF(COUNTIF(BS$4:BS349,BS349)=1,ROW(),\"\"))","v":""},{"$f":"IFERROR(INDEX(BS:BS,SMALL(BT:BT,ROW(A346))),\"\")","v":""},"","","",""]
[{"$f":"IF(F350<>\"\",事業者基本情報!$E$9&事業者基本情報!$F$9&事業者基本情報!$G$9,\"\")","v":""},{"$f":"IF(F350<>\"\",事業者基本情報!$Y$10,\"\")","v":""},{"$f":"IF(F350<>\"\",事業者基本情報!$Y$7,\"\")","v":""},{"$f":"IF(F350<>\"\",事業者基本情報!$Y$8,\"\")","v":""},{"$f":"IF(F350<>\"\",事業者基本情報!$E$11&事業者基本情報!$F$11&事業者基本情報!$G$11&事業者基本情報!$H$11&事業者基本情報!$I$11,\"\")","v":""},null,null,null,"市",null,null,"-",null,"-",null,{"$f":"IFERROR(VLOOKUP(Q350,コード表!$B$3:$C$101,2,FALSE),\"\")","v":""},null,{"$f":"IFERROR(VLOOKUP(S350,コード表!$F$7:$G$141,2,FALSE),\"\")","v":""},null,null,"t",null,null,null,null,null,null,null,null,null,null,null,null,null,null,null,null,null,null,null,null,null,null,null,null,null,null,null,null,null,null,null,null,null,null,null,null,null,null,null,null,null,null,null,null,null,null,null,null,"","",{"$f":"IF(BS350=\"\",\"\",IF(COUNTIF(BS$4:BS350,BS350)=1,ROW(),\"\"))","v":""},{"$f":"IFERROR(INDEX(BS:BS,SMALL(BT:BT,ROW(A347))),\"\")","v":""},"","","",""]
[{"$f":"IF(F351<>\"\",事業者基本情報!$E$9&事業者基本情報!$F$9&事業者基本情報!$G$9,\"\")","v":""},{"$f":"IF(F351<>\"\",事業者基本情報!$Y$10,\"\")","v":""},{"$f":"IF(F351<>\"\",事業者基本情報!$Y$7,\"\")","v":""},{"$f":"IF(F351<>\"\",事業者基本情報!$Y$8,\"\")","v":""},{"$f":"IF(F351<>\"\",事業者基本情報!$E$11&事業者基本情報!$F$11&事業者基本情報!$G$11&事業者基本情報!$H$11&事業者基本情報!$I$11,\"\")","v":""},null,null,null,"市",null,null,"-",null,"-",null,{"$f":"IFERROR(VLOOKUP(Q351,コード表!$B$3:$C$101,2,FALSE),\"\")","v":""},null,{"$f":"IFERROR(VLOOKUP(S351,コード表!$F$7:$G$141,2,FALSE),\"\")","v":""},null,null,"t",null,null,null,null,null,null,null,null,null,null,null,null,null,null,null,null,null,null,null,null,null,null,null,null,null,null,null,null,null,null,null,null,null,null,null,null,null,null,null,null,null,null,null,null,null,null,null,null,"","",{"$f":"IF(BS351=\"\",\"\",IF(COUNTIF(BS$4:BS351,BS351)=1,ROW(),\"\"))","v":""},{"$f":"IFERROR(INDEX(BS:BS,SMALL(BT:BT,ROW(A348))),\"\")","v":""},"","","",""]
[{"$f":"IF(F352<>\"\",事業者基本情報!$E$9&事業者基本情報!$F$9&事業者基本情報!$G$9,\"\")","v":""},{"$f":"IF(F352<>\"\",事業者基本情報!$Y$10,\"\")","v":""},{"$f":"IF(F352<>\"\",事業者基本情報!$Y$7,\"\")","v":""},{"$f":"IF(F352<>\"\",事業者基本情報!$Y$8,\"\")","v":""},{"$f":"IF(F352<>\"\",事業者基本情報!$E$11&事業者基本情報!$F$11&事業者基本情報!$G$11&事業者基本情報!$H$11&事業者基本情報!$I$11,\"\")","v":""},null,null,null,"市",null,null,"-",null,"-",null,{"$f":"IFERROR(VLOOKUP(Q352,コード表!$B$3:$C$101,2,FALSE),\"\")","v":""},null,{"$f":"IFERROR(VLOOKUP(S352,コード表!$F$7:$G$141,2,FALSE),\"\")","v":""},null,null,"t",null,null,null,null,null,null,null,null,null,null,null,null,null,null,null,null,null,null,null,null,null,null,null,null,null,null,null,null,null,null,null,null,null,null,null,null,null,null,null,null,null,null,null,null,null,null,null,null,"","",{"$f":"IF(BS352=\"\",\"\",IF(COUNTIF(BS$4:BS352,BS352)=1,ROW(),\"\"))","v":""},{"$f":"IFERROR(INDEX(BS:BS,SMALL(BT:BT,ROW(A349))),\"\")","v":""},"","","",""]
[{"$f":"IF(F353<>\"\",事業者基本情報!$E$9&事業者基本情報!$F$9&事業者基本情報!$G$9,\"\")","v":""},{"$f":"IF(F353<>\"\",事業者基本情報!$Y$10,\"\")","v":""},{"$f":"IF(F353<>\"\",事業者基本情報!$Y$7,\"\")","v":""},{"$f":"IF(F353<>\"\",事業者基本情報!$Y$8,\"\")","v":""},{"$f":"IF(F353<>\"\",事業者基本情報!$E$11&事業者基本情報!$F$11&事業者基本情報!$G$11&事業者基本情報!$H$11&事業者基本情報!$I$11,\"\")","v":""},null,null,null,"市",null,null,"-",null,"-",null,{"$f":"IFERROR(VLOOKUP(Q353,コード表!$B$3:$C$101,2,FALSE),\"\")","v":""},null,{"$f":"IFERROR(VLOOKUP(S353,コード表!$F$7:$G$141,2,FALSE),\"\")","v":""},null,null,"t",null,null,null,null,null,null,null,null,null,null,null,null,null,null,null,null,null,null,null,null,null,null,null,null,null,null,null,null,null,null,null,null,null,null,null,null,null,null,null,null,null,null,null,null,null,null,null,null,"","",{"$f":"IF(BS353=\"\",\"\",IF(COUNTIF(BS$4:BS353,BS353)=1,ROW(),\"\"))","v":""},{"$f":"IFERROR(INDEX(BS:BS,SMALL(BT:BT,ROW(A350))),\"\")","v":""},"","","",""]
[{"$f":"IF(F354<>\"\",事業者基本情報!$E$9&事業者基本情報!$F$9&事業者基本情報!$G$9,\"\")","v":""},{"$f":"IF(F354<>\"\",事業者基本情報!$Y$10,\"\")","v":""},{"$f":"IF(F354<>\"\",事業者基本情報!$Y$7,\"\")","v":""},{"$f":"IF(F354<>\"\",事業者基本情報!$Y$8,\"\")","v":""},{"$f":"IF(F354<>\"\",事業者基本情報!$E$11&事業者基本情報!$F$11&事業者基本情報!$G$11&事業者基本情報!$H$11&事業者基本情報!$I$11,\"\")","v":""},null,null,null,"市",null,null,"-",null,"-",null,{"$f":"IFERROR(VLOOKUP(Q354,コード表!$B$3:$C$101,2,FALSE),\"\")","v":""},null,{"$f":"IFERROR(VLOOKUP(S354,コード表!$F$7:$G$141,2,FALSE),\"\")","v":""},null,null,"t",null,null,null,null,null,null,null,null,null,null,null,null,null,null,null,null,null,null,null,null,null,null,null,null,null,null,null,null,null,null,null,null,null,null,null,null,null,null,null,null,null,null,null,null,null,null,null,null,"","",{"$f":"IF(BS354=\"\",\"\",IF(COUNTIF(BS$4:BS354,BS354)=1,ROW(),\"\"))","v":""},{"$f":"IFERROR(INDEX(BS:BS,SMALL(BT:BT,ROW(A351))),\"\")","v":""},"","","",""]
[{"$f":"IF(F355<>\"\",事業者基本情報!$E$9&事業者基本情報!$F$9&事業者基本情報!$G$9,\"\")","v":""},{"$f":"IF(F355<>\"\",事業者基本情報!$Y$10,\"\")","v":""},{"$f":"IF(F355<>\"\",事業者基本情報!$Y$7,\"\")","v":""},{"$f":"IF(F355<>\"\",事業者基本情報!$Y$8,\"\")","v":""},{"$f":"IF(F355<>\"\",事業者基本情報!$E$11&事業者基本情報!$F$11&事業者基本情報!$G$11&事業者基本情報!$H$11&事業者基本情報!$I$11,\"\")","v":""},null,null,null,"市",null,null,"-",null,"-",null,{"$f":"IFERROR(VLOOKUP(Q355,コード表!$B$3:$C$101,2,FALSE),\"\")","v":""},null,{"$f":"IFERROR(VLOOKUP(S355,コード表!$F$7:$G$141,2,FALSE),\"\")","v":""},null,null,"t",null,null,null,null,null,null,null,null,null,null,null,null,null,null,null,null,null,null,null,null,null,null,null,null,null,null,null,null,null,null,null,null,null,null,null,null,null,null,null,null,null,null,null,null,null,null,null,null,"","",{"$f":"IF(BS355=\"\",\"\",IF(COUNTIF(BS$4:BS355,BS355)=1,ROW(),\"\"))","v":""},{"$f":"IFERROR(INDEX(BS:BS,SMALL(BT:BT,ROW(A352))),\"\")","v":""},"","","",""]
[{"$f":"IF(F356<>\"\",事業者基本情報!$E$9&事業者基本情報!$F$9&事業者基本情報!$G$9,\"\")","v":""},{"$f":"IF(F356<>\"\",事業者基本情報!$Y$10,\"\")","v":""},{"$f":"IF(F356<>\"\",事業者基本情報!$Y$7,\"\")","v":""},{"$f":"IF(F356<>\"\",事業者基本情報!$Y$8,\"\")","v":""},{"$f":"IF(F356<>\"\",事業者基本情報!$E$11&事業者基本情報!$F$11&事業者基本情報!$G$11&事業者基本情報!$H$11&事業者基本情報!$I$11,\"\")","v":""},null,null,null,"市",null,null,"-",null,"-",null,{"$f":"IFERROR(VLOOKUP(Q356,コード表!$B$3:$C$101,2,FALSE),\"\")","v":""},null,{"$f":"IFERROR(VLOOKUP(S356,コード表!$F$7:$G$141,2,FALSE),\"\")","v":""},null,null,"t",null,null,null,null,null,null,null,null,null,null,null,null,null,null,null,null,null,null,null,null,null,null,null,null,null,null,null,null,null,null,null,null,null,null,null,null,null,null,null,null,null,null,null,null,null,null,null,null,"","",{"$f":"IF(BS356=\"\",\"\",IF(COUNTIF(BS$4:BS356,BS356)=1,ROW(),\"\"))","v":""},{"$f":"IFERROR(INDEX(BS:BS,SMALL(BT:BT,ROW(A353))),\"\")","v":""},"","","",""]
[{"$f":"IF(F357<>\"\",事業者基本情報!$E$9&事業者基本情報!$F$9&事業者基本情報!$G$9,\"\")","v":""},{"$f":"IF(F357<>\"\",事業者基本情報!$Y$10,\"\")","v":""},{"$f":"IF(F357<>\"\",事業者基本情報!$Y$7,\"\")","v":""},{"$f":"IF(F357<>\"\",事業者基本情報!$Y$8,\"\")","v":""},{"$f":"IF(F357<>\"\",事業者基本情報!$E$11&事業者基本情報!$F$11&事業者基本情報!$G$11&事業者基本情報!$H$11&事業者基本情報!$I$11,\"\")","v":""},null,null,null,"市",null,null,"-",null,"-",null,{"$f":"IFERROR(VLOOKUP(Q357,コード表!$B$3:$C$101,2,FALSE),\"\")","v":""},null,{"$f":"IFERROR(VLOOKUP(S357,コード表!$F$7:$G$141,2,FALSE),\"\")","v":""},null,null,"t",null,null,null,null,null,null,null,null,null,null,null,null,null,null,null,null,null,null,null,null,null,null,null,null,null,null,null,null,null,null,null,null,null,null,null,null,null,null,null,null,null,null,null,null,null,null,null,null,"","",{"$f":"IF(BS357=\"\",\"\",IF(COUNTIF(BS$4:BS357,BS357)=1,ROW(),\"\"))","v":""},{"$f":"IFERROR(INDEX(BS:BS,SMALL(BT:BT,ROW(A354))),\"\")","v":""},"","","",""]
[{"$f":"IF(F358<>\"\",事業者基本情報!$E$9&事業者基本情報!$F$9&事業者基本情報!$G$9,\"\")","v":""},{"$f":"IF(F358<>\"\",事業者基本情報!$Y$10,\"\")","v":""},{"$f":"IF(F358<>\"\",事業者基本情報!$Y$7,\"\")","v":""},{"$f":"IF(F358<>\"\",事業者基本情報!$Y$8,\"\")","v":""},{"$f":"IF(F358<>\"\",事業者基本情報!$E$11&事業者基本情報!$F$11&事業者基本情報!$G$11&事業者基本情報!$H$11&事業者基本情報!$I$11,\"\")","v":""},null,null,null,"市",null,null,"-",null,"-",null,{"$f":"IFERROR(VLOOKUP(Q358,コード表!$B$3:$C$101,2,FALSE),\"\")","v":""},null,{"$f":"IFERROR(VLOOKUP(S358,コード表!$F$7:$G$141,2,FALSE),\"\")","v":""},null,null,"t",null,null,null,null,null,null,null,null,null,null,null,null,null,null,null,null,null,null,null,null,null,null,null,null,null,null,null,null,null,null,null,null,null,null,null,null,null,null,null,null,null,null,null,null,null,null,null,null,"","",{"$f":"IF(BS358=\"\",\"\",IF(COUNTIF(BS$4:BS358,BS358)=1,ROW(),\"\"))","v":""},{"$f":"IFERROR(INDEX(BS:BS,SMALL(BT:BT,ROW(A355))),\"\")","v":""},"","","",""]
[{"$f":"IF(F359<>\"\",事業者基本情報!$E$9&事業者基本情報!$F$9&事業者基本情報!$G$9,\"\")","v":""},{"$f":"IF(F359<>\"\",事業者基本情報!$Y$10,\"\")","v":""},{"$f":"IF(F359<>\"\",事業者基本情報!$Y$7,\"\")","v":""},{"$f":"IF(F359<>\"\",事業者基本情報!$Y$8,\"\")","v":""},{"$f":"IF(F359<>\"\",事業者基本情報!$E$11&事業者基本情報!$F$11&事業者基本情報!$G$11&事業者基本情報!$H$11&事業者基本情報!$I$11,\"\")","v":""},null,null,null,"市",null,null,"-",null,"-",null,{"$f":"IFERROR(VLOOKUP(Q359,コード表!$B$3:$C$101,2,FALSE),\"\")","v":""},null,{"$f":"IFERROR(VLOOKUP(S359,コード表!$F$7:$G$141,2,FALSE),\"\")","v":""},null,null,"t",null,null,null,null,null,null,null,null,null,null,null,null,null,null,null,null,null,null,null,null,null,null,null,null,null,null,null,null,null,null,null,null,null,null,null,null,null,null,null,null,null,null,null,null,null,null,null,null,"","",{"$f":"IF(BS359=\"\",\"\",IF(COUNTIF(BS$4:BS359,BS359)=1,ROW(),\"\"))","v":""},{"$f":"IFERROR(INDEX(BS:BS,SMALL(BT:BT,ROW(A356))),\"\")","v":""},"","","",""]
[{"$f":"IF(F360<>\"\",事業者基本情報!$E$9&事業者基本情報!$F$9&事業者基本情報!$G$9,\"\")","v":""},{"$f":"IF(F360<>\"\",事業者基本情報!$Y$10,\"\")","v":""},{"$f":"IF(F360<>\"\",事業者基本情報!$Y$7,\"\")","v":""},{"$f":"IF(F360<>\"\",事業者基本情報!$Y$8,\"\")","v":""},{"$f":"IF(F360<>\"\",事業者基本情報!$E$11&事業者基本情報!$F$11&事業者基本情報!$G$11&事業者基本情報!$H$11&事業者基本情報!$I$11,\"\")","v":""},null,null,null,"市",null,null,"-",null,"-",null,{"$f":"IFERROR(VLOOKUP(Q360,コード表!$B$3:$C$101,2,FALSE),\"\")","v":""},null,{"$f":"IFERROR(VLOOKUP(S360,コード表!$F$7:$G$141,2,FALSE),\"\")","v":""},null,null,"t",null,null,null,null,null,null,null,null,null,null,null,null,null,null,null,null,null,null,null,null,null,null,null,null,null,null,null,null,null,null,null,null,null,null,null,null,null,null,null,null,null,null,null,null,null,null,null,null,"","",{"$f":"IF(BS360=\"\",\"\",IF(COUNTIF(BS$4:BS360,BS360)=1,ROW(),\"\"))","v":""},{"$f":"IFERROR(INDEX(BS:BS,SMALL(BT:BT,ROW(A357))),\"\")","v":""},"","","",""]
[{"$f":"IF(F361<>\"\",事業者基本情報!$E$9&事業者基本情報!$F$9&事業者基本情報!$G$9,\"\")","v":""},{"$f":"IF(F361<>\"\",事業者基本情報!$Y$10,\"\")","v":""},{"$f":"IF(F361<>\"\",事業者基本情報!$Y$7,\"\")","v":""},{"$f":"IF(F361<>\"\",事業者基本情報!$Y$8,\"\")","v":""},{"$f":"IF(F361<>\"\",事業者基本情報!$E$11&事業者基本情報!$F$11&事業者基本情報!$G$11&事業者基本情報!$H$11&事業者基本情報!$I$11,\"\")","v":""},null,null,null,"市",null,null,"-",null,"-",null,{"$f":"IFERROR(VLOOKUP(Q361,コード表!$B$3:$C$101,2,FALSE),\"\")","v":""},null,{"$f":"IFERROR(VLOOKUP(S361,コード表!$F$7:$G$141,2,FALSE),\"\")","v":""},null,null,"t",null,null,null,null,null,null,null,null,null,null,null,null,null,null,null,null,null,null,null,null,null,null,null,null,null,null,null,null,null,null,null,null,null,null,null,null,null,null,null,null,null,null,null,null,null,null,null,null,"","",{"$f":"IF(BS361=\"\",\"\",IF(COUNTIF(BS$4:BS361,BS361)=1,ROW(),\"\"))","v":""},{"$f":"IFERROR(INDEX(BS:BS,SMALL(BT:BT,ROW(A358))),\"\")","v":""},"","","",""]
[{"$f":"IF(F362<>\"\",事業者基本情報!$E$9&事業者基本情報!$F$9&事業者基本情報!$G$9,\"\")","v":""},{"$f":"IF(F362<>\"\",事業者基本情報!$Y$10,\"\")","v":""},{"$f":"IF(F362<>\"\",事業者基本情報!$Y$7,\"\")","v":""},{"$f":"IF(F362<>\"\",事業者基本情報!$Y$8,\"\")","v":""},{"$f":"IF(F362<>\"\",事業者基本情報!$E$11&事業者基本情報!$F$11&事業者基本情報!$G$11&事業者基本情報!$H$11&事業者基本情報!$I$11,\"\")","v":""},null,null,null,"市",null,null,"-",null,"-",null,{"$f":"IFERROR(VLOOKUP(Q362,コード表!$B$3:$C$101,2,FALSE),\"\")","v":""},null,{"$f":"IFERROR(VLOOKUP(S362,コード表!$F$7:$G$141,2,FALSE),\"\")","v":""},null,null,"t",null,null,null,null,null,null,null,null,null,null,null,null,null,null,null,null,null,null,null,null,null,null,null,null,null,null,null,null,null,null,null,null,null,null,null,null,null,null,null,null,null,null,null,null,null,null,null,null,"","",{"$f":"IF(BS362=\"\",\"\",IF(COUNTIF(BS$4:BS362,BS362)=1,ROW(),\"\"))","v":""},{"$f":"IFERROR(INDEX(BS:BS,SMALL(BT:BT,ROW(A359))),\"\")","v":""},"","","",""]
[{"$f":"IF(F363<>\"\",事業者基本情報!$E$9&事業者基本情報!$F$9&事業者基本情報!$G$9,\"\")","v":""},{"$f":"IF(F363<>\"\",事業者基本情報!$Y$10,\"\")","v":""},{"$f":"IF(F363<>\"\",事業者基本情報!$Y$7,\"\")","v":""},{"$f":"IF(F363<>\"\",事業者基本情報!$Y$8,\"\")","v":""},{"$f":"IF(F363<>\"\",事業者基本情報!$E$11&事業者基本情報!$F$11&事業者基本情報!$G$11&事業者基本情報!$H$11&事業者基本情報!$I$11,\"\")","v":""},null,null,null,"市",null,null,"-",null,"-",null,{"$f":"IFERROR(VLOOKUP(Q363,コード表!$B$3:$C$101,2,FALSE),\"\")","v":""},null,{"$f":"IFERROR(VLOOKUP(S363,コード表!$F$7:$G$141,2,FALSE),\"\")","v":""},null,null,"t",null,null,null,null,null,null,null,null,null,null,null,null,null,null,null,null,null,null,null,null,null,null,null,null,null,null,null,null,null,null,null,null,null,null,null,null,null,null,null,null,null,null,null,null,null,null,null,null,"","",{"$f":"IF(BS363=\"\",\"\",IF(COUNTIF(BS$4:BS363,BS363)=1,ROW(),\"\"))","v":""},{"$f":"IFERROR(INDEX(BS:BS,SMALL(BT:BT,ROW(A360))),\"\")","v":""},"","","",""]
[{"$f":"IF(F364<>\"\",事業者基本情報!$E$9&事業者基本情報!$F$9&事業者基本情報!$G$9,\"\")","v":""},{"$f":"IF(F364<>\"\",事業者基本情報!$Y$10,\"\")","v":""},{"$f":"IF(F364<>\"\",事業者基本情報!$Y$7,\"\")","v":""},{"$f":"IF(F364<>\"\",事業者基本情報!$Y$8,\"\")","v":""},{"$f":"IF(F364<>\"\",事業者基本情報!$E$11&事業者基本情報!$F$11&事業者基本情報!$G$11&事業者基本情報!$H$11&事業者基本情報!$I$11,\"\")","v":""},null,null,null,"市",null,null,"-",null,"-",null,{"$f":"IFERROR(VLOOKUP(Q364,コード表!$B$3:$C$101,2,FALSE),\"\")","v":""},null,{"$f":"IFERROR(VLOOKUP(S364,コード表!$F$7:$G$141,2,FALSE),\"\")","v":""},null,null,"t",null,null,null,null,null,null,null,null,null,null,null,null,null,null,null,null,null,null,null,null,null,null,null,null,null,null,null,null,null,null,null,null,null,null,null,null,null,null,null,null,null,null,null,null,null,null,null,null,"","",{"$f":"IF(BS364=\"\",\"\",IF(COUNTIF(BS$4:BS364,BS364)=1,ROW(),\"\"))","v":""},{"$f":"IFERROR(INDEX(BS:BS,SMALL(BT:BT,ROW(A361))),\"\")","v":""},"","","",""]
[{"$f":"IF(F365<>\"\",事業者基本情報!$E$9&事業者基本情報!$F$9&事業者基本情報!$G$9,\"\")","v":""},{"$f":"IF(F365<>\"\",事業者基本情報!$Y$10,\"\")","v":""},{"$f":"IF(F365<>\"\",事業者基本情報!$Y$7,\"\")","v":""},{"$f":"IF(F365<>\"\",事業者基本情報!$Y$8,\"\")","v":""},{"$f":"IF(F365<>\"\",事業者基本情報!$E$11&事業者基本情報!$F$11&事業者基本情報!$G$11&事業者基本情報!$H$11&事業者基本情報!$I$11,\"\")","v":""},null,null,null,"市",null,null,"-",null,"-",null,{"$f":"IFERROR(VLOOKUP(Q365,コード表!$B$3:$C$101,2,FALSE),\"\")","v":""},null,{"$f":"IFERROR(VLOOKUP(S365,コード表!$F$7:$G$141,2,FALSE),\"\")","v":""},null,null,"t",null,null,null,null,null,null,null,null,null,null,null,null,null,null,null,null,null,null,null,null,null,null,null,null,null,null,null,null,null,null,null,null,null,null,null,null,null,null,null,null,null,null,null,null,null,null,null,null,"","",{"$f":"IF(BS365=\"\",\"\",IF(COUNTIF(BS$4:BS365,BS365)=1,ROW(),\"\"))","v":""},{"$f":"IFERROR(INDEX(BS:BS,SMALL(BT:BT,ROW(A362))),\"\")","v":""},"","","",""]
[{"$f":"IF(F366<>\"\",事業者基本情報!$E$9&事業者基本情報!$F$9&事業者基本情報!$G$9,\"\")","v":""},{"$f":"IF(F366<>\"\",事業者基本情報!$Y$10,\"\")","v":""},{"$f":"IF(F366<>\"\",事業者基本情報!$Y$7,\"\")","v":""},{"$f":"IF(F366<>\"\",事業者基本情報!$Y$8,\"\")","v":""},{"$f":"IF(F366<>\"\",事業者基本情報!$E$11&事業者基本情報!$F$11&事業者基本情報!$G$11&事業者基本情報!$H$11&事業者基本情報!$I$11,\"\")","v":""},null,null,null,"市",null,null,"-",null,"-",null,{"$f":"IFERROR(VLOOKUP(Q366,コード表!$B$3:$C$101,2,FALSE),\"\")","v":""},null,{"$f":"IFERROR(VLOOKUP(S366,コード表!$F$7:$G$141,2,FALSE),\"\")","v":""},null,null,"t",null,null,null,null,null,null,null,null,null,null,null,null,null,null,null,null,null,null,null,null,null,null,null,null,null,null,null,null,null,null,null,null,null,null,null,null,null,null,null,null,null,null,null,null,null,null,null,null,"","",{"$f":"IF(BS366=\"\",\"\",IF(COUNTIF(BS$4:BS366,BS366)=1,ROW(),\"\"))","v":""},{"$f":"IFERROR(INDEX(BS:BS,SMALL(BT:BT,ROW(A363))),\"\")","v":""},"","","",""]
[{"$f":"IF(F367<>\"\",事業者基本情報!$E$9&事業者基本情報!$F$9&事業者基本情報!$G$9,\"\")","v":""},{"$f":"IF(F367<>\"\",事業者基本情報!$Y$10,\"\")","v":""},{"$f":"IF(F367<>\"\",事業者基本情報!$Y$7,\"\")","v":""},{"$f":"IF(F367<>\"\",事業者基本情報!$Y$8,\"\")","v":""},{"$f":"IF(F367<>\"\",事業者基本情報!$E$11&事業者基本情報!$F$11&事業者基本情報!$G$11&事業者基本情報!$H$11&事業者基本情報!$I$11,\"\")","v":""},null,null,null,"市",null,null,"-",null,"-",null,{"$f":"IFERROR(VLOOKUP(Q367,コード表!$B$3:$C$101,2,FALSE),\"\")","v":""},null,{"$f":"IFERROR(VLOOKUP(S367,コード表!$F$7:$G$141,2,FALSE),\"\")","v":""},null,null,"t",null,null,null,null,null,null,null,null,null,null,null,null,null,null,null,null,null,null,null,null,null,null,null,null,null,null,null,null,null,null,null,null,null,null,null,null,null,null,null,null,null,null,null,null,null,null,null,null,"","",{"$f":"IF(BS367=\"\",\"\",IF(COUNTIF(BS$4:BS367,BS367)=1,ROW(),\"\"))","v":""},{"$f":"IFERROR(INDEX(BS:BS,SMALL(BT:BT,ROW(A364))),\"\")","v":""},"","","",""]
[{"$f":"IF(F368<>\"\",事業者基本情報!$E$9&事業者基本情報!$F$9&事業者基本情報!$G$9,\"\")","v":""},{"$f":"IF(F368<>\"\",事業者基本情報!$Y$10,\"\")","v":""},{"$f":"IF(F368<>\"\",事業者基本情報!$Y$7,\"\")","v":""},{"$f":"IF(F368<>\"\",事業者基本情報!$Y$8,\"\")","v":""},{"$f":"IF(F368<>\"\",事業者基本情報!$E$11&事業者基本情報!$F$11&事業者基本情報!$G$11&事業者基本情報!$H$11&事業者基本情報!$I$11,\"\")","v":""},null,null,null,"市",null,null,"-",null,"-",null,{"$f":"IFERROR(VLOOKUP(Q368,コード表!$B$3:$C$101,2,FALSE),\"\")","v":""},null,{"$f":"IFERROR(VLOOKUP(S368,コード表!$F$7:$G$141,2,FALSE),\"\")","v":""},null,null,"t",null,null,null,null,null,null,null,null,null,null,null,null,null,null,null,null,null,null,null,null,null,null,null,null,null,null,null,null,null,null,null,null,null,null,null,null,null,null,null,null,null,null,null,null,null,null,null,null,"","",{"$f":"IF(BS368=\"\",\"\",IF(COUNTIF(BS$4:BS368,BS368)=1,ROW(),\"\"))","v":""},{"$f":"IFERROR(INDEX(BS:BS,SMALL(BT:BT,ROW(A365))),\"\")","v":""},"","","",""]
[{"$f":"IF(F369<>\"\",事業者基本情報!$E$9&事業者基本情報!$F$9&事業者基本情報!$G$9,\"\")","v":""},{"$f":"IF(F369<>\"\",事業者基本情報!$Y$10,\"\")","v":""},{"$f":"IF(F369<>\"\",事業者基本情報!$Y$7,\"\")","v":""},{"$f":"IF(F369<>\"\",事業者基本情報!$Y$8,\"\")","v":""},{"$f":"IF(F369<>\"\",事業者基本情報!$E$11&事業者基本情報!$F$11&事業者基本情報!$G$11&事業者基本情報!$H$11&事業者基本情報!$I$11,\"\")","v":""},null,null,null,"市",null,null,"-",null,"-",null,{"$f":"IFERROR(VLOOKUP(Q369,コード表!$B$3:$C$101,2,FALSE),\"\")","v":""},null,{"$f":"IFERROR(VLOOKUP(S369,コード表!$F$7:$G$141,2,FALSE),\"\")","v":""},null,null,"t",null,null,null,null,null,null,null,null,null,null,null,null,null,null,null,null,null,null,null,null,null,null,null,null,null,null,null,null,null,null,null,null,null,null,null,null,null,null,null,null,null,null,null,null,null,null,null,null,"","",{"$f":"IF(BS369=\"\",\"\",IF(COUNTIF(BS$4:BS369,BS369)=1,ROW(),\"\"))","v":""},{"$f":"IFERROR(INDEX(BS:BS,SMALL(BT:BT,ROW(A366))),\"\")","v":""},"","","",""]
[{"$f":"IF(F370<>\"\",事業者基本情報!$E$9&事業者基本情報!$F$9&事業者基本情報!$G$9,\"\")","v":""},{"$f":"IF(F370<>\"\",事業者基本情報!$Y$10,\"\")","v":""},{"$f":"IF(F370<>\"\",事業者基本情報!$Y$7,\"\")","v":""},{"$f":"IF(F370<>\"\",事業者基本情報!$Y$8,\"\")","v":""},{"$f":"IF(F370<>\"\",事業者基本情報!$E$11&事業者基本情報!$F$11&事業者基本情報!$G$11&事業者基本情報!$H$11&事業者基本情報!$I$11,\"\")","v":""},null,null,null,"市",null,null,"-",null,"-",null,{"$f":"IFERROR(VLOOKUP(Q370,コード表!$B$3:$C$101,2,FALSE),\"\")","v":""},null,{"$f":"IFERROR(VLOOKUP(S370,コード表!$F$7:$G$141,2,FALSE),\"\")","v":""},null,null,"t",null,null,null,null,null,null,null,null,null,null,null,null,null,null,null,null,null,null,null,null,null,null,null,null,null,null,null,null,null,null,null,null,null,null,null,null,null,null,null,null,null,null,null,null,null,null,null,null,"","",{"$f":"IF(BS370=\"\",\"\",IF(COUNTIF(BS$4:BS370,BS370)=1,ROW(),\"\"))","v":""},{"$f":"IFERROR(INDEX(BS:BS,SMALL(BT:BT,ROW(A367))),\"\")","v":""},"","","",""]
[{"$f":"IF(F371<>\"\",事業者基本情報!$E$9&事業者基本情報!$F$9&事業者基本情報!$G$9,\"\")","v":""},{"$f":"IF(F371<>\"\",事業者基本情報!$Y$10,\"\")","v":""},{"$f":"IF(F371<>\"\",事業者基本情報!$Y$7,\"\")","v":""},{"$f":"IF(F371<>\"\",事業者基本情報!$Y$8,\"\")","v":""},{"$f":"IF(F371<>\"\",事業者基本情報!$E$11&事業者基本情報!$F$11&事業者基本情報!$G$11&事業者基本情報!$H$11&事業者基本情報!$I$11,\"\")","v":""},null,null,null,"市",null,null,"-",null,"-",null,{"$f":"IFERROR(VLOOKUP(Q371,コード表!$B$3:$C$101,2,FALSE),\"\")","v":""},null,{"$f":"IFERROR(VLOOKUP(S371,コード表!$F$7:$G$141,2,FALSE),\"\")","v":""},null,null,"t",null,null,null,null,null,null,null,null,null,null,null,null,null,null,null,null,null,null,null,null,null,null,null,null,null,null,null,null,null,null,null,null,null,null,null,null,null,null,null,null,null,null,null,null,null,null,null,null,"","",{"$f":"IF(BS371=\"\",\"\",IF(COUNTIF(BS$4:BS371,BS371)=1,ROW(),\"\"))","v":""},{"$f":"IFERROR(INDEX(BS:BS,SMALL(BT:BT,ROW(A368))),\"\")","v":""},"","","",""]
[{"$f":"IF(F372<>\"\",事業者基本情報!$E$9&事業者基本情報!$F$9&事業者基本情報!$G$9,\"\")","v":""},{"$f":"IF(F372<>\"\",事業者基本情報!$Y$10,\"\")","v":""},{"$f":"IF(F372<>\"\",事業者基本情報!$Y$7,\"\")","v":""},{"$f":"IF(F372<>\"\",事業者基本情報!$Y$8,\"\")","v":""},{"$f":"IF(F372<>\"\",事業者基本情報!$E$11&事業者基本情報!$F$11&事業者基本情報!$G$11&事業者基本情報!$H$11&事業者基本情報!$I$11,\"\")","v":""},null,null,null,"市",null,null,"-",null,"-",null,{"$f":"IFERROR(VLOOKUP(Q372,コード表!$B$3:$C$101,2,FALSE),\"\")","v":""},null,{"$f":"IFERROR(VLOOKUP(S372,コード表!$F$7:$G$141,2,FALSE),\"\")","v":""},null,null,"t",null,null,null,null,null,null,null,null,null,null,null,null,null,null,null,null,null,null,null,null,null,null,null,null,null,null,null,null,null,null,null,null,null,null,null,null,null,null,null,null,null,null,null,null,null,null,null,null,"","",{"$f":"IF(BS372=\"\",\"\",IF(COUNTIF(BS$4:BS372,BS372)=1,ROW(),\"\"))","v":""},{"$f":"IFERROR(INDEX(BS:BS,SMALL(BT:BT,ROW(A369))),\"\")","v":""},"","","",""]
[{"$f":"IF(F373<>\"\",事業者基本情報!$E$9&事業者基本情報!$F$9&事業者基本情報!$G$9,\"\")","v":""},{"$f":"IF(F373<>\"\",事業者基本情報!$Y$10,\"\")","v":""},{"$f":"IF(F373<>\"\",事業者基本情報!$Y$7,\"\")","v":""},{"$f":"IF(F373<>\"\",事業者基本情報!$Y$8,\"\")","v":""},{"$f":"IF(F373<>\"\",事業者基本情報!$E$11&事業者基本情報!$F$11&事業者基本情報!$G$11&事業者基本情報!$H$11&事業者基本情報!$I$11,\"\")","v":""},null,null,null,"市",null,null,"-",null,"-",null,{"$f":"IFERROR(VLOOKUP(Q373,コード表!$B$3:$C$101,2,FALSE),\"\")","v":""},null,{"$f":"IFERROR(VLOOKUP(S373,コード表!$F$7:$G$141,2,FALSE),\"\")","v":""},null,null,"t",null,null,null,null,null,null,null,null,null,null,null,null,null,null,null,null,null,null,null,null,null,null,null,null,null,null,null,null,null,null,null,null,null,null,null,null,null,null,null,null,null,null,null,null,null,null,null,null,"","",{"$f":"IF(BS373=\"\",\"\",IF(COUNTIF(BS$4:BS373,BS373)=1,ROW(),\"\"))","v":""},{"$f":"IFERROR(INDEX(BS:BS,SMALL(BT:BT,ROW(A370))),\"\")","v":""},"","","",""]
[{"$f":"IF(F374<>\"\",事業者基本情報!$E$9&事業者基本情報!$F$9&事業者基本情報!$G$9,\"\")","v":""},{"$f":"IF(F374<>\"\",事業者基本情報!$Y$10,\"\")","v":""},{"$f":"IF(F374<>\"\",事業者基本情報!$Y$7,\"\")","v":""},{"$f":"IF(F374<>\"\",事業者基本情報!$Y$8,\"\")","v":""},{"$f":"IF(F374<>\"\",事業者基本情報!$E$11&事業者基本情報!$F$11&事業者基本情報!$G$11&事業者基本情報!$H$11&事業者基本情報!$I$11,\"\")","v":""},null,null,null,"市",null,null,"-",null,"-",null,{"$f":"IFERROR(VLOOKUP(Q374,コード表!$B$3:$C$101,2,FALSE),\"\")","v":""},null,{"$f":"IFERROR(VLOOKUP(S374,コード表!$F$7:$G$141,2,FALSE),\"\")","v":""},null,null,"t",null,null,null,null,null,null,null,null,null,null,null,null,null,null,null,null,null,null,null,null,null,null,null,null,null,null,null,null,null,null,null,null,null,null,null,null,null,null,null,null,null,null,null,null,null,null,null,null,"","",{"$f":"IF(BS374=\"\",\"\",IF(COUNTIF(BS$4:BS374,BS374)=1,ROW(),\"\"))","v":""},{"$f":"IFERROR(INDEX(BS:BS,SMALL(BT:BT,ROW(A371))),\"\")","v":""},"","","",""]
[{"$f":"IF(F375<>\"\",事業者基本情報!$E$9&事業者基本情報!$F$9&事業者基本情報!$G$9,\"\")","v":""},{"$f":"IF(F375<>\"\",事業者基本情報!$Y$10,\"\")","v":""},{"$f":"IF(F375<>\"\",事業者基本情報!$Y$7,\"\")","v":""},{"$f":"IF(F375<>\"\",事業者基本情報!$Y$8,\"\")","v":""},{"$f":"IF(F375<>\"\",事業者基本情報!$E$11&事業者基本情報!$F$11&事業者基本情報!$G$11&事業者基本情報!$H$11&事業者基本情報!$I$11,\"\")","v":""},null,null,null,"市",null,null,"-",null,"-",null,{"$f":"IFERROR(VLOOKUP(Q375,コード表!$B$3:$C$101,2,FALSE),\"\")","v":""},null,{"$f":"IFERROR(VLOOKUP(S375,コード表!$F$7:$G$141,2,FALSE),\"\")","v":""},null,null,"t",null,null,null,null,null,null,null,null,null,null,null,null,null,null,null,null,null,null,null,null,null,null,null,null,null,null,null,null,null,null,null,null,null,null,null,null,null,null,null,null,null,null,null,null,null,null,null,null,"","",{"$f":"IF(BS375=\"\",\"\",IF(COUNTIF(BS$4:BS375,BS375)=1,ROW(),\"\"))","v":""},{"$f":"IFERROR(INDEX(BS:BS,SMALL(BT:BT,ROW(A372))),\"\")","v":""},"","","",""]
[{"$f":"IF(F376<>\"\",事業者基本情報!$E$9&事業者基本情報!$F$9&事業者基本情報!$G$9,\"\")","v":""},{"$f":"IF(F376<>\"\",事業者基本情報!$Y$10,\"\")","v":""},{"$f":"IF(F376<>\"\",事業者基本情報!$Y$7,\"\")","v":""},{"$f":"IF(F376<>\"\",事業者基本情報!$Y$8,\"\")","v":""},{"$f":"IF(F376<>\"\",事業者基本情報!$E$11&事業者基本情報!$F$11&事業者基本情報!$G$11&事業者基本情報!$H$11&事業者基本情報!$I$11,\"\")","v":""},null,null,null,"市",null,null,"-",null,"-",null,{"$f":"IFERROR(VLOOKUP(Q376,コード表!$B$3:$C$101,2,FALSE),\"\")","v":""},null,{"$f":"IFERROR(VLOOKUP(S376,コード表!$F$7:$G$141,2,FALSE),\"\")","v":""},null,null,"t",null,null,null,null,null,null,null,null,null,null,null,null,null,null,null,null,null,null,null,null,null,null,null,null,null,null,null,null,null,null,null,null,null,null,null,null,null,null,null,null,null,null,null,null,null,null,null,null,"","",{"$f":"IF(BS376=\"\",\"\",IF(COUNTIF(BS$4:BS376,BS376)=1,ROW(),\"\"))","v":""},{"$f":"IFERROR(INDEX(BS:BS,SMALL(BT:BT,ROW(A373))),\"\")","v":""},"","","",""]
[{"$f":"IF(F377<>\"\",事業者基本情報!$E$9&事業者基本情報!$F$9&事業者基本情報!$G$9,\"\")","v":""},{"$f":"IF(F377<>\"\",事業者基本情報!$Y$10,\"\")","v":""},{"$f":"IF(F377<>\"\",事業者基本情報!$Y$7,\"\")","v":""},{"$f":"IF(F377<>\"\",事業者基本情報!$Y$8,\"\")","v":""},{"$f":"IF(F377<>\"\",事業者基本情報!$E$11&事業者基本情報!$F$11&事業者基本情報!$G$11&事業者基本情報!$H$11&事業者基本情報!$I$11,\"\")","v":""},null,null,null,"市",null,null,"-",null,"-",null,{"$f":"IFERROR(VLOOKUP(Q377,コード表!$B$3:$C$101,2,FALSE),\"\")","v":""},null,{"$f":"IFERROR(VLOOKUP(S377,コード表!$F$7:$G$141,2,FALSE),\"\")","v":""},null,null,"t",null,null,null,null,null,null,null,null,null,null,null,null,null,null,null,null,null,null,null,null,null,null,null,null,null,null,null,null,null,null,null,null,null,null,null,null,null,null,null,null,null,null,null,null,null,null,null,null,"","",{"$f":"IF(BS377=\"\",\"\",IF(COUNTIF(BS$4:BS377,BS377)=1,ROW(),\"\"))","v":""},{"$f":"IFERROR(INDEX(BS:BS,SMALL(BT:BT,ROW(A374))),\"\")","v":""},"","","",""]
[{"$f":"IF(F378<>\"\",事業者基本情報!$E$9&事業者基本情報!$F$9&事業者基本情報!$G$9,\"\")","v":""},{"$f":"IF(F378<>\"\",事業者基本情報!$Y$10,\"\")","v":""},{"$f":"IF(F378<>\"\",事業者基本情報!$Y$7,\"\")","v":""},{"$f":"IF(F378<>\"\",事業者基本情報!$Y$8,\"\")","v":""},{"$f":"IF(F378<>\"\",事業者基本情報!$E$11&事業者基本情報!$F$11&事業者基本情報!$G$11&事業者基本情報!$H$11&事業者基本情報!$I$11,\"\")","v":""},null,null,null,"市",null,null,"-",null,"-",null,{"$f":"IFERROR(VLOOKUP(Q378,コード表!$B$3:$C$101,2,FALSE),\"\")","v":""},null,{"$f":"IFERROR(VLOOKUP(S378,コード表!$F$7:$G$141,2,FALSE),\"\")","v":""},null,null,"t",null,null,null,null,null,null,null,null,null,null,null,null,null,null,null,null,null,null,null,null,null,null,null,null,null,null,null,null,null,null,null,null,null,null,null,null,null,null,null,null,null,null,null,null,null,null,null,null,"","",{"$f":"IF(BS378=\"\",\"\",IF(COUNTIF(BS$4:BS378,BS378)=1,ROW(),\"\"))","v":""},{"$f":"IFERROR(INDEX(BS:BS,SMALL(BT:BT,ROW(A375))),\"\")","v":""},"","","",""]
[{"$f":"IF(F379<>\"\",事業者基本情報!$E$9&事業者基本情報!$F$9&事業者基本情報!$G$9,\"\")","v":""},{"$f":"IF(F379<>\"\",事業者基本情報!$Y$10,\"\")","v":""},{"$f":"IF(F379<>\"\",事業者基本情報!$Y$7,\"\")","v":""},{"$f":"IF(F379<>\"\",事業者基本情報!$Y$8,\"\")","v":""},{"$f":"IF(F379<>\"\",事業者基本情報!$E$11&事業者基本情報!$F$11&事業者基本情報!$G$11&事業者基本情報!$H$11&事業者基本情報!$I$11,\"\")","v":""},null,null,null,"市",null,null,"-",null,"-",null,{"$f":"IFERROR(VLOOKUP(Q379,コード表!$B$3:$C$101,2,FALSE),\"\")","v":""},null,{"$f":"IFERROR(VLOOKUP(S379,コード表!$F$7:$G$141,2,FALSE),\"\")","v":""},null,null,"t",null,null,null,null,null,null,null,null,null,null,null,null,null,null,null,null,null,null,null,null,null,null,null,null,null,null,null,null,null,null,null,null,null,null,null,null,null,null,null,null,null,null,null,null,null,null,null,null,"","",{"$f":"IF(BS379=\"\",\"\",IF(COUNTIF(BS$4:BS379,BS379)=1,ROW(),\"\"))","v":""},{"$f":"IFERROR(INDEX(BS:BS,SMALL(BT:BT,ROW(A376))),\"\")","v":""},"","","",""]
[{"$f":"IF(F380<>\"\",事業者基本情報!$E$9&事業者基本情報!$F$9&事業者基本情報!$G$9,\"\")","v":""},{"$f":"IF(F380<>\"\",事業者基本情報!$Y$10,\"\")","v":""},{"$f":"IF(F380<>\"\",事業者基本情報!$Y$7,\"\")","v":""},{"$f":"IF(F380<>\"\",事業者基本情報!$Y$8,\"\")","v":""},{"$f":"IF(F380<>\"\",事業者基本情報!$E$11&事業者基本情報!$F$11&事業者基本情報!$G$11&事業者基本情報!$H$11&事業者基本情報!$I$11,\"\")","v":""},null,null,null,"市",null,null,"-",null,"-",null,{"$f":"IFERROR(VLOOKUP(Q380,コード表!$B$3:$C$101,2,FALSE),\"\")","v":""},null,{"$f":"IFERROR(VLOOKUP(S380,コード表!$F$7:$G$141,2,FALSE),\"\")","v":""},null,null,"t",null,null,null,null,null,null,null,null,null,null,null,null,null,null,null,null,null,null,null,null,null,null,null,null,null,null,null,null,null,null,null,null,null,null,null,null,null,null,null,null,null,null,null,null,null,null,null,null,"","",{"$f":"IF(BS380=\"\",\"\",IF(COUNTIF(BS$4:BS380,BS380)=1,ROW(),\"\"))","v":""},{"$f":"IFERROR(INDEX(BS:BS,SMALL(BT:BT,ROW(A377))),\"\")","v":""},"","","",""]
[{"$f":"IF(F381<>\"\",事業者基本情報!$E$9&事業者基本情報!$F$9&事業者基本情報!$G$9,\"\")","v":""},{"$f":"IF(F381<>\"\",事業者基本情報!$Y$10,\"\")","v":""},{"$f":"IF(F381<>\"\",事業者基本情報!$Y$7,\"\")","v":""},{"$f":"IF(F381<>\"\",事業者基本情報!$Y$8,\"\")","v":""},{"$f":"IF(F381<>\"\",事業者基本情報!$E$11&事業者基本情報!$F$11&事業者基本情報!$G$11&事業者基本情報!$H$11&事業者基本情報!$I$11,\"\")","v":""},null,null,null,"市",null,null,"-",null,"-",null,{"$f":"IFERROR(VLOOKUP(Q381,コード表!$B$3:$C$101,2,FALSE),\"\")","v":""},null,{"$f":"IFERROR(VLOOKUP(S381,コード表!$F$7:$G$141,2,FALSE),\"\")","v":""},null,null,"t",null,null,null,null,null,null,null,null,null,null,null,null,null,null,null,null,null,null,null,null,null,null,null,null,null,null,null,null,null,null,null,null,null,null,null,null,null,null,null,null,null,null,null,null,null,null,null,null,"","",{"$f":"IF(BS381=\"\",\"\",IF(COUNTIF(BS$4:BS381,BS381)=1,ROW(),\"\"))","v":""},{"$f":"IFERROR(INDEX(BS:BS,SMALL(BT:BT,ROW(A378))),\"\")","v":""},"","","",""]
[{"$f":"IF(F382<>\"\",事業者基本情報!$E$9&事業者基本情報!$F$9&事業者基本情報!$G$9,\"\")","v":""},{"$f":"IF(F382<>\"\",事業者基本情報!$Y$10,\"\")","v":""},{"$f":"IF(F382<>\"\",事業者基本情報!$Y$7,\"\")","v":""},{"$f":"IF(F382<>\"\",事業者基本情報!$Y$8,\"\")","v":""},{"$f":"IF(F382<>\"\",事業者基本情報!$E$11&事業者基本情報!$F$11&事業者基本情報!$G$11&事業者基本情報!$H$11&事業者基本情報!$I$11,\"\")","v":""},null,null,null,"市",null,null,"-",null,"-",null,{"$f":"IFERROR(VLOOKUP(Q382,コード表!$B$3:$C$101,2,FALSE),\"\")","v":""},null,{"$f":"IFERROR(VLOOKUP(S382,コード表!$F$7:$G$141,2,FALSE),\"\")","v":""},null,null,"t",null,null,null,null,null,null,null,null,null,null,null,null,null,null,null,null,null,null,null,null,null,null,null,null,null,null,null,null,null,null,null,null,null,null,null,null,null,null,null,null,null,null,null,null,null,null,null,null,"","",{"$f":"IF(BS382=\"\",\"\",IF(COUNTIF(BS$4:BS382,BS382)=1,ROW(),\"\"))","v":""},{"$f":"IFERROR(INDEX(BS:BS,SMALL(BT:BT,ROW(A379))),\"\")","v":""},"","","",""]
[{"$f":"IF(F383<>\"\",事業者基本情報!$E$9&事業者基本情報!$F$9&事業者基本情報!$G$9,\"\")","v":""},{"$f":"IF(F383<>\"\",事業者基本情報!$Y$10,\"\")","v":""},{"$f":"IF(F383<>\"\",事業者基本情報!$Y$7,\"\")","v":""},{"$f":"IF(F383<>\"\",事業者基本情報!$Y$8,\"\")","v":""},{"$f":"IF(F383<>\"\",事業者基本情報!$E$11&事業者基本情報!$F$11&事業者基本情報!$G$11&事業者基本情報!$H$11&事業者基本情報!$I$11,\"\")","v":""},null,null,null,"市",null,null,"-",null,"-",null,{"$f":"IFERROR(VLOOKUP(Q383,コード表!$B$3:$C$101,2,FALSE),\"\")","v":""},null,{"$f":"IFERROR(VLOOKUP(S383,コード表!$F$7:$G$141,2,FALSE),\"\")","v":""},null,null,"t",null,null,null,null,null,null,null,null,null,null,null,null,null,null,null,null,null,null,null,null,null,null,null,null,null,null,null,null,null,null,null,null,null,null,null,null,null,null,null,null,null,null,null,null,null,null,null,null,"","",{"$f":"IF(BS383=\"\",\"\",IF(COUNTIF(BS$4:BS383,BS383)=1,ROW(),\"\"))","v":""},{"$f":"IFERROR(INDEX(BS:BS,SMALL(BT:BT,ROW(A380))),\"\")","v":""},"","","",""]
[{"$f":"IF(F384<>\"\",事業者基本情報!$E$9&事業者基本情報!$F$9&事業者基本情報!$G$9,\"\")","v":""},{"$f":"IF(F384<>\"\",事業者基本情報!$Y$10,\"\")","v":""},{"$f":"IF(F384<>\"\",事業者基本情報!$Y$7,\"\")","v":""},{"$f":"IF(F384<>\"\",事業者基本情報!$Y$8,\"\")","v":""},{"$f":"IF(F384<>\"\",事業者基本情報!$E$11&事業者基本情報!$F$11&事業者基本情報!$G$11&事業者基本情報!$H$11&事業者基本情報!$I$11,\"\")","v":""},null,null,null,"市",null,null,"-",null,"-",null,{"$f":"IFERROR(VLOOKUP(Q384,コード表!$B$3:$C$101,2,FALSE),\"\")","v":""},null,{"$f":"IFERROR(VLOOKUP(S384,コード表!$F$7:$G$141,2,FALSE),\"\")","v":""},null,null,"t",null,null,null,null,null,null,null,null,null,null,null,null,null,null,null,null,null,null,null,null,null,null,null,null,null,null,null,null,null,null,null,null,null,null,null,null,null,null,null,null,null,null,null,null,null,null,null,null,"","",{"$f":"IF(BS384=\"\",\"\",IF(COUNTIF(BS$4:BS384,BS384)=1,ROW(),\"\"))","v":""},{"$f":"IFERROR(INDEX(BS:BS,SMALL(BT:BT,ROW(A381))),\"\")","v":""},"","","",""]
[{"$f":"IF(F385<>\"\",事業者基本情報!$E$9&事業者基本情報!$F$9&事業者基本情報!$G$9,\"\")","v":""},{"$f":"IF(F385<>\"\",事業者基本情報!$Y$10,\"\")","v":""},{"$f":"IF(F385<>\"\",事業者基本情報!$Y$7,\"\")","v":""},{"$f":"IF(F385<>\"\",事業者基本情報!$Y$8,\"\")","v":""},{"$f":"IF(F385<>\"\",事業者基本情報!$E$11&事業者基本情報!$F$11&事業者基本情報!$G$11&事業者基本情報!$H$11&事業者基本情報!$I$11,\"\")","v":""},null,null,null,"市",null,null,"-",null,"-",null,{"$f":"IFERROR(VLOOKUP(Q385,コード表!$B$3:$C$101,2,FALSE),\"\")","v":""},null,{"$f":"IFERROR(VLOOKUP(S385,コード表!$F$7:$G$141,2,FALSE),\"\")","v":""},null,null,"t",null,null,null,null,null,null,null,null,null,null,null,null,null,null,null,null,null,null,null,null,null,null,null,null,null,null,null,null,null,null,null,null,null,null,null,null,null,null,null,null,null,null,null,null,null,null,null,null,"","",{"$f":"IF(BS385=\"\",\"\",IF(COUNTIF(BS$4:BS385,BS385)=1,ROW(),\"\"))","v":""},{"$f":"IFERROR(INDEX(BS:BS,SMALL(BT:BT,ROW(A382))),\"\")","v":""},"","","",""]
[{"$f":"IF(F386<>\"\",事業者基本情報!$E$9&事業者基本情報!$F$9&事業者基本情報!$G$9,\"\")","v":""},{"$f":"IF(F386<>\"\",事業者基本情報!$Y$10,\"\")","v":""},{"$f":"IF(F386<>\"\",事業者基本情報!$Y$7,\"\")","v":""},{"$f":"IF(F386<>\"\",事業者基本情報!$Y$8,\"\")","v":""},{"$f":"IF(F386<>\"\",事業者基本情報!$E$11&事業者基本情報!$F$11&事業者基本情報!$G$11&事業者基本情報!$H$11&事業者基本情報!$I$11,\"\")","v":""},null,null,null,"市",null,null,"-",null,"-",null,{"$f":"IFERROR(VLOOKUP(Q386,コード表!$B$3:$C$101,2,FALSE),\"\")","v":""},null,{"$f":"IFERROR(VLOOKUP(S386,コード表!$F$7:$G$141,2,FALSE),\"\")","v":""},null,null,"t",null,null,null,null,null,null,null,null,null,null,null,null,null,null,null,null,null,null,null,null,null,null,null,null,null,null,null,null,null,null,null,null,null,null,null,null,null,null,null,null,null,null,null,null,null,null,null,null,"","",{"$f":"IF(BS386=\"\",\"\",IF(COUNTIF(BS$4:BS386,BS386)=1,ROW(),\"\"))","v":""},{"$f":"IFERROR(INDEX(BS:BS,SMALL(BT:BT,ROW(A383))),\"\")","v":""},"","","",""]
[{"$f":"IF(F387<>\"\",事業者基本情報!$E$9&事業者基本情報!$F$9&事業者基本情報!$G$9,\"\")","v":""},{"$f":"IF(F387<>\"\",事業者基本情報!$Y$10,\"\")","v":""},{"$f":"IF(F387<>\"\",事業者基本情報!$Y$7,\"\")","v":""},{"$f":"IF(F387<>\"\",事業者基本情報!$Y$8,\"\")","v":""},{"$f":"IF(F387<>\"\",事業者基本情報!$E$11&事業者基本情報!$F$11&事業者基本情報!$G$11&事業者基本情報!$H$11&事業者基本情報!$I$11,\"\")","v":""},null,null,null,"市",null,null,"-",null,"-",null,{"$f":"IFERROR(VLOOKUP(Q387,コード表!$B$3:$C$101,2,FALSE),\"\")","v":""},null,{"$f":"IFERROR(VLOOKUP(S387,コード表!$F$7:$G$141,2,FALSE),\"\")","v":""},null,null,"t",null,null,null,null,null,null,null,null,null,null,null,null,null,null,null,null,null,null,null,null,null,null,null,null,null,null,null,null,null,null,null,null,null,null,null,null,null,null,null,null,null,null,null,null,null,null,null,null,"","",{"$f":"IF(BS387=\"\",\"\",IF(COUNTIF(BS$4:BS387,BS387)=1,ROW(),\"\"))","v":""},{"$f":"IFERROR(INDEX(BS:BS,SMALL(BT:BT,ROW(A384))),\"\")","v":""},"","","",""]
[{"$f":"IF(F388<>\"\",事業者基本情報!$E$9&事業者基本情報!$F$9&事業者基本情報!$G$9,\"\")","v":""},{"$f":"IF(F388<>\"\",事業者基本情報!$Y$10,\"\")","v":""},{"$f":"IF(F388<>\"\",事業者基本情報!$Y$7,\"\")","v":""},{"$f":"IF(F388<>\"\",事業者基本情報!$Y$8,\"\")","v":""},{"$f":"IF(F388<>\"\",事業者基本情報!$E$11&事業者基本情報!$F$11&事業者基本情報!$G$11&事業者基本情報!$H$11&事業者基本情報!$I$11,\"\")","v":""},null,null,null,"市",null,null,"-",null,"-",null,{"$f":"IFERROR(VLOOKUP(Q388,コード表!$B$3:$C$101,2,FALSE),\"\")","v":""},null,{"$f":"IFERROR(VLOOKUP(S388,コード表!$F$7:$G$141,2,FALSE),\"\")","v":""},null,null,"t",null,null,null,null,null,null,null,null,null,null,null,null,null,null,null,null,null,null,null,null,null,null,null,null,null,null,null,null,null,null,null,null,null,null,null,null,null,null,null,null,null,null,null,null,null,null,null,null,{"$f":"IFERROR(IF(TRIM(F388)=\"\",\"\",IF(AND(VALUE(TRIM(R388))>=100000,VALUE(TRIM(R388))<7000000),\"普通産廃\",IF(AND(VALUE(TRIM(R388))>=7000000,VALUE(TRIM(R388))<9000000),\"特別産廃\",\"\"))),\"\")","v":""},{"$f":"IF(BR388<>\"\",TRIM(F388)&\"(\"&BR388&\")\",\"\")","v":""},{"$f":"IF(BS388=\"\",\"\",IF(COUNTIF(BS$4:BS388,BS388)=1,ROW(),\"\"))","v":""},{"$f":"IFERROR(INDEX(BS:BS,SMALL(BT:BT,ROW(A385))),\"\")","v":""},{"$f":"IF(BU388=\"\",\"\",IF(SUMIF(BS:BS,BU388,T:T)=0,\"\",SUMIF(BS:BS,BU388,T:T)))","v":""},{"$f":"IF(AS388<>\"\",AS388,IF(AO388<>\"\",AO388,IF(AK388<>\"\",AK388,IF(AG388<>\"\",AG388,IF(Y388<>\"\",Y388,\"\")))))","v":""},"",{"$f":"IF(F388&G388&H388&J388&K388&M388&O388&Q388&S388&T388&V388&W388&X388&Y388&Z388&AA388&AB388&AC388&AD388&AE388&AF388&AG388&AH388&AI388&AJ388&AK388&AL388&AM388&AN388&AO388&AP388&AQ388&AR388&AS388&AT388=\"\",\"\",1)","v":""}]
[{"$f":"IF(F389<>\"\",事業者基本情報!$E$9&事業者基本情報!$F$9&事業者基本情報!$G$9,\"\")","v":""},{"$f":"IF(F389<>\"\",事業者基本情報!$Y$10,\"\")","v":""},{"$f":"IF(F389<>\"\",事業者基本情報!$Y$7,\"\")","v":""},{"$f":"IF(F389<>\"\",事業者基本情報!$Y$8,\"\")","v":""},{"$f":"IF(F389<>\"\",事業者基本情報!$E$11&事業者基本情報!$F$11&事業者基本情報!$G$11&事業者基本情報!$H$11&事業者基本情報!$I$11,\"\")","v":""},null,null,null,"市",null,null,"-",null,"-",null,{"$f":"IFERROR(VLOOKUP(Q389,コード表!$B$3:$C$101,2,FALSE),\"\")","v":""},null,{"$f":"IFERROR(VLOOKUP(S389,コード表!$F$7:$G$141,2,FALSE),\"\")","v":""},null,null,"t",null,null,null,null,null,null,null,null,null,null,null,null,null,null,null,null,null,null,null,null,null,null,null,null,null,null,null,null,null,null,null,null,null,null,null,null,null,null,null,null,null,null,null,null,null,null,null,null,"","",{"$f":"IF(BS389=\"\",\"\",IF(COUNTIF(BS$4:BS389,BS389)=1,ROW(),\"\"))","v":""},{"$f":"IFERROR(INDEX(BS:BS,SMALL(BT:BT,ROW(A386))),\"\")","v":""},"","","",""]
[{"$f":"IF(F390<>\"\",事業者基本情報!$E$9&事業者基本情報!$F$9&事業者基本情報!$G$9,\"\")","v":""},{"$f":"IF(F390<>\"\",事業者基本情報!$Y$10,\"\")","v":""},{"$f":"IF(F390<>\"\",事業者基本情報!$Y$7,\"\")","v":""},{"$f":"IF(F390<>\"\",事業者基本情報!$Y$8,\"\")","v":""},{"$f":"IF(F390<>\"\",事業者基本情報!$E$11&事業者基本情報!$F$11&事業者基本情報!$G$11&事業者基本情報!$H$11&事業者基本情報!$I$11,\"\")","v":""},null,null,null,"市",null,null,"-",null,"-",null,{"$f":"IFERROR(VLOOKUP(Q390,コード表!$B$3:$C$101,2,FALSE),\"\")","v":""},null,{"$f":"IFERROR(VLOOKUP(S390,コード表!$F$7:$G$141,2,FALSE),\"\")","v":""},null,null,"t",null,null,null,null,null,null,null,null,null,null,null,null,null,null,null,null,null,null,null,null,null,null,null,null,null,null,null,null,null,null,null,null,null,null,null,null,null,null,null,null,null,null,null,null,null,null,null,null,"","",{"$f":"IF(BS390=\"\",\"\",IF(COUNTIF(BS$4:BS390,BS390)=1,ROW(),\"\"))","v":""},{"$f":"IFERROR(INDEX(BS:BS,SMALL(BT:BT,ROW(A387))),\"\")","v":""},"","","",""]
[{"$f":"IF(F391<>\"\",事業者基本情報!$E$9&事業者基本情報!$F$9&事業者基本情報!$G$9,\"\")","v":""},{"$f":"IF(F391<>\"\",事業者基本情報!$Y$10,\"\")","v":""},{"$f":"IF(F391<>\"\",事業者基本情報!$Y$7,\"\")","v":""},{"$f":"IF(F391<>\"\",事業者基本情報!$Y$8,\"\")","v":""},{"$f":"IF(F391<>\"\",事業者基本情報!$E$11&事業者基本情報!$F$11&事業者基本情報!$G$11&事業者基本情報!$H$11&事業者基本情報!$I$11,\"\")","v":""},null,null,null,"市",null,null,"-",null,"-",null,{"$f":"IFERROR(VLOOKUP(Q391,コード表!$B$3:$C$101,2,FALSE),\"\")","v":""},null,{"$f":"IFERROR(VLOOKUP(S391,コード表!$F$7:$G$141,2,FALSE),\"\")","v":""},null,null,"t",null,null,null,null,null,null,null,null,null,null,null,null,null,null,null,null,null,null,null,null,null,null,null,null,null,null,null,null,null,null,null,null,null,null,null,null,null,null,null,null,null,null,null,null,null,null,null,null,"","",{"$f":"IF(BS391=\"\",\"\",IF(COUNTIF(BS$4:BS391,BS391)=1,ROW(),\"\"))","v":""},{"$f":"IFERROR(INDEX(BS:BS,SMALL(BT:BT,ROW(A388))),\"\")","v":""},"","","",""]
[{"$f":"IF(F392<>\"\",事業者基本情報!$E$9&事業者基本情報!$F$9&事業者基本情報!$G$9,\"\")","v":""},{"$f":"IF(F392<>\"\",事業者基本情報!$Y$10,\"\")","v":""},{"$f":"IF(F392<>\"\",事業者基本情報!$Y$7,\"\")","v":""},{"$f":"IF(F392<>\"\",事業者基本情報!$Y$8,\"\")","v":""},{"$f":"IF(F392<>\"\",事業者基本情報!$E$11&事業者基本情報!$F$11&事業者基本情報!$G$11&事業者基本情報!$H$11&事業者基本情報!$I$11,\"\")","v":""},null,null,null,"市",null,null,"-",null,"-",null,{"$f":"IFERROR(VLOOKUP(Q392,コード表!$B$3:$C$101,2,FALSE),\"\")","v":""},null,{"$f":"IFERROR(VLOOKUP(S392,コード表!$F$7:$G$141,2,FALSE),\"\")","v":""},null,null,"t",null,null,null,null,null,null,null,null,null,null,null,null,null,null,null,null,null,null,null,null,null,null,null,null,null,null,null,null,null,null,null,null,null,null,null,null,null,null,null,null,null,null,null,null,null,null,null,null,"","",{"$f":"IF(BS392=\"\",\"\",IF(COUNTIF(BS$4:BS392,BS392)=1,ROW(),\"\"))","v":""},{"$f":"IFERROR(INDEX(BS:BS,SMALL(BT:BT,ROW(A389))),\"\")","v":""},"","","",""]
[{"$f":"IF(F393<>\"\",事業者基本情報!$E$9&事業者基本情報!$F$9&事業者基本情報!$G$9,\"\")","v":""},{"$f":"IF(F393<>\"\",事業者基本情報!$Y$10,\"\")","v":""},{"$f":"IF(F393<>\"\",事業者基本情報!$Y$7,\"\")","v":""},{"$f":"IF(F393<>\"\",事業者基本情報!$Y$8,\"\")","v":""},{"$f":"IF(F393<>\"\",事業者基本情報!$E$11&事業者基本情報!$F$11&事業者基本情報!$G$11&事業者基本情報!$H$11&事業者基本情報!$I$11,\"\")","v":""},null,null,null,"市",null,null,"-",null,"-",null,{"$f":"IFERROR(VLOOKUP(Q393,コード表!$B$3:$C$101,2,FALSE),\"\")","v":""},null,{"$f":"IFERROR(VLOOKUP(S393,コード表!$F$7:$G$141,2,FALSE),\"\")","v":""},null,null,"t",null,null,null,null,null,null,null,null,null,null,null,null,null,null,null,null,null,null,null,null,null,null,null,null,null,null,null,null,null,null,null,null,null,null,null,null,null,null,null,null,null,null,null,null,null,null,null,null,"","",{"$f":"IF(BS393=\"\",\"\",IF(COUNTIF(BS$4:BS393,BS393)=1,ROW(),\"\"))","v":""},{"$f":"IFERROR(INDEX(BS:BS,SMALL(BT:BT,ROW(A390))),\"\")","v":""},"","","",""]
[{"$f":"IF(F394<>\"\",事業者基本情報!$E$9&事業者基本情報!$F$9&事業者基本情報!$G$9,\"\")","v":""},{"$f":"IF(F394<>\"\",事業者基本情報!$Y$10,\"\")","v":""},{"$f":"IF(F394<>\"\",事業者基本情報!$Y$7,\"\")","v":""},{"$f":"IF(F394<>\"\",事業者基本情報!$Y$8,\"\")","v":""},{"$f":"IF(F394<>\"\",事業者基本情報!$E$11&事業者基本情報!$F$11&事業者基本情報!$G$11&事業者基本情報!$H$11&事業者基本情報!$I$11,\"\")","v":""},null,null,null,"市",null,null,"-",null,"-",null,{"$f":"IFERROR(VLOOKUP(Q394,コード表!$B$3:$C$101,2,FALSE),\"\")","v":""},null,{"$f":"IFERROR(VLOOKUP(S394,コード表!$F$7:$G$141,2,FALSE),\"\")","v":""},null,null,"t",null,null,null,null,null,null,null,null,null,null,null,null,null,null,null,null,null,null,null,null,null,null,null,null,null,null,null,null,null,null,null,null,null,null,null,null,null,null,null,null,null,null,null,null,null,null,null,null,"","",{"$f":"IF(BS394=\"\",\"\",IF(COUNTIF(BS$4:BS394,BS394)=1,ROW(),\"\"))","v":""},{"$f":"IFERROR(INDEX(BS:BS,SMALL(BT:BT,ROW(A391))),\"\")","v":""},"","","",""]
[{"$f":"IF(F395<>\"\",事業者基本情報!$E$9&事業者基本情報!$F$9&事業者基本情報!$G$9,\"\")","v":""},{"$f":"IF(F395<>\"\",事業者基本情報!$Y$10,\"\")","v":""},{"$f":"IF(F395<>\"\",事業者基本情報!$Y$7,\"\")","v":""},{"$f":"IF(F395<>\"\",事業者基本情報!$Y$8,\"\")","v":""},{"$f":"IF(F395<>\"\",事業者基本情報!$E$11&事業者基本情報!$F$11&事業者基本情報!$G$11&事業者基本情報!$H$11&事業者基本情報!$I$11,\"\")","v":""},null,null,null,"市",null,null,"-",null,"-",null,{"$f":"IFERROR(VLOOKUP(Q395,コード表!$B$3:$C$101,2,FALSE),\"\")","v":""},null,{"$f":"IFERROR(VLOOKUP(S395,コード表!$F$7:$G$141,2,FALSE),\"\")","v":""},null,null,"t",null,null,null,null,null,null,null,null,null,null,null,null,null,null,null,null,null,null,null,null,null,null,null,null,null,null,null,null,null,null,null,null,null,null,null,null,null,null,null,null,null,null,null,null,null,null,null,null,"","",{"$f":"IF(BS395=\"\",\"\",IF(COUNTIF(BS$4:BS395,BS395)=1,ROW(),\"\"))","v":""},{"$f":"IFERROR(INDEX(BS:BS,SMALL(BT:BT,ROW(A392))),\"\")","v":""},"","","",""]
[{"$f":"IF(F396<>\"\",事業者基本情報!$E$9&事業者基本情報!$F$9&事業者基本情報!$G$9,\"\")","v":""},{"$f":"IF(F396<>\"\",事業者基本情報!$Y$10,\"\")","v":""},{"$f":"IF(F396<>\"\",事業者基本情報!$Y$7,\"\")","v":""},{"$f":"IF(F396<>\"\",事業者基本情報!$Y$8,\"\")","v":""},{"$f":"IF(F396<>\"\",事業者基本情報!$E$11&事業者基本情報!$F$11&事業者基本情報!$G$11&事業者基本情報!$H$11&事業者基本情報!$I$11,\"\")","v":""},null,null,null,"市",null,null,"-",null,"-",null,{"$f":"IFERROR(VLOOKUP(Q396,コード表!$B$3:$C$101,2,FALSE),\"\")","v":""},null,{"$f":"IFERROR(VLOOKUP(S396,コード表!$F$7:$G$141,2,FALSE),\"\")","v":""},null,null,"t",null,null,null,null,null,null,null,null,null,null,null,null,null,null,null,null,null,null,null,null,null,null,null,null,null,null,null,null,null,null,null,null,null,null,null,null,null,null,null,null,null,null,null,null,null,null,null,null,"","",{"$f":"IF(BS396=\"\",\"\",IF(COUNTIF(BS$4:BS396,BS396)=1,ROW(),\"\"))","v":""},{"$f":"IFERROR(INDEX(BS:BS,SMALL(BT:BT,ROW(A393))),\"\")","v":""},"","","",""]
[{"$f":"IF(F397<>\"\",事業者基本情報!$E$9&事業者基本情報!$F$9&事業者基本情報!$G$9,\"\")","v":""},{"$f":"IF(F397<>\"\",事業者基本情報!$Y$10,\"\")","v":""},{"$f":"IF(F397<>\"\",事業者基本情報!$Y$7,\"\")","v":""},{"$f":"IF(F397<>\"\",事業者基本情報!$Y$8,\"\")","v":""},{"$f":"IF(F397<>\"\",事業者基本情報!$E$11&事業者基本情報!$F$11&事業者基本情報!$G$11&事業者基本情報!$H$11&事業者基本情報!$I$11,\"\")","v":""},null,null,null,"市",null,null,"-",null,"-",null,{"$f":"IFERROR(VLOOKUP(Q397,コード表!$B$3:$C$101,2,FALSE),\"\")","v":""},null,{"$f":"IFERROR(VLOOKUP(S397,コード表!$F$7:$G$141,2,FALSE),\"\")","v":""},null,null,"t",null,null,null,null,null,null,null,null,null,null,null,null,null,null,null,null,null,null,null,null,null,null,null,null,null,null,null,null,null,null,null,null,null,null,null,null,null,null,null,null,null,null,null,null,null,null,null,null,"","",{"$f":"IF(BS397=\"\",\"\",IF(COUNTIF(BS$4:BS397,BS397)=1,ROW(),\"\"))","v":""},{"$f":"IFERROR(INDEX(BS:BS,SMALL(BT:BT,ROW(A394))),\"\")","v":""},"","","",""]
[{"$f":"IF(F398<>\"\",事業者基本情報!$E$9&事業者基本情報!$F$9&事業者基本情報!$G$9,\"\")","v":""},{"$f":"IF(F398<>\"\",事業者基本情報!$Y$10,\"\")","v":""},{"$f":"IF(F398<>\"\",事業者基本情報!$Y$7,\"\")","v":""},{"$f":"IF(F398<>\"\",事業者基本情報!$Y$8,\"\")","v":""},{"$f":"IF(F398<>\"\",事業者基本情報!$E$11&事業者基本情報!$F$11&事業者基本情報!$G$11&事業者基本情報!$H$11&事業者基本情報!$I$11,\"\")","v":""},null,null,null,"市",null,null,"-",null,"-",null,{"$f":"IFERROR(VLOOKUP(Q398,コード表!$B$3:$C$101,2,FALSE),\"\")","v":""},null,{"$f":"IFERROR(VLOOKUP(S398,コード表!$F$7:$G$141,2,FALSE),\"\")","v":""},null,null,"t",null,null,null,null,null,null,null,null,null,null,null,null,null,null,null,null,null,null,null,null,null,null,null,null,null,null,null,null,null,null,null,null,null,null,null,null,null,null,null,null,null,null,null,null,null,null,null,null,"","",{"$f":"IF(BS398=\"\",\"\",IF(COUNTIF(BS$4:BS398,BS398)=1,ROW(),\"\"))","v":""},{"$f":"IFERROR(INDEX(BS:BS,SMALL(BT:BT,ROW(A395))),\"\")","v":""},"","","",""]
[{"$f":"IF(F399<>\"\",事業者基本情報!$E$9&事業者基本情報!$F$9&事業者基本情報!$G$9,\"\")","v":""},{"$f":"IF(F399<>\"\",事業者基本情報!$Y$10,\"\")","v":""},{"$f":"IF(F399<>\"\",事業者基本情報!$Y$7,\"\")","v":""},{"$f":"IF(F399<>\"\",事業者基本情報!$Y$8,\"\")","v":""},{"$f":"IF(F399<>\"\",事業者基本情報!$E$11&事業者基本情報!$F$11&事業者基本情報!$G$11&事業者基本情報!$H$11&事業者基本情報!$I$11,\"\")","v":""},null,null,null,"市",null,null,"-",null,"-",null,{"$f":"IFERROR(VLOOKUP(Q399,コード表!$B$3:$C$101,2,FALSE),\"\")","v":""},null,{"$f":"IFERROR(VLOOKUP(S399,コード表!$F$7:$G$141,2,FALSE),\"\")","v":""},null,null,"t",null,null,null,null,null,null,null,null,null,null,null,null,null,null,null,null,null,null,null,null,null,null,null,null,null,null,null,null,null,null,null,null,null,null,null,null,null,null,null,null,null,null,null,null,null,null,null,null,"","",{"$f":"IF(BS399=\"\",\"\",IF(COUNTIF(BS$4:BS399,BS399)=1,ROW(),\"\"))","v":""},{"$f":"IFERROR(INDEX(BS:BS,SMALL(BT:BT,ROW(A396))),\"\")","v":""},"","","",""]
[{"$f":"IF(F400<>\"\",事業者基本情報!$E$9&事業者基本情報!$F$9&事業者基本情報!$G$9,\"\")","v":""},{"$f":"IF(F400<>\"\",事業者基本情報!$Y$10,\"\")","v":""},{"$f":"IF(F400<>\"\",事業者基本情報!$Y$7,\"\")","v":""},{"$f":"IF(F400<>\"\",事業者基本情報!$Y$8,\"\")","v":""},{"$f":"IF(F400<>\"\",事業者基本情報!$E$11&事業者基本情報!$F$11&事業者基本情報!$G$11&事業者基本情報!$H$11&事業者基本情報!$I$11,\"\")","v":""},null,null,null,"市",null,null,"-",null,"-",null,{"$f":"IFERROR(VLOOKUP(Q400,コード表!$B$3:$C$101,2,FALSE),\"\")","v":""},null,{"$f":"IFERROR(VLOOKUP(S400,コード表!$F$7:$G$141,2,FALSE),\"\")","v":""},null,null,"t",null,null,null,null,null,null,null,null,null,null,null,null,null,null,null,null,null,null,null,null,null,null,null,null,null,null,null,null,null,null,null,null,null,null,null,null,null,null,null,null,null,null,null,null,null,null,null,null,"","",{"$f":"IF(BS400=\"\",\"\",IF(COUNTIF(BS$4:BS400,BS400)=1,ROW(),\"\"))","v":""},{"$f":"IFERROR(INDEX(BS:BS,SMALL(BT:BT,ROW(A397))),\"\")","v":""},"","","",""]
[{"$f":"IF(F401<>\"\",事業者基本情報!$E$9&事業者基本情報!$F$9&事業者基本情報!$G$9,\"\")","v":""},{"$f":"IF(F401<>\"\",事業者基本情報!$Y$10,\"\")","v":""},{"$f":"IF(F401<>\"\",事業者基本情報!$Y$7,\"\")","v":""},{"$f":"IF(F401<>\"\",事業者基本情報!$Y$8,\"\")","v":""},{"$f":"IF(F401<>\"\",事業者基本情報!$E$11&事業者基本情報!$F$11&事業者基本情報!$G$11&事業者基本情報!$H$11&事業者基本情報!$I$11,\"\")","v":""},null,null,null,"市",null,null,"-",null,"-",null,{"$f":"IFERROR(VLOOKUP(Q401,コード表!$B$3:$C$101,2,FALSE),\"\")","v":""},null,{"$f":"IFERROR(VLOOKUP(S401,コード表!$F$7:$G$141,2,FALSE),\"\")","v":""},null,null,"t",null,null,null,null,null,null,null,null,null,null,null,null,null,null,null,null,null,null,null,null,null,null,null,null,null,null,null,null,null,null,null,null,null,null,null,null,null,null,null,null,null,null,null,null,null,null,null,null,"","",{"$f":"IF(BS401=\"\",\"\",IF(COUNTIF(BS$4:BS401,BS401)=1,ROW(),\"\"))","v":""},{"$f":"IFERROR(INDEX(BS:BS,SMALL(BT:BT,ROW(A398))),\"\")","v":""},"","","",""]
[{"$f":"IF(F402<>\"\",事業者基本情報!$E$9&事業者基本情報!$F$9&事業者基本情報!$G$9,\"\")","v":""},{"$f":"IF(F402<>\"\",事業者基本情報!$Y$10,\"\")","v":""},{"$f":"IF(F402<>\"\",事業者基本情報!$Y$7,\"\")","v":""},{"$f":"IF(F402<>\"\",事業者基本情報!$Y$8,\"\")","v":""},{"$f":"IF(F402<>\"\",事業者基本情報!$E$11&事業者基本情報!$F$11&事業者基本情報!$G$11&事業者基本情報!$H$11&事業者基本情報!$I$11,\"\")","v":""},null,null,null,"市",null,null,"-",null,"-",null,{"$f":"IFERROR(VLOOKUP(Q402,コード表!$B$3:$C$101,2,FALSE),\"\")","v":""},null,{"$f":"IFERROR(VLOOKUP(S402,コード表!$F$7:$G$141,2,FALSE),\"\")","v":""},null,null,"t",null,null,null,null,null,null,null,null,null,null,null,null,null,null,null,null,null,null,null,null,null,null,null,null,null,null,null,null,null,null,null,null,null,null,null,null,null,null,null,null,null,null,null,null,null,null,null,null,"","",{"$f":"IF(BS402=\"\",\"\",IF(COUNTIF(BS$4:BS402,BS402)=1,ROW(),\"\"))","v":""},{"$f":"IFERROR(INDEX(BS:BS,SMALL(BT:BT,ROW(A399))),\"\")","v":""},"","","",""]
[{"$f":"IF(F403<>\"\",事業者基本情報!$E$9&事業者基本情報!$F$9&事業者基本情報!$G$9,\"\")","v":""},{"$f":"IF(F403<>\"\",事業者基本情報!$Y$10,\"\")","v":""},{"$f":"IF(F403<>\"\",事業者基本情報!$Y$7,\"\")","v":""},{"$f":"IF(F403<>\"\",事業者基本情報!$Y$8,\"\")","v":""},{"$f":"IF(F403<>\"\",事業者基本情報!$E$11&事業者基本情報!$F$11&事業者基本情報!$G$11&事業者基本情報!$H$11&事業者基本情報!$I$11,\"\")","v":""},null,null,null,"市",null,null,"-",null,"-",null,{"$f":"IFERROR(VLOOKUP(Q403,コード表!$B$3:$C$101,2,FALSE),\"\")","v":""},null,{"$f":"IFERROR(VLOOKUP(S403,コード表!$F$7:$G$141,2,FALSE),\"\")","v":""},null,null,"t",null,null,null,null,null,null,null,null,null,null,null,null,null,null,null,null,null,null,null,null,null,null,null,null,null,null,null,null,null,null,null,null,null,null,null,null,null,null,null,null,null,null,null,null,null,null,null,null,"","",{"$f":"IF(BS403=\"\",\"\",IF(COUNTIF(BS$4:BS403,BS403)=1,ROW(),\"\"))","v":""},{"$f":"IFERROR(INDEX(BS:BS,SMALL(BT:BT,ROW(A400))),\"\")","v":""},"","","",""]
[{"$f":"IF(F404<>\"\",事業者基本情報!$E$9&事業者基本情報!$F$9&事業者基本情報!$G$9,\"\")","v":""},{"$f":"IF(F404<>\"\",事業者基本情報!$Y$10,\"\")","v":""},{"$f":"IF(F404<>\"\",事業者基本情報!$Y$7,\"\")","v":""},{"$f":"IF(F404<>\"\",事業者基本情報!$Y$8,\"\")","v":""},{"$f":"IF(F404<>\"\",事業者基本情報!$E$11&事業者基本情報!$F$11&事業者基本情報!$G$11&事業者基本情報!$H$11&事業者基本情報!$I$11,\"\")","v":""},null,null,null,"市",null,null,"-",null,"-",null,{"$f":"IFERROR(VLOOKUP(Q404,コード表!$B$3:$C$101,2,FALSE),\"\")","v":""},null,{"$f":"IFERROR(VLOOKUP(S404,コード表!$F$7:$G$141,2,FALSE),\"\")","v":""},null,null,"t",null,null,null,null,null,null,null,null,null,null,null,null,null,null,null,null,null,null,null,null,null,null,null,null,null,null,null,null,null,null,null,null,null,null,null,null,null,null,null,null,null,null,null,null,null,null,null,null,"","",{"$f":"IF(BS404=\"\",\"\",IF(COUNTIF(BS$4:BS404,BS404)=1,ROW(),\"\"))","v":""},{"$f":"IFERROR(INDEX(BS:BS,SMALL(BT:BT,ROW(A401))),\"\")","v":""},"","","",""]
[{"$f":"IF(F405<>\"\",事業者基本情報!$E$9&事業者基本情報!$F$9&事業者基本情報!$G$9,\"\")","v":""},{"$f":"IF(F405<>\"\",事業者基本情報!$Y$10,\"\")","v":""},{"$f":"IF(F405<>\"\",事業者基本情報!$Y$7,\"\")","v":""},{"$f":"IF(F405<>\"\",事業者基本情報!$Y$8,\"\")","v":""},{"$f":"IF(F405<>\"\",事業者基本情報!$E$11&事業者基本情報!$F$11&事業者基本情報!$G$11&事業者基本情報!$H$11&事業者基本情報!$I$11,\"\")","v":""},null,null,null,"市",null,null,"-",null,"-",null,{"$f":"IFERROR(VLOOKUP(Q405,コード表!$B$3:$C$101,2,FALSE),\"\")","v":""},null,{"$f":"IFERROR(VLOOKUP(S405,コード表!$F$7:$G$141,2,FALSE),\"\")","v":""},null,null,"t",null,null,null,null,null,null,null,null,null,null,null,null,null,null,null,null,null,null,null,null,null,null,null,null,null,null,null,null,null,null,null,null,null,null,null,null,null,null,null,null,null,null,null,null,null,null,null,null,"","",{"$f":"IF(BS405=\"\",\"\",IF(COUNTIF(BS$4:BS405,BS405)=1,ROW(),\"\"))","v":""},{"$f":"IFERROR(INDEX(BS:BS,SMALL(BT:BT,ROW(A402))),\"\")","v":""},"","","",""]
[{"$f":"IF(F406<>\"\",事業者基本情報!$E$9&事業者基本情報!$F$9&事業者基本情報!$G$9,\"\")","v":""},{"$f":"IF(F406<>\"\",事業者基本情報!$Y$10,\"\")","v":""},{"$f":"IF(F406<>\"\",事業者基本情報!$Y$7,\"\")","v":""},{"$f":"IF(F406<>\"\",事業者基本情報!$Y$8,\"\")","v":""},{"$f":"IF(F406<>\"\",事業者基本情報!$E$11&事業者基本情報!$F$11&事業者基本情報!$G$11&事業者基本情報!$H$11&事業者基本情報!$I$11,\"\")","v":""},null,null,null,"市",null,null,"-",null,"-",null,{"$f":"IFERROR(VLOOKUP(Q406,コード表!$B$3:$C$101,2,FALSE),\"\")","v":""},null,{"$f":"IFERROR(VLOOKUP(S406,コード表!$F$7:$G$141,2,FALSE),\"\")","v":""},null,null,"t",null,null,null,null,null,null,null,null,null,null,null,null,null,null,null,null,null,null,null,null,null,null,null,null,null,null,null,null,null,null,null,null,null,null,null,null,null,null,null,null,null,null,null,null,null,null,null,null,"","",{"$f":"IF(BS406=\"\",\"\",IF(COUNTIF(BS$4:BS406,BS406)=1,ROW(),\"\"))","v":""},{"$f":"IFERROR(INDEX(BS:BS,SMALL(BT:BT,ROW(A403))),\"\")","v":""},"","","",""]
[{"$f":"IF(F407<>\"\",事業者基本情報!$E$9&事業者基本情報!$F$9&事業者基本情報!$G$9,\"\")","v":""},{"$f":"IF(F407<>\"\",事業者基本情報!$Y$10,\"\")","v":""},{"$f":"IF(F407<>\"\",事業者基本情報!$Y$7,\"\")","v":""},{"$f":"IF(F407<>\"\",事業者基本情報!$Y$8,\"\")","v":""},{"$f":"IF(F407<>\"\",事業者基本情報!$E$11&事業者基本情報!$F$11&事業者基本情報!$G$11&事業者基本情報!$H$11&事業者基本情報!$I$11,\"\")","v":""},null,null,null,"市",null,null,"-",null,"-",null,{"$f":"IFERROR(VLOOKUP(Q407,コード表!$B$3:$C$101,2,FALSE),\"\")","v":""},null,{"$f":"IFERROR(VLOOKUP(S407,コード表!$F$7:$G$141,2,FALSE),\"\")","v":""},null,null,"t",null,null,null,null,null,null,null,null,null,null,null,null,null,null,null,null,null,null,null,null,null,null,null,null,null,null,null,null,null,null,null,null,null,null,null,null,null,null,null,null,null,null,null,null,null,null,null,null,"","",{"$f":"IF(BS407=\"\",\"\",IF(COUNTIF(BS$4:BS407,BS407)=1,ROW(),\"\"))","v":""},{"$f":"IFERROR(INDEX(BS:BS,SMALL(BT:BT,ROW(A404))),\"\")","v":""},"","","",""]
[{"$f":"IF(F408<>\"\",事業者基本情報!$E$9&事業者基本情報!$F$9&事業者基本情報!$G$9,\"\")","v":""},{"$f":"IF(F408<>\"\",事業者基本情報!$Y$10,\"\")","v":""},{"$f":"IF(F408<>\"\",事業者基本情報!$Y$7,\"\")","v":""},{"$f":"IF(F408<>\"\",事業者基本情報!$Y$8,\"\")","v":""},{"$f":"IF(F408<>\"\",事業者基本情報!$E$11&事業者基本情報!$F$11&事業者基本情報!$G$11&事業者基本情報!$H$11&事業者基本情報!$I$11,\"\")","v":""},null,null,null,"市",null,null,"-",null,"-",null,{"$f":"IFERROR(VLOOKUP(Q408,コード表!$B$3:$C$101,2,FALSE),\"\")","v":""},null,{"$f":"IFERROR(VLOOKUP(S408,コード表!$F$7:$G$141,2,FALSE),\"\")","v":""},null,null,"t",null,null,null,null,null,null,null,null,null,null,null,null,null,null,null,null,null,null,null,null,null,null,null,null,null,null,null,null,null,null,null,null,null,null,null,null,null,null,null,null,null,null,null,null,null,null,null,null,"","",{"$f":"IF(BS408=\"\",\"\",IF(COUNTIF(BS$4:BS408,BS408)=1,ROW(),\"\"))","v":""},{"$f":"IFERROR(INDEX(BS:BS,SMALL(BT:BT,ROW(A405))),\"\")","v":""},"","","",""]
[{"$f":"IF(F409<>\"\",事業者基本情報!$E$9&事業者基本情報!$F$9&事業者基本情報!$G$9,\"\")","v":""},{"$f":"IF(F409<>\"\",事業者基本情報!$Y$10,\"\")","v":""},{"$f":"IF(F409<>\"\",事業者基本情報!$Y$7,\"\")","v":""},{"$f":"IF(F409<>\"\",事業者基本情報!$Y$8,\"\")","v":""},{"$f":"IF(F409<>\"\",事業者基本情報!$E$11&事業者基本情報!$F$11&事業者基本情報!$G$11&事業者基本情報!$H$11&事業者基本情報!$I$11,\"\")","v":""},null,null,null,"市",null,null,"-",null,"-",null,{"$f":"IFERROR(VLOOKUP(Q409,コード表!$B$3:$C$101,2,FALSE),\"\")","v":""},null,{"$f":"IFERROR(VLOOKUP(S409,コード表!$F$7:$G$141,2,FALSE),\"\")","v":""},null,null,"t",null,null,null,null,null,null,null,null,null,null,null,null,null,null,null,null,null,null,null,null,null,null,null,null,null,null,null,null,null,null,null,null,null,null,null,null,null,null,null,null,null,null,null,null,null,null,null,null,"","",{"$f":"IF(BS409=\"\",\"\",IF(COUNTIF(BS$4:BS409,BS409)=1,ROW(),\"\"))","v":""},{"$f":"IFERROR(INDEX(BS:BS,SMALL(BT:BT,ROW(A406))),\"\")","v":""},"","","",""]
[{"$f":"IF(F410<>\"\",事業者基本情報!$E$9&事業者基本情報!$F$9&事業者基本情報!$G$9,\"\")","v":""},{"$f":"IF(F410<>\"\",事業者基本情報!$Y$10,\"\")","v":""},{"$f":"IF(F410<>\"\",事業者基本情報!$Y$7,\"\")","v":""},{"$f":"IF(F410<>\"\",事業者基本情報!$Y$8,\"\")","v":""},{"$f":"IF(F410<>\"\",事業者基本情報!$E$11&事業者基本情報!$F$11&事業者基本情報!$G$11&事業者基本情報!$H$11&事業者基本情報!$I$11,\"\")","v":""},null,null,null,"市",null,null,"-",null,"-",null,{"$f":"IFERROR(VLOOKUP(Q410,コード表!$B$3:$C$101,2,FALSE),\"\")","v":""},null,{"$f":"IFERROR(VLOOKUP(S410,コード表!$F$7:$G$141,2,FALSE),\"\")","v":""},null,null,"t",null,null,null,null,null,null,null,null,null,null,null,null,null,null,null,null,null,null,null,null,null,null,null,null,null,null,null,null,null,null,null,null,null,null,null,null,null,null,null,null,null,null,null,null,null,null,null,null,"","",{"$f":"IF(BS410=\"\",\"\",IF(COUNTIF(BS$4:BS410,BS410)=1,ROW(),\"\"))","v":""},{"$f":"IFERROR(INDEX(BS:BS,SMALL(BT:BT,ROW(A407))),\"\")","v":""},"","","",""]
[{"$f":"IF(F411<>\"\",事業者基本情報!$E$9&事業者基本情報!$F$9&事業者基本情報!$G$9,\"\")","v":""},{"$f":"IF(F411<>\"\",事業者基本情報!$Y$10,\"\")","v":""},{"$f":"IF(F411<>\"\",事業者基本情報!$Y$7,\"\")","v":""},{"$f":"IF(F411<>\"\",事業者基本情報!$Y$8,\"\")","v":""},{"$f":"IF(F411<>\"\",事業者基本情報!$E$11&事業者基本情報!$F$11&事業者基本情報!$G$11&事業者基本情報!$H$11&事業者基本情報!$I$11,\"\")","v":""},null,null,null,"市",null,null,"-",null,"-",null,{"$f":"IFERROR(VLOOKUP(Q411,コード表!$B$3:$C$101,2,FALSE),\"\")","v":""},null,{"$f":"IFERROR(VLOOKUP(S411,コード表!$F$7:$G$141,2,FALSE),\"\")","v":""},null,null,"t",null,null,null,null,null,null,null,null,null,null,null,null,null,null,null,null,null,null,null,null,null,null,null,null,null,null,null,null,null,null,null,null,null,null,null,null,null,null,null,null,null,null,null,null,null,null,null,null,"","",{"$f":"IF(BS411=\"\",\"\",IF(COUNTIF(BS$4:BS411,BS411)=1,ROW(),\"\"))","v":""},{"$f":"IFERROR(INDEX(BS:BS,SMALL(BT:BT,ROW(A408))),\"\")","v":""},"","","",""]
[{"$f":"IF(F412<>\"\",事業者基本情報!$E$9&事業者基本情報!$F$9&事業者基本情報!$G$9,\"\")","v":""},{"$f":"IF(F412<>\"\",事業者基本情報!$Y$10,\"\")","v":""},{"$f":"IF(F412<>\"\",事業者基本情報!$Y$7,\"\")","v":""},{"$f":"IF(F412<>\"\",事業者基本情報!$Y$8,\"\")","v":""},{"$f":"IF(F412<>\"\",事業者基本情報!$E$11&事業者基本情報!$F$11&事業者基本情報!$G$11&事業者基本情報!$H$11&事業者基本情報!$I$11,\"\")","v":""},null,null,null,"市",null,null,"-",null,"-",null,{"$f":"IFERROR(VLOOKUP(Q412,コード表!$B$3:$C$101,2,FALSE),\"\")","v":""},null,{"$f":"IFERROR(VLOOKUP(S412,コード表!$F$7:$G$141,2,FALSE),\"\")","v":""},null,null,"t",null,null,null,null,null,null,null,null,null,null,null,null,null,null,null,null,null,null,null,null,null,null,null,null,null,null,null,null,null,null,null,null,null,null,null,null,null,null,null,null,null,null,null,null,null,null,null,null,"","",{"$f":"IF(BS412=\"\",\"\",IF(COUNTIF(BS$4:BS412,BS412)=1,ROW(),\"\"))","v":""},{"$f":"IFERROR(INDEX(BS:BS,SMALL(BT:BT,ROW(A409))),\"\")","v":""},"","","",""]
[{"$f":"IF(F413<>\"\",事業者基本情報!$E$9&事業者基本情報!$F$9&事業者基本情報!$G$9,\"\")","v":""},{"$f":"IF(F413<>\"\",事業者基本情報!$Y$10,\"\")","v":""},{"$f":"IF(F413<>\"\",事業者基本情報!$Y$7,\"\")","v":""},{"$f":"IF(F413<>\"\",事業者基本情報!$Y$8,\"\")","v":""},{"$f":"IF(F413<>\"\",事業者基本情報!$E$11&事業者基本情報!$F$11&事業者基本情報!$G$11&事業者基本情報!$H$11&事業者基本情報!$I$11,\"\")","v":""},null,null,null,"市",null,null,"-",null,"-",null,{"$f":"IFERROR(VLOOKUP(Q413,コード表!$B$3:$C$101,2,FALSE),\"\")","v":""},null,{"$f":"IFERROR(VLOOKUP(S413,コード表!$F$7:$G$141,2,FALSE),\"\")","v":""},null,null,"t",null,null,null,null,null,null,null,null,null,null,null,null,null,null,null,null,null,null,null,null,null,null,null,null,null,null,null,null,null,null,null,null,null,null,null,null,null,null,null,null,null,null,null,null,null,null,null,null,"","",{"$f":"IF(BS413=\"\",\"\",IF(COUNTIF(BS$4:BS413,BS413)=1,ROW(),\"\"))","v":""},{"$f":"IFERROR(INDEX(BS:BS,SMALL(BT:BT,ROW(A410))),\"\")","v":""},"","","",""]
[{"$f":"IF(F414<>\"\",事業者基本情報!$E$9&事業者基本情報!$F$9&事業者基本情報!$G$9,\"\")","v":""},{"$f":"IF(F414<>\"\",事業者基本情報!$Y$10,\"\")","v":""},{"$f":"IF(F414<>\"\",事業者基本情報!$Y$7,\"\")","v":""},{"$f":"IF(F414<>\"\",事業者基本情報!$Y$8,\"\")","v":""},{"$f":"IF(F414<>\"\",事業者基本情報!$E$11&事業者基本情報!$F$11&事業者基本情報!$G$11&事業者基本情報!$H$11&事業者基本情報!$I$11,\"\")","v":""},null,null,null,"市",null,null,"-",null,"-",null,{"$f":"IFERROR(VLOOKUP(Q414,コード表!$B$3:$C$101,2,FALSE),\"\")","v":""},null,{"$f":"IFERROR(VLOOKUP(S414,コード表!$F$7:$G$141,2,FALSE),\"\")","v":""},null,null,"t",null,null,null,null,null,null,null,null,null,null,null,null,null,null,null,null,null,null,null,null,null,null,null,null,null,null,null,null,null,null,null,null,null,null,null,null,null,null,null,null,null,null,null,null,null,null,null,null,"","",{"$f":"IF(BS414=\"\",\"\",IF(COUNTIF(BS$4:BS414,BS414)=1,ROW(),\"\"))","v":""},{"$f":"IFERROR(INDEX(BS:BS,SMALL(BT:BT,ROW(A411))),\"\")","v":""},"","","",""]
[{"$f":"IF(F415<>\"\",事業者基本情報!$E$9&事業者基本情報!$F$9&事業者基本情報!$G$9,\"\")","v":""},{"$f":"IF(F415<>\"\",事業者基本情報!$Y$10,\"\")","v":""},{"$f":"IF(F415<>\"\",事業者基本情報!$Y$7,\"\")","v":""},{"$f":"IF(F415<>\"\",事業者基本情報!$Y$8,\"\")","v":""},{"$f":"IF(F415<>\"\",事業者基本情報!$E$11&事業者基本情報!$F$11&事業者基本情報!$G$11&事業者基本情報!$H$11&事業者基本情報!$I$11,\"\")","v":""},null,null,null,"市",null,null,"-",null,"-",null,{"$f":"IFERROR(VLOOKUP(Q415,コード表!$B$3:$C$101,2,FALSE),\"\")","v":""},null,{"$f":"IFERROR(VLOOKUP(S415,コード表!$F$7:$G$141,2,FALSE),\"\")","v":""},null,null,"t",null,null,null,null,null,null,null,null,null,null,null,null,null,null,null,null,null,null,null,null,null,null,null,null,null,null,null,null,null,null,null,null,null,null,null,null,null,null,null,null,null,null,null,null,null,null,null,null,"","",{"$f":"IF(BS415=\"\",\"\",IF(COUNTIF(BS$4:BS415,BS415)=1,ROW(),\"\"))","v":""},{"$f":"IFERROR(INDEX(BS:BS,SMALL(BT:BT,ROW(A412))),\"\")","v":""},"","","",""]
[{"$f":"IF(F416<>\"\",事業者基本情報!$E$9&事業者基本情報!$F$9&事業者基本情報!$G$9,\"\")","v":""},{"$f":"IF(F416<>\"\",事業者基本情報!$Y$10,\"\")","v":""},{"$f":"IF(F416<>\"\",事業者基本情報!$Y$7,\"\")","v":""},{"$f":"IF(F416<>\"\",事業者基本情報!$Y$8,\"\")","v":""},{"$f":"IF(F416<>\"\",事業者基本情報!$E$11&事業者基本情報!$F$11&事業者基本情報!$G$11&事業者基本情報!$H$11&事業者基本情報!$I$11,\"\")","v":""},null,null,null,"市",null,null,"-",null,"-",null,{"$f":"IFERROR(VLOOKUP(Q416,コード表!$B$3:$C$101,2,FALSE),\"\")","v":""},null,{"$f":"IFERROR(VLOOKUP(S416,コード表!$F$7:$G$141,2,FALSE),\"\")","v":""},null,null,"t",null,null,null,null,null,null,null,null,null,null,null,null,null,null,null,null,null,null,null,null,null,null,null,null,null,null,null,null,null,null,null,null,null,null,null,null,null,null,null,null,null,null,null,null,null,null,null,null,"","",{"$f":"IF(BS416=\"\",\"\",IF(COUNTIF(BS$4:BS416,BS416)=1,ROW(),\"\"))","v":""},{"$f":"IFERROR(INDEX(BS:BS,SMALL(BT:BT,ROW(A413))),\"\")","v":""},"","","",""]
[{"$f":"IF(F417<>\"\",事業者基本情報!$E$9&事業者基本情報!$F$9&事業者基本情報!$G$9,\"\")","v":""},{"$f":"IF(F417<>\"\",事業者基本情報!$Y$10,\"\")","v":""},{"$f":"IF(F417<>\"\",事業者基本情報!$Y$7,\"\")","v":""},{"$f":"IF(F417<>\"\",事業者基本情報!$Y$8,\"\")","v":""},{"$f":"IF(F417<>\"\",事業者基本情報!$E$11&事業者基本情報!$F$11&事業者基本情報!$G$11&事業者基本情報!$H$11&事業者基本情報!$I$11,\"\")","v":""},null,null,null,"市",null,null,"-",null,"-",null,{"$f":"IFERROR(VLOOKUP(Q417,コード表!$B$3:$C$101,2,FALSE),\"\")","v":""},null,{"$f":"IFERROR(VLOOKUP(S417,コード表!$F$7:$G$141,2,FALSE),\"\")","v":""},null,null,"t",null,null,null,null,null,null,null,null,null,null,null,null,null,null,null,null,null,null,null,null,null,null,null,null,null,null,null,null,null,null,null,null,null,null,null,null,null,null,null,null,null,null,null,null,null,null,null,null,"","",{"$f":"IF(BS417=\"\",\"\",IF(COUNTIF(BS$4:BS417,BS417)=1,ROW(),\"\"))","v":""},{"$f":"IFERROR(INDEX(BS:BS,SMALL(BT:BT,ROW(A414))),\"\")","v":""},"","","",""]
[{"$f":"IF(F418<>\"\",事業者基本情報!$E$9&事業者基本情報!$F$9&事業者基本情報!$G$9,\"\")","v":""},{"$f":"IF(F418<>\"\",事業者基本情報!$Y$10,\"\")","v":""},{"$f":"IF(F418<>\"\",事業者基本情報!$Y$7,\"\")","v":""},{"$f":"IF(F418<>\"\",事業者基本情報!$Y$8,\"\")","v":""},{"$f":"IF(F418<>\"\",事業者基本情報!$E$11&事業者基本情報!$F$11&事業者基本情報!$G$11&事業者基本情報!$H$11&事業者基本情報!$I$11,\"\")","v":""},null,null,null,"市",null,null,"-",null,"-",null,{"$f":"IFERROR(VLOOKUP(Q418,コード表!$B$3:$C$101,2,FALSE),\"\")","v":""},null,{"$f":"IFERROR(VLOOKUP(S418,コード表!$F$7:$G$141,2,FALSE),\"\")","v":""},null,null,"t",null,null,null,null,null,null,null,null,null,null,null,null,null,null,null,null,null,null,null,null,null,null,null,null,null,null,null,null,null,null,null,null,null,null,null,null,null,null,null,null,null,null,null,null,null,null,null,null,"","",{"$f":"IF(BS418=\"\",\"\",IF(COUNTIF(BS$4:BS418,BS418)=1,ROW(),\"\"))","v":""},{"$f":"IFERROR(INDEX(BS:BS,SMALL(BT:BT,ROW(A415))),\"\")","v":""},"","","",""]
[{"$f":"IF(F419<>\"\",事業者基本情報!$E$9&事業者基本情報!$F$9&事業者基本情報!$G$9,\"\")","v":""},{"$f":"IF(F419<>\"\",事業者基本情報!$Y$10,\"\")","v":""},{"$f":"IF(F419<>\"\",事業者基本情報!$Y$7,\"\")","v":""},{"$f":"IF(F419<>\"\",事業者基本情報!$Y$8,\"\")","v":""},{"$f":"IF(F419<>\"\",事業者基本情報!$E$11&事業者基本情報!$F$11&事業者基本情報!$G$11&事業者基本情報!$H$11&事業者基本情報!$I$11,\"\")","v":""},null,null,null,"市",null,null,"-",null,"-",null,{"$f":"IFERROR(VLOOKUP(Q419,コード表!$B$3:$C$101,2,FALSE),\"\")","v":""},null,{"$f":"IFERROR(VLOOKUP(S419,コード表!$F$7:$G$141,2,FALSE),\"\")","v":""},null,null,"t",null,null,null,null,null,null,null,null,null,null,null,null,null,null,null,null,null,null,null,null,null,null,null,null,null,null,null,null,null,null,null,null,null,null,null,null,null,null,null,null,null,null,null,null,null,null,null,null,"","",{"$f":"IF(BS419=\"\",\"\",IF(COUNTIF(BS$4:BS419,BS419)=1,ROW(),\"\"))","v":""},{"$f":"IFERROR(INDEX(BS:BS,SMALL(BT:BT,ROW(A416))),\"\")","v":""},"","","",""]
[{"$f":"IF(F420<>\"\",事業者基本情報!$E$9&事業者基本情報!$F$9&事業者基本情報!$G$9,\"\")","v":""},{"$f":"IF(F420<>\"\",事業者基本情報!$Y$10,\"\")","v":""},{"$f":"IF(F420<>\"\",事業者基本情報!$Y$7,\"\")","v":""},{"$f":"IF(F420<>\"\",事業者基本情報!$Y$8,\"\")","v":""},{"$f":"IF(F420<>\"\",事業者基本情報!$E$11&事業者基本情報!$F$11&事業者基本情報!$G$11&事業者基本情報!$H$11&事業者基本情報!$I$11,\"\")","v":""},null,null,null,"市",null,null,"-",null,"-",null,{"$f":"IFERROR(VLOOKUP(Q420,コード表!$B$3:$C$101,2,FALSE),\"\")","v":""},null,{"$f":"IFERROR(VLOOKUP(S420,コード表!$F$7:$G$141,2,FALSE),\"\")","v":""},null,null,"t",null,null,null,null,null,null,null,null,null,null,null,null,null,null,null,null,null,null,null,null,null,null,null,null,null,null,null,null,null,null,null,null,null,null,null,null,null,null,null,null,null,null,null,null,null,null,null,null,"","",{"$f":"IF(BS420=\"\",\"\",IF(COUNTIF(BS$4:BS420,BS420)=1,ROW(),\"\"))","v":""},{"$f":"IFERROR(INDEX(BS:BS,SMALL(BT:BT,ROW(A417))),\"\")","v":""},"","","",""]
[{"$f":"IF(F421<>\"\",事業者基本情報!$E$9&事業者基本情報!$F$9&事業者基本情報!$G$9,\"\")","v":""},{"$f":"IF(F421<>\"\",事業者基本情報!$Y$10,\"\")","v":""},{"$f":"IF(F421<>\"\",事業者基本情報!$Y$7,\"\")","v":""},{"$f":"IF(F421<>\"\",事業者基本情報!$Y$8,\"\")","v":""},{"$f":"IF(F421<>\"\",事業者基本情報!$E$11&事業者基本情報!$F$11&事業者基本情報!$G$11&事業者基本情報!$H$11&事業者基本情報!$I$11,\"\")","v":""},null,null,null,"市",null,null,"-",null,"-",null,{"$f":"IFERROR(VLOOKUP(Q421,コード表!$B$3:$C$101,2,FALSE),\"\")","v":""},null,{"$f":"IFERROR(VLOOKUP(S421,コード表!$F$7:$G$141,2,FALSE),\"\")","v":""},null,null,"t",null,null,null,null,null,null,null,null,null,null,null,null,null,null,null,null,null,null,null,null,null,null,null,null,null,null,null,null,null,null,null,null,null,null,null,null,null,null,null,null,null,null,null,null,null,null,null,null,"","",{"$f":"IF(BS421=\"\",\"\",IF(COUNTIF(BS$4:BS421,BS421)=1,ROW(),\"\"))","v":""},{"$f":"IFERROR(INDEX(BS:BS,SMALL(BT:BT,ROW(A418))),\"\")","v":""},"","","",""]
[{"$f":"IF(F422<>\"\",事業者基本情報!$E$9&事業者基本情報!$F$9&事業者基本情報!$G$9,\"\")","v":""},{"$f":"IF(F422<>\"\",事業者基本情報!$Y$10,\"\")","v":""},{"$f":"IF(F422<>\"\",事業者基本情報!$Y$7,\"\")","v":""},{"$f":"IF(F422<>\"\",事業者基本情報!$Y$8,\"\")","v":""},{"$f":"IF(F422<>\"\",事業者基本情報!$E$11&事業者基本情報!$F$11&事業者基本情報!$G$11&事業者基本情報!$H$11&事業者基本情報!$I$11,\"\")","v":""},null,null,null,"市",null,null,"-",null,"-",null,{"$f":"IFERROR(VLOOKUP(Q422,コード表!$B$3:$C$101,2,FALSE),\"\")","v":""},null,{"$f":"IFERROR(VLOOKUP(S422,コード表!$F$7:$G$141,2,FALSE),\"\")","v":""},null,null,"t",null,null,null,null,null,null,null,null,null,null,null,null,null,null,null,null,null,null,null,null,null,null,null,null,null,null,null,null,null,null,null,null,null,null,null,null,null,null,null,null,null,null,null,null,null,null,null,null,"","",{"$f":"IF(BS422=\"\",\"\",IF(COUNTIF(BS$4:BS422,BS422)=1,ROW(),\"\"))","v":""},{"$f":"IFERROR(INDEX(BS:BS,SMALL(BT:BT,ROW(A419))),\"\")","v":""},"","","",""]
[{"$f":"IF(F423<>\"\",事業者基本情報!$E$9&事業者基本情報!$F$9&事業者基本情報!$G$9,\"\")","v":""},{"$f":"IF(F423<>\"\",事業者基本情報!$Y$10,\"\")","v":""},{"$f":"IF(F423<>\"\",事業者基本情報!$Y$7,\"\")","v":""},{"$f":"IF(F423<>\"\",事業者基本情報!$Y$8,\"\")","v":""},{"$f":"IF(F423<>\"\",事業者基本情報!$E$11&事業者基本情報!$F$11&事業者基本情報!$G$11&事業者基本情報!$H$11&事業者基本情報!$I$11,\"\")","v":""},null,null,null,"市",null,null,"-",null,"-",null,{"$f":"IFERROR(VLOOKUP(Q423,コード表!$B$3:$C$101,2,FALSE),\"\")","v":""},null,{"$f":"IFERROR(VLOOKUP(S423,コード表!$F$7:$G$141,2,FALSE),\"\")","v":""},null,null,"t",null,null,null,null,null,null,null,null,null,null,null,null,null,null,null,null,null,null,null,null,null,null,null,null,null,null,null,null,null,null,null,null,null,null,null,null,null,null,null,null,null,null,null,null,null,null,null,null,"","",{"$f":"IF(BS423=\"\",\"\",IF(COUNTIF(BS$4:BS423,BS423)=1,ROW(),\"\"))","v":""},{"$f":"IFERROR(INDEX(BS:BS,SMALL(BT:BT,ROW(A420))),\"\")","v":""},"","","",""]
[{"$f":"IF(F424<>\"\",事業者基本情報!$E$9&事業者基本情報!$F$9&事業者基本情報!$G$9,\"\")","v":""},{"$f":"IF(F424<>\"\",事業者基本情報!$Y$10,\"\")","v":""},{"$f":"IF(F424<>\"\",事業者基本情報!$Y$7,\"\")","v":""},{"$f":"IF(F424<>\"\",事業者基本情報!$Y$8,\"\")","v":""},{"$f":"IF(F424<>\"\",事業者基本情報!$E$11&事業者基本情報!$F$11&事業者基本情報!$G$11&事業者基本情報!$H$11&事業者基本情報!$I$11,\"\")","v":""},null,null,null,"市",null,null,"-",null,"-",null,{"$f":"IFERROR(VLOOKUP(Q424,コード表!$B$3:$C$101,2,FALSE),\"\")","v":""},null,{"$f":"IFERROR(VLOOKUP(S424,コード表!$F$7:$G$141,2,FALSE),\"\")","v":""},null,null,"t",null,null,null,null,null,null,null,null,null,null,null,null,null,null,null,null,null,null,null,null,null,null,null,null,null,null,null,null,null,null,null,null,null,null,null,null,null,null,null,null,null,null,null,null,null,null,null,null,"","",{"$f":"IF(BS424=\"\",\"\",IF(COUNTIF(BS$4:BS424,BS424)=1,ROW(),\"\"))","v":""},{"$f":"IFERROR(INDEX(BS:BS,SMALL(BT:BT,ROW(A421))),\"\")","v":""},"","","",""]
[{"$f":"IF(F425<>\"\",事業者基本情報!$E$9&事業者基本情報!$F$9&事業者基本情報!$G$9,\"\")","v":""},{"$f":"IF(F425<>\"\",事業者基本情報!$Y$10,\"\")","v":""},{"$f":"IF(F425<>\"\",事業者基本情報!$Y$7,\"\")","v":""},{"$f":"IF(F425<>\"\",事業者基本情報!$Y$8,\"\")","v":""},{"$f":"IF(F425<>\"\",事業者基本情報!$E$11&事業者基本情報!$F$11&事業者基本情報!$G$11&事業者基本情報!$H$11&事業者基本情報!$I$11,\"\")","v":""},null,null,null,"市",null,null,"-",null,"-",null,{"$f":"IFERROR(VLOOKUP(Q425,コード表!$B$3:$C$101,2,FALSE),\"\")","v":""},null,{"$f":"IFERROR(VLOOKUP(S425,コード表!$F$7:$G$141,2,FALSE),\"\")","v":""},null,null,"t",null,null,null,null,null,null,null,null,null,null,null,null,null,null,null,null,null,null,null,null,null,null,null,null,null,null,null,null,null,null,null,null,null,null,null,null,null,null,null,null,null,null,null,null,null,null,null,null,"","",{"$f":"IF(BS425=\"\",\"\",IF(COUNTIF(BS$4:BS425,BS425)=1,ROW(),\"\"))","v":""},{"$f":"IFERROR(INDEX(BS:BS,SMALL(BT:BT,ROW(A422))),\"\")","v":""},"","","",""]
[{"$f":"IF(F426<>\"\",事業者基本情報!$E$9&事業者基本情報!$F$9&事業者基本情報!$G$9,\"\")","v":""},{"$f":"IF(F426<>\"\",事業者基本情報!$Y$10,\"\")","v":""},{"$f":"IF(F426<>\"\",事業者基本情報!$Y$7,\"\")","v":""},{"$f":"IF(F426<>\"\",事業者基本情報!$Y$8,\"\")","v":""},{"$f":"IF(F426<>\"\",事業者基本情報!$E$11&事業者基本情報!$F$11&事業者基本情報!$G$11&事業者基本情報!$H$11&事業者基本情報!$I$11,\"\")","v":""},null,null,null,"市",null,null,"-",null,"-",null,{"$f":"IFERROR(VLOOKUP(Q426,コード表!$B$3:$C$101,2,FALSE),\"\")","v":""},null,{"$f":"IFERROR(VLOOKUP(S426,コード表!$F$7:$G$141,2,FALSE),\"\")","v":""},null,null,"t",null,null,null,null,null,null,null,null,null,null,null,null,null,null,null,null,null,null,null,null,null,null,null,null,null,null,null,null,null,null,null,null,null,null,null,null,null,null,null,null,null,null,null,null,null,null,null,null,"","",{"$f":"IF(BS426=\"\",\"\",IF(COUNTIF(BS$4:BS426,BS426)=1,ROW(),\"\"))","v":""},{"$f":"IFERROR(INDEX(BS:BS,SMALL(BT:BT,ROW(A423))),\"\")","v":""},"","","",""]
[{"$f":"IF(F427<>\"\",事業者基本情報!$E$9&事業者基本情報!$F$9&事業者基本情報!$G$9,\"\")","v":""},{"$f":"IF(F427<>\"\",事業者基本情報!$Y$10,\"\")","v":""},{"$f":"IF(F427<>\"\",事業者基本情報!$Y$7,\"\")","v":""},{"$f":"IF(F427<>\"\",事業者基本情報!$Y$8,\"\")","v":""},{"$f":"IF(F427<>\"\",事業者基本情報!$E$11&事業者基本情報!$F$11&事業者基本情報!$G$11&事業者基本情報!$H$11&事業者基本情報!$I$11,\"\")","v":""},null,null,null,"市",null,null,"-",null,"-",null,{"$f":"IFERROR(VLOOKUP(Q427,コード表!$B$3:$C$101,2,FALSE),\"\")","v":""},null,{"$f":"IFERROR(VLOOKUP(S427,コード表!$F$7:$G$141,2,FALSE),\"\")","v":""},null,null,"t",null,null,null,null,null,null,null,null,null,null,null,null,null,null,null,null,null,null,null,null,null,null,null,null,null,null,null,null,null,null,null,null,null,null,null,null,null,null,null,null,null,null,null,null,null,null,null,null,"","",{"$f":"IF(BS427=\"\",\"\",IF(COUNTIF(BS$4:BS427,BS427)=1,ROW(),\"\"))","v":""},{"$f":"IFERROR(INDEX(BS:BS,SMALL(BT:BT,ROW(A424))),\"\")","v":""},"","","",""]
[{"$f":"IF(F428<>\"\",事業者基本情報!$E$9&事業者基本情報!$F$9&事業者基本情報!$G$9,\"\")","v":""},{"$f":"IF(F428<>\"\",事業者基本情報!$Y$10,\"\")","v":""},{"$f":"IF(F428<>\"\",事業者基本情報!$Y$7,\"\")","v":""},{"$f":"IF(F428<>\"\",事業者基本情報!$Y$8,\"\")","v":""},{"$f":"IF(F428<>\"\",事業者基本情報!$E$11&事業者基本情報!$F$11&事業者基本情報!$G$11&事業者基本情報!$H$11&事業者基本情報!$I$11,\"\")","v":""},null,null,null,"市",null,null,"-",null,"-",null,{"$f":"IFERROR(VLOOKUP(Q428,コード表!$B$3:$C$101,2,FALSE),\"\")","v":""},null,{"$f":"IFERROR(VLOOKUP(S428,コード表!$F$7:$G$141,2,FALSE),\"\")","v":""},null,null,"t",null,null,null,null,null,null,null,null,null,null,null,null,null,null,null,null,null,null,null,null,null,null,null,null,null,null,null,null,null,null,null,null,null,null,null,null,null,null,null,null,null,null,null,null,null,null,null,null,"","",{"$f":"IF(BS428=\"\",\"\",IF(COUNTIF(BS$4:BS428,BS428)=1,ROW(),\"\"))","v":""},{"$f":"IFERROR(INDEX(BS:BS,SMALL(BT:BT,ROW(A425))),\"\")","v":""},"","","",""]
[{"$f":"IF(F429<>\"\",事業者基本情報!$E$9&事業者基本情報!$F$9&事業者基本情報!$G$9,\"\")","v":""},{"$f":"IF(F429<>\"\",事業者基本情報!$Y$10,\"\")","v":""},{"$f":"IF(F429<>\"\",事業者基本情報!$Y$7,\"\")","v":""},{"$f":"IF(F429<>\"\",事業者基本情報!$Y$8,\"\")","v":""},{"$f":"IF(F429<>\"\",事業者基本情報!$E$11&事業者基本情報!$F$11&事業者基本情報!$G$11&事業者基本情報!$H$11&事業者基本情報!$I$11,\"\")","v":""},null,null,null,"市",null,null,"-",null,"-",null,{"$f":"IFERROR(VLOOKUP(Q429,コード表!$B$3:$C$101,2,FALSE),\"\")","v":""},null,{"$f":"IFERROR(VLOOKUP(S429,コード表!$F$7:$G$141,2,FALSE),\"\")","v":""},null,null,"t",null,null,null,null,null,null,null,null,null,null,null,null,null,null,null,null,null,null,null,null,null,null,null,null,null,null,null,null,null,null,null,null,null,null,null,null,null,null,null,null,null,null,null,null,null,null,null,null,"","",{"$f":"IF(BS429=\"\",\"\",IF(COUNTIF(BS$4:BS429,BS429)=1,ROW(),\"\"))","v":""},{"$f":"IFERROR(INDEX(BS:BS,SMALL(BT:BT,ROW(A426))),\"\")","v":""},"","","",""]
[{"$f":"IF(F430<>\"\",事業者基本情報!$E$9&事業者基本情報!$F$9&事業者基本情報!$G$9,\"\")","v":""},{"$f":"IF(F430<>\"\",事業者基本情報!$Y$10,\"\")","v":""},{"$f":"IF(F430<>\"\",事業者基本情報!$Y$7,\"\")","v":""},{"$f":"IF(F430<>\"\",事業者基本情報!$Y$8,\"\")","v":""},{"$f":"IF(F430<>\"\",事業者基本情報!$E$11&事業者基本情報!$F$11&事業者基本情報!$G$11&事業者基本情報!$H$11&事業者基本情報!$I$11,\"\")","v":""},null,null,null,"市",null,null,"-",null,"-",null,{"$f":"IFERROR(VLOOKUP(Q430,コード表!$B$3:$C$101,2,FALSE),\"\")","v":""},null,{"$f":"IFERROR(VLOOKUP(S430,コード表!$F$7:$G$141,2,FALSE),\"\")","v":""},null,null,"t",null,null,null,null,null,null,null,null,null,null,null,null,null,null,null,null,null,null,null,null,null,null,null,null,null,null,null,null,null,null,null,null,null,null,null,null,null,null,null,null,null,null,null,null,null,null,null,null,"","",{"$f":"IF(BS430=\"\",\"\",IF(COUNTIF(BS$4:BS430,BS430)=1,ROW(),\"\"))","v":""},{"$f":"IFERROR(INDEX(BS:BS,SMALL(BT:BT,ROW(A427))),\"\")","v":""},"","","",""]
[{"$f":"IF(F431<>\"\",事業者基本情報!$E$9&事業者基本情報!$F$9&事業者基本情報!$G$9,\"\")","v":""},{"$f":"IF(F431<>\"\",事業者基本情報!$Y$10,\"\")","v":""},{"$f":"IF(F431<>\"\",事業者基本情報!$Y$7,\"\")","v":""},{"$f":"IF(F431<>\"\",事業者基本情報!$Y$8,\"\")","v":""},{"$f":"IF(F431<>\"\",事業者基本情報!$E$11&事業者基本情報!$F$11&事業者基本情報!$G$11&事業者基本情報!$H$11&事業者基本情報!$I$11,\"\")","v":""},null,null,null,"市",null,null,"-",null,"-",null,{"$f":"IFERROR(VLOOKUP(Q431,コード表!$B$3:$C$101,2,FALSE),\"\")","v":""},null,{"$f":"IFERROR(VLOOKUP(S431,コード表!$F$7:$G$141,2,FALSE),\"\")","v":""},null,null,"t",null,null,null,null,null,null,null,null,null,null,null,null,null,null,null,null,null,null,null,null,null,null,null,null,null,null,null,null,null,null,null,null,null,null,null,null,null,null,null,null,null,null,null,null,null,null,null,null,"","",{"$f":"IF(BS431=\"\",\"\",IF(COUNTIF(BS$4:BS431,BS431)=1,ROW(),\"\"))","v":""},{"$f":"IFERROR(INDEX(BS:BS,SMALL(BT:BT,ROW(A428))),\"\")","v":""},"","","",""]
[{"$f":"IF(F432<>\"\",事業者基本情報!$E$9&事業者基本情報!$F$9&事業者基本情報!$G$9,\"\")","v":""},{"$f":"IF(F432<>\"\",事業者基本情報!$Y$10,\"\")","v":""},{"$f":"IF(F432<>\"\",事業者基本情報!$Y$7,\"\")","v":""},{"$f":"IF(F432<>\"\",事業者基本情報!$Y$8,\"\")","v":""},{"$f":"IF(F432<>\"\",事業者基本情報!$E$11&事業者基本情報!$F$11&事業者基本情報!$G$11&事業者基本情報!$H$11&事業者基本情報!$I$11,\"\")","v":""},null,null,null,"市",null,null,"-",null,"-",null,{"$f":"IFERROR(VLOOKUP(Q432,コード表!$B$3:$C$101,2,FALSE),\"\")","v":""},null,{"$f":"IFERROR(VLOOKUP(S432,コード表!$F$7:$G$141,2,FALSE),\"\")","v":""},null,null,"t",null,null,null,null,null,null,null,null,null,null,null,null,null,null,null,null,null,null,null,null,null,null,null,null,null,null,null,null,null,null,null,null,null,null,null,null,null,null,null,null,null,null,null,null,null,null,null,null,"","",{"$f":"IF(BS432=\"\",\"\",IF(COUNTIF(BS$4:BS432,BS432)=1,ROW(),\"\"))","v":""},{"$f":"IFERROR(INDEX(BS:BS,SMALL(BT:BT,ROW(A429))),\"\")","v":""},"","","",""]
[{"$f":"IF(F433<>\"\",事業者基本情報!$E$9&事業者基本情報!$F$9&事業者基本情報!$G$9,\"\")","v":""},{"$f":"IF(F433<>\"\",事業者基本情報!$Y$10,\"\")","v":""},{"$f":"IF(F433<>\"\",事業者基本情報!$Y$7,\"\")","v":""},{"$f":"IF(F433<>\"\",事業者基本情報!$Y$8,\"\")","v":""},{"$f":"IF(F433<>\"\",事業者基本情報!$E$11&事業者基本情報!$F$11&事業者基本情報!$G$11&事業者基本情報!$H$11&事業者基本情報!$I$11,\"\")","v":""},null,null,null,"市",null,null,"-",null,"-",null,{"$f":"IFERROR(VLOOKUP(Q433,コード表!$B$3:$C$101,2,FALSE),\"\")","v":""},null,{"$f":"IFERROR(VLOOKUP(S433,コード表!$F$7:$G$141,2,FALSE),\"\")","v":""},null,null,"t",null,null,null,null,null,null,null,null,null,null,null,null,null,null,null,null,null,null,null,null,null,null,null,null,null,null,null,null,null,null,null,null,null,null,null,null,null,null,null,null,null,null,null,null,null,null,null,null,"","",{"$f":"IF(BS433=\"\",\"\",IF(COUNTIF(BS$4:BS433,BS433)=1,ROW(),\"\"))","v":""},{"$f":"IFERROR(INDEX(BS:BS,SMALL(BT:BT,ROW(A430))),\"\")","v":""},"","","",""]
[{"$f":"IF(F434<>\"\",事業者基本情報!$E$9&事業者基本情報!$F$9&事業者基本情報!$G$9,\"\")","v":""},{"$f":"IF(F434<>\"\",事業者基本情報!$Y$10,\"\")","v":""},{"$f":"IF(F434<>\"\",事業者基本情報!$Y$7,\"\")","v":""},{"$f":"IF(F434<>\"\",事業者基本情報!$Y$8,\"\")","v":""},{"$f":"IF(F434<>\"\",事業者基本情報!$E$11&事業者基本情報!$F$11&事業者基本情報!$G$11&事業者基本情報!$H$11&事業者基本情報!$I$11,\"\")","v":""},null,null,null,"市",null,null,"-",null,"-",null,{"$f":"IFERROR(VLOOKUP(Q434,コード表!$B$3:$C$101,2,FALSE),\"\")","v":""},null,{"$f":"IFERROR(VLOOKUP(S434,コード表!$F$7:$G$141,2,FALSE),\"\")","v":""},null,null,"t",null,null,null,null,null,null,null,null,null,null,null,null,null,null,null,null,null,null,null,null,null,null,null,null,null,null,null,null,null,null,null,null,null,null,null,null,null,null,null,null,null,null,null,null,null,null,null,null,"","",{"$f":"IF(BS434=\"\",\"\",IF(COUNTIF(BS$4:BS434,BS434)=1,ROW(),\"\"))","v":""},{"$f":"IFERROR(INDEX(BS:BS,SMALL(BT:BT,ROW(A431))),\"\")","v":""},"","","",""]
[{"$f":"IF(F435<>\"\",事業者基本情報!$E$9&事業者基本情報!$F$9&事業者基本情報!$G$9,\"\")","v":""},{"$f":"IF(F435<>\"\",事業者基本情報!$Y$10,\"\")","v":""},{"$f":"IF(F435<>\"\",事業者基本情報!$Y$7,\"\")","v":""},{"$f":"IF(F435<>\"\",事業者基本情報!$Y$8,\"\")","v":""},{"$f":"IF(F435<>\"\",事業者基本情報!$E$11&事業者基本情報!$F$11&事業者基本情報!$G$11&事業者基本情報!$H$11&事業者基本情報!$I$11,\"\")","v":""},null,null,null,"市",null,null,"-",null,"-",null,{"$f":"IFERROR(VLOOKUP(Q435,コード表!$B$3:$C$101,2,FALSE),\"\")","v":""},null,{"$f":"IFERROR(VLOOKUP(S435,コード表!$F$7:$G$141,2,FALSE),\"\")","v":""},null,null,"t",null,null,null,null,null,null,null,null,null,null,null,null,null,null,null,null,null,null,null,null,null,null,null,null,null,null,null,null,null,null,null,null,null,null,null,null,null,null,null,null,null,null,null,null,null,null,null,null,"","",{"$f":"IF(BS435=\"\",\"\",IF(COUNTIF(BS$4:BS435,BS435)=1,ROW(),\"\"))","v":""},{"$f":"IFERROR(INDEX(BS:BS,SMALL(BT:BT,ROW(A432))),\"\")","v":""},"","","",""]
[{"$f":"IF(F436<>\"\",事業者基本情報!$E$9&事業者基本情報!$F$9&事業者基本情報!$G$9,\"\")","v":""},{"$f":"IF(F436<>\"\",事業者基本情報!$Y$10,\"\")","v":""},{"$f":"IF(F436<>\"\",事業者基本情報!$Y$7,\"\")","v":""},{"$f":"IF(F436<>\"\",事業者基本情報!$Y$8,\"\")","v":""},{"$f":"IF(F436<>\"\",事業者基本情報!$E$11&事業者基本情報!$F$11&事業者基本情報!$G$11&事業者基本情報!$H$11&事業者基本情報!$I$11,\"\")","v":""},null,null,null,"市",null,null,"-",null,"-",null,{"$f":"IFERROR(VLOOKUP(Q436,コード表!$B$3:$C$101,2,FALSE),\"\")","v":""},null,{"$f":"IFERROR(VLOOKUP(S436,コード表!$F$7:$G$141,2,FALSE),\"\")","v":""},null,null,"t",null,null,null,null,null,null,null,null,null,null,null,null,null,null,null,null,null,null,null,null,null,null,null,null,null,null,null,null,null,null,null,null,null,null,null,null,null,null,null,null,null,null,null,null,null,null,null,null,"","",{"$f":"IF(BS436=\"\",\"\",IF(COUNTIF(BS$4:BS436,BS436)=1,ROW(),\"\"))","v":""},{"$f":"IFERROR(INDEX(BS:BS,SMALL(BT:BT,ROW(A433))),\"\")","v":""},"","","",""]
[{"$f":"IF(F437<>\"\",事業者基本情報!$E$9&事業者基本情報!$F$9&事業者基本情報!$G$9,\"\")","v":""},{"$f":"IF(F437<>\"\",事業者基本情報!$Y$10,\"\")","v":""},{"$f":"IF(F437<>\"\",事業者基本情報!$Y$7,\"\")","v":""},{"$f":"IF(F437<>\"\",事業者基本情報!$Y$8,\"\")","v":""},{"$f":"IF(F437<>\"\",事業者基本情報!$E$11&事業者基本情報!$F$11&事業者基本情報!$G$11&事業者基本情報!$H$11&事業者基本情報!$I$11,\"\")","v":""},null,null,null,"市",null,null,"-",null,"-",null,{"$f":"IFERROR(VLOOKUP(Q437,コード表!$B$3:$C$101,2,FALSE),\"\")","v":""},null,{"$f":"IFERROR(VLOOKUP(S437,コード表!$F$7:$G$141,2,FALSE),\"\")","v":""},null,null,"t",null,null,null,null,null,null,null,null,null,null,null,null,null,null,null,null,null,null,null,null,null,null,null,null,null,null,null,null,null,null,null,null,null,null,null,null,null,null,null,null,null,null,null,null,null,null,null,null,"","",{"$f":"IF(BS437=\"\",\"\",IF(COUNTIF(BS$4:BS437,BS437)=1,ROW(),\"\"))","v":""},{"$f":"IFERROR(INDEX(BS:BS,SMALL(BT:BT,ROW(A434))),\"\")","v":""},"","","",""]
[{"$f":"IF(F438<>\"\",事業者基本情報!$E$9&事業者基本情報!$F$9&事業者基本情報!$G$9,\"\")","v":""},{"$f":"IF(F438<>\"\",事業者基本情報!$Y$10,\"\")","v":""},{"$f":"IF(F438<>\"\",事業者基本情報!$Y$7,\"\")","v":""},{"$f":"IF(F438<>\"\",事業者基本情報!$Y$8,\"\")","v":""},{"$f":"IF(F438<>\"\",事業者基本情報!$E$11&事業者基本情報!$F$11&事業者基本情報!$G$11&事業者基本情報!$H$11&事業者基本情報!$I$11,\"\")","v":""},null,null,null,"市",null,null,"-",null,"-",null,{"$f":"IFERROR(VLOOKUP(Q438,コード表!$B$3:$C$101,2,FALSE),\"\")","v":""},null,{"$f":"IFERROR(VLOOKUP(S438,コード表!$F$7:$G$141,2,FALSE),\"\")","v":""},null,null,"t",null,null,null,null,null,null,null,null,null,null,null,null,null,null,null,null,null,null,null,null,null,null,null,null,null,null,null,null,null,null,null,null,null,null,null,null,null,null,null,null,null,null,null,null,null,null,null,null,"","",{"$f":"IF(BS438=\"\",\"\",IF(COUNTIF(BS$4:BS438,BS438)=1,ROW(),\"\"))","v":""},{"$f":"IFERROR(INDEX(BS:BS,SMALL(BT:BT,ROW(A435))),\"\")","v":""},"","","",""]
[{"$f":"IF(F439<>\"\",事業者基本情報!$E$9&事業者基本情報!$F$9&事業者基本情報!$G$9,\"\")","v":""},{"$f":"IF(F439<>\"\",事業者基本情報!$Y$10,\"\")","v":""},{"$f":"IF(F439<>\"\",事業者基本情報!$Y$7,\"\")","v":""},{"$f":"IF(F439<>\"\",事業者基本情報!$Y$8,\"\")","v":""},{"$f":"IF(F439<>\"\",事業者基本情報!$E$11&事業者基本情報!$F$11&事業者基本情報!$G$11&事業者基本情報!$H$11&事業者基本情報!$I$11,\"\")","v":""},null,null,null,"市",null,null,"-",null,"-",null,{"$f":"IFERROR(VLOOKUP(Q439,コード表!$B$3:$C$101,2,FALSE),\"\")","v":""},null,{"$f":"IFERROR(VLOOKUP(S439,コード表!$F$7:$G$141,2,FALSE),\"\")","v":""},null,null,"t",null,null,null,null,null,null,null,null,null,null,null,null,null,null,null,null,null,null,null,null,null,null,null,null,null,null,null,null,null,null,null,null,null,null,null,null,null,null,null,null,null,null,null,null,null,null,null,null,"","",{"$f":"IF(BS439=\"\",\"\",IF(COUNTIF(BS$4:BS439,BS439)=1,ROW(),\"\"))","v":""},{"$f":"IFERROR(INDEX(BS:BS,SMALL(BT:BT,ROW(A436))),\"\")","v":""},"","","",""]
[{"$f":"IF(F440<>\"\",事業者基本情報!$E$9&事業者基本情報!$F$9&事業者基本情報!$G$9,\"\")","v":""},{"$f":"IF(F440<>\"\",事業者基本情報!$Y$10,\"\")","v":""},{"$f":"IF(F440<>\"\",事業者基本情報!$Y$7,\"\")","v":""},{"$f":"IF(F440<>\"\",事業者基本情報!$Y$8,\"\")","v":""},{"$f":"IF(F440<>\"\",事業者基本情報!$E$11&事業者基本情報!$F$11&事業者基本情報!$G$11&事業者基本情報!$H$11&事業者基本情報!$I$11,\"\")","v":""},null,null,null,"市",null,null,"-",null,"-",null,{"$f":"IFERROR(VLOOKUP(Q440,コード表!$B$3:$C$101,2,FALSE),\"\")","v":""},null,{"$f":"IFERROR(VLOOKUP(S440,コード表!$F$7:$G$141,2,FALSE),\"\")","v":""},null,null,"t",null,null,null,null,null,null,null,null,null,null,null,null,null,null,null,null,null,null,null,null,null,null,null,null,null,null,null,null,null,null,null,null,null,null,null,null,null,null,null,null,null,null,null,null,null,null,null,null,"","",{"$f":"IF(BS440=\"\",\"\",IF(COUNTIF(BS$4:BS440,BS440)=1,ROW(),\"\"))","v":""},{"$f":"IFERROR(INDEX(BS:BS,SMALL(BT:BT,ROW(A437))),\"\")","v":""},"","","",""]
[{"$f":"IF(F441<>\"\",事業者基本情報!$E$9&事業者基本情報!$F$9&事業者基本情報!$G$9,\"\")","v":""},{"$f":"IF(F441<>\"\",事業者基本情報!$Y$10,\"\")","v":""},{"$f":"IF(F441<>\"\",事業者基本情報!$Y$7,\"\")","v":""},{"$f":"IF(F441<>\"\",事業者基本情報!$Y$8,\"\")","v":""},{"$f":"IF(F441<>\"\",事業者基本情報!$E$11&事業者基本情報!$F$11&事業者基本情報!$G$11&事業者基本情報!$H$11&事業者基本情報!$I$11,\"\")","v":""},null,null,null,"市",null,null,"-",null,"-",null,{"$f":"IFERROR(VLOOKUP(Q441,コード表!$B$3:$C$101,2,FALSE),\"\")","v":""},null,{"$f":"IFERROR(VLOOKUP(S441,コード表!$F$7:$G$141,2,FALSE),\"\")","v":""},null,null,"t",null,null,null,null,null,null,null,null,null,null,null,null,null,null,null,null,null,null,null,null,null,null,null,null,null,null,null,null,null,null,null,null,null,null,null,null,null,null,null,null,null,null,null,null,null,null,null,null,"","",{"$f":"IF(BS441=\"\",\"\",IF(COUNTIF(BS$4:BS441,BS441)=1,ROW(),\"\"))","v":""},{"$f":"IFERROR(INDEX(BS:BS,SMALL(BT:BT,ROW(A438))),\"\")","v":""},"","","",""]
[{"$f":"IF(F442<>\"\",事業者基本情報!$E$9&事業者基本情報!$F$9&事業者基本情報!$G$9,\"\")","v":""},{"$f":"IF(F442<>\"\",事業者基本情報!$Y$10,\"\")","v":""},{"$f":"IF(F442<>\"\",事業者基本情報!$Y$7,\"\")","v":""},{"$f":"IF(F442<>\"\",事業者基本情報!$Y$8,\"\")","v":""},{"$f":"IF(F442<>\"\",事業者基本情報!$E$11&事業者基本情報!$F$11&事業者基本情報!$G$11&事業者基本情報!$H$11&事業者基本情報!$I$11,\"\")","v":""},null,null,null,"市",null,null,"-",null,"-",null,{"$f":"IFERROR(VLOOKUP(Q442,コード表!$B$3:$C$101,2,FALSE),\"\")","v":""},null,{"$f":"IFERROR(VLOOKUP(S442,コード表!$F$7:$G$141,2,FALSE),\"\")","v":""},null,null,"t",null,null,null,null,null,null,null,null,null,null,null,null,null,null,null,null,null,null,null,null,null,null,null,null,null,null,null,null,null,null,null,null,null,null,null,null,null,null,null,null,null,null,null,null,null,null,null,null,"","",{"$f":"IF(BS442=\"\",\"\",IF(COUNTIF(BS$4:BS442,BS442)=1,ROW(),\"\"))","v":""},{"$f":"IFERROR(INDEX(BS:BS,SMALL(BT:BT,ROW(A439))),\"\")","v":""},"","","",""]
[{"$f":"IF(F443<>\"\",事業者基本情報!$E$9&事業者基本情報!$F$9&事業者基本情報!$G$9,\"\")","v":""},{"$f":"IF(F443<>\"\",事業者基本情報!$Y$10,\"\")","v":""},{"$f":"IF(F443<>\"\",事業者基本情報!$Y$7,\"\")","v":""},{"$f":"IF(F443<>\"\",事業者基本情報!$Y$8,\"\")","v":""},{"$f":"IF(F443<>\"\",事業者基本情報!$E$11&事業者基本情報!$F$11&事業者基本情報!$G$11&事業者基本情報!$H$11&事業者基本情報!$I$11,\"\")","v":""},null,null,null,"市",null,null,"-",null,"-",null,{"$f":"IFERROR(VLOOKUP(Q443,コード表!$B$3:$C$101,2,FALSE),\"\")","v":""},null,{"$f":"IFERROR(VLOOKUP(S443,コード表!$F$7:$G$141,2,FALSE),\"\")","v":""},null,null,"t",null,null,null,null,null,null,null,null,null,null,null,null,null,null,null,null,null,null,null,null,null,null,null,null,null,null,null,null,null,null,null,null,null,null,null,null,null,null,null,null,null,null,null,null,null,null,null,null,"","",{"$f":"IF(BS443=\"\",\"\",IF(COUNTIF(BS$4:BS443,BS443)=1,ROW(),\"\"))","v":""},{"$f":"IFERROR(INDEX(BS:BS,SMALL(BT:BT,ROW(A440))),\"\")","v":""},"","","",""]
[{"$f":"IF(F444<>\"\",事業者基本情報!$E$9&事業者基本情報!$F$9&事業者基本情報!$G$9,\"\")","v":""},{"$f":"IF(F444<>\"\",事業者基本情報!$Y$10,\"\")","v":""},{"$f":"IF(F444<>\"\",事業者基本情報!$Y$7,\"\")","v":""},{"$f":"IF(F444<>\"\",事業者基本情報!$Y$8,\"\")","v":""},{"$f":"IF(F444<>\"\",事業者基本情報!$E$11&事業者基本情報!$F$11&事業者基本情報!$G$11&事業者基本情報!$H$11&事業者基本情報!$I$11,\"\")","v":""},null,null,null,"市",null,null,"-",null,"-",null,{"$f":"IFERROR(VLOOKUP(Q444,コード表!$B$3:$C$101,2,FALSE),\"\")","v":""},null,{"$f":"IFERROR(VLOOKUP(S444,コード表!$F$7:$G$141,2,FALSE),\"\")","v":""},null,null,"t",null,null,null,null,null,null,null,null,null,null,null,null,null,null,null,null,null,null,null,null,null,null,null,null,null,null,null,null,null,null,null,null,null,null,null,null,null,null,null,null,null,null,null,null,null,null,null,null,"","",{"$f":"IF(BS444=\"\",\"\",IF(COUNTIF(BS$4:BS444,BS444)=1,ROW(),\"\"))","v":""},{"$f":"IFERROR(INDEX(BS:BS,SMALL(BT:BT,ROW(A441))),\"\")","v":""},"","","",""]
[{"$f":"IF(F445<>\"\",事業者基本情報!$E$9&事業者基本情報!$F$9&事業者基本情報!$G$9,\"\")","v":""},{"$f":"IF(F445<>\"\",事業者基本情報!$Y$10,\"\")","v":""},{"$f":"IF(F445<>\"\",事業者基本情報!$Y$7,\"\")","v":""},{"$f":"IF(F445<>\"\",事業者基本情報!$Y$8,\"\")","v":""},{"$f":"IF(F445<>\"\",事業者基本情報!$E$11&事業者基本情報!$F$11&事業者基本情報!$G$11&事業者基本情報!$H$11&事業者基本情報!$I$11,\"\")","v":""},null,null,null,"市",null,null,"-",null,"-",null,{"$f":"IFERROR(VLOOKUP(Q445,コード表!$B$3:$C$101,2,FALSE),\"\")","v":""},null,{"$f":"IFERROR(VLOOKUP(S445,コード表!$F$7:$G$141,2,FALSE),\"\")","v":""},null,null,"t",null,null,null,null,null,null,null,null,null,null,null,null,null,null,null,null,null,null,null,null,null,null,null,null,null,null,null,null,null,null,null,null,null,null,null,null,null,null,null,null,null,null,null,null,null,null,null,null,"","",{"$f":"IF(BS445=\"\",\"\",IF(COUNTIF(BS$4:BS445,BS445)=1,ROW(),\"\"))","v":""},{"$f":"IFERROR(INDEX(BS:BS,SMALL(BT:BT,ROW(A442))),\"\")","v":""},"","","",""]
[{"$f":"IF(F446<>\"\",事業者基本情報!$E$9&事業者基本情報!$F$9&事業者基本情報!$G$9,\"\")","v":""},{"$f":"IF(F446<>\"\",事業者基本情報!$Y$10,\"\")","v":""},{"$f":"IF(F446<>\"\",事業者基本情報!$Y$7,\"\")","v":""},{"$f":"IF(F446<>\"\",事業者基本情報!$Y$8,\"\")","v":""},{"$f":"IF(F446<>\"\",事業者基本情報!$E$11&事業者基本情報!$F$11&事業者基本情報!$G$11&事業者基本情報!$H$11&事業者基本情報!$I$11,\"\")","v":""},null,null,null,"市",null,null,"-",null,"-",null,{"$f":"IFERROR(VLOOKUP(Q446,コード表!$B$3:$C$101,2,FALSE),\"\")","v":""},null,{"$f":"IFERROR(VLOOKUP(S446,コード表!$F$7:$G$141,2,FALSE),\"\")","v":""},null,null,"t",null,null,null,null,null,null,null,null,null,null,null,null,null,null,null,null,null,null,null,null,null,null,null,null,null,null,null,null,null,null,null,null,null,null,null,null,null,null,null,null,null,null,null,null,null,null,null,null,"","",{"$f":"IF(BS446=\"\",\"\",IF(COUNTIF(BS$4:BS446,BS446)=1,ROW(),\"\"))","v":""},{"$f":"IFERROR(INDEX(BS:BS,SMALL(BT:BT,ROW(A443))),\"\")","v":""},"","","",""]
[{"$f":"IF(F447<>\"\",事業者基本情報!$E$9&事業者基本情報!$F$9&事業者基本情報!$G$9,\"\")","v":""},{"$f":"IF(F447<>\"\",事業者基本情報!$Y$10,\"\")","v":""},{"$f":"IF(F447<>\"\",事業者基本情報!$Y$7,\"\")","v":""},{"$f":"IF(F447<>\"\",事業者基本情報!$Y$8,\"\")","v":""},{"$f":"IF(F447<>\"\",事業者基本情報!$E$11&事業者基本情報!$F$11&事業者基本情報!$G$11&事業者基本情報!$H$11&事業者基本情報!$I$11,\"\")","v":""},null,null,null,"市",null,null,"-",null,"-",null,{"$f":"IFERROR(VLOOKUP(Q447,コード表!$B$3:$C$101,2,FALSE),\"\")","v":""},null,{"$f":"IFERROR(VLOOKUP(S447,コード表!$F$7:$G$141,2,FALSE),\"\")","v":""},null,null,"t",null,null,null,null,null,null,null,null,null,null,null,null,null,null,null,null,null,null,null,null,null,null,null,null,null,null,null,null,null,null,null,null,null,null,null,null,null,null,null,null,null,null,null,null,null,null,null,null,"","",{"$f":"IF(BS447=\"\",\"\",IF(COUNTIF(BS$4:BS447,BS447)=1,ROW(),\"\"))","v":""},{"$f":"IFERROR(INDEX(BS:BS,SMALL(BT:BT,ROW(A444))),\"\")","v":""},"","","",""]
[{"$f":"IF(F448<>\"\",事業者基本情報!$E$9&事業者基本情報!$F$9&事業者基本情報!$G$9,\"\")","v":""},{"$f":"IF(F448<>\"\",事業者基本情報!$Y$10,\"\")","v":""},{"$f":"IF(F448<>\"\",事業者基本情報!$Y$7,\"\")","v":""},{"$f":"IF(F448<>\"\",事業者基本情報!$Y$8,\"\")","v":""},{"$f":"IF(F448<>\"\",事業者基本情報!$E$11&事業者基本情報!$F$11&事業者基本情報!$G$11&事業者基本情報!$H$11&事業者基本情報!$I$11,\"\")","v":""},null,null,null,"市",null,null,"-",null,"-",null,{"$f":"IFERROR(VLOOKUP(Q448,コード表!$B$3:$C$101,2,FALSE),\"\")","v":""},null,{"$f":"IFERROR(VLOOKUP(S448,コード表!$F$7:$G$141,2,FALSE),\"\")","v":""},null,null,"t",null,null,null,null,null,null,null,null,null,null,null,null,null,null,null,null,null,null,null,null,null,null,null,null,null,null,null,null,null,null,null,null,null,null,null,null,null,null,null,null,null,null,null,null,null,null,null,null,"","",{"$f":"IF(BS448=\"\",\"\",IF(COUNTIF(BS$4:BS448,BS448)=1,ROW(),\"\"))","v":""},{"$f":"IFERROR(INDEX(BS:BS,SMALL(BT:BT,ROW(A445))),\"\")","v":""},"","","",""]
[{"$f":"IF(F449<>\"\",事業者基本情報!$E$9&事業者基本情報!$F$9&事業者基本情報!$G$9,\"\")","v":""},{"$f":"IF(F449<>\"\",事業者基本情報!$Y$10,\"\")","v":""},{"$f":"IF(F449<>\"\",事業者基本情報!$Y$7,\"\")","v":""},{"$f":"IF(F449<>\"\",事業者基本情報!$Y$8,\"\")","v":""},{"$f":"IF(F449<>\"\",事業者基本情報!$E$11&事業者基本情報!$F$11&事業者基本情報!$G$11&事業者基本情報!$H$11&事業者基本情報!$I$11,\"\")","v":""},null,null,null,"市",null,null,"-",null,"-",null,{"$f":"IFERROR(VLOOKUP(Q449,コード表!$B$3:$C$101,2,FALSE),\"\")","v":""},null,{"$f":"IFERROR(VLOOKUP(S449,コード表!$F$7:$G$141,2,FALSE),\"\")","v":""},null,null,"t",null,null,null,null,null,null,null,null,null,null,null,null,null,null,null,null,null,null,null,null,null,null,null,null,null,null,null,null,null,null,null,null,null,null,null,null,null,null,null,null,null,null,null,null,null,null,null,null,"","",{"$f":"IF(BS449=\"\",\"\",IF(COUNTIF(BS$4:BS449,BS449)=1,ROW(),\"\"))","v":""},{"$f":"IFERROR(INDEX(BS:BS,SMALL(BT:BT,ROW(A446))),\"\")","v":""},"","","",""]
[{"$f":"IF(F450<>\"\",事業者基本情報!$E$9&事業者基本情報!$F$9&事業者基本情報!$G$9,\"\")","v":""},{"$f":"IF(F450<>\"\",事業者基本情報!$Y$10,\"\")","v":""},{"$f":"IF(F450<>\"\",事業者基本情報!$Y$7,\"\")","v":""},{"$f":"IF(F450<>\"\",事業者基本情報!$Y$8,\"\")","v":""},{"$f":"IF(F450<>\"\",事業者基本情報!$E$11&事業者基本情報!$F$11&事業者基本情報!$G$11&事業者基本情報!$H$11&事業者基本情報!$I$11,\"\")","v":""},null,null,null,"市",null,null,"-",null,"-",null,{"$f":"IFERROR(VLOOKUP(Q450,コード表!$B$3:$C$101,2,FALSE),\"\")","v":""},null,{"$f":"IFERROR(VLOOKUP(S450,コード表!$F$7:$G$141,2,FALSE),\"\")","v":""},null,null,"t",null,null,null,null,null,null,null,null,null,null,null,null,null,null,null,null,null,null,null,null,null,null,null,null,null,null,null,null,null,null,null,null,null,null,null,null,null,null,null,null,null,null,null,null,null,null,null,null,"","",{"$f":"IF(BS450=\"\",\"\",IF(COUNTIF(BS$4:BS450,BS450)=1,ROW(),\"\"))","v":""},{"$f":"IFERROR(INDEX(BS:BS,SMALL(BT:BT,ROW(A447))),\"\")","v":""},"","","",""]
[{"$f":"IF(F451<>\"\",事業者基本情報!$E$9&事業者基本情報!$F$9&事業者基本情報!$G$9,\"\")","v":""},{"$f":"IF(F451<>\"\",事業者基本情報!$Y$10,\"\")","v":""},{"$f":"IF(F451<>\"\",事業者基本情報!$Y$7,\"\")","v":""},{"$f":"IF(F451<>\"\",事業者基本情報!$Y$8,\"\")","v":""},{"$f":"IF(F451<>\"\",事業者基本情報!$E$11&事業者基本情報!$F$11&事業者基本情報!$G$11&事業者基本情報!$H$11&事業者基本情報!$I$11,\"\")","v":""},null,null,null,"市",null,null,"-",null,"-",null,{"$f":"IFERROR(VLOOKUP(Q451,コード表!$B$3:$C$101,2,FALSE),\"\")","v":""},null,{"$f":"IFERROR(VLOOKUP(S451,コード表!$F$7:$G$141,2,FALSE),\"\")","v":""},null,null,"t",null,null,null,null,null,null,null,null,null,null,null,null,null,null,null,null,null,null,null,null,null,null,null,null,null,null,null,null,null,null,null,null,null,null,null,null,null,null,null,null,null,null,null,null,null,null,null,null,"","",{"$f":"IF(BS451=\"\",\"\",IF(COUNTIF(BS$4:BS451,BS451)=1,ROW(),\"\"))","v":""},{"$f":"IFERROR(INDEX(BS:BS,SMALL(BT:BT,ROW(A448))),\"\")","v":""},"","","",""]
[{"$f":"IF(F452<>\"\",事業者基本情報!$E$9&事業者基本情報!$F$9&事業者基本情報!$G$9,\"\")","v":""},{"$f":"IF(F452<>\"\",事業者基本情報!$Y$10,\"\")","v":""},{"$f":"IF(F452<>\"\",事業者基本情報!$Y$7,\"\")","v":""},{"$f":"IF(F452<>\"\",事業者基本情報!$Y$8,\"\")","v":""},{"$f":"IF(F452<>\"\",事業者基本情報!$E$11&事業者基本情報!$F$11&事業者基本情報!$G$11&事業者基本情報!$H$11&事業者基本情報!$I$11,\"\")","v":""},null,null,null,"市",null,null,"-",null,"-",null,{"$f":"IFERROR(VLOOKUP(Q452,コード表!$B$3:$C$101,2,FALSE),\"\")","v":""},null,{"$f":"IFERROR(VLOOKUP(S452,コード表!$F$7:$G$141,2,FALSE),\"\")","v":""},null,null,"t",null,null,null,null,null,null,null,null,null,null,null,null,null,null,null,null,null,null,null,null,null,null,null,null,null,null,null,null,null,null,null,null,null,null,null,null,null,null,null,null,null,null,null,null,null,null,null,null,{"$f":"IFERROR(IF(TRIM(F452)=\"\",\"\",IF(AND(VALUE(TRIM(R452))>=100000,VALUE(TRIM(R452))<7000000),\"普通産廃\",IF(AND(VALUE(TRIM(R452))>=7000000,VALUE(TRIM(R452))<9000000),\"特別産廃\",\"\"))),\"\")","v":""},{"$f":"IF(BR452<>\"\",TRIM(F452)&\"(\"&BR452&\")\",\"\")","v":""},{"$f":"IF(BS452=\"\",\"\",IF(COUNTIF(BS$4:BS452,BS452)=1,ROW(),\"\"))","v":""},{"$f":"IFERROR(INDEX(BS:BS,SMALL(BT:BT,ROW(A449))),\"\")","v":""},{"$f":"IF(BU452=\"\",\"\",IF(SUMIF(BS:BS,BU452,T:T)=0,\"\",SUMIF(BS:BS,BU452,T:T)))","v":""},{"$f":"IF(AS452<>\"\",AS452,IF(AO452<>\"\",AO452,IF(AK452<>\"\",AK452,IF(AG452<>\"\",AG452,IF(Y452<>\"\",Y452,\"\")))))","v":""},"",{"$f":"IF(F452&G452&H452&J452&K452&M452&O452&Q452&S452&T452&V452&W452&X452&Y452&Z452&AA452&AB452&AC452&AD452&AE452&AF452&AG452&AH452&AI452&AJ452&AK452&AL452&AM452&AN452&AO452&AP452&AQ452&AR452&AS452&AT452=\"\",\"\",1)","v":""}]
[{"$f":"IF(F453<>\"\",事業者基本情報!$E$9&事業者基本情報!$F$9&事業者基本情報!$G$9,\"\")","v":""},{"$f":"IF(F453<>\"\",事業者基本情報!$Y$10,\"\")","v":""},{"$f":"IF(F453<>\"\",事業者基本情報!$Y$7,\"\")","v":""},{"$f":"IF(F453<>\"\",事業者基本情報!$Y$8,\"\")","v":""},{"$f":"IF(F453<>\"\",事業者基本情報!$E$11&事業者基本情報!$F$11&事業者基本情報!$G$11&事業者基本情報!$H$11&事業者基本情報!$I$11,\"\")","v":""},null,null,null,"市",null,null,"-",null,"-",null,{"$f":"IFERROR(VLOOKUP(Q453,コード表!$B$3:$C$101,2,FALSE),\"\")","v":""},null,{"$f":"IFERROR(VLOOKUP(S453,コード表!$F$7:$G$141,2,FALSE),\"\")","v":""},null,null,"t",null,null,null,null,null,null,null,null,null,null,null,null,null,null,null,null,null,null,null,null,null,null,null,null,null,null,null,null,null,null,null,null,null,null,null,null,null,null,null,null,null,null,null,null,null,null,null,null,"","",{"$f":"IF(BS453=\"\",\"\",IF(COUNTIF(BS$4:BS453,BS453)=1,ROW(),\"\"))","v":""},{"$f":"IFERROR(INDEX(BS:BS,SMALL(BT:BT,ROW(A450))),\"\")","v":""},"","","",""]
[{"$f":"IF(F454<>\"\",事業者基本情報!$E$9&事業者基本情報!$F$9&事業者基本情報!$G$9,\"\")","v":""},{"$f":"IF(F454<>\"\",事業者基本情報!$Y$10,\"\")","v":""},{"$f":"IF(F454<>\"\",事業者基本情報!$Y$7,\"\")","v":""},{"$f":"IF(F454<>\"\",事業者基本情報!$Y$8,\"\")","v":""},{"$f":"IF(F454<>\"\",事業者基本情報!$E$11&事業者基本情報!$F$11&事業者基本情報!$G$11&事業者基本情報!$H$11&事業者基本情報!$I$11,\"\")","v":""},null,null,null,"市",null,null,"-",null,"-",null,{"$f":"IFERROR(VLOOKUP(Q454,コード表!$B$3:$C$101,2,FALSE),\"\")","v":""},null,{"$f":"IFERROR(VLOOKUP(S454,コード表!$F$7:$G$141,2,FALSE),\"\")","v":""},null,null,"t",null,null,null,null,null,null,null,null,null,null,null,null,null,null,null,null,null,null,null,null,null,null,null,null,null,null,null,null,null,null,null,null,null,null,null,null,null,null,null,null,null,null,null,null,null,null,null,null,"","",{"$f":"IF(BS454=\"\",\"\",IF(COUNTIF(BS$4:BS454,BS454)=1,ROW(),\"\"))","v":""},{"$f":"IFERROR(INDEX(BS:BS,SMALL(BT:BT,ROW(A451))),\"\")","v":""},"","","",""]
[{"$f":"IF(F455<>\"\",事業者基本情報!$E$9&事業者基本情報!$F$9&事業者基本情報!$G$9,\"\")","v":""},{"$f":"IF(F455<>\"\",事業者基本情報!$Y$10,\"\")","v":""},{"$f":"IF(F455<>\"\",事業者基本情報!$Y$7,\"\")","v":""},{"$f":"IF(F455<>\"\",事業者基本情報!$Y$8,\"\")","v":""},{"$f":"IF(F455<>\"\",事業者基本情報!$E$11&事業者基本情報!$F$11&事業者基本情報!$G$11&事業者基本情報!$H$11&事業者基本情報!$I$11,\"\")","v":""},null,null,null,"市",null,null,"-",null,"-",null,{"$f":"IFERROR(VLOOKUP(Q455,コード表!$B$3:$C$101,2,FALSE),\"\")","v":""},null,{"$f":"IFERROR(VLOOKUP(S455,コード表!$F$7:$G$141,2,FALSE),\"\")","v":""},null,null,"t",null,null,null,null,null,null,null,null,null,null,null,null,null,null,null,null,null,null,null,null,null,null,null,null,null,null,null,null,null,null,null,null,null,null,null,null,null,null,null,null,null,null,null,null,null,null,null,null,"","",{"$f":"IF(BS455=\"\",\"\",IF(COUNTIF(BS$4:BS455,BS455)=1,ROW(),\"\"))","v":""},{"$f":"IFERROR(INDEX(BS:BS,SMALL(BT:BT,ROW(A452))),\"\")","v":""},"","","",""]
[{"$f":"IF(F456<>\"\",事業者基本情報!$E$9&事業者基本情報!$F$9&事業者基本情報!$G$9,\"\")","v":""},{"$f":"IF(F456<>\"\",事業者基本情報!$Y$10,\"\")","v":""},{"$f":"IF(F456<>\"\",事業者基本情報!$Y$7,\"\")","v":""},{"$f":"IF(F456<>\"\",事業者基本情報!$Y$8,\"\")","v":""},{"$f":"IF(F456<>\"\",事業者基本情報!$E$11&事業者基本情報!$F$11&事業者基本情報!$G$11&事業者基本情報!$H$11&事業者基本情報!$I$11,\"\")","v":""},null,null,null,"市",null,null,"-",null,"-",null,{"$f":"IFERROR(VLOOKUP(Q456,コード表!$B$3:$C$101,2,FALSE),\"\")","v":""},null,{"$f":"IFERROR(VLOOKUP(S456,コード表!$F$7:$G$141,2,FALSE),\"\")","v":""},null,null,"t",null,null,null,null,null,null,null,null,null,null,null,null,null,null,null,null,null,null,null,null,null,null,null,null,null,null,null,null,null,null,null,null,null,null,null,null,null,null,null,null,null,null,null,null,null,null,null,null,"","",{"$f":"IF(BS456=\"\",\"\",IF(COUNTIF(BS$4:BS456,BS456)=1,ROW(),\"\"))","v":""},{"$f":"IFERROR(INDEX(BS:BS,SMALL(BT:BT,ROW(A453))),\"\")","v":""},"","","",""]
[{"$f":"IF(F457<>\"\",事業者基本情報!$E$9&事業者基本情報!$F$9&事業者基本情報!$G$9,\"\")","v":""},{"$f":"IF(F457<>\"\",事業者基本情報!$Y$10,\"\")","v":""},{"$f":"IF(F457<>\"\",事業者基本情報!$Y$7,\"\")","v":""},{"$f":"IF(F457<>\"\",事業者基本情報!$Y$8,\"\")","v":""},{"$f":"IF(F457<>\"\",事業者基本情報!$E$11&事業者基本情報!$F$11&事業者基本情報!$G$11&事業者基本情報!$H$11&事業者基本情報!$I$11,\"\")","v":""},null,null,null,"市",null,null,"-",null,"-",null,{"$f":"IFERROR(VLOOKUP(Q457,コード表!$B$3:$C$101,2,FALSE),\"\")","v":""},null,{"$f":"IFERROR(VLOOKUP(S457,コード表!$F$7:$G$141,2,FALSE),\"\")","v":""},null,null,"t",null,null,null,null,null,null,null,null,null,null,null,null,null,null,null,null,null,null,null,null,null,null,null,null,null,null,null,null,null,null,null,null,null,null,null,null,null,null,null,null,null,null,null,null,null,null,null,null,"","",{"$f":"IF(BS457=\"\",\"\",IF(COUNTIF(BS$4:BS457,BS457)=1,ROW(),\"\"))","v":""},{"$f":"IFERROR(INDEX(BS:BS,SMALL(BT:BT,ROW(A454))),\"\")","v":""},"","","",""]
[{"$f":"IF(F458<>\"\",事業者基本情報!$E$9&事業者基本情報!$F$9&事業者基本情報!$G$9,\"\")","v":""},{"$f":"IF(F458<>\"\",事業者基本情報!$Y$10,\"\")","v":""},{"$f":"IF(F458<>\"\",事業者基本情報!$Y$7,\"\")","v":""},{"$f":"IF(F458<>\"\",事業者基本情報!$Y$8,\"\")","v":""},{"$f":"IF(F458<>\"\",事業者基本情報!$E$11&事業者基本情報!$F$11&事業者基本情報!$G$11&事業者基本情報!$H$11&事業者基本情報!$I$11,\"\")","v":""},null,null,null,"市",null,null,"-",null,"-",null,{"$f":"IFERROR(VLOOKUP(Q458,コード表!$B$3:$C$101,2,FALSE),\"\")","v":""},null,{"$f":"IFERROR(VLOOKUP(S458,コード表!$F$7:$G$141,2,FALSE),\"\")","v":""},null,null,"t",null,null,null,null,null,null,null,null,null,null,null,null,null,null,null,null,null,null,null,null,null,null,null,null,null,null,null,null,null,null,null,null,null,null,null,null,null,null,null,null,null,null,null,null,null,null,null,null,"","",{"$f":"IF(BS458=\"\",\"\",IF(COUNTIF(BS$4:BS458,BS458)=1,ROW(),\"\"))","v":""},{"$f":"IFERROR(INDEX(BS:BS,SMALL(BT:BT,ROW(A455))),\"\")","v":""},"","","",""]
[{"$f":"IF(F459<>\"\",事業者基本情報!$E$9&事業者基本情報!$F$9&事業者基本情報!$G$9,\"\")","v":""},{"$f":"IF(F459<>\"\",事業者基本情報!$Y$10,\"\")","v":""},{"$f":"IF(F459<>\"\",事業者基本情報!$Y$7,\"\")","v":""},{"$f":"IF(F459<>\"\",事業者基本情報!$Y$8,\"\")","v":""},{"$f":"IF(F459<>\"\",事業者基本情報!$E$11&事業者基本情報!$F$11&事業者基本情報!$G$11&事業者基本情報!$H$11&事業者基本情報!$I$11,\"\")","v":""},null,null,null,"市",null,null,"-",null,"-",null,{"$f":"IFERROR(VLOOKUP(Q459,コード表!$B$3:$C$101,2,FALSE),\"\")","v":""},null,{"$f":"IFERROR(VLOOKUP(S459,コード表!$F$7:$G$141,2,FALSE),\"\")","v":""},null,null,"t",null,null,null,null,null,null,null,null,null,null,null,null,null,null,null,null,null,null,null,null,null,null,null,null,null,null,null,null,null,null,null,null,null,null,null,null,null,null,null,null,null,null,null,null,null,null,null,null,"","",{"$f":"IF(BS459=\"\",\"\",IF(COUNTIF(BS$4:BS459,BS459)=1,ROW(),\"\"))","v":""},{"$f":"IFERROR(INDEX(BS:BS,SMALL(BT:BT,ROW(A456))),\"\")","v":""},"","","",""]
[{"$f":"IF(F460<>\"\",事業者基本情報!$E$9&事業者基本情報!$F$9&事業者基本情報!$G$9,\"\")","v":""},{"$f":"IF(F460<>\"\",事業者基本情報!$Y$10,\"\")","v":""},{"$f":"IF(F460<>\"\",事業者基本情報!$Y$7,\"\")","v":""},{"$f":"IF(F460<>\"\",事業者基本情報!$Y$8,\"\")","v":""},{"$f":"IF(F460<>\"\",事業者基本情報!$E$11&事業者基本情報!$F$11&事業者基本情報!$G$11&事業者基本情報!$H$11&事業者基本情報!$I$11,\"\")","v":""},null,null,null,"市",null,null,"-",null,"-",null,{"$f":"IFERROR(VLOOKUP(Q460,コード表!$B$3:$C$101,2,FALSE),\"\")","v":""},null,{"$f":"IFERROR(VLOOKUP(S460,コード表!$F$7:$G$141,2,FALSE),\"\")","v":""},null,null,"t",null,null,null,null,null,null,null,null,null,null,null,null,null,null,null,null,null,null,null,null,null,null,null,null,null,null,null,null,null,null,null,null,null,null,null,null,null,null,null,null,null,null,null,null,null,null,null,null,"","",{"$f":"IF(BS460=\"\",\"\",IF(COUNTIF(BS$4:BS460,BS460)=1,ROW(),\"\"))","v":""},{"$f":"IFERROR(INDEX(BS:BS,SMALL(BT:BT,ROW(A457))),\"\")","v":""},"","","",""]
[{"$f":"IF(F461<>\"\",事業者基本情報!$E$9&事業者基本情報!$F$9&事業者基本情報!$G$9,\"\")","v":""},{"$f":"IF(F461<>\"\",事業者基本情報!$Y$10,\"\")","v":""},{"$f":"IF(F461<>\"\",事業者基本情報!$Y$7,\"\")","v":""},{"$f":"IF(F461<>\"\",事業者基本情報!$Y$8,\"\")","v":""},{"$f":"IF(F461<>\"\",事業者基本情報!$E$11&事業者基本情報!$F$11&事業者基本情報!$G$11&事業者基本情報!$H$11&事業者基本情報!$I$11,\"\")","v":""},null,null,null,"市",null,null,"-",null,"-",null,{"$f":"IFERROR(VLOOKUP(Q461,コード表!$B$3:$C$101,2,FALSE),\"\")","v":""},null,{"$f":"IFERROR(VLOOKUP(S461,コード表!$F$7:$G$141,2,FALSE),\"\")","v":""},null,null,"t",null,null,null,null,null,null,null,null,null,null,null,null,null,null,null,null,null,null,null,null,null,null,null,null,null,null,null,null,null,null,null,null,null,null,null,null,null,null,null,null,null,null,null,null,null,null,null,null,"","",{"$f":"IF(BS461=\"\",\"\",IF(COUNTIF(BS$4:BS461,BS461)=1,ROW(),\"\"))","v":""},{"$f":"IFERROR(INDEX(BS:BS,SMALL(BT:BT,ROW(A458))),\"\")","v":""},"","","",""]
[{"$f":"IF(F462<>\"\",事業者基本情報!$E$9&事業者基本情報!$F$9&事業者基本情報!$G$9,\"\")","v":""},{"$f":"IF(F462<>\"\",事業者基本情報!$Y$10,\"\")","v":""},{"$f":"IF(F462<>\"\",事業者基本情報!$Y$7,\"\")","v":""},{"$f":"IF(F462<>\"\",事業者基本情報!$Y$8,\"\")","v":""},{"$f":"IF(F462<>\"\",事業者基本情報!$E$11&事業者基本情報!$F$11&事業者基本情報!$G$11&事業者基本情報!$H$11&事業者基本情報!$I$11,\"\")","v":""},null,null,null,"市",null,null,"-",null,"-",null,{"$f":"IFERROR(VLOOKUP(Q462,コード表!$B$3:$C$101,2,FALSE),\"\")","v":""},null,{"$f":"IFERROR(VLOOKUP(S462,コード表!$F$7:$G$141,2,FALSE),\"\")","v":""},null,null,"t",null,null,null,null,null,null,null,null,null,null,null,null,null,null,null,null,null,null,null,null,null,null,null,null,null,null,null,null,null,null,null,null,null,null,null,null,null,null,null,null,null,null,null,null,null,null,null,null,"","",{"$f":"IF(BS462=\"\",\"\",IF(COUNTIF(BS$4:BS462,BS462)=1,ROW(),\"\"))","v":""},{"$f":"IFERROR(INDEX(BS:BS,SMALL(BT:BT,ROW(A459))),\"\")","v":""},"","","",""]
[{"$f":"IF(F463<>\"\",事業者基本情報!$E$9&事業者基本情報!$F$9&事業者基本情報!$G$9,\"\")","v":""},{"$f":"IF(F463<>\"\",事業者基本情報!$Y$10,\"\")","v":""},{"$f":"IF(F463<>\"\",事業者基本情報!$Y$7,\"\")","v":""},{"$f":"IF(F463<>\"\",事業者基本情報!$Y$8,\"\")","v":""},{"$f":"IF(F463<>\"\",事業者基本情報!$E$11&事業者基本情報!$F$11&事業者基本情報!$G$11&事業者基本情報!$H$11&事業者基本情報!$I$11,\"\")","v":""},null,null,null,"市",null,null,"-",null,"-",null,{"$f":"IFERROR(VLOOKUP(Q463,コード表!$B$3:$C$101,2,FALSE),\"\")","v":""},null,{"$f":"IFERROR(VLOOKUP(S463,コード表!$F$7:$G$141,2,FALSE),\"\")","v":""},null,null,"t",null,null,null,null,null,null,null,null,null,null,null,null,null,null,null,null,null,null,null,null,null,null,null,null,null,null,null,null,null,null,null,null,null,null,null,null,null,null,null,null,null,null,null,null,null,null,null,null,"","",{"$f":"IF(BS463=\"\",\"\",IF(COUNTIF(BS$4:BS463,BS463)=1,ROW(),\"\"))","v":""},{"$f":"IFERROR(INDEX(BS:BS,SMALL(BT:BT,ROW(A460))),\"\")","v":""},"","","",""]
[{"$f":"IF(F464<>\"\",事業者基本情報!$E$9&事業者基本情報!$F$9&事業者基本情報!$G$9,\"\")","v":""},{"$f":"IF(F464<>\"\",事業者基本情報!$Y$10,\"\")","v":""},{"$f":"IF(F464<>\"\",事業者基本情報!$Y$7,\"\")","v":""},{"$f":"IF(F464<>\"\",事業者基本情報!$Y$8,\"\")","v":""},{"$f":"IF(F464<>\"\",事業者基本情報!$E$11&事業者基本情報!$F$11&事業者基本情報!$G$11&事業者基本情報!$H$11&事業者基本情報!$I$11,\"\")","v":""},null,null,null,"市",null,null,"-",null,"-",null,{"$f":"IFERROR(VLOOKUP(Q464,コード表!$B$3:$C$101,2,FALSE),\"\")","v":""},null,{"$f":"IFERROR(VLOOKUP(S464,コード表!$F$7:$G$141,2,FALSE),\"\")","v":""},null,null,"t",null,null,null,null,null,null,null,null,null,null,null,null,null,null,null,null,null,null,null,null,null,null,null,null,null,null,null,null,null,null,null,null,null,null,null,null,null,null,null,null,null,null,null,null,null,null,null,null,"","",{"$f":"IF(BS464=\"\",\"\",IF(COUNTIF(BS$4:BS464,BS464)=1,ROW(),\"\"))","v":""},{"$f":"IFERROR(INDEX(BS:BS,SMALL(BT:BT,ROW(A461))),\"\")","v":""},"","","",""]
[{"$f":"IF(F465<>\"\",事業者基本情報!$E$9&事業者基本情報!$F$9&事業者基本情報!$G$9,\"\")","v":""},{"$f":"IF(F465<>\"\",事業者基本情報!$Y$10,\"\")","v":""},{"$f":"IF(F465<>\"\",事業者基本情報!$Y$7,\"\")","v":""},{"$f":"IF(F465<>\"\",事業者基本情報!$Y$8,\"\")","v":""},{"$f":"IF(F465<>\"\",事業者基本情報!$E$11&事業者基本情報!$F$11&事業者基本情報!$G$11&事業者基本情報!$H$11&事業者基本情報!$I$11,\"\")","v":""},null,null,null,"市",null,null,"-",null,"-",null,{"$f":"IFERROR(VLOOKUP(Q465,コード表!$B$3:$C$101,2,FALSE),\"\")","v":""},null,{"$f":"IFERROR(VLOOKUP(S465,コード表!$F$7:$G$141,2,FALSE),\"\")","v":""},null,null,"t",null,null,null,null,null,null,null,null,null,null,null,null,null,null,null,null,null,null,null,null,null,null,null,null,null,null,null,null,null,null,null,null,null,null,null,null,null,null,null,null,null,null,null,null,null,null,null,null,"","",{"$f":"IF(BS465=\"\",\"\",IF(COUNTIF(BS$4:BS465,BS465)=1,ROW(),\"\"))","v":""},{"$f":"IFERROR(INDEX(BS:BS,SMALL(BT:BT,ROW(A462))),\"\")","v":""},"","","",""]
[{"$f":"IF(F466<>\"\",事業者基本情報!$E$9&事業者基本情報!$F$9&事業者基本情報!$G$9,\"\")","v":""},{"$f":"IF(F466<>\"\",事業者基本情報!$Y$10,\"\")","v":""},{"$f":"IF(F466<>\"\",事業者基本情報!$Y$7,\"\")","v":""},{"$f":"IF(F466<>\"\",事業者基本情報!$Y$8,\"\")","v":""},{"$f":"IF(F466<>\"\",事業者基本情報!$E$11&事業者基本情報!$F$11&事業者基本情報!$G$11&事業者基本情報!$H$11&事業者基本情報!$I$11,\"\")","v":""},null,null,null,"市",null,null,"-",null,"-",null,{"$f":"IFERROR(VLOOKUP(Q466,コード表!$B$3:$C$101,2,FALSE),\"\")","v":""},null,{"$f":"IFERROR(VLOOKUP(S466,コード表!$F$7:$G$141,2,FALSE),\"\")","v":""},null,null,"t",null,null,null,null,null,null,null,null,null,null,null,null,null,null,null,null,null,null,null,null,null,null,null,null,null,null,null,null,null,null,null,null,null,null,null,null,null,null,null,null,null,null,null,null,null,null,null,null,"","",{"$f":"IF(BS466=\"\",\"\",IF(COUNTIF(BS$4:BS466,BS466)=1,ROW(),\"\"))","v":""},{"$f":"IFERROR(INDEX(BS:BS,SMALL(BT:BT,ROW(A463))),\"\")","v":""},"","","",""]
[{"$f":"IF(F467<>\"\",事業者基本情報!$E$9&事業者基本情報!$F$9&事業者基本情報!$G$9,\"\")","v":""},{"$f":"IF(F467<>\"\",事業者基本情報!$Y$10,\"\")","v":""},{"$f":"IF(F467<>\"\",事業者基本情報!$Y$7,\"\")","v":""},{"$f":"IF(F467<>\"\",事業者基本情報!$Y$8,\"\")","v":""},{"$f":"IF(F467<>\"\",事業者基本情報!$E$11&事業者基本情報!$F$11&事業者基本情報!$G$11&事業者基本情報!$H$11&事業者基本情報!$I$11,\"\")","v":""},null,null,null,"市",null,null,"-",null,"-",null,{"$f":"IFERROR(VLOOKUP(Q467,コード表!$B$3:$C$101,2,FALSE),\"\")","v":""},null,{"$f":"IFERROR(VLOOKUP(S467,コード表!$F$7:$G$141,2,FALSE),\"\")","v":""},null,null,"t",null,null,null,null,null,null,null,null,null,null,null,null,null,null,null,null,null,null,null,null,null,null,null,null,null,null,null,null,null,null,null,null,null,null,null,null,null,null,null,null,null,null,null,null,null,null,null,null,"","",{"$f":"IF(BS467=\"\",\"\",IF(COUNTIF(BS$4:BS467,BS467)=1,ROW(),\"\"))","v":""},{"$f":"IFERROR(INDEX(BS:BS,SMALL(BT:BT,ROW(A464))),\"\")","v":""},"","","",""]
[{"$f":"IF(F468<>\"\",事業者基本情報!$E$9&事業者基本情報!$F$9&事業者基本情報!$G$9,\"\")","v":""},{"$f":"IF(F468<>\"\",事業者基本情報!$Y$10,\"\")","v":""},{"$f":"IF(F468<>\"\",事業者基本情報!$Y$7,\"\")","v":""},{"$f":"IF(F468<>\"\",事業者基本情報!$Y$8,\"\")","v":""},{"$f":"IF(F468<>\"\",事業者基本情報!$E$11&事業者基本情報!$F$11&事業者基本情報!$G$11&事業者基本情報!$H$11&事業者基本情報!$I$11,\"\")","v":""},null,null,null,"市",null,null,"-",null,"-",null,{"$f":"IFERROR(VLOOKUP(Q468,コード表!$B$3:$C$101,2,FALSE),\"\")","v":""},null,{"$f":"IFERROR(VLOOKUP(S468,コード表!$F$7:$G$141,2,FALSE),\"\")","v":""},null,null,"t",null,null,null,null,null,null,null,null,null,null,null,null,null,null,null,null,null,null,null,null,null,null,null,null,null,null,null,null,null,null,null,null,null,null,null,null,null,null,null,null,null,null,null,null,null,null,null,null,"","",{"$f":"IF(BS468=\"\",\"\",IF(COUNTIF(BS$4:BS468,BS468)=1,ROW(),\"\"))","v":""},{"$f":"IFERROR(INDEX(BS:BS,SMALL(BT:BT,ROW(A465))),\"\")","v":""},"","","",""]
[{"$f":"IF(F469<>\"\",事業者基本情報!$E$9&事業者基本情報!$F$9&事業者基本情報!$G$9,\"\")","v":""},{"$f":"IF(F469<>\"\",事業者基本情報!$Y$10,\"\")","v":""},{"$f":"IF(F469<>\"\",事業者基本情報!$Y$7,\"\")","v":""},{"$f":"IF(F469<>\"\",事業者基本情報!$Y$8,\"\")","v":""},{"$f":"IF(F469<>\"\",事業者基本情報!$E$11&事業者基本情報!$F$11&事業者基本情報!$G$11&事業者基本情報!$H$11&事業者基本情報!$I$11,\"\")","v":""},null,null,null,"市",null,null,"-",null,"-",null,{"$f":"IFERROR(VLOOKUP(Q469,コード表!$B$3:$C$101,2,FALSE),\"\")","v":""},null,{"$f":"IFERROR(VLOOKUP(S469,コード表!$F$7:$G$141,2,FALSE),\"\")","v":""},null,null,"t",null,null,null,null,null,null,null,null,null,null,null,null,null,null,null,null,null,null,null,null,null,null,null,null,null,null,null,null,null,null,null,null,null,null,null,null,null,null,null,null,null,null,null,null,null,null,null,null,"","",{"$f":"IF(BS469=\"\",\"\",IF(COUNTIF(BS$4:BS469,BS469)=1,ROW(),\"\"))","v":""},{"$f":"IFERROR(INDEX(BS:BS,SMALL(BT:BT,ROW(A466))),\"\")","v":""},"","","",""]
[{"$f":"IF(F470<>\"\",事業者基本情報!$E$9&事業者基本情報!$F$9&事業者基本情報!$G$9,\"\")","v":""},{"$f":"IF(F470<>\"\",事業者基本情報!$Y$10,\"\")","v":""},{"$f":"IF(F470<>\"\",事業者基本情報!$Y$7,\"\")","v":""},{"$f":"IF(F470<>\"\",事業者基本情報!$Y$8,\"\")","v":""},{"$f":"IF(F470<>\"\",事業者基本情報!$E$11&事業者基本情報!$F$11&事業者基本情報!$G$11&事業者基本情報!$H$11&事業者基本情報!$I$11,\"\")","v":""},null,null,null,"市",null,null,"-",null,"-",null,{"$f":"IFERROR(VLOOKUP(Q470,コード表!$B$3:$C$101,2,FALSE),\"\")","v":""},null,{"$f":"IFERROR(VLOOKUP(S470,コード表!$F$7:$G$141,2,FALSE),\"\")","v":""},null,null,"t",null,null,null,null,null,null,null,null,null,null,null,null,null,null,null,null,null,null,null,null,null,null,null,null,null,null,null,null,null,null,null,null,null,null,null,null,null,null,null,null,null,null,null,null,null,null,null,null,"","",{"$f":"IF(BS470=\"\",\"\",IF(COUNTIF(BS$4:BS470,BS470)=1,ROW(),\"\"))","v":""},{"$f":"IFERROR(INDEX(BS:BS,SMALL(BT:BT,ROW(A467))),\"\")","v":""},"","","",""]
[{"$f":"IF(F471<>\"\",事業者基本情報!$E$9&事業者基本情報!$F$9&事業者基本情報!$G$9,\"\")","v":""},{"$f":"IF(F471<>\"\",事業者基本情報!$Y$10,\"\")","v":""},{"$f":"IF(F471<>\"\",事業者基本情報!$Y$7,\"\")","v":""},{"$f":"IF(F471<>\"\",事業者基本情報!$Y$8,\"\")","v":""},{"$f":"IF(F471<>\"\",事業者基本情報!$E$11&事業者基本情報!$F$11&事業者基本情報!$G$11&事業者基本情報!$H$11&事業者基本情報!$I$11,\"\")","v":""},null,null,null,"市",null,null,"-",null,"-",null,{"$f":"IFERROR(VLOOKUP(Q471,コード表!$B$3:$C$101,2,FALSE),\"\")","v":""},null,{"$f":"IFERROR(VLOOKUP(S471,コード表!$F$7:$G$141,2,FALSE),\"\")","v":""},null,null,"t",null,null,null,null,null,null,null,null,null,null,null,null,null,null,null,null,null,null,null,null,null,null,null,null,null,null,null,null,null,null,null,null,null,null,null,null,null,null,null,null,null,null,null,null,null,null,null,null,"","",{"$f":"IF(BS471=\"\",\"\",IF(COUNTIF(BS$4:BS471,BS471)=1,ROW(),\"\"))","v":""},{"$f":"IFERROR(INDEX(BS:BS,SMALL(BT:BT,ROW(A468))),\"\")","v":""},"","","",""]
[{"$f":"IF(F472<>\"\",事業者基本情報!$E$9&事業者基本情報!$F$9&事業者基本情報!$G$9,\"\")","v":""},{"$f":"IF(F472<>\"\",事業者基本情報!$Y$10,\"\")","v":""},{"$f":"IF(F472<>\"\",事業者基本情報!$Y$7,\"\")","v":""},{"$f":"IF(F472<>\"\",事業者基本情報!$Y$8,\"\")","v":""},{"$f":"IF(F472<>\"\",事業者基本情報!$E$11&事業者基本情報!$F$11&事業者基本情報!$G$11&事業者基本情報!$H$11&事業者基本情報!$I$11,\"\")","v":""},null,null,null,"市",null,null,"-",null,"-",null,{"$f":"IFERROR(VLOOKUP(Q472,コード表!$B$3:$C$101,2,FALSE),\"\")","v":""},null,{"$f":"IFERROR(VLOOKUP(S472,コード表!$F$7:$G$141,2,FALSE),\"\")","v":""},null,null,"t",null,null,null,null,null,null,null,null,null,null,null,null,null,null,null,null,null,null,null,null,null,null,null,null,null,null,null,null,null,null,null,null,null,null,null,null,null,null,null,null,null,null,null,null,null,null,null,null,"","",{"$f":"IF(BS472=\"\",\"\",IF(COUNTIF(BS$4:BS472,BS472)=1,ROW(),\"\"))","v":""},{"$f":"IFERROR(INDEX(BS:BS,SMALL(BT:BT,ROW(A469))),\"\")","v":""},"","","",""]
[{"$f":"IF(F473<>\"\",事業者基本情報!$E$9&事業者基本情報!$F$9&事業者基本情報!$G$9,\"\")","v":""},{"$f":"IF(F473<>\"\",事業者基本情報!$Y$10,\"\")","v":""},{"$f":"IF(F473<>\"\",事業者基本情報!$Y$7,\"\")","v":""},{"$f":"IF(F473<>\"\",事業者基本情報!$Y$8,\"\")","v":""},{"$f":"IF(F473<>\"\",事業者基本情報!$E$11&事業者基本情報!$F$11&事業者基本情報!$G$11&事業者基本情報!$H$11&事業者基本情報!$I$11,\"\")","v":""},null,null,null,"市",null,null,"-",null,"-",null,{"$f":"IFERROR(VLOOKUP(Q473,コード表!$B$3:$C$101,2,FALSE),\"\")","v":""},null,{"$f":"IFERROR(VLOOKUP(S473,コード表!$F$7:$G$141,2,FALSE),\"\")","v":""},null,null,"t",null,null,null,null,null,null,null,null,null,null,null,null,null,null,null,null,null,null,null,null,null,null,null,null,null,null,null,null,null,null,null,null,null,null,null,null,null,null,null,null,null,null,null,null,null,null,null,null,"","",{"$f":"IF(BS473=\"\",\"\",IF(COUNTIF(BS$4:BS473,BS473)=1,ROW(),\"\"))","v":""},{"$f":"IFERROR(INDEX(BS:BS,SMALL(BT:BT,ROW(A470))),\"\")","v":""},"","","",""]
[{"$f":"IF(F474<>\"\",事業者基本情報!$E$9&事業者基本情報!$F$9&事業者基本情報!$G$9,\"\")","v":""},{"$f":"IF(F474<>\"\",事業者基本情報!$Y$10,\"\")","v":""},{"$f":"IF(F474<>\"\",事業者基本情報!$Y$7,\"\")","v":""},{"$f":"IF(F474<>\"\",事業者基本情報!$Y$8,\"\")","v":""},{"$f":"IF(F474<>\"\",事業者基本情報!$E$11&事業者基本情報!$F$11&事業者基本情報!$G$11&事業者基本情報!$H$11&事業者基本情報!$I$11,\"\")","v":""},null,null,null,"市",null,null,"-",null,"-",null,{"$f":"IFERROR(VLOOKUP(Q474,コード表!$B$3:$C$101,2,FALSE),\"\")","v":""},null,{"$f":"IFERROR(VLOOKUP(S474,コード表!$F$7:$G$141,2,FALSE),\"\")","v":""},null,null,"t",null,null,null,null,null,null,null,null,null,null,null,null,null,null,null,null,null,null,null,null,null,null,null,null,null,null,null,null,null,null,null,null,null,null,null,null,null,null,null,null,null,null,null,null,null,null,null,null,"","",{"$f":"IF(BS474=\"\",\"\",IF(COUNTIF(BS$4:BS474,BS474)=1,ROW(),\"\"))","v":""},{"$f":"IFERROR(INDEX(BS:BS,SMALL(BT:BT,ROW(A471))),\"\")","v":""},"","","",""]
[{"$f":"IF(F475<>\"\",事業者基本情報!$E$9&事業者基本情報!$F$9&事業者基本情報!$G$9,\"\")","v":""},{"$f":"IF(F475<>\"\",事業者基本情報!$Y$10,\"\")","v":""},{"$f":"IF(F475<>\"\",事業者基本情報!$Y$7,\"\")","v":""},{"$f":"IF(F475<>\"\",事業者基本情報!$Y$8,\"\")","v":""},{"$f":"IF(F475<>\"\",事業者基本情報!$E$11&事業者基本情報!$F$11&事業者基本情報!$G$11&事業者基本情報!$H$11&事業者基本情報!$I$11,\"\")","v":""},null,null,null,"市",null,null,"-",null,"-",null,{"$f":"IFERROR(VLOOKUP(Q475,コード表!$B$3:$C$101,2,FALSE),\"\")","v":""},null,{"$f":"IFERROR(VLOOKUP(S475,コード表!$F$7:$G$141,2,FALSE),\"\")","v":""},null,null,"t",null,null,null,null,null,null,null,null,null,null,null,null,null,null,null,null,null,null,null,null,null,null,null,null,null,null,null,null,null,null,null,null,null,null,null,null,null,null,null,null,null,null,null,null,null,null,null,null,"","",{"$f":"IF(BS475=\"\",\"\",IF(COUNTIF(BS$4:BS475,BS475)=1,ROW(),\"\"))","v":""},{"$f":"IFERROR(INDEX(BS:BS,SMALL(BT:BT,ROW(A472))),\"\")","v":""},"","","",""]
[{"$f":"IF(F476<>\"\",事業者基本情報!$E$9&事業者基本情報!$F$9&事業者基本情報!$G$9,\"\")","v":""},{"$f":"IF(F476<>\"\",事業者基本情報!$Y$10,\"\")","v":""},{"$f":"IF(F476<>\"\",事業者基本情報!$Y$7,\"\")","v":""},{"$f":"IF(F476<>\"\",事業者基本情報!$Y$8,\"\")","v":""},{"$f":"IF(F476<>\"\",事業者基本情報!$E$11&事業者基本情報!$F$11&事業者基本情報!$G$11&事業者基本情報!$H$11&事業者基本情報!$I$11,\"\")","v":""},null,null,null,"市",null,null,"-",null,"-",null,{"$f":"IFERROR(VLOOKUP(Q476,コード表!$B$3:$C$101,2,FALSE),\"\")","v":""},null,{"$f":"IFERROR(VLOOKUP(S476,コード表!$F$7:$G$141,2,FALSE),\"\")","v":""},null,null,"t",null,null,null,null,null,null,null,null,null,null,null,null,null,null,null,null,null,null,null,null,null,null,null,null,null,null,null,null,null,null,null,null,null,null,null,null,null,null,null,null,null,null,null,null,null,null,null,null,"","",{"$f":"IF(BS476=\"\",\"\",IF(COUNTIF(BS$4:BS476,BS476)=1,ROW(),\"\"))","v":""},{"$f":"IFERROR(INDEX(BS:BS,SMALL(BT:BT,ROW(A473))),\"\")","v":""},"","","",""]
[{"$f":"IF(F477<>\"\",事業者基本情報!$E$9&事業者基本情報!$F$9&事業者基本情報!$G$9,\"\")","v":""},{"$f":"IF(F477<>\"\",事業者基本情報!$Y$10,\"\")","v":""},{"$f":"IF(F477<>\"\",事業者基本情報!$Y$7,\"\")","v":""},{"$f":"IF(F477<>\"\",事業者基本情報!$Y$8,\"\")","v":""},{"$f":"IF(F477<>\"\",事業者基本情報!$E$11&事業者基本情報!$F$11&事業者基本情報!$G$11&事業者基本情報!$H$11&事業者基本情報!$I$11,\"\")","v":""},null,null,null,"市",null,null,"-",null,"-",null,{"$f":"IFERROR(VLOOKUP(Q477,コード表!$B$3:$C$101,2,FALSE),\"\")","v":""},null,{"$f":"IFERROR(VLOOKUP(S477,コード表!$F$7:$G$141,2,FALSE),\"\")","v":""},null,null,"t",null,null,null,null,null,null,null,null,null,null,null,null,null,null,null,null,null,null,null,null,null,null,null,null,null,null,null,null,null,null,null,null,null,null,null,null,null,null,null,null,null,null,null,null,null,null,null,null,"","",{"$f":"IF(BS477=\"\",\"\",IF(COUNTIF(BS$4:BS477,BS477)=1,ROW(),\"\"))","v":""},{"$f":"IFERROR(INDEX(BS:BS,SMALL(BT:BT,ROW(A474))),\"\")","v":""},"","","",""]
[{"$f":"IF(F478<>\"\",事業者基本情報!$E$9&事業者基本情報!$F$9&事業者基本情報!$G$9,\"\")","v":""},{"$f":"IF(F478<>\"\",事業者基本情報!$Y$10,\"\")","v":""},{"$f":"IF(F478<>\"\",事業者基本情報!$Y$7,\"\")","v":""},{"$f":"IF(F478<>\"\",事業者基本情報!$Y$8,\"\")","v":""},{"$f":"IF(F478<>\"\",事業者基本情報!$E$11&事業者基本情報!$F$11&事業者基本情報!$G$11&事業者基本情報!$H$11&事業者基本情報!$I$11,\"\")","v":""},null,null,null,"市",null,null,"-",null,"-",null,{"$f":"IFERROR(VLOOKUP(Q478,コード表!$B$3:$C$101,2,FALSE),\"\")","v":""},null,{"$f":"IFERROR(VLOOKUP(S478,コード表!$F$7:$G$141,2,FALSE),\"\")","v":""},null,null,"t",null,null,null,null,null,null,null,null,null,null,null,null,null,null,null,null,null,null,null,null,null,null,null,null,null,null,null,null,null,null,null,null,null,null,null,null,null,null,null,null,null,null,null,null,null,null,null,null,"","",{"$f":"IF(BS478=\"\",\"\",IF(COUNTIF(BS$4:BS478,BS478)=1,ROW(),\"\"))","v":""},{"$f":"IFERROR(INDEX(BS:BS,SMALL(BT:BT,ROW(A475))),\"\")","v":""},"","","",""]
[{"$f":"IF(F479<>\"\",事業者基本情報!$E$9&事業者基本情報!$F$9&事業者基本情報!$G$9,\"\")","v":""},{"$f":"IF(F479<>\"\",事業者基本情報!$Y$10,\"\")","v":""},{"$f":"IF(F479<>\"\",事業者基本情報!$Y$7,\"\")","v":""},{"$f":"IF(F479<>\"\",事業者基本情報!$Y$8,\"\")","v":""},{"$f":"IF(F479<>\"\",事業者基本情報!$E$11&事業者基本情報!$F$11&事業者基本情報!$G$11&事業者基本情報!$H$11&事業者基本情報!$I$11,\"\")","v":""},null,null,null,"市",null,null,"-",null,"-",null,{"$f":"IFERROR(VLOOKUP(Q479,コード表!$B$3:$C$101,2,FALSE),\"\")","v":""},null,{"$f":"IFERROR(VLOOKUP(S479,コード表!$F$7:$G$141,2,FALSE),\"\")","v":""},null,null,"t",null,null,null,null,null,null,null,null,null,null,null,null,null,null,null,null,null,null,null,null,null,null,null,null,null,null,null,null,null,null,null,null,null,null,null,null,null,null,null,null,null,null,null,null,null,null,null,null,"","",{"$f":"IF(BS479=\"\",\"\",IF(COUNTIF(BS$4:BS479,BS479)=1,ROW(),\"\"))","v":""},{"$f":"IFERROR(INDEX(BS:BS,SMALL(BT:BT,ROW(A476))),\"\")","v":""},"","","",""]
[{"$f":"IF(F480<>\"\",事業者基本情報!$E$9&事業者基本情報!$F$9&事業者基本情報!$G$9,\"\")","v":""},{"$f":"IF(F480<>\"\",事業者基本情報!$Y$10,\"\")","v":""},{"$f":"IF(F480<>\"\",事業者基本情報!$Y$7,\"\")","v":""},{"$f":"IF(F480<>\"\",事業者基本情報!$Y$8,\"\")","v":""},{"$f":"IF(F480<>\"\",事業者基本情報!$E$11&事業者基本情報!$F$11&事業者基本情報!$G$11&事業者基本情報!$H$11&事業者基本情報!$I$11,\"\")","v":""},null,null,null,"市",null,null,"-",null,"-",null,{"$f":"IFERROR(VLOOKUP(Q480,コード表!$B$3:$C$101,2,FALSE),\"\")","v":""},null,{"$f":"IFERROR(VLOOKUP(S480,コード表!$F$7:$G$141,2,FALSE),\"\")","v":""},null,null,"t",null,null,null,null,null,null,null,null,null,null,null,null,null,null,null,null,null,null,null,null,null,null,null,null,null,null,null,null,null,null,null,null,null,null,null,null,null,null,null,null,null,null,null,null,null,null,null,null,"","",{"$f":"IF(BS480=\"\",\"\",IF(COUNTIF(BS$4:BS480,BS480)=1,ROW(),\"\"))","v":""},{"$f":"IFERROR(INDEX(BS:BS,SMALL(BT:BT,ROW(A477))),\"\")","v":""},"","","",""]
[{"$f":"IF(F481<>\"\",事業者基本情報!$E$9&事業者基本情報!$F$9&事業者基本情報!$G$9,\"\")","v":""},{"$f":"IF(F481<>\"\",事業者基本情報!$Y$10,\"\")","v":""},{"$f":"IF(F481<>\"\",事業者基本情報!$Y$7,\"\")","v":""},{"$f":"IF(F481<>\"\",事業者基本情報!$Y$8,\"\")","v":""},{"$f":"IF(F481<>\"\",事業者基本情報!$E$11&事業者基本情報!$F$11&事業者基本情報!$G$11&事業者基本情報!$H$11&事業者基本情報!$I$11,\"\")","v":""},null,null,null,"市",null,null,"-",null,"-",null,{"$f":"IFERROR(VLOOKUP(Q481,コード表!$B$3:$C$101,2,FALSE),\"\")","v":""},null,{"$f":"IFERROR(VLOOKUP(S481,コード表!$F$7:$G$141,2,FALSE),\"\")","v":""},null,null,"t",null,null,null,null,null,null,null,null,null,null,null,null,null,null,null,null,null,null,null,null,null,null,null,null,null,null,null,null,null,null,null,null,null,null,null,null,null,null,null,null,null,null,null,null,null,null,null,null,"","",{"$f":"IF(BS481=\"\",\"\",IF(COUNTIF(BS$4:BS481,BS481)=1,ROW(),\"\"))","v":""},{"$f":"IFERROR(INDEX(BS:BS,SMALL(BT:BT,ROW(A478))),\"\")","v":""},"","","",""]
[{"$f":"IF(F482<>\"\",事業者基本情報!$E$9&事業者基本情報!$F$9&事業者基本情報!$G$9,\"\")","v":""},{"$f":"IF(F482<>\"\",事業者基本情報!$Y$10,\"\")","v":""},{"$f":"IF(F482<>\"\",事業者基本情報!$Y$7,\"\")","v":""},{"$f":"IF(F482<>\"\",事業者基本情報!$Y$8,\"\")","v":""},{"$f":"IF(F482<>\"\",事業者基本情報!$E$11&事業者基本情報!$F$11&事業者基本情報!$G$11&事業者基本情報!$H$11&事業者基本情報!$I$11,\"\")","v":""},null,null,null,"市",null,null,"-",null,"-",null,{"$f":"IFERROR(VLOOKUP(Q482,コード表!$B$3:$C$101,2,FALSE),\"\")","v":""},null,{"$f":"IFERROR(VLOOKUP(S482,コード表!$F$7:$G$141,2,FALSE),\"\")","v":""},null,null,"t",null,null,null,null,null,null,null,null,null,null,null,null,null,null,null,null,null,null,null,null,null,null,null,null,null,null,null,null,null,null,null,null,null,null,null,null,null,null,null,null,null,null,null,null,null,null,null,null,"","",{"$f":"IF(BS482=\"\",\"\",IF(COUNTIF(BS$4:BS482,BS482)=1,ROW(),\"\"))","v":""},{"$f":"IFERROR(INDEX(BS:BS,SMALL(BT:BT,ROW(A479))),\"\")","v":""},"","","",""]
[{"$f":"IF(F483<>\"\",事業者基本情報!$E$9&事業者基本情報!$F$9&事業者基本情報!$G$9,\"\")","v":""},{"$f":"IF(F483<>\"\",事業者基本情報!$Y$10,\"\")","v":""},{"$f":"IF(F483<>\"\",事業者基本情報!$Y$7,\"\")","v":""},{"$f":"IF(F483<>\"\",事業者基本情報!$Y$8,\"\")","v":""},{"$f":"IF(F483<>\"\",事業者基本情報!$E$11&事業者基本情報!$F$11&事業者基本情報!$G$11&事業者基本情報!$H$11&事業者基本情報!$I$11,\"\")","v":""},null,null,null,"市",null,null,"-",null,"-",null,{"$f":"IFERROR(VLOOKUP(Q483,コード表!$B$3:$C$101,2,FALSE),\"\")","v":""},null,{"$f":"IFERROR(VLOOKUP(S483,コード表!$F$7:$G$141,2,FALSE),\"\")","v":""},null,null,"t",null,null,null,null,null,null,null,null,null,null,null,null,null,null,null,null,null,null,null,null,null,null,null,null,null,null,null,null,null,null,null,null,null,null,null,null,null,null,null,null,null,null,null,null,null,null,null,null,"","",{"$f":"IF(BS483=\"\",\"\",IF(COUNTIF(BS$4:BS483,BS483)=1,ROW(),\"\"))","v":""},{"$f":"IFERROR(INDEX(BS:BS,SMALL(BT:BT,ROW(A480))),\"\")","v":""},"","","",""]
[{"$f":"IF(F484<>\"\",事業者基本情報!$E$9&事業者基本情報!$F$9&事業者基本情報!$G$9,\"\")","v":""},{"$f":"IF(F484<>\"\",事業者基本情報!$Y$10,\"\")","v":""},{"$f":"IF(F484<>\"\",事業者基本情報!$Y$7,\"\")","v":""},{"$f":"IF(F484<>\"\",事業者基本情報!$Y$8,\"\")","v":""},{"$f":"IF(F484<>\"\",事業者基本情報!$E$11&事業者基本情報!$F$11&事業者基本情報!$G$11&事業者基本情報!$H$11&事業者基本情報!$I$11,\"\")","v":""},null,null,null,"市",null,null,"-",null,"-",null,{"$f":"IFERROR(VLOOKUP(Q484,コード表!$B$3:$C$101,2,FALSE),\"\")","v":""},null,{"$f":"IFERROR(VLOOKUP(S484,コード表!$F$7:$G$141,2,FALSE),\"\")","v":""},null,null,"t",null,null,null,null,null,null,null,null,null,null,null,null,null,null,null,null,null,null,null,null,null,null,null,null,null,null,null,null,null,null,null,null,null,null,null,null,null,null,null,null,null,null,null,null,null,null,null,null,"","",{"$f":"IF(BS484=\"\",\"\",IF(COUNTIF(BS$4:BS484,BS484)=1,ROW(),\"\"))","v":""},{"$f":"IFERROR(INDEX(BS:BS,SMALL(BT:BT,ROW(A481))),\"\")","v":""},"","","",""]
[{"$f":"IF(F485<>\"\",事業者基本情報!$E$9&事業者基本情報!$F$9&事業者基本情報!$G$9,\"\")","v":""},{"$f":"IF(F485<>\"\",事業者基本情報!$Y$10,\"\")","v":""},{"$f":"IF(F485<>\"\",事業者基本情報!$Y$7,\"\")","v":""},{"$f":"IF(F485<>\"\",事業者基本情報!$Y$8,\"\")","v":""},{"$f":"IF(F485<>\"\",事業者基本情報!$E$11&事業者基本情報!$F$11&事業者基本情報!$G$11&事業者基本情報!$H$11&事業者基本情報!$I$11,\"\")","v":""},null,null,null,"市",null,null,"-",null,"-",null,{"$f":"IFERROR(VLOOKUP(Q485,コード表!$B$3:$C$101,2,FALSE),\"\")","v":""},null,{"$f":"IFERROR(VLOOKUP(S485,コード表!$F$7:$G$141,2,FALSE),\"\")","v":""},null,null,"t",null,null,null,null,null,null,null,null,null,null,null,null,null,null,null,null,null,null,null,null,null,null,null,null,null,null,null,null,null,null,null,null,null,null,null,null,null,null,null,null,null,null,null,null,null,null,null,null,"","",{"$f":"IF(BS485=\"\",\"\",IF(COUNTIF(BS$4:BS485,BS485)=1,ROW(),\"\"))","v":""},{"$f":"IFERROR(INDEX(BS:BS,SMALL(BT:BT,ROW(A482))),\"\")","v":""},"","","",""]
[{"$f":"IF(F486<>\"\",事業者基本情報!$E$9&事業者基本情報!$F$9&事業者基本情報!$G$9,\"\")","v":""},{"$f":"IF(F486<>\"\",事業者基本情報!$Y$10,\"\")","v":""},{"$f":"IF(F486<>\"\",事業者基本情報!$Y$7,\"\")","v":""},{"$f":"IF(F486<>\"\",事業者基本情報!$Y$8,\"\")","v":""},{"$f":"IF(F486<>\"\",事業者基本情報!$E$11&事業者基本情報!$F$11&事業者基本情報!$G$11&事業者基本情報!$H$11&事業者基本情報!$I$11,\"\")","v":""},null,null,null,"市",null,null,"-",null,"-",null,{"$f":"IFERROR(VLOOKUP(Q486,コード表!$B$3:$C$101,2,FALSE),\"\")","v":""},null,{"$f":"IFERROR(VLOOKUP(S486,コード表!$F$7:$G$141,2,FALSE),\"\")","v":""},null,null,"t",null,null,null,null,null,null,null,null,null,null,null,null,null,null,null,null,null,null,null,null,null,null,null,null,null,null,null,null,null,null,null,null,null,null,null,null,null,null,null,null,null,null,null,null,null,null,null,null,"","",{"$f":"IF(BS486=\"\",\"\",IF(COUNTIF(BS$4:BS486,BS486)=1,ROW(),\"\"))","v":""},{"$f":"IFERROR(INDEX(BS:BS,SMALL(BT:BT,ROW(A483))),\"\")","v":""},"","","",""]
[{"$f":"IF(F487<>\"\",事業者基本情報!$E$9&事業者基本情報!$F$9&事業者基本情報!$G$9,\"\")","v":""},{"$f":"IF(F487<>\"\",事業者基本情報!$Y$10,\"\")","v":""},{"$f":"IF(F487<>\"\",事業者基本情報!$Y$7,\"\")","v":""},{"$f":"IF(F487<>\"\",事業者基本情報!$Y$8,\"\")","v":""},{"$f":"IF(F487<>\"\",事業者基本情報!$E$11&事業者基本情報!$F$11&事業者基本情報!$G$11&事業者基本情報!$H$11&事業者基本情報!$I$11,\"\")","v":""},null,null,null,"市",null,null,"-",null,"-",null,{"$f":"IFERROR(VLOOKUP(Q487,コード表!$B$3:$C$101,2,FALSE),\"\")","v":""},null,{"$f":"IFERROR(VLOOKUP(S487,コード表!$F$7:$G$141,2,FALSE),\"\")","v":""},null,null,"t",null,null,null,null,null,null,null,null,null,null,null,null,null,null,null,null,null,null,null,null,null,null,null,null,null,null,null,null,null,null,null,null,null,null,null,null,null,null,null,null,null,null,null,null,null,null,null,null,"","",{"$f":"IF(BS487=\"\",\"\",IF(COUNTIF(BS$4:BS487,BS487)=1,ROW(),\"\"))","v":""},{"$f":"IFERROR(INDEX(BS:BS,SMALL(BT:BT,ROW(A484))),\"\")","v":""},"","","",""]
[{"$f":"IF(F488<>\"\",事業者基本情報!$E$9&事業者基本情報!$F$9&事業者基本情報!$G$9,\"\")","v":""},{"$f":"IF(F488<>\"\",事業者基本情報!$Y$10,\"\")","v":""},{"$f":"IF(F488<>\"\",事業者基本情報!$Y$7,\"\")","v":""},{"$f":"IF(F488<>\"\",事業者基本情報!$Y$8,\"\")","v":""},{"$f":"IF(F488<>\"\",事業者基本情報!$E$11&事業者基本情報!$F$11&事業者基本情報!$G$11&事業者基本情報!$H$11&事業者基本情報!$I$11,\"\")","v":""},null,null,null,"市",null,null,"-",null,"-",null,{"$f":"IFERROR(VLOOKUP(Q488,コード表!$B$3:$C$101,2,FALSE),\"\")","v":""},null,{"$f":"IFERROR(VLOOKUP(S488,コード表!$F$7:$G$141,2,FALSE),\"\")","v":""},null,null,"t",null,null,null,null,null,null,null,null,null,null,null,null,null,null,null,null,null,null,null,null,null,null,null,null,null,null,null,null,null,null,null,null,null,null,null,null,null,null,null,null,null,null,null,null,null,null,null,null,"","",{"$f":"IF(BS488=\"\",\"\",IF(COUNTIF(BS$4:BS488,BS488)=1,ROW(),\"\"))","v":""},{"$f":"IFERROR(INDEX(BS:BS,SMALL(BT:BT,ROW(A485))),\"\")","v":""},"","","",""]
[{"$f":"IF(F489<>\"\",事業者基本情報!$E$9&事業者基本情報!$F$9&事業者基本情報!$G$9,\"\")","v":""},{"$f":"IF(F489<>\"\",事業者基本情報!$Y$10,\"\")","v":""},{"$f":"IF(F489<>\"\",事業者基本情報!$Y$7,\"\")","v":""},{"$f":"IF(F489<>\"\",事業者基本情報!$Y$8,\"\")","v":""},{"$f":"IF(F489<>\"\",事業者基本情報!$E$11&事業者基本情報!$F$11&事業者基本情報!$G$11&事業者基本情報!$H$11&事業者基本情報!$I$11,\"\")","v":""},null,null,null,"市",null,null,"-",null,"-",null,{"$f":"IFERROR(VLOOKUP(Q489,コード表!$B$3:$C$101,2,FALSE),\"\")","v":""},null,{"$f":"IFERROR(VLOOKUP(S489,コード表!$F$7:$G$141,2,FALSE),\"\")","v":""},null,null,"t",null,null,null,null,null,null,null,null,null,null,null,null,null,null,null,null,null,null,null,null,null,null,null,null,null,null,null,null,null,null,null,null,null,null,null,null,null,null,null,null,null,null,null,null,null,null,null,null,"","",{"$f":"IF(BS489=\"\",\"\",IF(COUNTIF(BS$4:BS489,BS489)=1,ROW(),\"\"))","v":""},{"$f":"IFERROR(INDEX(BS:BS,SMALL(BT:BT,ROW(A486))),\"\")","v":""},"","","",""]
[{"$f":"IF(F490<>\"\",事業者基本情報!$E$9&事業者基本情報!$F$9&事業者基本情報!$G$9,\"\")","v":""},{"$f":"IF(F490<>\"\",事業者基本情報!$Y$10,\"\")","v":""},{"$f":"IF(F490<>\"\",事業者基本情報!$Y$7,\"\")","v":""},{"$f":"IF(F490<>\"\",事業者基本情報!$Y$8,\"\")","v":""},{"$f":"IF(F490<>\"\",事業者基本情報!$E$11&事業者基本情報!$F$11&事業者基本情報!$G$11&事業者基本情報!$H$11&事業者基本情報!$I$11,\"\")","v":""},null,null,null,"市",null,null,"-",null,"-",null,{"$f":"IFERROR(VLOOKUP(Q490,コード表!$B$3:$C$101,2,FALSE),\"\")","v":""},null,{"$f":"IFERROR(VLOOKUP(S490,コード表!$F$7:$G$141,2,FALSE),\"\")","v":""},null,null,"t",null,null,null,null,null,null,null,null,null,null,null,null,null,null,null,null,null,null,null,null,null,null,null,null,null,null,null,null,null,null,null,null,null,null,null,null,null,null,null,null,null,null,null,null,null,null,null,null,"","",{"$f":"IF(BS490=\"\",\"\",IF(COUNTIF(BS$4:BS490,BS490)=1,ROW(),\"\"))","v":""},{"$f":"IFERROR(INDEX(BS:BS,SMALL(BT:BT,ROW(A487))),\"\")","v":""},"","","",""]
[{"$f":"IF(F491<>\"\",事業者基本情報!$E$9&事業者基本情報!$F$9&事業者基本情報!$G$9,\"\")","v":""},{"$f":"IF(F491<>\"\",事業者基本情報!$Y$10,\"\")","v":""},{"$f":"IF(F491<>\"\",事業者基本情報!$Y$7,\"\")","v":""},{"$f":"IF(F491<>\"\",事業者基本情報!$Y$8,\"\")","v":""},{"$f":"IF(F491<>\"\",事業者基本情報!$E$11&事業者基本情報!$F$11&事業者基本情報!$G$11&事業者基本情報!$H$11&事業者基本情報!$I$11,\"\")","v":""},null,null,null,"市",null,null,"-",null,"-",null,{"$f":"IFERROR(VLOOKUP(Q491,コード表!$B$3:$C$101,2,FALSE),\"\")","v":""},null,{"$f":"IFERROR(VLOOKUP(S491,コード表!$F$7:$G$141,2,FALSE),\"\")","v":""},null,null,"t",null,null,null,null,null,null,null,null,null,null,null,null,null,null,null,null,null,null,null,null,null,null,null,null,null,null,null,null,null,null,null,null,null,null,null,null,null,null,null,null,null,null,null,null,null,null,null,null,"","",{"$f":"IF(BS491=\"\",\"\",IF(COUNTIF(BS$4:BS491,BS491)=1,ROW(),\"\"))","v":""},{"$f":"IFERROR(INDEX(BS:BS,SMALL(BT:BT,ROW(A488))),\"\")","v":""},"","","",""]
[{"$f":"IF(F492<>\"\",事業者基本情報!$E$9&事業者基本情報!$F$9&事業者基本情報!$G$9,\"\")","v":""},{"$f":"IF(F492<>\"\",事業者基本情報!$Y$10,\"\")","v":""},{"$f":"IF(F492<>\"\",事業者基本情報!$Y$7,\"\")","v":""},{"$f":"IF(F492<>\"\",事業者基本情報!$Y$8,\"\")","v":""},{"$f":"IF(F492<>\"\",事業者基本情報!$E$11&事業者基本情報!$F$11&事業者基本情報!$G$11&事業者基本情報!$H$11&事業者基本情報!$I$11,\"\")","v":""},null,null,null,"市",null,null,"-",null,"-",null,{"$f":"IFERROR(VLOOKUP(Q492,コード表!$B$3:$C$101,2,FALSE),\"\")","v":""},null,{"$f":"IFERROR(VLOOKUP(S492,コード表!$F$7:$G$141,2,FALSE),\"\")","v":""},null,null,"t",null,null,null,null,null,null,null,null,null,null,null,null,null,null,null,null,null,null,null,null,null,null,null,null,null,null,null,null,null,null,null,null,null,null,null,null,null,null,null,null,null,null,null,null,null,null,null,null,"","",{"$f":"IF(BS492=\"\",\"\",IF(COUNTIF(BS$4:BS492,BS492)=1,ROW(),\"\"))","v":""},{"$f":"IFERROR(INDEX(BS:BS,SMALL(BT:BT,ROW(A489))),\"\")","v":""},"","","",""]
[{"$f":"IF(F493<>\"\",事業者基本情報!$E$9&事業者基本情報!$F$9&事業者基本情報!$G$9,\"\")","v":""},{"$f":"IF(F493<>\"\",事業者基本情報!$Y$10,\"\")","v":""},{"$f":"IF(F493<>\"\",事業者基本情報!$Y$7,\"\")","v":""},{"$f":"IF(F493<>\"\",事業者基本情報!$Y$8,\"\")","v":""},{"$f":"IF(F493<>\"\",事業者基本情報!$E$11&事業者基本情報!$F$11&事業者基本情報!$G$11&事業者基本情報!$H$11&事業者基本情報!$I$11,\"\")","v":""},null,null,null,"市",null,null,"-",null,"-",null,{"$f":"IFERROR(VLOOKUP(Q493,コード表!$B$3:$C$101,2,FALSE),\"\")","v":""},null,{"$f":"IFERROR(VLOOKUP(S493,コード表!$F$7:$G$141,2,FALSE),\"\")","v":""},null,null,"t",null,null,null,null,null,null,null,null,null,null,null,null,null,null,null,null,null,null,null,null,null,null,null,null,null,null,null,null,null,null,null,null,null,null,null,null,null,null,null,null,null,null,null,null,null,null,null,null,"","",{"$f":"IF(BS493=\"\",\"\",IF(COUNTIF(BS$4:BS493,BS493)=1,ROW(),\"\"))","v":""},{"$f":"IFERROR(INDEX(BS:BS,SMALL(BT:BT,ROW(A490))),\"\")","v":""},"","","",""]
[{"$f":"IF(F494<>\"\",事業者基本情報!$E$9&事業者基本情報!$F$9&事業者基本情報!$G$9,\"\")","v":""},{"$f":"IF(F494<>\"\",事業者基本情報!$Y$10,\"\")","v":""},{"$f":"IF(F494<>\"\",事業者基本情報!$Y$7,\"\")","v":""},{"$f":"IF(F494<>\"\",事業者基本情報!$Y$8,\"\")","v":""},{"$f":"IF(F494<>\"\",事業者基本情報!$E$11&事業者基本情報!$F$11&事業者基本情報!$G$11&事業者基本情報!$H$11&事業者基本情報!$I$11,\"\")","v":""},null,null,null,"市",null,null,"-",null,"-",null,{"$f":"IFERROR(VLOOKUP(Q494,コード表!$B$3:$C$101,2,FALSE),\"\")","v":""},null,{"$f":"IFERROR(VLOOKUP(S494,コード表!$F$7:$G$141,2,FALSE),\"\")","v":""},null,null,"t",null,null,null,null,null,null,null,null,null,null,null,null,null,null,null,null,null,null,null,null,null,null,null,null,null,null,null,null,null,null,null,null,null,null,null,null,null,null,null,null,null,null,null,null,null,null,null,null,"","",{"$f":"IF(BS494=\"\",\"\",IF(COUNTIF(BS$4:BS494,BS494)=1,ROW(),\"\"))","v":""},{"$f":"IFERROR(INDEX(BS:BS,SMALL(BT:BT,ROW(A491))),\"\")","v":""},"","","",""]
[{"$f":"IF(F495<>\"\",事業者基本情報!$E$9&事業者基本情報!$F$9&事業者基本情報!$G$9,\"\")","v":""},{"$f":"IF(F495<>\"\",事業者基本情報!$Y$10,\"\")","v":""},{"$f":"IF(F495<>\"\",事業者基本情報!$Y$7,\"\")","v":""},{"$f":"IF(F495<>\"\",事業者基本情報!$Y$8,\"\")","v":""},{"$f":"IF(F495<>\"\",事業者基本情報!$E$11&事業者基本情報!$F$11&事業者基本情報!$G$11&事業者基本情報!$H$11&事業者基本情報!$I$11,\"\")","v":""},null,null,null,"市",null,null,"-",null,"-",null,{"$f":"IFERROR(VLOOKUP(Q495,コード表!$B$3:$C$101,2,FALSE),\"\")","v":""},null,{"$f":"IFERROR(VLOOKUP(S495,コード表!$F$7:$G$141,2,FALSE),\"\")","v":""},null,null,"t",null,null,null,null,null,null,null,null,null,null,null,null,null,null,null,null,null,null,null,null,null,null,null,null,null,null,null,null,null,null,null,null,null,null,null,null,null,null,null,null,null,null,null,null,null,null,null,null,"","",{"$f":"IF(BS495=\"\",\"\",IF(COUNTIF(BS$4:BS495,BS495)=1,ROW(),\"\"))","v":""},{"$f":"IFERROR(INDEX(BS:BS,SMALL(BT:BT,ROW(A492))),\"\")","v":""},"","","",""]
[{"$f":"IF(F496<>\"\",事業者基本情報!$E$9&事業者基本情報!$F$9&事業者基本情報!$G$9,\"\")","v":""},{"$f":"IF(F496<>\"\",事業者基本情報!$Y$10,\"\")","v":""},{"$f":"IF(F496<>\"\",事業者基本情報!$Y$7,\"\")","v":""},{"$f":"IF(F496<>\"\",事業者基本情報!$Y$8,\"\")","v":""},{"$f":"IF(F496<>\"\",事業者基本情報!$E$11&事業者基本情報!$F$11&事業者基本情報!$G$11&事業者基本情報!$H$11&事業者基本情報!$I$11,\"\")","v":""},null,null,null,"市",null,null,"-",null,"-",null,{"$f":"IFERROR(VLOOKUP(Q496,コード表!$B$3:$C$101,2,FALSE),\"\")","v":""},null,{"$f":"IFERROR(VLOOKUP(S496,コード表!$F$7:$G$141,2,FALSE),\"\")","v":""},null,null,"t",null,null,null,null,null,null,null,null,null,null,null,null,null,null,null,null,null,null,null,null,null,null,null,null,null,null,null,null,null,null,null,null,null,null,null,null,null,null,null,null,null,null,null,null,null,null,null,null,"","",{"$f":"IF(BS496=\"\",\"\",IF(COUNTIF(BS$4:BS496,BS496)=1,ROW(),\"\"))","v":""},{"$f":"IFERROR(INDEX(BS:BS,SMALL(BT:BT,ROW(A493))),\"\")","v":""},"","","",""]
[{"$f":"IF(F497<>\"\",事業者基本情報!$E$9&事業者基本情報!$F$9&事業者基本情報!$G$9,\"\")","v":""},{"$f":"IF(F497<>\"\",事業者基本情報!$Y$10,\"\")","v":""},{"$f":"IF(F497<>\"\",事業者基本情報!$Y$7,\"\")","v":""},{"$f":"IF(F497<>\"\",事業者基本情報!$Y$8,\"\")","v":""},{"$f":"IF(F497<>\"\",事業者基本情報!$E$11&事業者基本情報!$F$11&事業者基本情報!$G$11&事業者基本情報!$H$11&事業者基本情報!$I$11,\"\")","v":""},null,null,null,"市",null,null,"-",null,"-",null,{"$f":"IFERROR(VLOOKUP(Q497,コード表!$B$3:$C$101,2,FALSE),\"\")","v":""},null,{"$f":"IFERROR(VLOOKUP(S497,コード表!$F$7:$G$141,2,FALSE),\"\")","v":""},null,null,"t",null,null,null,null,null,null,null,null,null,null,null,null,null,null,null,null,null,null,null,null,null,null,null,null,null,null,null,null,null,null,null,null,null,null,null,null,null,null,null,null,null,null,null,null,null,null,null,null,"","",{"$f":"IF(BS497=\"\",\"\",IF(COUNTIF(BS$4:BS497,BS497)=1,ROW(),\"\"))","v":""},{"$f":"IFERROR(INDEX(BS:BS,SMALL(BT:BT,ROW(A494))),\"\")","v":""},"","","",""]
[{"$f":"IF(F498<>\"\",事業者基本情報!$E$9&事業者基本情報!$F$9&事業者基本情報!$G$9,\"\")","v":""},{"$f":"IF(F498<>\"\",事業者基本情報!$Y$10,\"\")","v":""},{"$f":"IF(F498<>\"\",事業者基本情報!$Y$7,\"\")","v":""},{"$f":"IF(F498<>\"\",事業者基本情報!$Y$8,\"\")","v":""},{"$f":"IF(F498<>\"\",事業者基本情報!$E$11&事業者基本情報!$F$11&事業者基本情報!$G$11&事業者基本情報!$H$11&事業者基本情報!$I$11,\"\")","v":""},null,null,null,"市",null,null,"-",null,"-",null,{"$f":"IFERROR(VLOOKUP(Q498,コード表!$B$3:$C$101,2,FALSE),\"\")","v":""},null,{"$f":"IFERROR(VLOOKUP(S498,コード表!$F$7:$G$141,2,FALSE),\"\")","v":""},null,null,"t",null,null,null,null,null,null,null,null,null,null,null,null,null,null,null,null,null,null,null,null,null,null,null,null,null,null,null,null,null,null,null,null,null,null,null,null,null,null,null,null,null,null,null,null,null,null,null,null,"","",{"$f":"IF(BS498=\"\",\"\",IF(COUNTIF(BS$4:BS498,BS498)=1,ROW(),\"\"))","v":""},{"$f":"IFERROR(INDEX(BS:BS,SMALL(BT:BT,ROW(A495))),\"\")","v":""},"","","",""]
[{"$f":"IF(F499<>\"\",事業者基本情報!$E$9&事業者基本情報!$F$9&事業者基本情報!$G$9,\"\")","v":""},{"$f":"IF(F499<>\"\",事業者基本情報!$Y$10,\"\")","v":""},{"$f":"IF(F499<>\"\",事業者基本情報!$Y$7,\"\")","v":""},{"$f":"IF(F499<>\"\",事業者基本情報!$Y$8,\"\")","v":""},{"$f":"IF(F499<>\"\",事業者基本情報!$E$11&事業者基本情報!$F$11&事業者基本情報!$G$11&事業者基本情報!$H$11&事業者基本情報!$I$11,\"\")","v":""},null,null,null,"市",null,null,"-",null,"-",null,{"$f":"IFERROR(VLOOKUP(Q499,コード表!$B$3:$C$101,2,FALSE),\"\")","v":""},null,{"$f":"IFERROR(VLOOKUP(S499,コード表!$F$7:$G$141,2,FALSE),\"\")","v":""},null,null,"t",null,null,null,null,null,null,null,null,null,null,null,null,null,null,null,null,null,null,null,null,null,null,null,null,null,null,null,null,null,null,null,null,null,null,null,null,null,null,null,null,null,null,null,null,null,null,null,null,"","",{"$f":"IF(BS499=\"\",\"\",IF(COUNTIF(BS$4:BS499,BS499)=1,ROW(),\"\"))","v":""},{"$f":"IFERROR(INDEX(BS:BS,SMALL(BT:BT,ROW(A496))),\"\")","v":""},"","","",""]
[{"$f":"IF(F500<>\"\",事業者基本情報!$E$9&事業者基本情報!$F$9&事業者基本情報!$G$9,\"\")","v":""},{"$f":"IF(F500<>\"\",事業者基本情報!$Y$10,\"\")","v":""},{"$f":"IF(F500<>\"\",事業者基本情報!$Y$7,\"\")","v":""},{"$f":"IF(F500<>\"\",事業者基本情報!$Y$8,\"\")","v":""},{"$f":"IF(F500<>\"\",事業者基本情報!$E$11&事業者基本情報!$F$11&事業者基本情報!$G$11&事業者基本情報!$H$11&事業者基本情報!$I$11,\"\")","v":""},null,null,null,"市",null,null,"-",null,"-",null,{"$f":"IFERROR(VLOOKUP(Q500,コード表!$B$3:$C$101,2,FALSE),\"\")","v":""},null,{"$f":"IFERROR(VLOOKUP(S500,コード表!$F$7:$G$141,2,FALSE),\"\")","v":""},null,null,"t",null,null,null,null,null,null,null,null,null,null,null,null,null,null,null,null,null,null,null,null,null,null,null,null,null,null,null,null,null,null,null,null,null,null,null,null,null,null,null,null,null,null,null,null,null,null,null,null,"","",{"$f":"IF(BS500=\"\",\"\",IF(COUNTIF(BS$4:BS500,BS500)=1,ROW(),\"\"))","v":""},{"$f":"IFERROR(INDEX(BS:BS,SMALL(BT:BT,ROW(A497))),\"\")","v":""},"","","",""]
[{"$f":"IF(F502<>\"\",事業者基本情報!$E$9&事業者基本情報!$F$9&事業者基本情報!$G$9,\"\")","v":""},{"$f":"IF(F502<>\"\",事業者基本情報!$Y$10,\"\")","v":""},{"$f":"IF(F502<>\"\",事業者基本情報!$Y$7,\"\")","v":""},{"$f":"IF(F502<>\"\",事業者基本情報!$Y$8,\"\")","v":""},{"$f":"IF(F502<>\"\",事業者基本情報!$E$11&事業者基本情報!$F$11&事業者基本情報!$G$11&事業者基本情報!$H$11&事業者基本情報!$I$11,\"\")","v":""},null,null,null,"市",null,null,"-",null,"-",null,{"$f":"IFERROR(VLOOKUP(Q502,コード表!$B$3:$C$101,2,FALSE),\"\")","v":""},null,{"$f":"IFERROR(VLOOKUP(S502,コード表!$F$7:$G$141,2,FALSE),\"\")","v":""},null,null,"t",null,null,null,null,null,null,null,null,null,null,null,null,null,null,null,null,null,null,null,null,null,null,null,null,null,null,null,null,null,null,null,null,null,null,null,null,null,null,null,null,null,null,null,null,null,null,null,null,"","",{"$f":"IF(BS502=\"\",\"\",IF(COUNTIF(BS$4:BS502,BS502)=1,ROW(),\"\"))","v":""},{"$f":"IFERROR(INDEX(BS:BS,SMALL(BT:BT,ROW(A499))),\"\")","v":""},"","","",""]
[{"$f":"IF(F504<>\"\",事業者基本情報!$E$9&事業者基本情報!$F$9&事業者基本情報!$G$9,\"\")","v":""},{"$f":"IF(F504<>\"\",事業者基本情報!$Y$10,\"\")","v":""},{"$f":"IF(F504<>\"\",事業者基本情報!$Y$7,\"\")","v":""},{"$f":"IF(F504<>\"\",事業者基本情報!$Y$8,\"\")","v":""},{"$f":"IF(F504<>\"\",事業者基本情報!$E$11&事業者基本情報!$F$11&事業者基本情報!$G$11&事業者基本情報!$H$11&事業者基本情報!$I$11,\"\")","v":""},null,null,null,"市",null,null,"-",null,"-",null,{"$f":"IFERROR(VLOOKUP(Q504,コード表!$B$3:$C$101,2,FALSE),\"\")","v":""},null,{"$f":"IFERROR(VLOOKUP(S504,コード表!$F$7:$G$141,2,FALSE),\"\")","v":""},null,null,"t",null,null,null,null,null,null,null,null,null,null,null,null,null,null,null,null,null,null,null,null,null,null,null,null,null,null,null,null,null,null,null,null,null,null,null,null,null,null,null,null,null,null,null,null,null,null,null,null,"","",{"$f":"IF(BS504=\"\",\"\",IF(COUNTIF(BS$4:BS504,BS504)=1,ROW(),\"\"))","v":""},{"$f":"IFERROR(INDEX(BS:BS,SMALL(BT:BT,ROW(A501))),\"\")","v":""},"","","",""]
[{"$f":"IF(F507<>\"\",事業者基本情報!$E$9&事業者基本情報!$F$9&事業者基本情報!$G$9,\"\")","v":""},{"$f":"IF(F507<>\"\",事業者基本情報!$Y$10,\"\")","v":""},{"$f":"IF(F507<>\"\",事業者基本情報!$Y$7,\"\")","v":""},{"$f":"IF(F507<>\"\",事業者基本情報!$Y$8,\"\")","v":""},{"$f":"IF(F507<>\"\",事業者基本情報!$E$11&事業者基本情報!$F$11&事業者基本情報!$G$11&事業者基本情報!$H$11&事業者基本情報!$I$11,\"\")","v":""},null,null,null,"市",null,null,"-",null,"-",null,{"$f":"IFERROR(VLOOKUP(Q507,コード表!$B$3:$C$101,2,FALSE),\"\")","v":""},null,{"$f":"IFERROR(VLOOKUP(S507,コード表!$F$7:$G$141,2,FALSE),\"\")","v":""},null,null,"t",null,null,null,null,null,null,null,null,null,null,null,null,null,null,null,null,null,null,null,null,null,null,null,null,null,null,null,null,null,null,null,null,null,null,null,null,null,null,null,null,null,null,null,null,null,null,null,null,"","",{"$f":"IF(BS507=\"\",\"\",IF(COUNTIF(BS$4:BS507,BS507)=1,ROW(),\"\"))","v":""},{"$f":"IFERROR(INDEX(BS:BS,SMALL(BT:BT,ROW(A504))),\"\")","v":""},"","","",""]
[{"$f":"IF(F511<>\"\",事業者基本情報!$E$9&事業者基本情報!$F$9&事業者基本情報!$G$9,\"\")","v":""},{"$f":"IF(F511<>\"\",事業者基本情報!$Y$10,\"\")","v":""},{"$f":"IF(F511<>\"\",事業者基本情報!$Y$7,\"\")","v":""},{"$f":"IF(F511<>\"\",事業者基本情報!$Y$8,\"\")","v":""},{"$f":"IF(F511<>\"\",事業者基本情報!$E$11&事業者基本情報!$F$11&事業者基本情報!$G$11&事業者基本情報!$H$11&事業者基本情報!$I$11,\"\")","v":""},null,null,null,"市",null,null,"-",null,"-",null,{"$f":"IFERROR(VLOOKUP(Q511,コード表!$B$3:$C$101,2,FALSE),\"\")","v":""},null,{"$f":"IFERROR(VLOOKUP(S511,コード表!$F$7:$G$141,2,FALSE),\"\")","v":""},null,null,"t",null,null,null,null,null,null,null,null,null,null,null,null,null,null,null,null,null,null,null,null,null,null,null,null,null,null,null,null,null,null,null,null,null,null,null,null,null,null,null,null,null,null,null,null,null,null,null,null,"","",{"$f":"IF(BS511=\"\",\"\",IF(COUNTIF(BS$4:BS511,BS511)=1,ROW(),\"\"))","v":""},{"$f":"IFERROR(INDEX(BS:BS,SMALL(BT:BT,ROW(A508))),\"\")","v":""},"","","",""]
[{"$f":"IF(F513<>\"\",事業者基本情報!$E$9&事業者基本情報!$F$9&事業者基本情報!$G$9,\"\")","v":""},{"$f":"IF(F513<>\"\",事業者基本情報!$Y$10,\"\")","v":""},{"$f":"IF(F513<>\"\",事業者基本情報!$Y$7,\"\")","v":""},{"$f":"IF(F513<>\"\",事業者基本情報!$Y$8,\"\")","v":""},{"$f":"IF(F513<>\"\",事業者基本情報!$E$11&事業者基本情報!$F$11&事業者基本情報!$G$11&事業者基本情報!$H$11&事業者基本情報!$I$11,\"\")","v":""},null,null,null,"市",null,null,"-",null,"-",null,{"$f":"IFERROR(VLOOKUP(Q513,コード表!$B$3:$C$101,2,FALSE),\"\")","v":""},null,{"$f":"IFERROR(VLOOKUP(S513,コード表!$F$7:$G$141,2,FALSE),\"\")","v":""},null,null,"t",null,null,null,null,null,null,null,null,null,null,null,null,null,null,null,null,null,null,null,null,null,null,null,null,null,null,null,null,null,null,null,null,null,null,null,null,null,null,null,null,null,null,null,null,null,null,null,null,"","",{"$f":"IF(BS513=\"\",\"\",IF(COUNTIF(BS$4:BS513,BS513)=1,ROW(),\"\"))","v":""},{"$f":"IFERROR(INDEX(BS:BS,SMALL(BT:BT,ROW(A510))),\"\")","v":""},"","","",""]
[{"$f":"IF(F516<>\"\",事業者基本情報!$E$9&事業者基本情報!$F$9&事業者基本情報!$G$9,\"\")","v":""},{"$f":"IF(F516<>\"\",事業者基本情報!$Y$10,\"\")","v":""},{"$f":"IF(F516<>\"\",事業者基本情報!$Y$7,\"\")","v":""},{"$f":"IF(F516<>\"\",事業者基本情報!$Y$8,\"\")","v":""},{"$f":"IF(F516<>\"\",事業者基本情報!$E$11&事業者基本情報!$F$11&事業者基本情報!$G$11&事業者基本情報!$H$11&事業者基本情報!$I$11,\"\")","v":""},null,null,null,"市",null,null,"-",null,"-",null,{"$f":"IFERROR(VLOOKUP(Q516,コード表!$B$3:$C$101,2,FALSE),\"\")","v":""},null,{"$f":"IFERROR(VLOOKUP(S516,コード表!$F$7:$G$141,2,FALSE),\"\")","v":""},null,null,"t",null,null,null,null,null,null,null,null,null,null,null,null,null,null,null,null,null,null,null,null,null,null,null,null,null,null,null,null,null,null,null,null,null,null,null,null,null,null,null,null,null,null,null,null,null,null,null,null,{"$f":"IFERROR(IF(TRIM(F516)=\"\",\"\",IF(AND(VALUE(TRIM(R516))>=100000,VALUE(TRIM(R516))<7000000),\"普通産廃\",IF(AND(VALUE(TRIM(R516))>=7000000,VALUE(TRIM(R516))<9000000),\"特別産廃\",\"\"))),\"\")","v":""},{"$f":"IF(BR516<>\"\",TRIM(F516)&\"(\"&BR516&\")\",\"\")","v":""},{"$f":"IF(BS516=\"\",\"\",IF(COUNTIF(BS$4:BS516,BS516)=1,ROW(),\"\"))","v":""},{"$f":"IFERROR(INDEX(BS:BS,SMALL(BT:BT,ROW(A513))),\"\")","v":""},{"$f":"IF(BU516=\"\",\"\",IF(SUMIF(BS:BS,BU516,T:T)=0,\"\",SUMIF(BS:BS,BU516,T:T)))","v":""},{"$f":"IF(AS516<>\"\",AS516,IF(AO516<>\"\",AO516,IF(AK516<>\"\",AK516,IF(AG516<>\"\",AG516,IF(Y516<>\"\",Y516,\"\")))))","v":""},"",{"$f":"IF(F516&G516&H516&J516&K516&M516&O516&Q516&S516&T516&V516&W516&X516&Y516&Z516&AA516&AB516&AC516&AD516&AE516&AF516&AG516&AH516&AI516&AJ516&AK516&AL516&AM516&AN516&AO516&AP516&AQ516&AR516&AS516&AT516=\"\",\"\",1)","v":""}]
[{"$f":"IF(F517<>\"\",事業者基本情報!$E$9&事業者基本情報!$F$9&事業者基本情報!$G$9,\"\")","v":""},{"$f":"IF(F517<>\"\",事業者基本情報!$Y$10,\"\")","v":""},{"$f":"IF(F517<>\"\",事業者基本情報!$Y$7,\"\")","v":""},{"$f":"IF(F517<>\"\",事業者基本情報!$Y$8,\"\")","v":""},{"$f":"IF(F517<>\"\",事業者基本情報!$E$11&事業者基本情報!$F$11&事業者基本情報!$G$11&事業者基本情報!$H$11&事業者基本情報!$I$11,\"\")","v":""},null,null,null,"市",null,null,"-",null,"-",null,{"$f":"IFERROR(VLOOKUP(Q517,コード表!$B$3:$C$101,2,FALSE),\"\")","v":""},null,{"$f":"IFERROR(VLOOKUP(S517,コード表!$F$7:$G$141,2,FALSE),\"\")","v":""},null,null,"t",null,null,null,null,null,null,null,null,null,null,null,null,null,null,null,null,null,null,null,null,null,null,null,null,null,null,null,null,null,null,null,null,null,null,null,null,null,null,null,null,null,null,null,null,null,null,null,null,"","",{"$f":"IF(BS517=\"\",\"\",IF(COUNTIF(BS$4:BS517,BS517)=1,ROW(),\"\"))","v":""},{"$f":"IFERROR(INDEX(BS:BS,SMALL(BT:BT,ROW(A514))),\"\")","v":""},"","","",""]
[{"$f":"IF(F520<>\"\",事業者基本情報!$E$9&事業者基本情報!$F$9&事業者基本情報!$G$9,\"\")","v":""},{"$f":"IF(F520<>\"\",事業者基本情報!$Y$10,\"\")","v":""},{"$f":"IF(F520<>\"\",事業者基本情報!$Y$7,\"\")","v":""},{"$f":"IF(F520<>\"\",事業者基本情報!$Y$8,\"\")","v":""},{"$f":"IF(F520<>\"\",事業者基本情報!$E$11&事業者基本情報!$F$11&事業者基本情報!$G$11&事業者基本情報!$H$11&事業者基本情報!$I$11,\"\")","v":""},null,null,null,"市",null,null,"-",null,"-",null,{"$f":"IFERROR(VLOOKUP(Q520,コード表!$B$3:$C$101,2,FALSE),\"\")","v":""},null,{"$f":"IFERROR(VLOOKUP(S520,コード表!$F$7:$G$141,2,FALSE),\"\")","v":""},null,null,"t",null,null,null,null,null,null,null,null,null,null,null,null,null,null,null,null,null,null,null,null,null,null,null,null,null,null,null,null,null,null,null,null,null,null,null,null,null,null,null,null,null,null,null,null,null,null,null,null,"","",{"$f":"IF(BS520=\"\",\"\",IF(COUNTIF(BS$4:BS520,BS520)=1,ROW(),\"\"))","v":""},{"$f":"IFERROR(INDEX(BS:BS,SMALL(BT:BT,ROW(A517))),\"\")","v":""},"","","",""]
[{"$f":"IF(F524<>\"\",事業者基本情報!$E$9&事業者基本情報!$F$9&事業者基本情報!$G$9,\"\")","v":""},{"$f":"IF(F524<>\"\",事業者基本情報!$Y$10,\"\")","v":""},{"$f":"IF(F524<>\"\",事業者基本情報!$Y$7,\"\")","v":""},{"$f":"IF(F524<>\"\",事業者基本情報!$Y$8,\"\")","v":""},{"$f":"IF(F524<>\"\",事業者基本情報!$E$11&事業者基本情報!$F$11&事業者基本情報!$G$11&事業者基本情報!$H$11&事業者基本情報!$I$11,\"\")","v":""},null,null,null,"市",null,null,"-",null,"-",null,{"$f":"IFERROR(VLOOKUP(Q524,コード表!$B$3:$C$101,2,FALSE),\"\")","v":""},null,{"$f":"IFERROR(VLOOKUP(S524,コード表!$F$7:$G$141,2,FALSE),\"\")","v":""},null,null,"t",null,null,null,null,null,null,null,null,null,null,null,null,null,null,null,null,null,null,null,null,null,null,null,null,null,null,null,null,null,null,null,null,null,null,null,null,null,null,null,null,null,null,null,null,null,null,null,null,"","",{"$f":"IF(BS524=\"\",\"\",IF(COUNTIF(BS$4:BS524,BS524)=1,ROW(),\"\"))","v":""},{"$f":"IFERROR(INDEX(BS:BS,SMALL(BT:BT,ROW(A521))),\"\")","v":""},"","","",""]
[{"$f":"IF(F526<>\"\",事業者基本情報!$E$9&事業者基本情報!$F$9&事業者基本情報!$G$9,\"\")","v":""},{"$f":"IF(F526<>\"\",事業者基本情報!$Y$10,\"\")","v":""},{"$f":"IF(F526<>\"\",事業者基本情報!$Y$7,\"\")","v":""},{"$f":"IF(F526<>\"\",事業者基本情報!$Y$8,\"\")","v":""},{"$f":"IF(F526<>\"\",事業者基本情報!$E$11&事業者基本情報!$F$11&事業者基本情報!$G$11&事業者基本情報!$H$11&事業者基本情報!$I$11,\"\")","v":""},null,null,null,"市",null,null,"-",null,"-",null,{"$f":"IFERROR(VLOOKUP(Q526,コード表!$B$3:$C$101,2,FALSE),\"\")","v":""},null,{"$f":"IFERROR(VLOOKUP(S526,コード表!$F$7:$G$141,2,FALSE),\"\")","v":""},null,null,"t",null,null,null,null,null,null,null,null,null,null,null,null,null,null,null,null,null,null,null,null,null,null,null,null,null,null,null,null,null,null,null,null,null,null,null,null,null,null,null,null,null,null,null,null,null,null,null,null,"","",{"$f":"IF(BS526=\"\",\"\",IF(COUNTIF(BS$4:BS526,BS526)=1,ROW(),\"\"))","v":""},{"$f":"IFERROR(INDEX(BS:BS,SMALL(BT:BT,ROW(A523))),\"\")","v":""},"","","",""]
[{"$f":"IF(F529<>\"\",事業者基本情報!$E$9&事業者基本情報!$F$9&事業者基本情報!$G$9,\"\")","v":""},{"$f":"IF(F529<>\"\",事業者基本情報!$Y$10,\"\")","v":""},{"$f":"IF(F529<>\"\",事業者基本情報!$Y$7,\"\")","v":""},{"$f":"IF(F529<>\"\",事業者基本情報!$Y$8,\"\")","v":""},{"$f":"IF(F529<>\"\",事業者基本情報!$E$11&事業者基本情報!$F$11&事業者基本情報!$G$11&事業者基本情報!$H$11&事業者基本情報!$I$11,\"\")","v":""},null,null,null,"市",null,null,"-",null,"-",null,{"$f":"IFERROR(VLOOKUP(Q529,コード表!$B$3:$C$101,2,FALSE),\"\")","v":""},null,{"$f":"IFERROR(VLOOKUP(S529,コード表!$F$7:$G$141,2,FALSE),\"\")","v":""},null,null,"t",null,null,null,null,null,null,null,null,null,null,null,null,null,null,null,null,null,null,null,null,null,null,null,null,null,null,null,null,null,null,null,null,null,null,null,null,null,null,null,null,null,null,null,null,null,null,null,null,"","",{"$f":"IF(BS529=\"\",\"\",IF(COUNTIF(BS$4:BS529,BS529)=1,ROW(),\"\"))","v":""},{"$f":"IFERROR(INDEX(BS:BS,SMALL(BT:BT,ROW(A526))),\"\")","v":""},"","","",""]
[{"$f":"IF(F533<>\"\",事業者基本情報!$E$9&事業者基本情報!$F$9&事業者基本情報!$G$9,\"\")","v":""},{"$f":"IF(F533<>\"\",事業者基本情報!$Y$10,\"\")","v":""},{"$f":"IF(F533<>\"\",事業者基本情報!$Y$7,\"\")","v":""},{"$f":"IF(F533<>\"\",事業者基本情報!$Y$8,\"\")","v":""},{"$f":"IF(F533<>\"\",事業者基本情報!$E$11&事業者基本情報!$F$11&事業者基本情報!$G$11&事業者基本情報!$H$11&事業者基本情報!$I$11,\"\")","v":""},null,null,null,"市",null,null,"-",null,"-",null,{"$f":"IFERROR(VLOOKUP(Q533,コード表!$B$3:$C$101,2,FALSE),\"\")","v":""},null,{"$f":"IFERROR(VLOOKUP(S533,コード表!$F$7:$G$141,2,FALSE),\"\")","v":""},null,null,"t",null,null,null,null,null,null,null,null,null,null,null,null,null,null,null,null,null,null,null,null,null,null,null,null,null,null,null,null,null,null,null,null,null,null,null,null,null,null,null,null,null,null,null,null,null,null,null,null,"","",{"$f":"IF(BS533=\"\",\"\",IF(COUNTIF(BS$4:BS533,BS533)=1,ROW(),\"\"))","v":""},{"$f":"IFERROR(INDEX(BS:BS,SMALL(BT:BT,ROW(A530))),\"\")","v":""},"","","",""]
[{"$f":"IF(F535<>\"\",事業者基本情報!$E$9&事業者基本情報!$F$9&事業者基本情報!$G$9,\"\")","v":""},{"$f":"IF(F535<>\"\",事業者基本情報!$Y$10,\"\")","v":""},{"$f":"IF(F535<>\"\",事業者基本情報!$Y$7,\"\")","v":""},{"$f":"IF(F535<>\"\",事業者基本情報!$Y$8,\"\")","v":""},{"$f":"IF(F535<>\"\",事業者基本情報!$E$11&事業者基本情報!$F$11&事業者基本情報!$G$11&事業者基本情報!$H$11&事業者基本情報!$I$11,\"\")","v":""},null,null,null,"市",null,null,"-",null,"-",null,{"$f":"IFERROR(VLOOKUP(Q535,コード表!$B$3:$C$101,2,FALSE),\"\")","v":""},null,{"$f":"IFERROR(VLOOKUP(S535,コード表!$F$7:$G$141,2,FALSE),\"\")","v":""},null,null,"t",null,null,null,null,null,null,null,null,null,null,null,null,null,null,null,null,null,null,null,null,null,null,null,null,null,null,null,null,null,null,null,null,null,null,null,null,null,null,null,null,null,null,null,null,null,null,null,null,"","",{"$f":"IF(BS535=\"\",\"\",IF(COUNTIF(BS$4:BS535,BS535)=1,ROW(),\"\"))","v":""},{"$f":"IFERROR(INDEX(BS:BS,SMALL(BT:BT,ROW(A532))),\"\")","v":""},"","","",""]
[{"$f":"IF(F538<>\"\",事業者基本情報!$E$9&事業者基本情報!$F$9&事業者基本情報!$G$9,\"\")","v":""},{"$f":"IF(F538<>\"\",事業者基本情報!$Y$10,\"\")","v":""},{"$f":"IF(F538<>\"\",事業者基本情報!$Y$7,\"\")","v":""},{"$f":"IF(F538<>\"\",事業者基本情報!$Y$8,\"\")","v":""},{"$f":"IF(F538<>\"\",事業者基本情報!$E$11&事業者基本情報!$F$11&事業者基本情報!$G$11&事業者基本情報!$H$11&事業者基本情報!$I$11,\"\")","v":""},null,null,null,"市",null,null,"-",null,"-",null,{"$f":"IFERROR(VLOOKUP(Q538,コード表!$B$3:$C$101,2,FALSE),\"\")","v":""},null,{"$f":"IFERROR(VLOOKUP(S538,コード表!$F$7:$G$141,2,FALSE),\"\")","v":""},null,null,"t",null,null,null,null,null,null,null,null,null,null,null,null,null,null,null,null,null,null,null,null,null,null,null,null,null,null,null,null,null,null,null,null,null,null,null,null,null,null,null,null,null,null,null,null,null,null,null,null,"","",{"$f":"IF(BS538=\"\",\"\",IF(COUNTIF(BS$4:BS538,BS538)=1,ROW(),\"\"))","v":""},{"$f":"IFERROR(INDEX(BS:BS,SMALL(BT:BT,ROW(A535))),\"\")","v":""},"","","",""]
[{"$f":"IF(F539<>\"\",事業者基本情報!$E$9&事業者基本情報!$F$9&事業者基本情報!$G$9,\"\")","v":""},{"$f":"IF(F539<>\"\",事業者基本情報!$Y$10,\"\")","v":""},{"$f":"IF(F539<>\"\",事業者基本情報!$Y$7,\"\")","v":""},{"$f":"IF(F539<>\"\",事業者基本情報!$Y$8,\"\")","v":""},{"$f":"IF(F539<>\"\",事業者基本情報!$E$11&事業者基本情報!$F$11&事業者基本情報!$G$11&事業者基本情報!$H$11&事業者基本情報!$I$11,\"\")","v":""},null,null,null,"市",null,null,"-",null,"-",null,{"$f":"IFERROR(VLOOKUP(Q539,コード表!$B$3:$C$101,2,FALSE),\"\")","v":""},null,{"$f":"IFERROR(VLOOKUP(S539,コード表!$F$7:$G$141,2,FALSE),\"\")","v":""},null,null,"t",null,null,null,null,null,null,null,null,null,null,null,null,null,null,null,null,null,null,null,null,null,null,null,null,null,null,null,null,null,null,null,null,null,null,null,null,null,null,null,null,null,null,null,null,null,null,null,null,"","",{"$f":"IF(BS539=\"\",\"\",IF(COUNTIF(BS$4:BS539,BS539)=1,ROW(),\"\"))","v":""},{"$f":"IFERROR(INDEX(BS:BS,SMALL(BT:BT,ROW(A536))),\"\")","v":""},"","","",""]
[{"$f":"IF(F542<>\"\",事業者基本情報!$E$9&事業者基本情報!$F$9&事業者基本情報!$G$9,\"\")","v":""},{"$f":"IF(F542<>\"\",事業者基本情報!$Y$10,\"\")","v":""},{"$f":"IF(F542<>\"\",事業者基本情報!$Y$7,\"\")","v":""},{"$f":"IF(F542<>\"\",事業者基本情報!$Y$8,\"\")","v":""},{"$f":"IF(F542<>\"\",事業者基本情報!$E$11&事業者基本情報!$F$11&事業者基本情報!$G$11&事業者基本情報!$H$11&事業者基本情報!$I$11,\"\")","v":""},null,null,null,"市",null,null,"-",null,"-",null,{"$f":"IFERROR(VLOOKUP(Q542,コード表!$B$3:$C$101,2,FALSE),\"\")","v":""},null,{"$f":"IFERROR(VLOOKUP(S542,コード表!$F$7:$G$141,2,FALSE),\"\")","v":""},null,null,"t",null,null,null,null,null,null,null,null,null,null,null,null,null,null,null,null,null,null,null,null,null,null,null,null,null,null,null,null,null,null,null,null,null,null,null,null,null,null,null,null,null,null,null,null,null,null,null,null,"","",{"$f":"IF(BS542=\"\",\"\",IF(COUNTIF(BS$4:BS542,BS542)=1,ROW(),\"\"))","v":""},{"$f":"IFERROR(INDEX(BS:BS,SMALL(BT:BT,ROW(A539))),\"\")","v":""},"","","",""]
[{"$f":"IF(F546<>\"\",事業者基本情報!$E$9&事業者基本情報!$F$9&事業者基本情報!$G$9,\"\")","v":""},{"$f":"IF(F546<>\"\",事業者基本情報!$Y$10,\"\")","v":""},{"$f":"IF(F546<>\"\",事業者基本情報!$Y$7,\"\")","v":""},{"$f":"IF(F546<>\"\",事業者基本情報!$Y$8,\"\")","v":""},{"$f":"IF(F546<>\"\",事業者基本情報!$E$11&事業者基本情報!$F$11&事業者基本情報!$G$11&事業者基本情報!$H$11&事業者基本情報!$I$11,\"\")","v":""},null,null,null,"市",null,null,"-",null,"-",null,{"$f":"IFERROR(VLOOKUP(Q546,コード表!$B$3:$C$101,2,FALSE),\"\")","v":""},null,{"$f":"IFERROR(VLOOKUP(S546,コード表!$F$7:$G$141,2,FALSE),\"\")","v":""},null,null,"t",null,null,null,null,null,null,null,null,null,null,null,null,null,null,null,null,null,null,null,null,null,null,null,null,null,null,null,null,null,null,null,null,null,null,null,null,null,null,null,null,null,null,null,null,null,null,null,null,"","",{"$f":"IF(BS546=\"\",\"\",IF(COUNTIF(BS$4:BS546,BS546)=1,ROW(),\"\"))","v":""},{"$f":"IFERROR(INDEX(BS:BS,SMALL(BT:BT,ROW(A543))),\"\")","v":""},"","","",""]
[{"$f":"IF(F548<>\"\",事業者基本情報!$E$9&事業者基本情報!$F$9&事業者基本情報!$G$9,\"\")","v":""},{"$f":"IF(F548<>\"\",事業者基本情報!$Y$10,\"\")","v":""},{"$f":"IF(F548<>\"\",事業者基本情報!$Y$7,\"\")","v":""},{"$f":"IF(F548<>\"\",事業者基本情報!$Y$8,\"\")","v":""},{"$f":"IF(F548<>\"\",事業者基本情報!$E$11&事業者基本情報!$F$11&事業者基本情報!$G$11&事業者基本情報!$H$11&事業者基本情報!$I$11,\"\")","v":""},null,null,null,"市",null,null,"-",null,"-",null,{"$f":"IFERROR(VLOOKUP(Q548,コード表!$B$3:$C$101,2,FALSE),\"\")","v":""},null,{"$f":"IFERROR(VLOOKUP(S548,コード表!$F$7:$G$141,2,FALSE),\"\")","v":""},null,null,"t",null,null,null,null,null,null,null,null,null,null,null,null,null,null,null,null,null,null,null,null,null,null,null,null,null,null,null,null,null,null,null,null,null,null,null,null,null,null,null,null,null,null,null,null,null,null,null,null,"","",{"$f":"IF(BS548=\"\",\"\",IF(COUNTIF(BS$4:BS548,BS548)=1,ROW(),\"\"))","v":""},{"$f":"IFERROR(INDEX(BS:BS,SMALL(BT:BT,ROW(A545))),\"\")","v":""},"","","",""]
[{"$f":"IF(F551<>\"\",事業者基本情報!$E$9&事業者基本情報!$F$9&事業者基本情報!$G$9,\"\")","v":""},{"$f":"IF(F551<>\"\",事業者基本情報!$Y$10,\"\")","v":""},{"$f":"IF(F551<>\"\",事業者基本情報!$Y$7,\"\")","v":""},{"$f":"IF(F551<>\"\",事業者基本情報!$Y$8,\"\")","v":""},{"$f":"IF(F551<>\"\",事業者基本情報!$E$11&事業者基本情報!$F$11&事業者基本情報!$G$11&事業者基本情報!$H$11&事業者基本情報!$I$11,\"\")","v":""},null,null,null,"市",null,null,"-",null,"-",null,{"$f":"IFERROR(VLOOKUP(Q551,コード表!$B$3:$C$101,2,FALSE),\"\")","v":""},null,{"$f":"IFERROR(VLOOKUP(S551,コード表!$F$7:$G$141,2,FALSE),\"\")","v":""},null,null,"t",null,null,null,null,null,null,null,null,null,null,null,null,null,null,null,null,null,null,null,null,null,null,null,null,null,null,null,null,null,null,null,null,null,null,null,null,null,null,null,null,null,null,null,null,null,null,null,null,"","",{"$f":"IF(BS551=\"\",\"\",IF(COUNTIF(BS$4:BS551,BS551)=1,ROW(),\"\"))","v":""},{"$f":"IFERROR(INDEX(BS:BS,SMALL(BT:BT,ROW(A548))),\"\")","v":""},"","","",""]
[{"$f":"IF(F555<>\"\",事業者基本情報!$E$9&事業者基本情報!$F$9&事業者基本情報!$G$9,\"\")","v":""},{"$f":"IF(F555<>\"\",事業者基本情報!$Y$10,\"\")","v":""},{"$f":"IF(F555<>\"\",事業者基本情報!$Y$7,\"\")","v":""},{"$f":"IF(F555<>\"\",事業者基本情報!$Y$8,\"\")","v":""},{"$f":"IF(F555<>\"\",事業者基本情報!$E$11&事業者基本情報!$F$11&事業者基本情報!$G$11&事業者基本情報!$H$11&事業者基本情報!$I$11,\"\")","v":""},null,null,null,"市",null,null,"-",null,"-",null,{"$f":"IFERROR(VLOOKUP(Q555,コード表!$B$3:$C$101,2,FALSE),\"\")","v":""},null,{"$f":"IFERROR(VLOOKUP(S555,コード表!$F$7:$G$141,2,FALSE),\"\")","v":""},null,null,"t",null,null,null,null,null,null,null,null,null,null,null,null,null,null,null,null,null,null,null,null,null,null,null,null,null,null,null,null,null,null,null,null,null,null,null,null,null,null,null,null,null,null,null,null,null,null,null,null,"","",{"$f":"IF(BS555=\"\",\"\",IF(COUNTIF(BS$4:BS555,BS555)=1,ROW(),\"\"))","v":""},{"$f":"IFERROR(INDEX(BS:BS,SMALL(BT:BT,ROW(A552))),\"\")","v":""},"","","",""]
[{"$f":"IF(F557<>\"\",事業者基本情報!$E$9&事業者基本情報!$F$9&事業者基本情報!$G$9,\"\")","v":""},{"$f":"IF(F557<>\"\",事業者基本情報!$Y$10,\"\")","v":""},{"$f":"IF(F557<>\"\",事業者基本情報!$Y$7,\"\")","v":""},{"$f":"IF(F557<>\"\",事業者基本情報!$Y$8,\"\")","v":""},{"$f":"IF(F557<>\"\",事業者基本情報!$E$11&事業者基本情報!$F$11&事業者基本情報!$G$11&事業者基本情報!$H$11&事業者基本情報!$I$11,\"\")","v":""},null,null,null,"市",null,null,"-",null,"-",null,{"$f":"IFERROR(VLOOKUP(Q557,コード表!$B$3:$C$101,2,FALSE),\"\")","v":""},null,{"$f":"IFERROR(VLOOKUP(S557,コード表!$F$7:$G$141,2,FALSE),\"\")","v":""},null,null,"t",null,null,null,null,null,null,null,null,null,null,null,null,null,null,null,null,null,null,null,null,null,null,null,null,null,null,null,null,null,null,null,null,null,null,null,null,null,null,null,null,null,null,null,null,null,null,null,null,"","",{"$f":"IF(BS557=\"\",\"\",IF(COUNTIF(BS$4:BS557,BS557)=1,ROW(),\"\"))","v":""},{"$f":"IFERROR(INDEX(BS:BS,SMALL(BT:BT,ROW(A554))),\"\")","v":""},"","","",""]
[{"$f":"IF(F558<>\"\",事業者基本情報!$E$9&事業者基本情報!$F$9&事業者基本情報!$G$9,\"\")","v":""},{"$f":"IF(F558<>\"\",事業者基本情報!$Y$10,\"\")","v":""},{"$f":"IF(F558<>\"\",事業者基本情報!$Y$7,\"\")","v":""},{"$f":"IF(F558<>\"\",事業者基本情報!$Y$8,\"\")","v":""},{"$f":"IF(F558<>\"\",事業者基本情報!$E$11&事業者基本情報!$F$11&事業者基本情報!$G$11&事業者基本情報!$H$11&事業者基本情報!$I$11,\"\")","v":""},null,null,null,"市",null,null,"-",null,"-",null,{"$f":"IFERROR(VLOOKUP(Q558,コード表!$B$3:$C$101,2,FALSE),\"\")","v":""},null,{"$f":"IFERROR(VLOOKUP(S558,コード表!$F$7:$G$141,2,FALSE),\"\")","v":""},null,null,"t",null,null,null,null,null,null,null,null,null,null,null,null,null,null,null,null,null,null,null,null,null,null,null,null,null,null,null,null,null,null,null,null,null,null,null,null,null,null,null,null,null,null,null,null,null,null,null,null,"","",{"$f":"IF(BS558=\"\",\"\",IF(COUNTIF(BS$4:BS558,BS558)=1,ROW(),\"\"))","v":""},{"$f":"IFERROR(INDEX(BS:BS,SMALL(BT:BT,ROW(A555))),\"\")","v":""},"","","",""]
[{"$f":"IF(F561<>\"\",事業者基本情報!$E$9&事業者基本情報!$F$9&事業者基本情報!$G$9,\"\")","v":""},{"$f":"IF(F561<>\"\",事業者基本情報!$Y$10,\"\")","v":""},{"$f":"IF(F561<>\"\",事業者基本情報!$Y$7,\"\")","v":""},{"$f":"IF(F561<>\"\",事業者基本情報!$Y$8,\"\")","v":""},{"$f":"IF(F561<>\"\",事業者基本情報!$E$11&事業者基本情報!$F$11&事業者基本情報!$G$11&事業者基本情報!$H$11&事業者基本情報!$I$11,\"\")","v":""},null,null,null,"市",null,null,"-",null,"-",null,{"$f":"IFERROR(VLOOKUP(Q561,コード表!$B$3:$C$101,2,FALSE),\"\")","v":""},null,{"$f":"IFERROR(VLOOKUP(S561,コード表!$F$7:$G$141,2,FALSE),\"\")","v":""},null,null,"t",null,null,null,null,null,null,null,null,null,null,null,null,null,null,null,null,null,null,null,null,null,null,null,null,null,null,null,null,null,null,null,null,null,null,null,null,null,null,null,null,null,null,null,null,null,null,null,null,"","",{"$f":"IF(BS561=\"\",\"\",IF(COUNTIF(BS$4:BS561,BS561)=1,ROW(),\"\"))","v":""},{"$f":"IFERROR(INDEX(BS:BS,SMALL(BT:BT,ROW(A558))),\"\")","v":""},"","","",""]
[{"$f":"IF(F564<>\"\",事業者基本情報!$E$9&事業者基本情報!$F$9&事業者基本情報!$G$9,\"\")","v":""},{"$f":"IF(F564<>\"\",事業者基本情報!$Y$10,\"\")","v":""},{"$f":"IF(F564<>\"\",事業者基本情報!$Y$7,\"\")","v":""},{"$f":"IF(F564<>\"\",事業者基本情報!$Y$8,\"\")","v":""},{"$f":"IF(F564<>\"\",事業者基本情報!$E$11&事業者基本情報!$F$11&事業者基本情報!$G$11&事業者基本情報!$H$11&事業者基本情報!$I$11,\"\")","v":""},null,null,null,"市",null,null,"-",null,"-",null,{"$f":"IFERROR(VLOOKUP(Q564,コード表!$B$3:$C$101,2,FALSE),\"\")","v":""},null,{"$f":"IFERROR(VLOOKUP(S564,コード表!$F$7:$G$141,2,FALSE),\"\")","v":""},null,null,"t",null,null,null,null,null,null,null,null,null,null,null,null,null,null,null,null,null,null,null,null,null,null,null,null,null,null,null,null,null,null,null,null,null,null,null,null,null,null,null,null,null,null,null,null,null,null,null,null,"","",{"$f":"IF(BS564=\"\",\"\",IF(COUNTIF(BS$4:BS564,BS564)=1,ROW(),\"\"))","v":""},{"$f":"IFERROR(INDEX(BS:BS,SMALL(BT:BT,ROW(A561))),\"\")","v":""},"","","",""]
[{"$f":"IF(F568<>\"\",事業者基本情報!$E$9&事業者基本情報!$F$9&事業者基本情報!$G$9,\"\")","v":""},{"$f":"IF(F568<>\"\",事業者基本情報!$Y$10,\"\")","v":""},{"$f":"IF(F568<>\"\",事業者基本情報!$Y$7,\"\")","v":""},{"$f":"IF(F568<>\"\",事業者基本情報!$Y$8,\"\")","v":""},{"$f":"IF(F568<>\"\",事業者基本情報!$E$11&事業者基本情報!$F$11&事業者基本情報!$G$11&事業者基本情報!$H$11&事業者基本情報!$I$11,\"\")","v":""},null,null,null,"市",null,null,"-",null,"-",null,{"$f":"IFERROR(VLOOKUP(Q568,コード表!$B$3:$C$101,2,FALSE),\"\")","v":""},null,{"$f":"IFERROR(VLOOKUP(S568,コード表!$F$7:$G$141,2,FALSE),\"\")","v":""},null,null,"t",null,null,null,null,null,null,null,null,null,null,null,null,null,null,null,null,null,null,null,null,null,null,null,null,null,null,null,null,null,null,null,null,null,null,null,null,null,null,null,null,null,null,null,null,null,null,null,null,"","",{"$f":"IF(BS568=\"\",\"\",IF(COUNTIF(BS$4:BS568,BS568)=1,ROW(),\"\"))","v":""},{"$f":"IFERROR(INDEX(BS:BS,SMALL(BT:BT,ROW(A565))),\"\")","v":""},"","","",""]
[{"$f":"IF(F570<>\"\",事業者基本情報!$E$9&事業者基本情報!$F$9&事業者基本情報!$G$9,\"\")","v":""},{"$f":"IF(F570<>\"\",事業者基本情報!$Y$10,\"\")","v":""},{"$f":"IF(F570<>\"\",事業者基本情報!$Y$7,\"\")","v":""},{"$f":"IF(F570<>\"\",事業者基本情報!$Y$8,\"\")","v":""},{"$f":"IF(F570<>\"\",事業者基本情報!$E$11&事業者基本情報!$F$11&事業者基本情報!$G$11&事業者基本情報!$H$11&事業者基本情報!$I$11,\"\")","v":""},null,null,null,"市",null,null,"-",null,"-",null,{"$f":"IFERROR(VLOOKUP(Q570,コード表!$B$3:$C$101,2,FALSE),\"\")","v":""},null,{"$f":"IFERROR(VLOOKUP(S570,コード表!$F$7:$G$141,2,FALSE),\"\")","v":""},null,null,"t",null,null,null,null,null,null,null,null,null,null,null,null,null,null,null,null,null,null,null,null,null,null,null,null,null,null,null,null,null,null,null,null,null,null,null,null,null,null,null,null,null,null,null,null,null,null,null,null,"","",{"$f":"IF(BS570=\"\",\"\",IF(COUNTIF(BS$4:BS570,BS570)=1,ROW(),\"\"))","v":""},{"$f":"IFERROR(INDEX(BS:BS,SMALL(BT:BT,ROW(A567))),\"\")","v":""},"","","",""]
[{"$f":"IF(F573<>\"\",事業者基本情報!$E$9&事業者基本情報!$F$9&事業者基本情報!$G$9,\"\")","v":""},{"$f":"IF(F573<>\"\",事業者基本情報!$Y$10,\"\")","v":""},{"$f":"IF(F573<>\"\",事業者基本情報!$Y$7,\"\")","v":""},{"$f":"IF(F573<>\"\",事業者基本情報!$Y$8,\"\")","v":""},{"$f":"IF(F573<>\"\",事業者基本情報!$E$11&事業者基本情報!$F$11&事業者基本情報!$G$11&事業者基本情報!$H$11&事業者基本情報!$I$11,\"\")","v":""},null,null,null,"市",null,null,"-",null,"-",null,{"$f":"IFERROR(VLOOKUP(Q573,コード表!$B$3:$C$101,2,FALSE),\"\")","v":""},null,{"$f":"IFERROR(VLOOKUP(S573,コード表!$F$7:$G$141,2,FALSE),\"\")","v":""},null,null,"t",null,null,null,null,null,null,null,null,null,null,null,null,null,null,null,null,null,null,null,null,null,null,null,null,null,null,null,null,null,null,null,null,null,null,null,null,null,null,null,null,null,null,null,null,null,null,null,null,"","",{"$f":"IF(BS573=\"\",\"\",IF(COUNTIF(BS$4:BS573,BS573)=1,ROW(),\"\"))","v":""},{"$f":"IFERROR(INDEX(BS:BS,SMALL(BT:BT,ROW(A570))),\"\")","v":""},"","","",""]
[{"$f":"IF(F577<>\"\",事業者基本情報!$E$9&事業者基本情報!$F$9&事業者基本情報!$G$9,\"\")","v":""},{"$f":"IF(F577<>\"\",事業者基本情報!$Y$10,\"\")","v":""},{"$f":"IF(F577<>\"\",事業者基本情報!$Y$7,\"\")","v":""},{"$f":"IF(F577<>\"\",事業者基本情報!$Y$8,\"\")","v":""},{"$f":"IF(F577<>\"\",事業者基本情報!$E$11&事業者基本情報!$F$11&事業者基本情報!$G$11&事業者基本情報!$H$11&事業者基本情報!$I$11,\"\")","v":""},null,null,null,"市",null,null,"-",null,"-",null,{"$f":"IFERROR(VLOOKUP(Q577,コード表!$B$3:$C$101,2,FALSE),\"\")","v":""},null,{"$f":"IFERROR(VLOOKUP(S577,コード表!$F$7:$G$141,2,FALSE),\"\")","v":""},null,null,"t",null,null,null,null,null,null,null,null,null,null,null,null,null,null,null,null,null,null,null,null,null,null,null,null,null,null,null,null,null,null,null,null,null,null,null,null,null,null,null,null,null,null,null,null,null,null,null,null,"","",{"$f":"IF(BS577=\"\",\"\",IF(COUNTIF(BS$4:BS577,BS577)=1,ROW(),\"\"))","v":""},{"$f":"IFERROR(INDEX(BS:BS,SMALL(BT:BT,ROW(A574))),\"\")","v":""},"","","",""]
[{"$f":"IF(F579<>\"\",事業者基本情報!$E$9&事業者基本情報!$F$9&事業者基本情報!$G$9,\"\")","v":""},{"$f":"IF(F579<>\"\",事業者基本情報!$Y$10,\"\")","v":""},{"$f":"IF(F579<>\"\",事業者基本情報!$Y$7,\"\")","v":""},{"$f":"IF(F579<>\"\",事業者基本情報!$Y$8,\"\")","v":""},{"$f":"IF(F579<>\"\",事業者基本情報!$E$11&事業者基本情報!$F$11&事業者基本情報!$G$11&事業者基本情報!$H$11&事業者基本情報!$I$11,\"\")","v":""},null,null,null,"市",null,null,"-",null,"-",null,{"$f":"IFERROR(VLOOKUP(Q579,コード表!$B$3:$C$101,2,FALSE),\"\")","v":""},null,{"$f":"IFERROR(VLOOKUP(S579,コード表!$F$7:$G$141,2,FALSE),\"\")","v":""},null,null,"t",null,null,null,null,null,null,null,null,null,null,null,null,null,null,null,null,null,null,null,null,null,null,null,null,null,null,null,null,null,null,null,null,null,null,null,null,null,null,null,null,null,null,null,null,null,null,null,null,"","",{"$f":"IF(BS579=\"\",\"\",IF(COUNTIF(BS$4:BS579,BS579)=1,ROW(),\"\"))","v":""},{"$f":"IFERROR(INDEX(BS:BS,SMALL(BT:BT,ROW(A576))),\"\")","v":""},"","","",""]
[{"$f":"IF(F580<>\"\",事業者基本情報!$E$9&事業者基本情報!$F$9&事業者基本情報!$G$9,\"\")","v":""},{"$f":"IF(F580<>\"\",事業者基本情報!$Y$10,\"\")","v":""},{"$f":"IF(F580<>\"\",事業者基本情報!$Y$7,\"\")","v":""},{"$f":"IF(F580<>\"\",事業者基本情報!$Y$8,\"\")","v":""},{"$f":"IF(F580<>\"\",事業者基本情報!$E$11&事業者基本情報!$F$11&事業者基本情報!$G$11&事業者基本情報!$H$11&事業者基本情報!$I$11,\"\")","v":""},null,null,null,"市",null,null,"-",null,"-",null,{"$f":"IFERROR(VLOOKUP(Q580,コード表!$B$3:$C$101,2,FALSE),\"\")","v":""},null,{"$f":"IFERROR(VLOOKUP(S580,コード表!$F$7:$G$141,2,FALSE),\"\")","v":""},null,null,"t",null,null,null,null,null,null,null,null,null,null,null,null,null,null,null,null,null,null,null,null,null,null,null,null,null,null,null,null,null,null,null,null,null,null,null,null,null,null,null,null,null,null,null,null,null,null,null,null,{"$f":"IFERROR(IF(TRIM(F580)=\"\",\"\",IF(AND(VALUE(TRIM(R580))>=100000,VALUE(TRIM(R580))<7000000),\"普通産廃\",IF(AND(VALUE(TRIM(R580))>=7000000,VALUE(TRIM(R580))<9000000),\"特別産廃\",\"\"))),\"\")","v":""},{"$f":"IF(BR580<>\"\",TRIM(F580)&\"(\"&BR580&\")\",\"\")","v":""},{"$f":"IF(BS580=\"\",\"\",IF(COUNTIF(BS$4:BS580,BS580)=1,ROW(),\"\"))","v":""},{"$f":"IFERROR(INDEX(BS:BS,SMALL(BT:BT,ROW(A577))),\"\")","v":""},{"$f":"IF(BU580=\"\",\"\",IF(SUMIF(BS:BS,BU580,T:T)=0,\"\",SUMIF(BS:BS,BU580,T:T)))","v":""},{"$f":"IF(AS580<>\"\",AS580,IF(AO580<>\"\",AO580,IF(AK580<>\"\",AK580,IF(AG580<>\"\",AG580,IF(Y580<>\"\",Y580,\"\")))))","v":""},"",{"$f":"IF(F580&G580&H580&J580&K580&M580&O580&Q580&S580&T580&V580&W580&X580&Y580&Z580&AA580&AB580&AC580&AD580&AE580&AF580&AG580&AH580&AI580&AJ580&AK580&AL580&AM580&AN580&AO580&AP580&AQ580&AR580&AS580&AT580=\"\",\"\",1)","v":""}]
[{"$f":"IF(F583<>\"\",事業者基本情報!$E$9&事業者基本情報!$F$9&事業者基本情報!$G$9,\"\")","v":""},{"$f":"IF(F583<>\"\",事業者基本情報!$Y$10,\"\")","v":""},{"$f":"IF(F583<>\"\",事業者基本情報!$Y$7,\"\")","v":""},{"$f":"IF(F583<>\"\",事業者基本情報!$Y$8,\"\")","v":""},{"$f":"IF(F583<>\"\",事業者基本情報!$E$11&事業者基本情報!$F$11&事業者基本情報!$G$11&事業者基本情報!$H$11&事業者基本情報!$I$11,\"\")","v":""},null,null,null,"市",null,null,"-",null,"-",null,{"$f":"IFERROR(VLOOKUP(Q583,コード表!$B$3:$C$101,2,FALSE),\"\")","v":""},null,{"$f":"IFERROR(VLOOKUP(S583,コード表!$F$7:$G$141,2,FALSE),\"\")","v":""},null,null,"t",null,null,null,null,null,null,null,null,null,null,null,null,null,null,null,null,null,null,null,null,null,null,null,null,null,null,null,null,null,null,null,null,null,null,null,null,null,null,null,null,null,null,null,null,null,null,null,null,"","",{"$f":"IF(BS583=\"\",\"\",IF(COUNTIF(BS$4:BS583,BS583)=1,ROW(),\"\"))","v":""},{"$f":"IFERROR(INDEX(BS:BS,SMALL(BT:BT,ROW(A580))),\"\")","v":""},"","","",""]
[{"$f":"IF(F586<>\"\",事業者基本情報!$E$9&事業者基本情報!$F$9&事業者基本情報!$G$9,\"\")","v":""},{"$f":"IF(F586<>\"\",事業者基本情報!$Y$10,\"\")","v":""},{"$f":"IF(F586<>\"\",事業者基本情報!$Y$7,\"\")","v":""},{"$f":"IF(F586<>\"\",事業者基本情報!$Y$8,\"\")","v":""},{"$f":"IF(F586<>\"\",事業者基本情報!$E$11&事業者基本情報!$F$11&事業者基本情報!$G$11&事業者基本情報!$H$11&事業者基本情報!$I$11,\"\")","v":""},null,null,null,"市",null,null,"-",null,"-",null,{"$f":"IFERROR(VLOOKUP(Q586,コード表!$B$3:$C$101,2,FALSE),\"\")","v":""},null,{"$f":"IFERROR(VLOOKUP(S586,コード表!$F$7:$G$141,2,FALSE),\"\")","v":""},null,null,"t",null,null,null,null,null,null,null,null,null,null,null,null,null,null,null,null,null,null,null,null,null,null,null,null,null,null,null,null,null,null,null,null,null,null,null,null,null,null,null,null,null,null,null,null,null,null,null,null,"","",{"$f":"IF(BS586=\"\",\"\",IF(COUNTIF(BS$4:BS586,BS586)=1,ROW(),\"\"))","v":""},{"$f":"IFERROR(INDEX(BS:BS,SMALL(BT:BT,ROW(A583))),\"\")","v":""},"","","",""]
[{"$f":"IF(F590<>\"\",事業者基本情報!$E$9&事業者基本情報!$F$9&事業者基本情報!$G$9,\"\")","v":""},{"$f":"IF(F590<>\"\",事業者基本情報!$Y$10,\"\")","v":""},{"$f":"IF(F590<>\"\",事業者基本情報!$Y$7,\"\")","v":""},{"$f":"IF(F590<>\"\",事業者基本情報!$Y$8,\"\")","v":""},{"$f":"IF(F590<>\"\",事業者基本情報!$E$11&事業者基本情報!$F$11&事業者基本情報!$G$11&事業者基本情報!$H$11&事業者基本情報!$I$11,\"\")","v":""},null,null,null,"市",null,null,"-",null,"-",null,{"$f":"IFERROR(VLOOKUP(Q590,コード表!$B$3:$C$101,2,FALSE),\"\")","v":""},null,{"$f":"IFERROR(VLOOKUP(S590,コード表!$F$7:$G$141,2,FALSE),\"\")","v":""},null,null,"t",null,null,null,null,null,null,null,null,null,null,null,null,null,null,null,null,null,null,null,null,null,null,null,null,null,null,null,null,null,null,null,null,null,null,null,null,null,null,null,null,null,null,null,null,null,null,null,null,"","",{"$f":"IF(BS590=\"\",\"\",IF(COUNTIF(BS$4:BS590,BS590)=1,ROW(),\"\"))","v":""},{"$f":"IFERROR(INDEX(BS:BS,SMALL(BT:BT,ROW(A587))),\"\")","v":""},"","","",""]
[{"$f":"IF(F592<>\"\",事業者基本情報!$E$9&事業者基本情報!$F$9&事業者基本情報!$G$9,\"\")","v":""},{"$f":"IF(F592<>\"\",事業者基本情報!$Y$10,\"\")","v":""},{"$f":"IF(F592<>\"\",事業者基本情報!$Y$7,\"\")","v":""},{"$f":"IF(F592<>\"\",事業者基本情報!$Y$8,\"\")","v":""},{"$f":"IF(F592<>\"\",事業者基本情報!$E$11&事業者基本情報!$F$11&事業者基本情報!$G$11&事業者基本情報!$H$11&事業者基本情報!$I$11,\"\")","v":""},null,null,null,"市",null,null,"-",null,"-",null,{"$f":"IFERROR(VLOOKUP(Q592,コード表!$B$3:$C$101,2,FALSE),\"\")","v":""},null,{"$f":"IFERROR(VLOOKUP(S592,コード表!$F$7:$G$141,2,FALSE),\"\")","v":""},null,null,"t",null,null,null,null,null,null,null,null,null,null,null,null,null,null,null,null,null,null,null,null,null,null,null,null,null,null,null,null,null,null,null,null,null,null,null,null,null,null,null,null,null,null,null,null,null,null,null,null,"","",{"$f":"IF(BS592=\"\",\"\",IF(COUNTIF(BS$4:BS592,BS592)=1,ROW(),\"\"))","v":""},{"$f":"IFERROR(INDEX(BS:BS,SMALL(BT:BT,ROW(A589))),\"\")","v":""},"","","",""]
[{"$f":"IF(F595<>\"\",事業者基本情報!$E$9&事業者基本情報!$F$9&事業者基本情報!$G$9,\"\")","v":""},{"$f":"IF(F595<>\"\",事業者基本情報!$Y$10,\"\")","v":""},{"$f":"IF(F595<>\"\",事業者基本情報!$Y$7,\"\")","v":""},{"$f":"IF(F595<>\"\",事業者基本情報!$Y$8,\"\")","v":""},{"$f":"IF(F595<>\"\",事業者基本情報!$E$11&事業者基本情報!$F$11&事業者基本情報!$G$11&事業者基本情報!$H$11&事業者基本情報!$I$11,\"\")","v":""},null,null,null,"市",null,null,"-",null,"-",null,{"$f":"IFERROR(VLOOKUP(Q595,コード表!$B$3:$C$101,2,FALSE),\"\")","v":""},null,{"$f":"IFERROR(VLOOKUP(S595,コード表!$F$7:$G$141,2,FALSE),\"\")","v":""},null,null,"t",null,null,null,null,null,null,null,null,null,null,null,null,null,null,null,null,null,null,null,null,null,null,null,null,null,null,null,null,null,null,null,null,null,null,null,null,null,null,null,null,null,null,null,null,null,null,null,null,"","",{"$f":"IF(BS595=\"\",\"\",IF(COUNTIF(BS$4:BS595,BS595)=1,ROW(),\"\"))","v":""},{"$f":"IFERROR(INDEX(BS:BS,SMALL(BT:BT,ROW(A592))),\"\")","v":""},"","","",""]
[{"$f":"IF(F599<>\"\",事業者基本情報!$E$9&事業者基本情報!$F$9&事業者基本情報!$G$9,\"\")","v":""},{"$f":"IF(F599<>\"\",事業者基本情報!$Y$10,\"\")","v":""},{"$f":"IF(F599<>\"\",事業者基本情報!$Y$7,\"\")","v":""},{"$f":"IF(F599<>\"\",事業者基本情報!$Y$8,\"\")","v":""},{"$f":"IF(F599<>\"\",事業者基本情報!$E$11&事業者基本情報!$F$11&事業者基本情報!$G$11&事業者基本情報!$H$11&事業者基本情報!$I$11,\"\")","v":""},null,null,null,"市",null,null,"-",null,"-",null,{"$f":"IFERROR(VLOOKUP(Q599,コード表!$B$3:$C$101,2,FALSE),\"\")","v":""},null,{"$f":"IFERROR(VLOOKUP(S599,コード表!$F$7:$G$141,2,FALSE),\"\")","v":""},null,null,"t",null,null,null,null,null,null,null,null,null,null,null,null,null,null,null,null,null,null,null,null,null,null,null,null,null,null,null,null,null,null,null,null,null,null,null,null,null,null,null,null,null,null,null,null,null,null,null,null,"","",{"$f":"IF(BS599=\"\",\"\",IF(COUNTIF(BS$4:BS599,BS599)=1,ROW(),\"\"))","v":""},{"$f":"IFERROR(INDEX(BS:BS,SMALL(BT:BT,ROW(A596))),\"\")","v":""},"","","",""]
[{"$f":"IF(F601<>\"\",事業者基本情報!$E$9&事業者基本情報!$F$9&事業者基本情報!$G$9,\"\")","v":""},{"$f":"IF(F601<>\"\",事業者基本情報!$Y$10,\"\")","v":""},{"$f":"IF(F601<>\"\",事業者基本情報!$Y$7,\"\")","v":""},{"$f":"IF(F601<>\"\",事業者基本情報!$Y$8,\"\")","v":""},{"$f":"IF(F601<>\"\",事業者基本情報!$E$11&事業者基本情報!$F$11&事業者基本情報!$G$11&事業者基本情報!$H$11&事業者基本情報!$I$11,\"\")","v":""},null,null,null,"市",null,null,"-",null,"-",null,{"$f":"IFERROR(VLOOKUP(Q601,コード表!$B$3:$C$101,2,FALSE),\"\")","v":""},null,{"$f":"IFERROR(VLOOKUP(S601,コード表!$F$7:$G$141,2,FALSE),\"\")","v":""},null,null,"t",null,null,null,null,null,null,null,null,null,null,null,null,null,null,null,null,null,null,null,null,null,null,null,null,null,null,null,null,null,null,null,null,null,null,null,null,null,null,null,null,null,null,null,null,null,null,null,null,"","",{"$f":"IF(BS601=\"\",\"\",IF(COUNTIF(BS$4:BS601,BS601)=1,ROW(),\"\"))","v":""},{"$f":"IFERROR(INDEX(BS:BS,SMALL(BT:BT,ROW(A598))),\"\")","v":""},"","","",""]
[{"$f":"IF(F602<>\"\",事業者基本情報!$E$9&事業者基本情報!$F$9&事業者基本情報!$G$9,\"\")","v":""},{"$f":"IF(F602<>\"\",事業者基本情報!$Y$10,\"\")","v":""},{"$f":"IF(F602<>\"\",事業者基本情報!$Y$7,\"\")","v":""},{"$f":"IF(F602<>\"\",事業者基本情報!$Y$8,\"\")","v":""},{"$f":"IF(F602<>\"\",事業者基本情報!$E$11&事業者基本情報!$F$11&事業者基本情報!$G$11&事業者基本情報!$H$11&事業者基本情報!$I$11,\"\")","v":""},null,null,null,"市",null,null,"-",null,"-",null,{"$f":"IFERROR(VLOOKUP(Q602,コード表!$B$3:$C$101,2,FALSE),\"\")","v":""},null,{"$f":"IFERROR(VLOOKUP(S602,コード表!$F$7:$G$141,2,FALSE),\"\")","v":""},null,null,"t",null,null,null,null,null,null,null,null,null,null,null,null,null,null,null,null,null,null,null,null,null,null,null,null,null,null,null,null,null,null,null,null,null,null,null,null,null,null,null,null,null,null,null,null,null,null,null,null,"","",{"$f":"IF(BS602=\"\",\"\",IF(COUNTIF(BS$4:BS602,BS602)=1,ROW(),\"\"))","v":""},{"$f":"IFERROR(INDEX(BS:BS,SMALL(BT:BT,ROW(A599))),\"\")","v":""},"","","",""]
[{"$f":"IF(F605<>\"\",事業者基本情報!$E$9&事業者基本情報!$F$9&事業者基本情報!$G$9,\"\")","v":""},{"$f":"IF(F605<>\"\",事業者基本情報!$Y$10,\"\")","v":""},{"$f":"IF(F605<>\"\",事業者基本情報!$Y$7,\"\")","v":""},{"$f":"IF(F605<>\"\",事業者基本情報!$Y$8,\"\")","v":""},{"$f":"IF(F605<>\"\",事業者基本情報!$E$11&事業者基本情報!$F$11&事業者基本情報!$G$11&事業者基本情報!$H$11&事業者基本情報!$I$11,\"\")","v":""},null,null,null,"市",null,null,"-",null,"-",null,{"$f":"IFERROR(VLOOKUP(Q605,コード表!$B$3:$C$101,2,FALSE),\"\")","v":""},null,{"$f":"IFERROR(VLOOKUP(S605,コード表!$F$7:$G$141,2,FALSE),\"\")","v":""},null,null,"t",null,null,null,null,null,null,null,null,null,null,null,null,null,null,null,null,null,null,null,null,null,null,null,null,null,null,null,null,null,null,null,null,null,null,null,null,null,null,null,null,null,null,null,null,null,null,null,null,"","",{"$f":"IF(BS605=\"\",\"\",IF(COUNTIF(BS$4:BS605,BS605)=1,ROW(),\"\"))","v":""},{"$f":"IFERROR(INDEX(BS:BS,SMALL(BT:BT,ROW(A602))),\"\")","v":""},"","","",""]
[{"$f":"IF(F608<>\"\",事業者基本情報!$E$9&事業者基本情報!$F$9&事業者基本情報!$G$9,\"\")","v":""},{"$f":"IF(F608<>\"\",事業者基本情報!$Y$10,\"\")","v":""},{"$f":"IF(F608<>\"\",事業者基本情報!$Y$7,\"\")","v":""},{"$f":"IF(F608<>\"\",事業者基本情報!$Y$8,\"\")","v":""},{"$f":"IF(F608<>\"\",事業者基本情報!$E$11&事業者基本情報!$F$11&事業者基本情報!$G$11&事業者基本情報!$H$11&事業者基本情報!$I$11,\"\")","v":""},null,null,null,"市",null,null,"-",null,"-",null,{"$f":"IFERROR(VLOOKUP(Q608,コード表!$B$3:$C$101,2,FALSE),\"\")","v":""},null,{"$f":"IFERROR(VLOOKUP(S608,コード表!$F$7:$G$141,2,FALSE),\"\")","v":""},null,null,"t",null,null,null,null,null,null,null,null,null,null,null,null,null,null,null,null,null,null,null,null,null,null,null,null,null,null,null,null,null,null,null,null,null,null,null,null,null,null,null,null,null,null,null,null,null,null,null,null,"","",{"$f":"IF(BS608=\"\",\"\",IF(COUNTIF(BS$4:BS608,BS608)=1,ROW(),\"\"))","v":""},{"$f":"IFERROR(INDEX(BS:BS,SMALL(BT:BT,ROW(A605))),\"\")","v":""},"","","",""]
[{"$f":"IF(F612<>\"\",事業者基本情報!$E$9&事業者基本情報!$F$9&事業者基本情報!$G$9,\"\")","v":""},{"$f":"IF(F612<>\"\",事業者基本情報!$Y$10,\"\")","v":""},{"$f":"IF(F612<>\"\",事業者基本情報!$Y$7,\"\")","v":""},{"$f":"IF(F612<>\"\",事業者基本情報!$Y$8,\"\")","v":""},{"$f":"IF(F612<>\"\",事業者基本情報!$E$11&事業者基本情報!$F$11&事業者基本情報!$G$11&事業者基本情報!$H$11&事業者基本情報!$I$11,\"\")","v":""},null,null,null,"市",null,null,"-",null,"-",null,{"$f":"IFERROR(VLOOKUP(Q612,コード表!$B$3:$C$101,2,FALSE),\"\")","v":""},null,{"$f":"IFERROR(VLOOKUP(S612,コード表!$F$7:$G$141,2,FALSE),\"\")","v":""},null,null,"t",null,null,null,null,null,null,null,null,null,null,null,null,null,null,null,null,null,null,null,null,null,null,null,null,null,null,null,null,null,null,null,null,null,null,null,null,null,null,null,null,null,null,null,null,null,null,null,null,"","",{"$f":"IF(BS612=\"\",\"\",IF(COUNTIF(BS$4:BS612,BS612)=1,ROW(),\"\"))","v":""},{"$f":"IFERROR(INDEX(BS:BS,SMALL(BT:BT,ROW(A609))),\"\")","v":""},"","","",""]
[{"$f":"IF(F614<>\"\",事業者基本情報!$E$9&事業者基本情報!$F$9&事業者基本情報!$G$9,\"\")","v":""},{"$f":"IF(F614<>\"\",事業者基本情報!$Y$10,\"\")","v":""},{"$f":"IF(F614<>\"\",事業者基本情報!$Y$7,\"\")","v":""},{"$f":"IF(F614<>\"\",事業者基本情報!$Y$8,\"\")","v":""},{"$f":"IF(F614<>\"\",事業者基本情報!$E$11&事業者基本情報!$F$11&事業者基本情報!$G$11&事業者基本情報!$H$11&事業者基本情報!$I$11,\"\")","v":""},null,null,null,"市",null,null,"-",null,"-",null,{"$f":"IFERROR(VLOOKUP(Q614,コード表!$B$3:$C$101,2,FALSE),\"\")","v":""},null,{"$f":"IFERROR(VLOOKUP(S614,コード表!$F$7:$G$141,2,FALSE),\"\")","v":""},null,null,"t",null,null,null,null,null,null,null,null,null,null,null,null,null,null,null,null,null,null,null,null,null,null,null,null,null,null,null,null,null,null,null,null,null,null,null,null,null,null,null,null,null,null,null,null,null,null,null,null,"","",{"$f":"IF(BS614=\"\",\"\",IF(COUNTIF(BS$4:BS614,BS614)=1,ROW(),\"\"))","v":""},{"$f":"IFERROR(INDEX(BS:BS,SMALL(BT:BT,ROW(A611))),\"\")","v":""},"","","",""]
[{"$f":"IF(F618<>\"\",事業者基本情報!$E$9&事業者基本情報!$F$9&事業者基本情報!$G$9,\"\")","v":""},{"$f":"IF(F618<>\"\",事業者基本情報!$Y$10,\"\")","v":""},{"$f":"IF(F618<>\"\",事業者基本情報!$Y$7,\"\")","v":""},{"$f":"IF(F618<>\"\",事業者基本情報!$Y$8,\"\")","v":""},{"$f":"IF(F618<>\"\",事業者基本情報!$E$11&事業者基本情報!$F$11&事業者基本情報!$G$11&事業者基本情報!$H$11&事業者基本情報!$I$11,\"\")","v":""},null,null,null,"市",null,null,"-",null,"-",null,{"$f":"IFERROR(VLOOKUP(Q618,コード表!$B$3:$C$101,2,FALSE),\"\")","v":""},null,{"$f":"IFERROR(VLOOKUP(S618,コード表!$F$7:$G$141,2,FALSE),\"\")","v":""},null,null,"t",null,null,null,null,null,null,null,null,null,null,null,null,null,null,null,null,null,null,null,null,null,null,null,null,null,null,null,null,null,null,null,null,null,null,null,null,null,null,null,null,null,null,null,null,null,null,null,null,"","",{"$f":"IF(BS618=\"\",\"\",IF(COUNTIF(BS$4:BS618,BS618)=1,ROW(),\"\"))","v":""},{"$f":"IFERROR(INDEX(BS:BS,SMALL(BT:BT,ROW(A615))),\"\")","v":""},"","","",""]
[{"$f":"IF(F621<>\"\",事業者基本情報!$E$9&事業者基本情報!$F$9&事業者基本情報!$G$9,\"\")","v":""},{"$f":"IF(F621<>\"\",事業者基本情報!$Y$10,\"\")","v":""},{"$f":"IF(F621<>\"\",事業者基本情報!$Y$7,\"\")","v":""},{"$f":"IF(F621<>\"\",事業者基本情報!$Y$8,\"\")","v":""},{"$f":"IF(F621<>\"\",事業者基本情報!$E$11&事業者基本情報!$F$11&事業者基本情報!$G$11&事業者基本情報!$H$11&事業者基本情報!$I$11,\"\")","v":""},null,null,null,"市",null,null,"-",null,"-",null,{"$f":"IFERROR(VLOOKUP(Q621,コード表!$B$3:$C$101,2,FALSE),\"\")","v":""},null,{"$f":"IFERROR(VLOOKUP(S621,コード表!$F$7:$G$141,2,FALSE),\"\")","v":""},null,null,"t",null,null,null,null,null,null,null,null,null,null,null,null,null,null,null,null,null,null,null,null,null,null,null,null,null,null,null,null,null,null,null,null,null,null,null,null,null,null,null,null,null,null,null,null,null,null,null,null,"","",{"$f":"IF(BS621=\"\",\"\",IF(COUNTIF(BS$4:BS621,BS621)=1,ROW(),\"\"))","v":""},{"$f":"IFERROR(INDEX(BS:BS,SMALL(BT:BT,ROW(A618))),\"\")","v":""},"","","",""]
[{"$f":"IF(F623<>\"\",事業者基本情報!$E$9&事業者基本情報!$F$9&事業者基本情報!$G$9,\"\")","v":""},{"$f":"IF(F623<>\"\",事業者基本情報!$Y$10,\"\")","v":""},{"$f":"IF(F623<>\"\",事業者基本情報!$Y$7,\"\")","v":""},{"$f":"IF(F623<>\"\",事業者基本情報!$Y$8,\"\")","v":""},{"$f":"IF(F623<>\"\",事業者基本情報!$E$11&事業者基本情報!$F$11&事業者基本情報!$G$11&事業者基本情報!$H$11&事業者基本情報!$I$11,\"\")","v":""},null,null,null,"市",null,null,"-",null,"-",null,{"$f":"IFERROR(VLOOKUP(Q623,コード表!$B$3:$C$101,2,FALSE),\"\")","v":""},null,{"$f":"IFERROR(VLOOKUP(S623,コード表!$F$7:$G$141,2,FALSE),\"\")","v":""},null,null,"t",null,null,null,null,null,null,null,null,null,null,null,null,null,null,null,null,null,null,null,null,null,null,null,null,null,null,null,null,null,null,null,null,null,null,null,null,null,null,null,null,null,null,null,null,null,null,null,null,"","",{"$f":"IF(BS623=\"\",\"\",IF(COUNTIF(BS$4:BS623,BS623)=1,ROW(),\"\"))","v":""},{"$f":"IFERROR(INDEX(BS:BS,SMALL(BT:BT,ROW(A620))),\"\")","v":""},"","","",""]
[{"$f":"IF(F624<>\"\",事業者基本情報!$E$9&事業者基本情報!$F$9&事業者基本情報!$G$9,\"\")","v":""},{"$f":"IF(F624<>\"\",事業者基本情報!$Y$10,\"\")","v":""},{"$f":"IF(F624<>\"\",事業者基本情報!$Y$7,\"\")","v":""},{"$f":"IF(F624<>\"\",事業者基本情報!$Y$8,\"\")","v":""},{"$f":"IF(F624<>\"\",事業者基本情報!$E$11&事業者基本情報!$F$11&事業者基本情報!$G$11&事業者基本情報!$H$11&事業者基本情報!$I$11,\"\")","v":""},null,null,null,"市",null,null,"-",null,"-",null,{"$f":"IFERROR(VLOOKUP(Q624,コード表!$B$3:$C$101,2,FALSE),\"\")","v":""},null,{"$f":"IFERROR(VLOOKUP(S624,コード表!$F$7:$G$141,2,FALSE),\"\")","v":""},null,null,"t",null,null,null,null,null,null,null,null,null,null,null,null,null,null,null,null,null,null,null,null,null,null,null,null,null,null,null,null,null,null,null,null,null,null,null,null,null,null,null,null,null,null,null,null,null,null,null,null,"","",{"$f":"IF(BS624=\"\",\"\",IF(COUNTIF(BS$4:BS624,BS624)=1,ROW(),\"\"))","v":""},{"$f":"IFERROR(INDEX(BS:BS,SMALL(BT:BT,ROW(A621))),\"\")","v":""},"","","",""]
[{"$f":"IF(F627<>\"\",事業者基本情報!$E$9&事業者基本情報!$F$9&事業者基本情報!$G$9,\"\")","v":""},{"$f":"IF(F627<>\"\",事業者基本情報!$Y$10,\"\")","v":""},{"$f":"IF(F627<>\"\",事業者基本情報!$Y$7,\"\")","v":""},{"$f":"IF(F627<>\"\",事業者基本情報!$Y$8,\"\")","v":""},{"$f":"IF(F627<>\"\",事業者基本情報!$E$11&事業者基本情報!$F$11&事業者基本情報!$G$11&事業者基本情報!$H$11&事業者基本情報!$I$11,\"\")","v":""},null,null,null,"市",null,null,"-",null,"-",null,{"$f":"IFERROR(VLOOKUP(Q627,コード表!$B$3:$C$101,2,FALSE),\"\")","v":""},null,{"$f":"IFERROR(VLOOKUP(S627,コード表!$F$7:$G$141,2,FALSE),\"\")","v":""},null,null,"t",null,null,null,null,null,null,null,null,null,null,null,null,null,null,null,null,null,null,null,null,null,null,null,null,null,null,null,null,null,null,null,null,null,null,null,null,null,null,null,null,null,null,null,null,null,null,null,null,"","",{"$f":"IF(BS627=\"\",\"\",IF(COUNTIF(BS$4:BS627,BS627)=1,ROW(),\"\"))","v":""},{"$f":"IFERROR(INDEX(BS:BS,SMALL(BT:BT,ROW(A624))),\"\")","v":""},"","","",""]
[{"$f":"IF(F630<>\"\",事業者基本情報!$E$9&事業者基本情報!$F$9&事業者基本情報!$G$9,\"\")","v":""},{"$f":"IF(F630<>\"\",事業者基本情報!$Y$10,\"\")","v":""},{"$f":"IF(F630<>\"\",事業者基本情報!$Y$7,\"\")","v":""},{"$f":"IF(F630<>\"\",事業者基本情報!$Y$8,\"\")","v":""},{"$f":"IF(F630<>\"\",事業者基本情報!$E$11&事業者基本情報!$F$11&事業者基本情報!$G$11&事業者基本情報!$H$11&事業者基本情報!$I$11,\"\")","v":""},null,null,null,"市",null,null,"-",null,"-",null,{"$f":"IFERROR(VLOOKUP(Q630,コード表!$B$3:$C$101,2,FALSE),\"\")","v":""},null,{"$f":"IFERROR(VLOOKUP(S630,コード表!$F$7:$G$141,2,FALSE),\"\")","v":""},null,null,"t",null,null,null,null,null,null,null,null,null,null,null,null,null,null,null,null,null,null,null,null,null,null,null,null,null,null,null,null,null,null,null,null,null,null,null,null,null,null,null,null,null,null,null,null,null,null,null,null,"","",{"$f":"IF(BS630=\"\",\"\",IF(COUNTIF(BS$4:BS630,BS630)=1,ROW(),\"\"))","v":""},{"$f":"IFERROR(INDEX(BS:BS,SMALL(BT:BT,ROW(A627))),\"\")","v":""},"","","",""]
[{"$f":"IF(F634<>\"\",事業者基本情報!$E$9&事業者基本情報!$F$9&事業者基本情報!$G$9,\"\")","v":""},{"$f":"IF(F634<>\"\",事業者基本情報!$Y$10,\"\")","v":""},{"$f":"IF(F634<>\"\",事業者基本情報!$Y$7,\"\")","v":""},{"$f":"IF(F634<>\"\",事業者基本情報!$Y$8,\"\")","v":""},{"$f":"IF(F634<>\"\",事業者基本情報!$E$11&事業者基本情報!$F$11&事業者基本情報!$G$11&事業者基本情報!$H$11&事業者基本情報!$I$11,\"\")","v":""},null,null,null,"市",null,null,"-",null,"-",null,{"$f":"IFERROR(VLOOKUP(Q634,コード表!$B$3:$C$101,2,FALSE),\"\")","v":""},null,{"$f":"IFERROR(VLOOKUP(S634,コード表!$F$7:$G$141,2,FALSE),\"\")","v":""},null,null,"t",null,null,null,null,null,null,null,null,null,null,null,null,null,null,null,null,null,null,null,null,null,null,null,null,null,null,null,null,null,null,null,null,null,null,null,null,null,null,null,null,null,null,null,null,null,null,null,null,"","",{"$f":"IF(BS634=\"\",\"\",IF(COUNTIF(BS$4:BS634,BS634)=1,ROW(),\"\"))","v":""},{"$f":"IFERROR(INDEX(BS:BS,SMALL(BT:BT,ROW(A631))),\"\")","v":""},"","","",""]
[{"$f":"IF(F636<>\"\",事業者基本情報!$E$9&事業者基本情報!$F$9&事業者基本情報!$G$9,\"\")","v":""},{"$f":"IF(F636<>\"\",事業者基本情報!$Y$10,\"\")","v":""},{"$f":"IF(F636<>\"\",事業者基本情報!$Y$7,\"\")","v":""},{"$f":"IF(F636<>\"\",事業者基本情報!$Y$8,\"\")","v":""},{"$f":"IF(F636<>\"\",事業者基本情報!$E$11&事業者基本情報!$F$11&事業者基本情報!$G$11&事業者基本情報!$H$11&事業者基本情報!$I$11,\"\")","v":""},null,null,null,"市",null,null,"-",null,"-",null,{"$f":"IFERROR(VLOOKUP(Q636,コード表!$B$3:$C$101,2,FALSE),\"\")","v":""},null,{"$f":"IFERROR(VLOOKUP(S636,コード表!$F$7:$G$141,2,FALSE),\"\")","v":""},null,null,"t",null,null,null,null,null,null,null,null,null,null,null,null,null,null,null,null,null,null,null,null,null,null,null,null,null,null,null,null,null,null,null,null,null,null,null,null,null,null,null,null,null,null,null,null,null,null,null,null,"","",{"$f":"IF(BS636=\"\",\"\",IF(COUNTIF(BS$4:BS636,BS636)=1,ROW(),\"\"))","v":""},{"$f":"IFERROR(INDEX(BS:BS,SMALL(BT:BT,ROW(A633))),\"\")","v":""},"","","",""]
[{"$f":"IF(F640<>\"\",事業者基本情報!$E$9&事業者基本情報!$F$9&事業者基本情報!$G$9,\"\")","v":""},{"$f":"IF(F640<>\"\",事業者基本情報!$Y$10,\"\")","v":""},{"$f":"IF(F640<>\"\",事業者基本情報!$Y$7,\"\")","v":""},{"$f":"IF(F640<>\"\",事業者基本情報!$Y$8,\"\")","v":""},{"$f":"IF(F640<>\"\",事業者基本情報!$E$11&事業者基本情報!$F$11&事業者基本情報!$G$11&事業者基本情報!$H$11&事業者基本情報!$I$11,\"\")","v":""},null,null,null,"市",null,null,"-",null,"-",null,{"$f":"IFERROR(VLOOKUP(Q640,コード表!$B$3:$C$101,2,FALSE),\"\")","v":""},null,{"$f":"IFERROR(VLOOKUP(S640,コード表!$F$7:$G$141,2,FALSE),\"\")","v":""},null,null,"t",null,null,null,null,null,null,null,null,null,null,null,null,null,null,null,null,null,null,null,null,null,null,null,null,null,null,null,null,null,null,null,null,null,null,null,null,null,null,null,null,null,null,null,null,null,null,null,null,"","",{"$f":"IF(BS640=\"\",\"\",IF(COUNTIF(BS$4:BS640,BS640)=1,ROW(),\"\"))","v":""},{"$f":"IFERROR(INDEX(BS:BS,SMALL(BT:BT,ROW(A637))),\"\")","v":""},"","","",""]
[{"$f":"IF(F643<>\"\",事業者基本情報!$E$9&事業者基本情報!$F$9&事業者基本情報!$G$9,\"\")","v":""},{"$f":"IF(F643<>\"\",事業者基本情報!$Y$10,\"\")","v":""},{"$f":"IF(F643<>\"\",事業者基本情報!$Y$7,\"\")","v":""},{"$f":"IF(F643<>\"\",事業者基本情報!$Y$8,\"\")","v":""},{"$f":"IF(F643<>\"\",事業者基本情報!$E$11&事業者基本情報!$F$11&事業者基本情報!$G$11&事業者基本情報!$H$11&事業者基本情報!$I$11,\"\")","v":""},null,null,null,"市",null,null,"-",null,"-",null,{"$f":"IFERROR(VLOOKUP(Q643,コード表!$B$3:$C$101,2,FALSE),\"\")","v":""},null,{"$f":"IFERROR(VLOOKUP(S643,コード表!$F$7:$G$141,2,FALSE),\"\")","v":""},null,null,"t",null,null,null,null,null,null,null,null,null,null,null,null,null,null,null,null,null,null,null,null,null,null,null,null,null,null,null,null,null,null,null,null,null,null,null,null,null,null,null,null,null,null,null,null,null,null,null,null,"","",{"$f":"IF(BS643=\"\",\"\",IF(COUNTIF(BS$4:BS643,BS643)=1,ROW(),\"\"))","v":""},{"$f":"IFERROR(INDEX(BS:BS,SMALL(BT:BT,ROW(A640))),\"\")","v":""},"","","",""]
[{"$f":"IF(F645<>\"\",事業者基本情報!$E$9&事業者基本情報!$F$9&事業者基本情報!$G$9,\"\")","v":""},{"$f":"IF(F645<>\"\",事業者基本情報!$Y$10,\"\")","v":""},{"$f":"IF(F645<>\"\",事業者基本情報!$Y$7,\"\")","v":""},{"$f":"IF(F645<>\"\",事業者基本情報!$Y$8,\"\")","v":""},{"$f":"IF(F645<>\"\",事業者基本情報!$E$11&事業者基本情報!$F$11&事業者基本情報!$G$11&事業者基本情報!$H$11&事業者基本情報!$I$11,\"\")","v":""},null,null,null,"市",null,null,"-",null,"-",null,{"$f":"IFERROR(VLOOKUP(Q645,コード表!$B$3:$C$101,2,FALSE),\"\")","v":""},null,{"$f":"IFERROR(VLOOKUP(S645,コード表!$F$7:$G$141,2,FALSE),\"\")","v":""},null,null,"t",null,null,null,null,null,null,null,null,null,null,null,null,null,null,null,null,null,null,null,null,null,null,null,null,null,null,null,null,null,null,null,null,null,null,null,null,null,null,null,null,null,null,null,null,null,null,null,null,"","",{"$f":"IF(BS645=\"\",\"\",IF(COUNTIF(BS$4:BS645,BS645)=1,ROW(),\"\"))","v":""},{"$f":"IFERROR(INDEX(BS:BS,SMALL(BT:BT,ROW(A642))),\"\")","v":""},"","","",""]
[{"$f":"IF(F646<>\"\",事業者基本情報!$E$9&事業者基本情報!$F$9&事業者基本情報!$G$9,\"\")","v":""},{"$f":"IF(F646<>\"\",事業者基本情報!$Y$10,\"\")","v":""},{"$f":"IF(F646<>\"\",事業者基本情報!$Y$7,\"\")","v":""},{"$f":"IF(F646<>\"\",事業者基本情報!$Y$8,\"\")","v":""},{"$f":"IF(F646<>\"\",事業者基本情報!$E$11&事業者基本情報!$F$11&事業者基本情報!$G$11&事業者基本情報!$H$11&事業者基本情報!$I$11,\"\")","v":""},null,null,null,"市",null,null,"-",null,"-",null,{"$f":"IFERROR(VLOOKUP(Q646,コード表!$B$3:$C$101,2,FALSE),\"\")","v":""},null,{"$f":"IFERROR(VLOOKUP(S646,コード表!$F$7:$G$141,2,FALSE),\"\")","v":""},null,null,"t",null,null,null,null,null,null,null,null,null,null,null,null,null,null,null,null,null,null,null,null,null,null,null,null,null,null,null,null,null,null,null,null,null,null,null,null,null,null,null,null,null,null,null,null,null,null,null,null,"","",{"$f":"IF(BS646=\"\",\"\",IF(COUNTIF(BS$4:BS646,BS646)=1,ROW(),\"\"))","v":""},{"$f":"IFERROR(INDEX(BS:BS,SMALL(BT:BT,ROW(A643))),\"\")","v":""},"","","",""]
[{"$f":"IF(F649<>\"\",事業者基本情報!$E$9&事業者基本情報!$F$9&事業者基本情報!$G$9,\"\")","v":""},{"$f":"IF(F649<>\"\",事業者基本情報!$Y$10,\"\")","v":""},{"$f":"IF(F649<>\"\",事業者基本情報!$Y$7,\"\")","v":""},{"$f":"IF(F649<>\"\",事業者基本情報!$Y$8,\"\")","v":""},{"$f":"IF(F649<>\"\",事業者基本情報!$E$11&事業者基本情報!$F$11&事業者基本情報!$G$11&事業者基本情報!$H$11&事業者基本情報!$I$11,\"\")","v":""},null,null,null,"市",null,null,"-",null,"-",null,{"$f":"IFERROR(VLOOKUP(Q649,コード表!$B$3:$C$101,2,FALSE),\"\")","v":""},null,{"$f":"IFERROR(VLOOKUP(S649,コード表!$F$7:$G$141,2,FALSE),\"\")","v":""},null,null,"t",null,null,null,null,null,null,null,null,null,null,null,null,null,null,null,null,null,null,null,null,null,null,null,null,null,null,null,null,null,null,null,null,null,null,null,null,null,null,null,null,null,null,null,null,null,null,null,null,"","",{"$f":"IF(BS649=\"\",\"\",IF(COUNTIF(BS$4:BS649,BS649)=1,ROW(),\"\"))","v":""},{"$f":"IFERROR(INDEX(BS:BS,SMALL(BT:BT,ROW(A646))),\"\")","v":""},"","","",""]
[{"$f":"IF(F653<>\"\",事業者基本情報!$E$9&事業者基本情報!$F$9&事業者基本情報!$G$9,\"\")","v":""},{"$f":"IF(F653<>\"\",事業者基本情報!$Y$10,\"\")","v":""},{"$f":"IF(F653<>\"\",事業者基本情報!$Y$7,\"\")","v":""},{"$f":"IF(F653<>\"\",事業者基本情報!$Y$8,\"\")","v":""},{"$f":"IF(F653<>\"\",事業者基本情報!$E$11&事業者基本情報!$F$11&事業者基本情報!$G$11&事業者基本情報!$H$11&事業者基本情報!$I$11,\"\")","v":""},null,null,null,"市",null,null,"-",null,"-",null,{"$f":"IFERROR(VLOOKUP(Q653,コード表!$B$3:$C$101,2,FALSE),\"\")","v":""},null,{"$f":"IFERROR(VLOOKUP(S653,コード表!$F$7:$G$141,2,FALSE),\"\")","v":""},null,null,"t",null,null,null,null,null,null,null,null,null,null,null,null,null,null,null,null,null,null,null,null,null,null,null,null,null,null,null,null,null,null,null,null,null,null,null,null,null,null,null,null,null,null,null,null,null,null,null,null,"","",{"$f":"IF(BS653=\"\",\"\",IF(COUNTIF(BS$4:BS653,BS653)=1,ROW(),\"\"))","v":""},{"$f":"IFERROR(INDEX(BS:BS,SMALL(BT:BT,ROW(A650))),\"\")","v":""},"","","",""]
[{"$f":"IF(F656<>\"\",事業者基本情報!$E$9&事業者基本情報!$F$9&事業者基本情報!$G$9,\"\")","v":""},{"$f":"IF(F656<>\"\",事業者基本情報!$Y$10,\"\")","v":""},{"$f":"IF(F656<>\"\",事業者基本情報!$Y$7,\"\")","v":""},{"$f":"IF(F656<>\"\",事業者基本情報!$Y$8,\"\")","v":""},{"$f":"IF(F656<>\"\",事業者基本情報!$E$11&事業者基本情報!$F$11&事業者基本情報!$G$11&事業者基本情報!$H$11&事業者基本情報!$I$11,\"\")","v":""},null,null,null,"市",null,null,"-",null,"-",null,{"$f":"IFERROR(VLOOKUP(Q656,コード表!$B$3:$C$101,2,FALSE),\"\")","v":""},null,{"$f":"IFERROR(VLOOKUP(S656,コード表!$F$7:$G$141,2,FALSE),\"\")","v":""},null,null,"t",null,null,null,null,null,null,null,null,null,null,null,null,null,null,null,null,null,null,null,null,null,null,null,null,null,null,null,null,null,null,null,null,null,null,null,null,null,null,null,null,null,null,null,null,null,null,null,null,"","",{"$f":"IF(BS656=\"\",\"\",IF(COUNTIF(BS$4:BS656,BS656)=1,ROW(),\"\"))","v":""},{"$f":"IFERROR(INDEX(BS:BS,SMALL(BT:BT,ROW(A653))),\"\")","v":""},"","","",""]
[{"$f":"IF(F658<>\"\",事業者基本情報!$E$9&事業者基本情報!$F$9&事業者基本情報!$G$9,\"\")","v":""},{"$f":"IF(F658<>\"\",事業者基本情報!$Y$10,\"\")","v":""},{"$f":"IF(F658<>\"\",事業者基本情報!$Y$7,\"\")","v":""},{"$f":"IF(F658<>\"\",事業者基本情報!$Y$8,\"\")","v":""},{"$f":"IF(F658<>\"\",事業者基本情報!$E$11&事業者基本情報!$F$11&事業者基本情報!$G$11&事業者基本情報!$H$11&事業者基本情報!$I$11,\"\")","v":""},null,null,null,"市",null,null,"-",null,"-",null,{"$f":"IFERROR(VLOOKUP(Q658,コード表!$B$3:$C$101,2,FALSE),\"\")","v":""},null,{"$f":"IFERROR(VLOOKUP(S658,コード表!$F$7:$G$141,2,FALSE),\"\")","v":""},null,null,"t",null,null,null,null,null,null,null,null,null,null,null,null,null,null,null,null,null,null,null,null,null,null,null,null,null,null,null,null,null,null,null,null,null,null,null,null,null,null,null,null,null,null,null,null,null,null,null,null,"","",{"$f":"IF(BS658=\"\",\"\",IF(COUNTIF(BS$4:BS658,BS658)=1,ROW(),\"\"))","v":""},{"$f":"IFERROR(INDEX(BS:BS,SMALL(BT:BT,ROW(A655))),\"\")","v":""},"","","",""]
[{"$f":"IF(F662<>\"\",事業者基本情報!$E$9&事業者基本情報!$F$9&事業者基本情報!$G$9,\"\")","v":""},{"$f":"IF(F662<>\"\",事業者基本情報!$Y$10,\"\")","v":""},{"$f":"IF(F662<>\"\",事業者基本情報!$Y$7,\"\")","v":""},{"$f":"IF(F662<>\"\",事業者基本情報!$Y$8,\"\")","v":""},{"$f":"IF(F662<>\"\",事業者基本情報!$E$11&事業者基本情報!$F$11&事業者基本情報!$G$11&事業者基本情報!$H$11&事業者基本情報!$I$11,\"\")","v":""},null,null,null,"市",null,null,"-",null,"-",null,{"$f":"IFERROR(VLOOKUP(Q662,コード表!$B$3:$C$101,2,FALSE),\"\")","v":""},null,{"$f":"IFERROR(VLOOKUP(S662,コード表!$F$7:$G$141,2,FALSE),\"\")","v":""},null,null,"t",null,null,null,null,null,null,null,null,null,null,null,null,null,null,null,null,null,null,null,null,null,null,null,null,null,null,null,null,null,null,null,null,null,null,null,null,null,null,null,null,null,null,null,null,null,null,null,null,"","",{"$f":"IF(BS662=\"\",\"\",IF(COUNTIF(BS$4:BS662,BS662)=1,ROW(),\"\"))","v":""},{"$f":"IFERROR(INDEX(BS:BS,SMALL(BT:BT,ROW(A659))),\"\")","v":""},"","","",""]
[{"$f":"IF(F665<>\"\",事業者基本情報!$E$9&事業者基本情報!$F$9&事業者基本情報!$G$9,\"\")","v":""},{"$f":"IF(F665<>\"\",事業者基本情報!$Y$10,\"\")","v":""},{"$f":"IF(F665<>\"\",事業者基本情報!$Y$7,\"\")","v":""},{"$f":"IF(F665<>\"\",事業者基本情報!$Y$8,\"\")","v":""},{"$f":"IF(F665<>\"\",事業者基本情報!$E$11&事業者基本情報!$F$11&事業者基本情報!$G$11&事業者基本情報!$H$11&事業者基本情報!$I$11,\"\")","v":""},null,null,null,"市",null,null,"-",null,"-",null,{"$f":"IFERROR(VLOOKUP(Q665,コード表!$B$3:$C$101,2,FALSE),\"\")","v":""},null,{"$f":"IFERROR(VLOOKUP(S665,コード表!$F$7:$G$141,2,FALSE),\"\")","v":""},null,null,"t",null,null,null,null,null,null,null,null,null,null,null,null,null,null,null,null,null,null,null,null,null,null,null,null,null,null,null,null,null,null,null,null,null,null,null,null,null,null,null,null,null,null,null,null,null,null,null,null,"","",{"$f":"IF(BS665=\"\",\"\",IF(COUNTIF(BS$4:BS665,BS665)=1,ROW(),\"\"))","v":""},{"$f":"IFERROR(INDEX(BS:BS,SMALL(BT:BT,ROW(A662))),\"\")","v":""},"","","",""]
[{"$f":"IF(F667<>\"\",事業者基本情報!$E$9&事業者基本情報!$F$9&事業者基本情報!$G$9,\"\")","v":""},{"$f":"IF(F667<>\"\",事業者基本情報!$Y$10,\"\")","v":""},{"$f":"IF(F667<>\"\",事業者基本情報!$Y$7,\"\")","v":""},{"$f":"IF(F667<>\"\",事業者基本情報!$Y$8,\"\")","v":""},{"$f":"IF(F667<>\"\",事業者基本情報!$E$11&事業者基本情報!$F$11&事業者基本情報!$G$11&事業者基本情報!$H$11&事業者基本情報!$I$11,\"\")","v":""},null,null,null,"市",null,null,"-",null,"-",null,{"$f":"IFERROR(VLOOKUP(Q667,コード表!$B$3:$C$101,2,FALSE),\"\")","v":""},null,{"$f":"IFERROR(VLOOKUP(S667,コード表!$F$7:$G$141,2,FALSE),\"\")","v":""},null,null,"t",null,null,null,null,null,null,null,null,null,null,null,null,null,null,null,null,null,null,null,null,null,null,null,null,null,null,null,null,null,null,null,null,null,null,null,null,null,null,null,null,null,null,null,null,null,null,null,null,"","",{"$f":"IF(BS667=\"\",\"\",IF(COUNTIF(BS$4:BS667,BS667)=1,ROW(),\"\"))","v":""},{"$f":"IFERROR(INDEX(BS:BS,SMALL(BT:BT,ROW(A664))),\"\")","v":""},"","","",""]
[{"$f":"IF(F668<>\"\",事業者基本情報!$E$9&事業者基本情報!$F$9&事業者基本情報!$G$9,\"\")","v":""},{"$f":"IF(F668<>\"\",事業者基本情報!$Y$10,\"\")","v":""},{"$f":"IF(F668<>\"\",事業者基本情報!$Y$7,\"\")","v":""},{"$f":"IF(F668<>\"\",事業者基本情報!$Y$8,\"\")","v":""},{"$f":"IF(F668<>\"\",事業者基本情報!$E$11&事業者基本情報!$F$11&事業者基本情報!$G$11&事業者基本情報!$H$11&事業者基本情報!$I$11,\"\")","v":""},null,null,null,"市",null,null,"-",null,"-",null,{"$f":"IFERROR(VLOOKUP(Q668,コード表!$B$3:$C$101,2,FALSE),\"\")","v":""},null,{"$f":"IFERROR(VLOOKUP(S668,コード表!$F$7:$G$141,2,FALSE),\"\")","v":""},null,null,"t",null,null,null,null,null,null,null,null,null,null,null,null,null,null,null,null,null,null,null,null,null,null,null,null,null,null,null,null,null,null,null,null,null,null,null,null,null,null,null,null,null,null,null,null,null,null,null,null,"","",{"$f":"IF(BS668=\"\",\"\",IF(COUNTIF(BS$4:BS668,BS668)=1,ROW(),\"\"))","v":""},{"$f":"IFERROR(INDEX(BS:BS,SMALL(BT:BT,ROW(A665))),\"\")","v":""},"","","",""]
[{"$f":"IF(F671<>\"\",事業者基本情報!$E$9&事業者基本情報!$F$9&事業者基本情報!$G$9,\"\")","v":""},{"$f":"IF(F671<>\"\",事業者基本情報!$Y$10,\"\")","v":""},{"$f":"IF(F671<>\"\",事業者基本情報!$Y$7,\"\")","v":""},{"$f":"IF(F671<>\"\",事業者基本情報!$Y$8,\"\")","v":""},{"$f":"IF(F671<>\"\",事業者基本情報!$E$11&事業者基本情報!$F$11&事業者基本情報!$G$11&事業者基本情報!$H$11&事業者基本情報!$I$11,\"\")","v":""},null,null,null,"市",null,null,"-",null,"-",null,{"$f":"IFERROR(VLOOKUP(Q671,コード表!$B$3:$C$101,2,FALSE),\"\")","v":""},null,{"$f":"IFERROR(VLOOKUP(S671,コード表!$F$7:$G$141,2,FALSE),\"\")","v":""},null,null,"t",null,null,null,null,null,null,null,null,null,null,null,null,null,null,null,null,null,null,null,null,null,null,null,null,null,null,null,null,null,null,null,null,null,null,null,null,null,null,null,null,null,null,null,null,null,null,null,null,"","",{"$f":"IF(BS671=\"\",\"\",IF(COUNTIF(BS$4:BS671,BS671)=1,ROW(),\"\"))","v":""},{"$f":"IFERROR(INDEX(BS:BS,SMALL(BT:BT,ROW(A668))),\"\")","v":""},"","","",""]
[{"$f":"IF(F675<>\"\",事業者基本情報!$E$9&事業者基本情報!$F$9&事業者基本情報!$G$9,\"\")","v":""},{"$f":"IF(F675<>\"\",事業者基本情報!$Y$10,\"\")","v":""},{"$f":"IF(F675<>\"\",事業者基本情報!$Y$7,\"\")","v":""},{"$f":"IF(F675<>\"\",事業者基本情報!$Y$8,\"\")","v":""},{"$f":"IF(F675<>\"\",事業者基本情報!$E$11&事業者基本情報!$F$11&事業者基本情報!$G$11&事業者基本情報!$H$11&事業者基本情報!$I$11,\"\")","v":""},null,null,null,"市",null,null,"-",null,"-",null,{"$f":"IFERROR(VLOOKUP(Q675,コード表!$B$3:$C$101,2,FALSE),\"\")","v":""},null,{"$f":"IFERROR(VLOOKUP(S675,コード表!$F$7:$G$141,2,FALSE),\"\")","v":""},null,null,"t",null,null,null,null,null,null,null,null,null,null,null,null,null,null,null,null,null,null,null,null,null,null,null,null,null,null,null,null,null,null,null,null,null,null,null,null,null,null,null,null,null,null,null,null,null,null,null,null,"","",{"$f":"IF(BS675=\"\",\"\",IF(COUNTIF(BS$4:BS675,BS675)=1,ROW(),\"\"))","v":""},{"$f":"IFERROR(INDEX(BS:BS,SMALL(BT:BT,ROW(A672))),\"\")","v":""},"","","",""]
[{"$f":"IF(F678<>\"\",事業者基本情報!$E$9&事業者基本情報!$F$9&事業者基本情報!$G$9,\"\")","v":""},{"$f":"IF(F678<>\"\",事業者基本情報!$Y$10,\"\")","v":""},{"$f":"IF(F678<>\"\",事業者基本情報!$Y$7,\"\")","v":""},{"$f":"IF(F678<>\"\",事業者基本情報!$Y$8,\"\")","v":""},{"$f":"IF(F678<>\"\",事業者基本情報!$E$11&事業者基本情報!$F$11&事業者基本情報!$G$11&事業者基本情報!$H$11&事業者基本情報!$I$11,\"\")","v":""},null,null,null,"市",null,null,"-",null,"-",null,{"$f":"IFERROR(VLOOKUP(Q678,コード表!$B$3:$C$101,2,FALSE),\"\")","v":""},null,{"$f":"IFERROR(VLOOKUP(S678,コード表!$F$7:$G$141,2,FALSE),\"\")","v":""},null,null,"t",null,null,null,null,null,null,null,null,null,null,null,null,null,null,null,null,null,null,null,null,null,null,null,null,null,null,null,null,null,null,null,null,null,null,null,null,null,null,null,null,null,null,null,null,null,null,null,null,"","",{"$f":"IF(BS678=\"\",\"\",IF(COUNTIF(BS$4:BS678,BS678)=1,ROW(),\"\"))","v":""},{"$f":"IFERROR(INDEX(BS:BS,SMALL(BT:BT,ROW(A675))),\"\")","v":""},"","","",""]
[{"$f":"IF(F680<>\"\",事業者基本情報!$E$9&事業者基本情報!$F$9&事業者基本情報!$G$9,\"\")","v":""},{"$f":"IF(F680<>\"\",事業者基本情報!$Y$10,\"\")","v":""},{"$f":"IF(F680<>\"\",事業者基本情報!$Y$7,\"\")","v":""},{"$f":"IF(F680<>\"\",事業者基本情報!$Y$8,\"\")","v":""},{"$f":"IF(F680<>\"\",事業者基本情報!$E$11&事業者基本情報!$F$11&事業者基本情報!$G$11&事業者基本情報!$H$11&事業者基本情報!$I$11,\"\")","v":""},null,null,null,"市",null,null,"-",null,"-",null,{"$f":"IFERROR(VLOOKUP(Q680,コード表!$B$3:$C$101,2,FALSE),\"\")","v":""},null,{"$f":"IFERROR(VLOOKUP(S680,コード表!$F$7:$G$141,2,FALSE),\"\")","v":""},null,null,"t",null,null,null,null,null,null,null,null,null,null,null,null,null,null,null,null,null,null,null,null,null,null,null,null,null,null,null,null,null,null,null,null,null,null,null,null,null,null,null,null,null,null,null,null,null,null,null,null,"","",{"$f":"IF(BS680=\"\",\"\",IF(COUNTIF(BS$4:BS680,BS680)=1,ROW(),\"\"))","v":""},{"$f":"IFERROR(INDEX(BS:BS,SMALL(BT:BT,ROW(A677))),\"\")","v":""},"","","",""]
[{"$f":"IF(F684<>\"\",事業者基本情報!$E$9&事業者基本情報!$F$9&事業者基本情報!$G$9,\"\")","v":""},{"$f":"IF(F684<>\"\",事業者基本情報!$Y$10,\"\")","v":""},{"$f":"IF(F684<>\"\",事業者基本情報!$Y$7,\"\")","v":""},{"$f":"IF(F684<>\"\",事業者基本情報!$Y$8,\"\")","v":""},{"$f":"IF(F684<>\"\",事業者基本情報!$E$11&事業者基本情報!$F$11&事業者基本情報!$G$11&事業者基本情報!$H$11&事業者基本情報!$I$11,\"\")","v":""},null,null,null,"市",null,null,"-",null,"-",null,{"$f":"IFERROR(VLOOKUP(Q684,コード表!$B$3:$C$101,2,FALSE),\"\")","v":""},null,{"$f":"IFERROR(VLOOKUP(S684,コード表!$F$7:$G$141,2,FALSE),\"\")","v":""},null,null,"t",null,null,null,null,null,null,null,null,null,null,null,null,null,null,null,null,null,null,null,null,null,null,null,null,null,null,null,null,null,null,null,null,null,null,null,null,null,null,null,null,null,null,null,null,null,null,null,null,"","",{"$f":"IF(BS684=\"\",\"\",IF(COUNTIF(BS$4:BS684,BS684)=1,ROW(),\"\"))","v":""},{"$f":"IFERROR(INDEX(BS:BS,SMALL(BT:BT,ROW(A681))),\"\")","v":""},"","","",""]
[{"$f":"IF(F687<>\"\",事業者基本情報!$E$9&事業者基本情報!$F$9&事業者基本情報!$G$9,\"\")","v":""},{"$f":"IF(F687<>\"\",事業者基本情報!$Y$10,\"\")","v":""},{"$f":"IF(F687<>\"\",事業者基本情報!$Y$7,\"\")","v":""},{"$f":"IF(F687<>\"\",事業者基本情報!$Y$8,\"\")","v":""},{"$f":"IF(F687<>\"\",事業者基本情報!$E$11&事業者基本情報!$F$11&事業者基本情報!$G$11&事業者基本情報!$H$11&事業者基本情報!$I$11,\"\")","v":""},null,null,null,"市",null,null,"-",null,"-",null,{"$f":"IFERROR(VLOOKUP(Q687,コード表!$B$3:$C$101,2,FALSE),\"\")","v":""},null,{"$f":"IFERROR(VLOOKUP(S687,コード表!$F$7:$G$141,2,FALSE),\"\")","v":""},null,null,"t",null,null,null,null,null,null,null,null,null,null,null,null,null,null,null,null,null,null,null,null,null,null,null,null,null,null,null,null,null,null,null,null,null,null,null,null,null,null,null,null,null,null,null,null,null,null,null,null,"","",{"$f":"IF(BS687=\"\",\"\",IF(COUNTIF(BS$4:BS687,BS687)=1,ROW(),\"\"))","v":""},{"$f":"IFERROR(INDEX(BS:BS,SMALL(BT:BT,ROW(A684))),\"\")","v":""},"","","",""]
[{"$f":"IF(F689<>\"\",事業者基本情報!$E$9&事業者基本情報!$F$9&事業者基本情報!$G$9,\"\")","v":""},{"$f":"IF(F689<>\"\",事業者基本情報!$Y$10,\"\")","v":""},{"$f":"IF(F689<>\"\",事業者基本情報!$Y$7,\"\")","v":""},{"$f":"IF(F689<>\"\",事業者基本情報!$Y$8,\"\")","v":""},{"$f":"IF(F689<>\"\",事業者基本情報!$E$11&事業者基本情報!$F$11&事業者基本情報!$G$11&事業者基本情報!$H$11&事業者基本情報!$I$11,\"\")","v":""},null,null,null,"市",null,null,"-",null,"-",null,{"$f":"IFERROR(VLOOKUP(Q689,コード表!$B$3:$C$101,2,FALSE),\"\")","v":""},null,{"$f":"IFERROR(VLOOKUP(S689,コード表!$F$7:$G$141,2,FALSE),\"\")","v":""},null,null,"t",null,null,null,null,null,null,null,null,null,null,null,null,null,null,null,null,null,null,null,null,null,null,null,null,null,null,null,null,null,null,null,null,null,null,null,null,null,null,null,null,null,null,null,null,null,null,null,null,"","",{"$f":"IF(BS689=\"\",\"\",IF(COUNTIF(BS$4:BS689,BS689)=1,ROW(),\"\"))","v":""},{"$f":"IFERROR(INDEX(BS:BS,SMALL(BT:BT,ROW(A686))),\"\")","v":""},"","","",""]
[{"$f":"IF(F690<>\"\",事業者基本情報!$E$9&事業者基本情報!$F$9&事業者基本情報!$G$9,\"\")","v":""},{"$f":"IF(F690<>\"\",事業者基本情報!$Y$10,\"\")","v":""},{"$f":"IF(F690<>\"\",事業者基本情報!$Y$7,\"\")","v":""},{"$f":"IF(F690<>\"\",事業者基本情報!$Y$8,\"\")","v":""},{"$f":"IF(F690<>\"\",事業者基本情報!$E$11&事業者基本情報!$F$11&事業者基本情報!$G$11&事業者基本情報!$H$11&事業者基本情報!$I$11,\"\")","v":""},null,null,null,"市",null,null,"-",null,"-",null,{"$f":"IFERROR(VLOOKUP(Q690,コード表!$B$3:$C$101,2,FALSE),\"\")","v":""},null,{"$f":"IFERROR(VLOOKUP(S690,コード表!$F$7:$G$141,2,FALSE),\"\")","v":""},null,null,"t",null,null,null,null,null,null,null,null,null,null,null,null,null,null,null,null,null,null,null,null,null,null,null,null,null,null,null,null,null,null,null,null,null,null,null,null,null,null,null,null,null,null,null,null,null,null,null,null,"","",{"$f":"IF(BS690=\"\",\"\",IF(COUNTIF(BS$4:BS690,BS690)=1,ROW(),\"\"))","v":""},{"$f":"IFERROR(INDEX(BS:BS,SMALL(BT:BT,ROW(A687))),\"\")","v":""},"","","",""]
[{"$f":"IF(F693<>\"\",事業者基本情報!$E$9&事業者基本情報!$F$9&事業者基本情報!$G$9,\"\")","v":""},{"$f":"IF(F693<>\"\",事業者基本情報!$Y$10,\"\")","v":""},{"$f":"IF(F693<>\"\",事業者基本情報!$Y$7,\"\")","v":""},{"$f":"IF(F693<>\"\",事業者基本情報!$Y$8,\"\")","v":""},{"$f":"IF(F693<>\"\",事業者基本情報!$E$11&事業者基本情報!$F$11&事業者基本情報!$G$11&事業者基本情報!$H$11&事業者基本情報!$I$11,\"\")","v":""},null,null,null,"市",null,null,"-",null,"-",null,{"$f":"IFERROR(VLOOKUP(Q693,コード表!$B$3:$C$101,2,FALSE),\"\")","v":""},null,{"$f":"IFERROR(VLOOKUP(S693,コード表!$F$7:$G$141,2,FALSE),\"\")","v":""},null,null,"t",null,null,null,null,null,null,null,null,null,null,null,null,null,null,null,null,null,null,null,null,null,null,null,null,null,null,null,null,null,null,null,null,null,null,null,null,null,null,null,null,null,null,null,null,null,null,null,null,"","",{"$f":"IF(BS693=\"\",\"\",IF(COUNTIF(BS$4:BS693,BS693)=1,ROW(),\"\"))","v":""},{"$f":"IFERROR(INDEX(BS:BS,SMALL(BT:BT,ROW(A690))),\"\")","v":""},"","","",""]
[{"$f":"IF(F697<>\"\",事業者基本情報!$E$9&事業者基本情報!$F$9&事業者基本情報!$G$9,\"\")","v":""},{"$f":"IF(F697<>\"\",事業者基本情報!$Y$10,\"\")","v":""},{"$f":"IF(F697<>\"\",事業者基本情報!$Y$7,\"\")","v":""},{"$f":"IF(F697<>\"\",事業者基本情報!$Y$8,\"\")","v":""},{"$f":"IF(F697<>\"\",事業者基本情報!$E$11&事業者基本情報!$F$11&事業者基本情報!$G$11&事業者基本情報!$H$11&事業者基本情報!$I$11,\"\")","v":""},null,null,null,"市",null,null,"-",null,"-",null,{"$f":"IFERROR(VLOOKUP(Q697,コード表!$B$3:$C$101,2,FALSE),\"\")","v":""},null,{"$f":"IFERROR(VLOOKUP(S697,コード表!$F$7:$G$141,2,FALSE),\"\")","v":""},null,null,"t",null,null,null,null,null,null,null,null,null,null,null,null,null,null,null,null,null,null,null,null,null,null,null,null,null,null,null,null,null,null,null,null,null,null,null,null,null,null,null,null,null,null,null,null,null,null,null,null,"","",{"$f":"IF(BS697=\"\",\"\",IF(COUNTIF(BS$4:BS697,BS697)=1,ROW(),\"\"))","v":""},{"$f":"IFERROR(INDEX(BS:BS,SMALL(BT:BT,ROW(A694))),\"\")","v":""},"","","",""]
[{"$f":"IF(F700<>\"\",事業者基本情報!$E$9&事業者基本情報!$F$9&事業者基本情報!$G$9,\"\")","v":""},{"$f":"IF(F700<>\"\",事業者基本情報!$Y$10,\"\")","v":""},{"$f":"IF(F700<>\"\",事業者基本情報!$Y$7,\"\")","v":""},{"$f":"IF(F700<>\"\",事業者基本情報!$Y$8,\"\")","v":""},{"$f":"IF(F700<>\"\",事業者基本情報!$E$11&事業者基本情報!$F$11&事業者基本情報!$G$11&事業者基本情報!$H$11&事業者基本情報!$I$11,\"\")","v":""},null,null,null,"市",null,null,"-",null,"-",null,{"$f":"IFERROR(VLOOKUP(Q700,コード表!$B$3:$C$101,2,FALSE),\"\")","v":""},null,{"$f":"IFERROR(VLOOKUP(S700,コード表!$F$7:$G$141,2,FALSE),\"\")","v":""},null,null,"t",null,null,null,null,null,null,null,null,null,null,null,null,null,null,null,null,null,null,null,null,null,null,null,null,null,null,null,null,null,null,null,null,null,null,null,null,null,null,null,null,null,null,null,null,null,null,null,null,"","",{"$f":"IF(BS700=\"\",\"\",IF(COUNTIF(BS$4:BS700,BS700)=1,ROW(),\"\"))","v":""},{"$f":"IFERROR(INDEX(BS:BS,SMALL(BT:BT,ROW(A697))),\"\")","v":""},"","","",""]
[{"$f":"IF(F702<>\"\",事業者基本情報!$E$9&事業者基本情報!$F$9&事業者基本情報!$G$9,\"\")","v":""},{"$f":"IF(F702<>\"\",事業者基本情報!$Y$10,\"\")","v":""},{"$f":"IF(F702<>\"\",事業者基本情報!$Y$7,\"\")","v":""},{"$f":"IF(F702<>\"\",事業者基本情報!$Y$8,\"\")","v":""},{"$f":"IF(F702<>\"\",事業者基本情報!$E$11&事業者基本情報!$F$11&事業者基本情報!$G$11&事業者基本情報!$H$11&事業者基本情報!$I$11,\"\")","v":""},null,null,null,"市",null,null,"-",null,"-",null,{"$f":"IFERROR(VLOOKUP(Q702,コード表!$B$3:$C$101,2,FALSE),\"\")","v":""},null,{"$f":"IFERROR(VLOOKUP(S702,コード表!$F$7:$G$141,2,FALSE),\"\")","v":""},null,null,"t",null,null,null,null,null,null,null,null,null,null,null,null,null,null,null,null,null,null,null,null,null,null,null,null,null,null,null,null,null,null,null,null,null,null,null,null,null,null,null,null,null,null,null,null,null,null,null,null,"","",{"$f":"IF(BS702=\"\",\"\",IF(COUNTIF(BS$4:BS702,BS702)=1,ROW(),\"\"))","v":""},{"$f":"IFERROR(INDEX(BS:BS,SMALL(BT:BT,ROW(A699))),\"\")","v":""},"","","",""]
[{"$f":"IF(F706<>\"\",事業者基本情報!$E$9&事業者基本情報!$F$9&事業者基本情報!$G$9,\"\")","v":""},{"$f":"IF(F706<>\"\",事業者基本情報!$Y$10,\"\")","v":""},{"$f":"IF(F706<>\"\",事業者基本情報!$Y$7,\"\")","v":""},{"$f":"IF(F706<>\"\",事業者基本情報!$Y$8,\"\")","v":""},{"$f":"IF(F706<>\"\",事業者基本情報!$E$11&事業者基本情報!$F$11&事業者基本情報!$G$11&事業者基本情報!$H$11&事業者基本情報!$I$11,\"\")","v":""},null,null,null,"市",null,null,"-",null,"-",null,{"$f":"IFERROR(VLOOKUP(Q706,コード表!$B$3:$C$101,2,FALSE),\"\")","v":""},null,{"$f":"IFERROR(VLOOKUP(S706,コード表!$F$7:$G$141,2,FALSE),\"\")","v":""},null,null,"t",null,null,null,null,null,null,null,null,null,null,null,null,null,null,null,null,null,null,null,null,null,null,null,null,null,null,null,null,null,null,null,null,null,null,null,null,null,null,null,null,null,null,null,null,null,null,null,null,"","",{"$f":"IF(BS706=\"\",\"\",IF(COUNTIF(BS$4:BS706,BS706)=1,ROW(),\"\"))","v":""},{"$f":"IFERROR(INDEX(BS:BS,SMALL(BT:BT,ROW(A703))),\"\")","v":""},"","","",""]
[{"$f":"IF(F709<>\"\",事業者基本情報!$E$9&事業者基本情報!$F$9&事業者基本情報!$G$9,\"\")","v":""},{"$f":"IF(F709<>\"\",事業者基本情報!$Y$10,\"\")","v":""},{"$f":"IF(F709<>\"\",事業者基本情報!$Y$7,\"\")","v":""},{"$f":"IF(F709<>\"\",事業者基本情報!$Y$8,\"\")","v":""},{"$f":"IF(F709<>\"\",事業者基本情報!$E$11&事業者基本情報!$F$11&事業者基本情報!$G$11&事業者基本情報!$H$11&事業者基本情報!$I$11,\"\")","v":""},null,null,null,"市",null,null,"-",null,"-",null,{"$f":"IFERROR(VLOOKUP(Q709,コード表!$B$3:$C$101,2,FALSE),\"\")","v":""},null,{"$f":"IFERROR(VLOOKUP(S709,コード表!$F$7:$G$141,2,FALSE),\"\")","v":""},null,null,"t",null,null,null,null,null,null,null,null,null,null,null,null,null,null,null,null,null,null,null,null,null,null,null,null,null,null,null,null,null,null,null,null,null,null,null,null,null,null,null,null,null,null,null,null,null,null,null,null,"","",{"$f":"IF(BS709=\"\",\"\",IF(COUNTIF(BS$4:BS709,BS709)=1,ROW(),\"\"))","v":""},{"$f":"IFERROR(INDEX(BS:BS,SMALL(BT:BT,ROW(A706))),\"\")","v":""},"","","",""]
[{"$f":"IF(F711<>\"\",事業者基本情報!$E$9&事業者基本情報!$F$9&事業者基本情報!$G$9,\"\")","v":""},{"$f":"IF(F711<>\"\",事業者基本情報!$Y$10,\"\")","v":""},{"$f":"IF(F711<>\"\",事業者基本情報!$Y$7,\"\")","v":""},{"$f":"IF(F711<>\"\",事業者基本情報!$Y$8,\"\")","v":""},{"$f":"IF(F711<>\"\",事業者基本情報!$E$11&事業者基本情報!$F$11&事業者基本情報!$G$11&事業者基本情報!$H$11&事業者基本情報!$I$11,\"\")","v":""},null,null,null,"市",null,null,"-",null,"-",null,{"$f":"IFERROR(VLOOKUP(Q711,コード表!$B$3:$C$101,2,FALSE),\"\")","v":""},null,{"$f":"IFERROR(VLOOKUP(S711,コード表!$F$7:$G$141,2,FALSE),\"\")","v":""},null,null,"t",null,null,null,null,null,null,null,null,null,null,null,null,null,null,null,null,null,null,null,null,null,null,null,null,null,null,null,null,null,null,null,null,null,null,null,null,null,null,null,null,null,null,null,null,null,null,null,null,"","",{"$f":"IF(BS711=\"\",\"\",IF(COUNTIF(BS$4:BS711,BS711)=1,ROW(),\"\"))","v":""},{"$f":"IFERROR(INDEX(BS:BS,SMALL(BT:BT,ROW(A708))),\"\")","v":""},"","","",""]
[{"$f":"IF(F712<>\"\",事業者基本情報!$E$9&事業者基本情報!$F$9&事業者基本情報!$G$9,\"\")","v":""},{"$f":"IF(F712<>\"\",事業者基本情報!$Y$10,\"\")","v":""},{"$f":"IF(F712<>\"\",事業者基本情報!$Y$7,\"\")","v":""},{"$f":"IF(F712<>\"\",事業者基本情報!$Y$8,\"\")","v":""},{"$f":"IF(F712<>\"\",事業者基本情報!$E$11&事業者基本情報!$F$11&事業者基本情報!$G$11&事業者基本情報!$H$11&事業者基本情報!$I$11,\"\")","v":""},null,null,null,"市",null,null,"-",null,"-",null,{"$f":"IFERROR(VLOOKUP(Q712,コード表!$B$3:$C$101,2,FALSE),\"\")","v":""},null,{"$f":"IFERROR(VLOOKUP(S712,コード表!$F$7:$G$141,2,FALSE),\"\")","v":""},null,null,"t",null,null,null,null,null,null,null,null,null,null,null,null,null,null,null,null,null,null,null,null,null,null,null,null,null,null,null,null,null,null,null,null,null,null,null,null,null,null,null,null,null,null,null,null,null,null,null,null,"","",{"$f":"IF(BS712=\"\",\"\",IF(COUNTIF(BS$4:BS712,BS712)=1,ROW(),\"\"))","v":""},{"$f":"IFERROR(INDEX(BS:BS,SMALL(BT:BT,ROW(A709))),\"\")","v":""},"","","",""]
[{"$f":"IF(F715<>\"\",事業者基本情報!$E$9&事業者基本情報!$F$9&事業者基本情報!$G$9,\"\")","v":""},{"$f":"IF(F715<>\"\",事業者基本情報!$Y$10,\"\")","v":""},{"$f":"IF(F715<>\"\",事業者基本情報!$Y$7,\"\")","v":""},{"$f":"IF(F715<>\"\",事業者基本情報!$Y$8,\"\")","v":""},{"$f":"IF(F715<>\"\",事業者基本情報!$E$11&事業者基本情報!$F$11&事業者基本情報!$G$11&事業者基本情報!$H$11&事業者基本情報!$I$11,\"\")","v":""},null,null,null,"市",null,null,"-",null,"-",null,{"$f":"IFERROR(VLOOKUP(Q715,コード表!$B$3:$C$101,2,FALSE),\"\")","v":""},null,{"$f":"IFERROR(VLOOKUP(S715,コード表!$F$7:$G$141,2,FALSE),\"\")","v":""},null,null,"t",null,null,null,null,null,null,null,null,null,null,null,null,null,null,null,null,null,null,null,null,null,null,null,null,null,null,null,null,null,null,null,null,null,null,null,null,null,null,null,null,null,null,null,null,null,null,null,null,"","",{"$f":"IF(BS715=\"\",\"\",IF(COUNTIF(BS$4:BS715,BS715)=1,ROW(),\"\"))","v":""},{"$f":"IFERROR(INDEX(BS:BS,SMALL(BT:BT,ROW(A712))),\"\")","v":""},"","","",""]
[{"$f":"IF(F719<>\"\",事業者基本情報!$E$9&事業者基本情報!$F$9&事業者基本情報!$G$9,\"\")","v":""},{"$f":"IF(F719<>\"\",事業者基本情報!$Y$10,\"\")","v":""},{"$f":"IF(F719<>\"\",事業者基本情報!$Y$7,\"\")","v":""},{"$f":"IF(F719<>\"\",事業者基本情報!$Y$8,\"\")","v":""},{"$f":"IF(F719<>\"\",事業者基本情報!$E$11&事業者基本情報!$F$11&事業者基本情報!$G$11&事業者基本情報!$H$11&事業者基本情報!$I$11,\"\")","v":""},null,null,null,"市",null,null,"-",null,"-",null,{"$f":"IFERROR(VLOOKUP(Q719,コード表!$B$3:$C$101,2,FALSE),\"\")","v":""},null,{"$f":"IFERROR(VLOOKUP(S719,コード表!$F$7:$G$141,2,FALSE),\"\")","v":""},null,null,"t",null,null,null,null,null,null,null,null,null,null,null,null,null,null,null,null,null,null,null,null,null,null,null,null,null,null,null,null,null,null,null,null,null,null,null,null,null,null,null,null,null,null,null,null,null,null,null,null,"","",{"$f":"IF(BS719=\"\",\"\",IF(COUNTIF(BS$4:BS719,BS719)=1,ROW(),\"\"))","v":""},{"$f":"IFERROR(INDEX(BS:BS,SMALL(BT:BT,ROW(A716))),\"\")","v":""},"","","",""]
[{"$f":"IF(F722<>\"\",事業者基本情報!$E$9&事業者基本情報!$F$9&事業者基本情報!$G$9,\"\")","v":""},{"$f":"IF(F722<>\"\",事業者基本情報!$Y$10,\"\")","v":""},{"$f":"IF(F722<>\"\",事業者基本情報!$Y$7,\"\")","v":""},{"$f":"IF(F722<>\"\",事業者基本情報!$Y$8,\"\")","v":""},{"$f":"IF(F722<>\"\",事業者基本情報!$E$11&事業者基本情報!$F$11&事業者基本情報!$G$11&事業者基本情報!$H$11&事業者基本情報!$I$11,\"\")","v":""},null,null,null,"市",null,null,"-",null,"-",null,{"$f":"IFERROR(VLOOKUP(Q722,コード表!$B$3:$C$101,2,FALSE),\"\")","v":""},null,{"$f":"IFERROR(VLOOKUP(S722,コード表!$F$7:$G$141,2,FALSE),\"\")","v":""},null,null,"t",null,null,null,null,null,null,null,null,null,null,null,null,null,null,null,null,null,null,null,null,null,null,null,null,null,null,null,null,null,null,null,null,null,null,null,null,null,null,null,null,null,null,null,null,null,null,null,null,"","",{"$f":"IF(BS722=\"\",\"\",IF(COUNTIF(BS$4:BS722,BS722)=1,ROW(),\"\"))","v":""},{"$f":"IFERROR(INDEX(BS:BS,SMALL(BT:BT,ROW(A719))),\"\")","v":""},"","","",""]
[{"$f":"IF(F724<>\"\",事業者基本情報!$E$9&事業者基本情報!$F$9&事業者基本情報!$G$9,\"\")","v":""},{"$f":"IF(F724<>\"\",事業者基本情報!$Y$10,\"\")","v":""},{"$f":"IF(F724<>\"\",事業者基本情報!$Y$7,\"\")","v":""},{"$f":"IF(F724<>\"\",事業者基本情報!$Y$8,\"\")","v":""},{"$f":"IF(F724<>\"\",事業者基本情報!$E$11&事業者基本情報!$F$11&事業者基本情報!$G$11&事業者基本情報!$H$11&事業者基本情報!$I$11,\"\")","v":""},null,null,null,"市",null,null,"-",null,"-",null,{"$f":"IFERROR(VLOOKUP(Q724,コード表!$B$3:$C$101,2,FALSE),\"\")","v":""},null,{"$f":"IFERROR(VLOOKUP(S724,コード表!$F$7:$G$141,2,FALSE),\"\")","v":""},null,null,"t",null,null,null,null,null,null,null,null,null,null,null,null,null,null,null,null,null,null,null,null,null,null,null,null,null,null,null,null,null,null,null,null,null,null,null,null,null,null,null,null,null,null,null,null,null,null,null,null,"","",{"$f":"IF(BS724=\"\",\"\",IF(COUNTIF(BS$4:BS724,BS724)=1,ROW(),\"\"))","v":""},{"$f":"IFERROR(INDEX(BS:BS,SMALL(BT:BT,ROW(A721))),\"\")","v":""},"","","",""]
[{"$f":"IF(F728<>\"\",事業者基本情報!$E$9&事業者基本情報!$F$9&事業者基本情報!$G$9,\"\")","v":""},{"$f":"IF(F728<>\"\",事業者基本情報!$Y$10,\"\")","v":""},{"$f":"IF(F728<>\"\",事業者基本情報!$Y$7,\"\")","v":""},{"$f":"IF(F728<>\"\",事業者基本情報!$Y$8,\"\")","v":""},{"$f":"IF(F728<>\"\",事業者基本情報!$E$11&事業者基本情報!$F$11&事業者基本情報!$G$11&事業者基本情報!$H$11&事業者基本情報!$I$11,\"\")","v":""},null,null,null,"市",null,null,"-",null,"-",null,{"$f":"IFERROR(VLOOKUP(Q728,コード表!$B$3:$C$101,2,FALSE),\"\")","v":""},null,{"$f":"IFERROR(VLOOKUP(S728,コード表!$F$7:$G$141,2,FALSE),\"\")","v":""},null,null,"t",null,null,null,null,null,null,null,null,null,null,null,null,null,null,null,null,null,null,null,null,null,null,null,null,null,null,null,null,null,null,null,null,null,null,null,null,null,null,null,null,null,null,null,null,null,null,null,null,"","",{"$f":"IF(BS728=\"\",\"\",IF(COUNTIF(BS$4:BS728,BS728)=1,ROW(),\"\"))","v":""},{"$f":"IFERROR(INDEX(BS:BS,SMALL(BT:BT,ROW(A725))),\"\")","v":""},"","","",""]
[{"$f":"IF(F731<>\"\",事業者基本情報!$E$9&事業者基本情報!$F$9&事業者基本情報!$G$9,\"\")","v":""},{"$f":"IF(F731<>\"\",事業者基本情報!$Y$10,\"\")","v":""},{"$f":"IF(F731<>\"\",事業者基本情報!$Y$7,\"\")","v":""},{"$f":"IF(F731<>\"\",事業者基本情報!$Y$8,\"\")","v":""},{"$f":"IF(F731<>\"\",事業者基本情報!$E$11&事業者基本情報!$F$11&事業者基本情報!$G$11&事業者基本情報!$H$11&事業者基本情報!$I$11,\"\")","v":""},null,null,null,"市",null,null,"-",null,"-",null,{"$f":"IFERROR(VLOOKUP(Q731,コード表!$B$3:$C$101,2,FALSE),\"\")","v":""},null,{"$f":"IFERROR(VLOOKUP(S731,コード表!$F$7:$G$141,2,FALSE),\"\")","v":""},null,null,"t",null,null,null,null,null,null,null,null,null,null,null,null,null,null,null,null,null,null,null,null,null,null,null,null,null,null,null,null,null,null,null,null,null,null,null,null,null,null,null,null,null,null,null,null,null,null,null,null,"","",{"$f":"IF(BS731=\"\",\"\",IF(COUNTIF(BS$4:BS731,BS731)=1,ROW(),\"\"))","v":""},{"$f":"IFERROR(INDEX(BS:BS,SMALL(BT:BT,ROW(A728))),\"\")","v":""},"","","",""]
[{"$f":"IF(F733<>\"\",事業者基本情報!$E$9&事業者基本情報!$F$9&事業者基本情報!$G$9,\"\")","v":""},{"$f":"IF(F733<>\"\",事業者基本情報!$Y$10,\"\")","v":""},{"$f":"IF(F733<>\"\",事業者基本情報!$Y$7,\"\")","v":""},{"$f":"IF(F733<>\"\",事業者基本情報!$Y$8,\"\")","v":""},{"$f":"IF(F733<>\"\",事業者基本情報!$E$11&事業者基本情報!$F$11&事業者基本情報!$G$11&事業者基本情報!$H$11&事業者基本情報!$I$11,\"\")","v":""},null,null,null,"市",null,null,"-",null,"-",null,{"$f":"IFERROR(VLOOKUP(Q733,コード表!$B$3:$C$101,2,FALSE),\"\")","v":""},null,{"$f":"IFERROR(VLOOKUP(S733,コード表!$F$7:$G$141,2,FALSE),\"\")","v":""},null,null,"t",null,null,null,null,null,null,null,null,null,null,null,null,null,null,null,null,null,null,null,null,null,null,null,null,null,null,null,null,null,null,null,null,null,null,null,null,null,null,null,null,null,null,null,null,null,null,null,null,"","",{"$f":"IF(BS733=\"\",\"\",IF(COUNTIF(BS$4:BS733,BS733)=1,ROW(),\"\"))","v":""},{"$f":"IFERROR(INDEX(BS:BS,SMALL(BT:BT,ROW(A730))),\"\")","v":""},"","","",""]
[{"$f":"IF(F734<>\"\",事業者基本情報!$E$9&事業者基本情報!$F$9&事業者基本情報!$G$9,\"\")","v":""},{"$f":"IF(F734<>\"\",事業者基本情報!$Y$10,\"\")","v":""},{"$f":"IF(F734<>\"\",事業者基本情報!$Y$7,\"\")","v":""},{"$f":"IF(F734<>\"\",事業者基本情報!$Y$8,\"\")","v":""},{"$f":"IF(F734<>\"\",事業者基本情報!$E$11&事業者基本情報!$F$11&事業者基本情報!$G$11&事業者基本情報!$H$11&事業者基本情報!$I$11,\"\")","v":""},null,null,null,"市",null,null,"-",null,"-",null,{"$f":"IFERROR(VLOOKUP(Q734,コード表!$B$3:$C$101,2,FALSE),\"\")","v":""},null,{"$f":"IFERROR(VLOOKUP(S734,コード表!$F$7:$G$141,2,FALSE),\"\")","v":""},null,null,"t",null,null,null,null,null,null,null,null,null,null,null,null,null,null,null,null,null,null,null,null,null,null,null,null,null,null,null,null,null,null,null,null,null,null,null,null,null,null,null,null,null,null,null,null,null,null,null,null,"","",{"$f":"IF(BS734=\"\",\"\",IF(COUNTIF(BS$4:BS734,BS734)=1,ROW(),\"\"))","v":""},{"$f":"IFERROR(INDEX(BS:BS,SMALL(BT:BT,ROW(A731))),\"\")","v":""},"","","",""]
[{"$f":"IF(F737<>\"\",事業者基本情報!$E$9&事業者基本情報!$F$9&事業者基本情報!$G$9,\"\")","v":""},{"$f":"IF(F737<>\"\",事業者基本情報!$Y$10,\"\")","v":""},{"$f":"IF(F737<>\"\",事業者基本情報!$Y$7,\"\")","v":""},{"$f":"IF(F737<>\"\",事業者基本情報!$Y$8,\"\")","v":""},{"$f":"IF(F737<>\"\",事業者基本情報!$E$11&事業者基本情報!$F$11&事業者基本情報!$G$11&事業者基本情報!$H$11&事業者基本情報!$I$11,\"\")","v":""},null,null,null,"市",null,null,"-",null,"-",null,{"$f":"IFERROR(VLOOKUP(Q737,コード表!$B$3:$C$101,2,FALSE),\"\")","v":""},null,{"$f":"IFERROR(VLOOKUP(S737,コード表!$F$7:$G$141,2,FALSE),\"\")","v":""},null,null,"t",null,null,null,null,null,null,null,null,null,null,null,null,null,null,null,null,null,null,null,null,null,null,null,null,null,null,null,null,null,null,null,null,null,null,null,null,null,null,null,null,null,null,null,null,null,null,null,null,"","",{"$f":"IF(BS737=\"\",\"\",IF(COUNTIF(BS$4:BS737,BS737)=1,ROW(),\"\"))","v":""},{"$f":"IFERROR(INDEX(BS:BS,SMALL(BT:BT,ROW(A734))),\"\")","v":""},"","","",""]
[{"$f":"IF(F741<>\"\",事業者基本情報!$E$9&事業者基本情報!$F$9&事業者基本情報!$G$9,\"\")","v":""},{"$f":"IF(F741<>\"\",事業者基本情報!$Y$10,\"\")","v":""},{"$f":"IF(F741<>\"\",事業者基本情報!$Y$7,\"\")","v":""},{"$f":"IF(F741<>\"\",事業者基本情報!$Y$8,\"\")","v":""},{"$f":"IF(F741<>\"\",事業者基本情報!$E$11&事業者基本情報!$F$11&事業者基本情報!$G$11&事業者基本情報!$H$11&事業者基本情報!$I$11,\"\")","v":""},null,null,null,"市",null,null,"-",null,"-",null,{"$f":"IFERROR(VLOOKUP(Q741,コード表!$B$3:$C$101,2,FALSE),\"\")","v":""},null,{"$f":"IFERROR(VLOOKUP(S741,コード表!$F$7:$G$141,2,FALSE),\"\")","v":""},null,null,"t",null,null,null,null,null,null,null,null,null,null,null,null,null,null,null,null,null,null,null,null,null,null,null,null,null,null,null,null,null,null,null,null,null,null,null,null,null,null,null,null,null,null,null,null,null,null,null,null,"","",{"$f":"IF(BS741=\"\",\"\",IF(COUNTIF(BS$4:BS741,BS741)=1,ROW(),\"\"))","v":""},{"$f":"IFERROR(INDEX(BS:BS,SMALL(BT:BT,ROW(A738))),\"\")","v":""},"","","",""]
[{"$f":"IF(F744<>\"\",事業者基本情報!$E$9&事業者基本情報!$F$9&事業者基本情報!$G$9,\"\")","v":""},{"$f":"IF(F744<>\"\",事業者基本情報!$Y$10,\"\")","v":""},{"$f":"IF(F744<>\"\",事業者基本情報!$Y$7,\"\")","v":""},{"$f":"IF(F744<>\"\",事業者基本情報!$Y$8,\"\")","v":""},{"$f":"IF(F744<>\"\",事業者基本情報!$E$11&事業者基本情報!$F$11&事業者基本情報!$G$11&事業者基本情報!$H$11&事業者基本情報!$I$11,\"\")","v":""},null,null,null,"市",null,null,"-",null,"-",null,{"$f":"IFERROR(VLOOKUP(Q744,コード表!$B$3:$C$101,2,FALSE),\"\")","v":""},null,{"$f":"IFERROR(VLOOKUP(S744,コード表!$F$7:$G$141,2,FALSE),\"\")","v":""},null,null,"t",null,null,null,null,null,null,null,null,null,null,null,null,null,null,null,null,null,null,null,null,null,null,null,null,null,null,null,null,null,null,null,null,null,null,null,null,null,null,null,null,null,null,null,null,null,null,null,null,"","",{"$f":"IF(BS744=\"\",\"\",IF(COUNTIF(BS$4:BS744,BS744)=1,ROW(),\"\"))","v":""},{"$f":"IFERROR(INDEX(BS:BS,SMALL(BT:BT,ROW(A741))),\"\")","v":""},"","","",""]
[{"$f":"IF(F746<>\"\",事業者基本情報!$E$9&事業者基本情報!$F$9&事業者基本情報!$G$9,\"\")","v":""},{"$f":"IF(F746<>\"\",事業者基本情報!$Y$10,\"\")","v":""},{"$f":"IF(F746<>\"\",事業者基本情報!$Y$7,\"\")","v":""},{"$f":"IF(F746<>\"\",事業者基本情報!$Y$8,\"\")","v":""},{"$f":"IF(F746<>\"\",事業者基本情報!$E$11&事業者基本情報!$F$11&事業者基本情報!$G$11&事業者基本情報!$H$11&事業者基本情報!$I$11,\"\")","v":""},null,null,null,"市",null,null,"-",null,"-",null,{"$f":"IFERROR(VLOOKUP(Q746,コード表!$B$3:$C$101,2,FALSE),\"\")","v":""},null,{"$f":"IFERROR(VLOOKUP(S746,コード表!$F$7:$G$141,2,FALSE),\"\")","v":""},null,null,"t",null,null,null,null,null,null,null,null,null,null,null,null,null,null,null,null,null,null,null,null,null,null,null,null,null,null,null,null,null,null,null,null,null,null,null,null,null,null,null,null,null,null,null,null,null,null,null,null,"","",{"$f":"IF(BS746=\"\",\"\",IF(COUNTIF(BS$4:BS746,BS746)=1,ROW(),\"\"))","v":""},{"$f":"IFERROR(INDEX(BS:BS,SMALL(BT:BT,ROW(A743))),\"\")","v":""},"","","",""]
[{"$f":"IF(F750<>\"\",事業者基本情報!$E$9&事業者基本情報!$F$9&事業者基本情報!$G$9,\"\")","v":""},{"$f":"IF(F750<>\"\",事業者基本情報!$Y$10,\"\")","v":""},{"$f":"IF(F750<>\"\",事業者基本情報!$Y$7,\"\")","v":""},{"$f":"IF(F750<>\"\",事業者基本情報!$Y$8,\"\")","v":""},{"$f":"IF(F750<>\"\",事業者基本情報!$E$11&事業者基本情報!$F$11&事業者基本情報!$G$11&事業者基本情報!$H$11&事業者基本情報!$I$11,\"\")","v":""},null,null,null,"市",null,null,"-",null,"-",null,{"$f":"IFERROR(VLOOKUP(Q750,コード表!$B$3:$C$101,2,FALSE),\"\")","v":""},null,{"$f":"IFERROR(VLOOKUP(S750,コード表!$F$7:$G$141,2,FALSE),\"\")","v":""},null,null,"t",null,null,null,null,null,null,null,null,null,null,null,null,null,null,null,null,null,null,null,null,null,null,null,null,null,null,null,null,null,null,null,null,null,null,null,null,null,null,null,null,null,null,null,null,null,null,null,null,"","",{"$f":"IF(BS750=\"\",\"\",IF(COUNTIF(BS$4:BS750,BS750)=1,ROW(),\"\"))","v":""},{"$f":"IFERROR(INDEX(BS:BS,SMALL(BT:BT,ROW(A747))),\"\")","v":""},"","","",""]
[{"$f":"IF(F753<>\"\",事業者基本情報!$E$9&事業者基本情報!$F$9&事業者基本情報!$G$9,\"\")","v":""},{"$f":"IF(F753<>\"\",事業者基本情報!$Y$10,\"\")","v":""},{"$f":"IF(F753<>\"\",事業者基本情報!$Y$7,\"\")","v":""},{"$f":"IF(F753<>\"\",事業者基本情報!$Y$8,\"\")","v":""},{"$f":"IF(F753<>\"\",事業者基本情報!$E$11&事業者基本情報!$F$11&事業者基本情報!$G$11&事業者基本情報!$H$11&事業者基本情報!$I$11,\"\")","v":""},null,null,null,"市",null,null,"-",null,"-",null,{"$f":"IFERROR(VLOOKUP(Q753,コード表!$B$3:$C$101,2,FALSE),\"\")","v":""},null,{"$f":"IFERROR(VLOOKUP(S753,コード表!$F$7:$G$141,2,FALSE),\"\")","v":""},null,null,"t",null,null,null,null,null,null,null,null,null,null,null,null,null,null,null,null,null,null,null,null,null,null,null,null,null,null,null,null,null,null,null,null,null,null,null,null,null,null,null,null,null,null,null,null,null,null,null,null,"","",{"$f":"IF(BS753=\"\",\"\",IF(COUNTIF(BS$4:BS753,BS753)=1,ROW(),\"\"))","v":""},{"$f":"IFERROR(INDEX(BS:BS,SMALL(BT:BT,ROW(A750))),\"\")","v":""},"","","",""]
[{"$f":"IF(F755<>\"\",事業者基本情報!$E$9&事業者基本情報!$F$9&事業者基本情報!$G$9,\"\")","v":""},{"$f":"IF(F755<>\"\",事業者基本情報!$Y$10,\"\")","v":""},{"$f":"IF(F755<>\"\",事業者基本情報!$Y$7,\"\")","v":""},{"$f":"IF(F755<>\"\",事業者基本情報!$Y$8,\"\")","v":""},{"$f":"IF(F755<>\"\",事業者基本情報!$E$11&事業者基本情報!$F$11&事業者基本情報!$G$11&事業者基本情報!$H$11&事業者基本情報!$I$11,\"\")","v":""},null,null,null,"市",null,null,"-",null,"-",null,{"$f":"IFERROR(VLOOKUP(Q755,コード表!$B$3:$C$101,2,FALSE),\"\")","v":""},null,{"$f":"IFERROR(VLOOKUP(S755,コード表!$F$7:$G$141,2,FALSE),\"\")","v":""},null,null,"t",null,null,null,null,null,null,null,null,null,null,null,null,null,null,null,null,null,null,null,null,null,null,null,null,null,null,null,null,null,null,null,null,null,null,null,null,null,null,null,null,null,null,null,null,null,null,null,null,"","",{"$f":"IF(BS755=\"\",\"\",IF(COUNTIF(BS$4:BS755,BS755)=1,ROW(),\"\"))","v":""},{"$f":"IFERROR(INDEX(BS:BS,SMALL(BT:BT,ROW(A752))),\"\")","v":""},"","","",""]
[{"$f":"IF(F756<>\"\",事業者基本情報!$E$9&事業者基本情報!$F$9&事業者基本情報!$G$9,\"\")","v":""},{"$f":"IF(F756<>\"\",事業者基本情報!$Y$10,\"\")","v":""},{"$f":"IF(F756<>\"\",事業者基本情報!$Y$7,\"\")","v":""},{"$f":"IF(F756<>\"\",事業者基本情報!$Y$8,\"\")","v":""},{"$f":"IF(F756<>\"\",事業者基本情報!$E$11&事業者基本情報!$F$11&事業者基本情報!$G$11&事業者基本情報!$H$11&事業者基本情報!$I$11,\"\")","v":""},null,null,null,"市",null,null,"-",null,"-",null,{"$f":"IFERROR(VLOOKUP(Q756,コード表!$B$3:$C$101,2,FALSE),\"\")","v":""},null,{"$f":"IFERROR(VLOOKUP(S756,コード表!$F$7:$G$141,2,FALSE),\"\")","v":""},null,null,"t",null,null,null,null,null,null,null,null,null,null,null,null,null,null,null,null,null,null,null,null,null,null,null,null,null,null,null,null,null,null,null,null,null,null,null,null,null,null,null,null,null,null,null,null,null,null,null,null,"","",{"$f":"IF(BS756=\"\",\"\",IF(COUNTIF(BS$4:BS756,BS756)=1,ROW(),\"\"))","v":""},{"$f":"IFERROR(INDEX(BS:BS,SMALL(BT:BT,ROW(A753))),\"\")","v":""},"","","",""]
[{"$f":"IF(F759<>\"\",事業者基本情報!$E$9&事業者基本情報!$F$9&事業者基本情報!$G$9,\"\")","v":""},{"$f":"IF(F759<>\"\",事業者基本情報!$Y$10,\"\")","v":""},{"$f":"IF(F759<>\"\",事業者基本情報!$Y$7,\"\")","v":""},{"$f":"IF(F759<>\"\",事業者基本情報!$Y$8,\"\")","v":""},{"$f":"IF(F759<>\"\",事業者基本情報!$E$11&事業者基本情報!$F$11&事業者基本情報!$G$11&事業者基本情報!$H$11&事業者基本情報!$I$11,\"\")","v":""},null,null,null,"市",null,null,"-",null,"-",null,{"$f":"IFERROR(VLOOKUP(Q759,コード表!$B$3:$C$101,2,FALSE),\"\")","v":""},null,{"$f":"IFERROR(VLOOKUP(S759,コード表!$F$7:$G$141,2,FALSE),\"\")","v":""},null,null,"t",null,null,null,null,null,null,null,null,null,null,null,null,null,null,null,null,null,null,null,null,null,null,null,null,null,null,null,null,null,null,null,null,null,null,null,null,null,null,null,null,null,null,null,null,null,null,null,null,"","",{"$f":"IF(BS759=\"\",\"\",IF(COUNTIF(BS$4:BS759,BS759)=1,ROW(),\"\"))","v":""},{"$f":"IFERROR(INDEX(BS:BS,SMALL(BT:BT,ROW(A756))),\"\")","v":""},"","","",""]
[{"$f":"IF(F763<>\"\",事業者基本情報!$E$9&事業者基本情報!$F$9&事業者基本情報!$G$9,\"\")","v":""},{"$f":"IF(F763<>\"\",事業者基本情報!$Y$10,\"\")","v":""},{"$f":"IF(F763<>\"\",事業者基本情報!$Y$7,\"\")","v":""},{"$f":"IF(F763<>\"\",事業者基本情報!$Y$8,\"\")","v":""},{"$f":"IF(F763<>\"\",事業者基本情報!$E$11&事業者基本情報!$F$11&事業者基本情報!$G$11&事業者基本情報!$H$11&事業者基本情報!$I$11,\"\")","v":""},null,null,null,"市",null,null,"-",null,"-",null,{"$f":"IFERROR(VLOOKUP(Q763,コード表!$B$3:$C$101,2,FALSE),\"\")","v":""},null,{"$f":"IFERROR(VLOOKUP(S763,コード表!$F$7:$G$141,2,FALSE),\"\")","v":""},null,null,"t",null,null,null,null,null,null,null,null,null,null,null,null,null,null,null,null,null,null,null,null,null,null,null,null,null,null,null,null,null,null,null,null,null,null,null,null,null,null,null,null,null,null,null,null,null,null,null,null,"","",{"$f":"IF(BS763=\"\",\"\",IF(COUNTIF(BS$4:BS763,BS763)=1,ROW(),\"\"))","v":""},{"$f":"IFERROR(INDEX(BS:BS,SMALL(BT:BT,ROW(A760))),\"\")","v":""},"","","",""]
[{"$f":"IF(F766<>\"\",事業者基本情報!$E$9&事業者基本情報!$F$9&事業者基本情報!$G$9,\"\")","v":""},{"$f":"IF(F766<>\"\",事業者基本情報!$Y$10,\"\")","v":""},{"$f":"IF(F766<>\"\",事業者基本情報!$Y$7,\"\")","v":""},{"$f":"IF(F766<>\"\",事業者基本情報!$Y$8,\"\")","v":""},{"$f":"IF(F766<>\"\",事業者基本情報!$E$11&事業者基本情報!$F$11&事業者基本情報!$G$11&事業者基本情報!$H$11&事業者基本情報!$I$11,\"\")","v":""},null,null,null,"市",null,null,"-",null,"-",null,{"$f":"IFERROR(VLOOKUP(Q766,コード表!$B$3:$C$101,2,FALSE),\"\")","v":""},null,{"$f":"IFERROR(VLOOKUP(S766,コード表!$F$7:$G$141,2,FALSE),\"\")","v":""},null,null,"t",null,null,null,null,null,null,null,null,null,null,null,null,null,null,null,null,null,null,null,null,null,null,null,null,null,null,null,null,null,null,null,null,null,null,null,null,null,null,null,null,null,null,null,null,null,null,null,null,"","",{"$f":"IF(BS766=\"\",\"\",IF(COUNTIF(BS$4:BS766,BS766)=1,ROW(),\"\"))","v":""},{"$f":"IFERROR(INDEX(BS:BS,SMALL(BT:BT,ROW(A763))),\"\")","v":""},"","","",""]
[{"$f":"IF(F769<>\"\",事業者基本情報!$E$9&事業者基本情報!$F$9&事業者基本情報!$G$9,\"\")","v":""},{"$f":"IF(F769<>\"\",事業者基本情報!$Y$10,\"\")","v":""},{"$f":"IF(F769<>\"\",事業者基本情報!$Y$7,\"\")","v":""},{"$f":"IF(F769<>\"\",事業者基本情報!$Y$8,\"\")","v":""},{"$f":"IF(F769<>\"\",事業者基本情報!$E$11&事業者基本情報!$F$11&事業者基本情報!$G$11&事業者基本情報!$H$11&事業者基本情報!$I$11,\"\")","v":""},null,null,null,"市",null,null,"-",null,"-",null,{"$f":"IFERROR(VLOOKUP(Q769,コード表!$B$3:$C$101,2,FALSE),\"\")","v":""},null,{"$f":"IFERROR(VLOOKUP(S769,コード表!$F$7:$G$141,2,FALSE),\"\")","v":""},null,null,"t",null,null,null,null,null,null,null,null,null,null,null,null,null,null,null,null,null,null,null,null,null,null,null,null,null,null,null,null,null,null,null,null,null,null,null,null,null,null,null,null,null,null,null,null,null,null,null,null,"","",{"$f":"IF(BS769=\"\",\"\",IF(COUNTIF(BS$4:BS769,BS769)=1,ROW(),\"\"))","v":""},{"$f":"IFERROR(INDEX(BS:BS,SMALL(BT:BT,ROW(A766))),\"\")","v":""},"","","",""]
[{"$f":"IF(F772<>\"\",事業者基本情報!$E$9&事業者基本情報!$F$9&事業者基本情報!$G$9,\"\")","v":""},{"$f":"IF(F772<>\"\",事業者基本情報!$Y$10,\"\")","v":""},{"$f":"IF(F772<>\"\",事業者基本情報!$Y$7,\"\")","v":""},{"$f":"IF(F772<>\"\",事業者基本情報!$Y$8,\"\")","v":""},{"$f":"IF(F772<>\"\",事業者基本情報!$E$11&事業者基本情報!$F$11&事業者基本情報!$G$11&事業者基本情報!$H$11&事業者基本情報!$I$11,\"\")","v":""},null,null,null,"市",null,null,"-",null,"-",null,{"$f":"IFERROR(VLOOKUP(Q772,コード表!$B$3:$C$101,2,FALSE),\"\")","v":""},null,{"$f":"IFERROR(VLOOKUP(S772,コード表!$F$7:$G$141,2,FALSE),\"\")","v":""},null,null,"t",null,null,null,null,null,null,null,null,null,null,null,null,null,null,null,null,null,null,null,null,null,null,null,null,null,null,null,null,null,null,null,null,null,null,null,null,null,null,null,null,null,null,null,null,null,null,null,null,{"$f":"IFERROR(IF(TRIM(F772)=\"\",\"\",IF(AND(VALUE(TRIM(R772))>=100000,VALUE(TRIM(R772))<7000000),\"普通産廃\",IF(AND(VALUE(TRIM(R772))>=7000000,VALUE(TRIM(R772))<9000000),\"特別産廃\",\"\"))),\"\")","v":""},{"$f":"IF(BR772<>\"\",TRIM(F772)&\"(\"&BR772&\")\",\"\")","v":""},{"$f":"IF(BS772=\"\",\"\",IF(COUNTIF(BS$4:BS772,BS772)=1,ROW(),\"\"))","v":""},{"$f":"IFERROR(INDEX(BS:BS,SMALL(BT:BT,ROW(A769))),\"\")","v":""},{"$f":"IF(BU772=\"\",\"\",IF(SUMIF(BS:BS,BU772,T:T)=0,\"\",SUMIF(BS:BS,BU772,T:T)))","v":""},{"$f":"IF(AS772<>\"\",AS772,IF(AO772<>\"\",AO772,IF(AK772<>\"\",AK772,IF(AG772<>\"\",AG772,IF(Y772<>\"\",Y772,\"\")))))","v":""},"",{"$f":"IF(F772&G772&H772&J772&K772&M772&O772&Q772&S772&T772&V772&W772&X772&Y772&Z772&AA772&AB772&AC772&AD772&AE772&AF772&AG772&AH772&AI772&AJ772&AK772&AL772&AM772&AN772&AO772&AP772&AQ772&AR772&AS772&AT772=\"\",\"\",1)","v":""}]
[{"$f":"IF(F775<>\"\",事業者基本情報!$E$9&事業者基本情報!$F$9&事業者基本情報!$G$9,\"\")","v":""},{"$f":"IF(F775<>\"\",事業者基本情報!$Y$10,\"\")","v":""},{"$f":"IF(F775<>\"\",事業者基本情報!$Y$7,\"\")","v":""},{"$f":"IF(F775<>\"\",事業者基本情報!$Y$8,\"\")","v":""},{"$f":"IF(F775<>\"\",事業者基本情報!$E$11&事業者基本情報!$F$11&事業者基本情報!$G$11&事業者基本情報!$H$11&事業者基本情報!$I$11,\"\")","v":""},null,null,null,"市",null,null,"-",null,"-",null,{"$f":"IFERROR(VLOOKUP(Q775,コード表!$B$3:$C$101,2,FALSE),\"\")","v":""},null,{"$f":"IFERROR(VLOOKUP(S775,コード表!$F$7:$G$141,2,FALSE),\"\")","v":""},null,null,"t",null,null,null,null,null,null,null,null,null,null,null,null,null,null,null,null,null,null,null,null,null,null,null,null,null,null,null,null,null,null,null,null,null,null,null,null,null,null,null,null,null,null,null,null,null,null,null,null,"","",{"$f":"IF(BS775=\"\",\"\",IF(COUNTIF(BS$4:BS775,BS775)=1,ROW(),\"\"))","v":""},{"$f":"IFERROR(INDEX(BS:BS,SMALL(BT:BT,ROW(A772))),\"\")","v":""},"","","",""]
[{"$f":"IF(F777<>\"\",事業者基本情報!$E$9&事業者基本情報!$F$9&事業者基本情報!$G$9,\"\")","v":""},{"$f":"IF(F777<>\"\",事業者基本情報!$Y$10,\"\")","v":""},{"$f":"IF(F777<>\"\",事業者基本情報!$Y$7,\"\")","v":""},{"$f":"IF(F777<>\"\",事業者基本情報!$Y$8,\"\")","v":""},{"$f":"IF(F777<>\"\",事業者基本情報!$E$11&事業者基本情報!$F$11&事業者基本情報!$G$11&事業者基本情報!$H$11&事業者基本情報!$I$11,\"\")","v":""},null,null,null,"市",null,null,"-",null,"-",null,{"$f":"IFERROR(VLOOKUP(Q777,コード表!$B$3:$C$101,2,FALSE),\"\")","v":""},null,{"$f":"IFERROR(VLOOKUP(S777,コード表!$F$7:$G$141,2,FALSE),\"\")","v":""},null,null,"t",null,null,null,null,null,null,null,null,null,null,null,null,null,null,null,null,null,null,null,null,null,null,null,null,null,null,null,null,null,null,null,null,null,null,null,null,null,null,null,null,null,null,null,null,null,null,null,null,"","",{"$f":"IF(BS777=\"\",\"\",IF(COUNTIF(BS$4:BS777,BS777)=1,ROW(),\"\"))","v":""},{"$f":"IFERROR(INDEX(BS:BS,SMALL(BT:BT,ROW(A774))),\"\")","v":""},"","","",""]
[{"$f":"IF(F778<>\"\",事業者基本情報!$E$9&事業者基本情報!$F$9&事業者基本情報!$G$9,\"\")","v":""},{"$f":"IF(F778<>\"\",事業者基本情報!$Y$10,\"\")","v":""},{"$f":"IF(F778<>\"\",事業者基本情報!$Y$7,\"\")","v":""},{"$f":"IF(F778<>\"\",事業者基本情報!$Y$8,\"\")","v":""},{"$f":"IF(F778<>\"\",事業者基本情報!$E$11&事業者基本情報!$F$11&事業者基本情報!$G$11&事業者基本情報!$H$11&事業者基本情報!$I$11,\"\")","v":""},null,null,null,"市",null,null,"-",null,"-",null,{"$f":"IFERROR(VLOOKUP(Q778,コード表!$B$3:$C$101,2,FALSE),\"\")","v":""},null,{"$f":"IFERROR(VLOOKUP(S778,コード表!$F$7:$G$141,2,FALSE),\"\")","v":""},null,null,"t",null,null,null,null,null,null,null,null,null,null,null,null,null,null,null,null,null,null,null,null,null,null,null,null,null,null,null,null,null,null,null,null,null,null,null,null,null,null,null,null,null,null,null,null,null,null,null,null,"","",{"$f":"IF(BS778=\"\",\"\",IF(COUNTIF(BS$4:BS778,BS778)=1,ROW(),\"\"))","v":""},{"$f":"IFERROR(INDEX(BS:BS,SMALL(BT:BT,ROW(A775))),\"\")","v":""},"","","",""]
[{"$f":"IF(F781<>\"\",事業者基本情報!$E$9&事業者基本情報!$F$9&事業者基本情報!$G$9,\"\")","v":""},{"$f":"IF(F781<>\"\",事業者基本情報!$Y$10,\"\")","v":""},{"$f":"IF(F781<>\"\",事業者基本情報!$Y$7,\"\")","v":""},{"$f":"IF(F781<>\"\",事業者基本情報!$Y$8,\"\")","v":""},{"$f":"IF(F781<>\"\",事業者基本情報!$E$11&事業者基本情報!$F$11&事業者基本情報!$G$11&事業者基本情報!$H$11&事業者基本情報!$I$11,\"\")","v":""},null,null,null,"市",null,null,"-",null,"-",null,{"$f":"IFERROR(VLOOKUP(Q781,コード表!$B$3:$C$101,2,FALSE),\"\")","v":""},null,{"$f":"IFERROR(VLOOKUP(S781,コード表!$F$7:$G$141,2,FALSE),\"\")","v":""},null,null,"t",null,null,null,null,null,null,null,null,null,null,null,null,null,null,null,null,null,null,null,null,null,null,null,null,null,null,null,null,null,null,null,null,null,null,null,null,null,null,null,null,null,null,null,null,null,null,null,null,"","",{"$f":"IF(BS781=\"\",\"\",IF(COUNTIF(BS$4:BS781,BS781)=1,ROW(),\"\"))","v":""},{"$f":"IFERROR(INDEX(BS:BS,SMALL(BT:BT,ROW(A778))),\"\")","v":""},"","","",""]
[{"$f":"IF(F785<>\"\",事業者基本情報!$E$9&事業者基本情報!$F$9&事業者基本情報!$G$9,\"\")","v":""},{"$f":"IF(F785<>\"\",事業者基本情報!$Y$10,\"\")","v":""},{"$f":"IF(F785<>\"\",事業者基本情報!$Y$7,\"\")","v":""},{"$f":"IF(F785<>\"\",事業者基本情報!$Y$8,\"\")","v":""},{"$f":"IF(F785<>\"\",事業者基本情報!$E$11&事業者基本情報!$F$11&事業者基本情報!$G$11&事業者基本情報!$H$11&事業者基本情報!$I$11,\"\")","v":""},null,null,null,"市",null,null,"-",null,"-",null,{"$f":"IFERROR(VLOOKUP(Q785,コード表!$B$3:$C$101,2,FALSE),\"\")","v":""},null,{"$f":"IFERROR(VLOOKUP(S785,コード表!$F$7:$G$141,2,FALSE),\"\")","v":""},null,null,"t",null,null,null,null,null,null,null,null,null,null,null,null,null,null,null,null,null,null,null,null,null,null,null,null,null,null,null,null,null,null,null,null,null,null,null,null,null,null,null,null,null,null,null,null,null,null,null,null,"","",{"$f":"IF(BS785=\"\",\"\",IF(COUNTIF(BS$4:BS785,BS785)=1,ROW(),\"\"))","v":""},{"$f":"IFERROR(INDEX(BS:BS,SMALL(BT:BT,ROW(A782))),\"\")","v":""},"","","",""]
[{"$f":"IF(F788<>\"\",事業者基本情報!$E$9&事業者基本情報!$F$9&事業者基本情報!$G$9,\"\")","v":""},{"$f":"IF(F788<>\"\",事業者基本情報!$Y$10,\"\")","v":""},{"$f":"IF(F788<>\"\",事業者基本情報!$Y$7,\"\")","v":""},{"$f":"IF(F788<>\"\",事業者基本情報!$Y$8,\"\")","v":""},{"$f":"IF(F788<>\"\",事業者基本情報!$E$11&事業者基本情報!$F$11&事業者基本情報!$G$11&事業者基本情報!$H$11&事業者基本情報!$I$11,\"\")","v":""},null,null,null,"市",null,null,"-",null,"-",null,{"$f":"IFERROR(VLOOKUP(Q788,コード表!$B$3:$C$101,2,FALSE),\"\")","v":""},null,{"$f":"IFERROR(VLOOKUP(S788,コード表!$F$7:$G$141,2,FALSE),\"\")","v":""},null,null,"t",null,null,null,null,null,null,null,null,null,null,null,null,null,null,null,null,null,null,null,null,null,null,null,null,null,null,null,null,null,null,null,null,null,null,null,null,null,null,null,null,null,null,null,null,null,null,null,null,"","",{"$f":"IF(BS788=\"\",\"\",IF(COUNTIF(BS$4:BS788,BS788)=1,ROW(),\"\"))","v":""},{"$f":"IFERROR(INDEX(BS:BS,SMALL(BT:BT,ROW(A785))),\"\")","v":""},"","","",""]
[{"$f":"IF(F791<>\"\",事業者基本情報!$E$9&事業者基本情報!$F$9&事業者基本情報!$G$9,\"\")","v":""},{"$f":"IF(F791<>\"\",事業者基本情報!$Y$10,\"\")","v":""},{"$f":"IF(F791<>\"\",事業者基本情報!$Y$7,\"\")","v":""},{"$f":"IF(F791<>\"\",事業者基本情報!$Y$8,\"\")","v":""},{"$f":"IF(F791<>\"\",事業者基本情報!$E$11&事業者基本情報!$F$11&事業者基本情報!$G$11&事業者基本情報!$H$11&事業者基本情報!$I$11,\"\")","v":""},null,null,null,"市",null,null,"-",null,"-",null,{"$f":"IFERROR(VLOOKUP(Q791,コード表!$B$3:$C$101,2,FALSE),\"\")","v":""},null,{"$f":"IFERROR(VLOOKUP(S791,コード表!$F$7:$G$141,2,FALSE),\"\")","v":""},null,null,"t",null,null,null,null,null,null,null,null,null,null,null,null,null,null,null,null,null,null,null,null,null,null,null,null,null,null,null,null,null,null,null,null,null,null,null,null,null,null,null,null,null,null,null,null,null,null,null,null,"","",{"$f":"IF(BS791=\"\",\"\",IF(COUNTIF(BS$4:BS791,BS791)=1,ROW(),\"\"))","v":""},{"$f":"IFERROR(INDEX(BS:BS,SMALL(BT:BT,ROW(A788))),\"\")","v":""},"","","",""]
[{"$f":"IF(F794<>\"\",事業者基本情報!$E$9&事業者基本情報!$F$9&事業者基本情報!$G$9,\"\")","v":""},{"$f":"IF(F794<>\"\",事業者基本情報!$Y$10,\"\")","v":""},{"$f":"IF(F794<>\"\",事業者基本情報!$Y$7,\"\")","v":""},{"$f":"IF(F794<>\"\",事業者基本情報!$Y$8,\"\")","v":""},{"$f":"IF(F794<>\"\",事業者基本情報!$E$11&事業者基本情報!$F$11&事業者基本情報!$G$11&事業者基本情報!$H$11&事業者基本情報!$I$11,\"\")","v":""},null,null,null,"市",null,null,"-",null,"-",null,{"$f":"IFERROR(VLOOKUP(Q794,コード表!$B$3:$C$101,2,FALSE),\"\")","v":""},null,{"$f":"IFERROR(VLOOKUP(S794,コード表!$F$7:$G$141,2,FALSE),\"\")","v":""},null,null,"t",null,null,null,null,null,null,null,null,null,null,null,null,null,null,null,null,null,null,null,null,null,null,null,null,null,null,null,null,null,null,null,null,null,null,null,null,null,null,null,null,null,null,null,null,null,null,null,null,"","",{"$f":"IF(BS794=\"\",\"\",IF(COUNTIF(BS$4:BS794,BS794)=1,ROW(),\"\"))","v":""},{"$f":"IFERROR(INDEX(BS:BS,SMALL(BT:BT,ROW(A791))),\"\")","v":""},"","","",""]
[{"$f":"IF(F797<>\"\",事業者基本情報!$E$9&事業者基本情報!$F$9&事業者基本情報!$G$9,\"\")","v":""},{"$f":"IF(F797<>\"\",事業者基本情報!$Y$10,\"\")","v":""},{"$f":"IF(F797<>\"\",事業者基本情報!$Y$7,\"\")","v":""},{"$f":"IF(F797<>\"\",事業者基本情報!$Y$8,\"\")","v":""},{"$f":"IF(F797<>\"\",事業者基本情報!$E$11&事業者基本情報!$F$11&事業者基本情報!$G$11&事業者基本情報!$H$11&事業者基本情報!$I$11,\"\")","v":""},null,null,null,"市",null,null,"-",null,"-",null,{"$f":"IFERROR(VLOOKUP(Q797,コード表!$B$3:$C$101,2,FALSE),\"\")","v":""},null,{"$f":"IFERROR(VLOOKUP(S797,コード表!$F$7:$G$141,2,FALSE),\"\")","v":""},null,null,"t",null,null,null,null,null,null,null,null,null,null,null,null,null,null,null,null,null,null,null,null,null,null,null,null,null,null,null,null,null,null,null,null,null,null,null,null,null,null,null,null,null,null,null,null,null,null,null,null,"","",{"$f":"IF(BS797=\"\",\"\",IF(COUNTIF(BS$4:BS797,BS797)=1,ROW(),\"\"))","v":""},{"$f":"IFERROR(INDEX(BS:BS,SMALL(BT:BT,ROW(A794))),\"\")","v":""},"","","",""]
[{"$f":"IF(F799<>\"\",事業者基本情報!$E$9&事業者基本情報!$F$9&事業者基本情報!$G$9,\"\")","v":""},{"$f":"IF(F799<>\"\",事業者基本情報!$Y$10,\"\")","v":""},{"$f":"IF(F799<>\"\",事業者基本情報!$Y$7,\"\")","v":""},{"$f":"IF(F799<>\"\",事業者基本情報!$Y$8,\"\")","v":""},{"$f":"IF(F799<>\"\",事業者基本情報!$E$11&事業者基本情報!$F$11&事業者基本情報!$G$11&事業者基本情報!$H$11&事業者基本情報!$I$11,\"\")","v":""},null,null,null,"市",null,null,"-",null,"-",null,{"$f":"IFERROR(VLOOKUP(Q799,コード表!$B$3:$C$101,2,FALSE),\"\")","v":""},null,{"$f":"IFERROR(VLOOKUP(S799,コード表!$F$7:$G$141,2,FALSE),\"\")","v":""},null,null,"t",null,null,null,null,null,null,null,null,null,null,null,null,null,null,null,null,null,null,null,null,null,null,null,null,null,null,null,null,null,null,null,null,null,null,null,null,null,null,null,null,null,null,null,null,null,null,null,null,"","",{"$f":"IF(BS799=\"\",\"\",IF(COUNTIF(BS$4:BS799,BS799)=1,ROW(),\"\"))","v":""},{"$f":"IFERROR(INDEX(BS:BS,SMALL(BT:BT,ROW(A796))),\"\")","v":""},"","","",""]
[{"$f":"IF(F800<>\"\",事業者基本情報!$E$9&事業者基本情報!$F$9&事業者基本情報!$G$9,\"\")","v":""},{"$f":"IF(F800<>\"\",事業者基本情報!$Y$10,\"\")","v":""},{"$f":"IF(F800<>\"\",事業者基本情報!$Y$7,\"\")","v":""},{"$f":"IF(F800<>\"\",事業者基本情報!$Y$8,\"\")","v":""},{"$f":"IF(F800<>\"\",事業者基本情報!$E$11&事業者基本情報!$F$11&事業者基本情報!$G$11&事業者基本情報!$H$11&事業者基本情報!$I$11,\"\")","v":""},null,null,null,"市",null,null,"-",null,"-",null,{"$f":"IFERROR(VLOOKUP(Q800,コード表!$B$3:$C$101,2,FALSE),\"\")","v":""},null,{"$f":"IFERROR(VLOOKUP(S800,コード表!$F$7:$G$141,2,FALSE),\"\")","v":""},null,null,"t",null,null,null,null,null,null,null,null,null,null,null,null,null,null,null,null,null,null,null,null,null,null,null,null,null,null,null,null,null,null,null,null,null,null,null,null,null,null,null,null,null,null,null,null,null,null,null,null,"","",{"$f":"IF(BS800=\"\",\"\",IF(COUNTIF(BS$4:BS800,BS800)=1,ROW(),\"\"))","v":""},{"$f":"IFERROR(INDEX(BS:BS,SMALL(BT:BT,ROW(A797))),\"\")","v":""},"","","",""]
[{"$f":"IF(F804<>\"\",事業者基本情報!$E$9&事業者基本情報!$F$9&事業者基本情報!$G$9,\"\")","v":""},{"$f":"IF(F804<>\"\",事業者基本情報!$Y$10,\"\")","v":""},{"$f":"IF(F804<>\"\",事業者基本情報!$Y$7,\"\")","v":""},{"$f":"IF(F804<>\"\",事業者基本情報!$Y$8,\"\")","v":""},{"$f":"IF(F804<>\"\",事業者基本情報!$E$11&事業者基本情報!$F$11&事業者基本情報!$G$11&事業者基本情報!$H$11&事業者基本情報!$I$11,\"\")","v":""},null,null,null,"市",null,null,"-",null,"-",null,{"$f":"IFERROR(VLOOKUP(Q804,コード表!$B$3:$C$101,2,FALSE),\"\")","v":""},null,{"$f":"IFERROR(VLOOKUP(S804,コード表!$F$7:$G$141,2,FALSE),\"\")","v":""},null,null,"t",null,null,null,null,null,null,null,null,null,null,null,null,null,null,null,null,null,null,null,null,null,null,null,null,null,null,null,null,null,null,null,null,null,null,null,null,null,null,null,null,null,null,null,null,null,null,null,null,"","",{"$f":"IF(BS804=\"\",\"\",IF(COUNTIF(BS$4:BS804,BS804)=1,ROW(),\"\"))","v":""},{"$f":"IFERROR(INDEX(BS:BS,SMALL(BT:BT,ROW(A801))),\"\")","v":""},"","","",""]
[{"$f":"IF(F807<>\"\",事業者基本情報!$E$9&事業者基本情報!$F$9&事業者基本情報!$G$9,\"\")","v":""},{"$f":"IF(F807<>\"\",事業者基本情報!$Y$10,\"\")","v":""},{"$f":"IF(F807<>\"\",事業者基本情報!$Y$7,\"\")","v":""},{"$f":"IF(F807<>\"\",事業者基本情報!$Y$8,\"\")","v":""},{"$f":"IF(F807<>\"\",事業者基本情報!$E$11&事業者基本情報!$F$11&事業者基本情報!$G$11&事業者基本情報!$H$11&事業者基本情報!$I$11,\"\")","v":""},null,null,null,"市",null,null,"-",null,"-",null,{"$f":"IFERROR(VLOOKUP(Q807,コード表!$B$3:$C$101,2,FALSE),\"\")","v":""},null,{"$f":"IFERROR(VLOOKUP(S807,コード表!$F$7:$G$141,2,FALSE),\"\")","v":""},null,null,"t",null,null,null,null,null,null,null,null,null,null,null,null,null,null,null,null,null,null,null,null,null,null,null,null,null,null,null,null,null,null,null,null,null,null,null,null,null,null,null,null,null,null,null,null,null,null,null,null,"","",{"$f":"IF(BS807=\"\",\"\",IF(COUNTIF(BS$4:BS807,BS807)=1,ROW(),\"\"))","v":""},{"$f":"IFERROR(INDEX(BS:BS,SMALL(BT:BT,ROW(A804))),\"\")","v":""},"","","",""]
[{"$f":"IF(F810<>\"\",事業者基本情報!$E$9&事業者基本情報!$F$9&事業者基本情報!$G$9,\"\")","v":""},{"$f":"IF(F810<>\"\",事業者基本情報!$Y$10,\"\")","v":""},{"$f":"IF(F810<>\"\",事業者基本情報!$Y$7,\"\")","v":""},{"$f":"IF(F810<>\"\",事業者基本情報!$Y$8,\"\")","v":""},{"$f":"IF(F810<>\"\",事業者基本情報!$E$11&事業者基本情報!$F$11&事業者基本情報!$G$11&事業者基本情報!$H$11&事業者基本情報!$I$11,\"\")","v":""},null,null,null,"市",null,null,"-",null,"-",null,{"$f":"IFERROR(VLOOKUP(Q810,コード表!$B$3:$C$101,2,FALSE),\"\")","v":""},null,{"$f":"IFERROR(VLOOKUP(S810,コード表!$F$7:$G$141,2,FALSE),\"\")","v":""},null,null,"t",null,null,null,null,null,null,null,null,null,null,null,null,null,null,null,null,null,null,null,null,null,null,null,null,null,null,null,null,null,null,null,null,null,null,null,null,null,null,null,null,null,null,null,null,null,null,null,null,"","",{"$f":"IF(BS810=\"\",\"\",IF(COUNTIF(BS$4:BS810,BS810)=1,ROW(),\"\"))","v":""},{"$f":"IFERROR(INDEX(BS:BS,SMALL(BT:BT,ROW(A807))),\"\")","v":""},"","","",""]
[{"$f":"IF(F813<>\"\",事業者基本情報!$E$9&事業者基本情報!$F$9&事業者基本情報!$G$9,\"\")","v":""},{"$f":"IF(F813<>\"\",事業者基本情報!$Y$10,\"\")","v":""},{"$f":"IF(F813<>\"\",事業者基本情報!$Y$7,\"\")","v":""},{"$f":"IF(F813<>\"\",事業者基本情報!$Y$8,\"\")","v":""},{"$f":"IF(F813<>\"\",事業者基本情報!$E$11&事業者基本情報!$F$11&事業者基本情報!$G$11&事業者基本情報!$H$11&事業者基本情報!$I$11,\"\")","v":""},null,null,null,"市",null,null,"-",null,"-",null,{"$f":"IFERROR(VLOOKUP(Q813,コード表!$B$3:$C$101,2,FALSE),\"\")","v":""},null,{"$f":"IFERROR(VLOOKUP(S813,コード表!$F$7:$G$141,2,FALSE),\"\")","v":""},null,null,"t",null,null,null,null,null,null,null,null,null,null,null,null,null,null,null,null,null,null,null,null,null,null,null,null,null,null,null,null,null,null,null,null,null,null,null,null,null,null,null,null,null,null,null,null,null,null,null,null,"","",{"$f":"IF(BS813=\"\",\"\",IF(COUNTIF(BS$4:BS813,BS813)=1,ROW(),\"\"))","v":""},{"$f":"IFERROR(INDEX(BS:BS,SMALL(BT:BT,ROW(A810))),\"\")","v":""},"","","",""]
[{"$f":"IF(F816<>\"\",事業者基本情報!$E$9&事業者基本情報!$F$9&事業者基本情報!$G$9,\"\")","v":""},{"$f":"IF(F816<>\"\",事業者基本情報!$Y$10,\"\")","v":""},{"$f":"IF(F816<>\"\",事業者基本情報!$Y$7,\"\")","v":""},{"$f":"IF(F816<>\"\",事業者基本情報!$Y$8,\"\")","v":""},{"$f":"IF(F816<>\"\",事業者基本情報!$E$11&事業者基本情報!$F$11&事業者基本情報!$G$11&事業者基本情報!$H$11&事業者基本情報!$I$11,\"\")","v":""},null,null,null,"市",null,null,"-",null,"-",null,{"$f":"IFERROR(VLOOKUP(Q816,コード表!$B$3:$C$101,2,FALSE),\"\")","v":""},null,{"$f":"IFERROR(VLOOKUP(S816,コード表!$F$7:$G$141,2,FALSE),\"\")","v":""},null,null,"t",null,null,null,null,null,null,null,null,null,null,null,null,null,null,null,null,null,null,null,null,null,null,null,null,null,null,null,null,null,null,null,null,null,null,null,null,null,null,null,null,null,null,null,null,null,null,null,null,"","",{"$f":"IF(BS816=\"\",\"\",IF(COUNTIF(BS$4:BS816,BS816)=1,ROW(),\"\"))","v":""},{"$f":"IFERROR(INDEX(BS:BS,SMALL(BT:BT,ROW(A813))),\"\")","v":""},"","","",""]
[{"$f":"IF(F819<>\"\",事業者基本情報!$E$9&事業者基本情報!$F$9&事業者基本情報!$G$9,\"\")","v":""},{"$f":"IF(F819<>\"\",事業者基本情報!$Y$10,\"\")","v":""},{"$f":"IF(F819<>\"\",事業者基本情報!$Y$7,\"\")","v":""},{"$f":"IF(F819<>\"\",事業者基本情報!$Y$8,\"\")","v":""},{"$f":"IF(F819<>\"\",事業者基本情報!$E$11&事業者基本情報!$F$11&事業者基本情報!$G$11&事業者基本情報!$H$11&事業者基本情報!$I$11,\"\")","v":""},null,null,null,"市",null,null,"-",null,"-",null,{"$f":"IFERROR(VLOOKUP(Q819,コード表!$B$3:$C$101,2,FALSE),\"\")","v":""},null,{"$f":"IFERROR(VLOOKUP(S819,コード表!$F$7:$G$141,2,FALSE),\"\")","v":""},null,null,"t",null,null,null,null,null,null,null,null,null,null,null,null,null,null,null,null,null,null,null,null,null,null,null,null,null,null,null,null,null,null,null,null,null,null,null,null,null,null,null,null,null,null,null,null,null,null,null,null,"","",{"$f":"IF(BS819=\"\",\"\",IF(COUNTIF(BS$4:BS819,BS819)=1,ROW(),\"\"))","v":""},{"$f":"IFERROR(INDEX(BS:BS,SMALL(BT:BT,ROW(A816))),\"\")","v":""},"","","",""]
[{"$f":"IF(F821<>\"\",事業者基本情報!$E$9&事業者基本情報!$F$9&事業者基本情報!$G$9,\"\")","v":""},{"$f":"IF(F821<>\"\",事業者基本情報!$Y$10,\"\")","v":""},{"$f":"IF(F821<>\"\",事業者基本情報!$Y$7,\"\")","v":""},{"$f":"IF(F821<>\"\",事業者基本情報!$Y$8,\"\")","v":""},{"$f":"IF(F821<>\"\",事業者基本情報!$E$11&事業者基本情報!$F$11&事業者基本情報!$G$11&事業者基本情報!$H$11&事業者基本情報!$I$11,\"\")","v":""},null,null,null,"市",null,null,"-",null,"-",null,{"$f":"IFERROR(VLOOKUP(Q821,コード表!$B$3:$C$101,2,FALSE),\"\")","v":""},null,{"$f":"IFERROR(VLOOKUP(S821,コード表!$F$7:$G$141,2,FALSE),\"\")","v":""},null,null,"t",null,null,null,null,null,null,null,null,null,null,null,null,null,null,null,null,null,null,null,null,null,null,null,null,null,null,null,null,null,null,null,null,null,null,null,null,null,null,null,null,null,null,null,null,null,null,null,null,"","",{"$f":"IF(BS821=\"\",\"\",IF(COUNTIF(BS$4:BS821,BS821)=1,ROW(),\"\"))","v":""},{"$f":"IFERROR(INDEX(BS:BS,SMALL(BT:BT,ROW(A818))),\"\")","v":""},"","","",""]
[{"$f":"IF(F822<>\"\",事業者基本情報!$E$9&事業者基本情報!$F$9&事業者基本情報!$G$9,\"\")","v":""},{"$f":"IF(F822<>\"\",事業者基本情報!$Y$10,\"\")","v":""},{"$f":"IF(F822<>\"\",事業者基本情報!$Y$7,\"\")","v":""},{"$f":"IF(F822<>\"\",事業者基本情報!$Y$8,\"\")","v":""},{"$f":"IF(F822<>\"\",事業者基本情報!$E$11&事業者基本情報!$F$11&事業者基本情報!$G$11&事業者基本情報!$H$11&事業者基本情報!$I$11,\"\")","v":""},null,null,null,"市",null,null,"-",null,"-",null,{"$f":"IFERROR(VLOOKUP(Q822,コード表!$B$3:$C$101,2,FALSE),\"\")","v":""},null,{"$f":"IFERROR(VLOOKUP(S822,コード表!$F$7:$G$141,2,FALSE),\"\")","v":""},null,null,"t",null,null,null,null,null,null,null,null,null,null,null,null,null,null,null,null,null,null,null,null,null,null,null,null,null,null,null,null,null,null,null,null,null,null,null,null,null,null,null,null,null,null,null,null,null,null,null,null,"","",{"$f":"IF(BS822=\"\",\"\",IF(COUNTIF(BS$4:BS822,BS822)=1,ROW(),\"\"))","v":""},{"$f":"IFERROR(INDEX(BS:BS,SMALL(BT:BT,ROW(A819))),\"\")","v":""},"","","",""]
[{"$f":"IF(F826<>\"\",事業者基本情報!$E$9&事業者基本情報!$F$9&事業者基本情報!$G$9,\"\")","v":""},{"$f":"IF(F826<>\"\",事業者基本情報!$Y$10,\"\")","v":""},{"$f":"IF(F826<>\"\",事業者基本情報!$Y$7,\"\")","v":""},{"$f":"IF(F826<>\"\",事業者基本情報!$Y$8,\"\")","v":""},{"$f":"IF(F826<>\"\",事業者基本情報!$E$11&事業者基本情報!$F$11&事業者基本情報!$G$11&事業者基本情報!$H$11&事業者基本情報!$I$11,\"\")","v":""},null,null,null,"市",null,null,"-",null,"-",null,{"$f":"IFERROR(VLOOKUP(Q826,コード表!$B$3:$C$101,2,FALSE),\"\")","v":""},null,{"$f":"IFERROR(VLOOKUP(S826,コード表!$F$7:$G$141,2,FALSE),\"\")","v":""},null,null,"t",null,null,null,null,null,null,null,null,null,null,null,null,null,null,null,null,null,null,null,null,null,null,null,null,null,null,null,null,null,null,null,null,null,null,null,null,null,null,null,null,null,null,null,null,null,null,null,null,"","",{"$f":"IF(BS826=\"\",\"\",IF(COUNTIF(BS$4:BS826,BS826)=1,ROW(),\"\"))","v":""},{"$f":"IFERROR(INDEX(BS:BS,SMALL(BT:BT,ROW(A823))),\"\")","v":""},"","","",""]
[{"$f":"IF(F829<>\"\",事業者基本情報!$E$9&事業者基本情報!$F$9&事業者基本情報!$G$9,\"\")","v":""},{"$f":"IF(F829<>\"\",事業者基本情報!$Y$10,\"\")","v":""},{"$f":"IF(F829<>\"\",事業者基本情報!$Y$7,\"\")","v":""},{"$f":"IF(F829<>\"\",事業者基本情報!$Y$8,\"\")","v":""},{"$f":"IF(F829<>\"\",事業者基本情報!$E$11&事業者基本情報!$F$11&事業者基本情報!$G$11&事業者基本情報!$H$11&事業者基本情報!$I$11,\"\")","v":""},null,null,null,"市",null,null,"-",null,"-",null,{"$f":"IFERROR(VLOOKUP(Q829,コード表!$B$3:$C$101,2,FALSE),\"\")","v":""},null,{"$f":"IFERROR(VLOOKUP(S829,コード表!$F$7:$G$141,2,FALSE),\"\")","v":""},null,null,"t",null,null,null,null,null,null,null,null,null,null,null,null,null,null,null,null,null,null,null,null,null,null,null,null,null,null,null,null,null,null,null,null,null,null,null,null,null,null,null,null,null,null,null,null,null,null,null,null,"","",{"$f":"IF(BS829=\"\",\"\",IF(COUNTIF(BS$4:BS829,BS829)=1,ROW(),\"\"))","v":""},{"$f":"IFERROR(INDEX(BS:BS,SMALL(BT:BT,ROW(A826))),\"\")","v":""},"","","",""]
[{"$f":"IF(F832<>\"\",事業者基本情報!$E$9&事業者基本情報!$F$9&事業者基本情報!$G$9,\"\")","v":""},{"$f":"IF(F832<>\"\",事業者基本情報!$Y$10,\"\")","v":""},{"$f":"IF(F832<>\"\",事業者基本情報!$Y$7,\"\")","v":""},{"$f":"IF(F832<>\"\",事業者基本情報!$Y$8,\"\")","v":""},{"$f":"IF(F832<>\"\",事業者基本情報!$E$11&事業者基本情報!$F$11&事業者基本情報!$G$11&事業者基本情報!$H$11&事業者基本情報!$I$11,\"\")","v":""},null,null,null,"市",null,null,"-",null,"-",null,{"$f":"IFERROR(VLOOKUP(Q832,コード表!$B$3:$C$101,2,FALSE),\"\")","v":""},null,{"$f":"IFERROR(VLOOKUP(S832,コード表!$F$7:$G$141,2,FALSE),\"\")","v":""},null,null,"t",null,null,null,null,null,null,null,null,null,null,null,null,null,null,null,null,null,null,null,null,null,null,null,null,null,null,null,null,null,null,null,null,null,null,null,null,null,null,null,null,null,null,null,null,null,null,null,null,"","",{"$f":"IF(BS832=\"\",\"\",IF(COUNTIF(BS$4:BS832,BS832)=1,ROW(),\"\"))","v":""},{"$f":"IFERROR(INDEX(BS:BS,SMALL(BT:BT,ROW(A829))),\"\")","v":""},"","","",""]
[{"$f":"IF(F835<>\"\",事業者基本情報!$E$9&事業者基本情報!$F$9&事業者基本情報!$G$9,\"\")","v":""},{"$f":"IF(F835<>\"\",事業者基本情報!$Y$10,\"\")","v":""},{"$f":"IF(F835<>\"\",事業者基本情報!$Y$7,\"\")","v":""},{"$f":"IF(F835<>\"\",事業者基本情報!$Y$8,\"\")","v":""},{"$f":"IF(F835<>\"\",事業者基本情報!$E$11&事業者基本情報!$F$11&事業者基本情報!$G$11&事業者基本情報!$H$11&事業者基本情報!$I$11,\"\")","v":""},null,null,null,"市",null,null,"-",null,"-",null,{"$f":"IFERROR(VLOOKUP(Q835,コード表!$B$3:$C$101,2,FALSE),\"\")","v":""},null,{"$f":"IFERROR(VLOOKUP(S835,コード表!$F$7:$G$141,2,FALSE),\"\")","v":""},null,null,"t",null,null,null,null,null,null,null,null,null,null,null,null,null,null,null,null,null,null,null,null,null,null,null,null,null,null,null,null,null,null,null,null,null,null,null,null,null,null,null,null,null,null,null,null,null,null,null,null,"","",{"$f":"IF(BS835=\"\",\"\",IF(COUNTIF(BS$4:BS835,BS835)=1,ROW(),\"\"))","v":""},{"$f":"IFERROR(INDEX(BS:BS,SMALL(BT:BT,ROW(A832))),\"\")","v":""},"","","",""]
[{"$f":"IF(F838<>\"\",事業者基本情報!$E$9&事業者基本情報!$F$9&事業者基本情報!$G$9,\"\")","v":""},{"$f":"IF(F838<>\"\",事業者基本情報!$Y$10,\"\")","v":""},{"$f":"IF(F838<>\"\",事業者基本情報!$Y$7,\"\")","v":""},{"$f":"IF(F838<>\"\",事業者基本情報!$Y$8,\"\")","v":""},{"$f":"IF(F838<>\"\",事業者基本情報!$E$11&事業者基本情報!$F$11&事業者基本情報!$G$11&事業者基本情報!$H$11&事業者基本情報!$I$11,\"\")","v":""},null,null,null,"市",null,null,"-",null,"-",null,{"$f":"IFERROR(VLOOKUP(Q838,コード表!$B$3:$C$101,2,FALSE),\"\")","v":""},null,{"$f":"IFERROR(VLOOKUP(S838,コード表!$F$7:$G$141,2,FALSE),\"\")","v":""},null,null,"t",null,null,null,null,null,null,null,null,null,null,null,null,null,null,null,null,null,null,null,null,null,null,null,null,null,null,null,null,null,null,null,null,null,null,null,null,null,null,null,null,null,null,null,null,null,null,null,null,"","",{"$f":"IF(BS838=\"\",\"\",IF(COUNTIF(BS$4:BS838,BS838)=1,ROW(),\"\"))","v":""},{"$f":"IFERROR(INDEX(BS:BS,SMALL(BT:BT,ROW(A835))),\"\")","v":""},"","","",""]
[{"$f":"IF(F841<>\"\",事業者基本情報!$E$9&事業者基本情報!$F$9&事業者基本情報!$G$9,\"\")","v":""},{"$f":"IF(F841<>\"\",事業者基本情報!$Y$10,\"\")","v":""},{"$f":"IF(F841<>\"\",事業者基本情報!$Y$7,\"\")","v":""},{"$f":"IF(F841<>\"\",事業者基本情報!$Y$8,\"\")","v":""},{"$f":"IF(F841<>\"\",事業者基本情報!$E$11&事業者基本情報!$F$11&事業者基本情報!$G$11&事業者基本情報!$H$11&事業者基本情報!$I$11,\"\")","v":""},null,null,null,"市",null,null,"-",null,"-",null,{"$f":"IFERROR(VLOOKUP(Q841,コード表!$B$3:$C$101,2,FALSE),\"\")","v":""},null,{"$f":"IFERROR(VLOOKUP(S841,コード表!$F$7:$G$141,2,FALSE),\"\")","v":""},null,null,"t",null,null,null,null,null,null,null,null,null,null,null,null,null,null,null,null,null,null,null,null,null,null,null,null,null,null,null,null,null,null,null,null,null,null,null,null,null,null,null,null,null,null,null,null,null,null,null,null,"","",{"$f":"IF(BS841=\"\",\"\",IF(COUNTIF(BS$4:BS841,BS841)=1,ROW(),\"\"))","v":""},{"$f":"IFERROR(INDEX(BS:BS,SMALL(BT:BT,ROW(A838))),\"\")","v":""},"","","",""]
[{"$f":"IF(F843<>\"\",事業者基本情報!$E$9&事業者基本情報!$F$9&事業者基本情報!$G$9,\"\")","v":""},{"$f":"IF(F843<>\"\",事業者基本情報!$Y$10,\"\")","v":""},{"$f":"IF(F843<>\"\",事業者基本情報!$Y$7,\"\")","v":""},{"$f":"IF(F843<>\"\",事業者基本情報!$Y$8,\"\")","v":""},{"$f":"IF(F843<>\"\",事業者基本情報!$E$11&事業者基本情報!$F$11&事業者基本情報!$G$11&事業者基本情報!$H$11&事業者基本情報!$I$11,\"\")","v":""},null,null,null,"市",null,null,"-",null,"-",null,{"$f":"IFERROR(VLOOKUP(Q843,コード表!$B$3:$C$101,2,FALSE),\"\")","v":""},null,{"$f":"IFERROR(VLOOKUP(S843,コード表!$F$7:$G$141,2,FALSE),\"\")","v":""},null,null,"t",null,null,null,null,null,null,null,null,null,null,null,null,null,null,null,null,null,null,null,null,null,null,null,null,null,null,null,null,null,null,null,null,null,null,null,null,null,null,null,null,null,null,null,null,null,null,null,null,"","",{"$f":"IF(BS843=\"\",\"\",IF(COUNTIF(BS$4:BS843,BS843)=1,ROW(),\"\"))","v":""},{"$f":"IFERROR(INDEX(BS:BS,SMALL(BT:BT,ROW(A840))),\"\")","v":""},"","","",""]
[{"$f":"IF(F844<>\"\",事業者基本情報!$E$9&事業者基本情報!$F$9&事業者基本情報!$G$9,\"\")","v":""},{"$f":"IF(F844<>\"\",事業者基本情報!$Y$10,\"\")","v":""},{"$f":"IF(F844<>\"\",事業者基本情報!$Y$7,\"\")","v":""},{"$f":"IF(F844<>\"\",事業者基本情報!$Y$8,\"\")","v":""},{"$f":"IF(F844<>\"\",事業者基本情報!$E$11&事業者基本情報!$F$11&事業者基本情報!$G$11&事業者基本情報!$H$11&事業者基本情報!$I$11,\"\")","v":""},null,null,null,"市",null,null,"-",null,"-",null,{"$f":"IFERROR(VLOOKUP(Q844,コード表!$B$3:$C$101,2,FALSE),\"\")","v":""},null,{"$f":"IFERROR(VLOOKUP(S844,コード表!$F$7:$G$141,2,FALSE),\"\")","v":""},null,null,"t",null,null,null,null,null,null,null,null,null,null,null,null,null,null,null,null,null,null,null,null,null,null,null,null,null,null,null,null,null,null,null,null,null,null,null,null,null,null,null,null,null,null,null,null,null,null,null,null,"","",{"$f":"IF(BS844=\"\",\"\",IF(COUNTIF(BS$4:BS844,BS844)=1,ROW(),\"\"))","v":""},{"$f":"IFERROR(INDEX(BS:BS,SMALL(BT:BT,ROW(A841))),\"\")","v":""},"","","",""]
[{"$f":"IF(F848<>\"\",事業者基本情報!$E$9&事業者基本情報!$F$9&事業者基本情報!$G$9,\"\")","v":""},{"$f":"IF(F848<>\"\",事業者基本情報!$Y$10,\"\")","v":""},{"$f":"IF(F848<>\"\",事業者基本情報!$Y$7,\"\")","v":""},{"$f":"IF(F848<>\"\",事業者基本情報!$Y$8,\"\")","v":""},{"$f":"IF(F848<>\"\",事業者基本情報!$E$11&事業者基本情報!$F$11&事業者基本情報!$G$11&事業者基本情報!$H$11&事業者基本情報!$I$11,\"\")","v":""},null,null,null,"市",null,null,"-",null,"-",null,{"$f":"IFERROR(VLOOKUP(Q848,コード表!$B$3:$C$101,2,FALSE),\"\")","v":""},null,{"$f":"IFERROR(VLOOKUP(S848,コード表!$F$7:$G$141,2,FALSE),\"\")","v":""},null,null,"t",null,null,null,null,null,null,null,null,null,null,null,null,null,null,null,null,null,null,null,null,null,null,null,null,null,null,null,null,null,null,null,null,null,null,null,null,null,null,null,null,null,null,null,null,null,null,null,null,"","",{"$f":"IF(BS848=\"\",\"\",IF(COUNTIF(BS$4:BS848,BS848)=1,ROW(),\"\"))","v":""},{"$f":"IFERROR(INDEX(BS:BS,SMALL(BT:BT,ROW(A845))),\"\")","v":""},"","","",""]
[{"$f":"IF(F851<>\"\",事業者基本情報!$E$9&事業者基本情報!$F$9&事業者基本情報!$G$9,\"\")","v":""},{"$f":"IF(F851<>\"\",事業者基本情報!$Y$10,\"\")","v":""},{"$f":"IF(F851<>\"\",事業者基本情報!$Y$7,\"\")","v":""},{"$f":"IF(F851<>\"\",事業者基本情報!$Y$8,\"\")","v":""},{"$f":"IF(F851<>\"\",事業者基本情報!$E$11&事業者基本情報!$F$11&事業者基本情報!$G$11&事業者基本情報!$H$11&事業者基本情報!$I$11,\"\")","v":""},null,null,null,"市",null,null,"-",null,"-",null,{"$f":"IFERROR(VLOOKUP(Q851,コード表!$B$3:$C$101,2,FALSE),\"\")","v":""},null,{"$f":"IFERROR(VLOOKUP(S851,コード表!$F$7:$G$141,2,FALSE),\"\")","v":""},null,null,"t",null,null,null,null,null,null,null,null,null,null,null,null,null,null,null,null,null,null,null,null,null,null,null,null,null,null,null,null,null,null,null,null,null,null,null,null,null,null,null,null,null,null,null,null,null,null,null,null,"","",{"$f":"IF(BS851=\"\",\"\",IF(COUNTIF(BS$4:BS851,BS851)=1,ROW(),\"\"))","v":""},{"$f":"IFERROR(INDEX(BS:BS,SMALL(BT:BT,ROW(A848))),\"\")","v":""},"","","",""]
[{"$f":"IF(F854<>\"\",事業者基本情報!$E$9&事業者基本情報!$F$9&事業者基本情報!$G$9,\"\")","v":""},{"$f":"IF(F854<>\"\",事業者基本情報!$Y$10,\"\")","v":""},{"$f":"IF(F854<>\"\",事業者基本情報!$Y$7,\"\")","v":""},{"$f":"IF(F854<>\"\",事業者基本情報!$Y$8,\"\")","v":""},{"$f":"IF(F854<>\"\",事業者基本情報!$E$11&事業者基本情報!$F$11&事業者基本情報!$G$11&事業者基本情報!$H$11&事業者基本情報!$I$11,\"\")","v":""},null,null,null,"市",null,null,"-",null,"-",null,{"$f":"IFERROR(VLOOKUP(Q854,コード表!$B$3:$C$101,2,FALSE),\"\")","v":""},null,{"$f":"IFERROR(VLOOKUP(S854,コード表!$F$7:$G$141,2,FALSE),\"\")","v":""},null,null,"t",null,null,null,null,null,null,null,null,null,null,null,null,null,null,null,null,null,null,null,null,null,null,null,null,null,null,null,null,null,null,null,null,null,null,null,null,null,null,null,null,null,null,null,null,null,null,null,null,"","",{"$f":"IF(BS854=\"\",\"\",IF(COUNTIF(BS$4:BS854,BS854)=1,ROW(),\"\"))","v":""},{"$f":"IFERROR(INDEX(BS:BS,SMALL(BT:BT,ROW(A851))),\"\")","v":""},"","","",""]
[{"$f":"IF(F857<>\"\",事業者基本情報!$E$9&事業者基本情報!$F$9&事業者基本情報!$G$9,\"\")","v":""},{"$f":"IF(F857<>\"\",事業者基本情報!$Y$10,\"\")","v":""},{"$f":"IF(F857<>\"\",事業者基本情報!$Y$7,\"\")","v":""},{"$f":"IF(F857<>\"\",事業者基本情報!$Y$8,\"\")","v":""},{"$f":"IF(F857<>\"\",事業者基本情報!$E$11&事業者基本情報!$F$11&事業者基本情報!$G$11&事業者基本情報!$H$11&事業者基本情報!$I$11,\"\")","v":""},null,null,null,"市",null,null,"-",null,"-",null,{"$f":"IFERROR(VLOOKUP(Q857,コード表!$B$3:$C$101,2,FALSE),\"\")","v":""},null,{"$f":"IFERROR(VLOOKUP(S857,コード表!$F$7:$G$141,2,FALSE),\"\")","v":""},null,null,"t",null,null,null,null,null,null,null,null,null,null,null,null,null,null,null,null,null,null,null,null,null,null,null,null,null,null,null,null,null,null,null,null,null,null,null,null,null,null,null,null,null,null,null,null,null,null,null,null,"","",{"$f":"IF(BS857=\"\",\"\",IF(COUNTIF(BS$4:BS857,BS857)=1,ROW(),\"\"))","v":""},{"$f":"IFERROR(INDEX(BS:BS,SMALL(BT:BT,ROW(A854))),\"\")","v":""},"","","",""]
[{"$f":"IF(F860<>\"\",事業者基本情報!$E$9&事業者基本情報!$F$9&事業者基本情報!$G$9,\"\")","v":""},{"$f":"IF(F860<>\"\",事業者基本情報!$Y$10,\"\")","v":""},{"$f":"IF(F860<>\"\",事業者基本情報!$Y$7,\"\")","v":""},{"$f":"IF(F860<>\"\",事業者基本情報!$Y$8,\"\")","v":""},{"$f":"IF(F860<>\"\",事業者基本情報!$E$11&事業者基本情報!$F$11&事業者基本情報!$G$11&事業者基本情報!$H$11&事業者基本情報!$I$11,\"\")","v":""},null,null,null,"市",null,null,"-",null,"-",null,{"$f":"IFERROR(VLOOKUP(Q860,コード表!$B$3:$C$101,2,FALSE),\"\")","v":""},null,{"$f":"IFERROR(VLOOKUP(S860,コード表!$F$7:$G$141,2,FALSE),\"\")","v":""},null,null,"t",null,null,null,null,null,null,null,null,null,null,null,null,null,null,null,null,null,null,null,null,null,null,null,null,null,null,null,null,null,null,null,null,null,null,null,null,null,null,null,null,null,null,null,null,null,null,null,null,"","",{"$f":"IF(BS860=\"\",\"\",IF(COUNTIF(BS$4:BS860,BS860)=1,ROW(),\"\"))","v":""},{"$f":"IFERROR(INDEX(BS:BS,SMALL(BT:BT,ROW(A857))),\"\")","v":""},"","","",""]
[{"$f":"IF(F861<>\"\",事業者基本情報!$E$9&事業者基本情報!$F$9&事業者基本情報!$G$9,\"\")","v":""},{"$f":"IF(F861<>\"\",事業者基本情報!$Y$10,\"\")","v":""},{"$f":"IF(F861<>\"\",事業者基本情報!$Y$7,\"\")","v":""},{"$f":"IF(F861<>\"\",事業者基本情報!$Y$8,\"\")","v":""},{"$f":"IF(F861<>\"\",事業者基本情報!$E$11&事業者基本情報!$F$11&事業者基本情報!$G$11&事業者基本情報!$H$11&事業者基本情報!$I$11,\"\")","v":""},null,null,null,"市",null,null,"-",null,"-",null,{"$f":"IFERROR(VLOOKUP(Q861,コード表!$B$3:$C$101,2,FALSE),\"\")","v":""},null,{"$f":"IFERROR(VLOOKUP(S861,コード表!$F$7:$G$141,2,FALSE),\"\")","v":""},null,null,"t",null,null,null,null,null,null,null,null,null,null,null,null,null,null,null,null,null,null,null,null,null,null,null,null,null,null,null,null,null,null,null,null,null,null,null,null,null,null,null,null,null,null,null,null,null,null,null,null,"","",{"$f":"IF(BS861=\"\",\"\",IF(COUNTIF(BS$4:BS861,BS861)=1,ROW(),\"\"))","v":""},{"$f":"IFERROR(INDEX(BS:BS,SMALL(BT:BT,ROW(A858))),\"\")","v":""},"","","",""]
[{"$f":"IF(F865<>\"\",事業者基本情報!$E$9&事業者基本情報!$F$9&事業者基本情報!$G$9,\"\")","v":""},{"$f":"IF(F865<>\"\",事業者基本情報!$Y$10,\"\")","v":""},{"$f":"IF(F865<>\"\",事業者基本情報!$Y$7,\"\")","v":""},{"$f":"IF(F865<>\"\",事業者基本情報!$Y$8,\"\")","v":""},{"$f":"IF(F865<>\"\",事業者基本情報!$E$11&事業者基本情報!$F$11&事業者基本情報!$G$11&事業者基本情報!$H$11&事業者基本情報!$I$11,\"\")","v":""},null,null,null,"市",null,null,"-",null,"-",null,{"$f":"IFERROR(VLOOKUP(Q865,コード表!$B$3:$C$101,2,FALSE),\"\")","v":""},null,{"$f":"IFERROR(VLOOKUP(S865,コード表!$F$7:$G$141,2,FALSE),\"\")","v":""},null,null,"t",null,null,null,null,null,null,null,null,null,null,null,null,null,null,null,null,null,null,null,null,null,null,null,null,null,null,null,null,null,null,null,null,null,null,null,null,null,null,null,null,null,null,null,null,null,null,null,null,"","",{"$f":"IF(BS865=\"\",\"\",IF(COUNTIF(BS$4:BS865,BS865)=1,ROW(),\"\"))","v":""},{"$f":"IFERROR(INDEX(BS:BS,SMALL(BT:BT,ROW(A862))),\"\")","v":""},"","","",""]
[{"$f":"IF(F866<>\"\",事業者基本情報!$E$9&事業者基本情報!$F$9&事業者基本情報!$G$9,\"\")","v":""},{"$f":"IF(F866<>\"\",事業者基本情報!$Y$10,\"\")","v":""},{"$f":"IF(F866<>\"\",事業者基本情報!$Y$7,\"\")","v":""},{"$f":"IF(F866<>\"\",事業者基本情報!$Y$8,\"\")","v":""},{"$f":"IF(F866<>\"\",事業者基本情報!$E$11&事業者基本情報!$F$11&事業者基本情報!$G$11&事業者基本情報!$H$11&事業者基本情報!$I$11,\"\")","v":""},null,null,null,"市",null,null,"-",null,"-",null,{"$f":"IFERROR(VLOOKUP(Q866,コード表!$B$3:$C$101,2,FALSE),\"\")","v":""},null,{"$f":"IFERROR(VLOOKUP(S866,コード表!$F$7:$G$141,2,FALSE),\"\")","v":""},null,null,"t",null,null,null,null,null,null,null,null,null,null,null,null,null,null,null,null,null,null,null,null,null,null,null,null,null,null,null,null,null,null,null,null,null,null,null,null,null,null,null,null,null,null,null,null,null,null,null,null,"","",{"$f":"IF(BS866=\"\",\"\",IF(COUNTIF(BS$4:BS866,BS866)=1,ROW(),\"\"))","v":""},{"$f":"IFERROR(INDEX(BS:BS,SMALL(BT:BT,ROW(A863))),\"\")","v":""},"","","",""]
[{"$f":"IF(F870<>\"\",事業者基本情報!$E$9&事業者基本情報!$F$9&事業者基本情報!$G$9,\"\")","v":""},{"$f":"IF(F870<>\"\",事業者基本情報!$Y$10,\"\")","v":""},{"$f":"IF(F870<>\"\",事業者基本情報!$Y$7,\"\")","v":""},{"$f":"IF(F870<>\"\",事業者基本情報!$Y$8,\"\")","v":""},{"$f":"IF(F870<>\"\",事業者基本情報!$E$11&事業者基本情報!$F$11&事業者基本情報!$G$11&事業者基本情報!$H$11&事業者基本情報!$I$11,\"\")","v":""},null,null,null,"市",null,null,"-",null,"-",null,{"$f":"IFERROR(VLOOKUP(Q870,コード表!$B$3:$C$101,2,FALSE),\"\")","v":""},null,{"$f":"IFERROR(VLOOKUP(S870,コード表!$F$7:$G$141,2,FALSE),\"\")","v":""},null,null,"t",null,null,null,null,null,null,null,null,null,null,null,null,null,null,null,null,null,null,null,null,null,null,null,null,null,null,null,null,null,null,null,null,null,null,null,null,null,null,null,null,null,null,null,null,null,null,null,null,"","",{"$f":"IF(BS870=\"\",\"\",IF(COUNTIF(BS$4:BS870,BS870)=1,ROW(),\"\"))","v":""},{"$f":"IFERROR(INDEX(BS:BS,SMALL(BT:BT,ROW(A867))),\"\")","v":""},"","","",""]
[{"$f":"IF(F873<>\"\",事業者基本情報!$E$9&事業者基本情報!$F$9&事業者基本情報!$G$9,\"\")","v":""},{"$f":"IF(F873<>\"\",事業者基本情報!$Y$10,\"\")","v":""},{"$f":"IF(F873<>\"\",事業者基本情報!$Y$7,\"\")","v":""},{"$f":"IF(F873<>\"\",事業者基本情報!$Y$8,\"\")","v":""},{"$f":"IF(F873<>\"\",事業者基本情報!$E$11&事業者基本情報!$F$11&事業者基本情報!$G$11&事業者基本情報!$H$11&事業者基本情報!$I$11,\"\")","v":""},null,null,null,"市",null,null,"-",null,"-",null,{"$f":"IFERROR(VLOOKUP(Q873,コード表!$B$3:$C$101,2,FALSE),\"\")","v":""},null,{"$f":"IFERROR(VLOOKUP(S873,コード表!$F$7:$G$141,2,FALSE),\"\")","v":""},null,null,"t",null,null,null,null,null,null,null,null,null,null,null,null,null,null,null,null,null,null,null,null,null,null,null,null,null,null,null,null,null,null,null,null,null,null,null,null,null,null,null,null,null,null,null,null,null,null,null,null,"","",{"$f":"IF(BS873=\"\",\"\",IF(COUNTIF(BS$4:BS873,BS873)=1,ROW(),\"\"))","v":""},{"$f":"IFERROR(INDEX(BS:BS,SMALL(BT:BT,ROW(A870))),\"\")","v":""},"","","",""]
[{"$f":"IF(F876<>\"\",事業者基本情報!$E$9&事業者基本情報!$F$9&事業者基本情報!$G$9,\"\")","v":""},{"$f":"IF(F876<>\"\",事業者基本情報!$Y$10,\"\")","v":""},{"$f":"IF(F876<>\"\",事業者基本情報!$Y$7,\"\")","v":""},{"$f":"IF(F876<>\"\",事業者基本情報!$Y$8,\"\")","v":""},{"$f":"IF(F876<>\"\",事業者基本情報!$E$11&事業者基本情報!$F$11&事業者基本情報!$G$11&事業者基本情報!$H$11&事業者基本情報!$I$11,\"\")","v":""},null,null,null,"市",null,null,"-",null,"-",null,{"$f":"IFERROR(VLOOKUP(Q876,コード表!$B$3:$C$101,2,FALSE),\"\")","v":""},null,{"$f":"IFERROR(VLOOKUP(S876,コード表!$F$7:$G$141,2,FALSE),\"\")","v":""},null,null,"t",null,null,null,null,null,null,null,null,null,null,null,null,null,null,null,null,null,null,null,null,null,null,null,null,null,null,null,null,null,null,null,null,null,null,null,null,null,null,null,null,null,null,null,null,null,null,null,null,"","",{"$f":"IF(BS876=\"\",\"\",IF(COUNTIF(BS$4:BS876,BS876)=1,ROW(),\"\"))","v":""},{"$f":"IFERROR(INDEX(BS:BS,SMALL(BT:BT,ROW(A873))),\"\")","v":""},"","","",""]
[{"$f":"IF(F879<>\"\",事業者基本情報!$E$9&事業者基本情報!$F$9&事業者基本情報!$G$9,\"\")","v":""},{"$f":"IF(F879<>\"\",事業者基本情報!$Y$10,\"\")","v":""},{"$f":"IF(F879<>\"\",事業者基本情報!$Y$7,\"\")","v":""},{"$f":"IF(F879<>\"\",事業者基本情報!$Y$8,\"\")","v":""},{"$f":"IF(F879<>\"\",事業者基本情報!$E$11&事業者基本情報!$F$11&事業者基本情報!$G$11&事業者基本情報!$H$11&事業者基本情報!$I$11,\"\")","v":""},null,null,null,"市",null,null,"-",null,"-",null,{"$f":"IFERROR(VLOOKUP(Q879,コード表!$B$3:$C$101,2,FALSE),\"\")","v":""},null,{"$f":"IFERROR(VLOOKUP(S879,コード表!$F$7:$G$141,2,FALSE),\"\")","v":""},null,null,"t",null,null,null,null,null,null,null,null,null,null,null,null,null,null,null,null,null,null,null,null,null,null,null,null,null,null,null,null,null,null,null,null,null,null,null,null,null,null,null,null,null,null,null,null,null,null,null,null,"","",{"$f":"IF(BS879=\"\",\"\",IF(COUNTIF(BS$4:BS879,BS879)=1,ROW(),\"\"))","v":""},{"$f":"IFERROR(INDEX(BS:BS,SMALL(BT:BT,ROW(A876))),\"\")","v":""},"","","",""]
[{"$f":"IF(F882<>\"\",事業者基本情報!$E$9&事業者基本情報!$F$9&事業者基本情報!$G$9,\"\")","v":""},{"$f":"IF(F882<>\"\",事業者基本情報!$Y$10,\"\")","v":""},{"$f":"IF(F882<>\"\",事業者基本情報!$Y$7,\"\")","v":""},{"$f":"IF(F882<>\"\",事業者基本情報!$Y$8,\"\")","v":""},{"$f":"IF(F882<>\"\",事業者基本情報!$E$11&事業者基本情報!$F$11&事業者基本情報!$G$11&事業者基本情報!$H$11&事業者基本情報!$I$11,\"\")","v":""},null,null,null,"市",null,null,"-",null,"-",null,{"$f":"IFERROR(VLOOKUP(Q882,コード表!$B$3:$C$101,2,FALSE),\"\")","v":""},null,{"$f":"IFERROR(VLOOKUP(S882,コード表!$F$7:$G$141,2,FALSE),\"\")","v":""},null,null,"t",null,null,null,null,null,null,null,null,null,null,null,null,null,null,null,null,null,null,null,null,null,null,null,null,null,null,null,null,null,null,null,null,null,null,null,null,null,null,null,null,null,null,null,null,null,null,null,null,"","",{"$f":"IF(BS882=\"\",\"\",IF(COUNTIF(BS$4:BS882,BS882)=1,ROW(),\"\"))","v":""},{"$f":"IFERROR(INDEX(BS:BS,SMALL(BT:BT,ROW(A879))),\"\")","v":""},"","","",""]
[{"$f":"IF(F883<>\"\",事業者基本情報!$E$9&事業者基本情報!$F$9&事業者基本情報!$G$9,\"\")","v":""},{"$f":"IF(F883<>\"\",事業者基本情報!$Y$10,\"\")","v":""},{"$f":"IF(F883<>\"\",事業者基本情報!$Y$7,\"\")","v":""},{"$f":"IF(F883<>\"\",事業者基本情報!$Y$8,\"\")","v":""},{"$f":"IF(F883<>\"\",事業者基本情報!$E$11&事業者基本情報!$F$11&事業者基本情報!$G$11&事業者基本情報!$H$11&事業者基本情報!$I$11,\"\")","v":""},null,null,null,"市",null,null,"-",null,"-",null,{"$f":"IFERROR(VLOOKUP(Q883,コード表!$B$3:$C$101,2,FALSE),\"\")","v":""},null,{"$f":"IFERROR(VLOOKUP(S883,コード表!$F$7:$G$141,2,FALSE),\"\")","v":""},null,null,"t",null,null,null,null,null,null,null,null,null,null,null,null,null,null,null,null,null,null,null,null,null,null,null,null,null,null,null,null,null,null,null,null,null,null,null,null,null,null,null,null,null,null,null,null,null,null,null,null,"","",{"$f":"IF(BS883=\"\",\"\",IF(COUNTIF(BS$4:BS883,BS883)=1,ROW(),\"\"))","v":""},{"$f":"IFERROR(INDEX(BS:BS,SMALL(BT:BT,ROW(A880))),\"\")","v":""},"","","",""]
[{"$f":"IF(F887<>\"\",事業者基本情報!$E$9&事業者基本情報!$F$9&事業者基本情報!$G$9,\"\")","v":""},{"$f":"IF(F887<>\"\",事業者基本情報!$Y$10,\"\")","v":""},{"$f":"IF(F887<>\"\",事業者基本情報!$Y$7,\"\")","v":""},{"$f":"IF(F887<>\"\",事業者基本情報!$Y$8,\"\")","v":""},{"$f":"IF(F887<>\"\",事業者基本情報!$E$11&事業者基本情報!$F$11&事業者基本情報!$G$11&事業者基本情報!$H$11&事業者基本情報!$I$11,\"\")","v":""},null,null,null,"市",null,null,"-",null,"-",null,{"$f":"IFERROR(VLOOKUP(Q887,コード表!$B$3:$C$101,2,FALSE),\"\")","v":""},null,{"$f":"IFERROR(VLOOKUP(S887,コード表!$F$7:$G$141,2,FALSE),\"\")","v":""},null,null,"t",null,null,null,null,null,null,null,null,null,null,null,null,null,null,null,null,null,null,null,null,null,null,null,null,null,null,null,null,null,null,null,null,null,null,null,null,null,null,null,null,null,null,null,null,null,null,null,null,"","",{"$f":"IF(BS887=\"\",\"\",IF(COUNTIF(BS$4:BS887,BS887)=1,ROW(),\"\"))","v":""},{"$f":"IFERROR(INDEX(BS:BS,SMALL(BT:BT,ROW(A884))),\"\")","v":""},"","","",""]
[{"$f":"IF(F888<>\"\",事業者基本情報!$E$9&事業者基本情報!$F$9&事業者基本情報!$G$9,\"\")","v":""},{"$f":"IF(F888<>\"\",事業者基本情報!$Y$10,\"\")","v":""},{"$f":"IF(F888<>\"\",事業者基本情報!$Y$7,\"\")","v":""},{"$f":"IF(F888<>\"\",事業者基本情報!$Y$8,\"\")","v":""},{"$f":"IF(F888<>\"\",事業者基本情報!$E$11&事業者基本情報!$F$11&事業者基本情報!$G$11&事業者基本情報!$H$11&事業者基本情報!$I$11,\"\")","v":""},null,null,null,"市",null,null,"-",null,"-",null,{"$f":"IFERROR(VLOOKUP(Q888,コード表!$B$3:$C$101,2,FALSE),\"\")","v":""},null,{"$f":"IFERROR(VLOOKUP(S888,コード表!$F$7:$G$141,2,FALSE),\"\")","v":""},null,null,"t",null,null,null,null,null,null,null,null,null,null,null,null,null,null,null,null,null,null,null,null,null,null,null,null,null,null,null,null,null,null,null,null,null,null,null,null,null,null,null,null,null,null,null,null,null,null,null,null,"","",{"$f":"IF(BS888=\"\",\"\",IF(COUNTIF(BS$4:BS888,BS888)=1,ROW(),\"\"))","v":""},{"$f":"IFERROR(INDEX(BS:BS,SMALL(BT:BT,ROW(A885))),\"\")","v":""},"","","",""]
[{"$f":"IF(F892<>\"\",事業者基本情報!$E$9&事業者基本情報!$F$9&事業者基本情報!$G$9,\"\")","v":""},{"$f":"IF(F892<>\"\",事業者基本情報!$Y$10,\"\")","v":""},{"$f":"IF(F892<>\"\",事業者基本情報!$Y$7,\"\")","v":""},{"$f":"IF(F892<>\"\",事業者基本情報!$Y$8,\"\")","v":""},{"$f":"IF(F892<>\"\",事業者基本情報!$E$11&事業者基本情報!$F$11&事業者基本情報!$G$11&事業者基本情報!$H$11&事業者基本情報!$I$11,\"\")","v":""},null,null,null,"市",null,null,"-",null,"-",null,{"$f":"IFERROR(VLOOKUP(Q892,コード表!$B$3:$C$101,2,FALSE),\"\")","v":""},null,{"$f":"IFERROR(VLOOKUP(S892,コード表!$F$7:$G$141,2,FALSE),\"\")","v":""},null,null,"t",null,null,null,null,null,null,null,null,null,null,null,null,null,null,null,null,null,null,null,null,null,null,null,null,null,null,null,null,null,null,null,null,null,null,null,null,null,null,null,null,null,null,null,null,null,null,null,null,"","",{"$f":"IF(BS892=\"\",\"\",IF(COUNTIF(BS$4:BS892,BS892)=1,ROW(),\"\"))","v":""},{"$f":"IFERROR(INDEX(BS:BS,SMALL(BT:BT,ROW(A889))),\"\")","v":""},"","","",""]
[{"$f":"IF(F895<>\"\",事業者基本情報!$E$9&事業者基本情報!$F$9&事業者基本情報!$G$9,\"\")","v":""},{"$f":"IF(F895<>\"\",事業者基本情報!$Y$10,\"\")","v":""},{"$f":"IF(F895<>\"\",事業者基本情報!$Y$7,\"\")","v":""},{"$f":"IF(F895<>\"\",事業者基本情報!$Y$8,\"\")","v":""},{"$f":"IF(F895<>\"\",事業者基本情報!$E$11&事業者基本情報!$F$11&事業者基本情報!$G$11&事業者基本情報!$H$11&事業者基本情報!$I$11,\"\")","v":""},null,null,null,"市",null,null,"-",null,"-",null,{"$f":"IFERROR(VLOOKUP(Q895,コード表!$B$3:$C$101,2,FALSE),\"\")","v":""},null,{"$f":"IFERROR(VLOOKUP(S895,コード表!$F$7:$G$141,2,FALSE),\"\")","v":""},null,null,"t",null,null,null,null,null,null,null,null,null,null,null,null,null,null,null,null,null,null,null,null,null,null,null,null,null,null,null,null,null,null,null,null,null,null,null,null,null,null,null,null,null,null,null,null,null,null,null,null,"","",{"$f":"IF(BS895=\"\",\"\",IF(COUNTIF(BS$4:BS895,BS895)=1,ROW(),\"\"))","v":""},{"$f":"IFERROR(INDEX(BS:BS,SMALL(BT:BT,ROW(A892))),\"\")","v":""},"","","",""]
[{"$f":"IF(F898<>\"\",事業者基本情報!$E$9&事業者基本情報!$F$9&事業者基本情報!$G$9,\"\")","v":""},{"$f":"IF(F898<>\"\",事業者基本情報!$Y$10,\"\")","v":""},{"$f":"IF(F898<>\"\",事業者基本情報!$Y$7,\"\")","v":""},{"$f":"IF(F898<>\"\",事業者基本情報!$Y$8,\"\")","v":""},{"$f":"IF(F898<>\"\",事業者基本情報!$E$11&事業者基本情報!$F$11&事業者基本情報!$G$11&事業者基本情報!$H$11&事業者基本情報!$I$11,\"\")","v":""},null,null,null,"市",null,null,"-",null,"-",null,{"$f":"IFERROR(VLOOKUP(Q898,コード表!$B$3:$C$101,2,FALSE),\"\")","v":""},null,{"$f":"IFERROR(VLOOKUP(S898,コード表!$F$7:$G$141,2,FALSE),\"\")","v":""},null,null,"t",null,null,null,null,null,null,null,null,null,null,null,null,null,null,null,null,null,null,null,null,null,null,null,null,null,null,null,null,null,null,null,null,null,null,null,null,null,null,null,null,null,null,null,null,null,null,null,null,"","",{"$f":"IF(BS898=\"\",\"\",IF(COUNTIF(BS$4:BS898,BS898)=1,ROW(),\"\"))","v":""},{"$f":"IFERROR(INDEX(BS:BS,SMALL(BT:BT,ROW(A895))),\"\")","v":""},"","","",""]
[{"$f":"IF(F901<>\"\",事業者基本情報!$E$9&事業者基本情報!$F$9&事業者基本情報!$G$9,\"\")","v":""},{"$f":"IF(F901<>\"\",事業者基本情報!$Y$10,\"\")","v":""},{"$f":"IF(F901<>\"\",事業者基本情報!$Y$7,\"\")","v":""},{"$f":"IF(F901<>\"\",事業者基本情報!$Y$8,\"\")","v":""},{"$f":"IF(F901<>\"\",事業者基本情報!$E$11&事業者基本情報!$F$11&事業者基本情報!$G$11&事業者基本情報!$H$11&事業者基本情報!$I$11,\"\")","v":""},null,null,null,"市",null,null,"-",null,"-",null,{"$f":"IFERROR(VLOOKUP(Q901,コード表!$B$3:$C$101,2,FALSE),\"\")","v":""},null,{"$f":"IFERROR(VLOOKUP(S901,コード表!$F$7:$G$141,2,FALSE),\"\")","v":""},null,null,"t",null,null,null,null,null,null,null,null,null,null,null,null,null,null,null,null,null,null,null,null,null,null,null,null,null,null,null,null,null,null,null,null,null,null,null,null,null,null,null,null,null,null,null,null,null,null,null,null,"","",{"$f":"IF(BS901=\"\",\"\",IF(COUNTIF(BS$4:BS901,BS901)=1,ROW(),\"\"))","v":""},{"$f":"IFERROR(INDEX(BS:BS,SMALL(BT:BT,ROW(A898))),\"\")","v":""},"","","",""]
[{"$f":"IF(F904<>\"\",事業者基本情報!$E$9&事業者基本情報!$F$9&事業者基本情報!$G$9,\"\")","v":""},{"$f":"IF(F904<>\"\",事業者基本情報!$Y$10,\"\")","v":""},{"$f":"IF(F904<>\"\",事業者基本情報!$Y$7,\"\")","v":""},{"$f":"IF(F904<>\"\",事業者基本情報!$Y$8,\"\")","v":""},{"$f":"IF(F904<>\"\",事業者基本情報!$E$11&事業者基本情報!$F$11&事業者基本情報!$G$11&事業者基本情報!$H$11&事業者基本情報!$I$11,\"\")","v":""},null,null,null,"市",null,null,"-",null,"-",null,{"$f":"IFERROR(VLOOKUP(Q904,コード表!$B$3:$C$101,2,FALSE),\"\")","v":""},null,{"$f":"IFERROR(VLOOKUP(S904,コード表!$F$7:$G$141,2,FALSE),\"\")","v":""},null,null,"t",null,null,null,null,null,null,null,null,null,null,null,null,null,null,null,null,null,null,null,null,null,null,null,null,null,null,null,null,null,null,null,null,null,null,null,null,null,null,null,null,null,null,null,null,null,null,null,null,"","",{"$f":"IF(BS904=\"\",\"\",IF(COUNTIF(BS$4:BS904,BS904)=1,ROW(),\"\"))","v":""},{"$f":"IFERROR(INDEX(BS:BS,SMALL(BT:BT,ROW(A901))),\"\")","v":""},"","","",""]
[{"$f":"IF(F905<>\"\",事業者基本情報!$E$9&事業者基本情報!$F$9&事業者基本情報!$G$9,\"\")","v":""},{"$f":"IF(F905<>\"\",事業者基本情報!$Y$10,\"\")","v":""},{"$f":"IF(F905<>\"\",事業者基本情報!$Y$7,\"\")","v":""},{"$f":"IF(F905<>\"\",事業者基本情報!$Y$8,\"\")","v":""},{"$f":"IF(F905<>\"\",事業者基本情報!$E$11&事業者基本情報!$F$11&事業者基本情報!$G$11&事業者基本情報!$H$11&事業者基本情報!$I$11,\"\")","v":""},null,null,null,"市",null,null,"-",null,"-",null,{"$f":"IFERROR(VLOOKUP(Q905,コード表!$B$3:$C$101,2,FALSE),\"\")","v":""},null,{"$f":"IFERROR(VLOOKUP(S905,コード表!$F$7:$G$141,2,FALSE),\"\")","v":""},null,null,"t",null,null,null,null,null,null,null,null,null,null,null,null,null,null,null,null,null,null,null,null,null,null,null,null,null,null,null,null,null,null,null,null,null,null,null,null,null,null,null,null,null,null,null,null,null,null,null,null,"","",{"$f":"IF(BS905=\"\",\"\",IF(COUNTIF(BS$4:BS905,BS905)=1,ROW(),\"\"))","v":""},{"$f":"IFERROR(INDEX(BS:BS,SMALL(BT:BT,ROW(A902))),\"\")","v":""},"","","",""]
[{"$f":"IF(F909<>\"\",事業者基本情報!$E$9&事業者基本情報!$F$9&事業者基本情報!$G$9,\"\")","v":""},{"$f":"IF(F909<>\"\",事業者基本情報!$Y$10,\"\")","v":""},{"$f":"IF(F909<>\"\",事業者基本情報!$Y$7,\"\")","v":""},{"$f":"IF(F909<>\"\",事業者基本情報!$Y$8,\"\")","v":""},{"$f":"IF(F909<>\"\",事業者基本情報!$E$11&事業者基本情報!$F$11&事業者基本情報!$G$11&事業者基本情報!$H$11&事業者基本情報!$I$11,\"\")","v":""},null,null,null,"市",null,null,"-",null,"-",null,{"$f":"IFERROR(VLOOKUP(Q909,コード表!$B$3:$C$101,2,FALSE),\"\")","v":""},null,{"$f":"IFERROR(VLOOKUP(S909,コード表!$F$7:$G$141,2,FALSE),\"\")","v":""},null,null,"t",null,null,null,null,null,null,null,null,null,null,null,null,null,null,null,null,null,null,null,null,null,null,null,null,null,null,null,null,null,null,null,null,null,null,null,null,null,null,null,null,null,null,null,null,null,null,null,null,"","",{"$f":"IF(BS909=\"\",\"\",IF(COUNTIF(BS$4:BS909,BS909)=1,ROW(),\"\"))","v":""},{"$f":"IFERROR(INDEX(BS:BS,SMALL(BT:BT,ROW(A906))),\"\")","v":""},"","","",""]
[{"$f":"IF(F910<>\"\",事業者基本情報!$E$9&事業者基本情報!$F$9&事業者基本情報!$G$9,\"\")","v":""},{"$f":"IF(F910<>\"\",事業者基本情報!$Y$10,\"\")","v":""},{"$f":"IF(F910<>\"\",事業者基本情報!$Y$7,\"\")","v":""},{"$f":"IF(F910<>\"\",事業者基本情報!$Y$8,\"\")","v":""},{"$f":"IF(F910<>\"\",事業者基本情報!$E$11&事業者基本情報!$F$11&事業者基本情報!$G$11&事業者基本情報!$H$11&事業者基本情報!$I$11,\"\")","v":""},null,null,null,"市",null,null,"-",null,"-",null,{"$f":"IFERROR(VLOOKUP(Q910,コード表!$B$3:$C$101,2,FALSE),\"\")","v":""},null,{"$f":"IFERROR(VLOOKUP(S910,コード表!$F$7:$G$141,2,FALSE),\"\")","v":""},null,null,"t",null,null,null,null,null,null,null,null,null,null,null,null,null,null,null,null,null,null,null,null,null,null,null,null,null,null,null,null,null,null,null,null,null,null,null,null,null,null,null,null,null,null,null,null,null,null,null,null,"","",{"$f":"IF(BS910=\"\",\"\",IF(COUNTIF(BS$4:BS910,BS910)=1,ROW(),\"\"))","v":""},{"$f":"IFERROR(INDEX(BS:BS,SMALL(BT:BT,ROW(A907))),\"\")","v":""},"","","",""]
[{"$f":"IF(F914<>\"\",事業者基本情報!$E$9&事業者基本情報!$F$9&事業者基本情報!$G$9,\"\")","v":""},{"$f":"IF(F914<>\"\",事業者基本情報!$Y$10,\"\")","v":""},{"$f":"IF(F914<>\"\",事業者基本情報!$Y$7,\"\")","v":""},{"$f":"IF(F914<>\"\",事業者基本情報!$Y$8,\"\")","v":""},{"$f":"IF(F914<>\"\",事業者基本情報!$E$11&事業者基本情報!$F$11&事業者基本情報!$G$11&事業者基本情報!$H$11&事業者基本情報!$I$11,\"\")","v":""},null,null,null,"市",null,null,"-",null,"-",null,{"$f":"IFERROR(VLOOKUP(Q914,コード表!$B$3:$C$101,2,FALSE),\"\")","v":""},null,{"$f":"IFERROR(VLOOKUP(S914,コード表!$F$7:$G$141,2,FALSE),\"\")","v":""},null,null,"t",null,null,null,null,null,null,null,null,null,null,null,null,null,null,null,null,null,null,null,null,null,null,null,null,null,null,null,null,null,null,null,null,null,null,null,null,null,null,null,null,null,null,null,null,null,null,null,null,"","",{"$f":"IF(BS914=\"\",\"\",IF(COUNTIF(BS$4:BS914,BS914)=1,ROW(),\"\"))","v":""},{"$f":"IFERROR(INDEX(BS:BS,SMALL(BT:BT,ROW(A911))),\"\")","v":""},"","","",""]
[{"$f":"IF(F917<>\"\",事業者基本情報!$E$9&事業者基本情報!$F$9&事業者基本情報!$G$9,\"\")","v":""},{"$f":"IF(F917<>\"\",事業者基本情報!$Y$10,\"\")","v":""},{"$f":"IF(F917<>\"\",事業者基本情報!$Y$7,\"\")","v":""},{"$f":"IF(F917<>\"\",事業者基本情報!$Y$8,\"\")","v":""},{"$f":"IF(F917<>\"\",事業者基本情報!$E$11&事業者基本情報!$F$11&事業者基本情報!$G$11&事業者基本情報!$H$11&事業者基本情報!$I$11,\"\")","v":""},null,null,null,"市",null,null,"-",null,"-",null,{"$f":"IFERROR(VLOOKUP(Q917,コード表!$B$3:$C$101,2,FALSE),\"\")","v":""},null,{"$f":"IFERROR(VLOOKUP(S917,コード表!$F$7:$G$141,2,FALSE),\"\")","v":""},null,null,"t",null,null,null,null,null,null,null,null,null,null,null,null,null,null,null,null,null,null,null,null,null,null,null,null,null,null,null,null,null,null,null,null,null,null,null,null,null,null,null,null,null,null,null,null,null,null,null,null,"","",{"$f":"IF(BS917=\"\",\"\",IF(COUNTIF(BS$4:BS917,BS917)=1,ROW(),\"\"))","v":""},{"$f":"IFERROR(INDEX(BS:BS,SMALL(BT:BT,ROW(A914))),\"\")","v":""},"","","",""]
[{"$f":"IF(F920<>\"\",事業者基本情報!$E$9&事業者基本情報!$F$9&事業者基本情報!$G$9,\"\")","v":""},{"$f":"IF(F920<>\"\",事業者基本情報!$Y$10,\"\")","v":""},{"$f":"IF(F920<>\"\",事業者基本情報!$Y$7,\"\")","v":""},{"$f":"IF(F920<>\"\",事業者基本情報!$Y$8,\"\")","v":""},{"$f":"IF(F920<>\"\",事業者基本情報!$E$11&事業者基本情報!$F$11&事業者基本情報!$G$11&事業者基本情報!$H$11&事業者基本情報!$I$11,\"\")","v":""},null,null,null,"市",null,null,"-",null,"-",null,{"$f":"IFERROR(VLOOKUP(Q920,コード表!$B$3:$C$101,2,FALSE),\"\")","v":""},null,{"$f":"IFERROR(VLOOKUP(S920,コード表!$F$7:$G$141,2,FALSE),\"\")","v":""},null,null,"t",null,null,null,null,null,null,null,null,null,null,null,null,null,null,null,null,null,null,null,null,null,null,null,null,null,null,null,null,null,null,null,null,null,null,null,null,null,null,null,null,null,null,null,null,null,null,null,null,"","",{"$f":"IF(BS920=\"\",\"\",IF(COUNTIF(BS$4:BS920,BS920)=1,ROW(),\"\"))","v":""},{"$f":"IFERROR(INDEX(BS:BS,SMALL(BT:BT,ROW(A917))),\"\")","v":""},"","","",""]
[{"$f":"IF(F923<>\"\",事業者基本情報!$E$9&事業者基本情報!$F$9&事業者基本情報!$G$9,\"\")","v":""},{"$f":"IF(F923<>\"\",事業者基本情報!$Y$10,\"\")","v":""},{"$f":"IF(F923<>\"\",事業者基本情報!$Y$7,\"\")","v":""},{"$f":"IF(F923<>\"\",事業者基本情報!$Y$8,\"\")","v":""},{"$f":"IF(F923<>\"\",事業者基本情報!$E$11&事業者基本情報!$F$11&事業者基本情報!$G$11&事業者基本情報!$H$11&事業者基本情報!$I$11,\"\")","v":""},null,null,null,"市",null,null,"-",null,"-",null,{"$f":"IFERROR(VLOOKUP(Q923,コード表!$B$3:$C$101,2,FALSE),\"\")","v":""},null,{"$f":"IFERROR(VLOOKUP(S923,コード表!$F$7:$G$141,2,FALSE),\"\")","v":""},null,null,"t",null,null,null,null,null,null,null,null,null,null,null,null,null,null,null,null,null,null,null,null,null,null,null,null,null,null,null,null,null,null,null,null,null,null,null,null,null,null,null,null,null,null,null,null,null,null,null,null,"","",{"$f":"IF(BS923=\"\",\"\",IF(COUNTIF(BS$4:BS923,BS923)=1,ROW(),\"\"))","v":""},{"$f":"IFERROR(INDEX(BS:BS,SMALL(BT:BT,ROW(A920))),\"\")","v":""},"","","",""]
[{"$f":"IF(F926<>\"\",事業者基本情報!$E$9&事業者基本情報!$F$9&事業者基本情報!$G$9,\"\")","v":""},{"$f":"IF(F926<>\"\",事業者基本情報!$Y$10,\"\")","v":""},{"$f":"IF(F926<>\"\",事業者基本情報!$Y$7,\"\")","v":""},{"$f":"IF(F926<>\"\",事業者基本情報!$Y$8,\"\")","v":""},{"$f":"IF(F926<>\"\",事業者基本情報!$E$11&事業者基本情報!$F$11&事業者基本情報!$G$11&事業者基本情報!$H$11&事業者基本情報!$I$11,\"\")","v":""},null,null,null,"市",null,null,"-",null,"-",null,{"$f":"IFERROR(VLOOKUP(Q926,コード表!$B$3:$C$101,2,FALSE),\"\")","v":""},null,{"$f":"IFERROR(VLOOKUP(S926,コード表!$F$7:$G$141,2,FALSE),\"\")","v":""},null,null,"t",null,null,null,null,null,null,null,null,null,null,null,null,null,null,null,null,null,null,null,null,null,null,null,null,null,null,null,null,null,null,null,null,null,null,null,null,null,null,null,null,null,null,null,null,null,null,null,null,"","",{"$f":"IF(BS926=\"\",\"\",IF(COUNTIF(BS$4:BS926,BS926)=1,ROW(),\"\"))","v":""},{"$f":"IFERROR(INDEX(BS:BS,SMALL(BT:BT,ROW(A923))),\"\")","v":""},"","","",""]
[{"$f":"IF(F927<>\"\",事業者基本情報!$E$9&事業者基本情報!$F$9&事業者基本情報!$G$9,\"\")","v":""},{"$f":"IF(F927<>\"\",事業者基本情報!$Y$10,\"\")","v":""},{"$f":"IF(F927<>\"\",事業者基本情報!$Y$7,\"\")","v":""},{"$f":"IF(F927<>\"\",事業者基本情報!$Y$8,\"\")","v":""},{"$f":"IF(F927<>\"\",事業者基本情報!$E$11&事業者基本情報!$F$11&事業者基本情報!$G$11&事業者基本情報!$H$11&事業者基本情報!$I$11,\"\")","v":""},null,null,null,"市",null,null,"-",null,"-",null,{"$f":"IFERROR(VLOOKUP(Q927,コード表!$B$3:$C$101,2,FALSE),\"\")","v":""},null,{"$f":"IFERROR(VLOOKUP(S927,コード表!$F$7:$G$141,2,FALSE),\"\")","v":""},null,null,"t",null,null,null,null,null,null,null,null,null,null,null,null,null,null,null,null,null,null,null,null,null,null,null,null,null,null,null,null,null,null,null,null,null,null,null,null,null,null,null,null,null,null,null,null,null,null,null,null,"","",{"$f":"IF(BS927=\"\",\"\",IF(COUNTIF(BS$4:BS927,BS927)=1,ROW(),\"\"))","v":""},{"$f":"IFERROR(INDEX(BS:BS,SMALL(BT:BT,ROW(A924))),\"\")","v":""},"","","",""]
[{"$f":"IF(F931<>\"\",事業者基本情報!$E$9&事業者基本情報!$F$9&事業者基本情報!$G$9,\"\")","v":""},{"$f":"IF(F931<>\"\",事業者基本情報!$Y$10,\"\")","v":""},{"$f":"IF(F931<>\"\",事業者基本情報!$Y$7,\"\")","v":""},{"$f":"IF(F931<>\"\",事業者基本情報!$Y$8,\"\")","v":""},{"$f":"IF(F931<>\"\",事業者基本情報!$E$11&事業者基本情報!$F$11&事業者基本情報!$G$11&事業者基本情報!$H$11&事業者基本情報!$I$11,\"\")","v":""},null,null,null,"市",null,null,"-",null,"-",null,{"$f":"IFERROR(VLOOKUP(Q931,コード表!$B$3:$C$101,2,FALSE),\"\")","v":""},null,{"$f":"IFERROR(VLOOKUP(S931,コード表!$F$7:$G$141,2,FALSE),\"\")","v":""},null,null,"t",null,null,null,null,null,null,null,null,null,null,null,null,null,null,null,null,null,null,null,null,null,null,null,null,null,null,null,null,null,null,null,null,null,null,null,null,null,null,null,null,null,null,null,null,null,null,null,null,"","",{"$f":"IF(BS931=\"\",\"\",IF(COUNTIF(BS$4:BS931,BS931)=1,ROW(),\"\"))","v":""},{"$f":"IFERROR(INDEX(BS:BS,SMALL(BT:BT,ROW(A928))),\"\")","v":""},"","","",""]
[{"$f":"IF(F932<>\"\",事業者基本情報!$E$9&事業者基本情報!$F$9&事業者基本情報!$G$9,\"\")","v":""},{"$f":"IF(F932<>\"\",事業者基本情報!$Y$10,\"\")","v":""},{"$f":"IF(F932<>\"\",事業者基本情報!$Y$7,\"\")","v":""},{"$f":"IF(F932<>\"\",事業者基本情報!$Y$8,\"\")","v":""},{"$f":"IF(F932<>\"\",事業者基本情報!$E$11&事業者基本情報!$F$11&事業者基本情報!$G$11&事業者基本情報!$H$11&事業者基本情報!$I$11,\"\")","v":""},null,null,null,"市",null,null,"-",null,"-",null,{"$f":"IFERROR(VLOOKUP(Q932,コード表!$B$3:$C$101,2,FALSE),\"\")","v":""},null,{"$f":"IFERROR(VLOOKUP(S932,コード表!$F$7:$G$141,2,FALSE),\"\")","v":""},null,null,"t",null,null,null,null,null,null,null,null,null,null,null,null,null,null,null,null,null,null,null,null,null,null,null,null,null,null,null,null,null,null,null,null,null,null,null,null,null,null,null,null,null,null,null,null,null,null,null,null,"","",{"$f":"IF(BS932=\"\",\"\",IF(COUNTIF(BS$4:BS932,BS932)=1,ROW(),\"\"))","v":""},{"$f":"IFERROR(INDEX(BS:BS,SMALL(BT:BT,ROW(A929))),\"\")","v":""},"","","",""]
[{"$f":"IF(F936<>\"\",事業者基本情報!$E$9&事業者基本情報!$F$9&事業者基本情報!$G$9,\"\")","v":""},{"$f":"IF(F936<>\"\",事業者基本情報!$Y$10,\"\")","v":""},{"$f":"IF(F936<>\"\",事業者基本情報!$Y$7,\"\")","v":""},{"$f":"IF(F936<>\"\",事業者基本情報!$Y$8,\"\")","v":""},{"$f":"IF(F936<>\"\",事業者基本情報!$E$11&事業者基本情報!$F$11&事業者基本情報!$G$11&事業者基本情報!$H$11&事業者基本情報!$I$11,\"\")","v":""},null,null,null,"市",null,null,"-",null,"-",null,{"$f":"IFERROR(VLOOKUP(Q936,コード表!$B$3:$C$101,2,FALSE),\"\")","v":""},null,{"$f":"IFERROR(VLOOKUP(S936,コード表!$F$7:$G$141,2,FALSE),\"\")","v":""},null,null,"t",null,null,null,null,null,null,null,null,null,null,null,null,null,null,null,null,null,null,null,null,null,null,null,null,null,null,null,null,null,null,null,null,null,null,null,null,null,null,null,null,null,null,null,null,null,null,null,null,"","",{"$f":"IF(BS936=\"\",\"\",IF(COUNTIF(BS$4:BS936,BS936)=1,ROW(),\"\"))","v":""},{"$f":"IFERROR(INDEX(BS:BS,SMALL(BT:BT,ROW(A933))),\"\")","v":""},"","","",""]
[{"$f":"IF(F939<>\"\",事業者基本情報!$E$9&事業者基本情報!$F$9&事業者基本情報!$G$9,\"\")","v":""},{"$f":"IF(F939<>\"\",事業者基本情報!$Y$10,\"\")","v":""},{"$f":"IF(F939<>\"\",事業者基本情報!$Y$7,\"\")","v":""},{"$f":"IF(F939<>\"\",事業者基本情報!$Y$8,\"\")","v":""},{"$f":"IF(F939<>\"\",事業者基本情報!$E$11&事業者基本情報!$F$11&事業者基本情報!$G$11&事業者基本情報!$H$11&事業者基本情報!$I$11,\"\")","v":""},null,null,null,"市",null,null,"-",null,"-",null,{"$f":"IFERROR(VLOOKUP(Q939,コード表!$B$3:$C$101,2,FALSE),\"\")","v":""},null,{"$f":"IFERROR(VLOOKUP(S939,コード表!$F$7:$G$141,2,FALSE),\"\")","v":""},null,null,"t",null,null,null,null,null,null,null,null,null,null,null,null,null,null,null,null,null,null,null,null,null,null,null,null,null,null,null,null,null,null,null,null,null,null,null,null,null,null,null,null,null,null,null,null,null,null,null,null,"","",{"$f":"IF(BS939=\"\",\"\",IF(COUNTIF(BS$4:BS939,BS939)=1,ROW(),\"\"))","v":""},{"$f":"IFERROR(INDEX(BS:BS,SMALL(BT:BT,ROW(A936))),\"\")","v":""},"","","",""]
[{"$f":"IF(F942<>\"\",事業者基本情報!$E$9&事業者基本情報!$F$9&事業者基本情報!$G$9,\"\")","v":""},{"$f":"IF(F942<>\"\",事業者基本情報!$Y$10,\"\")","v":""},{"$f":"IF(F942<>\"\",事業者基本情報!$Y$7,\"\")","v":""},{"$f":"IF(F942<>\"\",事業者基本情報!$Y$8,\"\")","v":""},{"$f":"IF(F942<>\"\",事業者基本情報!$E$11&事業者基本情報!$F$11&事業者基本情報!$G$11&事業者基本情報!$H$11&事業者基本情報!$I$11,\"\")","v":""},null,null,null,"市",null,null,"-",null,"-",null,{"$f":"IFERROR(VLOOKUP(Q942,コード表!$B$3:$C$101,2,FALSE),\"\")","v":""},null,{"$f":"IFERROR(VLOOKUP(S942,コード表!$F$7:$G$141,2,FALSE),\"\")","v":""},null,null,"t",null,null,null,null,null,null,null,null,null,null,null,null,null,null,null,null,null,null,null,null,null,null,null,null,null,null,null,null,null,null,null,null,null,null,null,null,null,null,null,null,null,null,null,null,null,null,null,null,"","",{"$f":"IF(BS942=\"\",\"\",IF(COUNTIF(BS$4:BS942,BS942)=1,ROW(),\"\"))","v":""},{"$f":"IFERROR(INDEX(BS:BS,SMALL(BT:BT,ROW(A939))),\"\")","v":""},"","","",""]
[{"$f":"IF(F945<>\"\",事業者基本情報!$E$9&事業者基本情報!$F$9&事業者基本情報!$G$9,\"\")","v":""},{"$f":"IF(F945<>\"\",事業者基本情報!$Y$10,\"\")","v":""},{"$f":"IF(F945<>\"\",事業者基本情報!$Y$7,\"\")","v":""},{"$f":"IF(F945<>\"\",事業者基本情報!$Y$8,\"\")","v":""},{"$f":"IF(F945<>\"\",事業者基本情報!$E$11&事業者基本情報!$F$11&事業者基本情報!$G$11&事業者基本情報!$H$11&事業者基本情報!$I$11,\"\")","v":""},null,null,null,"市",null,null,"-",null,"-",null,{"$f":"IFERROR(VLOOKUP(Q945,コード表!$B$3:$C$101,2,FALSE),\"\")","v":""},null,{"$f":"IFERROR(VLOOKUP(S945,コード表!$F$7:$G$141,2,FALSE),\"\")","v":""},null,null,"t",null,null,null,null,null,null,null,null,null,null,null,null,null,null,null,null,null,null,null,null,null,null,null,null,null,null,null,null,null,null,null,null,null,null,null,null,null,null,null,null,null,null,null,null,null,null,null,null,"","",{"$f":"IF(BS945=\"\",\"\",IF(COUNTIF(BS$4:BS945,BS945)=1,ROW(),\"\"))","v":""},{"$f":"IFERROR(INDEX(BS:BS,SMALL(BT:BT,ROW(A942))),\"\")","v":""},"","","",""]
[{"$f":"IF(F948<>\"\",事業者基本情報!$E$9&事業者基本情報!$F$9&事業者基本情報!$G$9,\"\")","v":""},{"$f":"IF(F948<>\"\",事業者基本情報!$Y$10,\"\")","v":""},{"$f":"IF(F948<>\"\",事業者基本情報!$Y$7,\"\")","v":""},{"$f":"IF(F948<>\"\",事業者基本情報!$Y$8,\"\")","v":""},{"$f":"IF(F948<>\"\",事業者基本情報!$E$11&事業者基本情報!$F$11&事業者基本情報!$G$11&事業者基本情報!$H$11&事業者基本情報!$I$11,\"\")","v":""},null,null,null,"市",null,null,"-",null,"-",null,{"$f":"IFERROR(VLOOKUP(Q948,コード表!$B$3:$C$101,2,FALSE),\"\")","v":""},null,{"$f":"IFERROR(VLOOKUP(S948,コード表!$F$7:$G$141,2,FALSE),\"\")","v":""},null,null,"t",null,null,null,null,null,null,null,null,null,null,null,null,null,null,null,null,null,null,null,null,null,null,null,null,null,null,null,null,null,null,null,null,null,null,null,null,null,null,null,null,null,null,null,null,null,null,null,null,"","",{"$f":"IF(BS948=\"\",\"\",IF(COUNTIF(BS$4:BS948,BS948)=1,ROW(),\"\"))","v":""},{"$f":"IFERROR(INDEX(BS:BS,SMALL(BT:BT,ROW(A945))),\"\")","v":""},"","","",""]
[{"$f":"IF(F949<>\"\",事業者基本情報!$E$9&事業者基本情報!$F$9&事業者基本情報!$G$9,\"\")","v":""},{"$f":"IF(F949<>\"\",事業者基本情報!$Y$10,\"\")","v":""},{"$f":"IF(F949<>\"\",事業者基本情報!$Y$7,\"\")","v":""},{"$f":"IF(F949<>\"\",事業者基本情報!$Y$8,\"\")","v":""},{"$f":"IF(F949<>\"\",事業者基本情報!$E$11&事業者基本情報!$F$11&事業者基本情報!$G$11&事業者基本情報!$H$11&事業者基本情報!$I$11,\"\")","v":""},null,null,null,"市",null,null,"-",null,"-",null,{"$f":"IFERROR(VLOOKUP(Q949,コード表!$B$3:$C$101,2,FALSE),\"\")","v":""},null,{"$f":"IFERROR(VLOOKUP(S949,コード表!$F$7:$G$141,2,FALSE),\"\")","v":""},null,null,"t",null,null,null,null,null,null,null,null,null,null,null,null,null,null,null,null,null,null,null,null,null,null,null,null,null,null,null,null,null,null,null,null,null,null,null,null,null,null,null,null,null,null,null,null,null,null,null,null,"","",{"$f":"IF(BS949=\"\",\"\",IF(COUNTIF(BS$4:BS949,BS949)=1,ROW(),\"\"))","v":""},{"$f":"IFERROR(INDEX(BS:BS,SMALL(BT:BT,ROW(A946))),\"\")","v":""},"","","",""]
[{"$f":"IF(F953<>\"\",事業者基本情報!$E$9&事業者基本情報!$F$9&事業者基本情報!$G$9,\"\")","v":""},{"$f":"IF(F953<>\"\",事業者基本情報!$Y$10,\"\")","v":""},{"$f":"IF(F953<>\"\",事業者基本情報!$Y$7,\"\")","v":""},{"$f":"IF(F953<>\"\",事業者基本情報!$Y$8,\"\")","v":""},{"$f":"IF(F953<>\"\",事業者基本情報!$E$11&事業者基本情報!$F$11&事業者基本情報!$G$11&事業者基本情報!$H$11&事業者基本情報!$I$11,\"\")","v":""},null,null,null,"市",null,null,"-",null,"-",null,{"$f":"IFERROR(VLOOKUP(Q953,コード表!$B$3:$C$101,2,FALSE),\"\")","v":""},null,{"$f":"IFERROR(VLOOKUP(S953,コード表!$F$7:$G$141,2,FALSE),\"\")","v":""},null,null,"t",null,null,null,null,null,null,null,null,null,null,null,null,null,null,null,null,null,null,null,null,null,null,null,null,null,null,null,null,null,null,null,null,null,null,null,null,null,null,null,null,null,null,null,null,null,null,null,null,"","",{"$f":"IF(BS953=\"\",\"\",IF(COUNTIF(BS$4:BS953,BS953)=1,ROW(),\"\"))","v":""},{"$f":"IFERROR(INDEX(BS:BS,SMALL(BT:BT,ROW(A950))),\"\")","v":""},"","","",""]
[{"$f":"IF(F955<>\"\",事業者基本情報!$E$9&事業者基本情報!$F$9&事業者基本情報!$G$9,\"\")","v":""},{"$f":"IF(F955<>\"\",事業者基本情報!$Y$10,\"\")","v":""},{"$f":"IF(F955<>\"\",事業者基本情報!$Y$7,\"\")","v":""},{"$f":"IF(F955<>\"\",事業者基本情報!$Y$8,\"\")","v":""},{"$f":"IF(F955<>\"\",事業者基本情報!$E$11&事業者基本情報!$F$11&事業者基本情報!$G$11&事業者基本情報!$H$11&事業者基本情報!$I$11,\"\")","v":""},null,null,null,"市",null,null,"-",null,"-",null,{"$f":"IFERROR(VLOOKUP(Q955,コード表!$B$3:$C$101,2,FALSE),\"\")","v":""},null,{"$f":"IFERROR(VLOOKUP(S955,コード表!$F$7:$G$141,2,FALSE),\"\")","v":""},null,null,"t",null,null,null,null,null,null,null,null,null,null,null,null,null,null,null,null,null,null,null,null,null,null,null,null,null,null,null,null,null,null,null,null,null,null,null,null,null,null,null,null,null,null,null,null,null,null,null,null,"","",{"$f":"IF(BS955=\"\",\"\",IF(COUNTIF(BS$4:BS955,BS955)=1,ROW(),\"\"))","v":""},{"$f":"IFERROR(INDEX(BS:BS,SMALL(BT:BT,ROW(A952))),\"\")","v":""},"","","",""]
[{"$f":"IF(F958<>\"\",事業者基本情報!$E$9&事業者基本情報!$F$9&事業者基本情報!$G$9,\"\")","v":""},{"$f":"IF(F958<>\"\",事業者基本情報!$Y$10,\"\")","v":""},{"$f":"IF(F958<>\"\",事業者基本情報!$Y$7,\"\")","v":""},{"$f":"IF(F958<>\"\",事業者基本情報!$Y$8,\"\")","v":""},{"$f":"IF(F958<>\"\",事業者基本情報!$E$11&事業者基本情報!$F$11&事業者基本情報!$G$11&事業者基本情報!$H$11&事業者基本情報!$I$11,\"\")","v":""},null,null,null,"市",null,null,"-",null,"-",null,{"$f":"IFERROR(VLOOKUP(Q958,コード表!$B$3:$C$101,2,FALSE),\"\")","v":""},null,{"$f":"IFERROR(VLOOKUP(S958,コード表!$F$7:$G$141,2,FALSE),\"\")","v":""},null,null,"t",null,null,null,null,null,null,null,null,null,null,null,null,null,null,null,null,null,null,null,null,null,null,null,null,null,null,null,null,null,null,null,null,null,null,null,null,null,null,null,null,null,null,null,null,null,null,null,null,"","",{"$f":"IF(BS958=\"\",\"\",IF(COUNTIF(BS$4:BS958,BS958)=1,ROW(),\"\"))","v":""},{"$f":"IFERROR(INDEX(BS:BS,SMALL(BT:BT,ROW(A955))),\"\")","v":""},"","","",""]
[{"$f":"IF(F961<>\"\",事業者基本情報!$E$9&事業者基本情報!$F$9&事業者基本情報!$G$9,\"\")","v":""},{"$f":"IF(F961<>\"\",事業者基本情報!$Y$10,\"\")","v":""},{"$f":"IF(F961<>\"\",事業者基本情報!$Y$7,\"\")","v":""},{"$f":"IF(F961<>\"\",事業者基本情報!$Y$8,\"\")","v":""},{"$f":"IF(F961<>\"\",事業者基本情報!$E$11&事業者基本情報!$F$11&事業者基本情報!$G$11&事業者基本情報!$H$11&事業者基本情報!$I$11,\"\")","v":""},null,null,null,"市",null,null,"-",null,"-",null,{"$f":"IFERROR(VLOOKUP(Q961,コード表!$B$3:$C$101,2,FALSE),\"\")","v":""},null,{"$f":"IFERROR(VLOOKUP(S961,コード表!$F$7:$G$141,2,FALSE),\"\")","v":""},null,null,"t",null,null,null,null,null,null,null,null,null,null,null,null,null,null,null,null,null,null,null,null,null,null,null,null,null,null,null,null,null,null,null,null,null,null,null,null,null,null,null,null,null,null,null,null,null,null,null,null,"","",{"$f":"IF(BS961=\"\",\"\",IF(COUNTIF(BS$4:BS961,BS961)=1,ROW(),\"\"))","v":""},{"$f":"IFERROR(INDEX(BS:BS,SMALL(BT:BT,ROW(A958))),\"\")","v":""},"","","",""]
[{"$f":"IF(F964<>\"\",事業者基本情報!$E$9&事業者基本情報!$F$9&事業者基本情報!$G$9,\"\")","v":""},{"$f":"IF(F964<>\"\",事業者基本情報!$Y$10,\"\")","v":""},{"$f":"IF(F964<>\"\",事業者基本情報!$Y$7,\"\")","v":""},{"$f":"IF(F964<>\"\",事業者基本情報!$Y$8,\"\")","v":""},{"$f":"IF(F964<>\"\",事業者基本情報!$E$11&事業者基本情報!$F$11&事業者基本情報!$G$11&事業者基本情報!$H$11&事業者基本情報!$I$11,\"\")","v":""},null,null,null,"市",null,null,"-",null,"-",null,{"$f":"IFERROR(VLOOKUP(Q964,コード表!$B$3:$C$101,2,FALSE),\"\")","v":""},null,{"$f":"IFERROR(VLOOKUP(S964,コード表!$F$7:$G$141,2,FALSE),\"\")","v":""},null,null,"t",null,null,null,null,null,null,null,null,null,null,null,null,null,null,null,null,null,null,null,null,null,null,null,null,null,null,null,null,null,null,null,null,null,null,null,null,null,null,null,null,null,null,null,null,null,null,null,null,{"$f":"IFERROR(IF(TRIM(F964)=\"\",\"\",IF(AND(VALUE(TRIM(R964))>=100000,VALUE(TRIM(R964))<7000000),\"普通産廃\",IF(AND(VALUE(TRIM(R964))>=7000000,VALUE(TRIM(R964))<9000000),\"特別産廃\",\"\"))),\"\")","v":""},{"$f":"IF(BR964<>\"\",TRIM(F964)&\"(\"&BR964&\")\",\"\")","v":""},{"$f":"IF(BS964=\"\",\"\",IF(COUNTIF(BS$4:BS964,BS964)=1,ROW(),\"\"))","v":""},{"$f":"IFERROR(INDEX(BS:BS,SMALL(BT:BT,ROW(A961))),\"\")","v":""},{"$f":"IF(BU964=\"\",\"\",IF(SUMIF(BS:BS,BU964,T:T)=0,\"\",SUMIF(BS:BS,BU964,T:T)))","v":""},{"$f":"IF(AS964<>\"\",AS964,IF(AO964<>\"\",AO964,IF(AK964<>\"\",AK964,IF(AG964<>\"\",AG964,IF(Y964<>\"\",Y964,\"\")))))","v":""},"",{"$f":"IF(F964&G964&H964&J964&K964&M964&O964&Q964&S964&T964&V964&W964&X964&Y964&Z964&AA964&AB964&AC964&AD964&AE964&AF964&AG964&AH964&AI964&AJ964&AK964&AL964&AM964&AN964&AO964&AP964&AQ964&AR964&AS964&AT964=\"\",\"\",1)","v":""}]
[{"$f":"IF(F967<>\"\",事業者基本情報!$E$9&事業者基本情報!$F$9&事業者基本情報!$G$9,\"\")","v":""},{"$f":"IF(F967<>\"\",事業者基本情報!$Y$10,\"\")","v":""},{"$f":"IF(F967<>\"\",事業者基本情報!$Y$7,\"\")","v":""},{"$f":"IF(F967<>\"\",事業者基本情報!$Y$8,\"\")","v":""},{"$f":"IF(F967<>\"\",事業者基本情報!$E$11&事業者基本情報!$F$11&事業者基本情報!$G$11&事業者基本情報!$H$11&事業者基本情報!$I$11,\"\")","v":""},null,null,null,"市",null,null,"-",null,"-",null,{"$f":"IFERROR(VLOOKUP(Q967,コード表!$B$3:$C$101,2,FALSE),\"\")","v":""},null,{"$f":"IFERROR(VLOOKUP(S967,コード表!$F$7:$G$141,2,FALSE),\"\")","v":""},null,null,"t",null,null,null,null,null,null,null,null,null,null,null,null,null,null,null,null,null,null,null,null,null,null,null,null,null,null,null,null,null,null,null,null,null,null,null,null,null,null,null,null,null,null,null,null,null,null,null,null,"","",{"$f":"IF(BS967=\"\",\"\",IF(COUNTIF(BS$4:BS967,BS967)=1,ROW(),\"\"))","v":""},{"$f":"IFERROR(INDEX(BS:BS,SMALL(BT:BT,ROW(A964))),\"\")","v":""},"","","",""]
[{"$f":"IF(F970<>\"\",事業者基本情報!$E$9&事業者基本情報!$F$9&事業者基本情報!$G$9,\"\")","v":""},{"$f":"IF(F970<>\"\",事業者基本情報!$Y$10,\"\")","v":""},{"$f":"IF(F970<>\"\",事業者基本情報!$Y$7,\"\")","v":""},{"$f":"IF(F970<>\"\",事業者基本情報!$Y$8,\"\")","v":""},{"$f":"IF(F970<>\"\",事業者基本情報!$E$11&事業者基本情報!$F$11&事業者基本情報!$G$11&事業者基本情報!$H$11&事業者基本情報!$I$11,\"\")","v":""},null,null,null,"市",null,null,"-",null,"-",null,{"$f":"IFERROR(VLOOKUP(Q970,コード表!$B$3:$C$101,2,FALSE),\"\")","v":""},null,{"$f":"IFERROR(VLOOKUP(S970,コード表!$F$7:$G$141,2,FALSE),\"\")","v":""},null,null,"t",null,null,null,null,null,null,null,null,null,null,null,null,null,null,null,null,null,null,null,null,null,null,null,null,null,null,null,null,null,null,null,null,null,null,null,null,null,null,null,null,null,null,null,null,null,null,null,null,"","",{"$f":"IF(BS970=\"\",\"\",IF(COUNTIF(BS$4:BS970,BS970)=1,ROW(),\"\"))","v":""},{"$f":"IFERROR(INDEX(BS:BS,SMALL(BT:BT,ROW(A967))),\"\")","v":""},"","","",""]
[{"$f":"IF(F971<>\"\",事業者基本情報!$E$9&事業者基本情報!$F$9&事業者基本情報!$G$9,\"\")","v":""},{"$f":"IF(F971<>\"\",事業者基本情報!$Y$10,\"\")","v":""},{"$f":"IF(F971<>\"\",事業者基本情報!$Y$7,\"\")","v":""},{"$f":"IF(F971<>\"\",事業者基本情報!$Y$8,\"\")","v":""},{"$f":"IF(F971<>\"\",事業者基本情報!$E$11&事業者基本情報!$F$11&事業者基本情報!$G$11&事業者基本情報!$H$11&事業者基本情報!$I$11,\"\")","v":""},null,null,null,"市",null,null,"-",null,"-",null,{"$f":"IFERROR(VLOOKUP(Q971,コード表!$B$3:$C$101,2,FALSE),\"\")","v":""},null,{"$f":"IFERROR(VLOOKUP(S971,コード表!$F$7:$G$141,2,FALSE),\"\")","v":""},null,null,"t",null,null,null,null,null,null,null,null,null,null,null,null,null,null,null,null,null,null,null,null,null,null,null,null,null,null,null,null,null,null,null,null,null,null,null,null,null,null,null,null,null,null,null,null,null,null,null,null,"","",{"$f":"IF(BS971=\"\",\"\",IF(COUNTIF(BS$4:BS971,BS971)=1,ROW(),\"\"))","v":""},{"$f":"IFERROR(INDEX(BS:BS,SMALL(BT:BT,ROW(A968))),\"\")","v":""},"","","",""]
[{"$f":"IF(F975<>\"\",事業者基本情報!$E$9&事業者基本情報!$F$9&事業者基本情報!$G$9,\"\")","v":""},{"$f":"IF(F975<>\"\",事業者基本情報!$Y$10,\"\")","v":""},{"$f":"IF(F975<>\"\",事業者基本情報!$Y$7,\"\")","v":""},{"$f":"IF(F975<>\"\",事業者基本情報!$Y$8,\"\")","v":""},{"$f":"IF(F975<>\"\",事業者基本情報!$E$11&事業者基本情報!$F$11&事業者基本情報!$G$11&事業者基本情報!$H$11&事業者基本情報!$I$11,\"\")","v":""},null,null,null,"市",null,null,"-",null,"-",null,{"$f":"IFERROR(VLOOKUP(Q975,コード表!$B$3:$C$101,2,FALSE),\"\")","v":""},null,{"$f":"IFERROR(VLOOKUP(S975,コード表!$F$7:$G$141,2,FALSE),\"\")","v":""},null,null,"t",null,null,null,null,null,null,null,null,null,null,null,null,null,null,null,null,null,null,null,null,null,null,null,null,null,null,null,null,null,null,null,null,null,null,null,null,null,null,null,null,null,null,null,null,null,null,null,null,"","",{"$f":"IF(BS975=\"\",\"\",IF(COUNTIF(BS$4:BS975,BS975)=1,ROW(),\"\"))","v":""},{"$f":"IFERROR(INDEX(BS:BS,SMALL(BT:BT,ROW(A972))),\"\")","v":""},"","","",""]
[{"$f":"IF(F977<>\"\",事業者基本情報!$E$9&事業者基本情報!$F$9&事業者基本情報!$G$9,\"\")","v":""},{"$f":"IF(F977<>\"\",事業者基本情報!$Y$10,\"\")","v":""},{"$f":"IF(F977<>\"\",事業者基本情報!$Y$7,\"\")","v":""},{"$f":"IF(F977<>\"\",事業者基本情報!$Y$8,\"\")","v":""},{"$f":"IF(F977<>\"\",事業者基本情報!$E$11&事業者基本情報!$F$11&事業者基本情報!$G$11&事業者基本情報!$H$11&事業者基本情報!$I$11,\"\")","v":""},null,null,null,"市",null,null,"-",null,"-",null,{"$f":"IFERROR(VLOOKUP(Q977,コード表!$B$3:$C$101,2,FALSE),\"\")","v":""},null,{"$f":"IFERROR(VLOOKUP(S977,コード表!$F$7:$G$141,2,FALSE),\"\")","v":""},null,null,"t",null,null,null,null,null,null,null,null,null,null,null,null,null,null,null,null,null,null,null,null,null,null,null,null,null,null,null,null,null,null,null,null,null,null,null,null,null,null,null,null,null,null,null,null,null,null,null,null,"","",{"$f":"IF(BS977=\"\",\"\",IF(COUNTIF(BS$4:BS977,BS977)=1,ROW(),\"\"))","v":""},{"$f":"IFERROR(INDEX(BS:BS,SMALL(BT:BT,ROW(A974))),\"\")","v":""},"","","",""]
[{"$f":"IF(F980<>\"\",事業者基本情報!$E$9&事業者基本情報!$F$9&事業者基本情報!$G$9,\"\")","v":""},{"$f":"IF(F980<>\"\",事業者基本情報!$Y$10,\"\")","v":""},{"$f":"IF(F980<>\"\",事業者基本情報!$Y$7,\"\")","v":""},{"$f":"IF(F980<>\"\",事業者基本情報!$Y$8,\"\")","v":""},{"$f":"IF(F980<>\"\",事業者基本情報!$E$11&事業者基本情報!$F$11&事業者基本情報!$G$11&事業者基本情報!$H$11&事業者基本情報!$I$11,\"\")","v":""},null,null,null,"市",null,null,"-",null,"-",null,{"$f":"IFERROR(VLOOKUP(Q980,コード表!$B$3:$C$101,2,FALSE),\"\")","v":""},null,{"$f":"IFERROR(VLOOKUP(S980,コード表!$F$7:$G$141,2,FALSE),\"\")","v":""},null,null,"t",null,null,null,null,null,null,null,null,null,null,null,null,null,null,null,null,null,null,null,null,null,null,null,null,null,null,null,null,null,null,null,null,null,null,null,null,null,null,null,null,null,null,null,null,null,null,null,null,"","",{"$f":"IF(BS980=\"\",\"\",IF(COUNTIF(BS$4:BS980,BS980)=1,ROW(),\"\"))","v":""},{"$f":"IFERROR(INDEX(BS:BS,SMALL(BT:BT,ROW(A977))),\"\")","v":""},"","","",""]
[{"$f":"IF(F983<>\"\",事業者基本情報!$E$9&事業者基本情報!$F$9&事業者基本情報!$G$9,\"\")","v":""},{"$f":"IF(F983<>\"\",事業者基本情報!$Y$10,\"\")","v":""},{"$f":"IF(F983<>\"\",事業者基本情報!$Y$7,\"\")","v":""},{"$f":"IF(F983<>\"\",事業者基本情報!$Y$8,\"\")","v":""},{"$f":"IF(F983<>\"\",事業者基本情報!$E$11&事業者基本情報!$F$11&事業者基本情報!$G$11&事業者基本情報!$H$11&事業者基本情報!$I$11,\"\")","v":""},null,null,null,"市",null,null,"-",null,"-",null,{"$f":"IFERROR(VLOOKUP(Q983,コード表!$B$3:$C$101,2,FALSE),\"\")","v":""},null,{"$f":"IFERROR(VLOOKUP(S983,コード表!$F$7:$G$141,2,FALSE),\"\")","v":""},null,null,"t",null,null,null,null,null,null,null,null,null,null,null,null,null,null,null,null,null,null,null,null,null,null,null,null,null,null,null,null,null,null,null,null,null,null,null,null,null,null,null,null,null,null,null,null,null,null,null,null,"","",{"$f":"IF(BS983=\"\",\"\",IF(COUNTIF(BS$4:BS983,BS983)=1,ROW(),\"\"))","v":""},{"$f":"IFERROR(INDEX(BS:BS,SMALL(BT:BT,ROW(A980))),\"\")","v":""},"","","",""]
[{"$f":"IF(F986<>\"\",事業者基本情報!$E$9&事業者基本情報!$F$9&事業者基本情報!$G$9,\"\")","v":""},{"$f":"IF(F986<>\"\",事業者基本情報!$Y$10,\"\")","v":""},{"$f":"IF(F986<>\"\",事業者基本情報!$Y$7,\"\")","v":""},{"$f":"IF(F986<>\"\",事業者基本情報!$Y$8,\"\")","v":""},{"$f":"IF(F986<>\"\",事業者基本情報!$E$11&事業者基本情報!$F$11&事業者基本情報!$G$11&事業者基本情報!$H$11&事業者基本情報!$I$11,\"\")","v":""},null,null,null,"市",null,null,"-",null,"-",null,{"$f":"IFERROR(VLOOKUP(Q986,コード表!$B$3:$C$101,2,FALSE),\"\")","v":""},null,{"$f":"IFERROR(VLOOKUP(S986,コード表!$F$7:$G$141,2,FALSE),\"\")","v":""},null,null,"t",null,null,null,null,null,null,null,null,null,null,null,null,null,null,null,null,null,null,null,null,null,null,null,null,null,null,null,null,null,null,null,null,null,null,null,null,null,null,null,null,null,null,null,null,null,null,null,null,"","",{"$f":"IF(BS986=\"\",\"\",IF(COUNTIF(BS$4:BS986,BS986)=1,ROW(),\"\"))","v":""},{"$f":"IFERROR(INDEX(BS:BS,SMALL(BT:BT,ROW(A983))),\"\")","v":""},"","","",""]
[{"$f":"IF(F989<>\"\",事業者基本情報!$E$9&事業者基本情報!$F$9&事業者基本情報!$G$9,\"\")","v":""},{"$f":"IF(F989<>\"\",事業者基本情報!$Y$10,\"\")","v":""},{"$f":"IF(F989<>\"\",事業者基本情報!$Y$7,\"\")","v":""},{"$f":"IF(F989<>\"\",事業者基本情報!$Y$8,\"\")","v":""},{"$f":"IF(F989<>\"\",事業者基本情報!$E$11&事業者基本情報!$F$11&事業者基本情報!$G$11&事業者基本情報!$H$11&事業者基本情報!$I$11,\"\")","v":""},null,null,null,"市",null,null,"-",null,"-",null,{"$f":"IFERROR(VLOOKUP(Q989,コード表!$B$3:$C$101,2,FALSE),\"\")","v":""},null,{"$f":"IFERROR(VLOOKUP(S989,コード表!$F$7:$G$141,2,FALSE),\"\")","v":""},null,null,"t",null,null,null,null,null,null,null,null,null,null,null,null,null,null,null,null,null,null,null,null,null,null,null,null,null,null,null,null,null,null,null,null,null,null,null,null,null,null,null,null,null,null,null,null,null,null,null,null,"","",{"$f":"IF(BS989=\"\",\"\",IF(COUNTIF(BS$4:BS989,BS989)=1,ROW(),\"\"))","v":""},{"$f":"IFERROR(INDEX(BS:BS,SMALL(BT:BT,ROW(A986))),\"\")","v":""},"","","",""]
[{"$f":"IF(F992<>\"\",事業者基本情報!$E$9&事業者基本情報!$F$9&事業者基本情報!$G$9,\"\")","v":""},{"$f":"IF(F992<>\"\",事業者基本情報!$Y$10,\"\")","v":""},{"$f":"IF(F992<>\"\",事業者基本情報!$Y$7,\"\")","v":""},{"$f":"IF(F992<>\"\",事業者基本情報!$Y$8,\"\")","v":""},{"$f":"IF(F992<>\"\",事業者基本情報!$E$11&事業者基本情報!$F$11&事業者基本情報!$G$11&事業者基本情報!$H$11&事業者基本情報!$I$11,\"\")","v":""},null,null,null,"市",null,null,"-",null,"-",null,{"$f":"IFERROR(VLOOKUP(Q992,コード表!$B$3:$C$101,2,FALSE),\"\")","v":""},null,{"$f":"IFERROR(VLOOKUP(S992,コード表!$F$7:$G$141,2,FALSE),\"\")","v":""},null,null,"t",null,null,null,null,null,null,null,null,null,null,null,null,null,null,null,null,null,null,null,null,null,null,null,null,null,null,null,null,null,null,null,null,null,null,null,null,null,null,null,null,null,null,null,null,null,null,null,null,"","",{"$f":"IF(BS992=\"\",\"\",IF(COUNTIF(BS$4:BS992,BS992)=1,ROW(),\"\"))","v":""},{"$f":"IFERROR(INDEX(BS:BS,SMALL(BT:BT,ROW(A989))),\"\")","v":""},"","","",""]
[{"$f":"IF(F993<>\"\",事業者基本情報!$E$9&事業者基本情報!$F$9&事業者基本情報!$G$9,\"\")","v":""},{"$f":"IF(F993<>\"\",事業者基本情報!$Y$10,\"\")","v":""},{"$f":"IF(F993<>\"\",事業者基本情報!$Y$7,\"\")","v":""},{"$f":"IF(F993<>\"\",事業者基本情報!$Y$8,\"\")","v":""},{"$f":"IF(F993<>\"\",事業者基本情報!$E$11&事業者基本情報!$F$11&事業者基本情報!$G$11&事業者基本情報!$H$11&事業者基本情報!$I$11,\"\")","v":""},null,null,null,"市",null,null,"-",null,"-",null,{"$f":"IFERROR(VLOOKUP(Q993,コード表!$B$3:$C$101,2,FALSE),\"\")","v":""},null,{"$f":"IFERROR(VLOOKUP(S993,コード表!$F$7:$G$141,2,FALSE),\"\")","v":""},null,null,"t",null,null,null,null,null,null,null,null,null,null,null,null,null,null,null,null,null,null,null,null,null,null,null,null,null,null,null,null,null,null,null,null,null,null,null,null,null,null,null,null,null,null,null,null,null,null,null,null,"","",{"$f":"IF(BS993=\"\",\"\",IF(COUNTIF(BS$4:BS993,BS993)=1,ROW(),\"\"))","v":""},{"$f":"IFERROR(INDEX(BS:BS,SMALL(BT:BT,ROW(A990))),\"\")","v":""},"","","",""]
[{"$f":"IF(F997<>\"\",事業者基本情報!$E$9&事業者基本情報!$F$9&事業者基本情報!$G$9,\"\")","v":""},{"$f":"IF(F997<>\"\",事業者基本情報!$Y$10,\"\")","v":""},{"$f":"IF(F997<>\"\",事業者基本情報!$Y$7,\"\")","v":""},{"$f":"IF(F997<>\"\",事業者基本情報!$Y$8,\"\")","v":""},{"$f":"IF(F997<>\"\",事業者基本情報!$E$11&事業者基本情報!$F$11&事業者基本情報!$G$11&事業者基本情報!$H$11&事業者基本情報!$I$11,\"\")","v":""},null,null,null,"市",null,null,"-",null,"-",null,{"$f":"IFERROR(VLOOKUP(Q997,コード表!$B$3:$C$101,2,FALSE),\"\")","v":""},null,{"$f":"IFERROR(VLOOKUP(S997,コード表!$F$7:$G$141,2,FALSE),\"\")","v":""},null,null,"t",null,null,null,null,null,null,null,null,null,null,null,null,null,null,null,null,null,null,null,null,null,null,null,null,null,null,null,null,null,null,null,null,null,null,null,null,null,null,null,null,null,null,null,null,null,null,null,null,"","",{"$f":"IF(BS997=\"\",\"\",IF(COUNTIF(BS$4:BS997,BS997)=1,ROW(),\"\"))","v":""},{"$f":"IFERROR(INDEX(BS:BS,SMALL(BT:BT,ROW(A994))),\"\")","v":""},"","","",""]
[{"$f":"IF(F999<>\"\",事業者基本情報!$E$9&事業者基本情報!$F$9&事業者基本情報!$G$9,\"\")","v":""},{"$f":"IF(F999<>\"\",事業者基本情報!$Y$10,\"\")","v":""},{"$f":"IF(F999<>\"\",事業者基本情報!$Y$7,\"\")","v":""},{"$f":"IF(F999<>\"\",事業者基本情報!$Y$8,\"\")","v":""},{"$f":"IF(F999<>\"\",事業者基本情報!$E$11&事業者基本情報!$F$11&事業者基本情報!$G$11&事業者基本情報!$H$11&事業者基本情報!$I$11,\"\")","v":""},null,null,null,"市",null,null,"-",null,"-",null,{"$f":"IFERROR(VLOOKUP(Q999,コード表!$B$3:$C$101,2,FALSE),\"\")","v":""},null,{"$f":"IFERROR(VLOOKUP(S999,コード表!$F$7:$G$141,2,FALSE),\"\")","v":""},null,null,"t",null,null,null,null,null,null,null,null,null,null,null,null,null,null,null,null,null,null,null,null,null,null,null,null,null,null,null,null,null,null,null,null,null,null,null,null,null,null,null,null,null,null,null,null,null,null,null,null,"","",{"$f":"IF(BS999=\"\",\"\",IF(COUNTIF(BS$4:BS999,BS999)=1,ROW(),\"\"))","v":""},{"$f":"IFERROR(INDEX(BS:BS,SMALL(BT:BT,ROW(A996))),\"\")","v":""},"","","",""]
[{"$f":"IF(F1002<>\"\",事業者基本情報!$E$9&事業者基本情報!$F$9&事業者基本情報!$G$9,\"\")","v":""},{"$f":"IF(F1002<>\"\",事業者基本情報!$Y$10,\"\")","v":""},{"$f":"IF(F1002<>\"\",事業者基本情報!$Y$7,\"\")","v":""},{"$f":"IF(F1002<>\"\",事業者基本情報!$Y$8,\"\")","v":""},{"$f":"IF(F1002<>\"\",事業者基本情報!$E$11&事業者基本情報!$F$11&事業者基本情報!$G$11&事業者基本情報!$H$11&事業者基本情報!$I$11,\"\")","v":""},null,null,null,"市",null,null,"-",null,"-",null,{"$f":"IFERROR(VLOOKUP(Q1002,コード表!$B$3:$C$101,2,FALSE),\"\")","v":""},null,{"$f":"IFERROR(VLOOKUP(S1002,コード表!$F$7:$G$141,2,FALSE),\"\")","v":""},null,null,"t",null,null,null,null,null,null,null,null,null,null,null,null,null,null,null,null,null,null,null,null,null,null,null,null,null,null,null,null,null,null,null,null,null,null,null,null,null,null,null,null,null,null,null,null,null,null,null,null,"","",{"$f":"IF(BS1002=\"\",\"\",IF(COUNTIF(BS$4:BS1002,BS1002)=1,ROW(),\"\"))","v":""},{"$f":"IFERROR(INDEX(BS:BS,SMALL(BT:BT,ROW(A999))),\"\")","v":""},"","","",""]
[{"$f":"IF(F1005<>\"\",事業者基本情報!$E$9&事業者基本情報!$F$9&事業者基本情報!$G$9,\"\")","v":""},{"$f":"IF(F1005<>\"\",事業者基本情報!$Y$10,\"\")","v":""},{"$f":"IF(F1005<>\"\",事業者基本情報!$Y$7,\"\")","v":""},{"$f":"IF(F1005<>\"\",事業者基本情報!$Y$8,\"\")","v":""},{"$f":"IF(F1005<>\"\",事業者基本情報!$E$11&事業者基本情報!$F$11&事業者基本情報!$G$11&事業者基本情報!$H$11&事業者基本情報!$I$11,\"\")","v":""},null,null,null,"市",null,null,"-",null,"-",null,{"$f":"IFERROR(VLOOKUP(Q1005,コード表!$B$3:$C$101,2,FALSE),\"\")","v":""},null,{"$f":"IFERROR(VLOOKUP(S1005,コード表!$F$7:$G$141,2,FALSE),\"\")","v":""},null,null,"t",null,null,null,null,null,null,null,null,null,null,null,null,null,null,null,null,null,null,null,null,null,null,null,null,null,null,null,null,null,null,null,null,null,null,null,null,null,null,null,null,null,null,null,null,null,null,null,null,"","",{"$f":"IF(BS1005=\"\",\"\",IF(COUNTIF(BS$4:BS1005,BS1005)=1,ROW(),\"\"))","v":""},{"$f":"IFERROR(INDEX(BS:BS,SMALL(BT:BT,ROW(A1002))),\"\")","v":""},"","","",""]
[{"$f":"IF(F1008<>\"\",事業者基本情報!$E$9&事業者基本情報!$F$9&事業者基本情報!$G$9,\"\")","v":""},{"$f":"IF(F1008<>\"\",事業者基本情報!$Y$10,\"\")","v":""},{"$f":"IF(F1008<>\"\",事業者基本情報!$Y$7,\"\")","v":""},{"$f":"IF(F1008<>\"\",事業者基本情報!$Y$8,\"\")","v":""},{"$f":"IF(F1008<>\"\",事業者基本情報!$E$11&事業者基本情報!$F$11&事業者基本情報!$G$11&事業者基本情報!$H$11&事業者基本情報!$I$11,\"\")","v":""},null,null,null,"市",null,null,"-",null,"-",null,{"$f":"IFERROR(VLOOKUP(Q1008,コード表!$B$3:$C$101,2,FALSE),\"\")","v":""},null,{"$f":"IFERROR(VLOOKUP(S1008,コード表!$F$7:$G$141,2,FALSE),\"\")","v":""},null,null,"t",null,null,null,null,null,null,null,null,null,null,null,null,null,null,null,null,null,null,null,null,null,null,null,null,null,null,null,null,null,null,null,null,null,null,null,null,null,null,null,null,null,null,null,null,null,null,null,null,"","",{"$f":"IF(BS1008=\"\",\"\",IF(COUNTIF(BS$4:BS1008,BS1008)=1,ROW(),\"\"))","v":""},{"$f":"IFERROR(INDEX(BS:BS,SMALL(BT:BT,ROW(A1005))),\"\")","v":""},"","","",""]
[{"$f":"IF(F1011<>\"\",事業者基本情報!$E$9&事業者基本情報!$F$9&事業者基本情報!$G$9,\"\")","v":""},{"$f":"IF(F1011<>\"\",事業者基本情報!$Y$10,\"\")","v":""},{"$f":"IF(F1011<>\"\",事業者基本情報!$Y$7,\"\")","v":""},{"$f":"IF(F1011<>\"\",事業者基本情報!$Y$8,\"\")","v":""},{"$f":"IF(F1011<>\"\",事業者基本情報!$E$11&事業者基本情報!$F$11&事業者基本情報!$G$11&事業者基本情報!$H$11&事業者基本情報!$I$11,\"\")","v":""},null,null,null,"市",null,null,"-",null,"-",null,{"$f":"IFERROR(VLOOKUP(Q1011,コード表!$B$3:$C$101,2,FALSE),\"\")","v":""},null,{"$f":"IFERROR(VLOOKUP(S1011,コード表!$F$7:$G$141,2,FALSE),\"\")","v":""},null,null,"t",null,null,null,null,null,null,null,null,null,null,null,null,null,null,null,null,null,null,null,null,null,null,null,null,null,null,null,null,null,null,null,null,null,null,null,null,null,null,null,null,null,null,null,null,null,null,null,null,"","",{"$f":"IF(BS1011=\"\",\"\",IF(COUNTIF(BS$4:BS1011,BS1011)=1,ROW(),\"\"))","v":""},{"$f":"IFERROR(INDEX(BS:BS,SMALL(BT:BT,ROW(A1008))),\"\")","v":""},"","","",""]
[{"$f":"IF(F1012<>\"\",事業者基本情報!$E$9&事業者基本情報!$F$9&事業者基本情報!$G$9,\"\")","v":""},{"$f":"IF(F1012<>\"\",事業者基本情報!$Y$10,\"\")","v":""},{"$f":"IF(F1012<>\"\",事業者基本情報!$Y$7,\"\")","v":""},{"$f":"IF(F1012<>\"\",事業者基本情報!$Y$8,\"\")","v":""},{"$f":"IF(F1012<>\"\",事業者基本情報!$E$11&事業者基本情報!$F$11&事業者基本情報!$G$11&事業者基本情報!$H$11&事業者基本情報!$I$11,\"\")","v":""},null,null,null,"市",null,null,"-",null,"-",null,{"$f":"IFERROR(VLOOKUP(Q1012,コード表!$B$3:$C$101,2,FALSE),\"\")","v":""},null,{"$f":"IFERROR(VLOOKUP(S1012,コード表!$F$7:$G$141,2,FALSE),\"\")","v":""},null,null,"t",null,null,null,null,null,null,null,null,null,null,null,null,null,null,null,null,null,null,null,null,null,null,null,null,null,null,null,null,null,null,null,null,null,null,null,null,null,null,null,null,null,null,null,null,null,null,null,null,"","",{"$f":"IF(BS1012=\"\",\"\",IF(COUNTIF(BS$4:BS1012,BS1012)=1,ROW(),\"\"))","v":""},{"$f":"IFERROR(INDEX(BS:BS,SMALL(BT:BT,ROW(A1009))),\"\")","v":""},"","","",""]
[{"$f":"IF(F1015<>\"\",事業者基本情報!$E$9&事業者基本情報!$F$9&事業者基本情報!$G$9,\"\")","v":""},{"$f":"IF(F1015<>\"\",事業者基本情報!$Y$10,\"\")","v":""},{"$f":"IF(F1015<>\"\",事業者基本情報!$Y$7,\"\")","v":""},{"$f":"IF(F1015<>\"\",事業者基本情報!$Y$8,\"\")","v":""},{"$f":"IF(F1015<>\"\",事業者基本情報!$E$11&事業者基本情報!$F$11&事業者基本情報!$G$11&事業者基本情報!$H$11&事業者基本情報!$I$11,\"\")","v":""},null,null,null,"市",null,null,"-",null,"-",null,{"$f":"IFERROR(VLOOKUP(Q1015,コード表!$B$3:$C$101,2,FALSE),\"\")","v":""},null,{"$f":"IFERROR(VLOOKUP(S1015,コード表!$F$7:$G$141,2,FALSE),\"\")","v":""},null,null,"t",null,null,null,null,null,null,null,null,null,null,null,null,null,null,null,null,null,null,null,null,null,null,null,null,null,null,null,null,null,null,null,null,null,null,null,null,null,null,null,null,null,null,null,null,null,null,null,null,"","",{"$f":"IF(BS1015=\"\",\"\",IF(COUNTIF(BS$4:BS1015,BS1015)=1,ROW(),\"\"))","v":""},{"$f":"IFERROR(INDEX(BS:BS,SMALL(BT:BT,ROW(A1012))),\"\")","v":""},"","","",""]
[{"$f":"IF(F1019<>\"\",事業者基本情報!$E$9&事業者基本情報!$F$9&事業者基本情報!$G$9,\"\")","v":""},{"$f":"IF(F1019<>\"\",事業者基本情報!$Y$10,\"\")","v":""},{"$f":"IF(F1019<>\"\",事業者基本情報!$Y$7,\"\")","v":""},{"$f":"IF(F1019<>\"\",事業者基本情報!$Y$8,\"\")","v":""},{"$f":"IF(F1019<>\"\",事業者基本情報!$E$11&事業者基本情報!$F$11&事業者基本情報!$G$11&事業者基本情報!$H$11&事業者基本情報!$I$11,\"\")","v":""},null,null,null,"市",null,null,"-",null,"-",null,{"$f":"IFERROR(VLOOKUP(Q1019,コード表!$B$3:$C$101,2,FALSE),\"\")","v":""},null,{"$f":"IFERROR(VLOOKUP(S1019,コード表!$F$7:$G$141,2,FALSE),\"\")","v":""},null,null,"t",null,null,null,null,null,null,null,null,null,null,null,null,null,null,null,null,null,null,null,null,null,null,null,null,null,null,null,null,null,null,null,null,null,null,null,null,null,null,null,null,null,null,null,null,null,null,null,null,"","",{"$f":"IF(BS1019=\"\",\"\",IF(COUNTIF(BS$4:BS1019,BS1019)=1,ROW(),\"\"))","v":""},{"$f":"IFERROR(INDEX(BS:BS,SMALL(BT:BT,ROW(A1016))),\"\")","v":""},"","","",""]
[{"$f":"IF(F1021<>\"\",事業者基本情報!$E$9&事業者基本情報!$F$9&事業者基本情報!$G$9,\"\")","v":""},{"$f":"IF(F1021<>\"\",事業者基本情報!$Y$10,\"\")","v":""},{"$f":"IF(F1021<>\"\",事業者基本情報!$Y$7,\"\")","v":""},{"$f":"IF(F1021<>\"\",事業者基本情報!$Y$8,\"\")","v":""},{"$f":"IF(F1021<>\"\",事業者基本情報!$E$11&事業者基本情報!$F$11&事業者基本情報!$G$11&事業者基本情報!$H$11&事業者基本情報!$I$11,\"\")","v":""},null,null,null,"市",null,null,"-",null,"-",null,{"$f":"IFERROR(VLOOKUP(Q1021,コード表!$B$3:$C$101,2,FALSE),\"\")","v":""},null,{"$f":"IFERROR(VLOOKUP(S1021,コード表!$F$7:$G$141,2,FALSE),\"\")","v":""},null,null,"t",null,null,null,null,null,null,null,null,null,null,null,null,null,null,null,null,null,null,null,null,null,null,null,null,null,null,null,null,null,null,null,null,null,null,null,null,null,null,null,null,null,null,null,null,null,null,null,null,"","",{"$f":"IF(BS1021=\"\",\"\",IF(COUNTIF(BS$4:BS1021,BS1021)=1,ROW(),\"\"))","v":""},{"$f":"IFERROR(INDEX(BS:BS,SMALL(BT:BT,ROW(A1018))),\"\")","v":""},"","","",""]
[{"$f":"IF(F1024<>\"\",事業者基本情報!$E$9&事業者基本情報!$F$9&事業者基本情報!$G$9,\"\")","v":""},{"$f":"IF(F1024<>\"\",事業者基本情報!$Y$10,\"\")","v":""},{"$f":"IF(F1024<>\"\",事業者基本情報!$Y$7,\"\")","v":""},{"$f":"IF(F1024<>\"\",事業者基本情報!$Y$8,\"\")","v":""},{"$f":"IF(F1024<>\"\",事業者基本情報!$E$11&事業者基本情報!$F$11&事業者基本情報!$G$11&事業者基本情報!$H$11&事業者基本情報!$I$11,\"\")","v":""},null,null,null,"市",null,null,"-",null,"-",null,{"$f":"IFERROR(VLOOKUP(Q1024,コード表!$B$3:$C$101,2,FALSE),\"\")","v":""},null,{"$f":"IFERROR(VLOOKUP(S1024,コード表!$F$7:$G$141,2,FALSE),\"\")","v":""},null,null,"t",null,null,null,null,null,null,null,null,null,null,null,null,null,null,null,null,null,null,null,null,null,null,null,null,null,null,null,null,null,null,null,null,null,null,null,null,null,null,null,null,null,null,null,null,null,null,null,null,"","",{"$f":"IF(BS1024=\"\",\"\",IF(COUNTIF(BS$4:BS1024,BS1024)=1,ROW(),\"\"))","v":""},{"$f":"IFERROR(INDEX(BS:BS,SMALL(BT:BT,ROW(A1021))),\"\")","v":""},"","","",""]
[{"$f":"IF(F1027<>\"\",事業者基本情報!$E$9&事業者基本情報!$F$9&事業者基本情報!$G$9,\"\")","v":""},{"$f":"IF(F1027<>\"\",事業者基本情報!$Y$10,\"\")","v":""},{"$f":"IF(F1027<>\"\",事業者基本情報!$Y$7,\"\")","v":""},{"$f":"IF(F1027<>\"\",事業者基本情報!$Y$8,\"\")","v":""},{"$f":"IF(F1027<>\"\",事業者基本情報!$E$11&事業者基本情報!$F$11&事業者基本情報!$G$11&事業者基本情報!$H$11&事業者基本情報!$I$11,\"\")","v":""},null,null,null,"市",null,null,"-",null,"-",null,{"$f":"IFERROR(VLOOKUP(Q1027,コード表!$B$3:$C$101,2,FALSE),\"\")","v":""},null,{"$f":"IFERROR(VLOOKUP(S1027,コード表!$F$7:$G$141,2,FALSE),\"\")","v":""},null,null,"t",null,null,null,null,null,null,null,null,null,null,null,null,null,null,null,null,null,null,null,null,null,null,null,null,null,null,null,null,null,null,null,null,null,null,null,null,null,null,null,null,null,null,null,null,null,null,null,null,"","",{"$f":"IF(BS1027=\"\",\"\",IF(COUNTIF(BS$4:BS1027,BS1027)=1,ROW(),\"\"))","v":""},{"$f":"IFERROR(INDEX(BS:BS,SMALL(BT:BT,ROW(A1024))),\"\")","v":""},"","","",""]
[{"$f":"IF(F1030<>\"\",事業者基本情報!$E$9&事業者基本情報!$F$9&事業者基本情報!$G$9,\"\")","v":""},{"$f":"IF(F1030<>\"\",事業者基本情報!$Y$10,\"\")","v":""},{"$f":"IF(F1030<>\"\",事業者基本情報!$Y$7,\"\")","v":""},{"$f":"IF(F1030<>\"\",事業者基本情報!$Y$8,\"\")","v":""},{"$f":"IF(F1030<>\"\",事業者基本情報!$E$11&事業者基本情報!$F$11&事業者基本情報!$G$11&事業者基本情報!$H$11&事業者基本情報!$I$11,\"\")","v":""},null,null,null,"市",null,null,"-",null,"-",null,{"$f":"IFERROR(VLOOKUP(Q1030,コード表!$B$3:$C$101,2,FALSE),\"\")","v":""},null,{"$f":"IFERROR(VLOOKUP(S1030,コード表!$F$7:$G$141,2,FALSE),\"\")","v":""},null,null,"t",null,null,null,null,null,null,null,null,null,null,null,null,null,null,null,null,null,null,null,null,null,null,null,null,null,null,null,null,null,null,null,null,null,null,null,null,null,null,null,null,null,null,null,null,null,null,null,null,"","",{"$f":"IF(BS1030=\"\",\"\",IF(COUNTIF(BS$4:BS1030,BS1030)=1,ROW(),\"\"))","v":""},{"$f":"IFERROR(INDEX(BS:BS,SMALL(BT:BT,ROW(A1027))),\"\")","v":""},"","","",""]
[{"$f":"IF(F1033<>\"\",事業者基本情報!$E$9&事業者基本情報!$F$9&事業者基本情報!$G$9,\"\")","v":""},{"$f":"IF(F1033<>\"\",事業者基本情報!$Y$10,\"\")","v":""},{"$f":"IF(F1033<>\"\",事業者基本情報!$Y$7,\"\")","v":""},{"$f":"IF(F1033<>\"\",事業者基本情報!$Y$8,\"\")","v":""},{"$f":"IF(F1033<>\"\",事業者基本情報!$E$11&事業者基本情報!$F$11&事業者基本情報!$G$11&事業者基本情報!$H$11&事業者基本情報!$I$11,\"\")","v":""},null,null,null,"市",null,null,"-",null,"-",null,{"$f":"IFERROR(VLOOKUP(Q1033,コード表!$B$3:$C$101,2,FALSE),\"\")","v":""},null,{"$f":"IFERROR(VLOOKUP(S1033,コード表!$F$7:$G$141,2,FALSE),\"\")","v":""},null,null,"t",null,null,null,null,null,null,null,null,null,null,null,null,null,null,null,null,null,null,null,null,null,null,null,null,null,null,null,null,null,null,null,null,null,null,null,null,null,null,null,null,null,null,null,null,null,null,null,null,"","",{"$f":"IF(BS1033=\"\",\"\",IF(COUNTIF(BS$4:BS1033,BS1033)=1,ROW(),\"\"))","v":""},{"$f":"IFERROR(INDEX(BS:BS,SMALL(BT:BT,ROW(A1030))),\"\")","v":""},"","","",""]
[{"$f":"IF(F1034<>\"\",事業者基本情報!$E$9&事業者基本情報!$F$9&事業者基本情報!$G$9,\"\")","v":""},{"$f":"IF(F1034<>\"\",事業者基本情報!$Y$10,\"\")","v":""},{"$f":"IF(F1034<>\"\",事業者基本情報!$Y$7,\"\")","v":""},{"$f":"IF(F1034<>\"\",事業者基本情報!$Y$8,\"\")","v":""},{"$f":"IF(F1034<>\"\",事業者基本情報!$E$11&事業者基本情報!$F$11&事業者基本情報!$G$11&事業者基本情報!$H$11&事業者基本情報!$I$11,\"\")","v":""},null,null,null,"市",null,null,"-",null,"-",null,{"$f":"IFERROR(VLOOKUP(Q1034,コード表!$B$3:$C$101,2,FALSE),\"\")","v":""},null,{"$f":"IFERROR(VLOOKUP(S1034,コード表!$F$7:$G$141,2,FALSE),\"\")","v":""},null,null,"t",null,null,null,null,null,null,null,null,null,null,null,null,null,null,null,null,null,null,null,null,null,null,null,null,null,null,null,null,null,null,null,null,null,null,null,null,null,null,null,null,null,null,null,null,null,null,null,null,"","",{"$f":"IF(BS1034=\"\",\"\",IF(COUNTIF(BS$4:BS1034,BS1034)=1,ROW(),\"\"))","v":""},{"$f":"IFERROR(INDEX(BS:BS,SMALL(BT:BT,ROW(A1031))),\"\")","v":""},"","","",""]
[{"$f":"IF(F1037<>\"\",事業者基本情報!$E$9&事業者基本情報!$F$9&事業者基本情報!$G$9,\"\")","v":""},{"$f":"IF(F1037<>\"\",事業者基本情報!$Y$10,\"\")","v":""},{"$f":"IF(F1037<>\"\",事業者基本情報!$Y$7,\"\")","v":""},{"$f":"IF(F1037<>\"\",事業者基本情報!$Y$8,\"\")","v":""},{"$f":"IF(F1037<>\"\",事業者基本情報!$E$11&事業者基本情報!$F$11&事業者基本情報!$G$11&事業者基本情報!$H$11&事業者基本情報!$I$11,\"\")","v":""},null,null,null,"市",null,null,"-",null,"-",null,{"$f":"IFERROR(VLOOKUP(Q1037,コード表!$B$3:$C$101,2,FALSE),\"\")","v":""},null,{"$f":"IFERROR(VLOOKUP(S1037,コード表!$F$7:$G$141,2,FALSE),\"\")","v":""},null,null,"t",null,null,null,null,null,null,null,null,null,null,null,null,null,null,null,null,null,null,null,null,null,null,null,null,null,null,null,null,null,null,null,null,null,null,null,null,null,null,null,null,null,null,null,null,null,null,null,null,"","",{"$f":"IF(BS1037=\"\",\"\",IF(COUNTIF(BS$4:BS1037,BS1037)=1,ROW(),\"\"))","v":""},{"$f":"IFERROR(INDEX(BS:BS,SMALL(BT:BT,ROW(A1034))),\"\")","v":""},"","","",""]
[{"$f":"IF(F1041<>\"\",事業者基本情報!$E$9&事業者基本情報!$F$9&事業者基本情報!$G$9,\"\")","v":""},{"$f":"IF(F1041<>\"\",事業者基本情報!$Y$10,\"\")","v":""},{"$f":"IF(F1041<>\"\",事業者基本情報!$Y$7,\"\")","v":""},{"$f":"IF(F1041<>\"\",事業者基本情報!$Y$8,\"\")","v":""},{"$f":"IF(F1041<>\"\",事業者基本情報!$E$11&事業者基本情報!$F$11&事業者基本情報!$G$11&事業者基本情報!$H$11&事業者基本情報!$I$11,\"\")","v":""},null,null,null,"市",null,null,"-",null,"-",null,{"$f":"IFERROR(VLOOKUP(Q1041,コード表!$B$3:$C$101,2,FALSE),\"\")","v":""},null,{"$f":"IFERROR(VLOOKUP(S1041,コード表!$F$7:$G$141,2,FALSE),\"\")","v":""},null,null,"t",null,null,null,null,null,null,null,null,null,null,null,null,null,null,null,null,null,null,null,null,null,null,null,null,null,null,null,null,null,null,null,null,null,null,null,null,null,null,null,null,null,null,null,null,null,null,null,null,"","",{"$f":"IF(BS1041=\"\",\"\",IF(COUNTIF(BS$4:BS1041,BS1041)=1,ROW(),\"\"))","v":""},{"$f":"IFERROR(INDEX(BS:BS,SMALL(BT:BT,ROW(A1038))),\"\")","v":""},"","","",""]
[{"$f":"IF(F1043<>\"\",事業者基本情報!$E$9&事業者基本情報!$F$9&事業者基本情報!$G$9,\"\")","v":""},{"$f":"IF(F1043<>\"\",事業者基本情報!$Y$10,\"\")","v":""},{"$f":"IF(F1043<>\"\",事業者基本情報!$Y$7,\"\")","v":""},{"$f":"IF(F1043<>\"\",事業者基本情報!$Y$8,\"\")","v":""},{"$f":"IF(F1043<>\"\",事業者基本情報!$E$11&事業者基本情報!$F$11&事業者基本情報!$G$11&事業者基本情報!$H$11&事業者基本情報!$I$11,\"\")","v":""},null,null,null,"市",null,null,"-",null,"-",null,{"$f":"IFERROR(VLOOKUP(Q1043,コード表!$B$3:$C$101,2,FALSE),\"\")","v":""},null,{"$f":"IFERROR(VLOOKUP(S1043,コード表!$F$7:$G$141,2,FALSE),\"\")","v":""},null,null,"t",null,null,null,null,null,null,null,null,null,null,null,null,null,null,null,null,null,null,null,null,null,null,null,null,null,null,null,null,null,null,null,null,null,null,null,null,null,null,null,null,null,null,null,null,null,null,null,null,"","",{"$f":"IF(BS1043=\"\",\"\",IF(COUNTIF(BS$4:BS1043,BS1043)=1,ROW(),\"\"))","v":""},{"$f":"IFERROR(INDEX(BS:BS,SMALL(BT:BT,ROW(A1040))),\"\")","v":""},"","","",""]
[{"$f":"IF(F1046<>\"\",事業者基本情報!$E$9&事業者基本情報!$F$9&事業者基本情報!$G$9,\"\")","v":""},{"$f":"IF(F1046<>\"\",事業者基本情報!$Y$10,\"\")","v":""},{"$f":"IF(F1046<>\"\",事業者基本情報!$Y$7,\"\")","v":""},{"$f":"IF(F1046<>\"\",事業者基本情報!$Y$8,\"\")","v":""},{"$f":"IF(F1046<>\"\",事業者基本情報!$E$11&事業者基本情報!$F$11&事業者基本情報!$G$11&事業者基本情報!$H$11&事業者基本情報!$I$11,\"\")","v":""},null,null,null,"市",null,null,"-",null,"-",null,{"$f":"IFERROR(VLOOKUP(Q1046,コード表!$B$3:$C$101,2,FALSE),\"\")","v":""},null,{"$f":"IFERROR(VLOOKUP(S1046,コード表!$F$7:$G$141,2,FALSE),\"\")","v":""},null,null,"t",null,null,null,null,null,null,null,null,null,null,null,null,null,null,null,null,null,null,null,null,null,null,null,null,null,null,null,null,null,null,null,null,null,null,null,null,null,null,null,null,null,null,null,null,null,null,null,null,"","",{"$f":"IF(BS1046=\"\",\"\",IF(COUNTIF(BS$4:BS1046,BS1046)=1,ROW(),\"\"))","v":""},{"$f":"IFERROR(INDEX(BS:BS,SMALL(BT:BT,ROW(A1043))),\"\")","v":""},"","","",""]
[{"$f":"IF(F1050<>\"\",事業者基本情報!$E$9&事業者基本情報!$F$9&事業者基本情報!$G$9,\"\")","v":""},{"$f":"IF(F1050<>\"\",事業者基本情報!$Y$10,\"\")","v":""},{"$f":"IF(F1050<>\"\",事業者基本情報!$Y$7,\"\")","v":""},{"$f":"IF(F1050<>\"\",事業者基本情報!$Y$8,\"\")","v":""},{"$f":"IF(F1050<>\"\",事業者基本情報!$E$11&事業者基本情報!$F$11&事業者基本情報!$G$11&事業者基本情報!$H$11&事業者基本情報!$I$11,\"\")","v":""},null,null,null,"市",null,null,"-",null,"-",null,{"$f":"IFERROR(VLOOKUP(Q1050,コード表!$B$3:$C$101,2,FALSE),\"\")","v":""},null,{"$f":"IFERROR(VLOOKUP(S1050,コード表!$F$7:$G$141,2,FALSE),\"\")","v":""},null,null,"t",null,null,null,null,null,null,null,null,null,null,null,null,null,null,null,null,null,null,null,null,null,null,null,null,null,null,null,null,null,null,null,null,null,null,null,null,null,null,null,null,null,null,null,null,null,null,null,null,"","",{"$f":"IF(BS1050=\"\",\"\",IF(COUNTIF(BS$4:BS1050,BS1050)=1,ROW(),\"\"))","v":""},{"$f":"IFERROR(INDEX(BS:BS,SMALL(BT:BT,ROW(A1047))),\"\")","v":""},"","","",""]
[{"$f":"IF(F1052<>\"\",事業者基本情報!$E$9&事業者基本情報!$F$9&事業者基本情報!$G$9,\"\")","v":""},{"$f":"IF(F1052<>\"\",事業者基本情報!$Y$10,\"\")","v":""},{"$f":"IF(F1052<>\"\",事業者基本情報!$Y$7,\"\")","v":""},{"$f":"IF(F1052<>\"\",事業者基本情報!$Y$8,\"\")","v":""},{"$f":"IF(F1052<>\"\",事業者基本情報!$E$11&事業者基本情報!$F$11&事業者基本情報!$G$11&事業者基本情報!$H$11&事業者基本情報!$I$11,\"\")","v":""},null,null,null,"市",null,null,"-",null,"-",null,{"$f":"IFERROR(VLOOKUP(Q1052,コード表!$B$3:$C$101,2,FALSE),\"\")","v":""},null,{"$f":"IFERROR(VLOOKUP(S1052,コード表!$F$7:$G$141,2,FALSE),\"\")","v":""},null,null,"t",null,null,null,null,null,null,null,null,null,null,null,null,null,null,null,null,null,null,null,null,null,null,null,null,null,null,null,null,null,null,null,null,null,null,null,null,null,null,null,null,null,null,null,null,null,null,null,null,"","",{"$f":"IF(BS1052=\"\",\"\",IF(COUNTIF(BS$4:BS1052,BS1052)=1,ROW(),\"\"))","v":""},{"$f":"IFERROR(INDEX(BS:BS,SMALL(BT:BT,ROW(A1049))),\"\")","v":""},"","","",""]
[{"$f":"IF(F1055<>\"\",事業者基本情報!$E$9&事業者基本情報!$F$9&事業者基本情報!$G$9,\"\")","v":""},{"$f":"IF(F1055<>\"\",事業者基本情報!$Y$10,\"\")","v":""},{"$f":"IF(F1055<>\"\",事業者基本情報!$Y$7,\"\")","v":""},{"$f":"IF(F1055<>\"\",事業者基本情報!$Y$8,\"\")","v":""},{"$f":"IF(F1055<>\"\",事業者基本情報!$E$11&事業者基本情報!$F$11&事業者基本情報!$G$11&事業者基本情報!$H$11&事業者基本情報!$I$11,\"\")","v":""},null,null,null,"市",null,null,"-",null,"-",null,{"$f":"IFERROR(VLOOKUP(Q1055,コード表!$B$3:$C$101,2,FALSE),\"\")","v":""},null,{"$f":"IFERROR(VLOOKUP(S1055,コード表!$F$7:$G$141,2,FALSE),\"\")","v":""},null,null,"t",null,null,null,null,null,null,null,null,null,null,null,null,null,null,null,null,null,null,null,null,null,null,null,null,null,null,null,null,null,null,null,null,null,null,null,null,null,null,null,null,null,null,null,null,null,null,null,null,"","",{"$f":"IF(BS1055=\"\",\"\",IF(COUNTIF(BS$4:BS1055,BS1055)=1,ROW(),\"\"))","v":""},{"$f":"IFERROR(INDEX(BS:BS,SMALL(BT:BT,ROW(A1052))),\"\")","v":""},"","","",""]
[{"$f":"IF(F1056<>\"\",事業者基本情報!$E$9&事業者基本情報!$F$9&事業者基本情報!$G$9,\"\")","v":""},{"$f":"IF(F1056<>\"\",事業者基本情報!$Y$10,\"\")","v":""},{"$f":"IF(F1056<>\"\",事業者基本情報!$Y$7,\"\")","v":""},{"$f":"IF(F1056<>\"\",事業者基本情報!$Y$8,\"\")","v":""},{"$f":"IF(F1056<>\"\",事業者基本情報!$E$11&事業者基本情報!$F$11&事業者基本情報!$G$11&事業者基本情報!$H$11&事業者基本情報!$I$11,\"\")","v":""},null,null,null,"市",null,null,"-",null,"-",null,{"$f":"IFERROR(VLOOKUP(Q1056,コード表!$B$3:$C$101,2,FALSE),\"\")","v":""},null,{"$f":"IFERROR(VLOOKUP(S1056,コード表!$F$7:$G$141,2,FALSE),\"\")","v":""},null,null,"t",null,null,null,null,null,null,null,null,null,null,null,null,null,null,null,null,null,null,null,null,null,null,null,null,null,null,null,null,null,null,null,null,null,null,null,null,null,null,null,null,null,null,null,null,null,null,null,null,"","",{"$f":"IF(BS1056=\"\",\"\",IF(COUNTIF(BS$4:BS1056,BS1056)=1,ROW(),\"\"))","v":""},{"$f":"IFERROR(INDEX(BS:BS,SMALL(BT:BT,ROW(A1053))),\"\")","v":""},"","","",""]
[{"$f":"IF(F1059<>\"\",事業者基本情報!$E$9&事業者基本情報!$F$9&事業者基本情報!$G$9,\"\")","v":""},{"$f":"IF(F1059<>\"\",事業者基本情報!$Y$10,\"\")","v":""},{"$f":"IF(F1059<>\"\",事業者基本情報!$Y$7,\"\")","v":""},{"$f":"IF(F1059<>\"\",事業者基本情報!$Y$8,\"\")","v":""},{"$f":"IF(F1059<>\"\",事業者基本情報!$E$11&事業者基本情報!$F$11&事業者基本情報!$G$11&事業者基本情報!$H$11&事業者基本情報!$I$11,\"\")","v":""},null,null,null,"市",null,null,"-",null,"-",null,{"$f":"IFERROR(VLOOKUP(Q1059,コード表!$B$3:$C$101,2,FALSE),\"\")","v":""},null,{"$f":"IFERROR(VLOOKUP(S1059,コード表!$F$7:$G$141,2,FALSE),\"\")","v":""},null,null,"t",null,null,null,null,null,null,null,null,null,null,null,null,null,null,null,null,null,null,null,null,null,null,null,null,null,null,null,null,null,null,null,null,null,null,null,null,null,null,null,null,null,null,null,null,null,null,null,null,"","",{"$f":"IF(BS1059=\"\",\"\",IF(COUNTIF(BS$4:BS1059,BS1059)=1,ROW(),\"\"))","v":""},{"$f":"IFERROR(INDEX(BS:BS,SMALL(BT:BT,ROW(A1056))),\"\")","v":""},"","","",""]
[{"$f":"IF(F1063<>\"\",事業者基本情報!$E$9&事業者基本情報!$F$9&事業者基本情報!$G$9,\"\")","v":""},{"$f":"IF(F1063<>\"\",事業者基本情報!$Y$10,\"\")","v":""},{"$f":"IF(F1063<>\"\",事業者基本情報!$Y$7,\"\")","v":""},{"$f":"IF(F1063<>\"\",事業者基本情報!$Y$8,\"\")","v":""},{"$f":"IF(F1063<>\"\",事業者基本情報!$E$11&事業者基本情報!$F$11&事業者基本情報!$G$11&事業者基本情報!$H$11&事業者基本情報!$I$11,\"\")","v":""},null,null,null,"市",null,null,"-",null,"-",null,{"$f":"IFERROR(VLOOKUP(Q1063,コード表!$B$3:$C$101,2,FALSE),\"\")","v":""},null,{"$f":"IFERROR(VLOOKUP(S1063,コード表!$F$7:$G$141,2,FALSE),\"\")","v":""},null,null,"t",null,null,null,null,null,null,null,null,null,null,null,null,null,null,null,null,null,null,null,null,null,null,null,null,null,null,null,null,null,null,null,null,null,null,null,null,null,null,null,null,null,null,null,null,null,null,null,null,"","",{"$f":"IF(BS1063=\"\",\"\",IF(COUNTIF(BS$4:BS1063,BS1063)=1,ROW(),\"\"))","v":""},{"$f":"IFERROR(INDEX(BS:BS,SMALL(BT:BT,ROW(A1060))),\"\")","v":""},"","","",""]
[{"$f":"IF(F1065<>\"\",事業者基本情報!$E$9&事業者基本情報!$F$9&事業者基本情報!$G$9,\"\")","v":""},{"$f":"IF(F1065<>\"\",事業者基本情報!$Y$10,\"\")","v":""},{"$f":"IF(F1065<>\"\",事業者基本情報!$Y$7,\"\")","v":""},{"$f":"IF(F1065<>\"\",事業者基本情報!$Y$8,\"\")","v":""},{"$f":"IF(F1065<>\"\",事業者基本情報!$E$11&事業者基本情報!$F$11&事業者基本情報!$G$11&事業者基本情報!$H$11&事業者基本情報!$I$11,\"\")","v":""},null,null,null,"市",null,null,"-",null,"-",null,{"$f":"IFERROR(VLOOKUP(Q1065,コード表!$B$3:$C$101,2,FALSE),\"\")","v":""},null,{"$f":"IFERROR(VLOOKUP(S1065,コード表!$F$7:$G$141,2,FALSE),\"\")","v":""},null,null,"t",null,null,null,null,null,null,null,null,null,null,null,null,null,null,null,null,null,null,null,null,null,null,null,null,null,null,null,null,null,null,null,null,null,null,null,null,null,null,null,null,null,null,null,null,null,null,null,null,"","",{"$f":"IF(BS1065=\"\",\"\",IF(COUNTIF(BS$4:BS1065,BS1065)=1,ROW(),\"\"))","v":""},{"$f":"IFERROR(INDEX(BS:BS,SMALL(BT:BT,ROW(A1062))),\"\")","v":""},"","","",""]
[{"$f":"IF(F1068<>\"\",事業者基本情報!$E$9&事業者基本情報!$F$9&事業者基本情報!$G$9,\"\")","v":""},{"$f":"IF(F1068<>\"\",事業者基本情報!$Y$10,\"\")","v":""},{"$f":"IF(F1068<>\"\",事業者基本情報!$Y$7,\"\")","v":""},{"$f":"IF(F1068<>\"\",事業者基本情報!$Y$8,\"\")","v":""},{"$f":"IF(F1068<>\"\",事業者基本情報!$E$11&事業者基本情報!$F$11&事業者基本情報!$G$11&事業者基本情報!$H$11&事業者基本情報!$I$11,\"\")","v":""},null,null,null,"市",null,null,"-",null,"-",null,{"$f":"IFERROR(VLOOKUP(Q1068,コード表!$B$3:$C$101,2,FALSE),\"\")","v":""},null,{"$f":"IFERROR(VLOOKUP(S1068,コード表!$F$7:$G$141,2,FALSE),\"\")","v":""},null,null,"t",null,null,null,null,null,null,null,null,null,null,null,null,null,null,null,null,null,null,null,null,null,null,null,null,null,null,null,null,null,null,null,null,null,null,null,null,null,null,null,null,null,null,null,null,null,null,null,null,"","",{"$f":"IF(BS1068=\"\",\"\",IF(COUNTIF(BS$4:BS1068,BS1068)=1,ROW(),\"\"))","v":""},{"$f":"IFERROR(INDEX(BS:BS,SMALL(BT:BT,ROW(A1065))),\"\")","v":""},"","","",""]
[{"$f":"IF(F1072<>\"\",事業者基本情報!$E$9&事業者基本情報!$F$9&事業者基本情報!$G$9,\"\")","v":""},{"$f":"IF(F1072<>\"\",事業者基本情報!$Y$10,\"\")","v":""},{"$f":"IF(F1072<>\"\",事業者基本情報!$Y$7,\"\")","v":""},{"$f":"IF(F1072<>\"\",事業者基本情報!$Y$8,\"\")","v":""},{"$f":"IF(F1072<>\"\",事業者基本情報!$E$11&事業者基本情報!$F$11&事業者基本情報!$G$11&事業者基本情報!$H$11&事業者基本情報!$I$11,\"\")","v":""},null,null,null,"市",null,null,"-",null,"-",null,{"$f":"IFERROR(VLOOKUP(Q1072,コード表!$B$3:$C$101,2,FALSE),\"\")","v":""},null,{"$f":"IFERROR(VLOOKUP(S1072,コード表!$F$7:$G$141,2,FALSE),\"\")","v":""},null,null,"t",null,null,null,null,null,null,null,null,null,null,null,null,null,null,null,null,null,null,null,null,null,null,null,null,null,null,null,null,null,null,null,null,null,null,null,null,null,null,null,null,null,null,null,null,null,null,null,null,"","",{"$f":"IF(BS1072=\"\",\"\",IF(COUNTIF(BS$4:BS1072,BS1072)=1,ROW(),\"\"))","v":""},{"$f":"IFERROR(INDEX(BS:BS,SMALL(BT:BT,ROW(A1069))),\"\")","v":""},"","","",""]
[{"$f":"IF(F1074<>\"\",事業者基本情報!$E$9&事業者基本情報!$F$9&事業者基本情報!$G$9,\"\")","v":""},{"$f":"IF(F1074<>\"\",事業者基本情報!$Y$10,\"\")","v":""},{"$f":"IF(F1074<>\"\",事業者基本情報!$Y$7,\"\")","v":""},{"$f":"IF(F1074<>\"\",事業者基本情報!$Y$8,\"\")","v":""},{"$f":"IF(F1074<>\"\",事業者基本情報!$E$11&事業者基本情報!$F$11&事業者基本情報!$G$11&事業者基本情報!$H$11&事業者基本情報!$I$11,\"\")","v":""},null,null,null,"市",null,null,"-",null,"-",null,{"$f":"IFERROR(VLOOKUP(Q1074,コード表!$B$3:$C$101,2,FALSE),\"\")","v":""},null,{"$f":"IFERROR(VLOOKUP(S1074,コード表!$F$7:$G$141,2,FALSE),\"\")","v":""},null,null,"t",null,null,null,null,null,null,null,null,null,null,null,null,null,null,null,null,null,null,null,null,null,null,null,null,null,null,null,null,null,null,null,null,null,null,null,null,null,null,null,null,null,null,null,null,null,null,null,null,"","",{"$f":"IF(BS1074=\"\",\"\",IF(COUNTIF(BS$4:BS1074,BS1074)=1,ROW(),\"\"))","v":""},{"$f":"IFERROR(INDEX(BS:BS,SMALL(BT:BT,ROW(A1071))),\"\")","v":""},"","","",""]
[{"$f":"IF(F1077<>\"\",事業者基本情報!$E$9&事業者基本情報!$F$9&事業者基本情報!$G$9,\"\")","v":""},{"$f":"IF(F1077<>\"\",事業者基本情報!$Y$10,\"\")","v":""},{"$f":"IF(F1077<>\"\",事業者基本情報!$Y$7,\"\")","v":""},{"$f":"IF(F1077<>\"\",事業者基本情報!$Y$8,\"\")","v":""},{"$f":"IF(F1077<>\"\",事業者基本情報!$E$11&事業者基本情報!$F$11&事業者基本情報!$G$11&事業者基本情報!$H$11&事業者基本情報!$I$11,\"\")","v":""},null,null,null,"市",null,null,"-",null,"-",null,{"$f":"IFERROR(VLOOKUP(Q1077,コード表!$B$3:$C$101,2,FALSE),\"\")","v":""},null,{"$f":"IFERROR(VLOOKUP(S1077,コード表!$F$7:$G$141,2,FALSE),\"\")","v":""},null,null,"t",null,null,null,null,null,null,null,null,null,null,null,null,null,null,null,null,null,null,null,null,null,null,null,null,null,null,null,null,null,null,null,null,null,null,null,null,null,null,null,null,null,null,null,null,null,null,null,null,"","",{"$f":"IF(BS1077=\"\",\"\",IF(COUNTIF(BS$4:BS1077,BS1077)=1,ROW(),\"\"))","v":""},{"$f":"IFERROR(INDEX(BS:BS,SMALL(BT:BT,ROW(A1074))),\"\")","v":""},"","","",""]
[{"$f":"IF(F1078<>\"\",事業者基本情報!$E$9&事業者基本情報!$F$9&事業者基本情報!$G$9,\"\")","v":""},{"$f":"IF(F1078<>\"\",事業者基本情報!$Y$10,\"\")","v":""},{"$f":"IF(F1078<>\"\",事業者基本情報!$Y$7,\"\")","v":""},{"$f":"IF(F1078<>\"\",事業者基本情報!$Y$8,\"\")","v":""},{"$f":"IF(F1078<>\"\",事業者基本情報!$E$11&事業者基本情報!$F$11&事業者基本情報!$G$11&事業者基本情報!$H$11&事業者基本情報!$I$11,\"\")","v":""},null,null,null,"市",null,null,"-",null,"-",null,{"$f":"IFERROR(VLOOKUP(Q1078,コード表!$B$3:$C$101,2,FALSE),\"\")","v":""},null,{"$f":"IFERROR(VLOOKUP(S1078,コード表!$F$7:$G$141,2,FALSE),\"\")","v":""},null,null,"t",null,null,null,null,null,null,null,null,null,null,null,null,null,null,null,null,null,null,null,null,null,null,null,null,null,null,null,null,null,null,null,null,null,null,null,null,null,null,null,null,null,null,null,null,null,null,null,null,"","",{"$f":"IF(BS1078=\"\",\"\",IF(COUNTIF(BS$4:BS1078,BS1078)=1,ROW(),\"\"))","v":""},{"$f":"IFERROR(INDEX(BS:BS,SMALL(BT:BT,ROW(A1075))),\"\")","v":""},"","","",""]
[{"$f":"IF(F1081<>\"\",事業者基本情報!$E$9&事業者基本情報!$F$9&事業者基本情報!$G$9,\"\")","v":""},{"$f":"IF(F1081<>\"\",事業者基本情報!$Y$10,\"\")","v":""},{"$f":"IF(F1081<>\"\",事業者基本情報!$Y$7,\"\")","v":""},{"$f":"IF(F1081<>\"\",事業者基本情報!$Y$8,\"\")","v":""},{"$f":"IF(F1081<>\"\",事業者基本情報!$E$11&事業者基本情報!$F$11&事業者基本情報!$G$11&事業者基本情報!$H$11&事業者基本情報!$I$11,\"\")","v":""},null,null,null,"市",null,null,"-",null,"-",null,{"$f":"IFERROR(VLOOKUP(Q1081,コード表!$B$3:$C$101,2,FALSE),\"\")","v":""},null,{"$f":"IFERROR(VLOOKUP(S1081,コード表!$F$7:$G$141,2,FALSE),\"\")","v":""},null,null,"t",null,null,null,null,null,null,null,null,null,null,null,null,null,null,null,null,null,null,null,null,null,null,null,null,null,null,null,null,null,null,null,null,null,null,null,null,null,null,null,null,null,null,null,null,null,null,null,null,"","",{"$f":"IF(BS1081=\"\",\"\",IF(COUNTIF(BS$4:BS1081,BS1081)=1,ROW(),\"\"))","v":""},{"$f":"IFERROR(INDEX(BS:BS,SMALL(BT:BT,ROW(A1078))),\"\")","v":""},"","","",""]
[{"$f":"IF(F1085<>\"\",事業者基本情報!$E$9&事業者基本情報!$F$9&事業者基本情報!$G$9,\"\")","v":""},{"$f":"IF(F1085<>\"\",事業者基本情報!$Y$10,\"\")","v":""},{"$f":"IF(F1085<>\"\",事業者基本情報!$Y$7,\"\")","v":""},{"$f":"IF(F1085<>\"\",事業者基本情報!$Y$8,\"\")","v":""},{"$f":"IF(F1085<>\"\",事業者基本情報!$E$11&事業者基本情報!$F$11&事業者基本情報!$G$11&事業者基本情報!$H$11&事業者基本情報!$I$11,\"\")","v":""},null,null,null,"市",null,null,"-",null,"-",null,{"$f":"IFERROR(VLOOKUP(Q1085,コード表!$B$3:$C$101,2,FALSE),\"\")","v":""},null,{"$f":"IFERROR(VLOOKUP(S1085,コード表!$F$7:$G$141,2,FALSE),\"\")","v":""},null,null,"t",null,null,null,null,null,null,null,null,null,null,null,null,null,null,null,null,null,null,null,null,null,null,null,null,null,null,null,null,null,null,null,null,null,null,null,null,null,null,null,null,null,null,null,null,null,null,null,null,"","",{"$f":"IF(BS1085=\"\",\"\",IF(COUNTIF(BS$4:BS1085,BS1085)=1,ROW(),\"\"))","v":""},{"$f":"IFERROR(INDEX(BS:BS,SMALL(BT:BT,ROW(A1082))),\"\")","v":""},"","","",""]
[{"$f":"IF(F1087<>\"\",事業者基本情報!$E$9&事業者基本情報!$F$9&事業者基本情報!$G$9,\"\")","v":""},{"$f":"IF(F1087<>\"\",事業者基本情報!$Y$10,\"\")","v":""},{"$f":"IF(F1087<>\"\",事業者基本情報!$Y$7,\"\")","v":""},{"$f":"IF(F1087<>\"\",事業者基本情報!$Y$8,\"\")","v":""},{"$f":"IF(F1087<>\"\",事業者基本情報!$E$11&事業者基本情報!$F$11&事業者基本情報!$G$11&事業者基本情報!$H$11&事業者基本情報!$I$11,\"\")","v":""},null,null,null,"市",null,null,"-",null,"-",null,{"$f":"IFERROR(VLOOKUP(Q1087,コード表!$B$3:$C$101,2,FALSE),\"\")","v":""},null,{"$f":"IFERROR(VLOOKUP(S1087,コード表!$F$7:$G$141,2,FALSE),\"\")","v":""},null,null,"t",null,null,null,null,null,null,null,null,null,null,null,null,null,null,null,null,null,null,null,null,null,null,null,null,null,null,null,null,null,null,null,null,null,null,null,null,null,null,null,null,null,null,null,null,null,null,null,null,"","",{"$f":"IF(BS1087=\"\",\"\",IF(COUNTIF(BS$4:BS1087,BS1087)=1,ROW(),\"\"))","v":""},{"$f":"IFERROR(INDEX(BS:BS,SMALL(BT:BT,ROW(A1084))),\"\")","v":""},"","","",""]
[{"$f":"IF(F1090<>\"\",事業者基本情報!$E$9&事業者基本情報!$F$9&事業者基本情報!$G$9,\"\")","v":""},{"$f":"IF(F1090<>\"\",事業者基本情報!$Y$10,\"\")","v":""},{"$f":"IF(F1090<>\"\",事業者基本情報!$Y$7,\"\")","v":""},{"$f":"IF(F1090<>\"\",事業者基本情報!$Y$8,\"\")","v":""},{"$f":"IF(F1090<>\"\",事業者基本情報!$E$11&事業者基本情報!$F$11&事業者基本情報!$G$11&事業者基本情報!$H$11&事業者基本情報!$I$11,\"\")","v":""},null,null,null,"市",null,null,"-",null,"-",null,{"$f":"IFERROR(VLOOKUP(Q1090,コード表!$B$3:$C$101,2,FALSE),\"\")","v":""},null,{"$f":"IFERROR(VLOOKUP(S1090,コード表!$F$7:$G$141,2,FALSE),\"\")","v":""},null,null,"t",null,null,null,null,null,null,null,null,null,null,null,null,null,null,null,null,null,null,null,null,null,null,null,null,null,null,null,null,null,null,null,null,null,null,null,null,null,null,null,null,null,null,null,null,null,null,null,null,"","",{"$f":"IF(BS1090=\"\",\"\",IF(COUNTIF(BS$4:BS1090,BS1090)=1,ROW(),\"\"))","v":""},{"$f":"IFERROR(INDEX(BS:BS,SMALL(BT:BT,ROW(A1087))),\"\")","v":""},"","","",""]
[{"$f":"IF(F1094<>\"\",事業者基本情報!$E$9&事業者基本情報!$F$9&事業者基本情報!$G$9,\"\")","v":""},{"$f":"IF(F1094<>\"\",事業者基本情報!$Y$10,\"\")","v":""},{"$f":"IF(F1094<>\"\",事業者基本情報!$Y$7,\"\")","v":""},{"$f":"IF(F1094<>\"\",事業者基本情報!$Y$8,\"\")","v":""},{"$f":"IF(F1094<>\"\",事業者基本情報!$E$11&事業者基本情報!$F$11&事業者基本情報!$G$11&事業者基本情報!$H$11&事業者基本情報!$I$11,\"\")","v":""},null,null,null,"市",null,null,"-",null,"-",null,{"$f":"IFERROR(VLOOKUP(Q1094,コード表!$B$3:$C$101,2,FALSE),\"\")","v":""},null,{"$f":"IFERROR(VLOOKUP(S1094,コード表!$F$7:$G$141,2,FALSE),\"\")","v":""},null,null,"t",null,null,null,null,null,null,null,null,null,null,null,null,null,null,null,null,null,null,null,null,null,null,null,null,null,null,null,null,null,null,null,null,null,null,null,null,null,null,null,null,null,null,null,null,null,null,null,null,"","",{"$f":"IF(BS1094=\"\",\"\",IF(COUNTIF(BS$4:BS1094,BS1094)=1,ROW(),\"\"))","v":""},{"$f":"IFERROR(INDEX(BS:BS,SMALL(BT:BT,ROW(A1091))),\"\")","v":""},"","","",""]
[{"$f":"IF(F1096<>\"\",事業者基本情報!$E$9&事業者基本情報!$F$9&事業者基本情報!$G$9,\"\")","v":""},{"$f":"IF(F1096<>\"\",事業者基本情報!$Y$10,\"\")","v":""},{"$f":"IF(F1096<>\"\",事業者基本情報!$Y$7,\"\")","v":""},{"$f":"IF(F1096<>\"\",事業者基本情報!$Y$8,\"\")","v":""},{"$f":"IF(F1096<>\"\",事業者基本情報!$E$11&事業者基本情報!$F$11&事業者基本情報!$G$11&事業者基本情報!$H$11&事業者基本情報!$I$11,\"\")","v":""},null,null,null,"市",null,null,"-",null,"-",null,{"$f":"IFERROR(VLOOKUP(Q1096,コード表!$B$3:$C$101,2,FALSE),\"\")","v":""},null,{"$f":"IFERROR(VLOOKUP(S1096,コード表!$F$7:$G$141,2,FALSE),\"\")","v":""},null,null,"t",null,null,null,null,null,null,null,null,null,null,null,null,null,null,null,null,null,null,null,null,null,null,null,null,null,null,null,null,null,null,null,null,null,null,null,null,null,null,null,null,null,null,null,null,null,null,null,null,"","",{"$f":"IF(BS1096=\"\",\"\",IF(COUNTIF(BS$4:BS1096,BS1096)=1,ROW(),\"\"))","v":""},{"$f":"IFERROR(INDEX(BS:BS,SMALL(BT:BT,ROW(A1093))),\"\")","v":""},"","","",""]
[{"$f":"IF(F1099<>\"\",事業者基本情報!$E$9&事業者基本情報!$F$9&事業者基本情報!$G$9,\"\")","v":""},{"$f":"IF(F1099<>\"\",事業者基本情報!$Y$10,\"\")","v":""},{"$f":"IF(F1099<>\"\",事業者基本情報!$Y$7,\"\")","v":""},{"$f":"IF(F1099<>\"\",事業者基本情報!$Y$8,\"\")","v":""},{"$f":"IF(F1099<>\"\",事業者基本情報!$E$11&事業者基本情報!$F$11&事業者基本情報!$G$11&事業者基本情報!$H$11&事業者基本情報!$I$11,\"\")","v":""},null,null,null,"市",null,null,"-",null,"-",null,{"$f":"IFERROR(VLOOKUP(Q1099,コード表!$B$3:$C$101,2,FALSE),\"\")","v":""},null,{"$f":"IFERROR(VLOOKUP(S1099,コード表!$F$7:$G$141,2,FALSE),\"\")","v":""},null,null,"t",null,null,null,null,null,null,null,null,null,null,null,null,null,null,null,null,null,null,null,null,null,null,null,null,null,null,null,null,null,null,null,null,null,null,null,null,null,null,null,null,null,null,null,null,null,null,null,null,"","",{"$f":"IF(BS1099=\"\",\"\",IF(COUNTIF(BS$4:BS1099,BS1099)=1,ROW(),\"\"))","v":""},{"$f":"IFERROR(INDEX(BS:BS,SMALL(BT:BT,ROW(A1096))),\"\")","v":""},"","","",""]
[{"$f":"IF(F1100<>\"\",事業者基本情報!$E$9&事業者基本情報!$F$9&事業者基本情報!$G$9,\"\")","v":""},{"$f":"IF(F1100<>\"\",事業者基本情報!$Y$10,\"\")","v":""},{"$f":"IF(F1100<>\"\",事業者基本情報!$Y$7,\"\")","v":""},{"$f":"IF(F1100<>\"\",事業者基本情報!$Y$8,\"\")","v":""},{"$f":"IF(F1100<>\"\",事業者基本情報!$E$11&事業者基本情報!$F$11&事業者基本情報!$G$11&事業者基本情報!$H$11&事業者基本情報!$I$11,\"\")","v":""},null,null,null,"市",null,null,"-",null,"-",null,{"$f":"IFERROR(VLOOKUP(Q1100,コード表!$B$3:$C$101,2,FALSE),\"\")","v":""},null,{"$f":"IFERROR(VLOOKUP(S1100,コード表!$F$7:$G$141,2,FALSE),\"\")","v":""},null,null,"t",null,null,null,null,null,null,null,null,null,null,null,null,null,null,null,null,null,null,null,null,null,null,null,null,null,null,null,null,null,null,null,null,null,null,null,null,null,null,null,null,null,null,null,null,null,null,null,null,"","",{"$f":"IF(BS1100=\"\",\"\",IF(COUNTIF(BS$4:BS1100,BS1100)=1,ROW(),\"\"))","v":""},{"$f":"IFERROR(INDEX(BS:BS,SMALL(BT:BT,ROW(A1097))),\"\")","v":""},"","","",""]
[{"$f":"IF(F1103<>\"\",事業者基本情報!$E$9&事業者基本情報!$F$9&事業者基本情報!$G$9,\"\")","v":""},{"$f":"IF(F1103<>\"\",事業者基本情報!$Y$10,\"\")","v":""},{"$f":"IF(F1103<>\"\",事業者基本情報!$Y$7,\"\")","v":""},{"$f":"IF(F1103<>\"\",事業者基本情報!$Y$8,\"\")","v":""},{"$f":"IF(F1103<>\"\",事業者基本情報!$E$11&事業者基本情報!$F$11&事業者基本情報!$G$11&事業者基本情報!$H$11&事業者基本情報!$I$11,\"\")","v":""},null,null,null,"市",null,null,"-",null,"-",null,{"$f":"IFERROR(VLOOKUP(Q1103,コード表!$B$3:$C$101,2,FALSE),\"\")","v":""},null,{"$f":"IFERROR(VLOOKUP(S1103,コード表!$F$7:$G$141,2,FALSE),\"\")","v":""},null,null,"t",null,null,null,null,null,null,null,null,null,null,null,null,null,null,null,null,null,null,null,null,null,null,null,null,null,null,null,null,null,null,null,null,null,null,null,null,null,null,null,null,null,null,null,null,null,null,null,null,"","",{"$f":"IF(BS1103=\"\",\"\",IF(COUNTIF(BS$4:BS1103,BS1103)=1,ROW(),\"\"))","v":""},{"$f":"IFERROR(INDEX(BS:BS,SMALL(BT:BT,ROW(A1100))),\"\")","v":""},"","","",""]
[{"$f":"IF(F1107<>\"\",事業者基本情報!$E$9&事業者基本情報!$F$9&事業者基本情報!$G$9,\"\")","v":""},{"$f":"IF(F1107<>\"\",事業者基本情報!$Y$10,\"\")","v":""},{"$f":"IF(F1107<>\"\",事業者基本情報!$Y$7,\"\")","v":""},{"$f":"IF(F1107<>\"\",事業者基本情報!$Y$8,\"\")","v":""},{"$f":"IF(F1107<>\"\",事業者基本情報!$E$11&事業者基本情報!$F$11&事業者基本情報!$G$11&事業者基本情報!$H$11&事業者基本情報!$I$11,\"\")","v":""},null,null,null,"市",null,null,"-",null,"-",null,{"$f":"IFERROR(VLOOKUP(Q1107,コード表!$B$3:$C$101,2,FALSE),\"\")","v":""},null,{"$f":"IFERROR(VLOOKUP(S1107,コード表!$F$7:$G$141,2,FALSE),\"\")","v":""},null,null,"t",null,null,null,null,null,null,null,null,null,null,null,null,null,null,null,null,null,null,null,null,null,null,null,null,null,null,null,null,null,null,null,null,null,null,null,null,null,null,null,null,null,null,null,null,null,null,null,null,"","",{"$f":"IF(BS1107=\"\",\"\",IF(COUNTIF(BS$4:BS1107,BS1107)=1,ROW(),\"\"))","v":""},{"$f":"IFERROR(INDEX(BS:BS,SMALL(BT:BT,ROW(A1104))),\"\")","v":""},"","","",""]
[{"$f":"IF(F1109<>\"\",事業者基本情報!$E$9&事業者基本情報!$F$9&事業者基本情報!$G$9,\"\")","v":""},{"$f":"IF(F1109<>\"\",事業者基本情報!$Y$10,\"\")","v":""},{"$f":"IF(F1109<>\"\",事業者基本情報!$Y$7,\"\")","v":""},{"$f":"IF(F1109<>\"\",事業者基本情報!$Y$8,\"\")","v":""},{"$f":"IF(F1109<>\"\",事業者基本情報!$E$11&事業者基本情報!$F$11&事業者基本情報!$G$11&事業者基本情報!$H$11&事業者基本情報!$I$11,\"\")","v":""},null,null,null,"市",null,null,"-",null,"-",null,{"$f":"IFERROR(VLOOKUP(Q1109,コード表!$B$3:$C$101,2,FALSE),\"\")","v":""},null,{"$f":"IFERROR(VLOOKUP(S1109,コード表!$F$7:$G$141,2,FALSE),\"\")","v":""},null,null,"t",null,null,null,null,null,null,null,null,null,null,null,null,null,null,null,null,null,null,null,null,null,null,null,null,null,null,null,null,null,null,null,null,null,null,null,null,null,null,null,null,null,null,null,null,null,null,null,null,"","",{"$f":"IF(BS1109=\"\",\"\",IF(COUNTIF(BS$4:BS1109,BS1109)=1,ROW(),\"\"))","v":""},{"$f":"IFERROR(INDEX(BS:BS,SMALL(BT:BT,ROW(A1106))),\"\")","v":""},"","","",""]
[{"$f":"IF(F1112<>\"\",事業者基本情報!$E$9&事業者基本情報!$F$9&事業者基本情報!$G$9,\"\")","v":""},{"$f":"IF(F1112<>\"\",事業者基本情報!$Y$10,\"\")","v":""},{"$f":"IF(F1112<>\"\",事業者基本情報!$Y$7,\"\")","v":""},{"$f":"IF(F1112<>\"\",事業者基本情報!$Y$8,\"\")","v":""},{"$f":"IF(F1112<>\"\",事業者基本情報!$E$11&事業者基本情報!$F$11&事業者基本情報!$G$11&事業者基本情報!$H$11&事業者基本情報!$I$11,\"\")","v":""},null,null,null,"市",null,null,"-",null,"-",null,{"$f":"IFERROR(VLOOKUP(Q1112,コード表!$B$3:$C$101,2,FALSE),\"\")","v":""},null,{"$f":"IFERROR(VLOOKUP(S1112,コード表!$F$7:$G$141,2,FALSE),\"\")","v":""},null,null,"t",null,null,null,null,null,null,null,null,null,null,null,null,null,null,null,null,null,null,null,null,null,null,null,null,null,null,null,null,null,null,null,null,null,null,null,null,null,null,null,null,null,null,null,null,null,null,null,null,"","",{"$f":"IF(BS1112=\"\",\"\",IF(COUNTIF(BS$4:BS1112,BS1112)=1,ROW(),\"\"))","v":""},{"$f":"IFERROR(INDEX(BS:BS,SMALL(BT:BT,ROW(A1109))),\"\")","v":""},"","","",""]
[{"$f":"IF(F1116<>\"\",事業者基本情報!$E$9&事業者基本情報!$F$9&事業者基本情報!$G$9,\"\")","v":""},{"$f":"IF(F1116<>\"\",事業者基本情報!$Y$10,\"\")","v":""},{"$f":"IF(F1116<>\"\",事業者基本情報!$Y$7,\"\")","v":""},{"$f":"IF(F1116<>\"\",事業者基本情報!$Y$8,\"\")","v":""},{"$f":"IF(F1116<>\"\",事業者基本情報!$E$11&事業者基本情報!$F$11&事業者基本情報!$G$11&事業者基本情報!$H$11&事業者基本情報!$I$11,\"\")","v":""},null,null,null,"市",null,null,"-",null,"-",null,{"$f":"IFERROR(VLOOKUP(Q1116,コード表!$B$3:$C$101,2,FALSE),\"\")","v":""},null,{"$f":"IFERROR(VLOOKUP(S1116,コード表!$F$7:$G$141,2,FALSE),\"\")","v":""},null,null,"t",null,null,null,null,null,null,null,null,null,null,null,null,null,null,null,null,null,null,null,null,null,null,null,null,null,null,null,null,null,null,null,null,null,null,null,null,null,null,null,null,null,null,null,null,null,null,null,null,"","",{"$f":"IF(BS1116=\"\",\"\",IF(COUNTIF(BS$4:BS1116,BS1116)=1,ROW(),\"\"))","v":""},{"$f":"IFERROR(INDEX(BS:BS,SMALL(BT:BT,ROW(A1113))),\"\")","v":""},"","","",""]
[{"$f":"IF(F1118<>\"\",事業者基本情報!$E$9&事業者基本情報!$F$9&事業者基本情報!$G$9,\"\")","v":""},{"$f":"IF(F1118<>\"\",事業者基本情報!$Y$10,\"\")","v":""},{"$f":"IF(F1118<>\"\",事業者基本情報!$Y$7,\"\")","v":""},{"$f":"IF(F1118<>\"\",事業者基本情報!$Y$8,\"\")","v":""},{"$f":"IF(F1118<>\"\",事業者基本情報!$E$11&事業者基本情報!$F$11&事業者基本情報!$G$11&事業者基本情報!$H$11&事業者基本情報!$I$11,\"\")","v":""},null,null,null,"市",null,null,"-",null,"-",null,{"$f":"IFERROR(VLOOKUP(Q1118,コード表!$B$3:$C$101,2,FALSE),\"\")","v":""},null,{"$f":"IFERROR(VLOOKUP(S1118,コード表!$F$7:$G$141,2,FALSE),\"\")","v":""},null,null,"t",null,null,null,null,null,null,null,null,null,null,null,null,null,null,null,null,null,null,null,null,null,null,null,null,null,null,null,null,null,null,null,null,null,null,null,null,null,null,null,null,null,null,null,null,null,null,null,null,"","",{"$f":"IF(BS1118=\"\",\"\",IF(COUNTIF(BS$4:BS1118,BS1118)=1,ROW(),\"\"))","v":""},{"$f":"IFERROR(INDEX(BS:BS,SMALL(BT:BT,ROW(A1115))),\"\")","v":""},"","","",""]
[{"$f":"IF(F1121<>\"\",事業者基本情報!$E$9&事業者基本情報!$F$9&事業者基本情報!$G$9,\"\")","v":""},{"$f":"IF(F1121<>\"\",事業者基本情報!$Y$10,\"\")","v":""},{"$f":"IF(F1121<>\"\",事業者基本情報!$Y$7,\"\")","v":""},{"$f":"IF(F1121<>\"\",事業者基本情報!$Y$8,\"\")","v":""},{"$f":"IF(F1121<>\"\",事業者基本情報!$E$11&事業者基本情報!$F$11&事業者基本情報!$G$11&事業者基本情報!$H$11&事業者基本情報!$I$11,\"\")","v":""},null,null,null,"市",null,null,"-",null,"-",null,{"$f":"IFERROR(VLOOKUP(Q1121,コード表!$B$3:$C$101,2,FALSE),\"\")","v":""},null,{"$f":"IFERROR(VLOOKUP(S1121,コード表!$F$7:$G$141,2,FALSE),\"\")","v":""},null,null,"t",null,null,null,null,null,null,null,null,null,null,null,null,null,null,null,null,null,null,null,null,null,null,null,null,null,null,null,null,null,null,null,null,null,null,null,null,null,null,null,null,null,null,null,null,null,null,null,null,"","",{"$f":"IF(BS1121=\"\",\"\",IF(COUNTIF(BS$4:BS1121,BS1121)=1,ROW(),\"\"))","v":""},{"$f":"IFERROR(INDEX(BS:BS,SMALL(BT:BT,ROW(A1118))),\"\")","v":""},"","","",""]
[{"$f":"IF(F1122<>\"\",事業者基本情報!$E$9&事業者基本情報!$F$9&事業者基本情報!$G$9,\"\")","v":""},{"$f":"IF(F1122<>\"\",事業者基本情報!$Y$10,\"\")","v":""},{"$f":"IF(F1122<>\"\",事業者基本情報!$Y$7,\"\")","v":""},{"$f":"IF(F1122<>\"\",事業者基本情報!$Y$8,\"\")","v":""},{"$f":"IF(F1122<>\"\",事業者基本情報!$E$11&事業者基本情報!$F$11&事業者基本情報!$G$11&事業者基本情報!$H$11&事業者基本情報!$I$11,\"\")","v":""},null,null,null,"市",null,null,"-",null,"-",null,{"$f":"IFERROR(VLOOKUP(Q1122,コード表!$B$3:$C$101,2,FALSE),\"\")","v":""},null,{"$f":"IFERROR(VLOOKUP(S1122,コード表!$F$7:$G$141,2,FALSE),\"\")","v":""},null,null,"t",null,null,null,null,null,null,null,null,null,null,null,null,null,null,null,null,null,null,null,null,null,null,null,null,null,null,null,null,null,null,null,null,null,null,null,null,null,null,null,null,null,null,null,null,null,null,null,null,"","",{"$f":"IF(BS1122=\"\",\"\",IF(COUNTIF(BS$4:BS1122,BS1122)=1,ROW(),\"\"))","v":""},{"$f":"IFERROR(INDEX(BS:BS,SMALL(BT:BT,ROW(A1119))),\"\")","v":""},"","","",""]
[{"$f":"IF(F1125<>\"\",事業者基本情報!$E$9&事業者基本情報!$F$9&事業者基本情報!$G$9,\"\")","v":""},{"$f":"IF(F1125<>\"\",事業者基本情報!$Y$10,\"\")","v":""},{"$f":"IF(F1125<>\"\",事業者基本情報!$Y$7,\"\")","v":""},{"$f":"IF(F1125<>\"\",事業者基本情報!$Y$8,\"\")","v":""},{"$f":"IF(F1125<>\"\",事業者基本情報!$E$11&事業者基本情報!$F$11&事業者基本情報!$G$11&事業者基本情報!$H$11&事業者基本情報!$I$11,\"\")","v":""},null,null,null,"市",null,null,"-",null,"-",null,{"$f":"IFERROR(VLOOKUP(Q1125,コード表!$B$3:$C$101,2,FALSE),\"\")","v":""},null,{"$f":"IFERROR(VLOOKUP(S1125,コード表!$F$7:$G$141,2,FALSE),\"\")","v":""},null,null,"t",null,null,null,null,null,null,null,null,null,null,null,null,null,null,null,null,null,null,null,null,null,null,null,null,null,null,null,null,null,null,null,null,null,null,null,null,null,null,null,null,null,null,null,null,null,null,null,null,"","",{"$f":"IF(BS1125=\"\",\"\",IF(COUNTIF(BS$4:BS1125,BS1125)=1,ROW(),\"\"))","v":""},{"$f":"IFERROR(INDEX(BS:BS,SMALL(BT:BT,ROW(A1122))),\"\")","v":""},"","","",""]
[{"$f":"IF(F1129<>\"\",事業者基本情報!$E$9&事業者基本情報!$F$9&事業者基本情報!$G$9,\"\")","v":""},{"$f":"IF(F1129<>\"\",事業者基本情報!$Y$10,\"\")","v":""},{"$f":"IF(F1129<>\"\",事業者基本情報!$Y$7,\"\")","v":""},{"$f":"IF(F1129<>\"\",事業者基本情報!$Y$8,\"\")","v":""},{"$f":"IF(F1129<>\"\",事業者基本情報!$E$11&事業者基本情報!$F$11&事業者基本情報!$G$11&事業者基本情報!$H$11&事業者基本情報!$I$11,\"\")","v":""},null,null,null,"市",null,null,"-",null,"-",null,{"$f":"IFERROR(VLOOKUP(Q1129,コード表!$B$3:$C$101,2,FALSE),\"\")","v":""},null,{"$f":"IFERROR(VLOOKUP(S1129,コード表!$F$7:$G$141,2,FALSE),\"\")","v":""},null,null,"t",null,null,null,null,null,null,null,null,null,null,null,null,null,null,null,null,null,null,null,null,null,null,null,null,null,null,null,null,null,null,null,null,null,null,null,null,null,null,null,null,null,null,null,null,null,null,null,null,"","",{"$f":"IF(BS1129=\"\",\"\",IF(COUNTIF(BS$4:BS1129,BS1129)=1,ROW(),\"\"))","v":""},{"$f":"IFERROR(INDEX(BS:BS,SMALL(BT:BT,ROW(A1126))),\"\")","v":""},"","","",""]
[{"$f":"IF(F1131<>\"\",事業者基本情報!$E$9&事業者基本情報!$F$9&事業者基本情報!$G$9,\"\")","v":""},{"$f":"IF(F1131<>\"\",事業者基本情報!$Y$10,\"\")","v":""},{"$f":"IF(F1131<>\"\",事業者基本情報!$Y$7,\"\")","v":""},{"$f":"IF(F1131<>\"\",事業者基本情報!$Y$8,\"\")","v":""},{"$f":"IF(F1131<>\"\",事業者基本情報!$E$11&事業者基本情報!$F$11&事業者基本情報!$G$11&事業者基本情報!$H$11&事業者基本情報!$I$11,\"\")","v":""},null,null,null,"市",null,null,"-",null,"-",null,{"$f":"IFERROR(VLOOKUP(Q1131,コード表!$B$3:$C$101,2,FALSE),\"\")","v":""},null,{"$f":"IFERROR(VLOOKUP(S1131,コード表!$F$7:$G$141,2,FALSE),\"\")","v":""},null,null,"t",null,null,null,null,null,null,null,null,null,null,null,null,null,null,null,null,null,null,null,null,null,null,null,null,null,null,null,null,null,null,null,null,null,null,null,null,null,null,null,null,null,null,null,null,null,null,null,null,"","",{"$f":"IF(BS1131=\"\",\"\",IF(COUNTIF(BS$4:BS1131,BS1131)=1,ROW(),\"\"))","v":""},{"$f":"IFERROR(INDEX(BS:BS,SMALL(BT:BT,ROW(A1128))),\"\")","v":""},"","","",""]
[{"$f":"IF(F1134<>\"\",事業者基本情報!$E$9&事業者基本情報!$F$9&事業者基本情報!$G$9,\"\")","v":""},{"$f":"IF(F1134<>\"\",事業者基本情報!$Y$10,\"\")","v":""},{"$f":"IF(F1134<>\"\",事業者基本情報!$Y$7,\"\")","v":""},{"$f":"IF(F1134<>\"\",事業者基本情報!$Y$8,\"\")","v":""},{"$f":"IF(F1134<>\"\",事業者基本情報!$E$11&事業者基本情報!$F$11&事業者基本情報!$G$11&事業者基本情報!$H$11&事業者基本情報!$I$11,\"\")","v":""},null,null,null,"市",null,null,"-",null,"-",null,{"$f":"IFERROR(VLOOKUP(Q1134,コード表!$B$3:$C$101,2,FALSE),\"\")","v":""},null,{"$f":"IFERROR(VLOOKUP(S1134,コード表!$F$7:$G$141,2,FALSE),\"\")","v":""},null,null,"t",null,null,null,null,null,null,null,null,null,null,null,null,null,null,null,null,null,null,null,null,null,null,null,null,null,null,null,null,null,null,null,null,null,null,null,null,null,null,null,null,null,null,null,null,null,null,null,null,"","",{"$f":"IF(BS1134=\"\",\"\",IF(COUNTIF(BS$4:BS1134,BS1134)=1,ROW(),\"\"))","v":""},{"$f":"IFERROR(INDEX(BS:BS,SMALL(BT:BT,ROW(A1131))),\"\")","v":""},"","","",""]
[{"$f":"IF(F1138<>\"\",事業者基本情報!$E$9&事業者基本情報!$F$9&事業者基本情報!$G$9,\"\")","v":""},{"$f":"IF(F1138<>\"\",事業者基本情報!$Y$10,\"\")","v":""},{"$f":"IF(F1138<>\"\",事業者基本情報!$Y$7,\"\")","v":""},{"$f":"IF(F1138<>\"\",事業者基本情報!$Y$8,\"\")","v":""},{"$f":"IF(F1138<>\"\",事業者基本情報!$E$11&事業者基本情報!$F$11&事業者基本情報!$G$11&事業者基本情報!$H$11&事業者基本情報!$I$11,\"\")","v":""},null,null,null,"市",null,null,"-",null,"-",null,{"$f":"IFERROR(VLOOKUP(Q1138,コード表!$B$3:$C$101,2,FALSE),\"\")","v":""},null,{"$f":"IFERROR(VLOOKUP(S1138,コード表!$F$7:$G$141,2,FALSE),\"\")","v":""},null,null,"t",null,null,null,null,null,null,null,null,null,null,null,null,null,null,null,null,null,null,null,null,null,null,null,null,null,null,null,null,null,null,null,null,null,null,null,null,null,null,null,null,null,null,null,null,null,null,null,null,"","",{"$f":"IF(BS1138=\"\",\"\",IF(COUNTIF(BS$4:BS1138,BS1138)=1,ROW(),\"\"))","v":""},{"$f":"IFERROR(INDEX(BS:BS,SMALL(BT:BT,ROW(A1135))),\"\")","v":""},"","","",""]
[{"$f":"IF(F1140<>\"\",事業者基本情報!$E$9&事業者基本情報!$F$9&事業者基本情報!$G$9,\"\")","v":""},{"$f":"IF(F1140<>\"\",事業者基本情報!$Y$10,\"\")","v":""},{"$f":"IF(F1140<>\"\",事業者基本情報!$Y$7,\"\")","v":""},{"$f":"IF(F1140<>\"\",事業者基本情報!$Y$8,\"\")","v":""},{"$f":"IF(F1140<>\"\",事業者基本情報!$E$11&事業者基本情報!$F$11&事業者基本情報!$G$11&事業者基本情報!$H$11&事業者基本情報!$I$11,\"\")","v":""},null,null,null,"市",null,null,"-",null,"-",null,{"$f":"IFERROR(VLOOKUP(Q1140,コード表!$B$3:$C$101,2,FALSE),\"\")","v":""},null,{"$f":"IFERROR(VLOOKUP(S1140,コード表!$F$7:$G$141,2,FALSE),\"\")","v":""},null,null,"t",null,null,null,null,null,null,null,null,null,null,null,null,null,null,null,null,null,null,null,null,null,null,null,null,null,null,null,null,null,null,null,null,null,null,null,null,null,null,null,null,null,null,null,null,null,null,null,null,"","",{"$f":"IF(BS1140=\"\",\"\",IF(COUNTIF(BS$4:BS1140,BS1140)=1,ROW(),\"\"))","v":""},{"$f":"IFERROR(INDEX(BS:BS,SMALL(BT:BT,ROW(A1137))),\"\")","v":""},"","","",""]
[{"$f":"IF(F1143<>\"\",事業者基本情報!$E$9&事業者基本情報!$F$9&事業者基本情報!$G$9,\"\")","v":""},{"$f":"IF(F1143<>\"\",事業者基本情報!$Y$10,\"\")","v":""},{"$f":"IF(F1143<>\"\",事業者基本情報!$Y$7,\"\")","v":""},{"$f":"IF(F1143<>\"\",事業者基本情報!$Y$8,\"\")","v":""},{"$f":"IF(F1143<>\"\",事業者基本情報!$E$11&事業者基本情報!$F$11&事業者基本情報!$G$11&事業者基本情報!$H$11&事業者基本情報!$I$11,\"\")","v":""},null,null,null,"市",null,null,"-",null,"-",null,{"$f":"IFERROR(VLOOKUP(Q1143,コード表!$B$3:$C$101,2,FALSE),\"\")","v":""},null,{"$f":"IFERROR(VLOOKUP(S1143,コード表!$F$7:$G$141,2,FALSE),\"\")","v":""},null,null,"t",null,null,null,null,null,null,null,null,null,null,null,null,null,null,null,null,null,null,null,null,null,null,null,null,null,null,null,null,null,null,null,null,null,null,null,null,null,null,null,null,null,null,null,null,null,null,null,null,"","",{"$f":"IF(BS1143=\"\",\"\",IF(COUNTIF(BS$4:BS1143,BS1143)=1,ROW(),\"\"))","v":""},{"$f":"IFERROR(INDEX(BS:BS,SMALL(BT:BT,ROW(A1140))),\"\")","v":""},"","","",""]
[{"$f":"IF(F1144<>\"\",事業者基本情報!$E$9&事業者基本情報!$F$9&事業者基本情報!$G$9,\"\")","v":""},{"$f":"IF(F1144<>\"\",事業者基本情報!$Y$10,\"\")","v":""},{"$f":"IF(F1144<>\"\",事業者基本情報!$Y$7,\"\")","v":""},{"$f":"IF(F1144<>\"\",事業者基本情報!$Y$8,\"\")","v":""},{"$f":"IF(F1144<>\"\",事業者基本情報!$E$11&事業者基本情報!$F$11&事業者基本情報!$G$11&事業者基本情報!$H$11&事業者基本情報!$I$11,\"\")","v":""},null,null,null,"市",null,null,"-",null,"-",null,{"$f":"IFERROR(VLOOKUP(Q1144,コード表!$B$3:$C$101,2,FALSE),\"\")","v":""},null,{"$f":"IFERROR(VLOOKUP(S1144,コード表!$F$7:$G$141,2,FALSE),\"\")","v":""},null,null,"t",null,null,null,null,null,null,null,null,null,null,null,null,null,null,null,null,null,null,null,null,null,null,null,null,null,null,null,null,null,null,null,null,null,null,null,null,null,null,null,null,null,null,null,null,null,null,null,null,"","",{"$f":"IF(BS1144=\"\",\"\",IF(COUNTIF(BS$4:BS1144,BS1144)=1,ROW(),\"\"))","v":""},{"$f":"IFERROR(INDEX(BS:BS,SMALL(BT:BT,ROW(A1141))),\"\")","v":""},"","","",""]
[{"$f":"IF(F1147<>\"\",事業者基本情報!$E$9&事業者基本情報!$F$9&事業者基本情報!$G$9,\"\")","v":""},{"$f":"IF(F1147<>\"\",事業者基本情報!$Y$10,\"\")","v":""},{"$f":"IF(F1147<>\"\",事業者基本情報!$Y$7,\"\")","v":""},{"$f":"IF(F1147<>\"\",事業者基本情報!$Y$8,\"\")","v":""},{"$f":"IF(F1147<>\"\",事業者基本情報!$E$11&事業者基本情報!$F$11&事業者基本情報!$G$11&事業者基本情報!$H$11&事業者基本情報!$I$11,\"\")","v":""},null,null,null,"市",null,null,"-",null,"-",null,{"$f":"IFERROR(VLOOKUP(Q1147,コード表!$B$3:$C$101,2,FALSE),\"\")","v":""},null,{"$f":"IFERROR(VLOOKUP(S1147,コード表!$F$7:$G$141,2,FALSE),\"\")","v":""},null,null,"t",null,null,null,null,null,null,null,null,null,null,null,null,null,null,null,null,null,null,null,null,null,null,null,null,null,null,null,null,null,null,null,null,null,null,null,null,null,null,null,null,null,null,null,null,null,null,null,null,"","",{"$f":"IF(BS1147=\"\",\"\",IF(COUNTIF(BS$4:BS1147,BS1147)=1,ROW(),\"\"))","v":""},{"$f":"IFERROR(INDEX(BS:BS,SMALL(BT:BT,ROW(A1144))),\"\")","v":""},"","","",""]
[{"$f":"IF(F1151<>\"\",事業者基本情報!$E$9&事業者基本情報!$F$9&事業者基本情報!$G$9,\"\")","v":""},{"$f":"IF(F1151<>\"\",事業者基本情報!$Y$10,\"\")","v":""},{"$f":"IF(F1151<>\"\",事業者基本情報!$Y$7,\"\")","v":""},{"$f":"IF(F1151<>\"\",事業者基本情報!$Y$8,\"\")","v":""},{"$f":"IF(F1151<>\"\",事業者基本情報!$E$11&事業者基本情報!$F$11&事業者基本情報!$G$11&事業者基本情報!$H$11&事業者基本情報!$I$11,\"\")","v":""},null,null,null,"市",null,null,"-",null,"-",null,{"$f":"IFERROR(VLOOKUP(Q1151,コード表!$B$3:$C$101,2,FALSE),\"\")","v":""},null,{"$f":"IFERROR(VLOOKUP(S1151,コード表!$F$7:$G$141,2,FALSE),\"\")","v":""},null,null,"t",null,null,null,null,null,null,null,null,null,null,null,null,null,null,null,null,null,null,null,null,null,null,null,null,null,null,null,null,null,null,null,null,null,null,null,null,null,null,null,null,null,null,null,null,null,null,null,null,"","",{"$f":"IF(BS1151=\"\",\"\",IF(COUNTIF(BS$4:BS1151,BS1151)=1,ROW(),\"\"))","v":""},{"$f":"IFERROR(INDEX(BS:BS,SMALL(BT:BT,ROW(A1148))),\"\")","v":""},"","","",""]
[{"$f":"IF(F1153<>\"\",事業者基本情報!$E$9&事業者基本情報!$F$9&事業者基本情報!$G$9,\"\")","v":""},{"$f":"IF(F1153<>\"\",事業者基本情報!$Y$10,\"\")","v":""},{"$f":"IF(F1153<>\"\",事業者基本情報!$Y$7,\"\")","v":""},{"$f":"IF(F1153<>\"\",事業者基本情報!$Y$8,\"\")","v":""},{"$f":"IF(F1153<>\"\",事業者基本情報!$E$11&事業者基本情報!$F$11&事業者基本情報!$G$11&事業者基本情報!$H$11&事業者基本情報!$I$11,\"\")","v":""},null,null,null,"市",null,null,"-",null,"-",null,{"$f":"IFERROR(VLOOKUP(Q1153,コード表!$B$3:$C$101,2,FALSE),\"\")","v":""},null,{"$f":"IFERROR(VLOOKUP(S1153,コード表!$F$7:$G$141,2,FALSE),\"\")","v":""},null,null,"t",null,null,null,null,null,null,null,null,null,null,null,null,null,null,null,null,null,null,null,null,null,null,null,null,null,null,null,null,null,null,null,null,null,null,null,null,null,null,null,null,null,null,null,null,null,null,null,null,"","",{"$f":"IF(BS1153=\"\",\"\",IF(COUNTIF(BS$4:BS1153,BS1153)=1,ROW(),\"\"))","v":""},{"$f":"IFERROR(INDEX(BS:BS,SMALL(BT:BT,ROW(A1150))),\"\")","v":""},"","","",""]
[{"$f":"IF(F1156<>\"\",事業者基本情報!$E$9&事業者基本情報!$F$9&事業者基本情報!$G$9,\"\")","v":""},{"$f":"IF(F1156<>\"\",事業者基本情報!$Y$10,\"\")","v":""},{"$f":"IF(F1156<>\"\",事業者基本情報!$Y$7,\"\")","v":""},{"$f":"IF(F1156<>\"\",事業者基本情報!$Y$8,\"\")","v":""},{"$f":"IF(F1156<>\"\",事業者基本情報!$E$11&事業者基本情報!$F$11&事業者基本情報!$G$11&事業者基本情報!$H$11&事業者基本情報!$I$11,\"\")","v":""},null,null,null,"市",null,null,"-",null,"-",null,{"$f":"IFERROR(VLOOKUP(Q1156,コード表!$B$3:$C$101,2,FALSE),\"\")","v":""},null,{"$f":"IFERROR(VLOOKUP(S1156,コード表!$F$7:$G$141,2,FALSE),\"\")","v":""},null,null,"t",null,null,null,null,null,null,null,null,null,null,null,null,null,null,null,null,null,null,null,null,null,null,null,null,null,null,null,null,null,null,null,null,null,null,null,null,null,null,null,null,null,null,null,null,null,null,null,null,{"$f":"IFERROR(IF(TRIM(F1156)=\"\",\"\",IF(AND(VALUE(TRIM(R1156))>=100000,VALUE(TRIM(R1156))<7000000),\"普通産廃\",IF(AND(VALUE(TRIM(R1156))>=7000000,VALUE(TRIM(R1156))<9000000),\"特別産廃\",\"\"))),\"\")","v":""},{"$f":"IF(BR1156<>\"\",TRIM(F1156)&\"(\"&BR1156&\")\",\"\")","v":""},{"$f":"IF(BS1156=\"\",\"\",IF(COUNTIF(BS$4:BS1156,BS1156)=1,ROW(),\"\"))","v":""},{"$f":"IFERROR(INDEX(BS:BS,SMALL(BT:BT,ROW(A1153))),\"\")","v":""},{"$f":"IF(BU1156=\"\",\"\",IF(SUMIF(BS:BS,BU1156,T:T)=0,\"\",SUMIF(BS:BS,BU1156,T:T)))","v":""},{"$f":"IF(AS1156<>\"\",AS1156,IF(AO1156<>\"\",AO1156,IF(AK1156<>\"\",AK1156,IF(AG1156<>\"\",AG1156,IF(Y1156<>\"\",Y1156,\"\")))))","v":""},"",{"$f":"IF(F1156&G1156&H1156&J1156&K1156&M1156&O1156&Q1156&S1156&T1156&V1156&W1156&X1156&Y1156&Z1156&AA1156&AB1156&AC1156&AD1156&AE1156&AF1156&AG1156&AH1156&AI1156&AJ1156&AK1156&AL1156&AM1156&AN1156&AO1156&AP1156&AQ1156&AR1156&AS1156&AT1156=\"\",\"\",1)","v":""}]
[{"$f":"IF(F1160<>\"\",事業者基本情報!$E$9&事業者基本情報!$F$9&事業者基本情報!$G$9,\"\")","v":""},{"$f":"IF(F1160<>\"\",事業者基本情報!$Y$10,\"\")","v":""},{"$f":"IF(F1160<>\"\",事業者基本情報!$Y$7,\"\")","v":""},{"$f":"IF(F1160<>\"\",事業者基本情報!$Y$8,\"\")","v":""},{"$f":"IF(F1160<>\"\",事業者基本情報!$E$11&事業者基本情報!$F$11&事業者基本情報!$G$11&事業者基本情報!$H$11&事業者基本情報!$I$11,\"\")","v":""},null,null,null,"市",null,null,"-",null,"-",null,{"$f":"IFERROR(VLOOKUP(Q1160,コード表!$B$3:$C$101,2,FALSE),\"\")","v":""},null,{"$f":"IFERROR(VLOOKUP(S1160,コード表!$F$7:$G$141,2,FALSE),\"\")","v":""},null,null,"t",null,null,null,null,null,null,null,null,null,null,null,null,null,null,null,null,null,null,null,null,null,null,null,null,null,null,null,null,null,null,null,null,null,null,null,null,null,null,null,null,null,null,null,null,null,null,null,null,"","",{"$f":"IF(BS1160=\"\",\"\",IF(COUNTIF(BS$4:BS1160,BS1160)=1,ROW(),\"\"))","v":""},{"$f":"IFERROR(INDEX(BS:BS,SMALL(BT:BT,ROW(A1157))),\"\")","v":""},"","","",""]
[{"$f":"IF(F1162<>\"\",事業者基本情報!$E$9&事業者基本情報!$F$9&事業者基本情報!$G$9,\"\")","v":""},{"$f":"IF(F1162<>\"\",事業者基本情報!$Y$10,\"\")","v":""},{"$f":"IF(F1162<>\"\",事業者基本情報!$Y$7,\"\")","v":""},{"$f":"IF(F1162<>\"\",事業者基本情報!$Y$8,\"\")","v":""},{"$f":"IF(F1162<>\"\",事業者基本情報!$E$11&事業者基本情報!$F$11&事業者基本情報!$G$11&事業者基本情報!$H$11&事業者基本情報!$I$11,\"\")","v":""},null,null,null,"市",null,null,"-",null,"-",null,{"$f":"IFERROR(VLOOKUP(Q1162,コード表!$B$3:$C$101,2,FALSE),\"\")","v":""},null,{"$f":"IFERROR(VLOOKUP(S1162,コード表!$F$7:$G$141,2,FALSE),\"\")","v":""},null,null,"t",null,null,null,null,null,null,null,null,null,null,null,null,null,null,null,null,null,null,null,null,null,null,null,null,null,null,null,null,null,null,null,null,null,null,null,null,null,null,null,null,null,null,null,null,null,null,null,null,"","",{"$f":"IF(BS1162=\"\",\"\",IF(COUNTIF(BS$4:BS1162,BS1162)=1,ROW(),\"\"))","v":""},{"$f":"IFERROR(INDEX(BS:BS,SMALL(BT:BT,ROW(A1159))),\"\")","v":""},"","","",""]
[{"$f":"IF(F1163<>\"\",事業者基本情報!$E$9&事業者基本情報!$F$9&事業者基本情報!$G$9,\"\")","v":""},{"$f":"IF(F1163<>\"\",事業者基本情報!$Y$10,\"\")","v":""},{"$f":"IF(F1163<>\"\",事業者基本情報!$Y$7,\"\")","v":""},{"$f":"IF(F1163<>\"\",事業者基本情報!$Y$8,\"\")","v":""},{"$f":"IF(F1163<>\"\",事業者基本情報!$E$11&事業者基本情報!$F$11&事業者基本情報!$G$11&事業者基本情報!$H$11&事業者基本情報!$I$11,\"\")","v":""},null,null,null,"市",null,null,"-",null,"-",null,{"$f":"IFERROR(VLOOKUP(Q1163,コード表!$B$3:$C$101,2,FALSE),\"\")","v":""},null,{"$f":"IFERROR(VLOOKUP(S1163,コード表!$F$7:$G$141,2,FALSE),\"\")","v":""},null,null,"t",null,null,null,null,null,null,null,null,null,null,null,null,null,null,null,null,null,null,null,null,null,null,null,null,null,null,null,null,null,null,null,null,null,null,null,null,null,null,null,null,null,null,null,null,null,null,null,null,"","",{"$f":"IF(BS1163=\"\",\"\",IF(COUNTIF(BS$4:BS1163,BS1163)=1,ROW(),\"\"))","v":""},{"$f":"IFERROR(INDEX(BS:BS,SMALL(BT:BT,ROW(A1160))),\"\")","v":""},"","","",""]
[{"$f":"IF(F1166<>\"\",事業者基本情報!$E$9&事業者基本情報!$F$9&事業者基本情報!$G$9,\"\")","v":""},{"$f":"IF(F1166<>\"\",事業者基本情報!$Y$10,\"\")","v":""},{"$f":"IF(F1166<>\"\",事業者基本情報!$Y$7,\"\")","v":""},{"$f":"IF(F1166<>\"\",事業者基本情報!$Y$8,\"\")","v":""},{"$f":"IF(F1166<>\"\",事業者基本情報!$E$11&事業者基本情報!$F$11&事業者基本情報!$G$11&事業者基本情報!$H$11&事業者基本情報!$I$11,\"\")","v":""},null,null,null,"市",null,null,"-",null,"-",null,{"$f":"IFERROR(VLOOKUP(Q1166,コード表!$B$3:$C$101,2,FALSE),\"\")","v":""},null,{"$f":"IFERROR(VLOOKUP(S1166,コード表!$F$7:$G$141,2,FALSE),\"\")","v":""},null,null,"t",null,null,null,null,null,null,null,null,null,null,null,null,null,null,null,null,null,null,null,null,null,null,null,null,null,null,null,null,null,null,null,null,null,null,null,null,null,null,null,null,null,null,null,null,null,null,null,null,"","",{"$f":"IF(BS1166=\"\",\"\",IF(COUNTIF(BS$4:BS1166,BS1166)=1,ROW(),\"\"))","v":""},{"$f":"IFERROR(INDEX(BS:BS,SMALL(BT:BT,ROW(A1163))),\"\")","v":""},"","","",""]
[{"$f":"IF(F1169<>\"\",事業者基本情報!$E$9&事業者基本情報!$F$9&事業者基本情報!$G$9,\"\")","v":""},{"$f":"IF(F1169<>\"\",事業者基本情報!$Y$10,\"\")","v":""},{"$f":"IF(F1169<>\"\",事業者基本情報!$Y$7,\"\")","v":""},{"$f":"IF(F1169<>\"\",事業者基本情報!$Y$8,\"\")","v":""},{"$f":"IF(F1169<>\"\",事業者基本情報!$E$11&事業者基本情報!$F$11&事業者基本情報!$G$11&事業者基本情報!$H$11&事業者基本情報!$I$11,\"\")","v":""},null,null,null,"市",null,null,"-",null,"-",null,{"$f":"IFERROR(VLOOKUP(Q1169,コード表!$B$3:$C$101,2,FALSE),\"\")","v":""},null,{"$f":"IFERROR(VLOOKUP(S1169,コード表!$F$7:$G$141,2,FALSE),\"\")","v":""},null,null,"t",null,null,null,null,null,null,null,null,null,null,null,null,null,null,null,null,null,null,null,null,null,null,null,null,null,null,null,null,null,null,null,null,null,null,null,null,null,null,null,null,null,null,null,null,null,null,null,null,"","",{"$f":"IF(BS1169=\"\",\"\",IF(COUNTIF(BS$4:BS1169,BS1169)=1,ROW(),\"\"))","v":""},{"$f":"IFERROR(INDEX(BS:BS,SMALL(BT:BT,ROW(A1166))),\"\")","v":""},"","","",""]
[{"$f":"IF(F1173<>\"\",事業者基本情報!$E$9&事業者基本情報!$F$9&事業者基本情報!$G$9,\"\")","v":""},{"$f":"IF(F1173<>\"\",事業者基本情報!$Y$10,\"\")","v":""},{"$f":"IF(F1173<>\"\",事業者基本情報!$Y$7,\"\")","v":""},{"$f":"IF(F1173<>\"\",事業者基本情報!$Y$8,\"\")","v":""},{"$f":"IF(F1173<>\"\",事業者基本情報!$E$11&事業者基本情報!$F$11&事業者基本情報!$G$11&事業者基本情報!$H$11&事業者基本情報!$I$11,\"\")","v":""},null,null,null,"市",null,null,"-",null,"-",null,{"$f":"IFERROR(VLOOKUP(Q1173,コード表!$B$3:$C$101,2,FALSE),\"\")","v":""},null,{"$f":"IFERROR(VLOOKUP(S1173,コード表!$F$7:$G$141,2,FALSE),\"\")","v":""},null,null,"t",null,null,null,null,null,null,null,null,null,null,null,null,null,null,null,null,null,null,null,null,null,null,null,null,null,null,null,null,null,null,null,null,null,null,null,null,null,null,null,null,null,null,null,null,null,null,null,null,"","",{"$f":"IF(BS1173=\"\",\"\",IF(COUNTIF(BS$4:BS1173,BS1173)=1,ROW(),\"\"))","v":""},{"$f":"IFERROR(INDEX(BS:BS,SMALL(BT:BT,ROW(A1170))),\"\")","v":""},"","","",""]
[{"$f":"IF(F1175<>\"\",事業者基本情報!$E$9&事業者基本情報!$F$9&事業者基本情報!$G$9,\"\")","v":""},{"$f":"IF(F1175<>\"\",事業者基本情報!$Y$10,\"\")","v":""},{"$f":"IF(F1175<>\"\",事業者基本情報!$Y$7,\"\")","v":""},{"$f":"IF(F1175<>\"\",事業者基本情報!$Y$8,\"\")","v":""},{"$f":"IF(F1175<>\"\",事業者基本情報!$E$11&事業者基本情報!$F$11&事業者基本情報!$G$11&事業者基本情報!$H$11&事業者基本情報!$I$11,\"\")","v":""},null,null,null,"市",null,null,"-",null,"-",null,{"$f":"IFERROR(VLOOKUP(Q1175,コード表!$B$3:$C$101,2,FALSE),\"\")","v":""},null,{"$f":"IFERROR(VLOOKUP(S1175,コード表!$F$7:$G$141,2,FALSE),\"\")","v":""},null,null,"t",null,null,null,null,null,null,null,null,null,null,null,null,null,null,null,null,null,null,null,null,null,null,null,null,null,null,null,null,null,null,null,null,null,null,null,null,null,null,null,null,null,null,null,null,null,null,null,null,"","",{"$f":"IF(BS1175=\"\",\"\",IF(COUNTIF(BS$4:BS1175,BS1175)=1,ROW(),\"\"))","v":""},{"$f":"IFERROR(INDEX(BS:BS,SMALL(BT:BT,ROW(A1172))),\"\")","v":""},"","","",""]
[{"$f":"IF(F1178<>\"\",事業者基本情報!$E$9&事業者基本情報!$F$9&事業者基本情報!$G$9,\"\")","v":""},{"$f":"IF(F1178<>\"\",事業者基本情報!$Y$10,\"\")","v":""},{"$f":"IF(F1178<>\"\",事業者基本情報!$Y$7,\"\")","v":""},{"$f":"IF(F1178<>\"\",事業者基本情報!$Y$8,\"\")","v":""},{"$f":"IF(F1178<>\"\",事業者基本情報!$E$11&事業者基本情報!$F$11&事業者基本情報!$G$11&事業者基本情報!$H$11&事業者基本情報!$I$11,\"\")","v":""},null,null,null,"市",null,null,"-",null,"-",null,{"$f":"IFERROR(VLOOKUP(Q1178,コード表!$B$3:$C$101,2,FALSE),\"\")","v":""},null,{"$f":"IFERROR(VLOOKUP(S1178,コード表!$F$7:$G$141,2,FALSE),\"\")","v":""},null,null,"t",null,null,null,null,null,null,null,null,null,null,null,null,null,null,null,null,null,null,null,null,null,null,null,null,null,null,null,null,null,null,null,null,null,null,null,null,null,null,null,null,null,null,null,null,null,null,null,null,"","",{"$f":"IF(BS1178=\"\",\"\",IF(COUNTIF(BS$4:BS1178,BS1178)=1,ROW(),\"\"))","v":""},{"$f":"IFERROR(INDEX(BS:BS,SMALL(BT:BT,ROW(A1175))),\"\")","v":""},"","","",""]
[{"$f":"IF(F1182<>\"\",事業者基本情報!$E$9&事業者基本情報!$F$9&事業者基本情報!$G$9,\"\")","v":""},{"$f":"IF(F1182<>\"\",事業者基本情報!$Y$10,\"\")","v":""},{"$f":"IF(F1182<>\"\",事業者基本情報!$Y$7,\"\")","v":""},{"$f":"IF(F1182<>\"\",事業者基本情報!$Y$8,\"\")","v":""},{"$f":"IF(F1182<>\"\",事業者基本情報!$E$11&事業者基本情報!$F$11&事業者基本情報!$G$11&事業者基本情報!$H$11&事業者基本情報!$I$11,\"\")","v":""},null,null,null,"市",null,null,"-",null,"-",null,{"$f":"IFERROR(VLOOKUP(Q1182,コード表!$B$3:$C$101,2,FALSE),\"\")","v":""},null,{"$f":"IFERROR(VLOOKUP(S1182,コード表!$F$7:$G$141,2,FALSE),\"\")","v":""},null,null,"t",null,null,null,null,null,null,null,null,null,null,null,null,null,null,null,null,null,null,null,null,null,null,null,null,null,null,null,null,null,null,null,null,null,null,null,null,null,null,null,null,null,null,null,null,null,null,null,null,"","",{"$f":"IF(BS1182=\"\",\"\",IF(COUNTIF(BS$4:BS1182,BS1182)=1,ROW(),\"\"))","v":""},{"$f":"IFERROR(INDEX(BS:BS,SMALL(BT:BT,ROW(A1179))),\"\")","v":""},"","","",""]
[{"$f":"IF(F1184<>\"\",事業者基本情報!$E$9&事業者基本情報!$F$9&事業者基本情報!$G$9,\"\")","v":""},{"$f":"IF(F1184<>\"\",事業者基本情報!$Y$10,\"\")","v":""},{"$f":"IF(F1184<>\"\",事業者基本情報!$Y$7,\"\")","v":""},{"$f":"IF(F1184<>\"\",事業者基本情報!$Y$8,\"\")","v":""},{"$f":"IF(F1184<>\"\",事業者基本情報!$E$11&事業者基本情報!$F$11&事業者基本情報!$G$11&事業者基本情報!$H$11&事業者基本情報!$I$11,\"\")","v":""},null,null,null,"市",null,null,"-",null,"-",null,{"$f":"IFERROR(VLOOKUP(Q1184,コード表!$B$3:$C$101,2,FALSE),\"\")","v":""},null,{"$f":"IFERROR(VLOOKUP(S1184,コード表!$F$7:$G$141,2,FALSE),\"\")","v":""},null,null,"t",null,null,null,null,null,null,null,null,null,null,null,null,null,null,null,null,null,null,null,null,null,null,null,null,null,null,null,null,null,null,null,null,null,null,null,null,null,null,null,null,null,null,null,null,null,null,null,null,"","",{"$f":"IF(BS1184=\"\",\"\",IF(COUNTIF(BS$4:BS1184,BS1184)=1,ROW(),\"\"))","v":""},{"$f":"IFERROR(INDEX(BS:BS,SMALL(BT:BT,ROW(A1181))),\"\")","v":""},"","","",""]
[{"$f":"IF(F1185<>\"\",事業者基本情報!$E$9&事業者基本情報!$F$9&事業者基本情報!$G$9,\"\")","v":""},{"$f":"IF(F1185<>\"\",事業者基本情報!$Y$10,\"\")","v":""},{"$f":"IF(F1185<>\"\",事業者基本情報!$Y$7,\"\")","v":""},{"$f":"IF(F1185<>\"\",事業者基本情報!$Y$8,\"\")","v":""},{"$f":"IF(F1185<>\"\",事業者基本情報!$E$11&事業者基本情報!$F$11&事業者基本情報!$G$11&事業者基本情報!$H$11&事業者基本情報!$I$11,\"\")","v":""},null,null,null,"市",null,null,"-",null,"-",null,{"$f":"IFERROR(VLOOKUP(Q1185,コード表!$B$3:$C$101,2,FALSE),\"\")","v":""},null,{"$f":"IFERROR(VLOOKUP(S1185,コード表!$F$7:$G$141,2,FALSE),\"\")","v":""},null,null,"t",null,null,null,null,null,null,null,null,null,null,null,null,null,null,null,null,null,null,null,null,null,null,null,null,null,null,null,null,null,null,null,null,null,null,null,null,null,null,null,null,null,null,null,null,null,null,null,null,"","",{"$f":"IF(BS1185=\"\",\"\",IF(COUNTIF(BS$4:BS1185,BS1185)=1,ROW(),\"\"))","v":""},{"$f":"IFERROR(INDEX(BS:BS,SMALL(BT:BT,ROW(A1182))),\"\")","v":""},"","","",""]
[{"$f":"IF(F1188<>\"\",事業者基本情報!$E$9&事業者基本情報!$F$9&事業者基本情報!$G$9,\"\")","v":""},{"$f":"IF(F1188<>\"\",事業者基本情報!$Y$10,\"\")","v":""},{"$f":"IF(F1188<>\"\",事業者基本情報!$Y$7,\"\")","v":""},{"$f":"IF(F1188<>\"\",事業者基本情報!$Y$8,\"\")","v":""},{"$f":"IF(F1188<>\"\",事業者基本情報!$E$11&事業者基本情報!$F$11&事業者基本情報!$G$11&事業者基本情報!$H$11&事業者基本情報!$I$11,\"\")","v":""},null,null,null,"市",null,null,"-",null,"-",null,{"$f":"IFERROR(VLOOKUP(Q1188,コード表!$B$3:$C$101,2,FALSE),\"\")","v":""},null,{"$f":"IFERROR(VLOOKUP(S1188,コード表!$F$7:$G$141,2,FALSE),\"\")","v":""},null,null,"t",null,null,null,null,null,null,null,null,null,null,null,null,null,null,null,null,null,null,null,null,null,null,null,null,null,null,null,null,null,null,null,null,null,null,null,null,null,null,null,null,null,null,null,null,null,null,null,null,"","",{"$f":"IF(BS1188=\"\",\"\",IF(COUNTIF(BS$4:BS1188,BS1188)=1,ROW(),\"\"))","v":""},{"$f":"IFERROR(INDEX(BS:BS,SMALL(BT:BT,ROW(A1185))),\"\")","v":""},"","","",""]
[{"$f":"IF(F1191<>\"\",事業者基本情報!$E$9&事業者基本情報!$F$9&事業者基本情報!$G$9,\"\")","v":""},{"$f":"IF(F1191<>\"\",事業者基本情報!$Y$10,\"\")","v":""},{"$f":"IF(F1191<>\"\",事業者基本情報!$Y$7,\"\")","v":""},{"$f":"IF(F1191<>\"\",事業者基本情報!$Y$8,\"\")","v":""},{"$f":"IF(F1191<>\"\",事業者基本情報!$E$11&事業者基本情報!$F$11&事業者基本情報!$G$11&事業者基本情報!$H$11&事業者基本情報!$I$11,\"\")","v":""},null,null,null,"市",null,null,"-",null,"-",null,{"$f":"IFERROR(VLOOKUP(Q1191,コード表!$B$3:$C$101,2,FALSE),\"\")","v":""},null,{"$f":"IFERROR(VLOOKUP(S1191,コード表!$F$7:$G$141,2,FALSE),\"\")","v":""},null,null,"t",null,null,null,null,null,null,null,null,null,null,null,null,null,null,null,null,null,null,null,null,null,null,null,null,null,null,null,null,null,null,null,null,null,null,null,null,null,null,null,null,null,null,null,null,null,null,null,null,"","",{"$f":"IF(BS1191=\"\",\"\",IF(COUNTIF(BS$4:BS1191,BS1191)=1,ROW(),\"\"))","v":""},{"$f":"IFERROR(INDEX(BS:BS,SMALL(BT:BT,ROW(A1188))),\"\")","v":""},"","","",""]
[{"$f":"IF(F1195<>\"\",事業者基本情報!$E$9&事業者基本情報!$F$9&事業者基本情報!$G$9,\"\")","v":""},{"$f":"IF(F1195<>\"\",事業者基本情報!$Y$10,\"\")","v":""},{"$f":"IF(F1195<>\"\",事業者基本情報!$Y$7,\"\")","v":""},{"$f":"IF(F1195<>\"\",事業者基本情報!$Y$8,\"\")","v":""},{"$f":"IF(F1195<>\"\",事業者基本情報!$E$11&事業者基本情報!$F$11&事業者基本情報!$G$11&事業者基本情報!$H$11&事業者基本情報!$I$11,\"\")","v":""},null,null,null,"市",null,null,"-",null,"-",null,{"$f":"IFERROR(VLOOKUP(Q1195,コード表!$B$3:$C$101,2,FALSE),\"\")","v":""},null,{"$f":"IFERROR(VLOOKUP(S1195,コード表!$F$7:$G$141,2,FALSE),\"\")","v":""},null,null,"t",null,null,null,null,null,null,null,null,null,null,null,null,null,null,null,null,null,null,null,null,null,null,null,null,null,null,null,null,null,null,null,null,null,null,null,null,null,null,null,null,null,null,null,null,null,null,null,null,"","",{"$f":"IF(BS1195=\"\",\"\",IF(COUNTIF(BS$4:BS1195,BS1195)=1,ROW(),\"\"))","v":""},{"$f":"IFERROR(INDEX(BS:BS,SMALL(BT:BT,ROW(A1192))),\"\")","v":""},"","","",""]
[{"$f":"IF(F1197<>\"\",事業者基本情報!$E$9&事業者基本情報!$F$9&事業者基本情報!$G$9,\"\")","v":""},{"$f":"IF(F1197<>\"\",事業者基本情報!$Y$10,\"\")","v":""},{"$f":"IF(F1197<>\"\",事業者基本情報!$Y$7,\"\")","v":""},{"$f":"IF(F1197<>\"\",事業者基本情報!$Y$8,\"\")","v":""},{"$f":"IF(F1197<>\"\",事業者基本情報!$E$11&事業者基本情報!$F$11&事業者基本情報!$G$11&事業者基本情報!$H$11&事業者基本情報!$I$11,\"\")","v":""},null,null,null,"市",null,null,"-",null,"-",null,{"$f":"IFERROR(VLOOKUP(Q1197,コード表!$B$3:$C$101,2,FALSE),\"\")","v":""},null,{"$f":"IFERROR(VLOOKUP(S1197,コード表!$F$7:$G$141,2,FALSE),\"\")","v":""},null,null,"t",null,null,null,null,null,null,null,null,null,null,null,null,null,null,null,null,null,null,null,null,null,null,null,null,null,null,null,null,null,null,null,null,null,null,null,null,null,null,null,null,null,null,null,null,null,null,null,null,"","",{"$f":"IF(BS1197=\"\",\"\",IF(COUNTIF(BS$4:BS1197,BS1197)=1,ROW(),\"\"))","v":""},{"$f":"IFERROR(INDEX(BS:BS,SMALL(BT:BT,ROW(A1194))),\"\")","v":""},"","","",""]
[{"$f":"IF(F1201<>\"\",事業者基本情報!$E$9&事業者基本情報!$F$9&事業者基本情報!$G$9,\"\")","v":""},{"$f":"IF(F1201<>\"\",事業者基本情報!$Y$10,\"\")","v":""},{"$f":"IF(F1201<>\"\",事業者基本情報!$Y$7,\"\")","v":""},{"$f":"IF(F1201<>\"\",事業者基本情報!$Y$8,\"\")","v":""},{"$f":"IF(F1201<>\"\",事業者基本情報!$E$11&事業者基本情報!$F$11&事業者基本情報!$G$11&事業者基本情報!$H$11&事業者基本情報!$I$11,\"\")","v":""},null,null,null,"市",null,null,"-",null,"-",null,{"$f":"IFERROR(VLOOKUP(Q1201,コード表!$B$3:$C$101,2,FALSE),\"\")","v":""},null,{"$f":"IFERROR(VLOOKUP(S1201,コード表!$F$7:$G$141,2,FALSE),\"\")","v":""},null,null,"t",null,null,null,null,null,null,null,null,null,null,null,null,null,null,null,null,null,null,null,null,null,null,null,null,null,null,null,null,null,null,null,null,null,null,null,null,null,null,null,null,null,null,null,null,null,null,null,null,"","",{"$f":"IF(BS1201=\"\",\"\",IF(COUNTIF(BS$4:BS1201,BS1201)=1,ROW(),\"\"))","v":""},{"$f":"IFERROR(INDEX(BS:BS,SMALL(BT:BT,ROW(A1198))),\"\")","v":""},"","","",""]
[{"$f":"IF(F1204<>\"\",事業者基本情報!$E$9&事業者基本情報!$F$9&事業者基本情報!$G$9,\"\")","v":""},{"$f":"IF(F1204<>\"\",事業者基本情報!$Y$10,\"\")","v":""},{"$f":"IF(F1204<>\"\",事業者基本情報!$Y$7,\"\")","v":""},{"$f":"IF(F1204<>\"\",事業者基本情報!$Y$8,\"\")","v":""},{"$f":"IF(F1204<>\"\",事業者基本情報!$E$11&事業者基本情報!$F$11&事業者基本情報!$G$11&事業者基本情報!$H$11&事業者基本情報!$I$11,\"\")","v":""},null,null,null,"市",null,null,"-",null,"-",null,{"$f":"IFERROR(VLOOKUP(Q1204,コード表!$B$3:$C$101,2,FALSE),\"\")","v":""},null,{"$f":"IFERROR(VLOOKUP(S1204,コード表!$F$7:$G$141,2,FALSE),\"\")","v":""},null,null,"t",null,null,null,null,null,null,null,null,null,null,null,null,null,null,null,null,null,null,null,null,null,null,null,null,null,null,null,null,null,null,null,null,null,null,null,null,null,null,null,null,null,null,null,null,null,null,null,null,"","",{"$f":"IF(BS1204=\"\",\"\",IF(COUNTIF(BS$4:BS1204,BS1204)=1,ROW(),\"\"))","v":""},{"$f":"IFERROR(INDEX(BS:BS,SMALL(BT:BT,ROW(A1201))),\"\")","v":""},"","","",""]
[{"$f":"IF(F1206<>\"\",事業者基本情報!$E$9&事業者基本情報!$F$9&事業者基本情報!$G$9,\"\")","v":""},{"$f":"IF(F1206<>\"\",事業者基本情報!$Y$10,\"\")","v":""},{"$f":"IF(F1206<>\"\",事業者基本情報!$Y$7,\"\")","v":""},{"$f":"IF(F1206<>\"\",事業者基本情報!$Y$8,\"\")","v":""},{"$f":"IF(F1206<>\"\",事業者基本情報!$E$11&事業者基本情報!$F$11&事業者基本情報!$G$11&事業者基本情報!$H$11&事業者基本情報!$I$11,\"\")","v":""},null,null,null,"市",null,null,"-",null,"-",null,{"$f":"IFERROR(VLOOKUP(Q1206,コード表!$B$3:$C$101,2,FALSE),\"\")","v":""},null,{"$f":"IFERROR(VLOOKUP(S1206,コード表!$F$7:$G$141,2,FALSE),\"\")","v":""},null,null,"t",null,null,null,null,null,null,null,null,null,null,null,null,null,null,null,null,null,null,null,null,null,null,null,null,null,null,null,null,null,null,null,null,null,null,null,null,null,null,null,null,null,null,null,null,null,null,null,null,"","",{"$f":"IF(BS1206=\"\",\"\",IF(COUNTIF(BS$4:BS1206,BS1206)=1,ROW(),\"\"))","v":""},{"$f":"IFERROR(INDEX(BS:BS,SMALL(BT:BT,ROW(A1203))),\"\")","v":""},"","","",""]
[{"$f":"IF(F1207<>\"\",事業者基本情報!$E$9&事業者基本情報!$F$9&事業者基本情報!$G$9,\"\")","v":""},{"$f":"IF(F1207<>\"\",事業者基本情報!$Y$10,\"\")","v":""},{"$f":"IF(F1207<>\"\",事業者基本情報!$Y$7,\"\")","v":""},{"$f":"IF(F1207<>\"\",事業者基本情報!$Y$8,\"\")","v":""},{"$f":"IF(F1207<>\"\",事業者基本情報!$E$11&事業者基本情報!$F$11&事業者基本情報!$G$11&事業者基本情報!$H$11&事業者基本情報!$I$11,\"\")","v":""},null,null,null,"市",null,null,"-",null,"-",null,{"$f":"IFERROR(VLOOKUP(Q1207,コード表!$B$3:$C$101,2,FALSE),\"\")","v":""},null,{"$f":"IFERROR(VLOOKUP(S1207,コード表!$F$7:$G$141,2,FALSE),\"\")","v":""},null,null,"t",null,null,null,null,null,null,null,null,null,null,null,null,null,null,null,null,null,null,null,null,null,null,null,null,null,null,null,null,null,null,null,null,null,null,null,null,null,null,null,null,null,null,null,null,null,null,null,null,"","",{"$f":"IF(BS1207=\"\",\"\",IF(COUNTIF(BS$4:BS1207,BS1207)=1,ROW(),\"\"))","v":""},{"$f":"IFERROR(INDEX(BS:BS,SMALL(BT:BT,ROW(A1204))),\"\")","v":""},"","","",""]
[{"$f":"IF(F1210<>\"\",事業者基本情報!$E$9&事業者基本情報!$F$9&事業者基本情報!$G$9,\"\")","v":""},{"$f":"IF(F1210<>\"\",事業者基本情報!$Y$10,\"\")","v":""},{"$f":"IF(F1210<>\"\",事業者基本情報!$Y$7,\"\")","v":""},{"$f":"IF(F1210<>\"\",事業者基本情報!$Y$8,\"\")","v":""},{"$f":"IF(F1210<>\"\",事業者基本情報!$E$11&事業者基本情報!$F$11&事業者基本情報!$G$11&事業者基本情報!$H$11&事業者基本情報!$I$11,\"\")","v":""},null,null,null,"市",null,null,"-",null,"-",null,{"$f":"IFERROR(VLOOKUP(Q1210,コード表!$B$3:$C$101,2,FALSE),\"\")","v":""},null,{"$f":"IFERROR(VLOOKUP(S1210,コード表!$F$7:$G$141,2,FALSE),\"\")","v":""},null,null,"t",null,null,null,null,null,null,null,null,null,null,null,null,null,null,null,null,null,null,null,null,null,null,null,null,null,null,null,null,null,null,null,null,null,null,null,null,null,null,null,null,null,null,null,null,null,null,null,null,"","",{"$f":"IF(BS1210=\"\",\"\",IF(COUNTIF(BS$4:BS1210,BS1210)=1,ROW(),\"\"))","v":""},{"$f":"IFERROR(INDEX(BS:BS,SMALL(BT:BT,ROW(A1207))),\"\")","v":""},"","","",""]
[{"$f":"IF(F1213<>\"\",事業者基本情報!$E$9&事業者基本情報!$F$9&事業者基本情報!$G$9,\"\")","v":""},{"$f":"IF(F1213<>\"\",事業者基本情報!$Y$10,\"\")","v":""},{"$f":"IF(F1213<>\"\",事業者基本情報!$Y$7,\"\")","v":""},{"$f":"IF(F1213<>\"\",事業者基本情報!$Y$8,\"\")","v":""},{"$f":"IF(F1213<>\"\",事業者基本情報!$E$11&事業者基本情報!$F$11&事業者基本情報!$G$11&事業者基本情報!$H$11&事業者基本情報!$I$11,\"\")","v":""},null,null,null,"市",null,null,"-",null,"-",null,{"$f":"IFERROR(VLOOKUP(Q1213,コード表!$B$3:$C$101,2,FALSE),\"\")","v":""},null,{"$f":"IFERROR(VLOOKUP(S1213,コード表!$F$7:$G$141,2,FALSE),\"\")","v":""},null,null,"t",null,null,null,null,null,null,null,null,null,null,null,null,null,null,null,null,null,null,null,null,null,null,null,null,null,null,null,null,null,null,null,null,null,null,null,null,null,null,null,null,null,null,null,null,null,null,null,null,"","",{"$f":"IF(BS1213=\"\",\"\",IF(COUNTIF(BS$4:BS1213,BS1213)=1,ROW(),\"\"))","v":""},{"$f":"IFERROR(INDEX(BS:BS,SMALL(BT:BT,ROW(A1210))),\"\")","v":""},"","","",""]
[{"$f":"IF(F1217<>\"\",事業者基本情報!$E$9&事業者基本情報!$F$9&事業者基本情報!$G$9,\"\")","v":""},{"$f":"IF(F1217<>\"\",事業者基本情報!$Y$10,\"\")","v":""},{"$f":"IF(F1217<>\"\",事業者基本情報!$Y$7,\"\")","v":""},{"$f":"IF(F1217<>\"\",事業者基本情報!$Y$8,\"\")","v":""},{"$f":"IF(F1217<>\"\",事業者基本情報!$E$11&事業者基本情報!$F$11&事業者基本情報!$G$11&事業者基本情報!$H$11&事業者基本情報!$I$11,\"\")","v":""},null,null,null,"市",null,null,"-",null,"-",null,{"$f":"IFERROR(VLOOKUP(Q1217,コード表!$B$3:$C$101,2,FALSE),\"\")","v":""},null,{"$f":"IFERROR(VLOOKUP(S1217,コード表!$F$7:$G$141,2,FALSE),\"\")","v":""},null,null,"t",null,null,null,null,null,null,null,null,null,null,null,null,null,null,null,null,null,null,null,null,null,null,null,null,null,null,null,null,null,null,null,null,null,null,null,null,null,null,null,null,null,null,null,null,null,null,null,null,"","",{"$f":"IF(BS1217=\"\",\"\",IF(COUNTIF(BS$4:BS1217,BS1217)=1,ROW(),\"\"))","v":""},{"$f":"IFERROR(INDEX(BS:BS,SMALL(BT:BT,ROW(A1214))),\"\")","v":""},"","","",""]
[{"$f":"IF(F1219<>\"\",事業者基本情報!$E$9&事業者基本情報!$F$9&事業者基本情報!$G$9,\"\")","v":""},{"$f":"IF(F1219<>\"\",事業者基本情報!$Y$10,\"\")","v":""},{"$f":"IF(F1219<>\"\",事業者基本情報!$Y$7,\"\")","v":""},{"$f":"IF(F1219<>\"\",事業者基本情報!$Y$8,\"\")","v":""},{"$f":"IF(F1219<>\"\",事業者基本情報!$E$11&事業者基本情報!$F$11&事業者基本情報!$G$11&事業者基本情報!$H$11&事業者基本情報!$I$11,\"\")","v":""},null,null,null,"市",null,null,"-",null,"-",null,{"$f":"IFERROR(VLOOKUP(Q1219,コード表!$B$3:$C$101,2,FALSE),\"\")","v":""},null,{"$f":"IFERROR(VLOOKUP(S1219,コード表!$F$7:$G$141,2,FALSE),\"\")","v":""},null,null,"t",null,null,null,null,null,null,null,null,null,null,null,null,null,null,null,null,null,null,null,null,null,null,null,null,null,null,null,null,null,null,null,null,null,null,null,null,null,null,null,null,null,null,null,null,null,null,null,null,"","",{"$f":"IF(BS1219=\"\",\"\",IF(COUNTIF(BS$4:BS1219,BS1219)=1,ROW(),\"\"))","v":""},{"$f":"IFERROR(INDEX(BS:BS,SMALL(BT:BT,ROW(A1216))),\"\")","v":""},"","","",""]
[{"$f":"IF(F1223<>\"\",事業者基本情報!$E$9&事業者基本情報!$F$9&事業者基本情報!$G$9,\"\")","v":""},{"$f":"IF(F1223<>\"\",事業者基本情報!$Y$10,\"\")","v":""},{"$f":"IF(F1223<>\"\",事業者基本情報!$Y$7,\"\")","v":""},{"$f":"IF(F1223<>\"\",事業者基本情報!$Y$8,\"\")","v":""},{"$f":"IF(F1223<>\"\",事業者基本情報!$E$11&事業者基本情報!$F$11&事業者基本情報!$G$11&事業者基本情報!$H$11&事業者基本情報!$I$11,\"\")","v":""},null,null,null,"市",null,null,"-",null,"-",null,{"$f":"IFERROR(VLOOKUP(Q1223,コード表!$B$3:$C$101,2,FALSE),\"\")","v":""},null,{"$f":"IFERROR(VLOOKUP(S1223,コード表!$F$7:$G$141,2,FALSE),\"\")","v":""},null,null,"t",null,null,null,null,null,null,null,null,null,null,null,null,null,null,null,null,null,null,null,null,null,null,null,null,null,null,null,null,null,null,null,null,null,null,null,null,null,null,null,null,null,null,null,null,null,null,null,null,"","",{"$f":"IF(BS1223=\"\",\"\",IF(COUNTIF(BS$4:BS1223,BS1223)=1,ROW(),\"\"))","v":""},{"$f":"IFERROR(INDEX(BS:BS,SMALL(BT:BT,ROW(A1220))),\"\")","v":""},"","","",""]
[{"$f":"IF(F1226<>\"\",事業者基本情報!$E$9&事業者基本情報!$F$9&事業者基本情報!$G$9,\"\")","v":""},{"$f":"IF(F1226<>\"\",事業者基本情報!$Y$10,\"\")","v":""},{"$f":"IF(F1226<>\"\",事業者基本情報!$Y$7,\"\")","v":""},{"$f":"IF(F1226<>\"\",事業者基本情報!$Y$8,\"\")","v":""},{"$f":"IF(F1226<>\"\",事業者基本情報!$E$11&事業者基本情報!$F$11&事業者基本情報!$G$11&事業者基本情報!$H$11&事業者基本情報!$I$11,\"\")","v":""},null,null,null,"市",null,null,"-",null,"-",null,{"$f":"IFERROR(VLOOKUP(Q1226,コード表!$B$3:$C$101,2,FALSE),\"\")","v":""},null,{"$f":"IFERROR(VLOOKUP(S1226,コード表!$F$7:$G$141,2,FALSE),\"\")","v":""},null,null,"t",null,null,null,null,null,null,null,null,null,null,null,null,null,null,null,null,null,null,null,null,null,null,null,null,null,null,null,null,null,null,null,null,null,null,null,null,null,null,null,null,null,null,null,null,null,null,null,null,"","",{"$f":"IF(BS1226=\"\",\"\",IF(COUNTIF(BS$4:BS1226,BS1226)=1,ROW(),\"\"))","v":""},{"$f":"IFERROR(INDEX(BS:BS,SMALL(BT:BT,ROW(A1223))),\"\")","v":""},"","","",""]
[{"$f":"IF(F1228<>\"\",事業者基本情報!$E$9&事業者基本情報!$F$9&事業者基本情報!$G$9,\"\")","v":""},{"$f":"IF(F1228<>\"\",事業者基本情報!$Y$10,\"\")","v":""},{"$f":"IF(F1228<>\"\",事業者基本情報!$Y$7,\"\")","v":""},{"$f":"IF(F1228<>\"\",事業者基本情報!$Y$8,\"\")","v":""},{"$f":"IF(F1228<>\"\",事業者基本情報!$E$11&事業者基本情報!$F$11&事業者基本情報!$G$11&事業者基本情報!$H$11&事業者基本情報!$I$11,\"\")","v":""},null,null,null,"市",null,null,"-",null,"-",null,{"$f":"IFERROR(VLOOKUP(Q1228,コード表!$B$3:$C$101,2,FALSE),\"\")","v":""},null,{"$f":"IFERROR(VLOOKUP(S1228,コード表!$F$7:$G$141,2,FALSE),\"\")","v":""},null,null,"t",null,null,null,null,null,null,null,null,null,null,null,null,null,null,null,null,null,null,null,null,null,null,null,null,null,null,null,null,null,null,null,null,null,null,null,null,null,null,null,null,null,null,null,null,null,null,null,null,"","",{"$f":"IF(BS1228=\"\",\"\",IF(COUNTIF(BS$4:BS1228,BS1228)=1,ROW(),\"\"))","v":""},{"$f":"IFERROR(INDEX(BS:BS,SMALL(BT:BT,ROW(A1225))),\"\")","v":""},"","","",""]
[{"$f":"IF(F1229<>\"\",事業者基本情報!$E$9&事業者基本情報!$F$9&事業者基本情報!$G$9,\"\")","v":""},{"$f":"IF(F1229<>\"\",事業者基本情報!$Y$10,\"\")","v":""},{"$f":"IF(F1229<>\"\",事業者基本情報!$Y$7,\"\")","v":""},{"$f":"IF(F1229<>\"\",事業者基本情報!$Y$8,\"\")","v":""},{"$f":"IF(F1229<>\"\",事業者基本情報!$E$11&事業者基本情報!$F$11&事業者基本情報!$G$11&事業者基本情報!$H$11&事業者基本情報!$I$11,\"\")","v":""},null,null,null,"市",null,null,"-",null,"-",null,{"$f":"IFERROR(VLOOKUP(Q1229,コード表!$B$3:$C$101,2,FALSE),\"\")","v":""},null,{"$f":"IFERROR(VLOOKUP(S1229,コード表!$F$7:$G$141,2,FALSE),\"\")","v":""},null,null,"t",null,null,null,null,null,null,null,null,null,null,null,null,null,null,null,null,null,null,null,null,null,null,null,null,null,null,null,null,null,null,null,null,null,null,null,null,null,null,null,null,null,null,null,null,null,null,null,null,"","",{"$f":"IF(BS1229=\"\",\"\",IF(COUNTIF(BS$4:BS1229,BS1229)=1,ROW(),\"\"))","v":""},{"$f":"IFERROR(INDEX(BS:BS,SMALL(BT:BT,ROW(A1226))),\"\")","v":""},"","","",""]
[{"$f":"IF(F1232<>\"\",事業者基本情報!$E$9&事業者基本情報!$F$9&事業者基本情報!$G$9,\"\")","v":""},{"$f":"IF(F1232<>\"\",事業者基本情報!$Y$10,\"\")","v":""},{"$f":"IF(F1232<>\"\",事業者基本情報!$Y$7,\"\")","v":""},{"$f":"IF(F1232<>\"\",事業者基本情報!$Y$8,\"\")","v":""},{"$f":"IF(F1232<>\"\",事業者基本情報!$E$11&事業者基本情報!$F$11&事業者基本情報!$G$11&事業者基本情報!$H$11&事業者基本情報!$I$11,\"\")","v":""},null,null,null,"市",null,null,"-",null,"-",null,{"$f":"IFERROR(VLOOKUP(Q1232,コード表!$B$3:$C$101,2,FALSE),\"\")","v":""},null,{"$f":"IFERROR(VLOOKUP(S1232,コード表!$F$7:$G$141,2,FALSE),\"\")","v":""},null,null,"t",null,null,null,null,null,null,null,null,null,null,null,null,null,null,null,null,null,null,null,null,null,null,null,null,null,null,null,null,null,null,null,null,null,null,null,null,null,null,null,null,null,null,null,null,null,null,null,null,"","",{"$f":"IF(BS1232=\"\",\"\",IF(COUNTIF(BS$4:BS1232,BS1232)=1,ROW(),\"\"))","v":""},{"$f":"IFERROR(INDEX(BS:BS,SMALL(BT:BT,ROW(A1229))),\"\")","v":""},"","","",""]
[{"$f":"IF(F1235<>\"\",事業者基本情報!$E$9&事業者基本情報!$F$9&事業者基本情報!$G$9,\"\")","v":""},{"$f":"IF(F1235<>\"\",事業者基本情報!$Y$10,\"\")","v":""},{"$f":"IF(F1235<>\"\",事業者基本情報!$Y$7,\"\")","v":""},{"$f":"IF(F1235<>\"\",事業者基本情報!$Y$8,\"\")","v":""},{"$f":"IF(F1235<>\"\",事業者基本情報!$E$11&事業者基本情報!$F$11&事業者基本情報!$G$11&事業者基本情報!$H$11&事業者基本情報!$I$11,\"\")","v":""},null,null,null,"市",null,null,"-",null,"-",null,{"$f":"IFERROR(VLOOKUP(Q1235,コード表!$B$3:$C$101,2,FALSE),\"\")","v":""},null,{"$f":"IFERROR(VLOOKUP(S1235,コード表!$F$7:$G$141,2,FALSE),\"\")","v":""},null,null,"t",null,null,null,null,null,null,null,null,null,null,null,null,null,null,null,null,null,null,null,null,null,null,null,null,null,null,null,null,null,null,null,null,null,null,null,null,null,null,null,null,null,null,null,null,null,null,null,null,"","",{"$f":"IF(BS1235=\"\",\"\",IF(COUNTIF(BS$4:BS1235,BS1235)=1,ROW(),\"\"))","v":""},{"$f":"IFERROR(INDEX(BS:BS,SMALL(BT:BT,ROW(A1232))),\"\")","v":""},"","","",""]
[{"$f":"IF(F1239<>\"\",事業者基本情報!$E$9&事業者基本情報!$F$9&事業者基本情報!$G$9,\"\")","v":""},{"$f":"IF(F1239<>\"\",事業者基本情報!$Y$10,\"\")","v":""},{"$f":"IF(F1239<>\"\",事業者基本情報!$Y$7,\"\")","v":""},{"$f":"IF(F1239<>\"\",事業者基本情報!$Y$8,\"\")","v":""},{"$f":"IF(F1239<>\"\",事業者基本情報!$E$11&事業者基本情報!$F$11&事業者基本情報!$G$11&事業者基本情報!$H$11&事業者基本情報!$I$11,\"\")","v":""},null,null,null,"市",null,null,"-",null,"-",null,{"$f":"IFERROR(VLOOKUP(Q1239,コード表!$B$3:$C$101,2,FALSE),\"\")","v":""},null,{"$f":"IFERROR(VLOOKUP(S1239,コード表!$F$7:$G$141,2,FALSE),\"\")","v":""},null,null,"t",null,null,null,null,null,null,null,null,null,null,null,null,null,null,null,null,null,null,null,null,null,null,null,null,null,null,null,null,null,null,null,null,null,null,null,null,null,null,null,null,null,null,null,null,null,null,null,null,"","",{"$f":"IF(BS1239=\"\",\"\",IF(COUNTIF(BS$4:BS1239,BS1239)=1,ROW(),\"\"))","v":""},{"$f":"IFERROR(INDEX(BS:BS,SMALL(BT:BT,ROW(A1236))),\"\")","v":""},"","","",""]
[{"$f":"IF(F1241<>\"\",事業者基本情報!$E$9&事業者基本情報!$F$9&事業者基本情報!$G$9,\"\")","v":""},{"$f":"IF(F1241<>\"\",事業者基本情報!$Y$10,\"\")","v":""},{"$f":"IF(F1241<>\"\",事業者基本情報!$Y$7,\"\")","v":""},{"$f":"IF(F1241<>\"\",事業者基本情報!$Y$8,\"\")","v":""},{"$f":"IF(F1241<>\"\",事業者基本情報!$E$11&事業者基本情報!$F$11&事業者基本情報!$G$11&事業者基本情報!$H$11&事業者基本情報!$I$11,\"\")","v":""},null,null,null,"市",null,null,"-",null,"-",null,{"$f":"IFERROR(VLOOKUP(Q1241,コード表!$B$3:$C$101,2,FALSE),\"\")","v":""},null,{"$f":"IFERROR(VLOOKUP(S1241,コード表!$F$7:$G$141,2,FALSE),\"\")","v":""},null,null,"t",null,null,null,null,null,null,null,null,null,null,null,null,null,null,null,null,null,null,null,null,null,null,null,null,null,null,null,null,null,null,null,null,null,null,null,null,null,null,null,null,null,null,null,null,null,null,null,null,"","",{"$f":"IF(BS1241=\"\",\"\",IF(COUNTIF(BS$4:BS1241,BS1241)=1,ROW(),\"\"))","v":""},{"$f":"IFERROR(INDEX(BS:BS,SMALL(BT:BT,ROW(A1238))),\"\")","v":""},"","","",""]
[{"$f":"IF(F1245<>\"\",事業者基本情報!$E$9&事業者基本情報!$F$9&事業者基本情報!$G$9,\"\")","v":""},{"$f":"IF(F1245<>\"\",事業者基本情報!$Y$10,\"\")","v":""},{"$f":"IF(F1245<>\"\",事業者基本情報!$Y$7,\"\")","v":""},{"$f":"IF(F1245<>\"\",事業者基本情報!$Y$8,\"\")","v":""},{"$f":"IF(F1245<>\"\",事業者基本情報!$E$11&事業者基本情報!$F$11&事業者基本情報!$G$11&事業者基本情報!$H$11&事業者基本情報!$I$11,\"\")","v":""},null,null,null,"市",null,null,"-",null,"-",null,{"$f":"IFERROR(VLOOKUP(Q1245,コード表!$B$3:$C$101,2,FALSE),\"\")","v":""},null,{"$f":"IFERROR(VLOOKUP(S1245,コード表!$F$7:$G$141,2,FALSE),\"\")","v":""},null,null,"t",null,null,null,null,null,null,null,null,null,null,null,null,null,null,null,null,null,null,null,null,null,null,null,null,null,null,null,null,null,null,null,null,null,null,null,null,null,null,null,null,null,null,null,null,null,null,null,null,"","",{"$f":"IF(BS1245=\"\",\"\",IF(COUNTIF(BS$4:BS1245,BS1245)=1,ROW(),\"\"))","v":""},{"$f":"IFERROR(INDEX(BS:BS,SMALL(BT:BT,ROW(A1242))),\"\")","v":""},"","","",""]
[{"$f":"IF(F1248<>\"\",事業者基本情報!$E$9&事業者基本情報!$F$9&事業者基本情報!$G$9,\"\")","v":""},{"$f":"IF(F1248<>\"\",事業者基本情報!$Y$10,\"\")","v":""},{"$f":"IF(F1248<>\"\",事業者基本情報!$Y$7,\"\")","v":""},{"$f":"IF(F1248<>\"\",事業者基本情報!$Y$8,\"\")","v":""},{"$f":"IF(F1248<>\"\",事業者基本情報!$E$11&事業者基本情報!$F$11&事業者基本情報!$G$11&事業者基本情報!$H$11&事業者基本情報!$I$11,\"\")","v":""},null,null,null,"市",null,null,"-",null,"-",null,{"$f":"IFERROR(VLOOKUP(Q1248,コード表!$B$3:$C$101,2,FALSE),\"\")","v":""},null,{"$f":"IFERROR(VLOOKUP(S1248,コード表!$F$7:$G$141,2,FALSE),\"\")","v":""},null,null,"t",null,null,null,null,null,null,null,null,null,null,null,null,null,null,null,null,null,null,null,null,null,null,null,null,null,null,null,null,null,null,null,null,null,null,null,null,null,null,null,null,null,null,null,null,null,null,null,null,"","",{"$f":"IF(BS1248=\"\",\"\",IF(COUNTIF(BS$4:BS1248,BS1248)=1,ROW(),\"\"))","v":""},{"$f":"IFERROR(INDEX(BS:BS,SMALL(BT:BT,ROW(A1245))),\"\")","v":""},"","","",""]
[{"$f":"IF(F1250<>\"\",事業者基本情報!$E$9&事業者基本情報!$F$9&事業者基本情報!$G$9,\"\")","v":""},{"$f":"IF(F1250<>\"\",事業者基本情報!$Y$10,\"\")","v":""},{"$f":"IF(F1250<>\"\",事業者基本情報!$Y$7,\"\")","v":""},{"$f":"IF(F1250<>\"\",事業者基本情報!$Y$8,\"\")","v":""},{"$f":"IF(F1250<>\"\",事業者基本情報!$E$11&事業者基本情報!$F$11&事業者基本情報!$G$11&事業者基本情報!$H$11&事業者基本情報!$I$11,\"\")","v":""},null,null,null,"市",null,null,"-",null,"-",null,{"$f":"IFERROR(VLOOKUP(Q1250,コード表!$B$3:$C$101,2,FALSE),\"\")","v":""},null,{"$f":"IFERROR(VLOOKUP(S1250,コード表!$F$7:$G$141,2,FALSE),\"\")","v":""},null,null,"t",null,null,null,null,null,null,null,null,null,null,null,null,null,null,null,null,null,null,null,null,null,null,null,null,null,null,null,null,null,null,null,null,null,null,null,null,null,null,null,null,null,null,null,null,null,null,null,null,"","",{"$f":"IF(BS1250=\"\",\"\",IF(COUNTIF(BS$4:BS1250,BS1250)=1,ROW(),\"\"))","v":""},{"$f":"IFERROR(INDEX(BS:BS,SMALL(BT:BT,ROW(A1247))),\"\")","v":""},"","","",""]
[{"$f":"IF(F1251<>\"\",事業者基本情報!$E$9&事業者基本情報!$F$9&事業者基本情報!$G$9,\"\")","v":""},{"$f":"IF(F1251<>\"\",事業者基本情報!$Y$10,\"\")","v":""},{"$f":"IF(F1251<>\"\",事業者基本情報!$Y$7,\"\")","v":""},{"$f":"IF(F1251<>\"\",事業者基本情報!$Y$8,\"\")","v":""},{"$f":"IF(F1251<>\"\",事業者基本情報!$E$11&事業者基本情報!$F$11&事業者基本情報!$G$11&事業者基本情報!$H$11&事業者基本情報!$I$11,\"\")","v":""},null,null,null,"市",null,null,"-",null,"-",null,{"$f":"IFERROR(VLOOKUP(Q1251,コード表!$B$3:$C$101,2,FALSE),\"\")","v":""},null,{"$f":"IFERROR(VLOOKUP(S1251,コード表!$F$7:$G$141,2,FALSE),\"\")","v":""},null,null,"t",null,null,null,null,null,null,null,null,null,null,null,null,null,null,null,null,null,null,null,null,null,null,null,null,null,null,null,null,null,null,null,null,null,null,null,null,null,null,null,null,null,null,null,null,null,null,null,null,"","",{"$f":"IF(BS1251=\"\",\"\",IF(COUNTIF(BS$4:BS1251,BS1251)=1,ROW(),\"\"))","v":""},{"$f":"IFERROR(INDEX(BS:BS,SMALL(BT:BT,ROW(A1248))),\"\")","v":""},"","","",""]
[{"$f":"IF(F1254<>\"\",事業者基本情報!$E$9&事業者基本情報!$F$9&事業者基本情報!$G$9,\"\")","v":""},{"$f":"IF(F1254<>\"\",事業者基本情報!$Y$10,\"\")","v":""},{"$f":"IF(F1254<>\"\",事業者基本情報!$Y$7,\"\")","v":""},{"$f":"IF(F1254<>\"\",事業者基本情報!$Y$8,\"\")","v":""},{"$f":"IF(F1254<>\"\",事業者基本情報!$E$11&事業者基本情報!$F$11&事業者基本情報!$G$11&事業者基本情報!$H$11&事業者基本情報!$I$11,\"\")","v":""},null,null,null,"市",null,null,"-",null,"-",null,{"$f":"IFERROR(VLOOKUP(Q1254,コード表!$B$3:$C$101,2,FALSE),\"\")","v":""},null,{"$f":"IFERROR(VLOOKUP(S1254,コード表!$F$7:$G$141,2,FALSE),\"\")","v":""},null,null,"t",null,null,null,null,null,null,null,null,null,null,null,null,null,null,null,null,null,null,null,null,null,null,null,null,null,null,null,null,null,null,null,null,null,null,null,null,null,null,null,null,null,null,null,null,null,null,null,null,"","",{"$f":"IF(BS1254=\"\",\"\",IF(COUNTIF(BS$4:BS1254,BS1254)=1,ROW(),\"\"))","v":""},{"$f":"IFERROR(INDEX(BS:BS,SMALL(BT:BT,ROW(A1251))),\"\")","v":""},"","","",""]
[{"$f":"IF(F1258<>\"\",事業者基本情報!$E$9&事業者基本情報!$F$9&事業者基本情報!$G$9,\"\")","v":""},{"$f":"IF(F1258<>\"\",事業者基本情報!$Y$10,\"\")","v":""},{"$f":"IF(F1258<>\"\",事業者基本情報!$Y$7,\"\")","v":""},{"$f":"IF(F1258<>\"\",事業者基本情報!$Y$8,\"\")","v":""},{"$f":"IF(F1258<>\"\",事業者基本情報!$E$11&事業者基本情報!$F$11&事業者基本情報!$G$11&事業者基本情報!$H$11&事業者基本情報!$I$11,\"\")","v":""},null,null,null,"市",null,null,"-",null,"-",null,{"$f":"IFERROR(VLOOKUP(Q1258,コード表!$B$3:$C$101,2,FALSE),\"\")","v":""},null,{"$f":"IFERROR(VLOOKUP(S1258,コード表!$F$7:$G$141,2,FALSE),\"\")","v":""},null,null,"t",null,null,null,null,null,null,null,null,null,null,null,null,null,null,null,null,null,null,null,null,null,null,null,null,null,null,null,null,null,null,null,null,null,null,null,null,null,null,null,null,null,null,null,null,null,null,null,null,"","",{"$f":"IF(BS1258=\"\",\"\",IF(COUNTIF(BS$4:BS1258,BS1258)=1,ROW(),\"\"))","v":""},{"$f":"IFERROR(INDEX(BS:BS,SMALL(BT:BT,ROW(A1255))),\"\")","v":""},"","","",""]
[{"$f":"IF(F1261<>\"\",事業者基本情報!$E$9&事業者基本情報!$F$9&事業者基本情報!$G$9,\"\")","v":""},{"$f":"IF(F1261<>\"\",事業者基本情報!$Y$10,\"\")","v":""},{"$f":"IF(F1261<>\"\",事業者基本情報!$Y$7,\"\")","v":""},{"$f":"IF(F1261<>\"\",事業者基本情報!$Y$8,\"\")","v":""},{"$f":"IF(F1261<>\"\",事業者基本情報!$E$11&事業者基本情報!$F$11&事業者基本情報!$G$11&事業者基本情報!$H$11&事業者基本情報!$I$11,\"\")","v":""},null,null,null,"市",null,null,"-",null,"-",null,{"$f":"IFERROR(VLOOKUP(Q1261,コード表!$B$3:$C$101,2,FALSE),\"\")","v":""},null,{"$f":"IFERROR(VLOOKUP(S1261,コード表!$F$7:$G$141,2,FALSE),\"\")","v":""},null,null,"t",null,null,null,null,null,null,null,null,null,null,null,null,null,null,null,null,null,null,null,null,null,null,null,null,null,null,null,null,null,null,null,null,null,null,null,null,null,null,null,null,null,null,null,null,null,null,null,null,"","",{"$f":"IF(BS1261=\"\",\"\",IF(COUNTIF(BS$4:BS1261,BS1261)=1,ROW(),\"\"))","v":""},{"$f":"IFERROR(INDEX(BS:BS,SMALL(BT:BT,ROW(A1258))),\"\")","v":""},"","","",""]
[{"$f":"IF(F1263<>\"\",事業者基本情報!$E$9&事業者基本情報!$F$9&事業者基本情報!$G$9,\"\")","v":""},{"$f":"IF(F1263<>\"\",事業者基本情報!$Y$10,\"\")","v":""},{"$f":"IF(F1263<>\"\",事業者基本情報!$Y$7,\"\")","v":""},{"$f":"IF(F1263<>\"\",事業者基本情報!$Y$8,\"\")","v":""},{"$f":"IF(F1263<>\"\",事業者基本情報!$E$11&事業者基本情報!$F$11&事業者基本情報!$G$11&事業者基本情報!$H$11&事業者基本情報!$I$11,\"\")","v":""},null,null,null,"市",null,null,"-",null,"-",null,{"$f":"IFERROR(VLOOKUP(Q1263,コード表!$B$3:$C$101,2,FALSE),\"\")","v":""},null,{"$f":"IFERROR(VLOOKUP(S1263,コード表!$F$7:$G$141,2,FALSE),\"\")","v":""},null,null,"t",null,null,null,null,null,null,null,null,null,null,null,null,null,null,null,null,null,null,null,null,null,null,null,null,null,null,null,null,null,null,null,null,null,null,null,null,null,null,null,null,null,null,null,null,null,null,null,null,"","",{"$f":"IF(BS1263=\"\",\"\",IF(COUNTIF(BS$4:BS1263,BS1263)=1,ROW(),\"\"))","v":""},{"$f":"IFERROR(INDEX(BS:BS,SMALL(BT:BT,ROW(A1260))),\"\")","v":""},"","","",""]
[{"$f":"IF(F1267<>\"\",事業者基本情報!$E$9&事業者基本情報!$F$9&事業者基本情報!$G$9,\"\")","v":""},{"$f":"IF(F1267<>\"\",事業者基本情報!$Y$10,\"\")","v":""},{"$f":"IF(F1267<>\"\",事業者基本情報!$Y$7,\"\")","v":""},{"$f":"IF(F1267<>\"\",事業者基本情報!$Y$8,\"\")","v":""},{"$f":"IF(F1267<>\"\",事業者基本情報!$E$11&事業者基本情報!$F$11&事業者基本情報!$G$11&事業者基本情報!$H$11&事業者基本情報!$I$11,\"\")","v":""},null,null,null,"市",null,null,"-",null,"-",null,{"$f":"IFERROR(VLOOKUP(Q1267,コード表!$B$3:$C$101,2,FALSE),\"\")","v":""},null,{"$f":"IFERROR(VLOOKUP(S1267,コード表!$F$7:$G$141,2,FALSE),\"\")","v":""},null,null,"t",null,null,null,null,null,null,null,null,null,null,null,null,null,null,null,null,null,null,null,null,null,null,null,null,null,null,null,null,null,null,null,null,null,null,null,null,null,null,null,null,null,null,null,null,null,null,null,null,"","",{"$f":"IF(BS1267=\"\",\"\",IF(COUNTIF(BS$4:BS1267,BS1267)=1,ROW(),\"\"))","v":""},{"$f":"IFERROR(INDEX(BS:BS,SMALL(BT:BT,ROW(A1264))),\"\")","v":""},"","","",""]
[{"$f":"IF(F1270<>\"\",事業者基本情報!$E$9&事業者基本情報!$F$9&事業者基本情報!$G$9,\"\")","v":""},{"$f":"IF(F1270<>\"\",事業者基本情報!$Y$10,\"\")","v":""},{"$f":"IF(F1270<>\"\",事業者基本情報!$Y$7,\"\")","v":""},{"$f":"IF(F1270<>\"\",事業者基本情報!$Y$8,\"\")","v":""},{"$f":"IF(F1270<>\"\",事業者基本情報!$E$11&事業者基本情報!$F$11&事業者基本情報!$G$11&事業者基本情報!$H$11&事業者基本情報!$I$11,\"\")","v":""},null,null,null,"市",null,null,"-",null,"-",null,{"$f":"IFERROR(VLOOKUP(Q1270,コード表!$B$3:$C$101,2,FALSE),\"\")","v":""},null,{"$f":"IFERROR(VLOOKUP(S1270,コード表!$F$7:$G$141,2,FALSE),\"\")","v":""},null,null,"t",null,null,null,null,null,null,null,null,null,null,null,null,null,null,null,null,null,null,null,null,null,null,null,null,null,null,null,null,null,null,null,null,null,null,null,null,null,null,null,null,null,null,null,null,null,null,null,null,"","",{"$f":"IF(BS1270=\"\",\"\",IF(COUNTIF(BS$4:BS1270,BS1270)=1,ROW(),\"\"))","v":""},{"$f":"IFERROR(INDEX(BS:BS,SMALL(BT:BT,ROW(A1267))),\"\")","v":""},"","","",""]
[{"$f":"IF(F1272<>\"\",事業者基本情報!$E$9&事業者基本情報!$F$9&事業者基本情報!$G$9,\"\")","v":""},{"$f":"IF(F1272<>\"\",事業者基本情報!$Y$10,\"\")","v":""},{"$f":"IF(F1272<>\"\",事業者基本情報!$Y$7,\"\")","v":""},{"$f":"IF(F1272<>\"\",事業者基本情報!$Y$8,\"\")","v":""},{"$f":"IF(F1272<>\"\",事業者基本情報!$E$11&事業者基本情報!$F$11&事業者基本情報!$G$11&事業者基本情報!$H$11&事業者基本情報!$I$11,\"\")","v":""},null,null,null,"市",null,null,"-",null,"-",null,{"$f":"IFERROR(VLOOKUP(Q1272,コード表!$B$3:$C$101,2,FALSE),\"\")","v":""},null,{"$f":"IFERROR(VLOOKUP(S1272,コード表!$F$7:$G$141,2,FALSE),\"\")","v":""},null,null,"t",null,null,null,null,null,null,null,null,null,null,null,null,null,null,null,null,null,null,null,null,null,null,null,null,null,null,null,null,null,null,null,null,null,null,null,null,null,null,null,null,null,null,null,null,null,null,null,null,"","",{"$f":"IF(BS1272=\"\",\"\",IF(COUNTIF(BS$4:BS1272,BS1272)=1,ROW(),\"\"))","v":""},{"$f":"IFERROR(INDEX(BS:BS,SMALL(BT:BT,ROW(A1269))),\"\")","v":""},"","","",""]
[{"$f":"IF(F1273<>\"\",事業者基本情報!$E$9&事業者基本情報!$F$9&事業者基本情報!$G$9,\"\")","v":""},{"$f":"IF(F1273<>\"\",事業者基本情報!$Y$10,\"\")","v":""},{"$f":"IF(F1273<>\"\",事業者基本情報!$Y$7,\"\")","v":""},{"$f":"IF(F1273<>\"\",事業者基本情報!$Y$8,\"\")","v":""},{"$f":"IF(F1273<>\"\",事業者基本情報!$E$11&事業者基本情報!$F$11&事業者基本情報!$G$11&事業者基本情報!$H$11&事業者基本情報!$I$11,\"\")","v":""},null,null,null,"市",null,null,"-",null,"-",null,{"$f":"IFERROR(VLOOKUP(Q1273,コード表!$B$3:$C$101,2,FALSE),\"\")","v":""},null,{"$f":"IFERROR(VLOOKUP(S1273,コード表!$F$7:$G$141,2,FALSE),\"\")","v":""},null,null,"t",null,null,null,null,null,null,null,null,null,null,null,null,null,null,null,null,null,null,null,null,null,null,null,null,null,null,null,null,null,null,null,null,null,null,null,null,null,null,null,null,null,null,null,null,null,null,null,null,"","",{"$f":"IF(BS1273=\"\",\"\",IF(COUNTIF(BS$4:BS1273,BS1273)=1,ROW(),\"\"))","v":""},{"$f":"IFERROR(INDEX(BS:BS,SMALL(BT:BT,ROW(A1270))),\"\")","v":""},"","","",""]
[{"$f":"IF(F1276<>\"\",事業者基本情報!$E$9&事業者基本情報!$F$9&事業者基本情報!$G$9,\"\")","v":""},{"$f":"IF(F1276<>\"\",事業者基本情報!$Y$10,\"\")","v":""},{"$f":"IF(F1276<>\"\",事業者基本情報!$Y$7,\"\")","v":""},{"$f":"IF(F1276<>\"\",事業者基本情報!$Y$8,\"\")","v":""},{"$f":"IF(F1276<>\"\",事業者基本情報!$E$11&事業者基本情報!$F$11&事業者基本情報!$G$11&事業者基本情報!$H$11&事業者基本情報!$I$11,\"\")","v":""},null,null,null,"市",null,null,"-",null,"-",null,{"$f":"IFERROR(VLOOKUP(Q1276,コード表!$B$3:$C$101,2,FALSE),\"\")","v":""},null,{"$f":"IFERROR(VLOOKUP(S1276,コード表!$F$7:$G$141,2,FALSE),\"\")","v":""},null,null,"t",null,null,null,null,null,null,null,null,null,null,null,null,null,null,null,null,null,null,null,null,null,null,null,null,null,null,null,null,null,null,null,null,null,null,null,null,null,null,null,null,null,null,null,null,null,null,null,null,"","",{"$f":"IF(BS1276=\"\",\"\",IF(COUNTIF(BS$4:BS1276,BS1276)=1,ROW(),\"\"))","v":""},{"$f":"IFERROR(INDEX(BS:BS,SMALL(BT:BT,ROW(A1273))),\"\")","v":""},"","","",""]
[{"$f":"IF(F1280<>\"\",事業者基本情報!$E$9&事業者基本情報!$F$9&事業者基本情報!$G$9,\"\")","v":""},{"$f":"IF(F1280<>\"\",事業者基本情報!$Y$10,\"\")","v":""},{"$f":"IF(F1280<>\"\",事業者基本情報!$Y$7,\"\")","v":""},{"$f":"IF(F1280<>\"\",事業者基本情報!$Y$8,\"\")","v":""},{"$f":"IF(F1280<>\"\",事業者基本情報!$E$11&事業者基本情報!$F$11&事業者基本情報!$G$11&事業者基本情報!$H$11&事業者基本情報!$I$11,\"\")","v":""},null,null,null,"市",null,null,"-",null,"-",null,{"$f":"IFERROR(VLOOKUP(Q1280,コード表!$B$3:$C$101,2,FALSE),\"\")","v":""},null,{"$f":"IFERROR(VLOOKUP(S1280,コード表!$F$7:$G$141,2,FALSE),\"\")","v":""},null,null,"t",null,null,null,null,null,null,null,null,null,null,null,null,null,null,null,null,null,null,null,null,null,null,null,null,null,null,null,null,null,null,null,null,null,null,null,null,null,null,null,null,null,null,null,null,null,null,null,null,"","",{"$f":"IF(BS1280=\"\",\"\",IF(COUNTIF(BS$4:BS1280,BS1280)=1,ROW(),\"\"))","v":""},{"$f":"IFERROR(INDEX(BS:BS,SMALL(BT:BT,ROW(A1277))),\"\")","v":""},"","","",""]
[{"$f":"IF(F1283<>\"\",事業者基本情報!$E$9&事業者基本情報!$F$9&事業者基本情報!$G$9,\"\")","v":""},{"$f":"IF(F1283<>\"\",事業者基本情報!$Y$10,\"\")","v":""},{"$f":"IF(F1283<>\"\",事業者基本情報!$Y$7,\"\")","v":""},{"$f":"IF(F1283<>\"\",事業者基本情報!$Y$8,\"\")","v":""},{"$f":"IF(F1283<>\"\",事業者基本情報!$E$11&事業者基本情報!$F$11&事業者基本情報!$G$11&事業者基本情報!$H$11&事業者基本情報!$I$11,\"\")","v":""},null,null,null,"市",null,null,"-",null,"-",null,{"$f":"IFERROR(VLOOKUP(Q1283,コード表!$B$3:$C$101,2,FALSE),\"\")","v":""},null,{"$f":"IFERROR(VLOOKUP(S1283,コード表!$F$7:$G$141,2,FALSE),\"\")","v":""},null,null,"t",null,null,null,null,null,null,null,null,null,null,null,null,null,null,null,null,null,null,null,null,null,null,null,null,null,null,null,null,null,null,null,null,null,null,null,null,null,null,null,null,null,null,null,null,null,null,null,null,"","",{"$f":"IF(BS1283=\"\",\"\",IF(COUNTIF(BS$4:BS1283,BS1283)=1,ROW(),\"\"))","v":""},{"$f":"IFERROR(INDEX(BS:BS,SMALL(BT:BT,ROW(A1280))),\"\")","v":""},"","","",""]
[{"$f":"IF(F1285<>\"\",事業者基本情報!$E$9&事業者基本情報!$F$9&事業者基本情報!$G$9,\"\")","v":""},{"$f":"IF(F1285<>\"\",事業者基本情報!$Y$10,\"\")","v":""},{"$f":"IF(F1285<>\"\",事業者基本情報!$Y$7,\"\")","v":""},{"$f":"IF(F1285<>\"\",事業者基本情報!$Y$8,\"\")","v":""},{"$f":"IF(F1285<>\"\",事業者基本情報!$E$11&事業者基本情報!$F$11&事業者基本情報!$G$11&事業者基本情報!$H$11&事業者基本情報!$I$11,\"\")","v":""},null,null,null,"市",null,null,"-",null,"-",null,{"$f":"IFERROR(VLOOKUP(Q1285,コード表!$B$3:$C$101,2,FALSE),\"\")","v":""},null,{"$f":"IFERROR(VLOOKUP(S1285,コード表!$F$7:$G$141,2,FALSE),\"\")","v":""},null,null,"t",null,null,null,null,null,null,null,null,null,null,null,null,null,null,null,null,null,null,null,null,null,null,null,null,null,null,null,null,null,null,null,null,null,null,null,null,null,null,null,null,null,null,null,null,null,null,null,null,"","",{"$f":"IF(BS1285=\"\",\"\",IF(COUNTIF(BS$4:BS1285,BS1285)=1,ROW(),\"\"))","v":""},{"$f":"IFERROR(INDEX(BS:BS,SMALL(BT:BT,ROW(A1282))),\"\")","v":""},"","","",""]
[{"$f":"IF(F1289<>\"\",事業者基本情報!$E$9&事業者基本情報!$F$9&事業者基本情報!$G$9,\"\")","v":""},{"$f":"IF(F1289<>\"\",事業者基本情報!$Y$10,\"\")","v":""},{"$f":"IF(F1289<>\"\",事業者基本情報!$Y$7,\"\")","v":""},{"$f":"IF(F1289<>\"\",事業者基本情報!$Y$8,\"\")","v":""},{"$f":"IF(F1289<>\"\",事業者基本情報!$E$11&事業者基本情報!$F$11&事業者基本情報!$G$11&事業者基本情報!$H$11&事業者基本情報!$I$11,\"\")","v":""},null,null,null,"市",null,null,"-",null,"-",null,{"$f":"IFERROR(VLOOKUP(Q1289,コード表!$B$3:$C$101,2,FALSE),\"\")","v":""},null,{"$f":"IFERROR(VLOOKUP(S1289,コード表!$F$7:$G$141,2,FALSE),\"\")","v":""},null,null,"t",null,null,null,null,null,null,null,null,null,null,null,null,null,null,null,null,null,null,null,null,null,null,null,null,null,null,null,null,null,null,null,null,null,null,null,null,null,null,null,null,null,null,null,null,null,null,null,null,"","",{"$f":"IF(BS1289=\"\",\"\",IF(COUNTIF(BS$4:BS1289,BS1289)=1,ROW(),\"\"))","v":""},{"$f":"IFERROR(INDEX(BS:BS,SMALL(BT:BT,ROW(A1286))),\"\")","v":""},"","","",""]
[{"$f":"IF(F1292<>\"\",事業者基本情報!$E$9&事業者基本情報!$F$9&事業者基本情報!$G$9,\"\")","v":""},{"$f":"IF(F1292<>\"\",事業者基本情報!$Y$10,\"\")","v":""},{"$f":"IF(F1292<>\"\",事業者基本情報!$Y$7,\"\")","v":""},{"$f":"IF(F1292<>\"\",事業者基本情報!$Y$8,\"\")","v":""},{"$f":"IF(F1292<>\"\",事業者基本情報!$E$11&事業者基本情報!$F$11&事業者基本情報!$G$11&事業者基本情報!$H$11&事業者基本情報!$I$11,\"\")","v":""},null,null,null,"市",null,null,"-",null,"-",null,{"$f":"IFERROR(VLOOKUP(Q1292,コード表!$B$3:$C$101,2,FALSE),\"\")","v":""},null,{"$f":"IFERROR(VLOOKUP(S1292,コード表!$F$7:$G$141,2,FALSE),\"\")","v":""},null,null,"t",null,null,null,null,null,null,null,null,null,null,null,null,null,null,null,null,null,null,null,null,null,null,null,null,null,null,null,null,null,null,null,null,null,null,null,null,null,null,null,null,null,null,null,null,null,null,null,null,"","",{"$f":"IF(BS1292=\"\",\"\",IF(COUNTIF(BS$4:BS1292,BS1292)=1,ROW(),\"\"))","v":""},{"$f":"IFERROR(INDEX(BS:BS,SMALL(BT:BT,ROW(A1289))),\"\")","v":""},"","","",""]
[{"$f":"IF(F1294<>\"\",事業者基本情報!$E$9&事業者基本情報!$F$9&事業者基本情報!$G$9,\"\")","v":""},{"$f":"IF(F1294<>\"\",事業者基本情報!$Y$10,\"\")","v":""},{"$f":"IF(F1294<>\"\",事業者基本情報!$Y$7,\"\")","v":""},{"$f":"IF(F1294<>\"\",事業者基本情報!$Y$8,\"\")","v":""},{"$f":"IF(F1294<>\"\",事業者基本情報!$E$11&事業者基本情報!$F$11&事業者基本情報!$G$11&事業者基本情報!$H$11&事業者基本情報!$I$11,\"\")","v":""},null,null,null,"市",null,null,"-",null,"-",null,{"$f":"IFERROR(VLOOKUP(Q1294,コード表!$B$3:$C$101,2,FALSE),\"\")","v":""},null,{"$f":"IFERROR(VLOOKUP(S1294,コード表!$F$7:$G$141,2,FALSE),\"\")","v":""},null,null,"t",null,null,null,null,null,null,null,null,null,null,null,null,null,null,null,null,null,null,null,null,null,null,null,null,null,null,null,null,null,null,null,null,null,null,null,null,null,null,null,null,null,null,null,null,null,null,null,null,"","",{"$f":"IF(BS1294=\"\",\"\",IF(COUNTIF(BS$4:BS1294,BS1294)=1,ROW(),\"\"))","v":""},{"$f":"IFERROR(INDEX(BS:BS,SMALL(BT:BT,ROW(A1291))),\"\")","v":""},"","","",""]
[{"$f":"IF(F1295<>\"\",事業者基本情報!$E$9&事業者基本情報!$F$9&事業者基本情報!$G$9,\"\")","v":""},{"$f":"IF(F1295<>\"\",事業者基本情報!$Y$10,\"\")","v":""},{"$f":"IF(F1295<>\"\",事業者基本情報!$Y$7,\"\")","v":""},{"$f":"IF(F1295<>\"\",事業者基本情報!$Y$8,\"\")","v":""},{"$f":"IF(F1295<>\"\",事業者基本情報!$E$11&事業者基本情報!$F$11&事業者基本情報!$G$11&事業者基本情報!$H$11&事業者基本情報!$I$11,\"\")","v":""},null,null,null,"市",null,null,"-",null,"-",null,{"$f":"IFERROR(VLOOKUP(Q1295,コード表!$B$3:$C$101,2,FALSE),\"\")","v":""},null,{"$f":"IFERROR(VLOOKUP(S1295,コード表!$F$7:$G$141,2,FALSE),\"\")","v":""},null,null,"t",null,null,null,null,null,null,null,null,null,null,null,null,null,null,null,null,null,null,null,null,null,null,null,null,null,null,null,null,null,null,null,null,null,null,null,null,null,null,null,null,null,null,null,null,null,null,null,null,"","",{"$f":"IF(BS1295=\"\",\"\",IF(COUNTIF(BS$4:BS1295,BS1295)=1,ROW(),\"\"))","v":""},{"$f":"IFERROR(INDEX(BS:BS,SMALL(BT:BT,ROW(A1292))),\"\")","v":""},"","","",""]
[{"$f":"IF(F1298<>\"\",事業者基本情報!$E$9&事業者基本情報!$F$9&事業者基本情報!$G$9,\"\")","v":""},{"$f":"IF(F1298<>\"\",事業者基本情報!$Y$10,\"\")","v":""},{"$f":"IF(F1298<>\"\",事業者基本情報!$Y$7,\"\")","v":""},{"$f":"IF(F1298<>\"\",事業者基本情報!$Y$8,\"\")","v":""},{"$f":"IF(F1298<>\"\",事業者基本情報!$E$11&事業者基本情報!$F$11&事業者基本情報!$G$11&事業者基本情報!$H$11&事業者基本情報!$I$11,\"\")","v":""},null,null,null,"市",null,null,"-",null,"-",null,{"$f":"IFERROR(VLOOKUP(Q1298,コード表!$B$3:$C$101,2,FALSE),\"\")","v":""},null,{"$f":"IFERROR(VLOOKUP(S1298,コード表!$F$7:$G$141,2,FALSE),\"\")","v":""},null,null,"t",null,null,null,null,null,null,null,null,null,null,null,null,null,null,null,null,null,null,null,null,null,null,null,null,null,null,null,null,null,null,null,null,null,null,null,null,null,null,null,null,null,null,null,null,null,null,null,null,"","",{"$f":"IF(BS1298=\"\",\"\",IF(COUNTIF(BS$4:BS1298,BS1298)=1,ROW(),\"\"))","v":""},{"$f":"IFERROR(INDEX(BS:BS,SMALL(BT:BT,ROW(A1295))),\"\")","v":""},"","","",""]
[{"$f":"IF(F1302<>\"\",事業者基本情報!$E$9&事業者基本情報!$F$9&事業者基本情報!$G$9,\"\")","v":""},{"$f":"IF(F1302<>\"\",事業者基本情報!$Y$10,\"\")","v":""},{"$f":"IF(F1302<>\"\",事業者基本情報!$Y$7,\"\")","v":""},{"$f":"IF(F1302<>\"\",事業者基本情報!$Y$8,\"\")","v":""},{"$f":"IF(F1302<>\"\",事業者基本情報!$E$11&事業者基本情報!$F$11&事業者基本情報!$G$11&事業者基本情報!$H$11&事業者基本情報!$I$11,\"\")","v":""},null,null,null,"市",null,null,"-",null,"-",null,{"$f":"IFERROR(VLOOKUP(Q1302,コード表!$B$3:$C$101,2,FALSE),\"\")","v":""},null,{"$f":"IFERROR(VLOOKUP(S1302,コード表!$F$7:$G$141,2,FALSE),\"\")","v":""},null,null,"t",null,null,null,null,null,null,null,null,null,null,null,null,null,null,null,null,null,null,null,null,null,null,null,null,null,null,null,null,null,null,null,null,null,null,null,null,null,null,null,null,null,null,null,null,null,null,null,null,"","",{"$f":"IF(BS1302=\"\",\"\",IF(COUNTIF(BS$4:BS1302,BS1302)=1,ROW(),\"\"))","v":""},{"$f":"IFERROR(INDEX(BS:BS,SMALL(BT:BT,ROW(A1299))),\"\")","v":""},"","","",""]
[{"$f":"IF(F1305<>\"\",事業者基本情報!$E$9&事業者基本情報!$F$9&事業者基本情報!$G$9,\"\")","v":""},{"$f":"IF(F1305<>\"\",事業者基本情報!$Y$10,\"\")","v":""},{"$f":"IF(F1305<>\"\",事業者基本情報!$Y$7,\"\")","v":""},{"$f":"IF(F1305<>\"\",事業者基本情報!$Y$8,\"\")","v":""},{"$f":"IF(F1305<>\"\",事業者基本情報!$E$11&事業者基本情報!$F$11&事業者基本情報!$G$11&事業者基本情報!$H$11&事業者基本情報!$I$11,\"\")","v":""},null,null,null,"市",null,null,"-",null,"-",null,{"$f":"IFERROR(VLOOKUP(Q1305,コード表!$B$3:$C$101,2,FALSE),\"\")","v":""},null,{"$f":"IFERROR(VLOOKUP(S1305,コード表!$F$7:$G$141,2,FALSE),\"\")","v":""},null,null,"t",null,null,null,null,null,null,null,null,null,null,null,null,null,null,null,null,null,null,null,null,null,null,null,null,null,null,null,null,null,null,null,null,null,null,null,null,null,null,null,null,null,null,null,null,null,null,null,null,"","",{"$f":"IF(BS1305=\"\",\"\",IF(COUNTIF(BS$4:BS1305,BS1305)=1,ROW(),\"\"))","v":""},{"$f":"IFERROR(INDEX(BS:BS,SMALL(BT:BT,ROW(A1302))),\"\")","v":""},"","","",""]
[{"$f":"IF(F1307<>\"\",事業者基本情報!$E$9&事業者基本情報!$F$9&事業者基本情報!$G$9,\"\")","v":""},{"$f":"IF(F1307<>\"\",事業者基本情報!$Y$10,\"\")","v":""},{"$f":"IF(F1307<>\"\",事業者基本情報!$Y$7,\"\")","v":""},{"$f":"IF(F1307<>\"\",事業者基本情報!$Y$8,\"\")","v":""},{"$f":"IF(F1307<>\"\",事業者基本情報!$E$11&事業者基本情報!$F$11&事業者基本情報!$G$11&事業者基本情報!$H$11&事業者基本情報!$I$11,\"\")","v":""},null,null,null,"市",null,null,"-",null,"-",null,{"$f":"IFERROR(VLOOKUP(Q1307,コード表!$B$3:$C$101,2,FALSE),\"\")","v":""},null,{"$f":"IFERROR(VLOOKUP(S1307,コード表!$F$7:$G$141,2,FALSE),\"\")","v":""},null,null,"t",null,null,null,null,null,null,null,null,null,null,null,null,null,null,null,null,null,null,null,null,null,null,null,null,null,null,null,null,null,null,null,null,null,null,null,null,null,null,null,null,null,null,null,null,null,null,null,null,"","",{"$f":"IF(BS1307=\"\",\"\",IF(COUNTIF(BS$4:BS1307,BS1307)=1,ROW(),\"\"))","v":""},{"$f":"IFERROR(INDEX(BS:BS,SMALL(BT:BT,ROW(A1304))),\"\")","v":""},"","","",""]
[{"$f":"IF(F1311<>\"\",事業者基本情報!$E$9&事業者基本情報!$F$9&事業者基本情報!$G$9,\"\")","v":""},{"$f":"IF(F1311<>\"\",事業者基本情報!$Y$10,\"\")","v":""},{"$f":"IF(F1311<>\"\",事業者基本情報!$Y$7,\"\")","v":""},{"$f":"IF(F1311<>\"\",事業者基本情報!$Y$8,\"\")","v":""},{"$f":"IF(F1311<>\"\",事業者基本情報!$E$11&事業者基本情報!$F$11&事業者基本情報!$G$11&事業者基本情報!$H$11&事業者基本情報!$I$11,\"\")","v":""},null,null,null,"市",null,null,"-",null,"-",null,{"$f":"IFERROR(VLOOKUP(Q1311,コード表!$B$3:$C$101,2,FALSE),\"\")","v":""},null,{"$f":"IFERROR(VLOOKUP(S1311,コード表!$F$7:$G$141,2,FALSE),\"\")","v":""},null,null,"t",null,null,null,null,null,null,null,null,null,null,null,null,null,null,null,null,null,null,null,null,null,null,null,null,null,null,null,null,null,null,null,null,null,null,null,null,null,null,null,null,null,null,null,null,null,null,null,null,"","",{"$f":"IF(BS1311=\"\",\"\",IF(COUNTIF(BS$4:BS1311,BS1311)=1,ROW(),\"\"))","v":""},{"$f":"IFERROR(INDEX(BS:BS,SMALL(BT:BT,ROW(A1308))),\"\")","v":""},"","","",""]
[{"$f":"IF(F1314<>\"\",事業者基本情報!$E$9&事業者基本情報!$F$9&事業者基本情報!$G$9,\"\")","v":""},{"$f":"IF(F1314<>\"\",事業者基本情報!$Y$10,\"\")","v":""},{"$f":"IF(F1314<>\"\",事業者基本情報!$Y$7,\"\")","v":""},{"$f":"IF(F1314<>\"\",事業者基本情報!$Y$8,\"\")","v":""},{"$f":"IF(F1314<>\"\",事業者基本情報!$E$11&事業者基本情報!$F$11&事業者基本情報!$G$11&事業者基本情報!$H$11&事業者基本情報!$I$11,\"\")","v":""},null,null,null,"市",null,null,"-",null,"-",null,{"$f":"IFERROR(VLOOKUP(Q1314,コード表!$B$3:$C$101,2,FALSE),\"\")","v":""},null,{"$f":"IFERROR(VLOOKUP(S1314,コード表!$F$7:$G$141,2,FALSE),\"\")","v":""},null,null,"t",null,null,null,null,null,null,null,null,null,null,null,null,null,null,null,null,null,null,null,null,null,null,null,null,null,null,null,null,null,null,null,null,null,null,null,null,null,null,null,null,null,null,null,null,null,null,null,null,"","",{"$f":"IF(BS1314=\"\",\"\",IF(COUNTIF(BS$4:BS1314,BS1314)=1,ROW(),\"\"))","v":""},{"$f":"IFERROR(INDEX(BS:BS,SMALL(BT:BT,ROW(A1311))),\"\")","v":""},"","","",""]
[{"$f":"IF(F1316<>\"\",事業者基本情報!$E$9&事業者基本情報!$F$9&事業者基本情報!$G$9,\"\")","v":""},{"$f":"IF(F1316<>\"\",事業者基本情報!$Y$10,\"\")","v":""},{"$f":"IF(F1316<>\"\",事業者基本情報!$Y$7,\"\")","v":""},{"$f":"IF(F1316<>\"\",事業者基本情報!$Y$8,\"\")","v":""},{"$f":"IF(F1316<>\"\",事業者基本情報!$E$11&事業者基本情報!$F$11&事業者基本情報!$G$11&事業者基本情報!$H$11&事業者基本情報!$I$11,\"\")","v":""},null,null,null,"市",null,null,"-",null,"-",null,{"$f":"IFERROR(VLOOKUP(Q1316,コード表!$B$3:$C$101,2,FALSE),\"\")","v":""},null,{"$f":"IFERROR(VLOOKUP(S1316,コード表!$F$7:$G$141,2,FALSE),\"\")","v":""},null,null,"t",null,null,null,null,null,null,null,null,null,null,null,null,null,null,null,null,null,null,null,null,null,null,null,null,null,null,null,null,null,null,null,null,null,null,null,null,null,null,null,null,null,null,null,null,null,null,null,null,"","",{"$f":"IF(BS1316=\"\",\"\",IF(COUNTIF(BS$4:BS1316,BS1316)=1,ROW(),\"\"))","v":""},{"$f":"IFERROR(INDEX(BS:BS,SMALL(BT:BT,ROW(A1313))),\"\")","v":""},"","","",""]
[{"$f":"IF(F1317<>\"\",事業者基本情報!$E$9&事業者基本情報!$F$9&事業者基本情報!$G$9,\"\")","v":""},{"$f":"IF(F1317<>\"\",事業者基本情報!$Y$10,\"\")","v":""},{"$f":"IF(F1317<>\"\",事業者基本情報!$Y$7,\"\")","v":""},{"$f":"IF(F1317<>\"\",事業者基本情報!$Y$8,\"\")","v":""},{"$f":"IF(F1317<>\"\",事業者基本情報!$E$11&事業者基本情報!$F$11&事業者基本情報!$G$11&事業者基本情報!$H$11&事業者基本情報!$I$11,\"\")","v":""},null,null,null,"市",null,null,"-",null,"-",null,{"$f":"IFERROR(VLOOKUP(Q1317,コード表!$B$3:$C$101,2,FALSE),\"\")","v":""},null,{"$f":"IFERROR(VLOOKUP(S1317,コード表!$F$7:$G$141,2,FALSE),\"\")","v":""},null,null,"t",null,null,null,null,null,null,null,null,null,null,null,null,null,null,null,null,null,null,null,null,null,null,null,null,null,null,null,null,null,null,null,null,null,null,null,null,null,null,null,null,null,null,null,null,null,null,null,null,"","",{"$f":"IF(BS1317=\"\",\"\",IF(COUNTIF(BS$4:BS1317,BS1317)=1,ROW(),\"\"))","v":""},{"$f":"IFERROR(INDEX(BS:BS,SMALL(BT:BT,ROW(A1314))),\"\")","v":""},"","","",""]
[{"$f":"IF(F1320<>\"\",事業者基本情報!$E$9&事業者基本情報!$F$9&事業者基本情報!$G$9,\"\")","v":""},{"$f":"IF(F1320<>\"\",事業者基本情報!$Y$10,\"\")","v":""},{"$f":"IF(F1320<>\"\",事業者基本情報!$Y$7,\"\")","v":""},{"$f":"IF(F1320<>\"\",事業者基本情報!$Y$8,\"\")","v":""},{"$f":"IF(F1320<>\"\",事業者基本情報!$E$11&事業者基本情報!$F$11&事業者基本情報!$G$11&事業者基本情報!$H$11&事業者基本情報!$I$11,\"\")","v":""},null,null,null,"市",null,null,"-",null,"-",null,{"$f":"IFERROR(VLOOKUP(Q1320,コード表!$B$3:$C$101,2,FALSE),\"\")","v":""},null,{"$f":"IFERROR(VLOOKUP(S1320,コード表!$F$7:$G$141,2,FALSE),\"\")","v":""},null,null,"t",null,null,null,null,null,null,null,null,null,null,null,null,null,null,null,null,null,null,null,null,null,null,null,null,null,null,null,null,null,null,null,null,null,null,null,null,null,null,null,null,null,null,null,null,null,null,null,null,"","",{"$f":"IF(BS1320=\"\",\"\",IF(COUNTIF(BS$4:BS1320,BS1320)=1,ROW(),\"\"))","v":""},{"$f":"IFERROR(INDEX(BS:BS,SMALL(BT:BT,ROW(A1317))),\"\")","v":""},"","","",""]
[{"$f":"IF(F1324<>\"\",事業者基本情報!$E$9&事業者基本情報!$F$9&事業者基本情報!$G$9,\"\")","v":""},{"$f":"IF(F1324<>\"\",事業者基本情報!$Y$10,\"\")","v":""},{"$f":"IF(F1324<>\"\",事業者基本情報!$Y$7,\"\")","v":""},{"$f":"IF(F1324<>\"\",事業者基本情報!$Y$8,\"\")","v":""},{"$f":"IF(F1324<>\"\",事業者基本情報!$E$11&事業者基本情報!$F$11&事業者基本情報!$G$11&事業者基本情報!$H$11&事業者基本情報!$I$11,\"\")","v":""},null,null,null,"市",null,null,"-",null,"-",null,{"$f":"IFERROR(VLOOKUP(Q1324,コード表!$B$3:$C$101,2,FALSE),\"\")","v":""},null,{"$f":"IFERROR(VLOOKUP(S1324,コード表!$F$7:$G$141,2,FALSE),\"\")","v":""},null,null,"t",null,null,null,null,null,null,null,null,null,null,null,null,null,null,null,null,null,null,null,null,null,null,null,null,null,null,null,null,null,null,null,null,null,null,null,null,null,null,null,null,null,null,null,null,null,null,null,null,"","",{"$f":"IF(BS1324=\"\",\"\",IF(COUNTIF(BS$4:BS1324,BS1324)=1,ROW(),\"\"))","v":""},{"$f":"IFERROR(INDEX(BS:BS,SMALL(BT:BT,ROW(A1321))),\"\")","v":""},"","","",""]
[{"$f":"IF(F1327<>\"\",事業者基本情報!$E$9&事業者基本情報!$F$9&事業者基本情報!$G$9,\"\")","v":""},{"$f":"IF(F1327<>\"\",事業者基本情報!$Y$10,\"\")","v":""},{"$f":"IF(F1327<>\"\",事業者基本情報!$Y$7,\"\")","v":""},{"$f":"IF(F1327<>\"\",事業者基本情報!$Y$8,\"\")","v":""},{"$f":"IF(F1327<>\"\",事業者基本情報!$E$11&事業者基本情報!$F$11&事業者基本情報!$G$11&事業者基本情報!$H$11&事業者基本情報!$I$11,\"\")","v":""},null,null,null,"市",null,null,"-",null,"-",null,{"$f":"IFERROR(VLOOKUP(Q1327,コード表!$B$3:$C$101,2,FALSE),\"\")","v":""},null,{"$f":"IFERROR(VLOOKUP(S1327,コード表!$F$7:$G$141,2,FALSE),\"\")","v":""},null,null,"t",null,null,null,null,null,null,null,null,null,null,null,null,null,null,null,null,null,null,null,null,null,null,null,null,null,null,null,null,null,null,null,null,null,null,null,null,null,null,null,null,null,null,null,null,null,null,null,null,"","",{"$f":"IF(BS1327=\"\",\"\",IF(COUNTIF(BS$4:BS1327,BS1327)=1,ROW(),\"\"))","v":""},{"$f":"IFERROR(INDEX(BS:BS,SMALL(BT:BT,ROW(A1324))),\"\")","v":""},"","","",""]
[{"$f":"IF(F1329<>\"\",事業者基本情報!$E$9&事業者基本情報!$F$9&事業者基本情報!$G$9,\"\")","v":""},{"$f":"IF(F1329<>\"\",事業者基本情報!$Y$10,\"\")","v":""},{"$f":"IF(F1329<>\"\",事業者基本情報!$Y$7,\"\")","v":""},{"$f":"IF(F1329<>\"\",事業者基本情報!$Y$8,\"\")","v":""},{"$f":"IF(F1329<>\"\",事業者基本情報!$E$11&事業者基本情報!$F$11&事業者基本情報!$G$11&事業者基本情報!$H$11&事業者基本情報!$I$11,\"\")","v":""},null,null,null,"市",null,null,"-",null,"-",null,{"$f":"IFERROR(VLOOKUP(Q1329,コード表!$B$3:$C$101,2,FALSE),\"\")","v":""},null,{"$f":"IFERROR(VLOOKUP(S1329,コード表!$F$7:$G$141,2,FALSE),\"\")","v":""},null,null,"t",null,null,null,null,null,null,null,null,null,null,null,null,null,null,null,null,null,null,null,null,null,null,null,null,null,null,null,null,null,null,null,null,null,null,null,null,null,null,null,null,null,null,null,null,null,null,null,null,"","",{"$f":"IF(BS1329=\"\",\"\",IF(COUNTIF(BS$4:BS1329,BS1329)=1,ROW(),\"\"))","v":""},{"$f":"IFERROR(INDEX(BS:BS,SMALL(BT:BT,ROW(A1326))),\"\")","v":""},"","","",""]
[{"$f":"IF(F1333<>\"\",事業者基本情報!$E$9&事業者基本情報!$F$9&事業者基本情報!$G$9,\"\")","v":""},{"$f":"IF(F1333<>\"\",事業者基本情報!$Y$10,\"\")","v":""},{"$f":"IF(F1333<>\"\",事業者基本情報!$Y$7,\"\")","v":""},{"$f":"IF(F1333<>\"\",事業者基本情報!$Y$8,\"\")","v":""},{"$f":"IF(F1333<>\"\",事業者基本情報!$E$11&事業者基本情報!$F$11&事業者基本情報!$G$11&事業者基本情報!$H$11&事業者基本情報!$I$11,\"\")","v":""},null,null,null,"市",null,null,"-",null,"-",null,{"$f":"IFERROR(VLOOKUP(Q1333,コード表!$B$3:$C$101,2,FALSE),\"\")","v":""},null,{"$f":"IFERROR(VLOOKUP(S1333,コード表!$F$7:$G$141,2,FALSE),\"\")","v":""},null,null,"t",null,null,null,null,null,null,null,null,null,null,null,null,null,null,null,null,null,null,null,null,null,null,null,null,null,null,null,null,null,null,null,null,null,null,null,null,null,null,null,null,null,null,null,null,null,null,null,null,"","",{"$f":"IF(BS1333=\"\",\"\",IF(COUNTIF(BS$4:BS1333,BS1333)=1,ROW(),\"\"))","v":""},{"$f":"IFERROR(INDEX(BS:BS,SMALL(BT:BT,ROW(A1330))),\"\")","v":""},"","","",""]
[{"$f":"IF(F1336<>\"\",事業者基本情報!$E$9&事業者基本情報!$F$9&事業者基本情報!$G$9,\"\")","v":""},{"$f":"IF(F1336<>\"\",事業者基本情報!$Y$10,\"\")","v":""},{"$f":"IF(F1336<>\"\",事業者基本情報!$Y$7,\"\")","v":""},{"$f":"IF(F1336<>\"\",事業者基本情報!$Y$8,\"\")","v":""},{"$f":"IF(F1336<>\"\",事業者基本情報!$E$11&事業者基本情報!$F$11&事業者基本情報!$G$11&事業者基本情報!$H$11&事業者基本情報!$I$11,\"\")","v":""},null,null,null,"市",null,null,"-",null,"-",null,{"$f":"IFERROR(VLOOKUP(Q1336,コード表!$B$3:$C$101,2,FALSE),\"\")","v":""},null,{"$f":"IFERROR(VLOOKUP(S1336,コード表!$F$7:$G$141,2,FALSE),\"\")","v":""},null,null,"t",null,null,null,null,null,null,null,null,null,null,null,null,null,null,null,null,null,null,null,null,null,null,null,null,null,null,null,null,null,null,null,null,null,null,null,null,null,null,null,null,null,null,null,null,null,null,null,null,"","",{"$f":"IF(BS1336=\"\",\"\",IF(COUNTIF(BS$4:BS1336,BS1336)=1,ROW(),\"\"))","v":""},{"$f":"IFERROR(INDEX(BS:BS,SMALL(BT:BT,ROW(A1333))),\"\")","v":""},"","","",""]
[{"$f":"IF(F1338<>\"\",事業者基本情報!$E$9&事業者基本情報!$F$9&事業者基本情報!$G$9,\"\")","v":""},{"$f":"IF(F1338<>\"\",事業者基本情報!$Y$10,\"\")","v":""},{"$f":"IF(F1338<>\"\",事業者基本情報!$Y$7,\"\")","v":""},{"$f":"IF(F1338<>\"\",事業者基本情報!$Y$8,\"\")","v":""},{"$f":"IF(F1338<>\"\",事業者基本情報!$E$11&事業者基本情報!$F$11&事業者基本情報!$G$11&事業者基本情報!$H$11&事業者基本情報!$I$11,\"\")","v":""},null,null,null,"市",null,null,"-",null,"-",null,{"$f":"IFERROR(VLOOKUP(Q1338,コード表!$B$3:$C$101,2,FALSE),\"\")","v":""},null,{"$f":"IFERROR(VLOOKUP(S1338,コード表!$F$7:$G$141,2,FALSE),\"\")","v":""},null,null,"t",null,null,null,null,null,null,null,null,null,null,null,null,null,null,null,null,null,null,null,null,null,null,null,null,null,null,null,null,null,null,null,null,null,null,null,null,null,null,null,null,null,null,null,null,null,null,null,null,"","",{"$f":"IF(BS1338=\"\",\"\",IF(COUNTIF(BS$4:BS1338,BS1338)=1,ROW(),\"\"))","v":""},{"$f":"IFERROR(INDEX(BS:BS,SMALL(BT:BT,ROW(A1335))),\"\")","v":""},"","","",""]
[{"$f":"IF(F1339<>\"\",事業者基本情報!$E$9&事業者基本情報!$F$9&事業者基本情報!$G$9,\"\")","v":""},{"$f":"IF(F1339<>\"\",事業者基本情報!$Y$10,\"\")","v":""},{"$f":"IF(F1339<>\"\",事業者基本情報!$Y$7,\"\")","v":""},{"$f":"IF(F1339<>\"\",事業者基本情報!$Y$8,\"\")","v":""},{"$f":"IF(F1339<>\"\",事業者基本情報!$E$11&事業者基本情報!$F$11&事業者基本情報!$G$11&事業者基本情報!$H$11&事業者基本情報!$I$11,\"\")","v":""},null,null,null,"市",null,null,"-",null,"-",null,{"$f":"IFERROR(VLOOKUP(Q1339,コード表!$B$3:$C$101,2,FALSE),\"\")","v":""},null,{"$f":"IFERROR(VLOOKUP(S1339,コード表!$F$7:$G$141,2,FALSE),\"\")","v":""},null,null,"t",null,null,null,null,null,null,null,null,null,null,null,null,null,null,null,null,null,null,null,null,null,null,null,null,null,null,null,null,null,null,null,null,null,null,null,null,null,null,null,null,null,null,null,null,null,null,null,null,"","",{"$f":"IF(BS1339=\"\",\"\",IF(COUNTIF(BS$4:BS1339,BS1339)=1,ROW(),\"\"))","v":""},{"$f":"IFERROR(INDEX(BS:BS,SMALL(BT:BT,ROW(A1336))),\"\")","v":""},"","","",""]
[{"$f":"IF(F1342<>\"\",事業者基本情報!$E$9&事業者基本情報!$F$9&事業者基本情報!$G$9,\"\")","v":""},{"$f":"IF(F1342<>\"\",事業者基本情報!$Y$10,\"\")","v":""},{"$f":"IF(F1342<>\"\",事業者基本情報!$Y$7,\"\")","v":""},{"$f":"IF(F1342<>\"\",事業者基本情報!$Y$8,\"\")","v":""},{"$f":"IF(F1342<>\"\",事業者基本情報!$E$11&事業者基本情報!$F$11&事業者基本情報!$G$11&事業者基本情報!$H$11&事業者基本情報!$I$11,\"\")","v":""},null,null,null,"市",null,null,"-",null,"-",null,{"$f":"IFERROR(VLOOKUP(Q1342,コード表!$B$3:$C$101,2,FALSE),\"\")","v":""},null,{"$f":"IFERROR(VLOOKUP(S1342,コード表!$F$7:$G$141,2,FALSE),\"\")","v":""},null,null,"t",null,null,null,null,null,null,null,null,null,null,null,null,null,null,null,null,null,null,null,null,null,null,null,null,null,null,null,null,null,null,null,null,null,null,null,null,null,null,null,null,null,null,null,null,null,null,null,null,"","",{"$f":"IF(BS1342=\"\",\"\",IF(COUNTIF(BS$4:BS1342,BS1342)=1,ROW(),\"\"))","v":""},{"$f":"IFERROR(INDEX(BS:BS,SMALL(BT:BT,ROW(A1339))),\"\")","v":""},"","","",""]
[{"$f":"IF(F1346<>\"\",事業者基本情報!$E$9&事業者基本情報!$F$9&事業者基本情報!$G$9,\"\")","v":""},{"$f":"IF(F1346<>\"\",事業者基本情報!$Y$10,\"\")","v":""},{"$f":"IF(F1346<>\"\",事業者基本情報!$Y$7,\"\")","v":""},{"$f":"IF(F1346<>\"\",事業者基本情報!$Y$8,\"\")","v":""},{"$f":"IF(F1346<>\"\",事業者基本情報!$E$11&事業者基本情報!$F$11&事業者基本情報!$G$11&事業者基本情報!$H$11&事業者基本情報!$I$11,\"\")","v":""},null,null,null,"市",null,null,"-",null,"-",null,{"$f":"IFERROR(VLOOKUP(Q1346,コード表!$B$3:$C$101,2,FALSE),\"\")","v":""},null,{"$f":"IFERROR(VLOOKUP(S1346,コード表!$F$7:$G$141,2,FALSE),\"\")","v":""},null,null,"t",null,null,null,null,null,null,null,null,null,null,null,null,null,null,null,null,null,null,null,null,null,null,null,null,null,null,null,null,null,null,null,null,null,null,null,null,null,null,null,null,null,null,null,null,null,null,null,null,"","",{"$f":"IF(BS1346=\"\",\"\",IF(COUNTIF(BS$4:BS1346,BS1346)=1,ROW(),\"\"))","v":""},{"$f":"IFERROR(INDEX(BS:BS,SMALL(BT:BT,ROW(A1343))),\"\")","v":""},"","","",""]
[{"$f":"IF(F1349<>\"\",事業者基本情報!$E$9&事業者基本情報!$F$9&事業者基本情報!$G$9,\"\")","v":""},{"$f":"IF(F1349<>\"\",事業者基本情報!$Y$10,\"\")","v":""},{"$f":"IF(F1349<>\"\",事業者基本情報!$Y$7,\"\")","v":""},{"$f":"IF(F1349<>\"\",事業者基本情報!$Y$8,\"\")","v":""},{"$f":"IF(F1349<>\"\",事業者基本情報!$E$11&事業者基本情報!$F$11&事業者基本情報!$G$11&事業者基本情報!$H$11&事業者基本情報!$I$11,\"\")","v":""},null,null,null,"市",null,null,"-",null,"-",null,{"$f":"IFERROR(VLOOKUP(Q1349,コード表!$B$3:$C$101,2,FALSE),\"\")","v":""},null,{"$f":"IFERROR(VLOOKUP(S1349,コード表!$F$7:$G$141,2,FALSE),\"\")","v":""},null,null,"t",null,null,null,null,null,null,null,null,null,null,null,null,null,null,null,null,null,null,null,null,null,null,null,null,null,null,null,null,null,null,null,null,null,null,null,null,null,null,null,null,null,null,null,null,null,null,null,null,"","",{"$f":"IF(BS1349=\"\",\"\",IF(COUNTIF(BS$4:BS1349,BS1349)=1,ROW(),\"\"))","v":""},{"$f":"IFERROR(INDEX(BS:BS,SMALL(BT:BT,ROW(A1346))),\"\")","v":""},"","","",""]
[{"$f":"IF(F1352<>\"\",事業者基本情報!$E$9&事業者基本情報!$F$9&事業者基本情報!$G$9,\"\")","v":""},{"$f":"IF(F1352<>\"\",事業者基本情報!$Y$10,\"\")","v":""},{"$f":"IF(F1352<>\"\",事業者基本情報!$Y$7,\"\")","v":""},{"$f":"IF(F1352<>\"\",事業者基本情報!$Y$8,\"\")","v":""},{"$f":"IF(F1352<>\"\",事業者基本情報!$E$11&事業者基本情報!$F$11&事業者基本情報!$G$11&事業者基本情報!$H$11&事業者基本情報!$I$11,\"\")","v":""},null,null,null,"市",null,null,"-",null,"-",null,{"$f":"IFERROR(VLOOKUP(Q1352,コード表!$B$3:$C$101,2,FALSE),\"\")","v":""},null,{"$f":"IFERROR(VLOOKUP(S1352,コード表!$F$7:$G$141,2,FALSE),\"\")","v":""},null,null,"t",null,null,null,null,null,null,null,null,null,null,null,null,null,null,null,null,null,null,null,null,null,null,null,null,null,null,null,null,null,null,null,null,null,null,null,null,null,null,null,null,null,null,null,null,null,null,null,null,"","",{"$f":"IF(BS1352=\"\",\"\",IF(COUNTIF(BS$4:BS1352,BS1352)=1,ROW(),\"\"))","v":""},{"$f":"IFERROR(INDEX(BS:BS,SMALL(BT:BT,ROW(A1349))),\"\")","v":""},"","","",""]
[{"$f":"IF(F1355<>\"\",事業者基本情報!$E$9&事業者基本情報!$F$9&事業者基本情報!$G$9,\"\")","v":""},{"$f":"IF(F1355<>\"\",事業者基本情報!$Y$10,\"\")","v":""},{"$f":"IF(F1355<>\"\",事業者基本情報!$Y$7,\"\")","v":""},{"$f":"IF(F1355<>\"\",事業者基本情報!$Y$8,\"\")","v":""},{"$f":"IF(F1355<>\"\",事業者基本情報!$E$11&事業者基本情報!$F$11&事業者基本情報!$G$11&事業者基本情報!$H$11&事業者基本情報!$I$11,\"\")","v":""},null,null,null,"市",null,null,"-",null,"-",null,{"$f":"IFERROR(VLOOKUP(Q1355,コード表!$B$3:$C$101,2,FALSE),\"\")","v":""},null,{"$f":"IFERROR(VLOOKUP(S1355,コード表!$F$7:$G$141,2,FALSE),\"\")","v":""},null,null,"t",null,null,null,null,null,null,null,null,null,null,null,null,null,null,null,null,null,null,null,null,null,null,null,null,null,null,null,null,null,null,null,null,null,null,null,null,null,null,null,null,null,null,null,null,null,null,null,null,"","",{"$f":"IF(BS1355=\"\",\"\",IF(COUNTIF(BS$4:BS1355,BS1355)=1,ROW(),\"\"))","v":""},{"$f":"IFERROR(INDEX(BS:BS,SMALL(BT:BT,ROW(A1352))),\"\")","v":""},"","","",""]
[{"$f":"IF(F1358<>\"\",事業者基本情報!$E$9&事業者基本情報!$F$9&事業者基本情報!$G$9,\"\")","v":""},{"$f":"IF(F1358<>\"\",事業者基本情報!$Y$10,\"\")","v":""},{"$f":"IF(F1358<>\"\",事業者基本情報!$Y$7,\"\")","v":""},{"$f":"IF(F1358<>\"\",事業者基本情報!$Y$8,\"\")","v":""},{"$f":"IF(F1358<>\"\",事業者基本情報!$E$11&事業者基本情報!$F$11&事業者基本情報!$G$11&事業者基本情報!$H$11&事業者基本情報!$I$11,\"\")","v":""},null,null,null,"市",null,null,"-",null,"-",null,{"$f":"IFERROR(VLOOKUP(Q1358,コード表!$B$3:$C$101,2,FALSE),\"\")","v":""},null,{"$f":"IFERROR(VLOOKUP(S1358,コード表!$F$7:$G$141,2,FALSE),\"\")","v":""},null,null,"t",null,null,null,null,null,null,null,null,null,null,null,null,null,null,null,null,null,null,null,null,null,null,null,null,null,null,null,null,null,null,null,null,null,null,null,null,null,null,null,null,null,null,null,null,null,null,null,null,"","",{"$f":"IF(BS1358=\"\",\"\",IF(COUNTIF(BS$4:BS1358,BS1358)=1,ROW(),\"\"))","v":""},{"$f":"IFERROR(INDEX(BS:BS,SMALL(BT:BT,ROW(A1355))),\"\")","v":""},"","","",""]
[{"$f":"IF(F1360<>\"\",事業者基本情報!$E$9&事業者基本情報!$F$9&事業者基本情報!$G$9,\"\")","v":""},{"$f":"IF(F1360<>\"\",事業者基本情報!$Y$10,\"\")","v":""},{"$f":"IF(F1360<>\"\",事業者基本情報!$Y$7,\"\")","v":""},{"$f":"IF(F1360<>\"\",事業者基本情報!$Y$8,\"\")","v":""},{"$f":"IF(F1360<>\"\",事業者基本情報!$E$11&事業者基本情報!$F$11&事業者基本情報!$G$11&事業者基本情報!$H$11&事業者基本情報!$I$11,\"\")","v":""},null,null,null,"市",null,null,"-",null,"-",null,{"$f":"IFERROR(VLOOKUP(Q1360,コード表!$B$3:$C$101,2,FALSE),\"\")","v":""},null,{"$f":"IFERROR(VLOOKUP(S1360,コード表!$F$7:$G$141,2,FALSE),\"\")","v":""},null,null,"t",null,null,null,null,null,null,null,null,null,null,null,null,null,null,null,null,null,null,null,null,null,null,null,null,null,null,null,null,null,null,null,null,null,null,null,null,null,null,null,null,null,null,null,null,null,null,null,null,"","",{"$f":"IF(BS1360=\"\",\"\",IF(COUNTIF(BS$4:BS1360,BS1360)=1,ROW(),\"\"))","v":""},{"$f":"IFERROR(INDEX(BS:BS,SMALL(BT:BT,ROW(A1357))),\"\")","v":""},"","","",""]
[{"$f":"IF(F1361<>\"\",事業者基本情報!$E$9&事業者基本情報!$F$9&事業者基本情報!$G$9,\"\")","v":""},{"$f":"IF(F1361<>\"\",事業者基本情報!$Y$10,\"\")","v":""},{"$f":"IF(F1361<>\"\",事業者基本情報!$Y$7,\"\")","v":""},{"$f":"IF(F1361<>\"\",事業者基本情報!$Y$8,\"\")","v":""},{"$f":"IF(F1361<>\"\",事業者基本情報!$E$11&事業者基本情報!$F$11&事業者基本情報!$G$11&事業者基本情報!$H$11&事業者基本情報!$I$11,\"\")","v":""},null,null,null,"市",null,null,"-",null,"-",null,{"$f":"IFERROR(VLOOKUP(Q1361,コード表!$B$3:$C$101,2,FALSE),\"\")","v":""},null,{"$f":"IFERROR(VLOOKUP(S1361,コード表!$F$7:$G$141,2,FALSE),\"\")","v":""},null,null,"t",null,null,null,null,null,null,null,null,null,null,null,null,null,null,null,null,null,null,null,null,null,null,null,null,null,null,null,null,null,null,null,null,null,null,null,null,null,null,null,null,null,null,null,null,null,null,null,null,"","",{"$f":"IF(BS1361=\"\",\"\",IF(COUNTIF(BS$4:BS1361,BS1361)=1,ROW(),\"\"))","v":""},{"$f":"IFERROR(INDEX(BS:BS,SMALL(BT:BT,ROW(A1358))),\"\")","v":""},"","","",""]
[{"$f":"IF(F1364<>\"\",事業者基本情報!$E$9&事業者基本情報!$F$9&事業者基本情報!$G$9,\"\")","v":""},{"$f":"IF(F1364<>\"\",事業者基本情報!$Y$10,\"\")","v":""},{"$f":"IF(F1364<>\"\",事業者基本情報!$Y$7,\"\")","v":""},{"$f":"IF(F1364<>\"\",事業者基本情報!$Y$8,\"\")","v":""},{"$f":"IF(F1364<>\"\",事業者基本情報!$E$11&事業者基本情報!$F$11&事業者基本情報!$G$11&事業者基本情報!$H$11&事業者基本情報!$I$11,\"\")","v":""},null,null,null,"市",null,null,"-",null,"-",null,{"$f":"IFERROR(VLOOKUP(Q1364,コード表!$B$3:$C$101,2,FALSE),\"\")","v":""},null,{"$f":"IFERROR(VLOOKUP(S1364,コード表!$F$7:$G$141,2,FALSE),\"\")","v":""},null,null,"t",null,null,null,null,null,null,null,null,null,null,null,null,null,null,null,null,null,null,null,null,null,null,null,null,null,null,null,null,null,null,null,null,null,null,null,null,null,null,null,null,null,null,null,null,null,null,null,null,"","",{"$f":"IF(BS1364=\"\",\"\",IF(COUNTIF(BS$4:BS1364,BS1364)=1,ROW(),\"\"))","v":""},{"$f":"IFERROR(INDEX(BS:BS,SMALL(BT:BT,ROW(A1361))),\"\")","v":""},"","","",""]
[{"$f":"IF(F1368<>\"\",事業者基本情報!$E$9&事業者基本情報!$F$9&事業者基本情報!$G$9,\"\")","v":""},{"$f":"IF(F1368<>\"\",事業者基本情報!$Y$10,\"\")","v":""},{"$f":"IF(F1368<>\"\",事業者基本情報!$Y$7,\"\")","v":""},{"$f":"IF(F1368<>\"\",事業者基本情報!$Y$8,\"\")","v":""},{"$f":"IF(F1368<>\"\",事業者基本情報!$E$11&事業者基本情報!$F$11&事業者基本情報!$G$11&事業者基本情報!$H$11&事業者基本情報!$I$11,\"\")","v":""},null,null,null,"市",null,null,"-",null,"-",null,{"$f":"IFERROR(VLOOKUP(Q1368,コード表!$B$3:$C$101,2,FALSE),\"\")","v":""},null,{"$f":"IFERROR(VLOOKUP(S1368,コード表!$F$7:$G$141,2,FALSE),\"\")","v":""},null,null,"t",null,null,null,null,null,null,null,null,null,null,null,null,null,null,null,null,null,null,null,null,null,null,null,null,null,null,null,null,null,null,null,null,null,null,null,null,null,null,null,null,null,null,null,null,null,null,null,null,"","",{"$f":"IF(BS1368=\"\",\"\",IF(COUNTIF(BS$4:BS1368,BS1368)=1,ROW(),\"\"))","v":""},{"$f":"IFERROR(INDEX(BS:BS,SMALL(BT:BT,ROW(A1365))),\"\")","v":""},"","","",""]
[{"$f":"IF(F1371<>\"\",事業者基本情報!$E$9&事業者基本情報!$F$9&事業者基本情報!$G$9,\"\")","v":""},{"$f":"IF(F1371<>\"\",事業者基本情報!$Y$10,\"\")","v":""},{"$f":"IF(F1371<>\"\",事業者基本情報!$Y$7,\"\")","v":""},{"$f":"IF(F1371<>\"\",事業者基本情報!$Y$8,\"\")","v":""},{"$f":"IF(F1371<>\"\",事業者基本情報!$E$11&事業者基本情報!$F$11&事業者基本情報!$G$11&事業者基本情報!$H$11&事業者基本情報!$I$11,\"\")","v":""},null,null,null,"市",null,null,"-",null,"-",null,{"$f":"IFERROR(VLOOKUP(Q1371,コード表!$B$3:$C$101,2,FALSE),\"\")","v":""},null,{"$f":"IFERROR(VLOOKUP(S1371,コード表!$F$7:$G$141,2,FALSE),\"\")","v":""},null,null,"t",null,null,null,null,null,null,null,null,null,null,null,null,null,null,null,null,null,null,null,null,null,null,null,null,null,null,null,null,null,null,null,null,null,null,null,null,null,null,null,null,null,null,null,null,null,null,null,null,"","",{"$f":"IF(BS1371=\"\",\"\",IF(COUNTIF(BS$4:BS1371,BS1371)=1,ROW(),\"\"))","v":""},{"$f":"IFERROR(INDEX(BS:BS,SMALL(BT:BT,ROW(A1368))),\"\")","v":""},"","","",""]
[{"$f":"IF(F1374<>\"\",事業者基本情報!$E$9&事業者基本情報!$F$9&事業者基本情報!$G$9,\"\")","v":""},{"$f":"IF(F1374<>\"\",事業者基本情報!$Y$10,\"\")","v":""},{"$f":"IF(F1374<>\"\",事業者基本情報!$Y$7,\"\")","v":""},{"$f":"IF(F1374<>\"\",事業者基本情報!$Y$8,\"\")","v":""},{"$f":"IF(F1374<>\"\",事業者基本情報!$E$11&事業者基本情報!$F$11&事業者基本情報!$G$11&事業者基本情報!$H$11&事業者基本情報!$I$11,\"\")","v":""},null,null,null,"市",null,null,"-",null,"-",null,{"$f":"IFERROR(VLOOKUP(Q1374,コード表!$B$3:$C$101,2,FALSE),\"\")","v":""},null,{"$f":"IFERROR(VLOOKUP(S1374,コード表!$F$7:$G$141,2,FALSE),\"\")","v":""},null,null,"t",null,null,null,null,null,null,null,null,null,null,null,null,null,null,null,null,null,null,null,null,null,null,null,null,null,null,null,null,null,null,null,null,null,null,null,null,null,null,null,null,null,null,null,null,null,null,null,null,"","",{"$f":"IF(BS1374=\"\",\"\",IF(COUNTIF(BS$4:BS1374,BS1374)=1,ROW(),\"\"))","v":""},{"$f":"IFERROR(INDEX(BS:BS,SMALL(BT:BT,ROW(A1371))),\"\")","v":""},"","","",""]
[{"$f":"IF(F1377<>\"\",事業者基本情報!$E$9&事業者基本情報!$F$9&事業者基本情報!$G$9,\"\")","v":""},{"$f":"IF(F1377<>\"\",事業者基本情報!$Y$10,\"\")","v":""},{"$f":"IF(F1377<>\"\",事業者基本情報!$Y$7,\"\")","v":""},{"$f":"IF(F1377<>\"\",事業者基本情報!$Y$8,\"\")","v":""},{"$f":"IF(F1377<>\"\",事業者基本情報!$E$11&事業者基本情報!$F$11&事業者基本情報!$G$11&事業者基本情報!$H$11&事業者基本情報!$I$11,\"\")","v":""},null,null,null,"市",null,null,"-",null,"-",null,{"$f":"IFERROR(VLOOKUP(Q1377,コード表!$B$3:$C$101,2,FALSE),\"\")","v":""},null,{"$f":"IFERROR(VLOOKUP(S1377,コード表!$F$7:$G$141,2,FALSE),\"\")","v":""},null,null,"t",null,null,null,null,null,null,null,null,null,null,null,null,null,null,null,null,null,null,null,null,null,null,null,null,null,null,null,null,null,null,null,null,null,null,null,null,null,null,null,null,null,null,null,null,null,null,null,null,"","",{"$f":"IF(BS1377=\"\",\"\",IF(COUNTIF(BS$4:BS1377,BS1377)=1,ROW(),\"\"))","v":""},{"$f":"IFERROR(INDEX(BS:BS,SMALL(BT:BT,ROW(A1374))),\"\")","v":""},"","","",""]
[{"$f":"IF(F1380<>\"\",事業者基本情報!$E$9&事業者基本情報!$F$9&事業者基本情報!$G$9,\"\")","v":""},{"$f":"IF(F1380<>\"\",事業者基本情報!$Y$10,\"\")","v":""},{"$f":"IF(F1380<>\"\",事業者基本情報!$Y$7,\"\")","v":""},{"$f":"IF(F1380<>\"\",事業者基本情報!$Y$8,\"\")","v":""},{"$f":"IF(F1380<>\"\",事業者基本情報!$E$11&事業者基本情報!$F$11&事業者基本情報!$G$11&事業者基本情報!$H$11&事業者基本情報!$I$11,\"\")","v":""},null,null,null,"市",null,null,"-",null,"-",null,{"$f":"IFERROR(VLOOKUP(Q1380,コード表!$B$3:$C$101,2,FALSE),\"\")","v":""},null,{"$f":"IFERROR(VLOOKUP(S1380,コード表!$F$7:$G$141,2,FALSE),\"\")","v":""},null,null,"t",null,null,null,null,null,null,null,null,null,null,null,null,null,null,null,null,null,null,null,null,null,null,null,null,null,null,null,null,null,null,null,null,null,null,null,null,null,null,null,null,null,null,null,null,null,null,null,null,"","",{"$f":"IF(BS1380=\"\",\"\",IF(COUNTIF(BS$4:BS1380,BS1380)=1,ROW(),\"\"))","v":""},{"$f":"IFERROR(INDEX(BS:BS,SMALL(BT:BT,ROW(A1377))),\"\")","v":""},"","","",""]
[{"$f":"IF(F1382<>\"\",事業者基本情報!$E$9&事業者基本情報!$F$9&事業者基本情報!$G$9,\"\")","v":""},{"$f":"IF(F1382<>\"\",事業者基本情報!$Y$10,\"\")","v":""},{"$f":"IF(F1382<>\"\",事業者基本情報!$Y$7,\"\")","v":""},{"$f":"IF(F1382<>\"\",事業者基本情報!$Y$8,\"\")","v":""},{"$f":"IF(F1382<>\"\",事業者基本情報!$E$11&事業者基本情報!$F$11&事業者基本情報!$G$11&事業者基本情報!$H$11&事業者基本情報!$I$11,\"\")","v":""},null,null,null,"市",null,null,"-",null,"-",null,{"$f":"IFERROR(VLOOKUP(Q1382,コード表!$B$3:$C$101,2,FALSE),\"\")","v":""},null,{"$f":"IFERROR(VLOOKUP(S1382,コード表!$F$7:$G$141,2,FALSE),\"\")","v":""},null,null,"t",null,null,null,null,null,null,null,null,null,null,null,null,null,null,null,null,null,null,null,null,null,null,null,null,null,null,null,null,null,null,null,null,null,null,null,null,null,null,null,null,null,null,null,null,null,null,null,null,"","",{"$f":"IF(BS1382=\"\",\"\",IF(COUNTIF(BS$4:BS1382,BS1382)=1,ROW(),\"\"))","v":""},{"$f":"IFERROR(INDEX(BS:BS,SMALL(BT:BT,ROW(A1379))),\"\")","v":""},"","","",""]
[{"$f":"IF(F1383<>\"\",事業者基本情報!$E$9&事業者基本情報!$F$9&事業者基本情報!$G$9,\"\")","v":""},{"$f":"IF(F1383<>\"\",事業者基本情報!$Y$10,\"\")","v":""},{"$f":"IF(F1383<>\"\",事業者基本情報!$Y$7,\"\")","v":""},{"$f":"IF(F1383<>\"\",事業者基本情報!$Y$8,\"\")","v":""},{"$f":"IF(F1383<>\"\",事業者基本情報!$E$11&事業者基本情報!$F$11&事業者基本情報!$G$11&事業者基本情報!$H$11&事業者基本情報!$I$11,\"\")","v":""},null,null,null,"市",null,null,"-",null,"-",null,{"$f":"IFERROR(VLOOKUP(Q1383,コード表!$B$3:$C$101,2,FALSE),\"\")","v":""},null,{"$f":"IFERROR(VLOOKUP(S1383,コード表!$F$7:$G$141,2,FALSE),\"\")","v":""},null,null,"t",null,null,null,null,null,null,null,null,null,null,null,null,null,null,null,null,null,null,null,null,null,null,null,null,null,null,null,null,null,null,null,null,null,null,null,null,null,null,null,null,null,null,null,null,null,null,null,null,"","",{"$f":"IF(BS1383=\"\",\"\",IF(COUNTIF(BS$4:BS1383,BS1383)=1,ROW(),\"\"))","v":""},{"$f":"IFERROR(INDEX(BS:BS,SMALL(BT:BT,ROW(A1380))),\"\")","v":""},"","","",""]
[{"$f":"IF(F1386<>\"\",事業者基本情報!$E$9&事業者基本情報!$F$9&事業者基本情報!$G$9,\"\")","v":""},{"$f":"IF(F1386<>\"\",事業者基本情報!$Y$10,\"\")","v":""},{"$f":"IF(F1386<>\"\",事業者基本情報!$Y$7,\"\")","v":""},{"$f":"IF(F1386<>\"\",事業者基本情報!$Y$8,\"\")","v":""},{"$f":"IF(F1386<>\"\",事業者基本情報!$E$11&事業者基本情報!$F$11&事業者基本情報!$G$11&事業者基本情報!$H$11&事業者基本情報!$I$11,\"\")","v":""},null,null,null,"市",null,null,"-",null,"-",null,{"$f":"IFERROR(VLOOKUP(Q1386,コード表!$B$3:$C$101,2,FALSE),\"\")","v":""},null,{"$f":"IFERROR(VLOOKUP(S1386,コード表!$F$7:$G$141,2,FALSE),\"\")","v":""},null,null,"t",null,null,null,null,null,null,null,null,null,null,null,null,null,null,null,null,null,null,null,null,null,null,null,null,null,null,null,null,null,null,null,null,null,null,null,null,null,null,null,null,null,null,null,null,null,null,null,null,"","",{"$f":"IF(BS1386=\"\",\"\",IF(COUNTIF(BS$4:BS1386,BS1386)=1,ROW(),\"\"))","v":""},{"$f":"IFERROR(INDEX(BS:BS,SMALL(BT:BT,ROW(A1383))),\"\")","v":""},"","","",""]
[{"$f":"IF(F1390<>\"\",事業者基本情報!$E$9&事業者基本情報!$F$9&事業者基本情報!$G$9,\"\")","v":""},{"$f":"IF(F1390<>\"\",事業者基本情報!$Y$10,\"\")","v":""},{"$f":"IF(F1390<>\"\",事業者基本情報!$Y$7,\"\")","v":""},{"$f":"IF(F1390<>\"\",事業者基本情報!$Y$8,\"\")","v":""},{"$f":"IF(F1390<>\"\",事業者基本情報!$E$11&事業者基本情報!$F$11&事業者基本情報!$G$11&事業者基本情報!$H$11&事業者基本情報!$I$11,\"\")","v":""},null,null,null,"市",null,null,"-",null,"-",null,{"$f":"IFERROR(VLOOKUP(Q1390,コード表!$B$3:$C$101,2,FALSE),\"\")","v":""},null,{"$f":"IFERROR(VLOOKUP(S1390,コード表!$F$7:$G$141,2,FALSE),\"\")","v":""},null,null,"t",null,null,null,null,null,null,null,null,null,null,null,null,null,null,null,null,null,null,null,null,null,null,null,null,null,null,null,null,null,null,null,null,null,null,null,null,null,null,null,null,null,null,null,null,null,null,null,null,"","",{"$f":"IF(BS1390=\"\",\"\",IF(COUNTIF(BS$4:BS1390,BS1390)=1,ROW(),\"\"))","v":""},{"$f":"IFERROR(INDEX(BS:BS,SMALL(BT:BT,ROW(A1387))),\"\")","v":""},"","","",""]
[{"$f":"IF(F1393<>\"\",事業者基本情報!$E$9&事業者基本情報!$F$9&事業者基本情報!$G$9,\"\")","v":""},{"$f":"IF(F1393<>\"\",事業者基本情報!$Y$10,\"\")","v":""},{"$f":"IF(F1393<>\"\",事業者基本情報!$Y$7,\"\")","v":""},{"$f":"IF(F1393<>\"\",事業者基本情報!$Y$8,\"\")","v":""},{"$f":"IF(F1393<>\"\",事業者基本情報!$E$11&事業者基本情報!$F$11&事業者基本情報!$G$11&事業者基本情報!$H$11&事業者基本情報!$I$11,\"\")","v":""},null,null,null,"市",null,null,"-",null,"-",null,{"$f":"IFERROR(VLOOKUP(Q1393,コード表!$B$3:$C$101,2,FALSE),\"\")","v":""},null,{"$f":"IFERROR(VLOOKUP(S1393,コード表!$F$7:$G$141,2,FALSE),\"\")","v":""},null,null,"t",null,null,null,null,null,null,null,null,null,null,null,null,null,null,null,null,null,null,null,null,null,null,null,null,null,null,null,null,null,null,null,null,null,null,null,null,null,null,null,null,null,null,null,null,null,null,null,null,"","",{"$f":"IF(BS1393=\"\",\"\",IF(COUNTIF(BS$4:BS1393,BS1393)=1,ROW(),\"\"))","v":""},{"$f":"IFERROR(INDEX(BS:BS,SMALL(BT:BT,ROW(A1390))),\"\")","v":""},"","","",""]
[{"$f":"IF(F1396<>\"\",事業者基本情報!$E$9&事業者基本情報!$F$9&事業者基本情報!$G$9,\"\")","v":""},{"$f":"IF(F1396<>\"\",事業者基本情報!$Y$10,\"\")","v":""},{"$f":"IF(F1396<>\"\",事業者基本情報!$Y$7,\"\")","v":""},{"$f":"IF(F1396<>\"\",事業者基本情報!$Y$8,\"\")","v":""},{"$f":"IF(F1396<>\"\",事業者基本情報!$E$11&事業者基本情報!$F$11&事業者基本情報!$G$11&事業者基本情報!$H$11&事業者基本情報!$I$11,\"\")","v":""},null,null,null,"市",null,null,"-",null,"-",null,{"$f":"IFERROR(VLOOKUP(Q1396,コード表!$B$3:$C$101,2,FALSE),\"\")","v":""},null,{"$f":"IFERROR(VLOOKUP(S1396,コード表!$F$7:$G$141,2,FALSE),\"\")","v":""},null,null,"t",null,null,null,null,null,null,null,null,null,null,null,null,null,null,null,null,null,null,null,null,null,null,null,null,null,null,null,null,null,null,null,null,null,null,null,null,null,null,null,null,null,null,null,null,null,null,null,null,"","",{"$f":"IF(BS1396=\"\",\"\",IF(COUNTIF(BS$4:BS1396,BS1396)=1,ROW(),\"\"))","v":""},{"$f":"IFERROR(INDEX(BS:BS,SMALL(BT:BT,ROW(A1393))),\"\")","v":""},"","","",""]
[{"$f":"IF(F1399<>\"\",事業者基本情報!$E$9&事業者基本情報!$F$9&事業者基本情報!$G$9,\"\")","v":""},{"$f":"IF(F1399<>\"\",事業者基本情報!$Y$10,\"\")","v":""},{"$f":"IF(F1399<>\"\",事業者基本情報!$Y$7,\"\")","v":""},{"$f":"IF(F1399<>\"\",事業者基本情報!$Y$8,\"\")","v":""},{"$f":"IF(F1399<>\"\",事業者基本情報!$E$11&事業者基本情報!$F$11&事業者基本情報!$G$11&事業者基本情報!$H$11&事業者基本情報!$I$11,\"\")","v":""},null,null,null,"市",null,null,"-",null,"-",null,{"$f":"IFERROR(VLOOKUP(Q1399,コード表!$B$3:$C$101,2,FALSE),\"\")","v":""},null,{"$f":"IFERROR(VLOOKUP(S1399,コード表!$F$7:$G$141,2,FALSE),\"\")","v":""},null,null,"t",null,null,null,null,null,null,null,null,null,null,null,null,null,null,null,null,null,null,null,null,null,null,null,null,null,null,null,null,null,null,null,null,null,null,null,null,null,null,null,null,null,null,null,null,null,null,null,null,"","",{"$f":"IF(BS1399=\"\",\"\",IF(COUNTIF(BS$4:BS1399,BS1399)=1,ROW(),\"\"))","v":""},{"$f":"IFERROR(INDEX(BS:BS,SMALL(BT:BT,ROW(A1396))),\"\")","v":""},"","","",""]
[{"$f":"IF(F1402<>\"\",事業者基本情報!$E$9&事業者基本情報!$F$9&事業者基本情報!$G$9,\"\")","v":""},{"$f":"IF(F1402<>\"\",事業者基本情報!$Y$10,\"\")","v":""},{"$f":"IF(F1402<>\"\",事業者基本情報!$Y$7,\"\")","v":""},{"$f":"IF(F1402<>\"\",事業者基本情報!$Y$8,\"\")","v":""},{"$f":"IF(F1402<>\"\",事業者基本情報!$E$11&事業者基本情報!$F$11&事業者基本情報!$G$11&事業者基本情報!$H$11&事業者基本情報!$I$11,\"\")","v":""},null,null,null,"市",null,null,"-",null,"-",null,{"$f":"IFERROR(VLOOKUP(Q1402,コード表!$B$3:$C$101,2,FALSE),\"\")","v":""},null,{"$f":"IFERROR(VLOOKUP(S1402,コード表!$F$7:$G$141,2,FALSE),\"\")","v":""},null,null,"t",null,null,null,null,null,null,null,null,null,null,null,null,null,null,null,null,null,null,null,null,null,null,null,null,null,null,null,null,null,null,null,null,null,null,null,null,null,null,null,null,null,null,null,null,null,null,null,null,"","",{"$f":"IF(BS1402=\"\",\"\",IF(COUNTIF(BS$4:BS1402,BS1402)=1,ROW(),\"\"))","v":""},{"$f":"IFERROR(INDEX(BS:BS,SMALL(BT:BT,ROW(A1399))),\"\")","v":""},"","","",""]
[{"$f":"IF(F1404<>\"\",事業者基本情報!$E$9&事業者基本情報!$F$9&事業者基本情報!$G$9,\"\")","v":""},{"$f":"IF(F1404<>\"\",事業者基本情報!$Y$10,\"\")","v":""},{"$f":"IF(F1404<>\"\",事業者基本情報!$Y$7,\"\")","v":""},{"$f":"IF(F1404<>\"\",事業者基本情報!$Y$8,\"\")","v":""},{"$f":"IF(F1404<>\"\",事業者基本情報!$E$11&事業者基本情報!$F$11&事業者基本情報!$G$11&事業者基本情報!$H$11&事業者基本情報!$I$11,\"\")","v":""},null,null,null,"市",null,null,"-",null,"-",null,{"$f":"IFERROR(VLOOKUP(Q1404,コード表!$B$3:$C$101,2,FALSE),\"\")","v":""},null,{"$f":"IFERROR(VLOOKUP(S1404,コード表!$F$7:$G$141,2,FALSE),\"\")","v":""},null,null,"t",null,null,null,null,null,null,null,null,null,null,null,null,null,null,null,null,null,null,null,null,null,null,null,null,null,null,null,null,null,null,null,null,null,null,null,null,null,null,null,null,null,null,null,null,null,null,null,null,"","",{"$f":"IF(BS1404=\"\",\"\",IF(COUNTIF(BS$4:BS1404,BS1404)=1,ROW(),\"\"))","v":""},{"$f":"IFERROR(INDEX(BS:BS,SMALL(BT:BT,ROW(A1401))),\"\")","v":""},"","","",""]
[{"$f":"IF(F1405<>\"\",事業者基本情報!$E$9&事業者基本情報!$F$9&事業者基本情報!$G$9,\"\")","v":""},{"$f":"IF(F1405<>\"\",事業者基本情報!$Y$10,\"\")","v":""},{"$f":"IF(F1405<>\"\",事業者基本情報!$Y$7,\"\")","v":""},{"$f":"IF(F1405<>\"\",事業者基本情報!$Y$8,\"\")","v":""},{"$f":"IF(F1405<>\"\",事業者基本情報!$E$11&事業者基本情報!$F$11&事業者基本情報!$G$11&事業者基本情報!$H$11&事業者基本情報!$I$11,\"\")","v":""},null,null,null,"市",null,null,"-",null,"-",null,{"$f":"IFERROR(VLOOKUP(Q1405,コード表!$B$3:$C$101,2,FALSE),\"\")","v":""},null,{"$f":"IFERROR(VLOOKUP(S1405,コード表!$F$7:$G$141,2,FALSE),\"\")","v":""},null,null,"t",null,null,null,null,null,null,null,null,null,null,null,null,null,null,null,null,null,null,null,null,null,null,null,null,null,null,null,null,null,null,null,null,null,null,null,null,null,null,null,null,null,null,null,null,null,null,null,null,"","",{"$f":"IF(BS1405=\"\",\"\",IF(COUNTIF(BS$4:BS1405,BS1405)=1,ROW(),\"\"))","v":""},{"$f":"IFERROR(INDEX(BS:BS,SMALL(BT:BT,ROW(A1402))),\"\")","v":""},"","","",""]
[{"$f":"IF(F1409<>\"\",事業者基本情報!$E$9&事業者基本情報!$F$9&事業者基本情報!$G$9,\"\")","v":""},{"$f":"IF(F1409<>\"\",事業者基本情報!$Y$10,\"\")","v":""},{"$f":"IF(F1409<>\"\",事業者基本情報!$Y$7,\"\")","v":""},{"$f":"IF(F1409<>\"\",事業者基本情報!$Y$8,\"\")","v":""},{"$f":"IF(F1409<>\"\",事業者基本情報!$E$11&事業者基本情報!$F$11&事業者基本情報!$G$11&事業者基本情報!$H$11&事業者基本情報!$I$11,\"\")","v":""},null,null,null,"市",null,null,"-",null,"-",null,{"$f":"IFERROR(VLOOKUP(Q1409,コード表!$B$3:$C$101,2,FALSE),\"\")","v":""},null,{"$f":"IFERROR(VLOOKUP(S1409,コード表!$F$7:$G$141,2,FALSE),\"\")","v":""},null,null,"t",null,null,null,null,null,null,null,null,null,null,null,null,null,null,null,null,null,null,null,null,null,null,null,null,null,null,null,null,null,null,null,null,null,null,null,null,null,null,null,null,null,null,null,null,null,null,null,null,"","",{"$f":"IF(BS1409=\"\",\"\",IF(COUNTIF(BS$4:BS1409,BS1409)=1,ROW(),\"\"))","v":""},{"$f":"IFERROR(INDEX(BS:BS,SMALL(BT:BT,ROW(A1406))),\"\")","v":""},"","","",""]
[{"$f":"IF(F1412<>\"\",事業者基本情報!$E$9&事業者基本情報!$F$9&事業者基本情報!$G$9,\"\")","v":""},{"$f":"IF(F1412<>\"\",事業者基本情報!$Y$10,\"\")","v":""},{"$f":"IF(F1412<>\"\",事業者基本情報!$Y$7,\"\")","v":""},{"$f":"IF(F1412<>\"\",事業者基本情報!$Y$8,\"\")","v":""},{"$f":"IF(F1412<>\"\",事業者基本情報!$E$11&事業者基本情報!$F$11&事業者基本情報!$G$11&事業者基本情報!$H$11&事業者基本情報!$I$11,\"\")","v":""},null,null,null,"市",null,null,"-",null,"-",null,{"$f":"IFERROR(VLOOKUP(Q1412,コード表!$B$3:$C$101,2,FALSE),\"\")","v":""},null,{"$f":"IFERROR(VLOOKUP(S1412,コード表!$F$7:$G$141,2,FALSE),\"\")","v":""},null,null,"t",null,null,null,null,null,null,null,null,null,null,null,null,null,null,null,null,null,null,null,null,null,null,null,null,null,null,null,null,null,null,null,null,null,null,null,null,null,null,null,null,null,null,null,null,null,null,null,null,{"$f":"IFERROR(IF(TRIM(F1412)=\"\",\"\",IF(AND(VALUE(TRIM(R1412))>=100000,VALUE(TRIM(R1412))<7000000),\"普通産廃\",IF(AND(VALUE(TRIM(R1412))>=7000000,VALUE(TRIM(R1412))<9000000),\"特別産廃\",\"\"))),\"\")","v":""},{"$f":"IF(BR1412<>\"\",TRIM(F1412)&\"(\"&BR1412&\")\",\"\")","v":""},{"$f":"IF(BS1412=\"\",\"\",IF(COUNTIF(BS$4:BS1412,BS1412)=1,ROW(),\"\"))","v":""},{"$f":"IFERROR(INDEX(BS:BS,SMALL(BT:BT,ROW(A1409))),\"\")","v":""},{"$f":"IF(BU1412=\"\",\"\",IF(SUMIF(BS:BS,BU1412,T:T)=0,\"\",SUMIF(BS:BS,BU1412,T:T)))","v":""},{"$f":"IF(AS1412<>\"\",AS1412,IF(AO1412<>\"\",AO1412,IF(AK1412<>\"\",AK1412,IF(AG1412<>\"\",AG1412,IF(Y1412<>\"\",Y1412,\"\")))))","v":""},"",{"$f":"IF(F1412&G1412&H1412&J1412&K1412&M1412&O1412&Q1412&S1412&T1412&V1412&W1412&X1412&Y1412&Z1412&AA1412&AB1412&AC1412&AD1412&AE1412&AF1412&AG1412&AH1412&AI1412&AJ1412&AK1412&AL1412&AM1412&AN1412&AO1412&AP1412&AQ1412&AR1412&AS1412&AT1412=\"\",\"\",1)","v":""}]
[{"$f":"IF(F1415<>\"\",事業者基本情報!$E$9&事業者基本情報!$F$9&事業者基本情報!$G$9,\"\")","v":""},{"$f":"IF(F1415<>\"\",事業者基本情報!$Y$10,\"\")","v":""},{"$f":"IF(F1415<>\"\",事業者基本情報!$Y$7,\"\")","v":""},{"$f":"IF(F1415<>\"\",事業者基本情報!$Y$8,\"\")","v":""},{"$f":"IF(F1415<>\"\",事業者基本情報!$E$11&事業者基本情報!$F$11&事業者基本情報!$G$11&事業者基本情報!$H$11&事業者基本情報!$I$11,\"\")","v":""},null,null,null,"市",null,null,"-",null,"-",null,{"$f":"IFERROR(VLOOKUP(Q1415,コード表!$B$3:$C$101,2,FALSE),\"\")","v":""},null,{"$f":"IFERROR(VLOOKUP(S1415,コード表!$F$7:$G$141,2,FALSE),\"\")","v":""},null,null,"t",null,null,null,null,null,null,null,null,null,null,null,null,null,null,null,null,null,null,null,null,null,null,null,null,null,null,null,null,null,null,null,null,null,null,null,null,null,null,null,null,null,null,null,null,null,null,null,null,"","",{"$f":"IF(BS1415=\"\",\"\",IF(COUNTIF(BS$4:BS1415,BS1415)=1,ROW(),\"\"))","v":""},{"$f":"IFERROR(INDEX(BS:BS,SMALL(BT:BT,ROW(A1412))),\"\")","v":""},"","","",""]
[{"$f":"IF(F1418<>\"\",事業者基本情報!$E$9&事業者基本情報!$F$9&事業者基本情報!$G$9,\"\")","v":""},{"$f":"IF(F1418<>\"\",事業者基本情報!$Y$10,\"\")","v":""},{"$f":"IF(F1418<>\"\",事業者基本情報!$Y$7,\"\")","v":""},{"$f":"IF(F1418<>\"\",事業者基本情報!$Y$8,\"\")","v":""},{"$f":"IF(F1418<>\"\",事業者基本情報!$E$11&事業者基本情報!$F$11&事業者基本情報!$G$11&事業者基本情報!$H$11&事業者基本情報!$I$11,\"\")","v":""},null,null,null,"市",null,null,"-",null,"-",null,{"$f":"IFERROR(VLOOKUP(Q1418,コード表!$B$3:$C$101,2,FALSE),\"\")","v":""},null,{"$f":"IFERROR(VLOOKUP(S1418,コード表!$F$7:$G$141,2,FALSE),\"\")","v":""},null,null,"t",null,null,null,null,null,null,null,null,null,null,null,null,null,null,null,null,null,null,null,null,null,null,null,null,null,null,null,null,null,null,null,null,null,null,null,null,null,null,null,null,null,null,null,null,null,null,null,null,"","",{"$f":"IF(BS1418=\"\",\"\",IF(COUNTIF(BS$4:BS1418,BS1418)=1,ROW(),\"\"))","v":""},{"$f":"IFERROR(INDEX(BS:BS,SMALL(BT:BT,ROW(A1415))),\"\")","v":""},"","","",""]
[{"$f":"IF(F1421<>\"\",事業者基本情報!$E$9&事業者基本情報!$F$9&事業者基本情報!$G$9,\"\")","v":""},{"$f":"IF(F1421<>\"\",事業者基本情報!$Y$10,\"\")","v":""},{"$f":"IF(F1421<>\"\",事業者基本情報!$Y$7,\"\")","v":""},{"$f":"IF(F1421<>\"\",事業者基本情報!$Y$8,\"\")","v":""},{"$f":"IF(F1421<>\"\",事業者基本情報!$E$11&事業者基本情報!$F$11&事業者基本情報!$G$11&事業者基本情報!$H$11&事業者基本情報!$I$11,\"\")","v":""},null,null,null,"市",null,null,"-",null,"-",null,{"$f":"IFERROR(VLOOKUP(Q1421,コード表!$B$3:$C$101,2,FALSE),\"\")","v":""},null,{"$f":"IFERROR(VLOOKUP(S1421,コード表!$F$7:$G$141,2,FALSE),\"\")","v":""},null,null,"t",null,null,null,null,null,null,null,null,null,null,null,null,null,null,null,null,null,null,null,null,null,null,null,null,null,null,null,null,null,null,null,null,null,null,null,null,null,null,null,null,null,null,null,null,null,null,null,null,"","",{"$f":"IF(BS1421=\"\",\"\",IF(COUNTIF(BS$4:BS1421,BS1421)=1,ROW(),\"\"))","v":""},{"$f":"IFERROR(INDEX(BS:BS,SMALL(BT:BT,ROW(A1418))),\"\")","v":""},"","","",""]
[{"$f":"IF(F1424<>\"\",事業者基本情報!$E$9&事業者基本情報!$F$9&事業者基本情報!$G$9,\"\")","v":""},{"$f":"IF(F1424<>\"\",事業者基本情報!$Y$10,\"\")","v":""},{"$f":"IF(F1424<>\"\",事業者基本情報!$Y$7,\"\")","v":""},{"$f":"IF(F1424<>\"\",事業者基本情報!$Y$8,\"\")","v":""},{"$f":"IF(F1424<>\"\",事業者基本情報!$E$11&事業者基本情報!$F$11&事業者基本情報!$G$11&事業者基本情報!$H$11&事業者基本情報!$I$11,\"\")","v":""},null,null,null,"市",null,null,"-",null,"-",null,{"$f":"IFERROR(VLOOKUP(Q1424,コード表!$B$3:$C$101,2,FALSE),\"\")","v":""},null,{"$f":"IFERROR(VLOOKUP(S1424,コード表!$F$7:$G$141,2,FALSE),\"\")","v":""},null,null,"t",null,null,null,null,null,null,null,null,null,null,null,null,null,null,null,null,null,null,null,null,null,null,null,null,null,null,null,null,null,null,null,null,null,null,null,null,null,null,null,null,null,null,null,null,null,null,null,null,"","",{"$f":"IF(BS1424=\"\",\"\",IF(COUNTIF(BS$4:BS1424,BS1424)=1,ROW(),\"\"))","v":""},{"$f":"IFERROR(INDEX(BS:BS,SMALL(BT:BT,ROW(A1421))),\"\")","v":""},"","","",""]
[{"$f":"IF(F1426<>\"\",事業者基本情報!$E$9&事業者基本情報!$F$9&事業者基本情報!$G$9,\"\")","v":""},{"$f":"IF(F1426<>\"\",事業者基本情報!$Y$10,\"\")","v":""},{"$f":"IF(F1426<>\"\",事業者基本情報!$Y$7,\"\")","v":""},{"$f":"IF(F1426<>\"\",事業者基本情報!$Y$8,\"\")","v":""},{"$f":"IF(F1426<>\"\",事業者基本情報!$E$11&事業者基本情報!$F$11&事業者基本情報!$G$11&事業者基本情報!$H$11&事業者基本情報!$I$11,\"\")","v":""},null,null,null,"市",null,null,"-",null,"-",null,{"$f":"IFERROR(VLOOKUP(Q1426,コード表!$B$3:$C$101,2,FALSE),\"\")","v":""},null,{"$f":"IFERROR(VLOOKUP(S1426,コード表!$F$7:$G$141,2,FALSE),\"\")","v":""},null,null,"t",null,null,null,null,null,null,null,null,null,null,null,null,null,null,null,null,null,null,null,null,null,null,null,null,null,null,null,null,null,null,null,null,null,null,null,null,null,null,null,null,null,null,null,null,null,null,null,null,"","",{"$f":"IF(BS1426=\"\",\"\",IF(COUNTIF(BS$4:BS1426,BS1426)=1,ROW(),\"\"))","v":""},{"$f":"IFERROR(INDEX(BS:BS,SMALL(BT:BT,ROW(A1423))),\"\")","v":""},"","","",""]
[{"$f":"IF(F1427<>\"\",事業者基本情報!$E$9&事業者基本情報!$F$9&事業者基本情報!$G$9,\"\")","v":""},{"$f":"IF(F1427<>\"\",事業者基本情報!$Y$10,\"\")","v":""},{"$f":"IF(F1427<>\"\",事業者基本情報!$Y$7,\"\")","v":""},{"$f":"IF(F1427<>\"\",事業者基本情報!$Y$8,\"\")","v":""},{"$f":"IF(F1427<>\"\",事業者基本情報!$E$11&事業者基本情報!$F$11&事業者基本情報!$G$11&事業者基本情報!$H$11&事業者基本情報!$I$11,\"\")","v":""},null,null,null,"市",null,null,"-",null,"-",null,{"$f":"IFERROR(VLOOKUP(Q1427,コード表!$B$3:$C$101,2,FALSE),\"\")","v":""},null,{"$f":"IFERROR(VLOOKUP(S1427,コード表!$F$7:$G$141,2,FALSE),\"\")","v":""},null,null,"t",null,null,null,null,null,null,null,null,null,null,null,null,null,null,null,null,null,null,null,null,null,null,null,null,null,null,null,null,null,null,null,null,null,null,null,null,null,null,null,null,null,null,null,null,null,null,null,null,"","",{"$f":"IF(BS1427=\"\",\"\",IF(COUNTIF(BS$4:BS1427,BS1427)=1,ROW(),\"\"))","v":""},{"$f":"IFERROR(INDEX(BS:BS,SMALL(BT:BT,ROW(A1424))),\"\")","v":""},"","","",""]
[{"$f":"IF(F1431<>\"\",事業者基本情報!$E$9&事業者基本情報!$F$9&事業者基本情報!$G$9,\"\")","v":""},{"$f":"IF(F1431<>\"\",事業者基本情報!$Y$10,\"\")","v":""},{"$f":"IF(F1431<>\"\",事業者基本情報!$Y$7,\"\")","v":""},{"$f":"IF(F1431<>\"\",事業者基本情報!$Y$8,\"\")","v":""},{"$f":"IF(F1431<>\"\",事業者基本情報!$E$11&事業者基本情報!$F$11&事業者基本情報!$G$11&事業者基本情報!$H$11&事業者基本情報!$I$11,\"\")","v":""},null,null,null,"市",null,null,"-",null,"-",null,{"$f":"IFERROR(VLOOKUP(Q1431,コード表!$B$3:$C$101,2,FALSE),\"\")","v":""},null,{"$f":"IFERROR(VLOOKUP(S1431,コード表!$F$7:$G$141,2,FALSE),\"\")","v":""},null,null,"t",null,null,null,null,null,null,null,null,null,null,null,null,null,null,null,null,null,null,null,null,null,null,null,null,null,null,null,null,null,null,null,null,null,null,null,null,null,null,null,null,null,null,null,null,null,null,null,null,"","",{"$f":"IF(BS1431=\"\",\"\",IF(COUNTIF(BS$4:BS1431,BS1431)=1,ROW(),\"\"))","v":""},{"$f":"IFERROR(INDEX(BS:BS,SMALL(BT:BT,ROW(A1428))),\"\")","v":""},"","","",""]
[{"$f":"IF(F1434<>\"\",事業者基本情報!$E$9&事業者基本情報!$F$9&事業者基本情報!$G$9,\"\")","v":""},{"$f":"IF(F1434<>\"\",事業者基本情報!$Y$10,\"\")","v":""},{"$f":"IF(F1434<>\"\",事業者基本情報!$Y$7,\"\")","v":""},{"$f":"IF(F1434<>\"\",事業者基本情報!$Y$8,\"\")","v":""},{"$f":"IF(F1434<>\"\",事業者基本情報!$E$11&事業者基本情報!$F$11&事業者基本情報!$G$11&事業者基本情報!$H$11&事業者基本情報!$I$11,\"\")","v":""},null,null,null,"市",null,null,"-",null,"-",null,{"$f":"IFERROR(VLOOKUP(Q1434,コード表!$B$3:$C$101,2,FALSE),\"\")","v":""},null,{"$f":"IFERROR(VLOOKUP(S1434,コード表!$F$7:$G$141,2,FALSE),\"\")","v":""},null,null,"t",null,null,null,null,null,null,null,null,null,null,null,null,null,null,null,null,null,null,null,null,null,null,null,null,null,null,null,null,null,null,null,null,null,null,null,null,null,null,null,null,null,null,null,null,null,null,null,null,"","",{"$f":"IF(BS1434=\"\",\"\",IF(COUNTIF(BS$4:BS1434,BS1434)=1,ROW(),\"\"))","v":""},{"$f":"IFERROR(INDEX(BS:BS,SMALL(BT:BT,ROW(A1431))),\"\")","v":""},"","","",""]
[{"$f":"IF(F1437<>\"\",事業者基本情報!$E$9&事業者基本情報!$F$9&事業者基本情報!$G$9,\"\")","v":""},{"$f":"IF(F1437<>\"\",事業者基本情報!$Y$10,\"\")","v":""},{"$f":"IF(F1437<>\"\",事業者基本情報!$Y$7,\"\")","v":""},{"$f":"IF(F1437<>\"\",事業者基本情報!$Y$8,\"\")","v":""},{"$f":"IF(F1437<>\"\",事業者基本情報!$E$11&事業者基本情報!$F$11&事業者基本情報!$G$11&事業者基本情報!$H$11&事業者基本情報!$I$11,\"\")","v":""},null,null,null,"市",null,null,"-",null,"-",null,{"$f":"IFERROR(VLOOKUP(Q1437,コード表!$B$3:$C$101,2,FALSE),\"\")","v":""},null,{"$f":"IFERROR(VLOOKUP(S1437,コード表!$F$7:$G$141,2,FALSE),\"\")","v":""},null,null,"t",null,null,null,null,null,null,null,null,null,null,null,null,null,null,null,null,null,null,null,null,null,null,null,null,null,null,null,null,null,null,null,null,null,null,null,null,null,null,null,null,null,null,null,null,null,null,null,null,"","",{"$f":"IF(BS1437=\"\",\"\",IF(COUNTIF(BS$4:BS1437,BS1437)=1,ROW(),\"\"))","v":""},{"$f":"IFERROR(INDEX(BS:BS,SMALL(BT:BT,ROW(A1434))),\"\")","v":""},"","","",""]
[{"$f":"IF(F1440<>\"\",事業者基本情報!$E$9&事業者基本情報!$F$9&事業者基本情報!$G$9,\"\")","v":""},{"$f":"IF(F1440<>\"\",事業者基本情報!$Y$10,\"\")","v":""},{"$f":"IF(F1440<>\"\",事業者基本情報!$Y$7,\"\")","v":""},{"$f":"IF(F1440<>\"\",事業者基本情報!$Y$8,\"\")","v":""},{"$f":"IF(F1440<>\"\",事業者基本情報!$E$11&事業者基本情報!$F$11&事業者基本情報!$G$11&事業者基本情報!$H$11&事業者基本情報!$I$11,\"\")","v":""},null,null,null,"市",null,null,"-",null,"-",null,{"$f":"IFERROR(VLOOKUP(Q1440,コード表!$B$3:$C$101,2,FALSE),\"\")","v":""},null,{"$f":"IFERROR(VLOOKUP(S1440,コード表!$F$7:$G$141,2,FALSE),\"\")","v":""},null,null,"t",null,null,null,null,null,null,null,null,null,null,null,null,null,null,null,null,null,null,null,null,null,null,null,null,null,null,null,null,null,null,null,null,null,null,null,null,null,null,null,null,null,null,null,null,null,null,null,null,"","",{"$f":"IF(BS1440=\"\",\"\",IF(COUNTIF(BS$4:BS1440,BS1440)=1,ROW(),\"\"))","v":""},{"$f":"IFERROR(INDEX(BS:BS,SMALL(BT:BT,ROW(A1437))),\"\")","v":""},"","","",""]
[{"$f":"IF(F1443<>\"\",事業者基本情報!$E$9&事業者基本情報!$F$9&事業者基本情報!$G$9,\"\")","v":""},{"$f":"IF(F1443<>\"\",事業者基本情報!$Y$10,\"\")","v":""},{"$f":"IF(F1443<>\"\",事業者基本情報!$Y$7,\"\")","v":""},{"$f":"IF(F1443<>\"\",事業者基本情報!$Y$8,\"\")","v":""},{"$f":"IF(F1443<>\"\",事業者基本情報!$E$11&事業者基本情報!$F$11&事業者基本情報!$G$11&事業者基本情報!$H$11&事業者基本情報!$I$11,\"\")","v":""},null,null,null,"市",null,null,"-",null,"-",null,{"$f":"IFERROR(VLOOKUP(Q1443,コード表!$B$3:$C$101,2,FALSE),\"\")","v":""},null,{"$f":"IFERROR(VLOOKUP(S1443,コード表!$F$7:$G$141,2,FALSE),\"\")","v":""},null,null,"t",null,null,null,null,null,null,null,null,null,null,null,null,null,null,null,null,null,null,null,null,null,null,null,null,null,null,null,null,null,null,null,null,null,null,null,null,null,null,null,null,null,null,null,null,null,null,null,null,"","",{"$f":"IF(BS1443=\"\",\"\",IF(COUNTIF(BS$4:BS1443,BS1443)=1,ROW(),\"\"))","v":""},{"$f":"IFERROR(INDEX(BS:BS,SMALL(BT:BT,ROW(A1440))),\"\")","v":""},"","","",""]
[{"$f":"IF(F1444<>\"\",事業者基本情報!$E$9&事業者基本情報!$F$9&事業者基本情報!$G$9,\"\")","v":""},{"$f":"IF(F1444<>\"\",事業者基本情報!$Y$10,\"\")","v":""},{"$f":"IF(F1444<>\"\",事業者基本情報!$Y$7,\"\")","v":""},{"$f":"IF(F1444<>\"\",事業者基本情報!$Y$8,\"\")","v":""},{"$f":"IF(F1444<>\"\",事業者基本情報!$E$11&事業者基本情報!$F$11&事業者基本情報!$G$11&事業者基本情報!$H$11&事業者基本情報!$I$11,\"\")","v":""},null,null,null,"市",null,null,"-",null,"-",null,{"$f":"IFERROR(VLOOKUP(Q1444,コード表!$B$3:$C$101,2,FALSE),\"\")","v":""},null,{"$f":"IFERROR(VLOOKUP(S1444,コード表!$F$7:$G$141,2,FALSE),\"\")","v":""},null,null,"t",null,null,null,null,null,null,null,null,null,null,null,null,null,null,null,null,null,null,null,null,null,null,null,null,null,null,null,null,null,null,null,null,null,null,null,null,null,null,null,null,null,null,null,null,null,null,null,null,"","",{"$f":"IF(BS1444=\"\",\"\",IF(COUNTIF(BS$4:BS1444,BS1444)=1,ROW(),\"\"))","v":""},{"$f":"IFERROR(INDEX(BS:BS,SMALL(BT:BT,ROW(A1441))),\"\")","v":""},"","","",""]
[{"$f":"IF(F1448<>\"\",事業者基本情報!$E$9&事業者基本情報!$F$9&事業者基本情報!$G$9,\"\")","v":""},{"$f":"IF(F1448<>\"\",事業者基本情報!$Y$10,\"\")","v":""},{"$f":"IF(F1448<>\"\",事業者基本情報!$Y$7,\"\")","v":""},{"$f":"IF(F1448<>\"\",事業者基本情報!$Y$8,\"\")","v":""},{"$f":"IF(F1448<>\"\",事業者基本情報!$E$11&事業者基本情報!$F$11&事業者基本情報!$G$11&事業者基本情報!$H$11&事業者基本情報!$I$11,\"\")","v":""},null,null,null,"市",null,null,"-",null,"-",null,{"$f":"IFERROR(VLOOKUP(Q1448,コード表!$B$3:$C$101,2,FALSE),\"\")","v":""},null,{"$f":"IFERROR(VLOOKUP(S1448,コード表!$F$7:$G$141,2,FALSE),\"\")","v":""},null,null,"t",null,null,null,null,null,null,null,null,null,null,null,null,null,null,null,null,null,null,null,null,null,null,null,null,null,null,null,null,null,null,null,null,null,null,null,null,null,null,null,null,null,null,null,null,null,null,null,null,"","",{"$f":"IF(BS1448=\"\",\"\",IF(COUNTIF(BS$4:BS1448,BS1448)=1,ROW(),\"\"))","v":""},{"$f":"IFERROR(INDEX(BS:BS,SMALL(BT:BT,ROW(A1445))),\"\")","v":""},"","","",""]
[{"$f":"IF(F1449<>\"\",事業者基本情報!$E$9&事業者基本情報!$F$9&事業者基本情報!$G$9,\"\")","v":""},{"$f":"IF(F1449<>\"\",事業者基本情報!$Y$10,\"\")","v":""},{"$f":"IF(F1449<>\"\",事業者基本情報!$Y$7,\"\")","v":""},{"$f":"IF(F1449<>\"\",事業者基本情報!$Y$8,\"\")","v":""},{"$f":"IF(F1449<>\"\",事業者基本情報!$E$11&事業者基本情報!$F$11&事業者基本情報!$G$11&事業者基本情報!$H$11&事業者基本情報!$I$11,\"\")","v":""},null,null,null,"市",null,null,"-",null,"-",null,{"$f":"IFERROR(VLOOKUP(Q1449,コード表!$B$3:$C$101,2,FALSE),\"\")","v":""},null,{"$f":"IFERROR(VLOOKUP(S1449,コード表!$F$7:$G$141,2,FALSE),\"\")","v":""},null,null,"t",null,null,null,null,null,null,null,null,null,null,null,null,null,null,null,null,null,null,null,null,null,null,null,null,null,null,null,null,null,null,null,null,null,null,null,null,null,null,null,null,null,null,null,null,null,null,null,null,"","",{"$f":"IF(BS1449=\"\",\"\",IF(COUNTIF(BS$4:BS1449,BS1449)=1,ROW(),\"\"))","v":""},{"$f":"IFERROR(INDEX(BS:BS,SMALL(BT:BT,ROW(A1446))),\"\")","v":""},"","","",""]
[{"$f":"IF(F1453<>\"\",事業者基本情報!$E$9&事業者基本情報!$F$9&事業者基本情報!$G$9,\"\")","v":""},{"$f":"IF(F1453<>\"\",事業者基本情報!$Y$10,\"\")","v":""},{"$f":"IF(F1453<>\"\",事業者基本情報!$Y$7,\"\")","v":""},{"$f":"IF(F1453<>\"\",事業者基本情報!$Y$8,\"\")","v":""},{"$f":"IF(F1453<>\"\",事業者基本情報!$E$11&事業者基本情報!$F$11&事業者基本情報!$G$11&事業者基本情報!$H$11&事業者基本情報!$I$11,\"\")","v":""},null,null,null,"市",null,null,"-",null,"-",null,{"$f":"IFERROR(VLOOKUP(Q1453,コード表!$B$3:$C$101,2,FALSE),\"\")","v":""},null,{"$f":"IFERROR(VLOOKUP(S1453,コード表!$F$7:$G$141,2,FALSE),\"\")","v":""},null,null,"t",null,null,null,null,null,null,null,null,null,null,null,null,null,null,null,null,null,null,null,null,null,null,null,null,null,null,null,null,null,null,null,null,null,null,null,null,null,null,null,null,null,null,null,null,null,null,null,null,"","",{"$f":"IF(BS1453=\"\",\"\",IF(COUNTIF(BS$4:BS1453,BS1453)=1,ROW(),\"\"))","v":""},{"$f":"IFERROR(INDEX(BS:BS,SMALL(BT:BT,ROW(A1450))),\"\")","v":""},"","","",""]
[{"$f":"IF(F1456<>\"\",事業者基本情報!$E$9&事業者基本情報!$F$9&事業者基本情報!$G$9,\"\")","v":""},{"$f":"IF(F1456<>\"\",事業者基本情報!$Y$10,\"\")","v":""},{"$f":"IF(F1456<>\"\",事業者基本情報!$Y$7,\"\")","v":""},{"$f":"IF(F1456<>\"\",事業者基本情報!$Y$8,\"\")","v":""},{"$f":"IF(F1456<>\"\",事業者基本情報!$E$11&事業者基本情報!$F$11&事業者基本情報!$G$11&事業者基本情報!$H$11&事業者基本情報!$I$11,\"\")","v":""},null,null,null,"市",null,null,"-",null,"-",null,{"$f":"IFERROR(VLOOKUP(Q1456,コード表!$B$3:$C$101,2,FALSE),\"\")","v":""},null,{"$f":"IFERROR(VLOOKUP(S1456,コード表!$F$7:$G$141,2,FALSE),\"\")","v":""},null,null,"t",null,null,null,null,null,null,null,null,null,null,null,null,null,null,null,null,null,null,null,null,null,null,null,null,null,null,null,null,null,null,null,null,null,null,null,null,null,null,null,null,null,null,null,null,null,null,null,null,"","",{"$f":"IF(BS1456=\"\",\"\",IF(COUNTIF(BS$4:BS1456,BS1456)=1,ROW(),\"\"))","v":""},{"$f":"IFERROR(INDEX(BS:BS,SMALL(BT:BT,ROW(A1453))),\"\")","v":""},"","","",""]
[{"$f":"IF(F1459<>\"\",事業者基本情報!$E$9&事業者基本情報!$F$9&事業者基本情報!$G$9,\"\")","v":""},{"$f":"IF(F1459<>\"\",事業者基本情報!$Y$10,\"\")","v":""},{"$f":"IF(F1459<>\"\",事業者基本情報!$Y$7,\"\")","v":""},{"$f":"IF(F1459<>\"\",事業者基本情報!$Y$8,\"\")","v":""},{"$f":"IF(F1459<>\"\",事業者基本情報!$E$11&事業者基本情報!$F$11&事業者基本情報!$G$11&事業者基本情報!$H$11&事業者基本情報!$I$11,\"\")","v":""},null,null,null,"市",null,null,"-",null,"-",null,{"$f":"IFERROR(VLOOKUP(Q1459,コード表!$B$3:$C$101,2,FALSE),\"\")","v":""},null,{"$f":"IFERROR(VLOOKUP(S1459,コード表!$F$7:$G$141,2,FALSE),\"\")","v":""},null,null,"t",null,null,null,null,null,null,null,null,null,null,null,null,null,null,null,null,null,null,null,null,null,null,null,null,null,null,null,null,null,null,null,null,null,null,null,null,null,null,null,null,null,null,null,null,null,null,null,null,"","",{"$f":"IF(BS1459=\"\",\"\",IF(COUNTIF(BS$4:BS1459,BS1459)=1,ROW(),\"\"))","v":""},{"$f":"IFERROR(INDEX(BS:BS,SMALL(BT:BT,ROW(A1456))),\"\")","v":""},"","","",""]
[{"$f":"IF(F1462<>\"\",事業者基本情報!$E$9&事業者基本情報!$F$9&事業者基本情報!$G$9,\"\")","v":""},{"$f":"IF(F1462<>\"\",事業者基本情報!$Y$10,\"\")","v":""},{"$f":"IF(F1462<>\"\",事業者基本情報!$Y$7,\"\")","v":""},{"$f":"IF(F1462<>\"\",事業者基本情報!$Y$8,\"\")","v":""},{"$f":"IF(F1462<>\"\",事業者基本情報!$E$11&事業者基本情報!$F$11&事業者基本情報!$G$11&事業者基本情報!$H$11&事業者基本情報!$I$11,\"\")","v":""},null,null,null,"市",null,null,"-",null,"-",null,{"$f":"IFERROR(VLOOKUP(Q1462,コード表!$B$3:$C$101,2,FALSE),\"\")","v":""},null,{"$f":"IFERROR(VLOOKUP(S1462,コード表!$F$7:$G$141,2,FALSE),\"\")","v":""},null,null,"t",null,null,null,null,null,null,null,null,null,null,null,null,null,null,null,null,null,null,null,null,null,null,null,null,null,null,null,null,null,null,null,null,null,null,null,null,null,null,null,null,null,null,null,null,null,null,null,null,"","",{"$f":"IF(BS1462=\"\",\"\",IF(COUNTIF(BS$4:BS1462,BS1462)=1,ROW(),\"\"))","v":""},{"$f":"IFERROR(INDEX(BS:BS,SMALL(BT:BT,ROW(A1459))),\"\")","v":""},"","","",""]
[{"$f":"IF(F1465<>\"\",事業者基本情報!$E$9&事業者基本情報!$F$9&事業者基本情報!$G$9,\"\")","v":""},{"$f":"IF(F1465<>\"\",事業者基本情報!$Y$10,\"\")","v":""},{"$f":"IF(F1465<>\"\",事業者基本情報!$Y$7,\"\")","v":""},{"$f":"IF(F1465<>\"\",事業者基本情報!$Y$8,\"\")","v":""},{"$f":"IF(F1465<>\"\",事業者基本情報!$E$11&事業者基本情報!$F$11&事業者基本情報!$G$11&事業者基本情報!$H$11&事業者基本情報!$I$11,\"\")","v":""},null,null,null,"市",null,null,"-",null,"-",null,{"$f":"IFERROR(VLOOKUP(Q1465,コード表!$B$3:$C$101,2,FALSE),\"\")","v":""},null,{"$f":"IFERROR(VLOOKUP(S1465,コード表!$F$7:$G$141,2,FALSE),\"\")","v":""},null,null,"t",null,null,null,null,null,null,null,null,null,null,null,null,null,null,null,null,null,null,null,null,null,null,null,null,null,null,null,null,null,null,null,null,null,null,null,null,null,null,null,null,null,null,null,null,null,null,null,null,"","",{"$f":"IF(BS1465=\"\",\"\",IF(COUNTIF(BS$4:BS1465,BS1465)=1,ROW(),\"\"))","v":""},{"$f":"IFERROR(INDEX(BS:BS,SMALL(BT:BT,ROW(A1462))),\"\")","v":""},"","","",""]
[{"$f":"IF(F1466<>\"\",事業者基本情報!$E$9&事業者基本情報!$F$9&事業者基本情報!$G$9,\"\")","v":""},{"$f":"IF(F1466<>\"\",事業者基本情報!$Y$10,\"\")","v":""},{"$f":"IF(F1466<>\"\",事業者基本情報!$Y$7,\"\")","v":""},{"$f":"IF(F1466<>\"\",事業者基本情報!$Y$8,\"\")","v":""},{"$f":"IF(F1466<>\"\",事業者基本情報!$E$11&事業者基本情報!$F$11&事業者基本情報!$G$11&事業者基本情報!$H$11&事業者基本情報!$I$11,\"\")","v":""},null,null,null,"市",null,null,"-",null,"-",null,{"$f":"IFERROR(VLOOKUP(Q1466,コード表!$B$3:$C$101,2,FALSE),\"\")","v":""},null,{"$f":"IFERROR(VLOOKUP(S1466,コード表!$F$7:$G$141,2,FALSE),\"\")","v":""},null,null,"t",null,null,null,null,null,null,null,null,null,null,null,null,null,null,null,null,null,null,null,null,null,null,null,null,null,null,null,null,null,null,null,null,null,null,null,null,null,null,null,null,null,null,null,null,null,null,null,null,"","",{"$f":"IF(BS1466=\"\",\"\",IF(COUNTIF(BS$4:BS1466,BS1466)=1,ROW(),\"\"))","v":""},{"$f":"IFERROR(INDEX(BS:BS,SMALL(BT:BT,ROW(A1463))),\"\")","v":""},"","","",""]
[{"$f":"IF(F1470<>\"\",事業者基本情報!$E$9&事業者基本情報!$F$9&事業者基本情報!$G$9,\"\")","v":""},{"$f":"IF(F1470<>\"\",事業者基本情報!$Y$10,\"\")","v":""},{"$f":"IF(F1470<>\"\",事業者基本情報!$Y$7,\"\")","v":""},{"$f":"IF(F1470<>\"\",事業者基本情報!$Y$8,\"\")","v":""},{"$f":"IF(F1470<>\"\",事業者基本情報!$E$11&事業者基本情報!$F$11&事業者基本情報!$G$11&事業者基本情報!$H$11&事業者基本情報!$I$11,\"\")","v":""},null,null,null,"市",null,null,"-",null,"-",null,{"$f":"IFERROR(VLOOKUP(Q1470,コード表!$B$3:$C$101,2,FALSE),\"\")","v":""},null,{"$f":"IFERROR(VLOOKUP(S1470,コード表!$F$7:$G$141,2,FALSE),\"\")","v":""},null,null,"t",null,null,null,null,null,null,null,null,null,null,null,null,null,null,null,null,null,null,null,null,null,null,null,null,null,null,null,null,null,null,null,null,null,null,null,null,null,null,null,null,null,null,null,null,null,null,null,null,"","",{"$f":"IF(BS1470=\"\",\"\",IF(COUNTIF(BS$4:BS1470,BS1470)=1,ROW(),\"\"))","v":""},{"$f":"IFERROR(INDEX(BS:BS,SMALL(BT:BT,ROW(A1467))),\"\")","v":""},"","","",""]
[{"$f":"IF(F1471<>\"\",事業者基本情報!$E$9&事業者基本情報!$F$9&事業者基本情報!$G$9,\"\")","v":""},{"$f":"IF(F1471<>\"\",事業者基本情報!$Y$10,\"\")","v":""},{"$f":"IF(F1471<>\"\",事業者基本情報!$Y$7,\"\")","v":""},{"$f":"IF(F1471<>\"\",事業者基本情報!$Y$8,\"\")","v":""},{"$f":"IF(F1471<>\"\",事業者基本情報!$E$11&事業者基本情報!$F$11&事業者基本情報!$G$11&事業者基本情報!$H$11&事業者基本情報!$I$11,\"\")","v":""},null,null,null,"市",null,null,"-",null,"-",null,{"$f":"IFERROR(VLOOKUP(Q1471,コード表!$B$3:$C$101,2,FALSE),\"\")","v":""},null,{"$f":"IFERROR(VLOOKUP(S1471,コード表!$F$7:$G$141,2,FALSE),\"\")","v":""},null,null,"t",null,null,null,null,null,null,null,null,null,null,null,null,null,null,null,null,null,null,null,null,null,null,null,null,null,null,null,null,null,null,null,null,null,null,null,null,null,null,null,null,null,null,null,null,null,null,null,null,"","",{"$f":"IF(BS1471=\"\",\"\",IF(COUNTIF(BS$4:BS1471,BS1471)=1,ROW(),\"\"))","v":""},{"$f":"IFERROR(INDEX(BS:BS,SMALL(BT:BT,ROW(A1468))),\"\")","v":""},"","","",""]
[{"$f":"IF(F1475<>\"\",事業者基本情報!$E$9&事業者基本情報!$F$9&事業者基本情報!$G$9,\"\")","v":""},{"$f":"IF(F1475<>\"\",事業者基本情報!$Y$10,\"\")","v":""},{"$f":"IF(F1475<>\"\",事業者基本情報!$Y$7,\"\")","v":""},{"$f":"IF(F1475<>\"\",事業者基本情報!$Y$8,\"\")","v":""},{"$f":"IF(F1475<>\"\",事業者基本情報!$E$11&事業者基本情報!$F$11&事業者基本情報!$G$11&事業者基本情報!$H$11&事業者基本情報!$I$11,\"\")","v":""},null,null,null,"市",null,null,"-",null,"-",null,{"$f":"IFERROR(VLOOKUP(Q1475,コード表!$B$3:$C$101,2,FALSE),\"\")","v":""},null,{"$f":"IFERROR(VLOOKUP(S1475,コード表!$F$7:$G$141,2,FALSE),\"\")","v":""},null,null,"t",null,null,null,null,null,null,null,null,null,null,null,null,null,null,null,null,null,null,null,null,null,null,null,null,null,null,null,null,null,null,null,null,null,null,null,null,null,null,null,null,null,null,null,null,null,null,null,null,"","",{"$f":"IF(BS1475=\"\",\"\",IF(COUNTIF(BS$4:BS1475,BS1475)=1,ROW(),\"\"))","v":""},{"$f":"IFERROR(INDEX(BS:BS,SMALL(BT:BT,ROW(A1472))),\"\")","v":""},"","","",""]
[{"$f":"IF(F1478<>\"\",事業者基本情報!$E$9&事業者基本情報!$F$9&事業者基本情報!$G$9,\"\")","v":""},{"$f":"IF(F1478<>\"\",事業者基本情報!$Y$10,\"\")","v":""},{"$f":"IF(F1478<>\"\",事業者基本情報!$Y$7,\"\")","v":""},{"$f":"IF(F1478<>\"\",事業者基本情報!$Y$8,\"\")","v":""},{"$f":"IF(F1478<>\"\",事業者基本情報!$E$11&事業者基本情報!$F$11&事業者基本情報!$G$11&事業者基本情報!$H$11&事業者基本情報!$I$11,\"\")","v":""},null,null,null,"市",null,null,"-",null,"-",null,{"$f":"IFERROR(VLOOKUP(Q1478,コード表!$B$3:$C$101,2,FALSE),\"\")","v":""},null,{"$f":"IFERROR(VLOOKUP(S1478,コード表!$F$7:$G$141,2,FALSE),\"\")","v":""},null,null,"t",null,null,null,null,null,null,null,null,null,null,null,null,null,null,null,null,null,null,null,null,null,null,null,null,null,null,null,null,null,null,null,null,null,null,null,null,null,null,null,null,null,null,null,null,null,null,null,null,"","",{"$f":"IF(BS1478=\"\",\"\",IF(COUNTIF(BS$4:BS1478,BS1478)=1,ROW(),\"\"))","v":""},{"$f":"IFERROR(INDEX(BS:BS,SMALL(BT:BT,ROW(A1475))),\"\")","v":""},"","","",""]
[{"$f":"IF(F1481<>\"\",事業者基本情報!$E$9&事業者基本情報!$F$9&事業者基本情報!$G$9,\"\")","v":""},{"$f":"IF(F1481<>\"\",事業者基本情報!$Y$10,\"\")","v":""},{"$f":"IF(F1481<>\"\",事業者基本情報!$Y$7,\"\")","v":""},{"$f":"IF(F1481<>\"\",事業者基本情報!$Y$8,\"\")","v":""},{"$f":"IF(F1481<>\"\",事業者基本情報!$E$11&事業者基本情報!$F$11&事業者基本情報!$G$11&事業者基本情報!$H$11&事業者基本情報!$I$11,\"\")","v":""},null,null,null,"市",null,null,"-",null,"-",null,{"$f":"IFERROR(VLOOKUP(Q1481,コード表!$B$3:$C$101,2,FALSE),\"\")","v":""},null,{"$f":"IFERROR(VLOOKUP(S1481,コード表!$F$7:$G$141,2,FALSE),\"\")","v":""},null,null,"t",null,null,null,null,null,null,null,null,null,null,null,null,null,null,null,null,null,null,null,null,null,null,null,null,null,null,null,null,null,null,null,null,null,null,null,null,null,null,null,null,null,null,null,null,null,null,null,null,"","",{"$f":"IF(BS1481=\"\",\"\",IF(COUNTIF(BS$4:BS1481,BS1481)=1,ROW(),\"\"))","v":""},{"$f":"IFERROR(INDEX(BS:BS,SMALL(BT:BT,ROW(A1478))),\"\")","v":""},"","","",""]
[{"$f":"IF(F1484<>\"\",事業者基本情報!$E$9&事業者基本情報!$F$9&事業者基本情報!$G$9,\"\")","v":""},{"$f":"IF(F1484<>\"\",事業者基本情報!$Y$10,\"\")","v":""},{"$f":"IF(F1484<>\"\",事業者基本情報!$Y$7,\"\")","v":""},{"$f":"IF(F1484<>\"\",事業者基本情報!$Y$8,\"\")","v":""},{"$f":"IF(F1484<>\"\",事業者基本情報!$E$11&事業者基本情報!$F$11&事業者基本情報!$G$11&事業者基本情報!$H$11&事業者基本情報!$I$11,\"\")","v":""},null,null,null,"市",null,null,"-",null,"-",null,{"$f":"IFERROR(VLOOKUP(Q1484,コード表!$B$3:$C$101,2,FALSE),\"\")","v":""},null,{"$f":"IFERROR(VLOOKUP(S1484,コード表!$F$7:$G$141,2,FALSE),\"\")","v":""},null,null,"t",null,null,null,null,null,null,null,null,null,null,null,null,null,null,null,null,null,null,null,null,null,null,null,null,null,null,null,null,null,null,null,null,null,null,null,null,null,null,null,null,null,null,null,null,null,null,null,null,"","",{"$f":"IF(BS1484=\"\",\"\",IF(COUNTIF(BS$4:BS1484,BS1484)=1,ROW(),\"\"))","v":""},{"$f":"IFERROR(INDEX(BS:BS,SMALL(BT:BT,ROW(A1481))),\"\")","v":""},"","","",""]
[{"$f":"IF(F1487<>\"\",事業者基本情報!$E$9&事業者基本情報!$F$9&事業者基本情報!$G$9,\"\")","v":""},{"$f":"IF(F1487<>\"\",事業者基本情報!$Y$10,\"\")","v":""},{"$f":"IF(F1487<>\"\",事業者基本情報!$Y$7,\"\")","v":""},{"$f":"IF(F1487<>\"\",事業者基本情報!$Y$8,\"\")","v":""},{"$f":"IF(F1487<>\"\",事業者基本情報!$E$11&事業者基本情報!$F$11&事業者基本情報!$G$11&事業者基本情報!$H$11&事業者基本情報!$I$11,\"\")","v":""},null,null,null,"市",null,null,"-",null,"-",null,{"$f":"IFERROR(VLOOKUP(Q1487,コード表!$B$3:$C$101,2,FALSE),\"\")","v":""},null,{"$f":"IFERROR(VLOOKUP(S1487,コード表!$F$7:$G$141,2,FALSE),\"\")","v":""},null,null,"t",null,null,null,null,null,null,null,null,null,null,null,null,null,null,null,null,null,null,null,null,null,null,null,null,null,null,null,null,null,null,null,null,null,null,null,null,null,null,null,null,null,null,null,null,null,null,null,null,"","",{"$f":"IF(BS1487=\"\",\"\",IF(COUNTIF(BS$4:BS1487,BS1487)=1,ROW(),\"\"))","v":""},{"$f":"IFERROR(INDEX(BS:BS,SMALL(BT:BT,ROW(A1484))),\"\")","v":""},"","","",""]
[{"$f":"IF(F1488<>\"\",事業者基本情報!$E$9&事業者基本情報!$F$9&事業者基本情報!$G$9,\"\")","v":""},{"$f":"IF(F1488<>\"\",事業者基本情報!$Y$10,\"\")","v":""},{"$f":"IF(F1488<>\"\",事業者基本情報!$Y$7,\"\")","v":""},{"$f":"IF(F1488<>\"\",事業者基本情報!$Y$8,\"\")","v":""},{"$f":"IF(F1488<>\"\",事業者基本情報!$E$11&事業者基本情報!$F$11&事業者基本情報!$G$11&事業者基本情報!$H$11&事業者基本情報!$I$11,\"\")","v":""},null,null,null,"市",null,null,"-",null,"-",null,{"$f":"IFERROR(VLOOKUP(Q1488,コード表!$B$3:$C$101,2,FALSE),\"\")","v":""},null,{"$f":"IFERROR(VLOOKUP(S1488,コード表!$F$7:$G$141,2,FALSE),\"\")","v":""},null,null,"t",null,null,null,null,null,null,null,null,null,null,null,null,null,null,null,null,null,null,null,null,null,null,null,null,null,null,null,null,null,null,null,null,null,null,null,null,null,null,null,null,null,null,null,null,null,null,null,null,"","",{"$f":"IF(BS1488=\"\",\"\",IF(COUNTIF(BS$4:BS1488,BS1488)=1,ROW(),\"\"))","v":""},{"$f":"IFERROR(INDEX(BS:BS,SMALL(BT:BT,ROW(A1485))),\"\")","v":""},"","","",""]
[{"$f":"IF(F1492<>\"\",事業者基本情報!$E$9&事業者基本情報!$F$9&事業者基本情報!$G$9,\"\")","v":""},{"$f":"IF(F1492<>\"\",事業者基本情報!$Y$10,\"\")","v":""},{"$f":"IF(F1492<>\"\",事業者基本情報!$Y$7,\"\")","v":""},{"$f":"IF(F1492<>\"\",事業者基本情報!$Y$8,\"\")","v":""},{"$f":"IF(F1492<>\"\",事業者基本情報!$E$11&事業者基本情報!$F$11&事業者基本情報!$G$11&事業者基本情報!$H$11&事業者基本情報!$I$11,\"\")","v":""},null,null,null,"市",null,null,"-",null,"-",null,{"$f":"IFERROR(VLOOKUP(Q1492,コード表!$B$3:$C$101,2,FALSE),\"\")","v":""},null,{"$f":"IFERROR(VLOOKUP(S1492,コード表!$F$7:$G$141,2,FALSE),\"\")","v":""},null,null,"t",null,null,null,null,null,null,null,null,null,null,null,null,null,null,null,null,null,null,null,null,null,null,null,null,null,null,null,null,null,null,null,null,null,null,null,null,null,null,null,null,null,null,null,null,null,null,null,null,"","",{"$f":"IF(BS1492=\"\",\"\",IF(COUNTIF(BS$4:BS1492,BS1492)=1,ROW(),\"\"))","v":""},{"$f":"IFERROR(INDEX(BS:BS,SMALL(BT:BT,ROW(A1489))),\"\")","v":""},"","","",""]
[{"$f":"IF(F1493<>\"\",事業者基本情報!$E$9&事業者基本情報!$F$9&事業者基本情報!$G$9,\"\")","v":""},{"$f":"IF(F1493<>\"\",事業者基本情報!$Y$10,\"\")","v":""},{"$f":"IF(F1493<>\"\",事業者基本情報!$Y$7,\"\")","v":""},{"$f":"IF(F1493<>\"\",事業者基本情報!$Y$8,\"\")","v":""},{"$f":"IF(F1493<>\"\",事業者基本情報!$E$11&事業者基本情報!$F$11&事業者基本情報!$G$11&事業者基本情報!$H$11&事業者基本情報!$I$11,\"\")","v":""},null,null,null,"市",null,null,"-",null,"-",null,{"$f":"IFERROR(VLOOKUP(Q1493,コード表!$B$3:$C$101,2,FALSE),\"\")","v":""},null,{"$f":"IFERROR(VLOOKUP(S1493,コード表!$F$7:$G$141,2,FALSE),\"\")","v":""},null,null,"t",null,null,null,null,null,null,null,null,null,null,null,null,null,null,null,null,null,null,null,null,null,null,null,null,null,null,null,null,null,null,null,null,null,null,null,null,null,null,null,null,null,null,null,null,null,null,null,null,"","",{"$f":"IF(BS1493=\"\",\"\",IF(COUNTIF(BS$4:BS1493,BS1493)=1,ROW(),\"\"))","v":""},{"$f":"IFERROR(INDEX(BS:BS,SMALL(BT:BT,ROW(A1490))),\"\")","v":""},"","","",""]
[{"$f":"IF(F1497<>\"\",事業者基本情報!$E$9&事業者基本情報!$F$9&事業者基本情報!$G$9,\"\")","v":""},{"$f":"IF(F1497<>\"\",事業者基本情報!$Y$10,\"\")","v":""},{"$f":"IF(F1497<>\"\",事業者基本情報!$Y$7,\"\")","v":""},{"$f":"IF(F1497<>\"\",事業者基本情報!$Y$8,\"\")","v":""},{"$f":"IF(F1497<>\"\",事業者基本情報!$E$11&事業者基本情報!$F$11&事業者基本情報!$G$11&事業者基本情報!$H$11&事業者基本情報!$I$11,\"\")","v":""},null,null,null,"市",null,null,"-",null,"-",null,{"$f":"IFERROR(VLOOKUP(Q1497,コード表!$B$3:$C$101,2,FALSE),\"\")","v":""},null,{"$f":"IFERROR(VLOOKUP(S1497,コード表!$F$7:$G$141,2,FALSE),\"\")","v":""},null,null,"t",null,null,null,null,null,null,null,null,null,null,null,null,null,null,null,null,null,null,null,null,null,null,null,null,null,null,null,null,null,null,null,null,null,null,null,null,null,null,null,null,null,null,null,null,null,null,null,null,"","",{"$f":"IF(BS1497=\"\",\"\",IF(COUNTIF(BS$4:BS1497,BS1497)=1,ROW(),\"\"))","v":""},{"$f":"IFERROR(INDEX(BS:BS,SMALL(BT:BT,ROW(A1494))),\"\")","v":""},"","","",""]
[{"$f":"IF(F1500<>\"\",事業者基本情報!$E$9&事業者基本情報!$F$9&事業者基本情報!$G$9,\"\")","v":""},{"$f":"IF(F1500<>\"\",事業者基本情報!$Y$10,\"\")","v":""},{"$f":"IF(F1500<>\"\",事業者基本情報!$Y$7,\"\")","v":""},{"$f":"IF(F1500<>\"\",事業者基本情報!$Y$8,\"\")","v":""},{"$f":"IF(F1500<>\"\",事業者基本情報!$E$11&事業者基本情報!$F$11&事業者基本情報!$G$11&事業者基本情報!$H$11&事業者基本情報!$I$11,\"\")","v":""},null,null,null,"市",null,null,"-",null,"-",null,{"$f":"IFERROR(VLOOKUP(Q1500,コード表!$B$3:$C$101,2,FALSE),\"\")","v":""},null,{"$f":"IFERROR(VLOOKUP(S1500,コード表!$F$7:$G$141,2,FALSE),\"\")","v":""},null,null,"t",null,null,null,null,null,null,null,null,null,null,null,null,null,null,null,null,null,null,null,null,null,null,null,null,null,null,null,null,null,null,null,null,null,null,null,null,null,null,null,null,null,null,null,null,null,null,null,null,"","",{"$f":"IF(BS1500=\"\",\"\",IF(COUNTIF(BS$4:BS1500,BS1500)=1,ROW(),\"\"))","v":""},{"$f":"IFERROR(INDEX(BS:BS,SMALL(BT:BT,ROW(A1497))),\"\")","v":""},"","","",""]
[{"$f":"IF(F1503<>\"\",事業者基本情報!$E$9&事業者基本情報!$F$9&事業者基本情報!$G$9,\"\")","v":""},{"$f":"IF(F1503<>\"\",事業者基本情報!$Y$10,\"\")","v":""},{"$f":"IF(F1503<>\"\",事業者基本情報!$Y$7,\"\")","v":""},{"$f":"IF(F1503<>\"\",事業者基本情報!$Y$8,\"\")","v":""},{"$f":"IF(F1503<>\"\",事業者基本情報!$E$11&事業者基本情報!$F$11&事業者基本情報!$G$11&事業者基本情報!$H$11&事業者基本情報!$I$11,\"\")","v":""},null,null,null,"市",null,null,"-",null,"-",null,{"$f":"IFERROR(VLOOKUP(Q1503,コード表!$B$3:$C$101,2,FALSE),\"\")","v":""},null,{"$f":"IFERROR(VLOOKUP(S1503,コード表!$F$7:$G$141,2,FALSE),\"\")","v":""},null,null,"t",null,null,null,null,null,null,null,null,null,null,null,null,null,null,null,null,null,null,null,null,null,null,null,null,null,null,null,null,null,null,null,null,null,null,null,null,null,null,null,null,null,null,null,null,null,null,null,null,"","",{"$f":"IF(BS1503=\"\",\"\",IF(COUNTIF(BS$4:BS1503,BS1503)=1,ROW(),\"\"))","v":""},{"$f":"IFERROR(INDEX(BS:BS,SMALL(BT:BT,ROW(A1500))),\"\")","v":""},"","","",""]
[{"$f":"IF(F1506<>\"\",事業者基本情報!$E$9&事業者基本情報!$F$9&事業者基本情報!$G$9,\"\")","v":""},{"$f":"IF(F1506<>\"\",事業者基本情報!$Y$10,\"\")","v":""},{"$f":"IF(F1506<>\"\",事業者基本情報!$Y$7,\"\")","v":""},{"$f":"IF(F1506<>\"\",事業者基本情報!$Y$8,\"\")","v":""},{"$f":"IF(F1506<>\"\",事業者基本情報!$E$11&事業者基本情報!$F$11&事業者基本情報!$G$11&事業者基本情報!$H$11&事業者基本情報!$I$11,\"\")","v":""},null,null,null,"市",null,null,"-",null,"-",null,{"$f":"IFERROR(VLOOKUP(Q1506,コード表!$B$3:$C$101,2,FALSE),\"\")","v":""},null,{"$f":"IFERROR(VLOOKUP(S1506,コード表!$F$7:$G$141,2,FALSE),\"\")","v":""},null,null,"t",null,null,null,null,null,null,null,null,null,null,null,null,null,null,null,null,null,null,null,null,null,null,null,null,null,null,null,null,null,null,null,null,null,null,null,null,null,null,null,null,null,null,null,null,null,null,null,null,"","",{"$f":"IF(BS1506=\"\",\"\",IF(COUNTIF(BS$4:BS1506,BS1506)=1,ROW(),\"\"))","v":""},{"$f":"IFERROR(INDEX(BS:BS,SMALL(BT:BT,ROW(A1503))),\"\")","v":""},"","","",""]
[{"$f":"IF(F1509<>\"\",事業者基本情報!$E$9&事業者基本情報!$F$9&事業者基本情報!$G$9,\"\")","v":""},{"$f":"IF(F1509<>\"\",事業者基本情報!$Y$10,\"\")","v":""},{"$f":"IF(F1509<>\"\",事業者基本情報!$Y$7,\"\")","v":""},{"$f":"IF(F1509<>\"\",事業者基本情報!$Y$8,\"\")","v":""},{"$f":"IF(F1509<>\"\",事業者基本情報!$E$11&事業者基本情報!$F$11&事業者基本情報!$G$11&事業者基本情報!$H$11&事業者基本情報!$I$11,\"\")","v":""},null,null,null,"市",null,null,"-",null,"-",null,{"$f":"IFERROR(VLOOKUP(Q1509,コード表!$B$3:$C$101,2,FALSE),\"\")","v":""},null,{"$f":"IFERROR(VLOOKUP(S1509,コード表!$F$7:$G$141,2,FALSE),\"\")","v":""},null,null,"t",null,null,null,null,null,null,null,null,null,null,null,null,null,null,null,null,null,null,null,null,null,null,null,null,null,null,null,null,null,null,null,null,null,null,null,null,null,null,null,null,null,null,null,null,null,null,null,null,"","",{"$f":"IF(BS1509=\"\",\"\",IF(COUNTIF(BS$4:BS1509,BS1509)=1,ROW(),\"\"))","v":""},{"$f":"IFERROR(INDEX(BS:BS,SMALL(BT:BT,ROW(A1506))),\"\")","v":""},"","","",""]
[{"$f":"IF(F1510<>\"\",事業者基本情報!$E$9&事業者基本情報!$F$9&事業者基本情報!$G$9,\"\")","v":""},{"$f":"IF(F1510<>\"\",事業者基本情報!$Y$10,\"\")","v":""},{"$f":"IF(F1510<>\"\",事業者基本情報!$Y$7,\"\")","v":""},{"$f":"IF(F1510<>\"\",事業者基本情報!$Y$8,\"\")","v":""},{"$f":"IF(F1510<>\"\",事業者基本情報!$E$11&事業者基本情報!$F$11&事業者基本情報!$G$11&事業者基本情報!$H$11&事業者基本情報!$I$11,\"\")","v":""},null,null,null,"市",null,null,"-",null,"-",null,{"$f":"IFERROR(VLOOKUP(Q1510,コード表!$B$3:$C$101,2,FALSE),\"\")","v":""},null,{"$f":"IFERROR(VLOOKUP(S1510,コード表!$F$7:$G$141,2,FALSE),\"\")","v":""},null,null,"t",null,null,null,null,null,null,null,null,null,null,null,null,null,null,null,null,null,null,null,null,null,null,null,null,null,null,null,null,null,null,null,null,null,null,null,null,null,null,null,null,null,null,null,null,null,null,null,null,"","",{"$f":"IF(BS1510=\"\",\"\",IF(COUNTIF(BS$4:BS1510,BS1510)=1,ROW(),\"\"))","v":""},{"$f":"IFERROR(INDEX(BS:BS,SMALL(BT:BT,ROW(A1507))),\"\")","v":""},"","","",""]
[{"$f":"IF(F1514<>\"\",事業者基本情報!$E$9&事業者基本情報!$F$9&事業者基本情報!$G$9,\"\")","v":""},{"$f":"IF(F1514<>\"\",事業者基本情報!$Y$10,\"\")","v":""},{"$f":"IF(F1514<>\"\",事業者基本情報!$Y$7,\"\")","v":""},{"$f":"IF(F1514<>\"\",事業者基本情報!$Y$8,\"\")","v":""},{"$f":"IF(F1514<>\"\",事業者基本情報!$E$11&事業者基本情報!$F$11&事業者基本情報!$G$11&事業者基本情報!$H$11&事業者基本情報!$I$11,\"\")","v":""},null,null,null,"市",null,null,"-",null,"-",null,{"$f":"IFERROR(VLOOKUP(Q1514,コード表!$B$3:$C$101,2,FALSE),\"\")","v":""},null,{"$f":"IFERROR(VLOOKUP(S1514,コード表!$F$7:$G$141,2,FALSE),\"\")","v":""},null,null,"t",null,null,null,null,null,null,null,null,null,null,null,null,null,null,null,null,null,null,null,null,null,null,null,null,null,null,null,null,null,null,null,null,null,null,null,null,null,null,null,null,null,null,null,null,null,null,null,null,"","",{"$f":"IF(BS1514=\"\",\"\",IF(COUNTIF(BS$4:BS1514,BS1514)=1,ROW(),\"\"))","v":""},{"$f":"IFERROR(INDEX(BS:BS,SMALL(BT:BT,ROW(A1511))),\"\")","v":""},"","","",""]
[{"$f":"IF(F1515<>\"\",事業者基本情報!$E$9&事業者基本情報!$F$9&事業者基本情報!$G$9,\"\")","v":""},{"$f":"IF(F1515<>\"\",事業者基本情報!$Y$10,\"\")","v":""},{"$f":"IF(F1515<>\"\",事業者基本情報!$Y$7,\"\")","v":""},{"$f":"IF(F1515<>\"\",事業者基本情報!$Y$8,\"\")","v":""},{"$f":"IF(F1515<>\"\",事業者基本情報!$E$11&事業者基本情報!$F$11&事業者基本情報!$G$11&事業者基本情報!$H$11&事業者基本情報!$I$11,\"\")","v":""},null,null,null,"市",null,null,"-",null,"-",null,{"$f":"IFERROR(VLOOKUP(Q1515,コード表!$B$3:$C$101,2,FALSE),\"\")","v":""},null,{"$f":"IFERROR(VLOOKUP(S1515,コード表!$F$7:$G$141,2,FALSE),\"\")","v":""},null,null,"t",null,null,null,null,null,null,null,null,null,null,null,null,null,null,null,null,null,null,null,null,null,null,null,null,null,null,null,null,null,null,null,null,null,null,null,null,null,null,null,null,null,null,null,null,null,null,null,null,"","",{"$f":"IF(BS1515=\"\",\"\",IF(COUNTIF(BS$4:BS1515,BS1515)=1,ROW(),\"\"))","v":""},{"$f":"IFERROR(INDEX(BS:BS,SMALL(BT:BT,ROW(A1512))),\"\")","v":""},"","","",""]
[{"$f":"IF(F1519<>\"\",事業者基本情報!$E$9&事業者基本情報!$F$9&事業者基本情報!$G$9,\"\")","v":""},{"$f":"IF(F1519<>\"\",事業者基本情報!$Y$10,\"\")","v":""},{"$f":"IF(F1519<>\"\",事業者基本情報!$Y$7,\"\")","v":""},{"$f":"IF(F1519<>\"\",事業者基本情報!$Y$8,\"\")","v":""},{"$f":"IF(F1519<>\"\",事業者基本情報!$E$11&事業者基本情報!$F$11&事業者基本情報!$G$11&事業者基本情報!$H$11&事業者基本情報!$I$11,\"\")","v":""},null,null,null,"市",null,null,"-",null,"-",null,{"$f":"IFERROR(VLOOKUP(Q1519,コード表!$B$3:$C$101,2,FALSE),\"\")","v":""},null,{"$f":"IFERROR(VLOOKUP(S1519,コード表!$F$7:$G$141,2,FALSE),\"\")","v":""},null,null,"t",null,null,null,null,null,null,null,null,null,null,null,null,null,null,null,null,null,null,null,null,null,null,null,null,null,null,null,null,null,null,null,null,null,null,null,null,null,null,null,null,null,null,null,null,null,null,null,null,"","",{"$f":"IF(BS1519=\"\",\"\",IF(COUNTIF(BS$4:BS1519,BS1519)=1,ROW(),\"\"))","v":""},{"$f":"IFERROR(INDEX(BS:BS,SMALL(BT:BT,ROW(A1516))),\"\")","v":""},"","","",""]
[{"$f":"IF(F1522<>\"\",事業者基本情報!$E$9&事業者基本情報!$F$9&事業者基本情報!$G$9,\"\")","v":""},{"$f":"IF(F1522<>\"\",事業者基本情報!$Y$10,\"\")","v":""},{"$f":"IF(F1522<>\"\",事業者基本情報!$Y$7,\"\")","v":""},{"$f":"IF(F1522<>\"\",事業者基本情報!$Y$8,\"\")","v":""},{"$f":"IF(F1522<>\"\",事業者基本情報!$E$11&事業者基本情報!$F$11&事業者基本情報!$G$11&事業者基本情報!$H$11&事業者基本情報!$I$11,\"\")","v":""},null,null,null,"市",null,null,"-",null,"-",null,{"$f":"IFERROR(VLOOKUP(Q1522,コード表!$B$3:$C$101,2,FALSE),\"\")","v":""},null,{"$f":"IFERROR(VLOOKUP(S1522,コード表!$F$7:$G$141,2,FALSE),\"\")","v":""},null,null,"t",null,null,null,null,null,null,null,null,null,null,null,null,null,null,null,null,null,null,null,null,null,null,null,null,null,null,null,null,null,null,null,null,null,null,null,null,null,null,null,null,null,null,null,null,null,null,null,null,"","",{"$f":"IF(BS1522=\"\",\"\",IF(COUNTIF(BS$4:BS1522,BS1522)=1,ROW(),\"\"))","v":""},{"$f":"IFERROR(INDEX(BS:BS,SMALL(BT:BT,ROW(A1519))),\"\")","v":""},"","","",""]
[{"$f":"IF(F1525<>\"\",事業者基本情報!$E$9&事業者基本情報!$F$9&事業者基本情報!$G$9,\"\")","v":""},{"$f":"IF(F1525<>\"\",事業者基本情報!$Y$10,\"\")","v":""},{"$f":"IF(F1525<>\"\",事業者基本情報!$Y$7,\"\")","v":""},{"$f":"IF(F1525<>\"\",事業者基本情報!$Y$8,\"\")","v":""},{"$f":"IF(F1525<>\"\",事業者基本情報!$E$11&事業者基本情報!$F$11&事業者基本情報!$G$11&事業者基本情報!$H$11&事業者基本情報!$I$11,\"\")","v":""},null,null,null,"市",null,null,"-",null,"-",null,{"$f":"IFERROR(VLOOKUP(Q1525,コード表!$B$3:$C$101,2,FALSE),\"\")","v":""},null,{"$f":"IFERROR(VLOOKUP(S1525,コード表!$F$7:$G$141,2,FALSE),\"\")","v":""},null,null,"t",null,null,null,null,null,null,null,null,null,null,null,null,null,null,null,null,null,null,null,null,null,null,null,null,null,null,null,null,null,null,null,null,null,null,null,null,null,null,null,null,null,null,null,null,null,null,null,null,"","",{"$f":"IF(BS1525=\"\",\"\",IF(COUNTIF(BS$4:BS1525,BS1525)=1,ROW(),\"\"))","v":""},{"$f":"IFERROR(INDEX(BS:BS,SMALL(BT:BT,ROW(A1522))),\"\")","v":""},"","","",""]
[{"$f":"IF(F1528<>\"\",事業者基本情報!$E$9&事業者基本情報!$F$9&事業者基本情報!$G$9,\"\")","v":""},{"$f":"IF(F1528<>\"\",事業者基本情報!$Y$10,\"\")","v":""},{"$f":"IF(F1528<>\"\",事業者基本情報!$Y$7,\"\")","v":""},{"$f":"IF(F1528<>\"\",事業者基本情報!$Y$8,\"\")","v":""},{"$f":"IF(F1528<>\"\",事業者基本情報!$E$11&事業者基本情報!$F$11&事業者基本情報!$G$11&事業者基本情報!$H$11&事業者基本情報!$I$11,\"\")","v":""},null,null,null,"市",null,null,"-",null,"-",null,{"$f":"IFERROR(VLOOKUP(Q1528,コード表!$B$3:$C$101,2,FALSE),\"\")","v":""},null,{"$f":"IFERROR(VLOOKUP(S1528,コード表!$F$7:$G$141,2,FALSE),\"\")","v":""},null,null,"t",null,null,null,null,null,null,null,null,null,null,null,null,null,null,null,null,null,null,null,null,null,null,null,null,null,null,null,null,null,null,null,null,null,null,null,null,null,null,null,null,null,null,null,null,null,null,null,null,"","",{"$f":"IF(BS1528=\"\",\"\",IF(COUNTIF(BS$4:BS1528,BS1528)=1,ROW(),\"\"))","v":""},{"$f":"IFERROR(INDEX(BS:BS,SMALL(BT:BT,ROW(A1525))),\"\")","v":""},"","","",""]
[{"$f":"IF(F1531<>\"\",事業者基本情報!$E$9&事業者基本情報!$F$9&事業者基本情報!$G$9,\"\")","v":""},{"$f":"IF(F1531<>\"\",事業者基本情報!$Y$10,\"\")","v":""},{"$f":"IF(F1531<>\"\",事業者基本情報!$Y$7,\"\")","v":""},{"$f":"IF(F1531<>\"\",事業者基本情報!$Y$8,\"\")","v":""},{"$f":"IF(F1531<>\"\",事業者基本情報!$E$11&事業者基本情報!$F$11&事業者基本情報!$G$11&事業者基本情報!$H$11&事業者基本情報!$I$11,\"\")","v":""},null,null,null,"市",null,null,"-",null,"-",null,{"$f":"IFERROR(VLOOKUP(Q1531,コード表!$B$3:$C$101,2,FALSE),\"\")","v":""},null,{"$f":"IFERROR(VLOOKUP(S1531,コード表!$F$7:$G$141,2,FALSE),\"\")","v":""},null,null,"t",null,null,null,null,null,null,null,null,null,null,null,null,null,null,null,null,null,null,null,null,null,null,null,null,null,null,null,null,null,null,null,null,null,null,null,null,null,null,null,null,null,null,null,null,null,null,null,null,"","",{"$f":"IF(BS1531=\"\",\"\",IF(COUNTIF(BS$4:BS1531,BS1531)=1,ROW(),\"\"))","v":""},{"$f":"IFERROR(INDEX(BS:BS,SMALL(BT:BT,ROW(A1528))),\"\")","v":""},"","","",""]
[{"$f":"IF(F1532<>\"\",事業者基本情報!$E$9&事業者基本情報!$F$9&事業者基本情報!$G$9,\"\")","v":""},{"$f":"IF(F1532<>\"\",事業者基本情報!$Y$10,\"\")","v":""},{"$f":"IF(F1532<>\"\",事業者基本情報!$Y$7,\"\")","v":""},{"$f":"IF(F1532<>\"\",事業者基本情報!$Y$8,\"\")","v":""},{"$f":"IF(F1532<>\"\",事業者基本情報!$E$11&事業者基本情報!$F$11&事業者基本情報!$G$11&事業者基本情報!$H$11&事業者基本情報!$I$11,\"\")","v":""},null,null,null,"市",null,null,"-",null,"-",null,{"$f":"IFERROR(VLOOKUP(Q1532,コード表!$B$3:$C$101,2,FALSE),\"\")","v":""},null,{"$f":"IFERROR(VLOOKUP(S1532,コード表!$F$7:$G$141,2,FALSE),\"\")","v":""},null,null,"t",null,null,null,null,null,null,null,null,null,null,null,null,null,null,null,null,null,null,null,null,null,null,null,null,null,null,null,null,null,null,null,null,null,null,null,null,null,null,null,null,null,null,null,null,null,null,null,null,"","",{"$f":"IF(BS1532=\"\",\"\",IF(COUNTIF(BS$4:BS1532,BS1532)=1,ROW(),\"\"))","v":""},{"$f":"IFERROR(INDEX(BS:BS,SMALL(BT:BT,ROW(A1529))),\"\")","v":""},"","","",""]
[{"$f":"IF(F1536<>\"\",事業者基本情報!$E$9&事業者基本情報!$F$9&事業者基本情報!$G$9,\"\")","v":""},{"$f":"IF(F1536<>\"\",事業者基本情報!$Y$10,\"\")","v":""},{"$f":"IF(F1536<>\"\",事業者基本情報!$Y$7,\"\")","v":""},{"$f":"IF(F1536<>\"\",事業者基本情報!$Y$8,\"\")","v":""},{"$f":"IF(F1536<>\"\",事業者基本情報!$E$11&事業者基本情報!$F$11&事業者基本情報!$G$11&事業者基本情報!$H$11&事業者基本情報!$I$11,\"\")","v":""},null,null,null,"市",null,null,"-",null,"-",null,{"$f":"IFERROR(VLOOKUP(Q1536,コード表!$B$3:$C$101,2,FALSE),\"\")","v":""},null,{"$f":"IFERROR(VLOOKUP(S1536,コード表!$F$7:$G$141,2,FALSE),\"\")","v":""},null,null,"t",null,null,null,null,null,null,null,null,null,null,null,null,null,null,null,null,null,null,null,null,null,null,null,null,null,null,null,null,null,null,null,null,null,null,null,null,null,null,null,null,null,null,null,null,null,null,null,null,"","",{"$f":"IF(BS1536=\"\",\"\",IF(COUNTIF(BS$4:BS1536,BS1536)=1,ROW(),\"\"))","v":""},{"$f":"IFERROR(INDEX(BS:BS,SMALL(BT:BT,ROW(A1533))),\"\")","v":""},"","","",""]
[{"$f":"IF(F1538<>\"\",事業者基本情報!$E$9&事業者基本情報!$F$9&事業者基本情報!$G$9,\"\")","v":""},{"$f":"IF(F1538<>\"\",事業者基本情報!$Y$10,\"\")","v":""},{"$f":"IF(F1538<>\"\",事業者基本情報!$Y$7,\"\")","v":""},{"$f":"IF(F1538<>\"\",事業者基本情報!$Y$8,\"\")","v":""},{"$f":"IF(F1538<>\"\",事業者基本情報!$E$11&事業者基本情報!$F$11&事業者基本情報!$G$11&事業者基本情報!$H$11&事業者基本情報!$I$11,\"\")","v":""},null,null,null,"市",null,null,"-",null,"-",null,{"$f":"IFERROR(VLOOKUP(Q1538,コード表!$B$3:$C$101,2,FALSE),\"\")","v":""},null,{"$f":"IFERROR(VLOOKUP(S1538,コード表!$F$7:$G$141,2,FALSE),\"\")","v":""},null,null,"t",null,null,null,null,null,null,null,null,null,null,null,null,null,null,null,null,null,null,null,null,null,null,null,null,null,null,null,null,null,null,null,null,null,null,null,null,null,null,null,null,null,null,null,null,null,null,null,null,"","",{"$f":"IF(BS1538=\"\",\"\",IF(COUNTIF(BS$4:BS1538,BS1538)=1,ROW(),\"\"))","v":""},{"$f":"IFERROR(INDEX(BS:BS,SMALL(BT:BT,ROW(A1535))),\"\")","v":""},"","","",""]
[{"$f":"IF(F1541<>\"\",事業者基本情報!$E$9&事業者基本情報!$F$9&事業者基本情報!$G$9,\"\")","v":""},{"$f":"IF(F1541<>\"\",事業者基本情報!$Y$10,\"\")","v":""},{"$f":"IF(F1541<>\"\",事業者基本情報!$Y$7,\"\")","v":""},{"$f":"IF(F1541<>\"\",事業者基本情報!$Y$8,\"\")","v":""},{"$f":"IF(F1541<>\"\",事業者基本情報!$E$11&事業者基本情報!$F$11&事業者基本情報!$G$11&事業者基本情報!$H$11&事業者基本情報!$I$11,\"\")","v":""},null,null,null,"市",null,null,"-",null,"-",null,{"$f":"IFERROR(VLOOKUP(Q1541,コード表!$B$3:$C$101,2,FALSE),\"\")","v":""},null,{"$f":"IFERROR(VLOOKUP(S1541,コード表!$F$7:$G$141,2,FALSE),\"\")","v":""},null,null,"t",null,null,null,null,null,null,null,null,null,null,null,null,null,null,null,null,null,null,null,null,null,null,null,null,null,null,null,null,null,null,null,null,null,null,null,null,null,null,null,null,null,null,null,null,null,null,null,null,"","",{"$f":"IF(BS1541=\"\",\"\",IF(COUNTIF(BS$4:BS1541,BS1541)=1,ROW(),\"\"))","v":""},{"$f":"IFERROR(INDEX(BS:BS,SMALL(BT:BT,ROW(A1538))),\"\")","v":""},"","","",""]
[{"$f":"IF(F1544<>\"\",事業者基本情報!$E$9&事業者基本情報!$F$9&事業者基本情報!$G$9,\"\")","v":""},{"$f":"IF(F1544<>\"\",事業者基本情報!$Y$10,\"\")","v":""},{"$f":"IF(F1544<>\"\",事業者基本情報!$Y$7,\"\")","v":""},{"$f":"IF(F1544<>\"\",事業者基本情報!$Y$8,\"\")","v":""},{"$f":"IF(F1544<>\"\",事業者基本情報!$E$11&事業者基本情報!$F$11&事業者基本情報!$G$11&事業者基本情報!$H$11&事業者基本情報!$I$11,\"\")","v":""},null,null,null,"市",null,null,"-",null,"-",null,{"$f":"IFERROR(VLOOKUP(Q1544,コード表!$B$3:$C$101,2,FALSE),\"\")","v":""},null,{"$f":"IFERROR(VLOOKUP(S1544,コード表!$F$7:$G$141,2,FALSE),\"\")","v":""},null,null,"t",null,null,null,null,null,null,null,null,null,null,null,null,null,null,null,null,null,null,null,null,null,null,null,null,null,null,null,null,null,null,null,null,null,null,null,null,null,null,null,null,null,null,null,null,null,null,null,null,"","",{"$f":"IF(BS1544=\"\",\"\",IF(COUNTIF(BS$4:BS1544,BS1544)=1,ROW(),\"\"))","v":""},{"$f":"IFERROR(INDEX(BS:BS,SMALL(BT:BT,ROW(A1541))),\"\")","v":""},"","","",""]
[{"$f":"IF(F1547<>\"\",事業者基本情報!$E$9&事業者基本情報!$F$9&事業者基本情報!$G$9,\"\")","v":""},{"$f":"IF(F1547<>\"\",事業者基本情報!$Y$10,\"\")","v":""},{"$f":"IF(F1547<>\"\",事業者基本情報!$Y$7,\"\")","v":""},{"$f":"IF(F1547<>\"\",事業者基本情報!$Y$8,\"\")","v":""},{"$f":"IF(F1547<>\"\",事業者基本情報!$E$11&事業者基本情報!$F$11&事業者基本情報!$G$11&事業者基本情報!$H$11&事業者基本情報!$I$11,\"\")","v":""},null,null,null,"市",null,null,"-",null,"-",null,{"$f":"IFERROR(VLOOKUP(Q1547,コード表!$B$3:$C$101,2,FALSE),\"\")","v":""},null,{"$f":"IFERROR(VLOOKUP(S1547,コード表!$F$7:$G$141,2,FALSE),\"\")","v":""},null,null,"t",null,null,null,null,null,null,null,null,null,null,null,null,null,null,null,null,null,null,null,null,null,null,null,null,null,null,null,null,null,null,null,null,null,null,null,null,null,null,null,null,null,null,null,null,null,null,null,null,"","",{"$f":"IF(BS1547=\"\",\"\",IF(COUNTIF(BS$4:BS1547,BS1547)=1,ROW(),\"\"))","v":""},{"$f":"IFERROR(INDEX(BS:BS,SMALL(BT:BT,ROW(A1544))),\"\")","v":""},"","","",""]
[{"$f":"IF(F1550<>\"\",事業者基本情報!$E$9&事業者基本情報!$F$9&事業者基本情報!$G$9,\"\")","v":""},{"$f":"IF(F1550<>\"\",事業者基本情報!$Y$10,\"\")","v":""},{"$f":"IF(F1550<>\"\",事業者基本情報!$Y$7,\"\")","v":""},{"$f":"IF(F1550<>\"\",事業者基本情報!$Y$8,\"\")","v":""},{"$f":"IF(F1550<>\"\",事業者基本情報!$E$11&事業者基本情報!$F$11&事業者基本情報!$G$11&事業者基本情報!$H$11&事業者基本情報!$I$11,\"\")","v":""},null,null,null,"市",null,null,"-",null,"-",null,{"$f":"IFERROR(VLOOKUP(Q1550,コード表!$B$3:$C$101,2,FALSE),\"\")","v":""},null,{"$f":"IFERROR(VLOOKUP(S1550,コード表!$F$7:$G$141,2,FALSE),\"\")","v":""},null,null,"t",null,null,null,null,null,null,null,null,null,null,null,null,null,null,null,null,null,null,null,null,null,null,null,null,null,null,null,null,null,null,null,null,null,null,null,null,null,null,null,null,null,null,null,null,null,null,null,null,"","",{"$f":"IF(BS1550=\"\",\"\",IF(COUNTIF(BS$4:BS1550,BS1550)=1,ROW(),\"\"))","v":""},{"$f":"IFERROR(INDEX(BS:BS,SMALL(BT:BT,ROW(A1547))),\"\")","v":""},"","","",""]
[{"$f":"IF(F1553<>\"\",事業者基本情報!$E$9&事業者基本情報!$F$9&事業者基本情報!$G$9,\"\")","v":""},{"$f":"IF(F1553<>\"\",事業者基本情報!$Y$10,\"\")","v":""},{"$f":"IF(F1553<>\"\",事業者基本情報!$Y$7,\"\")","v":""},{"$f":"IF(F1553<>\"\",事業者基本情報!$Y$8,\"\")","v":""},{"$f":"IF(F1553<>\"\",事業者基本情報!$E$11&事業者基本情報!$F$11&事業者基本情報!$G$11&事業者基本情報!$H$11&事業者基本情報!$I$11,\"\")","v":""},null,null,null,"市",null,null,"-",null,"-",null,{"$f":"IFERROR(VLOOKUP(Q1553,コード表!$B$3:$C$101,2,FALSE),\"\")","v":""},null,{"$f":"IFERROR(VLOOKUP(S1553,コード表!$F$7:$G$141,2,FALSE),\"\")","v":""},null,null,"t",null,null,null,null,null,null,null,null,null,null,null,null,null,null,null,null,null,null,null,null,null,null,null,null,null,null,null,null,null,null,null,null,null,null,null,null,null,null,null,null,null,null,null,null,null,null,null,null,"","",{"$f":"IF(BS1553=\"\",\"\",IF(COUNTIF(BS$4:BS1553,BS1553)=1,ROW(),\"\"))","v":""},{"$f":"IFERROR(INDEX(BS:BS,SMALL(BT:BT,ROW(A1550))),\"\")","v":""},"","","",""]
[{"$f":"IF(F1554<>\"\",事業者基本情報!$E$9&事業者基本情報!$F$9&事業者基本情報!$G$9,\"\")","v":""},{"$f":"IF(F1554<>\"\",事業者基本情報!$Y$10,\"\")","v":""},{"$f":"IF(F1554<>\"\",事業者基本情報!$Y$7,\"\")","v":""},{"$f":"IF(F1554<>\"\",事業者基本情報!$Y$8,\"\")","v":""},{"$f":"IF(F1554<>\"\",事業者基本情報!$E$11&事業者基本情報!$F$11&事業者基本情報!$G$11&事業者基本情報!$H$11&事業者基本情報!$I$11,\"\")","v":""},null,null,null,"市",null,null,"-",null,"-",null,{"$f":"IFERROR(VLOOKUP(Q1554,コード表!$B$3:$C$101,2,FALSE),\"\")","v":""},null,{"$f":"IFERROR(VLOOKUP(S1554,コード表!$F$7:$G$141,2,FALSE),\"\")","v":""},null,null,"t",null,null,null,null,null,null,null,null,null,null,null,null,null,null,null,null,null,null,null,null,null,null,null,null,null,null,null,null,null,null,null,null,null,null,null,null,null,null,null,null,null,null,null,null,null,null,null,null,"","",{"$f":"IF(BS1554=\"\",\"\",IF(COUNTIF(BS$4:BS1554,BS1554)=1,ROW(),\"\"))","v":""},{"$f":"IFERROR(INDEX(BS:BS,SMALL(BT:BT,ROW(A1551))),\"\")","v":""},"","","",""]
[{"$f":"IF(F1558<>\"\",事業者基本情報!$E$9&事業者基本情報!$F$9&事業者基本情報!$G$9,\"\")","v":""},{"$f":"IF(F1558<>\"\",事業者基本情報!$Y$10,\"\")","v":""},{"$f":"IF(F1558<>\"\",事業者基本情報!$Y$7,\"\")","v":""},{"$f":"IF(F1558<>\"\",事業者基本情報!$Y$8,\"\")","v":""},{"$f":"IF(F1558<>\"\",事業者基本情報!$E$11&事業者基本情報!$F$11&事業者基本情報!$G$11&事業者基本情報!$H$11&事業者基本情報!$I$11,\"\")","v":""},null,null,null,"市",null,null,"-",null,"-",null,{"$f":"IFERROR(VLOOKUP(Q1558,コード表!$B$3:$C$101,2,FALSE),\"\")","v":""},null,{"$f":"IFERROR(VLOOKUP(S1558,コード表!$F$7:$G$141,2,FALSE),\"\")","v":""},null,null,"t",null,null,null,null,null,null,null,null,null,null,null,null,null,null,null,null,null,null,null,null,null,null,null,null,null,null,null,null,null,null,null,null,null,null,null,null,null,null,null,null,null,null,null,null,null,null,null,null,"","",{"$f":"IF(BS1558=\"\",\"\",IF(COUNTIF(BS$4:BS1558,BS1558)=1,ROW(),\"\"))","v":""},{"$f":"IFERROR(INDEX(BS:BS,SMALL(BT:BT,ROW(A1555))),\"\")","v":""},"","","",""]
[{"$f":"IF(F1560<>\"\",事業者基本情報!$E$9&事業者基本情報!$F$9&事業者基本情報!$G$9,\"\")","v":""},{"$f":"IF(F1560<>\"\",事業者基本情報!$Y$10,\"\")","v":""},{"$f":"IF(F1560<>\"\",事業者基本情報!$Y$7,\"\")","v":""},{"$f":"IF(F1560<>\"\",事業者基本情報!$Y$8,\"\")","v":""},{"$f":"IF(F1560<>\"\",事業者基本情報!$E$11&事業者基本情報!$F$11&事業者基本情報!$G$11&事業者基本情報!$H$11&事業者基本情報!$I$11,\"\")","v":""},null,null,null,"市",null,null,"-",null,"-",null,{"$f":"IFERROR(VLOOKUP(Q1560,コード表!$B$3:$C$101,2,FALSE),\"\")","v":""},null,{"$f":"IFERROR(VLOOKUP(S1560,コード表!$F$7:$G$141,2,FALSE),\"\")","v":""},null,null,"t",null,null,null,null,null,null,null,null,null,null,null,null,null,null,null,null,null,null,null,null,null,null,null,null,null,null,null,null,null,null,null,null,null,null,null,null,null,null,null,null,null,null,null,null,null,null,null,null,"","",{"$f":"IF(BS1560=\"\",\"\",IF(COUNTIF(BS$4:BS1560,BS1560)=1,ROW(),\"\"))","v":""},{"$f":"IFERROR(INDEX(BS:BS,SMALL(BT:BT,ROW(A1557))),\"\")","v":""},"","","",""]
[{"$f":"IF(F1563<>\"\",事業者基本情報!$E$9&事業者基本情報!$F$9&事業者基本情報!$G$9,\"\")","v":""},{"$f":"IF(F1563<>\"\",事業者基本情報!$Y$10,\"\")","v":""},{"$f":"IF(F1563<>\"\",事業者基本情報!$Y$7,\"\")","v":""},{"$f":"IF(F1563<>\"\",事業者基本情報!$Y$8,\"\")","v":""},{"$f":"IF(F1563<>\"\",事業者基本情報!$E$11&事業者基本情報!$F$11&事業者基本情報!$G$11&事業者基本情報!$H$11&事業者基本情報!$I$11,\"\")","v":""},null,null,null,"市",null,null,"-",null,"-",null,{"$f":"IFERROR(VLOOKUP(Q1563,コード表!$B$3:$C$101,2,FALSE),\"\")","v":""},null,{"$f":"IFERROR(VLOOKUP(S1563,コード表!$F$7:$G$141,2,FALSE),\"\")","v":""},null,null,"t",null,null,null,null,null,null,null,null,null,null,null,null,null,null,null,null,null,null,null,null,null,null,null,null,null,null,null,null,null,null,null,null,null,null,null,null,null,null,null,null,null,null,null,null,null,null,null,null,"","",{"$f":"IF(BS1563=\"\",\"\",IF(COUNTIF(BS$4:BS1563,BS1563)=1,ROW(),\"\"))","v":""},{"$f":"IFERROR(INDEX(BS:BS,SMALL(BT:BT,ROW(A1560))),\"\")","v":""},"","","",""]
[{"$f":"IF(F1566<>\"\",事業者基本情報!$E$9&事業者基本情報!$F$9&事業者基本情報!$G$9,\"\")","v":""},{"$f":"IF(F1566<>\"\",事業者基本情報!$Y$10,\"\")","v":""},{"$f":"IF(F1566<>\"\",事業者基本情報!$Y$7,\"\")","v":""},{"$f":"IF(F1566<>\"\",事業者基本情報!$Y$8,\"\")","v":""},{"$f":"IF(F1566<>\"\",事業者基本情報!$E$11&事業者基本情報!$F$11&事業者基本情報!$G$11&事業者基本情報!$H$11&事業者基本情報!$I$11,\"\")","v":""},null,null,null,"市",null,null,"-",null,"-",null,{"$f":"IFERROR(VLOOKUP(Q1566,コード表!$B$3:$C$101,2,FALSE),\"\")","v":""},null,{"$f":"IFERROR(VLOOKUP(S1566,コード表!$F$7:$G$141,2,FALSE),\"\")","v":""},null,null,"t",null,null,null,null,null,null,null,null,null,null,null,null,null,null,null,null,null,null,null,null,null,null,null,null,null,null,null,null,null,null,null,null,null,null,null,null,null,null,null,null,null,null,null,null,null,null,null,null,"","",{"$f":"IF(BS1566=\"\",\"\",IF(COUNTIF(BS$4:BS1566,BS1566)=1,ROW(),\"\"))","v":""},{"$f":"IFERROR(INDEX(BS:BS,SMALL(BT:BT,ROW(A1563))),\"\")","v":""},"","","",""]
[{"$f":"IF(F1569<>\"\",事業者基本情報!$E$9&事業者基本情報!$F$9&事業者基本情報!$G$9,\"\")","v":""},{"$f":"IF(F1569<>\"\",事業者基本情報!$Y$10,\"\")","v":""},{"$f":"IF(F1569<>\"\",事業者基本情報!$Y$7,\"\")","v":""},{"$f":"IF(F1569<>\"\",事業者基本情報!$Y$8,\"\")","v":""},{"$f":"IF(F1569<>\"\",事業者基本情報!$E$11&事業者基本情報!$F$11&事業者基本情報!$G$11&事業者基本情報!$H$11&事業者基本情報!$I$11,\"\")","v":""},null,null,null,"市",null,null,"-",null,"-",null,{"$f":"IFERROR(VLOOKUP(Q1569,コード表!$B$3:$C$101,2,FALSE),\"\")","v":""},null,{"$f":"IFERROR(VLOOKUP(S1569,コード表!$F$7:$G$141,2,FALSE),\"\")","v":""},null,null,"t",null,null,null,null,null,null,null,null,null,null,null,null,null,null,null,null,null,null,null,null,null,null,null,null,null,null,null,null,null,null,null,null,null,null,null,null,null,null,null,null,null,null,null,null,null,null,null,null,"","",{"$f":"IF(BS1569=\"\",\"\",IF(COUNTIF(BS$4:BS1569,BS1569)=1,ROW(),\"\"))","v":""},{"$f":"IFERROR(INDEX(BS:BS,SMALL(BT:BT,ROW(A1566))),\"\")","v":""},"","","",""]
[{"$f":"IF(F1572<>\"\",事業者基本情報!$E$9&事業者基本情報!$F$9&事業者基本情報!$G$9,\"\")","v":""},{"$f":"IF(F1572<>\"\",事業者基本情報!$Y$10,\"\")","v":""},{"$f":"IF(F1572<>\"\",事業者基本情報!$Y$7,\"\")","v":""},{"$f":"IF(F1572<>\"\",事業者基本情報!$Y$8,\"\")","v":""},{"$f":"IF(F1572<>\"\",事業者基本情報!$E$11&事業者基本情報!$F$11&事業者基本情報!$G$11&事業者基本情報!$H$11&事業者基本情報!$I$11,\"\")","v":""},null,null,null,"市",null,null,"-",null,"-",null,{"$f":"IFERROR(VLOOKUP(Q1572,コード表!$B$3:$C$101,2,FALSE),\"\")","v":""},null,{"$f":"IFERROR(VLOOKUP(S1572,コード表!$F$7:$G$141,2,FALSE),\"\")","v":""},null,null,"t",null,null,null,null,null,null,null,null,null,null,null,null,null,null,null,null,null,null,null,null,null,null,null,null,null,null,null,null,null,null,null,null,null,null,null,null,null,null,null,null,null,null,null,null,null,null,null,null,"","",{"$f":"IF(BS1572=\"\",\"\",IF(COUNTIF(BS$4:BS1572,BS1572)=1,ROW(),\"\"))","v":""},{"$f":"IFERROR(INDEX(BS:BS,SMALL(BT:BT,ROW(A1569))),\"\")","v":""},"","","",""]
[{"$f":"IF(F1575<>\"\",事業者基本情報!$E$9&事業者基本情報!$F$9&事業者基本情報!$G$9,\"\")","v":""},{"$f":"IF(F1575<>\"\",事業者基本情報!$Y$10,\"\")","v":""},{"$f":"IF(F1575<>\"\",事業者基本情報!$Y$7,\"\")","v":""},{"$f":"IF(F1575<>\"\",事業者基本情報!$Y$8,\"\")","v":""},{"$f":"IF(F1575<>\"\",事業者基本情報!$E$11&事業者基本情報!$F$11&事業者基本情報!$G$11&事業者基本情報!$H$11&事業者基本情報!$I$11,\"\")","v":""},null,null,null,"市",null,null,"-",null,"-",null,{"$f":"IFERROR(VLOOKUP(Q1575,コード表!$B$3:$C$101,2,FALSE),\"\")","v":""},null,{"$f":"IFERROR(VLOOKUP(S1575,コード表!$F$7:$G$141,2,FALSE),\"\")","v":""},null,null,"t",null,null,null,null,null,null,null,null,null,null,null,null,null,null,null,null,null,null,null,null,null,null,null,null,null,null,null,null,null,null,null,null,null,null,null,null,null,null,null,null,null,null,null,null,null,null,null,null,"","",{"$f":"IF(BS1575=\"\",\"\",IF(COUNTIF(BS$4:BS1575,BS1575)=1,ROW(),\"\"))","v":""},{"$f":"IFERROR(INDEX(BS:BS,SMALL(BT:BT,ROW(A1572))),\"\")","v":""},"","","",""]
[{"$f":"IF(F1576<>\"\",事業者基本情報!$E$9&事業者基本情報!$F$9&事業者基本情報!$G$9,\"\")","v":""},{"$f":"IF(F1576<>\"\",事業者基本情報!$Y$10,\"\")","v":""},{"$f":"IF(F1576<>\"\",事業者基本情報!$Y$7,\"\")","v":""},{"$f":"IF(F1576<>\"\",事業者基本情報!$Y$8,\"\")","v":""},{"$f":"IF(F1576<>\"\",事業者基本情報!$E$11&事業者基本情報!$F$11&事業者基本情報!$G$11&事業者基本情報!$H$11&事業者基本情報!$I$11,\"\")","v":""},null,null,null,"市",null,null,"-",null,"-",null,{"$f":"IFERROR(VLOOKUP(Q1576,コード表!$B$3:$C$101,2,FALSE),\"\")","v":""},null,{"$f":"IFERROR(VLOOKUP(S1576,コード表!$F$7:$G$141,2,FALSE),\"\")","v":""},null,null,"t",null,null,null,null,null,null,null,null,null,null,null,null,null,null,null,null,null,null,null,null,null,null,null,null,null,null,null,null,null,null,null,null,null,null,null,null,null,null,null,null,null,null,null,null,null,null,null,null,"","",{"$f":"IF(BS1576=\"\",\"\",IF(COUNTIF(BS$4:BS1576,BS1576)=1,ROW(),\"\"))","v":""},{"$f":"IFERROR(INDEX(BS:BS,SMALL(BT:BT,ROW(A1573))),\"\")","v":""},"","","",""]
[{"$f":"IF(F1580<>\"\",事業者基本情報!$E$9&事業者基本情報!$F$9&事業者基本情報!$G$9,\"\")","v":""},{"$f":"IF(F1580<>\"\",事業者基本情報!$Y$10,\"\")","v":""},{"$f":"IF(F1580<>\"\",事業者基本情報!$Y$7,\"\")","v":""},{"$f":"IF(F1580<>\"\",事業者基本情報!$Y$8,\"\")","v":""},{"$f":"IF(F1580<>\"\",事業者基本情報!$E$11&事業者基本情報!$F$11&事業者基本情報!$G$11&事業者基本情報!$H$11&事業者基本情報!$I$11,\"\")","v":""},null,null,null,"市",null,null,"-",null,"-",null,{"$f":"IFERROR(VLOOKUP(Q1580,コード表!$B$3:$C$101,2,FALSE),\"\")","v":""},null,{"$f":"IFERROR(VLOOKUP(S1580,コード表!$F$7:$G$141,2,FALSE),\"\")","v":""},null,null,"t",null,null,null,null,null,null,null,null,null,null,null,null,null,null,null,null,null,null,null,null,null,null,null,null,null,null,null,null,null,null,null,null,null,null,null,null,null,null,null,null,null,null,null,null,null,null,null,null,"","",{"$f":"IF(BS1580=\"\",\"\",IF(COUNTIF(BS$4:BS1580,BS1580)=1,ROW(),\"\"))","v":""},{"$f":"IFERROR(INDEX(BS:BS,SMALL(BT:BT,ROW(A1577))),\"\")","v":""},"","","",""]
[{"$f":"IF(F1582<>\"\",事業者基本情報!$E$9&事業者基本情報!$F$9&事業者基本情報!$G$9,\"\")","v":""},{"$f":"IF(F1582<>\"\",事業者基本情報!$Y$10,\"\")","v":""},{"$f":"IF(F1582<>\"\",事業者基本情報!$Y$7,\"\")","v":""},{"$f":"IF(F1582<>\"\",事業者基本情報!$Y$8,\"\")","v":""},{"$f":"IF(F1582<>\"\",事業者基本情報!$E$11&事業者基本情報!$F$11&事業者基本情報!$G$11&事業者基本情報!$H$11&事業者基本情報!$I$11,\"\")","v":""},null,null,null,"市",null,null,"-",null,"-",null,{"$f":"IFERROR(VLOOKUP(Q1582,コード表!$B$3:$C$101,2,FALSE),\"\")","v":""},null,{"$f":"IFERROR(VLOOKUP(S1582,コード表!$F$7:$G$141,2,FALSE),\"\")","v":""},null,null,"t",null,null,null,null,null,null,null,null,null,null,null,null,null,null,null,null,null,null,null,null,null,null,null,null,null,null,null,null,null,null,null,null,null,null,null,null,null,null,null,null,null,null,null,null,null,null,null,null,"","",{"$f":"IF(BS1582=\"\",\"\",IF(COUNTIF(BS$4:BS1582,BS1582)=1,ROW(),\"\"))","v":""},{"$f":"IFERROR(INDEX(BS:BS,SMALL(BT:BT,ROW(A1579))),\"\")","v":""},"","","",""]
[{"$f":"IF(F1585<>\"\",事業者基本情報!$E$9&事業者基本情報!$F$9&事業者基本情報!$G$9,\"\")","v":""},{"$f":"IF(F1585<>\"\",事業者基本情報!$Y$10,\"\")","v":""},{"$f":"IF(F1585<>\"\",事業者基本情報!$Y$7,\"\")","v":""},{"$f":"IF(F1585<>\"\",事業者基本情報!$Y$8,\"\")","v":""},{"$f":"IF(F1585<>\"\",事業者基本情報!$E$11&事業者基本情報!$F$11&事業者基本情報!$G$11&事業者基本情報!$H$11&事業者基本情報!$I$11,\"\")","v":""},null,null,null,"市",null,null,"-",null,"-",null,{"$f":"IFERROR(VLOOKUP(Q1585,コード表!$B$3:$C$101,2,FALSE),\"\")","v":""},null,{"$f":"IFERROR(VLOOKUP(S1585,コード表!$F$7:$G$141,2,FALSE),\"\")","v":""},null,null,"t",null,null,null,null,null,null,null,null,null,null,null,null,null,null,null,null,null,null,null,null,null,null,null,null,null,null,null,null,null,null,null,null,null,null,null,null,null,null,null,null,null,null,null,null,null,null,null,null,"","",{"$f":"IF(BS1585=\"\",\"\",IF(COUNTIF(BS$4:BS1585,BS1585)=1,ROW(),\"\"))","v":""},{"$f":"IFERROR(INDEX(BS:BS,SMALL(BT:BT,ROW(A1582))),\"\")","v":""},"","","",""]
[{"$f":"IF(F1588<>\"\",事業者基本情報!$E$9&事業者基本情報!$F$9&事業者基本情報!$G$9,\"\")","v":""},{"$f":"IF(F1588<>\"\",事業者基本情報!$Y$10,\"\")","v":""},{"$f":"IF(F1588<>\"\",事業者基本情報!$Y$7,\"\")","v":""},{"$f":"IF(F1588<>\"\",事業者基本情報!$Y$8,\"\")","v":""},{"$f":"IF(F1588<>\"\",事業者基本情報!$E$11&事業者基本情報!$F$11&事業者基本情報!$G$11&事業者基本情報!$H$11&事業者基本情報!$I$11,\"\")","v":""},null,null,null,"市",null,null,"-",null,"-",null,{"$f":"IFERROR(VLOOKUP(Q1588,コード表!$B$3:$C$101,2,FALSE),\"\")","v":""},null,{"$f":"IFERROR(VLOOKUP(S1588,コード表!$F$7:$G$141,2,FALSE),\"\")","v":""},null,null,"t",null,null,null,null,null,null,null,null,null,null,null,null,null,null,null,null,null,null,null,null,null,null,null,null,null,null,null,null,null,null,null,null,null,null,null,null,null,null,null,null,null,null,null,null,null,null,null,null,"","",{"$f":"IF(BS1588=\"\",\"\",IF(COUNTIF(BS$4:BS1588,BS1588)=1,ROW(),\"\"))","v":""},{"$f":"IFERROR(INDEX(BS:BS,SMALL(BT:BT,ROW(A1585))),\"\")","v":""},"","","",""]
[{"$f":"IF(F1591<>\"\",事業者基本情報!$E$9&事業者基本情報!$F$9&事業者基本情報!$G$9,\"\")","v":""},{"$f":"IF(F1591<>\"\",事業者基本情報!$Y$10,\"\")","v":""},{"$f":"IF(F1591<>\"\",事業者基本情報!$Y$7,\"\")","v":""},{"$f":"IF(F1591<>\"\",事業者基本情報!$Y$8,\"\")","v":""},{"$f":"IF(F1591<>\"\",事業者基本情報!$E$11&事業者基本情報!$F$11&事業者基本情報!$G$11&事業者基本情報!$H$11&事業者基本情報!$I$11,\"\")","v":""},null,null,null,"市",null,null,"-",null,"-",null,{"$f":"IFERROR(VLOOKUP(Q1591,コード表!$B$3:$C$101,2,FALSE),\"\")","v":""},null,{"$f":"IFERROR(VLOOKUP(S1591,コード表!$F$7:$G$141,2,FALSE),\"\")","v":""},null,null,"t",null,null,null,null,null,null,null,null,null,null,null,null,null,null,null,null,null,null,null,null,null,null,null,null,null,null,null,null,null,null,null,null,null,null,null,null,null,null,null,null,null,null,null,null,null,null,null,null,"","",{"$f":"IF(BS1591=\"\",\"\",IF(COUNTIF(BS$4:BS1591,BS1591)=1,ROW(),\"\"))","v":""},{"$f":"IFERROR(INDEX(BS:BS,SMALL(BT:BT,ROW(A1588))),\"\")","v":""},"","","",""]
[{"$f":"IF(F1594<>\"\",事業者基本情報!$E$9&事業者基本情報!$F$9&事業者基本情報!$G$9,\"\")","v":""},{"$f":"IF(F1594<>\"\",事業者基本情報!$Y$10,\"\")","v":""},{"$f":"IF(F1594<>\"\",事業者基本情報!$Y$7,\"\")","v":""},{"$f":"IF(F1594<>\"\",事業者基本情報!$Y$8,\"\")","v":""},{"$f":"IF(F1594<>\"\",事業者基本情報!$E$11&事業者基本情報!$F$11&事業者基本情報!$G$11&事業者基本情報!$H$11&事業者基本情報!$I$11,\"\")","v":""},null,null,null,"市",null,null,"-",null,"-",null,{"$f":"IFERROR(VLOOKUP(Q1594,コード表!$B$3:$C$101,2,FALSE),\"\")","v":""},null,{"$f":"IFERROR(VLOOKUP(S1594,コード表!$F$7:$G$141,2,FALSE),\"\")","v":""},null,null,"t",null,null,null,null,null,null,null,null,null,null,null,null,null,null,null,null,null,null,null,null,null,null,null,null,null,null,null,null,null,null,null,null,null,null,null,null,null,null,null,null,null,null,null,null,null,null,null,null,"","",{"$f":"IF(BS1594=\"\",\"\",IF(COUNTIF(BS$4:BS1594,BS1594)=1,ROW(),\"\"))","v":""},{"$f":"IFERROR(INDEX(BS:BS,SMALL(BT:BT,ROW(A1591))),\"\")","v":""},"","","",""]
[{"$f":"IF(F1595<>\"\",事業者基本情報!$E$9&事業者基本情報!$F$9&事業者基本情報!$G$9,\"\")","v":""},{"$f":"IF(F1595<>\"\",事業者基本情報!$Y$10,\"\")","v":""},{"$f":"IF(F1595<>\"\",事業者基本情報!$Y$7,\"\")","v":""},{"$f":"IF(F1595<>\"\",事業者基本情報!$Y$8,\"\")","v":""},{"$f":"IF(F1595<>\"\",事業者基本情報!$E$11&事業者基本情報!$F$11&事業者基本情報!$G$11&事業者基本情報!$H$11&事業者基本情報!$I$11,\"\")","v":""},null,null,null,"市",null,null,"-",null,"-",null,{"$f":"IFERROR(VLOOKUP(Q1595,コード表!$B$3:$C$101,2,FALSE),\"\")","v":""},null,{"$f":"IFERROR(VLOOKUP(S1595,コード表!$F$7:$G$141,2,FALSE),\"\")","v":""},null,null,"t",null,null,null,null,null,null,null,null,null,null,null,null,null,null,null,null,null,null,null,null,null,null,null,null,null,null,null,null,null,null,null,null,null,null,null,null,null,null,null,null,null,null,null,null,null,null,null,null,"","",{"$f":"IF(BS1595=\"\",\"\",IF(COUNTIF(BS$4:BS1595,BS1595)=1,ROW(),\"\"))","v":""},{"$f":"IFERROR(INDEX(BS:BS,SMALL(BT:BT,ROW(A1592))),\"\")","v":""},"","","",""]
[{"$f":"IF(F1598<>\"\",事業者基本情報!$E$9&事業者基本情報!$F$9&事業者基本情報!$G$9,\"\")","v":""},{"$f":"IF(F1598<>\"\",事業者基本情報!$Y$10,\"\")","v":""},{"$f":"IF(F1598<>\"\",事業者基本情報!$Y$7,\"\")","v":""},{"$f":"IF(F1598<>\"\",事業者基本情報!$Y$8,\"\")","v":""},{"$f":"IF(F1598<>\"\",事業者基本情報!$E$11&事業者基本情報!$F$11&事業者基本情報!$G$11&事業者基本情報!$H$11&事業者基本情報!$I$11,\"\")","v":""},null,null,null,"市",null,null,"-",null,"-",null,{"$f":"IFERROR(VLOOKUP(Q1598,コード表!$B$3:$C$101,2,FALSE),\"\")","v":""},null,{"$f":"IFERROR(VLOOKUP(S1598,コード表!$F$7:$G$141,2,FALSE),\"\")","v":""},null,null,"t",null,null,null,null,null,null,null,null,null,null,null,null,null,null,null,null,null,null,null,null,null,null,null,null,null,null,null,null,null,null,null,null,null,null,null,null,null,null,null,null,null,null,null,null,null,null,null,null,"","",{"$f":"IF(BS1598=\"\",\"\",IF(COUNTIF(BS$4:BS1598,BS1598)=1,ROW(),\"\"))","v":""},{"$f":"IFERROR(INDEX(BS:BS,SMALL(BT:BT,ROW(A1595))),\"\")","v":""},"","","",""]
[{"$f":"IF(F1602<>\"\",事業者基本情報!$E$9&事業者基本情報!$F$9&事業者基本情報!$G$9,\"\")","v":""},{"$f":"IF(F1602<>\"\",事業者基本情報!$Y$10,\"\")","v":""},{"$f":"IF(F1602<>\"\",事業者基本情報!$Y$7,\"\")","v":""},{"$f":"IF(F1602<>\"\",事業者基本情報!$Y$8,\"\")","v":""},{"$f":"IF(F1602<>\"\",事業者基本情報!$E$11&事業者基本情報!$F$11&事業者基本情報!$G$11&事業者基本情報!$H$11&事業者基本情報!$I$11,\"\")","v":""},null,null,null,"市",null,null,"-",null,"-",null,{"$f":"IFERROR(VLOOKUP(Q1602,コード表!$B$3:$C$101,2,FALSE),\"\")","v":""},null,{"$f":"IFERROR(VLOOKUP(S1602,コード表!$F$7:$G$141,2,FALSE),\"\")","v":""},null,null,"t",null,null,null,null,null,null,null,null,null,null,null,null,null,null,null,null,null,null,null,null,null,null,null,null,null,null,null,null,null,null,null,null,null,null,null,null,null,null,null,null,null,null,null,null,null,null,null,null,"","",{"$f":"IF(BS1602=\"\",\"\",IF(COUNTIF(BS$4:BS1602,BS1602)=1,ROW(),\"\"))","v":""},{"$f":"IFERROR(INDEX(BS:BS,SMALL(BT:BT,ROW(A1599))),\"\")","v":""},"","","",""]
[{"$f":"IF(F1604<>\"\",事業者基本情報!$E$9&事業者基本情報!$F$9&事業者基本情報!$G$9,\"\")","v":""},{"$f":"IF(F1604<>\"\",事業者基本情報!$Y$10,\"\")","v":""},{"$f":"IF(F1604<>\"\",事業者基本情報!$Y$7,\"\")","v":""},{"$f":"IF(F1604<>\"\",事業者基本情報!$Y$8,\"\")","v":""},{"$f":"IF(F1604<>\"\",事業者基本情報!$E$11&事業者基本情報!$F$11&事業者基本情報!$G$11&事業者基本情報!$H$11&事業者基本情報!$I$11,\"\")","v":""},null,null,null,"市",null,null,"-",null,"-",null,{"$f":"IFERROR(VLOOKUP(Q1604,コード表!$B$3:$C$101,2,FALSE),\"\")","v":""},null,{"$f":"IFERROR(VLOOKUP(S1604,コード表!$F$7:$G$141,2,FALSE),\"\")","v":""},null,null,"t",null,null,null,null,null,null,null,null,null,null,null,null,null,null,null,null,null,null,null,null,null,null,null,null,null,null,null,null,null,null,null,null,null,null,null,null,null,null,null,null,null,null,null,null,null,null,null,null,{"$f":"IFERROR(IF(TRIM(F1604)=\"\",\"\",IF(AND(VALUE(TRIM(R1604))>=100000,VALUE(TRIM(R1604))<7000000),\"普通産廃\",IF(AND(VALUE(TRIM(R1604))>=7000000,VALUE(TRIM(R1604))<9000000),\"特別産廃\",\"\"))),\"\")","v":""},{"$f":"IF(BR1604<>\"\",TRIM(F1604)&\"(\"&BR1604&\")\",\"\")","v":""},{"$f":"IF(BS1604=\"\",\"\",IF(COUNTIF(BS$4:BS1604,BS1604)=1,ROW(),\"\"))","v":""},{"$f":"IFERROR(INDEX(BS:BS,SMALL(BT:BT,ROW(A1601))),\"\")","v":""},{"$f":"IF(BU1604=\"\",\"\",IF(SUMIF(BS:BS,BU1604,T:T)=0,\"\",SUMIF(BS:BS,BU1604,T:T)))","v":""},{"$f":"IF(AS1604<>\"\",AS1604,IF(AO1604<>\"\",AO1604,IF(AK1604<>\"\",AK1604,IF(AG1604<>\"\",AG1604,IF(Y1604<>\"\",Y1604,\"\")))))","v":""},"",{"$f":"IF(F1604&G1604&H1604&J1604&K1604&M1604&O1604&Q1604&S1604&T1604&V1604&W1604&X1604&Y1604&Z1604&AA1604&AB1604&AC1604&AD1604&AE1604&AF1604&AG1604&AH1604&AI1604&AJ1604&AK1604&AL1604&AM1604&AN1604&AO1604&AP1604&AQ1604&AR1604&AS1604&AT1604=\"\",\"\",1)","v":""}]
[{"$f":"IF(F1607<>\"\",事業者基本情報!$E$9&事業者基本情報!$F$9&事業者基本情報!$G$9,\"\")","v":""},{"$f":"IF(F1607<>\"\",事業者基本情報!$Y$10,\"\")","v":""},{"$f":"IF(F1607<>\"\",事業者基本情報!$Y$7,\"\")","v":""},{"$f":"IF(F1607<>\"\",事業者基本情報!$Y$8,\"\")","v":""},{"$f":"IF(F1607<>\"\",事業者基本情報!$E$11&事業者基本情報!$F$11&事業者基本情報!$G$11&事業者基本情報!$H$11&事業者基本情報!$I$11,\"\")","v":""},null,null,null,"市",null,null,"-",null,"-",null,{"$f":"IFERROR(VLOOKUP(Q1607,コード表!$B$3:$C$101,2,FALSE),\"\")","v":""},null,{"$f":"IFERROR(VLOOKUP(S1607,コード表!$F$7:$G$141,2,FALSE),\"\")","v":""},null,null,"t",null,null,null,null,null,null,null,null,null,null,null,null,null,null,null,null,null,null,null,null,null,null,null,null,null,null,null,null,null,null,null,null,null,null,null,null,null,null,null,null,null,null,null,null,null,null,null,null,"","",{"$f":"IF(BS1607=\"\",\"\",IF(COUNTIF(BS$4:BS1607,BS1607)=1,ROW(),\"\"))","v":""},{"$f":"IFERROR(INDEX(BS:BS,SMALL(BT:BT,ROW(A1604))),\"\")","v":""},"","","",""]
[{"$f":"IF(F1610<>\"\",事業者基本情報!$E$9&事業者基本情報!$F$9&事業者基本情報!$G$9,\"\")","v":""},{"$f":"IF(F1610<>\"\",事業者基本情報!$Y$10,\"\")","v":""},{"$f":"IF(F1610<>\"\",事業者基本情報!$Y$7,\"\")","v":""},{"$f":"IF(F1610<>\"\",事業者基本情報!$Y$8,\"\")","v":""},{"$f":"IF(F1610<>\"\",事業者基本情報!$E$11&事業者基本情報!$F$11&事業者基本情報!$G$11&事業者基本情報!$H$11&事業者基本情報!$I$11,\"\")","v":""},null,null,null,"市",null,null,"-",null,"-",null,{"$f":"IFERROR(VLOOKUP(Q1610,コード表!$B$3:$C$101,2,FALSE),\"\")","v":""},null,{"$f":"IFERROR(VLOOKUP(S1610,コード表!$F$7:$G$141,2,FALSE),\"\")","v":""},null,null,"t",null,null,null,null,null,null,null,null,null,null,null,null,null,null,null,null,null,null,null,null,null,null,null,null,null,null,null,null,null,null,null,null,null,null,null,null,null,null,null,null,null,null,null,null,null,null,null,null,"","",{"$f":"IF(BS1610=\"\",\"\",IF(COUNTIF(BS$4:BS1610,BS1610)=1,ROW(),\"\"))","v":""},{"$f":"IFERROR(INDEX(BS:BS,SMALL(BT:BT,ROW(A1607))),\"\")","v":""},"","","",""]
[{"$f":"IF(F1613<>\"\",事業者基本情報!$E$9&事業者基本情報!$F$9&事業者基本情報!$G$9,\"\")","v":""},{"$f":"IF(F1613<>\"\",事業者基本情報!$Y$10,\"\")","v":""},{"$f":"IF(F1613<>\"\",事業者基本情報!$Y$7,\"\")","v":""},{"$f":"IF(F1613<>\"\",事業者基本情報!$Y$8,\"\")","v":""},{"$f":"IF(F1613<>\"\",事業者基本情報!$E$11&事業者基本情報!$F$11&事業者基本情報!$G$11&事業者基本情報!$H$11&事業者基本情報!$I$11,\"\")","v":""},null,null,null,"市",null,null,"-",null,"-",null,{"$f":"IFERROR(VLOOKUP(Q1613,コード表!$B$3:$C$101,2,FALSE),\"\")","v":""},null,{"$f":"IFERROR(VLOOKUP(S1613,コード表!$F$7:$G$141,2,FALSE),\"\")","v":""},null,null,"t",null,null,null,null,null,null,null,null,null,null,null,null,null,null,null,null,null,null,null,null,null,null,null,null,null,null,null,null,null,null,null,null,null,null,null,null,null,null,null,null,null,null,null,null,null,null,null,null,"","",{"$f":"IF(BS1613=\"\",\"\",IF(COUNTIF(BS$4:BS1613,BS1613)=1,ROW(),\"\"))","v":""},{"$f":"IFERROR(INDEX(BS:BS,SMALL(BT:BT,ROW(A1610))),\"\")","v":""},"","","",""]
[{"$f":"IF(F1616<>\"\",事業者基本情報!$E$9&事業者基本情報!$F$9&事業者基本情報!$G$9,\"\")","v":""},{"$f":"IF(F1616<>\"\",事業者基本情報!$Y$10,\"\")","v":""},{"$f":"IF(F1616<>\"\",事業者基本情報!$Y$7,\"\")","v":""},{"$f":"IF(F1616<>\"\",事業者基本情報!$Y$8,\"\")","v":""},{"$f":"IF(F1616<>\"\",事業者基本情報!$E$11&事業者基本情報!$F$11&事業者基本情報!$G$11&事業者基本情報!$H$11&事業者基本情報!$I$11,\"\")","v":""},null,null,null,"市",null,null,"-",null,"-",null,{"$f":"IFERROR(VLOOKUP(Q1616,コード表!$B$3:$C$101,2,FALSE),\"\")","v":""},null,{"$f":"IFERROR(VLOOKUP(S1616,コード表!$F$7:$G$141,2,FALSE),\"\")","v":""},null,null,"t",null,null,null,null,null,null,null,null,null,null,null,null,null,null,null,null,null,null,null,null,null,null,null,null,null,null,null,null,null,null,null,null,null,null,null,null,null,null,null,null,null,null,null,null,null,null,null,null,"","",{"$f":"IF(BS1616=\"\",\"\",IF(COUNTIF(BS$4:BS1616,BS1616)=1,ROW(),\"\"))","v":""},{"$f":"IFERROR(INDEX(BS:BS,SMALL(BT:BT,ROW(A1613))),\"\")","v":""},"","","",""]
[{"$f":"IF(F1617<>\"\",事業者基本情報!$E$9&事業者基本情報!$F$9&事業者基本情報!$G$9,\"\")","v":""},{"$f":"IF(F1617<>\"\",事業者基本情報!$Y$10,\"\")","v":""},{"$f":"IF(F1617<>\"\",事業者基本情報!$Y$7,\"\")","v":""},{"$f":"IF(F1617<>\"\",事業者基本情報!$Y$8,\"\")","v":""},{"$f":"IF(F1617<>\"\",事業者基本情報!$E$11&事業者基本情報!$F$11&事業者基本情報!$G$11&事業者基本情報!$H$11&事業者基本情報!$I$11,\"\")","v":""},null,null,null,"市",null,null,"-",null,"-",null,{"$f":"IFERROR(VLOOKUP(Q1617,コード表!$B$3:$C$101,2,FALSE),\"\")","v":""},null,{"$f":"IFERROR(VLOOKUP(S1617,コード表!$F$7:$G$141,2,FALSE),\"\")","v":""},null,null,"t",null,null,null,null,null,null,null,null,null,null,null,null,null,null,null,null,null,null,null,null,null,null,null,null,null,null,null,null,null,null,null,null,null,null,null,null,null,null,null,null,null,null,null,null,null,null,null,null,"","",{"$f":"IF(BS1617=\"\",\"\",IF(COUNTIF(BS$4:BS1617,BS1617)=1,ROW(),\"\"))","v":""},{"$f":"IFERROR(INDEX(BS:BS,SMALL(BT:BT,ROW(A1614))),\"\")","v":""},"","","",""]
[{"$f":"IF(F1620<>\"\",事業者基本情報!$E$9&事業者基本情報!$F$9&事業者基本情報!$G$9,\"\")","v":""},{"$f":"IF(F1620<>\"\",事業者基本情報!$Y$10,\"\")","v":""},{"$f":"IF(F1620<>\"\",事業者基本情報!$Y$7,\"\")","v":""},{"$f":"IF(F1620<>\"\",事業者基本情報!$Y$8,\"\")","v":""},{"$f":"IF(F1620<>\"\",事業者基本情報!$E$11&事業者基本情報!$F$11&事業者基本情報!$G$11&事業者基本情報!$H$11&事業者基本情報!$I$11,\"\")","v":""},null,null,null,"市",null,null,"-",null,"-",null,{"$f":"IFERROR(VLOOKUP(Q1620,コード表!$B$3:$C$101,2,FALSE),\"\")","v":""},null,{"$f":"IFERROR(VLOOKUP(S1620,コード表!$F$7:$G$141,2,FALSE),\"\")","v":""},null,null,"t",null,null,null,null,null,null,null,null,null,null,null,null,null,null,null,null,null,null,null,null,null,null,null,null,null,null,null,null,null,null,null,null,null,null,null,null,null,null,null,null,null,null,null,null,null,null,null,null,"","",{"$f":"IF(BS1620=\"\",\"\",IF(COUNTIF(BS$4:BS1620,BS1620)=1,ROW(),\"\"))","v":""},{"$f":"IFERROR(INDEX(BS:BS,SMALL(BT:BT,ROW(A1617))),\"\")","v":""},"","","",""]
[{"$f":"IF(F1624<>\"\",事業者基本情報!$E$9&事業者基本情報!$F$9&事業者基本情報!$G$9,\"\")","v":""},{"$f":"IF(F1624<>\"\",事業者基本情報!$Y$10,\"\")","v":""},{"$f":"IF(F1624<>\"\",事業者基本情報!$Y$7,\"\")","v":""},{"$f":"IF(F1624<>\"\",事業者基本情報!$Y$8,\"\")","v":""},{"$f":"IF(F1624<>\"\",事業者基本情報!$E$11&事業者基本情報!$F$11&事業者基本情報!$G$11&事業者基本情報!$H$11&事業者基本情報!$I$11,\"\")","v":""},null,null,null,"市",null,null,"-",null,"-",null,{"$f":"IFERROR(VLOOKUP(Q1624,コード表!$B$3:$C$101,2,FALSE),\"\")","v":""},null,{"$f":"IFERROR(VLOOKUP(S1624,コード表!$F$7:$G$141,2,FALSE),\"\")","v":""},null,null,"t",null,null,null,null,null,null,null,null,null,null,null,null,null,null,null,null,null,null,null,null,null,null,null,null,null,null,null,null,null,null,null,null,null,null,null,null,null,null,null,null,null,null,null,null,null,null,null,null,"","",{"$f":"IF(BS1624=\"\",\"\",IF(COUNTIF(BS$4:BS1624,BS1624)=1,ROW(),\"\"))","v":""},{"$f":"IFERROR(INDEX(BS:BS,SMALL(BT:BT,ROW(A1621))),\"\")","v":""},"","","",""]
[{"$f":"IF(F1626<>\"\",事業者基本情報!$E$9&事業者基本情報!$F$9&事業者基本情報!$G$9,\"\")","v":""},{"$f":"IF(F1626<>\"\",事業者基本情報!$Y$10,\"\")","v":""},{"$f":"IF(F1626<>\"\",事業者基本情報!$Y$7,\"\")","v":""},{"$f":"IF(F1626<>\"\",事業者基本情報!$Y$8,\"\")","v":""},{"$f":"IF(F1626<>\"\",事業者基本情報!$E$11&事業者基本情報!$F$11&事業者基本情報!$G$11&事業者基本情報!$H$11&事業者基本情報!$I$11,\"\")","v":""},null,null,null,"市",null,null,"-",null,"-",null,{"$f":"IFERROR(VLOOKUP(Q1626,コード表!$B$3:$C$101,2,FALSE),\"\")","v":""},null,{"$f":"IFERROR(VLOOKUP(S1626,コード表!$F$7:$G$141,2,FALSE),\"\")","v":""},null,null,"t",null,null,null,null,null,null,null,null,null,null,null,null,null,null,null,null,null,null,null,null,null,null,null,null,null,null,null,null,null,null,null,null,null,null,null,null,null,null,null,null,null,null,null,null,null,null,null,null,"","",{"$f":"IF(BS1626=\"\",\"\",IF(COUNTIF(BS$4:BS1626,BS1626)=1,ROW(),\"\"))","v":""},{"$f":"IFERROR(INDEX(BS:BS,SMALL(BT:BT,ROW(A1623))),\"\")","v":""},"","","",""]
[{"$f":"IF(F1629<>\"\",事業者基本情報!$E$9&事業者基本情報!$F$9&事業者基本情報!$G$9,\"\")","v":""},{"$f":"IF(F1629<>\"\",事業者基本情報!$Y$10,\"\")","v":""},{"$f":"IF(F1629<>\"\",事業者基本情報!$Y$7,\"\")","v":""},{"$f":"IF(F1629<>\"\",事業者基本情報!$Y$8,\"\")","v":""},{"$f":"IF(F1629<>\"\",事業者基本情報!$E$11&事業者基本情報!$F$11&事業者基本情報!$G$11&事業者基本情報!$H$11&事業者基本情報!$I$11,\"\")","v":""},null,null,null,"市",null,null,"-",null,"-",null,{"$f":"IFERROR(VLOOKUP(Q1629,コード表!$B$3:$C$101,2,FALSE),\"\")","v":""},null,{"$f":"IFERROR(VLOOKUP(S1629,コード表!$F$7:$G$141,2,FALSE),\"\")","v":""},null,null,"t",null,null,null,null,null,null,null,null,null,null,null,null,null,null,null,null,null,null,null,null,null,null,null,null,null,null,null,null,null,null,null,null,null,null,null,null,null,null,null,null,null,null,null,null,null,null,null,null,"","",{"$f":"IF(BS1629=\"\",\"\",IF(COUNTIF(BS$4:BS1629,BS1629)=1,ROW(),\"\"))","v":""},{"$f":"IFERROR(INDEX(BS:BS,SMALL(BT:BT,ROW(A1626))),\"\")","v":""},"","","",""]
[{"$f":"IF(F1632<>\"\",事業者基本情報!$E$9&事業者基本情報!$F$9&事業者基本情報!$G$9,\"\")","v":""},{"$f":"IF(F1632<>\"\",事業者基本情報!$Y$10,\"\")","v":""},{"$f":"IF(F1632<>\"\",事業者基本情報!$Y$7,\"\")","v":""},{"$f":"IF(F1632<>\"\",事業者基本情報!$Y$8,\"\")","v":""},{"$f":"IF(F1632<>\"\",事業者基本情報!$E$11&事業者基本情報!$F$11&事業者基本情報!$G$11&事業者基本情報!$H$11&事業者基本情報!$I$11,\"\")","v":""},null,null,null,"市",null,null,"-",null,"-",null,{"$f":"IFERROR(VLOOKUP(Q1632,コード表!$B$3:$C$101,2,FALSE),\"\")","v":""},null,{"$f":"IFERROR(VLOOKUP(S1632,コード表!$F$7:$G$141,2,FALSE),\"\")","v":""},null,null,"t",null,null,null,null,null,null,null,null,null,null,null,null,null,null,null,null,null,null,null,null,null,null,null,null,null,null,null,null,null,null,null,null,null,null,null,null,null,null,null,null,null,null,null,null,null,null,null,null,"","",{"$f":"IF(BS1632=\"\",\"\",IF(COUNTIF(BS$4:BS1632,BS1632)=1,ROW(),\"\"))","v":""},{"$f":"IFERROR(INDEX(BS:BS,SMALL(BT:BT,ROW(A1629))),\"\")","v":""},"","","",""]
[{"$f":"IF(F1635<>\"\",事業者基本情報!$E$9&事業者基本情報!$F$9&事業者基本情報!$G$9,\"\")","v":""},{"$f":"IF(F1635<>\"\",事業者基本情報!$Y$10,\"\")","v":""},{"$f":"IF(F1635<>\"\",事業者基本情報!$Y$7,\"\")","v":""},{"$f":"IF(F1635<>\"\",事業者基本情報!$Y$8,\"\")","v":""},{"$f":"IF(F1635<>\"\",事業者基本情報!$E$11&事業者基本情報!$F$11&事業者基本情報!$G$11&事業者基本情報!$H$11&事業者基本情報!$I$11,\"\")","v":""},null,null,null,"市",null,null,"-",null,"-",null,{"$f":"IFERROR(VLOOKUP(Q1635,コード表!$B$3:$C$101,2,FALSE),\"\")","v":""},null,{"$f":"IFERROR(VLOOKUP(S1635,コード表!$F$7:$G$141,2,FALSE),\"\")","v":""},null,null,"t",null,null,null,null,null,null,null,null,null,null,null,null,null,null,null,null,null,null,null,null,null,null,null,null,null,null,null,null,null,null,null,null,null,null,null,null,null,null,null,null,null,null,null,null,null,null,null,null,"","",{"$f":"IF(BS1635=\"\",\"\",IF(COUNTIF(BS$4:BS1635,BS1635)=1,ROW(),\"\"))","v":""},{"$f":"IFERROR(INDEX(BS:BS,SMALL(BT:BT,ROW(A1632))),\"\")","v":""},"","","",""]
[{"$f":"IF(F1638<>\"\",事業者基本情報!$E$9&事業者基本情報!$F$9&事業者基本情報!$G$9,\"\")","v":""},{"$f":"IF(F1638<>\"\",事業者基本情報!$Y$10,\"\")","v":""},{"$f":"IF(F1638<>\"\",事業者基本情報!$Y$7,\"\")","v":""},{"$f":"IF(F1638<>\"\",事業者基本情報!$Y$8,\"\")","v":""},{"$f":"IF(F1638<>\"\",事業者基本情報!$E$11&事業者基本情報!$F$11&事業者基本情報!$G$11&事業者基本情報!$H$11&事業者基本情報!$I$11,\"\")","v":""},null,null,null,"市",null,null,"-",null,"-",null,{"$f":"IFERROR(VLOOKUP(Q1638,コード表!$B$3:$C$101,2,FALSE),\"\")","v":""},null,{"$f":"IFERROR(VLOOKUP(S1638,コード表!$F$7:$G$141,2,FALSE),\"\")","v":""},null,null,"t",null,null,null,null,null,null,null,null,null,null,null,null,null,null,null,null,null,null,null,null,null,null,null,null,null,null,null,null,null,null,null,null,null,null,null,null,null,null,null,null,null,null,null,null,null,null,null,null,"","",{"$f":"IF(BS1638=\"\",\"\",IF(COUNTIF(BS$4:BS1638,BS1638)=1,ROW(),\"\"))","v":""},{"$f":"IFERROR(INDEX(BS:BS,SMALL(BT:BT,ROW(A1635))),\"\")","v":""},"","","",""]
[{"$f":"IF(F1639<>\"\",事業者基本情報!$E$9&事業者基本情報!$F$9&事業者基本情報!$G$9,\"\")","v":""},{"$f":"IF(F1639<>\"\",事業者基本情報!$Y$10,\"\")","v":""},{"$f":"IF(F1639<>\"\",事業者基本情報!$Y$7,\"\")","v":""},{"$f":"IF(F1639<>\"\",事業者基本情報!$Y$8,\"\")","v":""},{"$f":"IF(F1639<>\"\",事業者基本情報!$E$11&事業者基本情報!$F$11&事業者基本情報!$G$11&事業者基本情報!$H$11&事業者基本情報!$I$11,\"\")","v":""},null,null,null,"市",null,null,"-",null,"-",null,{"$f":"IFERROR(VLOOKUP(Q1639,コード表!$B$3:$C$101,2,FALSE),\"\")","v":""},null,{"$f":"IFERROR(VLOOKUP(S1639,コード表!$F$7:$G$141,2,FALSE),\"\")","v":""},null,null,"t",null,null,null,null,null,null,null,null,null,null,null,null,null,null,null,null,null,null,null,null,null,null,null,null,null,null,null,null,null,null,null,null,null,null,null,null,null,null,null,null,null,null,null,null,null,null,null,null,"","",{"$f":"IF(BS1639=\"\",\"\",IF(COUNTIF(BS$4:BS1639,BS1639)=1,ROW(),\"\"))","v":""},{"$f":"IFERROR(INDEX(BS:BS,SMALL(BT:BT,ROW(A1636))),\"\")","v":""},"","","",""]
[{"$f":"IF(F1642<>\"\",事業者基本情報!$E$9&事業者基本情報!$F$9&事業者基本情報!$G$9,\"\")","v":""},{"$f":"IF(F1642<>\"\",事業者基本情報!$Y$10,\"\")","v":""},{"$f":"IF(F1642<>\"\",事業者基本情報!$Y$7,\"\")","v":""},{"$f":"IF(F1642<>\"\",事業者基本情報!$Y$8,\"\")","v":""},{"$f":"IF(F1642<>\"\",事業者基本情報!$E$11&事業者基本情報!$F$11&事業者基本情報!$G$11&事業者基本情報!$H$11&事業者基本情報!$I$11,\"\")","v":""},null,null,null,"市",null,null,"-",null,"-",null,{"$f":"IFERROR(VLOOKUP(Q1642,コード表!$B$3:$C$101,2,FALSE),\"\")","v":""},null,{"$f":"IFERROR(VLOOKUP(S1642,コード表!$F$7:$G$141,2,FALSE),\"\")","v":""},null,null,"t",null,null,null,null,null,null,null,null,null,null,null,null,null,null,null,null,null,null,null,null,null,null,null,null,null,null,null,null,null,null,null,null,null,null,null,null,null,null,null,null,null,null,null,null,null,null,null,null,"","",{"$f":"IF(BS1642=\"\",\"\",IF(COUNTIF(BS$4:BS1642,BS1642)=1,ROW(),\"\"))","v":""},{"$f":"IFERROR(INDEX(BS:BS,SMALL(BT:BT,ROW(A1639))),\"\")","v":""},"","","",""]
[{"$f":"IF(F1646<>\"\",事業者基本情報!$E$9&事業者基本情報!$F$9&事業者基本情報!$G$9,\"\")","v":""},{"$f":"IF(F1646<>\"\",事業者基本情報!$Y$10,\"\")","v":""},{"$f":"IF(F1646<>\"\",事業者基本情報!$Y$7,\"\")","v":""},{"$f":"IF(F1646<>\"\",事業者基本情報!$Y$8,\"\")","v":""},{"$f":"IF(F1646<>\"\",事業者基本情報!$E$11&事業者基本情報!$F$11&事業者基本情報!$G$11&事業者基本情報!$H$11&事業者基本情報!$I$11,\"\")","v":""},null,null,null,"市",null,null,"-",null,"-",null,{"$f":"IFERROR(VLOOKUP(Q1646,コード表!$B$3:$C$101,2,FALSE),\"\")","v":""},null,{"$f":"IFERROR(VLOOKUP(S1646,コード表!$F$7:$G$141,2,FALSE),\"\")","v":""},null,null,"t",null,null,null,null,null,null,null,null,null,null,null,null,null,null,null,null,null,null,null,null,null,null,null,null,null,null,null,null,null,null,null,null,null,null,null,null,null,null,null,null,null,null,null,null,null,null,null,null,"","",{"$f":"IF(BS1646=\"\",\"\",IF(COUNTIF(BS$4:BS1646,BS1646)=1,ROW(),\"\"))","v":""},{"$f":"IFERROR(INDEX(BS:BS,SMALL(BT:BT,ROW(A1643))),\"\")","v":""},"","","",""]
[{"$f":"IF(F1648<>\"\",事業者基本情報!$E$9&事業者基本情報!$F$9&事業者基本情報!$G$9,\"\")","v":""},{"$f":"IF(F1648<>\"\",事業者基本情報!$Y$10,\"\")","v":""},{"$f":"IF(F1648<>\"\",事業者基本情報!$Y$7,\"\")","v":""},{"$f":"IF(F1648<>\"\",事業者基本情報!$Y$8,\"\")","v":""},{"$f":"IF(F1648<>\"\",事業者基本情報!$E$11&事業者基本情報!$F$11&事業者基本情報!$G$11&事業者基本情報!$H$11&事業者基本情報!$I$11,\"\")","v":""},null,null,null,"市",null,null,"-",null,"-",null,{"$f":"IFERROR(VLOOKUP(Q1648,コード表!$B$3:$C$101,2,FALSE),\"\")","v":""},null,{"$f":"IFERROR(VLOOKUP(S1648,コード表!$F$7:$G$141,2,FALSE),\"\")","v":""},null,null,"t",null,null,null,null,null,null,null,null,null,null,null,null,null,null,null,null,null,null,null,null,null,null,null,null,null,null,null,null,null,null,null,null,null,null,null,null,null,null,null,null,null,null,null,null,null,null,null,null,"","",{"$f":"IF(BS1648=\"\",\"\",IF(COUNTIF(BS$4:BS1648,BS1648)=1,ROW(),\"\"))","v":""},{"$f":"IFERROR(INDEX(BS:BS,SMALL(BT:BT,ROW(A1645))),\"\")","v":""},"","","",""]
[{"$f":"IF(F1651<>\"\",事業者基本情報!$E$9&事業者基本情報!$F$9&事業者基本情報!$G$9,\"\")","v":""},{"$f":"IF(F1651<>\"\",事業者基本情報!$Y$10,\"\")","v":""},{"$f":"IF(F1651<>\"\",事業者基本情報!$Y$7,\"\")","v":""},{"$f":"IF(F1651<>\"\",事業者基本情報!$Y$8,\"\")","v":""},{"$f":"IF(F1651<>\"\",事業者基本情報!$E$11&事業者基本情報!$F$11&事業者基本情報!$G$11&事業者基本情報!$H$11&事業者基本情報!$I$11,\"\")","v":""},null,null,null,"市",null,null,"-",null,"-",null,{"$f":"IFERROR(VLOOKUP(Q1651,コード表!$B$3:$C$101,2,FALSE),\"\")","v":""},null,{"$f":"IFERROR(VLOOKUP(S1651,コード表!$F$7:$G$141,2,FALSE),\"\")","v":""},null,null,"t",null,null,null,null,null,null,null,null,null,null,null,null,null,null,null,null,null,null,null,null,null,null,null,null,null,null,null,null,null,null,null,null,null,null,null,null,null,null,null,null,null,null,null,null,null,null,null,null,"","",{"$f":"IF(BS1651=\"\",\"\",IF(COUNTIF(BS$4:BS1651,BS1651)=1,ROW(),\"\"))","v":""},{"$f":"IFERROR(INDEX(BS:BS,SMALL(BT:BT,ROW(A1648))),\"\")","v":""},"","","",""]
[{"$f":"IF(F1655<>\"\",事業者基本情報!$E$9&事業者基本情報!$F$9&事業者基本情報!$G$9,\"\")","v":""},{"$f":"IF(F1655<>\"\",事業者基本情報!$Y$10,\"\")","v":""},{"$f":"IF(F1655<>\"\",事業者基本情報!$Y$7,\"\")","v":""},{"$f":"IF(F1655<>\"\",事業者基本情報!$Y$8,\"\")","v":""},{"$f":"IF(F1655<>\"\",事業者基本情報!$E$11&事業者基本情報!$F$11&事業者基本情報!$G$11&事業者基本情報!$H$11&事業者基本情報!$I$11,\"\")","v":""},null,null,null,"市",null,null,"-",null,"-",null,{"$f":"IFERROR(VLOOKUP(Q1655,コード表!$B$3:$C$101,2,FALSE),\"\")","v":""},null,{"$f":"IFERROR(VLOOKUP(S1655,コード表!$F$7:$G$141,2,FALSE),\"\")","v":""},null,null,"t",null,null,null,null,null,null,null,null,null,null,null,null,null,null,null,null,null,null,null,null,null,null,null,null,null,null,null,null,null,null,null,null,null,null,null,null,null,null,null,null,null,null,null,null,null,null,null,null,"","",{"$f":"IF(BS1655=\"\",\"\",IF(COUNTIF(BS$4:BS1655,BS1655)=1,ROW(),\"\"))","v":""},{"$f":"IFERROR(INDEX(BS:BS,SMALL(BT:BT,ROW(A1652))),\"\")","v":""},"","","",""]
[{"$f":"IF(F1657<>\"\",事業者基本情報!$E$9&事業者基本情報!$F$9&事業者基本情報!$G$9,\"\")","v":""},{"$f":"IF(F1657<>\"\",事業者基本情報!$Y$10,\"\")","v":""},{"$f":"IF(F1657<>\"\",事業者基本情報!$Y$7,\"\")","v":""},{"$f":"IF(F1657<>\"\",事業者基本情報!$Y$8,\"\")","v":""},{"$f":"IF(F1657<>\"\",事業者基本情報!$E$11&事業者基本情報!$F$11&事業者基本情報!$G$11&事業者基本情報!$H$11&事業者基本情報!$I$11,\"\")","v":""},null,null,null,"市",null,null,"-",null,"-",null,{"$f":"IFERROR(VLOOKUP(Q1657,コード表!$B$3:$C$101,2,FALSE),\"\")","v":""},null,{"$f":"IFERROR(VLOOKUP(S1657,コード表!$F$7:$G$141,2,FALSE),\"\")","v":""},null,null,"t",null,null,null,null,null,null,null,null,null,null,null,null,null,null,null,null,null,null,null,null,null,null,null,null,null,null,null,null,null,null,null,null,null,null,null,null,null,null,null,null,null,null,null,null,null,null,null,null,"","",{"$f":"IF(BS1657=\"\",\"\",IF(COUNTIF(BS$4:BS1657,BS1657)=1,ROW(),\"\"))","v":""},{"$f":"IFERROR(INDEX(BS:BS,SMALL(BT:BT,ROW(A1654))),\"\")","v":""},"","","",""]
[{"$f":"IF(F1660<>\"\",事業者基本情報!$E$9&事業者基本情報!$F$9&事業者基本情報!$G$9,\"\")","v":""},{"$f":"IF(F1660<>\"\",事業者基本情報!$Y$10,\"\")","v":""},{"$f":"IF(F1660<>\"\",事業者基本情報!$Y$7,\"\")","v":""},{"$f":"IF(F1660<>\"\",事業者基本情報!$Y$8,\"\")","v":""},{"$f":"IF(F1660<>\"\",事業者基本情報!$E$11&事業者基本情報!$F$11&事業者基本情報!$G$11&事業者基本情報!$H$11&事業者基本情報!$I$11,\"\")","v":""},null,null,null,"市",null,null,"-",null,"-",null,{"$f":"IFERROR(VLOOKUP(Q1660,コード表!$B$3:$C$101,2,FALSE),\"\")","v":""},null,{"$f":"IFERROR(VLOOKUP(S1660,コード表!$F$7:$G$141,2,FALSE),\"\")","v":""},null,null,"t",null,null,null,null,null,null,null,null,null,null,null,null,null,null,null,null,null,null,null,null,null,null,null,null,null,null,null,null,null,null,null,null,null,null,null,null,null,null,null,null,null,null,null,null,null,null,null,null,"","",{"$f":"IF(BS1660=\"\",\"\",IF(COUNTIF(BS$4:BS1660,BS1660)=1,ROW(),\"\"))","v":""},{"$f":"IFERROR(INDEX(BS:BS,SMALL(BT:BT,ROW(A1657))),\"\")","v":""},"","","",""]
[{"$f":"IF(F1661<>\"\",事業者基本情報!$E$9&事業者基本情報!$F$9&事業者基本情報!$G$9,\"\")","v":""},{"$f":"IF(F1661<>\"\",事業者基本情報!$Y$10,\"\")","v":""},{"$f":"IF(F1661<>\"\",事業者基本情報!$Y$7,\"\")","v":""},{"$f":"IF(F1661<>\"\",事業者基本情報!$Y$8,\"\")","v":""},{"$f":"IF(F1661<>\"\",事業者基本情報!$E$11&事業者基本情報!$F$11&事業者基本情報!$G$11&事業者基本情報!$H$11&事業者基本情報!$I$11,\"\")","v":""},null,null,null,"市",null,null,"-",null,"-",null,{"$f":"IFERROR(VLOOKUP(Q1661,コード表!$B$3:$C$101,2,FALSE),\"\")","v":""},null,{"$f":"IFERROR(VLOOKUP(S1661,コード表!$F$7:$G$141,2,FALSE),\"\")","v":""},null,null,"t",null,null,null,null,null,null,null,null,null,null,null,null,null,null,null,null,null,null,null,null,null,null,null,null,null,null,null,null,null,null,null,null,null,null,null,null,null,null,null,null,null,null,null,null,null,null,null,null,"","",{"$f":"IF(BS1661=\"\",\"\",IF(COUNTIF(BS$4:BS1661,BS1661)=1,ROW(),\"\"))","v":""},{"$f":"IFERROR(INDEX(BS:BS,SMALL(BT:BT,ROW(A1658))),\"\")","v":""},"","","",""]
[{"$f":"IF(F1664<>\"\",事業者基本情報!$E$9&事業者基本情報!$F$9&事業者基本情報!$G$9,\"\")","v":""},{"$f":"IF(F1664<>\"\",事業者基本情報!$Y$10,\"\")","v":""},{"$f":"IF(F1664<>\"\",事業者基本情報!$Y$7,\"\")","v":""},{"$f":"IF(F1664<>\"\",事業者基本情報!$Y$8,\"\")","v":""},{"$f":"IF(F1664<>\"\",事業者基本情報!$E$11&事業者基本情報!$F$11&事業者基本情報!$G$11&事業者基本情報!$H$11&事業者基本情報!$I$11,\"\")","v":""},null,null,null,"市",null,null,"-",null,"-",null,{"$f":"IFERROR(VLOOKUP(Q1664,コード表!$B$3:$C$101,2,FALSE),\"\")","v":""},null,{"$f":"IFERROR(VLOOKUP(S1664,コード表!$F$7:$G$141,2,FALSE),\"\")","v":""},null,null,"t",null,null,null,null,null,null,null,null,null,null,null,null,null,null,null,null,null,null,null,null,null,null,null,null,null,null,null,null,null,null,null,null,null,null,null,null,null,null,null,null,null,null,null,null,null,null,null,null,"","",{"$f":"IF(BS1664=\"\",\"\",IF(COUNTIF(BS$4:BS1664,BS1664)=1,ROW(),\"\"))","v":""},{"$f":"IFERROR(INDEX(BS:BS,SMALL(BT:BT,ROW(A1661))),\"\")","v":""},"","","",""]
[{"$f":"IF(F1668<>\"\",事業者基本情報!$E$9&事業者基本情報!$F$9&事業者基本情報!$G$9,\"\")","v":""},{"$f":"IF(F1668<>\"\",事業者基本情報!$Y$10,\"\")","v":""},{"$f":"IF(F1668<>\"\",事業者基本情報!$Y$7,\"\")","v":""},{"$f":"IF(F1668<>\"\",事業者基本情報!$Y$8,\"\")","v":""},{"$f":"IF(F1668<>\"\",事業者基本情報!$E$11&事業者基本情報!$F$11&事業者基本情報!$G$11&事業者基本情報!$H$11&事業者基本情報!$I$11,\"\")","v":""},null,null,null,"市",null,null,"-",null,"-",null,{"$f":"IFERROR(VLOOKUP(Q1668,コード表!$B$3:$C$101,2,FALSE),\"\")","v":""},null,{"$f":"IFERROR(VLOOKUP(S1668,コード表!$F$7:$G$141,2,FALSE),\"\")","v":""},null,null,"t",null,null,null,null,null,null,null,null,null,null,null,null,null,null,null,null,null,null,null,null,null,null,null,null,null,null,null,null,null,null,null,null,null,null,null,null,null,null,null,null,null,null,null,null,null,null,null,null,{"$f":"IFERROR(IF(TRIM(F1668)=\"\",\"\",IF(AND(VALUE(TRIM(R1668))>=100000,VALUE(TRIM(R1668))<7000000),\"普通産廃\",IF(AND(VALUE(TRIM(R1668))>=7000000,VALUE(TRIM(R1668))<9000000),\"特別産廃\",\"\"))),\"\")","v":""},{"$f":"IF(BR1668<>\"\",TRIM(F1668)&\"(\"&BR1668&\")\",\"\")","v":""},{"$f":"IF(BS1668=\"\",\"\",IF(COUNTIF(BS$4:BS1668,BS1668)=1,ROW(),\"\"))","v":""},{"$f":"IFERROR(INDEX(BS:BS,SMALL(BT:BT,ROW(A1665))),\"\")","v":""},{"$f":"IF(BU1668=\"\",\"\",IF(SUMIF(BS:BS,BU1668,T:T)=0,\"\",SUMIF(BS:BS,BU1668,T:T)))","v":""},{"$f":"IF(AS1668<>\"\",AS1668,IF(AO1668<>\"\",AO1668,IF(AK1668<>\"\",AK1668,IF(AG1668<>\"\",AG1668,IF(Y1668<>\"\",Y1668,\"\")))))","v":""},"",{"$f":"IF(F1668&G1668&H1668&J1668&K1668&M1668&O1668&Q1668&S1668&T1668&V1668&W1668&X1668&Y1668&Z1668&AA1668&AB1668&AC1668&AD1668&AE1668&AF1668&AG1668&AH1668&AI1668&AJ1668&AK1668&AL1668&AM1668&AN1668&AO1668&AP1668&AQ1668&AR1668&AS1668&AT1668=\"\",\"\",1)","v":""}]
[{"$f":"IF(F1670<>\"\",事業者基本情報!$E$9&事業者基本情報!$F$9&事業者基本情報!$G$9,\"\")","v":""},{"$f":"IF(F1670<>\"\",事業者基本情報!$Y$10,\"\")","v":""},{"$f":"IF(F1670<>\"\",事業者基本情報!$Y$7,\"\")","v":""},{"$f":"IF(F1670<>\"\",事業者基本情報!$Y$8,\"\")","v":""},{"$f":"IF(F1670<>\"\",事業者基本情報!$E$11&事業者基本情報!$F$11&事業者基本情報!$G$11&事業者基本情報!$H$11&事業者基本情報!$I$11,\"\")","v":""},null,null,null,"市",null,null,"-",null,"-",null,{"$f":"IFERROR(VLOOKUP(Q1670,コード表!$B$3:$C$101,2,FALSE),\"\")","v":""},null,{"$f":"IFERROR(VLOOKUP(S1670,コード表!$F$7:$G$141,2,FALSE),\"\")","v":""},null,null,"t",null,null,null,null,null,null,null,null,null,null,null,null,null,null,null,null,null,null,null,null,null,null,null,null,null,null,null,null,null,null,null,null,null,null,null,null,null,null,null,null,null,null,null,null,null,null,null,null,"","",{"$f":"IF(BS1670=\"\",\"\",IF(COUNTIF(BS$4:BS1670,BS1670)=1,ROW(),\"\"))","v":""},{"$f":"IFERROR(INDEX(BS:BS,SMALL(BT:BT,ROW(A1667))),\"\")","v":""},"","","",""]
[{"$f":"IF(F1673<>\"\",事業者基本情報!$E$9&事業者基本情報!$F$9&事業者基本情報!$G$9,\"\")","v":""},{"$f":"IF(F1673<>\"\",事業者基本情報!$Y$10,\"\")","v":""},{"$f":"IF(F1673<>\"\",事業者基本情報!$Y$7,\"\")","v":""},{"$f":"IF(F1673<>\"\",事業者基本情報!$Y$8,\"\")","v":""},{"$f":"IF(F1673<>\"\",事業者基本情報!$E$11&事業者基本情報!$F$11&事業者基本情報!$G$11&事業者基本情報!$H$11&事業者基本情報!$I$11,\"\")","v":""},null,null,null,"市",null,null,"-",null,"-",null,{"$f":"IFERROR(VLOOKUP(Q1673,コード表!$B$3:$C$101,2,FALSE),\"\")","v":""},null,{"$f":"IFERROR(VLOOKUP(S1673,コード表!$F$7:$G$141,2,FALSE),\"\")","v":""},null,null,"t",null,null,null,null,null,null,null,null,null,null,null,null,null,null,null,null,null,null,null,null,null,null,null,null,null,null,null,null,null,null,null,null,null,null,null,null,null,null,null,null,null,null,null,null,null,null,null,null,"","",{"$f":"IF(BS1673=\"\",\"\",IF(COUNTIF(BS$4:BS1673,BS1673)=1,ROW(),\"\"))","v":""},{"$f":"IFERROR(INDEX(BS:BS,SMALL(BT:BT,ROW(A1670))),\"\")","v":""},"","","",""]
[{"$f":"IF(F1677<>\"\",事業者基本情報!$E$9&事業者基本情報!$F$9&事業者基本情報!$G$9,\"\")","v":""},{"$f":"IF(F1677<>\"\",事業者基本情報!$Y$10,\"\")","v":""},{"$f":"IF(F1677<>\"\",事業者基本情報!$Y$7,\"\")","v":""},{"$f":"IF(F1677<>\"\",事業者基本情報!$Y$8,\"\")","v":""},{"$f":"IF(F1677<>\"\",事業者基本情報!$E$11&事業者基本情報!$F$11&事業者基本情報!$G$11&事業者基本情報!$H$11&事業者基本情報!$I$11,\"\")","v":""},null,null,null,"市",null,null,"-",null,"-",null,{"$f":"IFERROR(VLOOKUP(Q1677,コード表!$B$3:$C$101,2,FALSE),\"\")","v":""},null,{"$f":"IFERROR(VLOOKUP(S1677,コード表!$F$7:$G$141,2,FALSE),\"\")","v":""},null,null,"t",null,null,null,null,null,null,null,null,null,null,null,null,null,null,null,null,null,null,null,null,null,null,null,null,null,null,null,null,null,null,null,null,null,null,null,null,null,null,null,null,null,null,null,null,null,null,null,null,"","",{"$f":"IF(BS1677=\"\",\"\",IF(COUNTIF(BS$4:BS1677,BS1677)=1,ROW(),\"\"))","v":""},{"$f":"IFERROR(INDEX(BS:BS,SMALL(BT:BT,ROW(A1674))),\"\")","v":""},"","","",""]
[{"$f":"IF(F1679<>\"\",事業者基本情報!$E$9&事業者基本情報!$F$9&事業者基本情報!$G$9,\"\")","v":""},{"$f":"IF(F1679<>\"\",事業者基本情報!$Y$10,\"\")","v":""},{"$f":"IF(F1679<>\"\",事業者基本情報!$Y$7,\"\")","v":""},{"$f":"IF(F1679<>\"\",事業者基本情報!$Y$8,\"\")","v":""},{"$f":"IF(F1679<>\"\",事業者基本情報!$E$11&事業者基本情報!$F$11&事業者基本情報!$G$11&事業者基本情報!$H$11&事業者基本情報!$I$11,\"\")","v":""},null,null,null,"市",null,null,"-",null,"-",null,{"$f":"IFERROR(VLOOKUP(Q1679,コード表!$B$3:$C$101,2,FALSE),\"\")","v":""},null,{"$f":"IFERROR(VLOOKUP(S1679,コード表!$F$7:$G$141,2,FALSE),\"\")","v":""},null,null,"t",null,null,null,null,null,null,null,null,null,null,null,null,null,null,null,null,null,null,null,null,null,null,null,null,null,null,null,null,null,null,null,null,null,null,null,null,null,null,null,null,null,null,null,null,null,null,null,null,"","",{"$f":"IF(BS1679=\"\",\"\",IF(COUNTIF(BS$4:BS1679,BS1679)=1,ROW(),\"\"))","v":""},{"$f":"IFERROR(INDEX(BS:BS,SMALL(BT:BT,ROW(A1676))),\"\")","v":""},"","","",""]
[{"$f":"IF(F1682<>\"\",事業者基本情報!$E$9&事業者基本情報!$F$9&事業者基本情報!$G$9,\"\")","v":""},{"$f":"IF(F1682<>\"\",事業者基本情報!$Y$10,\"\")","v":""},{"$f":"IF(F1682<>\"\",事業者基本情報!$Y$7,\"\")","v":""},{"$f":"IF(F1682<>\"\",事業者基本情報!$Y$8,\"\")","v":""},{"$f":"IF(F1682<>\"\",事業者基本情報!$E$11&事業者基本情報!$F$11&事業者基本情報!$G$11&事業者基本情報!$H$11&事業者基本情報!$I$11,\"\")","v":""},null,null,null,"市",null,null,"-",null,"-",null,{"$f":"IFERROR(VLOOKUP(Q1682,コード表!$B$3:$C$101,2,FALSE),\"\")","v":""},null,{"$f":"IFERROR(VLOOKUP(S1682,コード表!$F$7:$G$141,2,FALSE),\"\")","v":""},null,null,"t",null,null,null,null,null,null,null,null,null,null,null,null,null,null,null,null,null,null,null,null,null,null,null,null,null,null,null,null,null,null,null,null,null,null,null,null,null,null,null,null,null,null,null,null,null,null,null,null,"","",{"$f":"IF(BS1682=\"\",\"\",IF(COUNTIF(BS$4:BS1682,BS1682)=1,ROW(),\"\"))","v":""},{"$f":"IFERROR(INDEX(BS:BS,SMALL(BT:BT,ROW(A1679))),\"\")","v":""},"","","",""]
[{"$f":"IF(F1683<>\"\",事業者基本情報!$E$9&事業者基本情報!$F$9&事業者基本情報!$G$9,\"\")","v":""},{"$f":"IF(F1683<>\"\",事業者基本情報!$Y$10,\"\")","v":""},{"$f":"IF(F1683<>\"\",事業者基本情報!$Y$7,\"\")","v":""},{"$f":"IF(F1683<>\"\",事業者基本情報!$Y$8,\"\")","v":""},{"$f":"IF(F1683<>\"\",事業者基本情報!$E$11&事業者基本情報!$F$11&事業者基本情報!$G$11&事業者基本情報!$H$11&事業者基本情報!$I$11,\"\")","v":""},null,null,null,"市",null,null,"-",null,"-",null,{"$f":"IFERROR(VLOOKUP(Q1683,コード表!$B$3:$C$101,2,FALSE),\"\")","v":""},null,{"$f":"IFERROR(VLOOKUP(S1683,コード表!$F$7:$G$141,2,FALSE),\"\")","v":""},null,null,"t",null,null,null,null,null,null,null,null,null,null,null,null,null,null,null,null,null,null,null,null,null,null,null,null,null,null,null,null,null,null,null,null,null,null,null,null,null,null,null,null,null,null,null,null,null,null,null,null,"","",{"$f":"IF(BS1683=\"\",\"\",IF(COUNTIF(BS$4:BS1683,BS1683)=1,ROW(),\"\"))","v":""},{"$f":"IFERROR(INDEX(BS:BS,SMALL(BT:BT,ROW(A1680))),\"\")","v":""},"","","",""]
[{"$f":"IF(F1686<>\"\",事業者基本情報!$E$9&事業者基本情報!$F$9&事業者基本情報!$G$9,\"\")","v":""},{"$f":"IF(F1686<>\"\",事業者基本情報!$Y$10,\"\")","v":""},{"$f":"IF(F1686<>\"\",事業者基本情報!$Y$7,\"\")","v":""},{"$f":"IF(F1686<>\"\",事業者基本情報!$Y$8,\"\")","v":""},{"$f":"IF(F1686<>\"\",事業者基本情報!$E$11&事業者基本情報!$F$11&事業者基本情報!$G$11&事業者基本情報!$H$11&事業者基本情報!$I$11,\"\")","v":""},null,null,null,"市",null,null,"-",null,"-",null,{"$f":"IFERROR(VLOOKUP(Q1686,コード表!$B$3:$C$101,2,FALSE),\"\")","v":""},null,{"$f":"IFERROR(VLOOKUP(S1686,コード表!$F$7:$G$141,2,FALSE),\"\")","v":""},null,null,"t",null,null,null,null,null,null,null,null,null,null,null,null,null,null,null,null,null,null,null,null,null,null,null,null,null,null,null,null,null,null,null,null,null,null,null,null,null,null,null,null,null,null,null,null,null,null,null,null,"","",{"$f":"IF(BS1686=\"\",\"\",IF(COUNTIF(BS$4:BS1686,BS1686)=1,ROW(),\"\"))","v":""},{"$f":"IFERROR(INDEX(BS:BS,SMALL(BT:BT,ROW(A1683))),\"\")","v":""},"","","",""]
[{"$f":"IF(F1690<>\"\",事業者基本情報!$E$9&事業者基本情報!$F$9&事業者基本情報!$G$9,\"\")","v":""},{"$f":"IF(F1690<>\"\",事業者基本情報!$Y$10,\"\")","v":""},{"$f":"IF(F1690<>\"\",事業者基本情報!$Y$7,\"\")","v":""},{"$f":"IF(F1690<>\"\",事業者基本情報!$Y$8,\"\")","v":""},{"$f":"IF(F1690<>\"\",事業者基本情報!$E$11&事業者基本情報!$F$11&事業者基本情報!$G$11&事業者基本情報!$H$11&事業者基本情報!$I$11,\"\")","v":""},null,null,null,"市",null,null,"-",null,"-",null,{"$f":"IFERROR(VLOOKUP(Q1690,コード表!$B$3:$C$101,2,FALSE),\"\")","v":""},null,{"$f":"IFERROR(VLOOKUP(S1690,コード表!$F$7:$G$141,2,FALSE),\"\")","v":""},null,null,"t",null,null,null,null,null,null,null,null,null,null,null,null,null,null,null,null,null,null,null,null,null,null,null,null,null,null,null,null,null,null,null,null,null,null,null,null,null,null,null,null,null,null,null,null,null,null,null,null,"","",{"$f":"IF(BS1690=\"\",\"\",IF(COUNTIF(BS$4:BS1690,BS1690)=1,ROW(),\"\"))","v":""},{"$f":"IFERROR(INDEX(BS:BS,SMALL(BT:BT,ROW(A1687))),\"\")","v":""},"","","",""]
[{"$f":"IF(F1692<>\"\",事業者基本情報!$E$9&事業者基本情報!$F$9&事業者基本情報!$G$9,\"\")","v":""},{"$f":"IF(F1692<>\"\",事業者基本情報!$Y$10,\"\")","v":""},{"$f":"IF(F1692<>\"\",事業者基本情報!$Y$7,\"\")","v":""},{"$f":"IF(F1692<>\"\",事業者基本情報!$Y$8,\"\")","v":""},{"$f":"IF(F1692<>\"\",事業者基本情報!$E$11&事業者基本情報!$F$11&事業者基本情報!$G$11&事業者基本情報!$H$11&事業者基本情報!$I$11,\"\")","v":""},null,null,null,"市",null,null,"-",null,"-",null,{"$f":"IFERROR(VLOOKUP(Q1692,コード表!$B$3:$C$101,2,FALSE),\"\")","v":""},null,{"$f":"IFERROR(VLOOKUP(S1692,コード表!$F$7:$G$141,2,FALSE),\"\")","v":""},null,null,"t",null,null,null,null,null,null,null,null,null,null,null,null,null,null,null,null,null,null,null,null,null,null,null,null,null,null,null,null,null,null,null,null,null,null,null,null,null,null,null,null,null,null,null,null,null,null,null,null,"","",{"$f":"IF(BS1692=\"\",\"\",IF(COUNTIF(BS$4:BS1692,BS1692)=1,ROW(),\"\"))","v":""},{"$f":"IFERROR(INDEX(BS:BS,SMALL(BT:BT,ROW(A1689))),\"\")","v":""},"","","",""]
[{"$f":"IF(F1695<>\"\",事業者基本情報!$E$9&事業者基本情報!$F$9&事業者基本情報!$G$9,\"\")","v":""},{"$f":"IF(F1695<>\"\",事業者基本情報!$Y$10,\"\")","v":""},{"$f":"IF(F1695<>\"\",事業者基本情報!$Y$7,\"\")","v":""},{"$f":"IF(F1695<>\"\",事業者基本情報!$Y$8,\"\")","v":""},{"$f":"IF(F1695<>\"\",事業者基本情報!$E$11&事業者基本情報!$F$11&事業者基本情報!$G$11&事業者基本情報!$H$11&事業者基本情報!$I$11,\"\")","v":""},null,null,null,"市",null,null,"-",null,"-",null,{"$f":"IFERROR(VLOOKUP(Q1695,コード表!$B$3:$C$101,2,FALSE),\"\")","v":""},null,{"$f":"IFERROR(VLOOKUP(S1695,コード表!$F$7:$G$141,2,FALSE),\"\")","v":""},null,null,"t",null,null,null,null,null,null,null,null,null,null,null,null,null,null,null,null,null,null,null,null,null,null,null,null,null,null,null,null,null,null,null,null,null,null,null,null,null,null,null,null,null,null,null,null,null,null,null,null,"","",{"$f":"IF(BS1695=\"\",\"\",IF(COUNTIF(BS$4:BS1695,BS1695)=1,ROW(),\"\"))","v":""},{"$f":"IFERROR(INDEX(BS:BS,SMALL(BT:BT,ROW(A1692))),\"\")","v":""},"","","",""]
[{"$f":"IF(F1699<>\"\",事業者基本情報!$E$9&事業者基本情報!$F$9&事業者基本情報!$G$9,\"\")","v":""},{"$f":"IF(F1699<>\"\",事業者基本情報!$Y$10,\"\")","v":""},{"$f":"IF(F1699<>\"\",事業者基本情報!$Y$7,\"\")","v":""},{"$f":"IF(F1699<>\"\",事業者基本情報!$Y$8,\"\")","v":""},{"$f":"IF(F1699<>\"\",事業者基本情報!$E$11&事業者基本情報!$F$11&事業者基本情報!$G$11&事業者基本情報!$H$11&事業者基本情報!$I$11,\"\")","v":""},null,null,null,"市",null,null,"-",null,"-",null,{"$f":"IFERROR(VLOOKUP(Q1699,コード表!$B$3:$C$101,2,FALSE),\"\")","v":""},null,{"$f":"IFERROR(VLOOKUP(S1699,コード表!$F$7:$G$141,2,FALSE),\"\")","v":""},null,null,"t",null,null,null,null,null,null,null,null,null,null,null,null,null,null,null,null,null,null,null,null,null,null,null,null,null,null,null,null,null,null,null,null,null,null,null,null,null,null,null,null,null,null,null,null,null,null,null,null,"","",{"$f":"IF(BS1699=\"\",\"\",IF(COUNTIF(BS$4:BS1699,BS1699)=1,ROW(),\"\"))","v":""},{"$f":"IFERROR(INDEX(BS:BS,SMALL(BT:BT,ROW(A1696))),\"\")","v":""},"","","",""]
[{"$f":"IF(F1701<>\"\",事業者基本情報!$E$9&事業者基本情報!$F$9&事業者基本情報!$G$9,\"\")","v":""},{"$f":"IF(F1701<>\"\",事業者基本情報!$Y$10,\"\")","v":""},{"$f":"IF(F1701<>\"\",事業者基本情報!$Y$7,\"\")","v":""},{"$f":"IF(F1701<>\"\",事業者基本情報!$Y$8,\"\")","v":""},{"$f":"IF(F1701<>\"\",事業者基本情報!$E$11&事業者基本情報!$F$11&事業者基本情報!$G$11&事業者基本情報!$H$11&事業者基本情報!$I$11,\"\")","v":""},null,null,null,"市",null,null,"-",null,"-",null,{"$f":"IFERROR(VLOOKUP(Q1701,コード表!$B$3:$C$101,2,FALSE),\"\")","v":""},null,{"$f":"IFERROR(VLOOKUP(S1701,コード表!$F$7:$G$141,2,FALSE),\"\")","v":""},null,null,"t",null,null,null,null,null,null,null,null,null,null,null,null,null,null,null,null,null,null,null,null,null,null,null,null,null,null,null,null,null,null,null,null,null,null,null,null,null,null,null,null,null,null,null,null,null,null,null,null,"","",{"$f":"IF(BS1701=\"\",\"\",IF(COUNTIF(BS$4:BS1701,BS1701)=1,ROW(),\"\"))","v":""},{"$f":"IFERROR(INDEX(BS:BS,SMALL(BT:BT,ROW(A1698))),\"\")","v":""},"","","",""]
[{"$f":"IF(F1704<>\"\",事業者基本情報!$E$9&事業者基本情報!$F$9&事業者基本情報!$G$9,\"\")","v":""},{"$f":"IF(F1704<>\"\",事業者基本情報!$Y$10,\"\")","v":""},{"$f":"IF(F1704<>\"\",事業者基本情報!$Y$7,\"\")","v":""},{"$f":"IF(F1704<>\"\",事業者基本情報!$Y$8,\"\")","v":""},{"$f":"IF(F1704<>\"\",事業者基本情報!$E$11&事業者基本情報!$F$11&事業者基本情報!$G$11&事業者基本情報!$H$11&事業者基本情報!$I$11,\"\")","v":""},null,null,null,"市",null,null,"-",null,"-",null,{"$f":"IFERROR(VLOOKUP(Q1704,コード表!$B$3:$C$101,2,FALSE),\"\")","v":""},null,{"$f":"IFERROR(VLOOKUP(S1704,コード表!$F$7:$G$141,2,FALSE),\"\")","v":""},null,null,"t",null,null,null,null,null,null,null,null,null,null,null,null,null,null,null,null,null,null,null,null,null,null,null,null,null,null,null,null,null,null,null,null,null,null,null,null,null,null,null,null,null,null,null,null,null,null,null,null,"","",{"$f":"IF(BS1704=\"\",\"\",IF(COUNTIF(BS$4:BS1704,BS1704)=1,ROW(),\"\"))","v":""},{"$f":"IFERROR(INDEX(BS:BS,SMALL(BT:BT,ROW(A1701))),\"\")","v":""},"","","",""]
[{"$f":"IF(F1705<>\"\",事業者基本情報!$E$9&事業者基本情報!$F$9&事業者基本情報!$G$9,\"\")","v":""},{"$f":"IF(F1705<>\"\",事業者基本情報!$Y$10,\"\")","v":""},{"$f":"IF(F1705<>\"\",事業者基本情報!$Y$7,\"\")","v":""},{"$f":"IF(F1705<>\"\",事業者基本情報!$Y$8,\"\")","v":""},{"$f":"IF(F1705<>\"\",事業者基本情報!$E$11&事業者基本情報!$F$11&事業者基本情報!$G$11&事業者基本情報!$H$11&事業者基本情報!$I$11,\"\")","v":""},null,null,null,"市",null,null,"-",null,"-",null,{"$f":"IFERROR(VLOOKUP(Q1705,コード表!$B$3:$C$101,2,FALSE),\"\")","v":""},null,{"$f":"IFERROR(VLOOKUP(S1705,コード表!$F$7:$G$141,2,FALSE),\"\")","v":""},null,null,"t",null,null,null,null,null,null,null,null,null,null,null,null,null,null,null,null,null,null,null,null,null,null,null,null,null,null,null,null,null,null,null,null,null,null,null,null,null,null,null,null,null,null,null,null,null,null,null,null,"","",{"$f":"IF(BS1705=\"\",\"\",IF(COUNTIF(BS$4:BS1705,BS1705)=1,ROW(),\"\"))","v":""},{"$f":"IFERROR(INDEX(BS:BS,SMALL(BT:BT,ROW(A1702))),\"\")","v":""},"","","",""]
[{"$f":"IF(F1708<>\"\",事業者基本情報!$E$9&事業者基本情報!$F$9&事業者基本情報!$G$9,\"\")","v":""},{"$f":"IF(F1708<>\"\",事業者基本情報!$Y$10,\"\")","v":""},{"$f":"IF(F1708<>\"\",事業者基本情報!$Y$7,\"\")","v":""},{"$f":"IF(F1708<>\"\",事業者基本情報!$Y$8,\"\")","v":""},{"$f":"IF(F1708<>\"\",事業者基本情報!$E$11&事業者基本情報!$F$11&事業者基本情報!$G$11&事業者基本情報!$H$11&事業者基本情報!$I$11,\"\")","v":""},null,null,null,"市",null,null,"-",null,"-",null,{"$f":"IFERROR(VLOOKUP(Q1708,コード表!$B$3:$C$101,2,FALSE),\"\")","v":""},null,{"$f":"IFERROR(VLOOKUP(S1708,コード表!$F$7:$G$141,2,FALSE),\"\")","v":""},null,null,"t",null,null,null,null,null,null,null,null,null,null,null,null,null,null,null,null,null,null,null,null,null,null,null,null,null,null,null,null,null,null,null,null,null,null,null,null,null,null,null,null,null,null,null,null,null,null,null,null,"","",{"$f":"IF(BS1708=\"\",\"\",IF(COUNTIF(BS$4:BS1708,BS1708)=1,ROW(),\"\"))","v":""},{"$f":"IFERROR(INDEX(BS:BS,SMALL(BT:BT,ROW(A1705))),\"\")","v":""},"","","",""]
[{"$f":"IF(F1712<>\"\",事業者基本情報!$E$9&事業者基本情報!$F$9&事業者基本情報!$G$9,\"\")","v":""},{"$f":"IF(F1712<>\"\",事業者基本情報!$Y$10,\"\")","v":""},{"$f":"IF(F1712<>\"\",事業者基本情報!$Y$7,\"\")","v":""},{"$f":"IF(F1712<>\"\",事業者基本情報!$Y$8,\"\")","v":""},{"$f":"IF(F1712<>\"\",事業者基本情報!$E$11&事業者基本情報!$F$11&事業者基本情報!$G$11&事業者基本情報!$H$11&事業者基本情報!$I$11,\"\")","v":""},null,null,null,"市",null,null,"-",null,"-",null,{"$f":"IFERROR(VLOOKUP(Q1712,コード表!$B$3:$C$101,2,FALSE),\"\")","v":""},null,{"$f":"IFERROR(VLOOKUP(S1712,コード表!$F$7:$G$141,2,FALSE),\"\")","v":""},null,null,"t",null,null,null,null,null,null,null,null,null,null,null,null,null,null,null,null,null,null,null,null,null,null,null,null,null,null,null,null,null,null,null,null,null,null,null,null,null,null,null,null,null,null,null,null,null,null,null,null,"","",{"$f":"IF(BS1712=\"\",\"\",IF(COUNTIF(BS$4:BS1712,BS1712)=1,ROW(),\"\"))","v":""},{"$f":"IFERROR(INDEX(BS:BS,SMALL(BT:BT,ROW(A1709))),\"\")","v":""},"","","",""]
[{"$f":"IF(F1714<>\"\",事業者基本情報!$E$9&事業者基本情報!$F$9&事業者基本情報!$G$9,\"\")","v":""},{"$f":"IF(F1714<>\"\",事業者基本情報!$Y$10,\"\")","v":""},{"$f":"IF(F1714<>\"\",事業者基本情報!$Y$7,\"\")","v":""},{"$f":"IF(F1714<>\"\",事業者基本情報!$Y$8,\"\")","v":""},{"$f":"IF(F1714<>\"\",事業者基本情報!$E$11&事業者基本情報!$F$11&事業者基本情報!$G$11&事業者基本情報!$H$11&事業者基本情報!$I$11,\"\")","v":""},null,null,null,"市",null,null,"-",null,"-",null,{"$f":"IFERROR(VLOOKUP(Q1714,コード表!$B$3:$C$101,2,FALSE),\"\")","v":""},null,{"$f":"IFERROR(VLOOKUP(S1714,コード表!$F$7:$G$141,2,FALSE),\"\")","v":""},null,null,"t",null,null,null,null,null,null,null,null,null,null,null,null,null,null,null,null,null,null,null,null,null,null,null,null,null,null,null,null,null,null,null,null,null,null,null,null,null,null,null,null,null,null,null,null,null,null,null,null,"","",{"$f":"IF(BS1714=\"\",\"\",IF(COUNTIF(BS$4:BS1714,BS1714)=1,ROW(),\"\"))","v":""},{"$f":"IFERROR(INDEX(BS:BS,SMALL(BT:BT,ROW(A1711))),\"\")","v":""},"","","",""]
[{"$f":"IF(F1717<>\"\",事業者基本情報!$E$9&事業者基本情報!$F$9&事業者基本情報!$G$9,\"\")","v":""},{"$f":"IF(F1717<>\"\",事業者基本情報!$Y$10,\"\")","v":""},{"$f":"IF(F1717<>\"\",事業者基本情報!$Y$7,\"\")","v":""},{"$f":"IF(F1717<>\"\",事業者基本情報!$Y$8,\"\")","v":""},{"$f":"IF(F1717<>\"\",事業者基本情報!$E$11&事業者基本情報!$F$11&事業者基本情報!$G$11&事業者基本情報!$H$11&事業者基本情報!$I$11,\"\")","v":""},null,null,null,"市",null,null,"-",null,"-",null,{"$f":"IFERROR(VLOOKUP(Q1717,コード表!$B$3:$C$101,2,FALSE),\"\")","v":""},null,{"$f":"IFERROR(VLOOKUP(S1717,コード表!$F$7:$G$141,2,FALSE),\"\")","v":""},null,null,"t",null,null,null,null,null,null,null,null,null,null,null,null,null,null,null,null,null,null,null,null,null,null,null,null,null,null,null,null,null,null,null,null,null,null,null,null,null,null,null,null,null,null,null,null,null,null,null,null,"","",{"$f":"IF(BS1717=\"\",\"\",IF(COUNTIF(BS$4:BS1717,BS1717)=1,ROW(),\"\"))","v":""},{"$f":"IFERROR(INDEX(BS:BS,SMALL(BT:BT,ROW(A1714))),\"\")","v":""},"","","",""]
[{"$f":"IF(F1721<>\"\",事業者基本情報!$E$9&事業者基本情報!$F$9&事業者基本情報!$G$9,\"\")","v":""},{"$f":"IF(F1721<>\"\",事業者基本情報!$Y$10,\"\")","v":""},{"$f":"IF(F1721<>\"\",事業者基本情報!$Y$7,\"\")","v":""},{"$f":"IF(F1721<>\"\",事業者基本情報!$Y$8,\"\")","v":""},{"$f":"IF(F1721<>\"\",事業者基本情報!$E$11&事業者基本情報!$F$11&事業者基本情報!$G$11&事業者基本情報!$H$11&事業者基本情報!$I$11,\"\")","v":""},null,null,null,"市",null,null,"-",null,"-",null,{"$f":"IFERROR(VLOOKUP(Q1721,コード表!$B$3:$C$101,2,FALSE),\"\")","v":""},null,{"$f":"IFERROR(VLOOKUP(S1721,コード表!$F$7:$G$141,2,FALSE),\"\")","v":""},null,null,"t",null,null,null,null,null,null,null,null,null,null,null,null,null,null,null,null,null,null,null,null,null,null,null,null,null,null,null,null,null,null,null,null,null,null,null,null,null,null,null,null,null,null,null,null,null,null,null,null,"","",{"$f":"IF(BS1721=\"\",\"\",IF(COUNTIF(BS$4:BS1721,BS1721)=1,ROW(),\"\"))","v":""},{"$f":"IFERROR(INDEX(BS:BS,SMALL(BT:BT,ROW(A1718))),\"\")","v":""},"","","",""]
[{"$f":"IF(F1723<>\"\",事業者基本情報!$E$9&事業者基本情報!$F$9&事業者基本情報!$G$9,\"\")","v":""},{"$f":"IF(F1723<>\"\",事業者基本情報!$Y$10,\"\")","v":""},{"$f":"IF(F1723<>\"\",事業者基本情報!$Y$7,\"\")","v":""},{"$f":"IF(F1723<>\"\",事業者基本情報!$Y$8,\"\")","v":""},{"$f":"IF(F1723<>\"\",事業者基本情報!$E$11&事業者基本情報!$F$11&事業者基本情報!$G$11&事業者基本情報!$H$11&事業者基本情報!$I$11,\"\")","v":""},null,null,null,"市",null,null,"-",null,"-",null,{"$f":"IFERROR(VLOOKUP(Q1723,コード表!$B$3:$C$101,2,FALSE),\"\")","v":""},null,{"$f":"IFERROR(VLOOKUP(S1723,コード表!$F$7:$G$141,2,FALSE),\"\")","v":""},null,null,"t",null,null,null,null,null,null,null,null,null,null,null,null,null,null,null,null,null,null,null,null,null,null,null,null,null,null,null,null,null,null,null,null,null,null,null,null,null,null,null,null,null,null,null,null,null,null,null,null,"","",{"$f":"IF(BS1723=\"\",\"\",IF(COUNTIF(BS$4:BS1723,BS1723)=1,ROW(),\"\"))","v":""},{"$f":"IFERROR(INDEX(BS:BS,SMALL(BT:BT,ROW(A1720))),\"\")","v":""},"","","",""]
[{"$f":"IF(F1726<>\"\",事業者基本情報!$E$9&事業者基本情報!$F$9&事業者基本情報!$G$9,\"\")","v":""},{"$f":"IF(F1726<>\"\",事業者基本情報!$Y$10,\"\")","v":""},{"$f":"IF(F1726<>\"\",事業者基本情報!$Y$7,\"\")","v":""},{"$f":"IF(F1726<>\"\",事業者基本情報!$Y$8,\"\")","v":""},{"$f":"IF(F1726<>\"\",事業者基本情報!$E$11&事業者基本情報!$F$11&事業者基本情報!$G$11&事業者基本情報!$H$11&事業者基本情報!$I$11,\"\")","v":""},null,null,null,"市",null,null,"-",null,"-",null,{"$f":"IFERROR(VLOOKUP(Q1726,コード表!$B$3:$C$101,2,FALSE),\"\")","v":""},null,{"$f":"IFERROR(VLOOKUP(S1726,コード表!$F$7:$G$141,2,FALSE),\"\")","v":""},null,null,"t",null,null,null,null,null,null,null,null,null,null,null,null,null,null,null,null,null,null,null,null,null,null,null,null,null,null,null,null,null,null,null,null,null,null,null,null,null,null,null,null,null,null,null,null,null,null,null,null,"","",{"$f":"IF(BS1726=\"\",\"\",IF(COUNTIF(BS$4:BS1726,BS1726)=1,ROW(),\"\"))","v":""},{"$f":"IFERROR(INDEX(BS:BS,SMALL(BT:BT,ROW(A1723))),\"\")","v":""},"","","",""]
[{"$f":"IF(F1727<>\"\",事業者基本情報!$E$9&事業者基本情報!$F$9&事業者基本情報!$G$9,\"\")","v":""},{"$f":"IF(F1727<>\"\",事業者基本情報!$Y$10,\"\")","v":""},{"$f":"IF(F1727<>\"\",事業者基本情報!$Y$7,\"\")","v":""},{"$f":"IF(F1727<>\"\",事業者基本情報!$Y$8,\"\")","v":""},{"$f":"IF(F1727<>\"\",事業者基本情報!$E$11&事業者基本情報!$F$11&事業者基本情報!$G$11&事業者基本情報!$H$11&事業者基本情報!$I$11,\"\")","v":""},null,null,null,"市",null,null,"-",null,"-",null,{"$f":"IFERROR(VLOOKUP(Q1727,コード表!$B$3:$C$101,2,FALSE),\"\")","v":""},null,{"$f":"IFERROR(VLOOKUP(S1727,コード表!$F$7:$G$141,2,FALSE),\"\")","v":""},null,null,"t",null,null,null,null,null,null,null,null,null,null,null,null,null,null,null,null,null,null,null,null,null,null,null,null,null,null,null,null,null,null,null,null,null,null,null,null,null,null,null,null,null,null,null,null,null,null,null,null,"","",{"$f":"IF(BS1727=\"\",\"\",IF(COUNTIF(BS$4:BS1727,BS1727)=1,ROW(),\"\"))","v":""},{"$f":"IFERROR(INDEX(BS:BS,SMALL(BT:BT,ROW(A1724))),\"\")","v":""},"","","",""]
[{"$f":"IF(F1730<>\"\",事業者基本情報!$E$9&事業者基本情報!$F$9&事業者基本情報!$G$9,\"\")","v":""},{"$f":"IF(F1730<>\"\",事業者基本情報!$Y$10,\"\")","v":""},{"$f":"IF(F1730<>\"\",事業者基本情報!$Y$7,\"\")","v":""},{"$f":"IF(F1730<>\"\",事業者基本情報!$Y$8,\"\")","v":""},{"$f":"IF(F1730<>\"\",事業者基本情報!$E$11&事業者基本情報!$F$11&事業者基本情報!$G$11&事業者基本情報!$H$11&事業者基本情報!$I$11,\"\")","v":""},null,null,null,"市",null,null,"-",null,"-",null,{"$f":"IFERROR(VLOOKUP(Q1730,コード表!$B$3:$C$101,2,FALSE),\"\")","v":""},null,{"$f":"IFERROR(VLOOKUP(S1730,コード表!$F$7:$G$141,2,FALSE),\"\")","v":""},null,null,"t",null,null,null,null,null,null,null,null,null,null,null,null,null,null,null,null,null,null,null,null,null,null,null,null,null,null,null,null,null,null,null,null,null,null,null,null,null,null,null,null,null,null,null,null,null,null,null,null,"","",{"$f":"IF(BS1730=\"\",\"\",IF(COUNTIF(BS$4:BS1730,BS1730)=1,ROW(),\"\"))","v":""},{"$f":"IFERROR(INDEX(BS:BS,SMALL(BT:BT,ROW(A1727))),\"\")","v":""},"","","",""]
[{"$f":"IF(F1734<>\"\",事業者基本情報!$E$9&事業者基本情報!$F$9&事業者基本情報!$G$9,\"\")","v":""},{"$f":"IF(F1734<>\"\",事業者基本情報!$Y$10,\"\")","v":""},{"$f":"IF(F1734<>\"\",事業者基本情報!$Y$7,\"\")","v":""},{"$f":"IF(F1734<>\"\",事業者基本情報!$Y$8,\"\")","v":""},{"$f":"IF(F1734<>\"\",事業者基本情報!$E$11&事業者基本情報!$F$11&事業者基本情報!$G$11&事業者基本情報!$H$11&事業者基本情報!$I$11,\"\")","v":""},null,null,null,"市",null,null,"-",null,"-",null,{"$f":"IFERROR(VLOOKUP(Q1734,コード表!$B$3:$C$101,2,FALSE),\"\")","v":""},null,{"$f":"IFERROR(VLOOKUP(S1734,コード表!$F$7:$G$141,2,FALSE),\"\")","v":""},null,null,"t",null,null,null,null,null,null,null,null,null,null,null,null,null,null,null,null,null,null,null,null,null,null,null,null,null,null,null,null,null,null,null,null,null,null,null,null,null,null,null,null,null,null,null,null,null,null,null,null,"","",{"$f":"IF(BS1734=\"\",\"\",IF(COUNTIF(BS$4:BS1734,BS1734)=1,ROW(),\"\"))","v":""},{"$f":"IFERROR(INDEX(BS:BS,SMALL(BT:BT,ROW(A1731))),\"\")","v":""},"","","",""]
[{"$f":"IF(F1736<>\"\",事業者基本情報!$E$9&事業者基本情報!$F$9&事業者基本情報!$G$9,\"\")","v":""},{"$f":"IF(F1736<>\"\",事業者基本情報!$Y$10,\"\")","v":""},{"$f":"IF(F1736<>\"\",事業者基本情報!$Y$7,\"\")","v":""},{"$f":"IF(F1736<>\"\",事業者基本情報!$Y$8,\"\")","v":""},{"$f":"IF(F1736<>\"\",事業者基本情報!$E$11&事業者基本情報!$F$11&事業者基本情報!$G$11&事業者基本情報!$H$11&事業者基本情報!$I$11,\"\")","v":""},null,null,null,"市",null,null,"-",null,"-",null,{"$f":"IFERROR(VLOOKUP(Q1736,コード表!$B$3:$C$101,2,FALSE),\"\")","v":""},null,{"$f":"IFERROR(VLOOKUP(S1736,コード表!$F$7:$G$141,2,FALSE),\"\")","v":""},null,null,"t",null,null,null,null,null,null,null,null,null,null,null,null,null,null,null,null,null,null,null,null,null,null,null,null,null,null,null,null,null,null,null,null,null,null,null,null,null,null,null,null,null,null,null,null,null,null,null,null,"","",{"$f":"IF(BS1736=\"\",\"\",IF(COUNTIF(BS$4:BS1736,BS1736)=1,ROW(),\"\"))","v":""},{"$f":"IFERROR(INDEX(BS:BS,SMALL(BT:BT,ROW(A1733))),\"\")","v":""},"","","",""]
[{"$f":"IF(F1739<>\"\",事業者基本情報!$E$9&事業者基本情報!$F$9&事業者基本情報!$G$9,\"\")","v":""},{"$f":"IF(F1739<>\"\",事業者基本情報!$Y$10,\"\")","v":""},{"$f":"IF(F1739<>\"\",事業者基本情報!$Y$7,\"\")","v":""},{"$f":"IF(F1739<>\"\",事業者基本情報!$Y$8,\"\")","v":""},{"$f":"IF(F1739<>\"\",事業者基本情報!$E$11&事業者基本情報!$F$11&事業者基本情報!$G$11&事業者基本情報!$H$11&事業者基本情報!$I$11,\"\")","v":""},null,null,null,"市",null,null,"-",null,"-",null,{"$f":"IFERROR(VLOOKUP(Q1739,コード表!$B$3:$C$101,2,FALSE),\"\")","v":""},null,{"$f":"IFERROR(VLOOKUP(S1739,コード表!$F$7:$G$141,2,FALSE),\"\")","v":""},null,null,"t",null,null,null,null,null,null,null,null,null,null,null,null,null,null,null,null,null,null,null,null,null,null,null,null,null,null,null,null,null,null,null,null,null,null,null,null,null,null,null,null,null,null,null,null,null,null,null,null,"","",{"$f":"IF(BS1739=\"\",\"\",IF(COUNTIF(BS$4:BS1739,BS1739)=1,ROW(),\"\"))","v":""},{"$f":"IFERROR(INDEX(BS:BS,SMALL(BT:BT,ROW(A1736))),\"\")","v":""},"","","",""]
[{"$f":"IF(F1743<>\"\",事業者基本情報!$E$9&事業者基本情報!$F$9&事業者基本情報!$G$9,\"\")","v":""},{"$f":"IF(F1743<>\"\",事業者基本情報!$Y$10,\"\")","v":""},{"$f":"IF(F1743<>\"\",事業者基本情報!$Y$7,\"\")","v":""},{"$f":"IF(F1743<>\"\",事業者基本情報!$Y$8,\"\")","v":""},{"$f":"IF(F1743<>\"\",事業者基本情報!$E$11&事業者基本情報!$F$11&事業者基本情報!$G$11&事業者基本情報!$H$11&事業者基本情報!$I$11,\"\")","v":""},null,null,null,"市",null,null,"-",null,"-",null,{"$f":"IFERROR(VLOOKUP(Q1743,コード表!$B$3:$C$101,2,FALSE),\"\")","v":""},null,{"$f":"IFERROR(VLOOKUP(S1743,コード表!$F$7:$G$141,2,FALSE),\"\")","v":""},null,null,"t",null,null,null,null,null,null,null,null,null,null,null,null,null,null,null,null,null,null,null,null,null,null,null,null,null,null,null,null,null,null,null,null,null,null,null,null,null,null,null,null,null,null,null,null,null,null,null,null,"","",{"$f":"IF(BS1743=\"\",\"\",IF(COUNTIF(BS$4:BS1743,BS1743)=1,ROW(),\"\"))","v":""},{"$f":"IFERROR(INDEX(BS:BS,SMALL(BT:BT,ROW(A1740))),\"\")","v":""},"","","",""]
[{"$f":"IF(F1745<>\"\",事業者基本情報!$E$9&事業者基本情報!$F$9&事業者基本情報!$G$9,\"\")","v":""},{"$f":"IF(F1745<>\"\",事業者基本情報!$Y$10,\"\")","v":""},{"$f":"IF(F1745<>\"\",事業者基本情報!$Y$7,\"\")","v":""},{"$f":"IF(F1745<>\"\",事業者基本情報!$Y$8,\"\")","v":""},{"$f":"IF(F1745<>\"\",事業者基本情報!$E$11&事業者基本情報!$F$11&事業者基本情報!$G$11&事業者基本情報!$H$11&事業者基本情報!$I$11,\"\")","v":""},null,null,null,"市",null,null,"-",null,"-",null,{"$f":"IFERROR(VLOOKUP(Q1745,コード表!$B$3:$C$101,2,FALSE),\"\")","v":""},null,{"$f":"IFERROR(VLOOKUP(S1745,コード表!$F$7:$G$141,2,FALSE),\"\")","v":""},null,null,"t",null,null,null,null,null,null,null,null,null,null,null,null,null,null,null,null,null,null,null,null,null,null,null,null,null,null,null,null,null,null,null,null,null,null,null,null,null,null,null,null,null,null,null,null,null,null,null,null,"","",{"$f":"IF(BS1745=\"\",\"\",IF(COUNTIF(BS$4:BS1745,BS1745)=1,ROW(),\"\"))","v":""},{"$f":"IFERROR(INDEX(BS:BS,SMALL(BT:BT,ROW(A1742))),\"\")","v":""},"","","",""]
[{"$f":"IF(F1746<>\"\",事業者基本情報!$E$9&事業者基本情報!$F$9&事業者基本情報!$G$9,\"\")","v":""},{"$f":"IF(F1746<>\"\",事業者基本情報!$Y$10,\"\")","v":""},{"$f":"IF(F1746<>\"\",事業者基本情報!$Y$7,\"\")","v":""},{"$f":"IF(F1746<>\"\",事業者基本情報!$Y$8,\"\")","v":""},{"$f":"IF(F1746<>\"\",事業者基本情報!$E$11&事業者基本情報!$F$11&事業者基本情報!$G$11&事業者基本情報!$H$11&事業者基本情報!$I$11,\"\")","v":""},null,null,null,"市",null,null,"-",null,"-",null,{"$f":"IFERROR(VLOOKUP(Q1746,コード表!$B$3:$C$101,2,FALSE),\"\")","v":""},null,{"$f":"IFERROR(VLOOKUP(S1746,コード表!$F$7:$G$141,2,FALSE),\"\")","v":""},null,null,"t",null,null,null,null,null,null,null,null,null,null,null,null,null,null,null,null,null,null,null,null,null,null,null,null,null,null,null,null,null,null,null,null,null,null,null,null,null,null,null,null,null,null,null,null,null,null,null,null,"","",{"$f":"IF(BS1746=\"\",\"\",IF(COUNTIF(BS$4:BS1746,BS1746)=1,ROW(),\"\"))","v":""},{"$f":"IFERROR(INDEX(BS:BS,SMALL(BT:BT,ROW(A1743))),\"\")","v":""},"","","",""]
[{"$f":"IF(F1749<>\"\",事業者基本情報!$E$9&事業者基本情報!$F$9&事業者基本情報!$G$9,\"\")","v":""},{"$f":"IF(F1749<>\"\",事業者基本情報!$Y$10,\"\")","v":""},{"$f":"IF(F1749<>\"\",事業者基本情報!$Y$7,\"\")","v":""},{"$f":"IF(F1749<>\"\",事業者基本情報!$Y$8,\"\")","v":""},{"$f":"IF(F1749<>\"\",事業者基本情報!$E$11&事業者基本情報!$F$11&事業者基本情報!$G$11&事業者基本情報!$H$11&事業者基本情報!$I$11,\"\")","v":""},null,null,null,"市",null,null,"-",null,"-",null,{"$f":"IFERROR(VLOOKUP(Q1749,コード表!$B$3:$C$101,2,FALSE),\"\")","v":""},null,{"$f":"IFERROR(VLOOKUP(S1749,コード表!$F$7:$G$141,2,FALSE),\"\")","v":""},null,null,"t",null,null,null,null,null,null,null,null,null,null,null,null,null,null,null,null,null,null,null,null,null,null,null,null,null,null,null,null,null,null,null,null,null,null,null,null,null,null,null,null,null,null,null,null,null,null,null,null,"","",{"$f":"IF(BS1749=\"\",\"\",IF(COUNTIF(BS$4:BS1749,BS1749)=1,ROW(),\"\"))","v":""},{"$f":"IFERROR(INDEX(BS:BS,SMALL(BT:BT,ROW(A1746))),\"\")","v":""},"","","",""]
[{"$f":"IF(F1752<>\"\",事業者基本情報!$E$9&事業者基本情報!$F$9&事業者基本情報!$G$9,\"\")","v":""},{"$f":"IF(F1752<>\"\",事業者基本情報!$Y$10,\"\")","v":""},{"$f":"IF(F1752<>\"\",事業者基本情報!$Y$7,\"\")","v":""},{"$f":"IF(F1752<>\"\",事業者基本情報!$Y$8,\"\")","v":""},{"$f":"IF(F1752<>\"\",事業者基本情報!$E$11&事業者基本情報!$F$11&事業者基本情報!$G$11&事業者基本情報!$H$11&事業者基本情報!$I$11,\"\")","v":""},null,null,null,"市",null,null,"-",null,"-",null,{"$f":"IFERROR(VLOOKUP(Q1752,コード表!$B$3:$C$101,2,FALSE),\"\")","v":""},null,{"$f":"IFERROR(VLOOKUP(S1752,コード表!$F$7:$G$141,2,FALSE),\"\")","v":""},null,null,"t",null,null,null,null,null,null,null,null,null,null,null,null,null,null,null,null,null,null,null,null,null,null,null,null,null,null,null,null,null,null,null,null,null,null,null,null,null,null,null,null,null,null,null,null,null,null,null,null,"","",{"$f":"IF(BS1752=\"\",\"\",IF(COUNTIF(BS$4:BS1752,BS1752)=1,ROW(),\"\"))","v":""},{"$f":"IFERROR(INDEX(BS:BS,SMALL(BT:BT,ROW(A1749))),\"\")","v":""},"","","",""]
[{"$f":"IF(F1756<>\"\",事業者基本情報!$E$9&事業者基本情報!$F$9&事業者基本情報!$G$9,\"\")","v":""},{"$f":"IF(F1756<>\"\",事業者基本情報!$Y$10,\"\")","v":""},{"$f":"IF(F1756<>\"\",事業者基本情報!$Y$7,\"\")","v":""},{"$f":"IF(F1756<>\"\",事業者基本情報!$Y$8,\"\")","v":""},{"$f":"IF(F1756<>\"\",事業者基本情報!$E$11&事業者基本情報!$F$11&事業者基本情報!$G$11&事業者基本情報!$H$11&事業者基本情報!$I$11,\"\")","v":""},null,null,null,"市",null,null,"-",null,"-",null,{"$f":"IFERROR(VLOOKUP(Q1756,コード表!$B$3:$C$101,2,FALSE),\"\")","v":""},null,{"$f":"IFERROR(VLOOKUP(S1756,コード表!$F$7:$G$141,2,FALSE),\"\")","v":""},null,null,"t",null,null,null,null,null,null,null,null,null,null,null,null,null,null,null,null,null,null,null,null,null,null,null,null,null,null,null,null,null,null,null,null,null,null,null,null,null,null,null,null,null,null,null,null,null,null,null,null,"","",{"$f":"IF(BS1756=\"\",\"\",IF(COUNTIF(BS$4:BS1756,BS1756)=1,ROW(),\"\"))","v":""},{"$f":"IFERROR(INDEX(BS:BS,SMALL(BT:BT,ROW(A1753))),\"\")","v":""},"","","",""]
[{"$f":"IF(F1758<>\"\",事業者基本情報!$E$9&事業者基本情報!$F$9&事業者基本情報!$G$9,\"\")","v":""},{"$f":"IF(F1758<>\"\",事業者基本情報!$Y$10,\"\")","v":""},{"$f":"IF(F1758<>\"\",事業者基本情報!$Y$7,\"\")","v":""},{"$f":"IF(F1758<>\"\",事業者基本情報!$Y$8,\"\")","v":""},{"$f":"IF(F1758<>\"\",事業者基本情報!$E$11&事業者基本情報!$F$11&事業者基本情報!$G$11&事業者基本情報!$H$11&事業者基本情報!$I$11,\"\")","v":""},null,null,null,"市",null,null,"-",null,"-",null,{"$f":"IFERROR(VLOOKUP(Q1758,コード表!$B$3:$C$101,2,FALSE),\"\")","v":""},null,{"$f":"IFERROR(VLOOKUP(S1758,コード表!$F$7:$G$141,2,FALSE),\"\")","v":""},null,null,"t",null,null,null,null,null,null,null,null,null,null,null,null,null,null,null,null,null,null,null,null,null,null,null,null,null,null,null,null,null,null,null,null,null,null,null,null,null,null,null,null,null,null,null,null,null,null,null,null,"","",{"$f":"IF(BS1758=\"\",\"\",IF(COUNTIF(BS$4:BS1758,BS1758)=1,ROW(),\"\"))","v":""},{"$f":"IFERROR(INDEX(BS:BS,SMALL(BT:BT,ROW(A1755))),\"\")","v":""},"","","",""]
[{"$f":"IF(F1761<>\"\",事業者基本情報!$E$9&事業者基本情報!$F$9&事業者基本情報!$G$9,\"\")","v":""},{"$f":"IF(F1761<>\"\",事業者基本情報!$Y$10,\"\")","v":""},{"$f":"IF(F1761<>\"\",事業者基本情報!$Y$7,\"\")","v":""},{"$f":"IF(F1761<>\"\",事業者基本情報!$Y$8,\"\")","v":""},{"$f":"IF(F1761<>\"\",事業者基本情報!$E$11&事業者基本情報!$F$11&事業者基本情報!$G$11&事業者基本情報!$H$11&事業者基本情報!$I$11,\"\")","v":""},null,null,null,"市",null,null,"-",null,"-",null,{"$f":"IFERROR(VLOOKUP(Q1761,コード表!$B$3:$C$101,2,FALSE),\"\")","v":""},null,{"$f":"IFERROR(VLOOKUP(S1761,コード表!$F$7:$G$141,2,FALSE),\"\")","v":""},null,null,"t",null,null,null,null,null,null,null,null,null,null,null,null,null,null,null,null,null,null,null,null,null,null,null,null,null,null,null,null,null,null,null,null,null,null,null,null,null,null,null,null,null,null,null,null,null,null,null,null,"","",{"$f":"IF(BS1761=\"\",\"\",IF(COUNTIF(BS$4:BS1761,BS1761)=1,ROW(),\"\"))","v":""},{"$f":"IFERROR(INDEX(BS:BS,SMALL(BT:BT,ROW(A1758))),\"\")","v":""},"","","",""]
[{"$f":"IF(F1765<>\"\",事業者基本情報!$E$9&事業者基本情報!$F$9&事業者基本情報!$G$9,\"\")","v":""},{"$f":"IF(F1765<>\"\",事業者基本情報!$Y$10,\"\")","v":""},{"$f":"IF(F1765<>\"\",事業者基本情報!$Y$7,\"\")","v":""},{"$f":"IF(F1765<>\"\",事業者基本情報!$Y$8,\"\")","v":""},{"$f":"IF(F1765<>\"\",事業者基本情報!$E$11&事業者基本情報!$F$11&事業者基本情報!$G$11&事業者基本情報!$H$11&事業者基本情報!$I$11,\"\")","v":""},null,null,null,"市",null,null,"-",null,"-",null,{"$f":"IFERROR(VLOOKUP(Q1765,コード表!$B$3:$C$101,2,FALSE),\"\")","v":""},null,{"$f":"IFERROR(VLOOKUP(S1765,コード表!$F$7:$G$141,2,FALSE),\"\")","v":""},null,null,"t",null,null,null,null,null,null,null,null,null,null,null,null,null,null,null,null,null,null,null,null,null,null,null,null,null,null,null,null,null,null,null,null,null,null,null,null,null,null,null,null,null,null,null,null,null,null,null,null,"","",{"$f":"IF(BS1765=\"\",\"\",IF(COUNTIF(BS$4:BS1765,BS1765)=1,ROW(),\"\"))","v":""},{"$f":"IFERROR(INDEX(BS:BS,SMALL(BT:BT,ROW(A1762))),\"\")","v":""},"","","",""]
[{"$f":"IF(F1767<>\"\",事業者基本情報!$E$9&事業者基本情報!$F$9&事業者基本情報!$G$9,\"\")","v":""},{"$f":"IF(F1767<>\"\",事業者基本情報!$Y$10,\"\")","v":""},{"$f":"IF(F1767<>\"\",事業者基本情報!$Y$7,\"\")","v":""},{"$f":"IF(F1767<>\"\",事業者基本情報!$Y$8,\"\")","v":""},{"$f":"IF(F1767<>\"\",事業者基本情報!$E$11&事業者基本情報!$F$11&事業者基本情報!$G$11&事業者基本情報!$H$11&事業者基本情報!$I$11,\"\")","v":""},null,null,null,"市",null,null,"-",null,"-",null,{"$f":"IFERROR(VLOOKUP(Q1767,コード表!$B$3:$C$101,2,FALSE),\"\")","v":""},null,{"$f":"IFERROR(VLOOKUP(S1767,コード表!$F$7:$G$141,2,FALSE),\"\")","v":""},null,null,"t",null,null,null,null,null,null,null,null,null,null,null,null,null,null,null,null,null,null,null,null,null,null,null,null,null,null,null,null,null,null,null,null,null,null,null,null,null,null,null,null,null,null,null,null,null,null,null,null,"","",{"$f":"IF(BS1767=\"\",\"\",IF(COUNTIF(BS$4:BS1767,BS1767)=1,ROW(),\"\"))","v":""},{"$f":"IFERROR(INDEX(BS:BS,SMALL(BT:BT,ROW(A1764))),\"\")","v":""},"","","",""]
[{"$f":"IF(F1768<>\"\",事業者基本情報!$E$9&事業者基本情報!$F$9&事業者基本情報!$G$9,\"\")","v":""},{"$f":"IF(F1768<>\"\",事業者基本情報!$Y$10,\"\")","v":""},{"$f":"IF(F1768<>\"\",事業者基本情報!$Y$7,\"\")","v":""},{"$f":"IF(F1768<>\"\",事業者基本情報!$Y$8,\"\")","v":""},{"$f":"IF(F1768<>\"\",事業者基本情報!$E$11&事業者基本情報!$F$11&事業者基本情報!$G$11&事業者基本情報!$H$11&事業者基本情報!$I$11,\"\")","v":""},null,null,null,"市",null,null,"-",null,"-",null,{"$f":"IFERROR(VLOOKUP(Q1768,コード表!$B$3:$C$101,2,FALSE),\"\")","v":""},null,{"$f":"IFERROR(VLOOKUP(S1768,コード表!$F$7:$G$141,2,FALSE),\"\")","v":""},null,null,"t",null,null,null,null,null,null,null,null,null,null,null,null,null,null,null,null,null,null,null,null,null,null,null,null,null,null,null,null,null,null,null,null,null,null,null,null,null,null,null,null,null,null,null,null,null,null,null,null,"","",{"$f":"IF(BS1768=\"\",\"\",IF(COUNTIF(BS$4:BS1768,BS1768)=1,ROW(),\"\"))","v":""},{"$f":"IFERROR(INDEX(BS:BS,SMALL(BT:BT,ROW(A1765))),\"\")","v":""},"","","",""]
[{"$f":"IF(F1771<>\"\",事業者基本情報!$E$9&事業者基本情報!$F$9&事業者基本情報!$G$9,\"\")","v":""},{"$f":"IF(F1771<>\"\",事業者基本情報!$Y$10,\"\")","v":""},{"$f":"IF(F1771<>\"\",事業者基本情報!$Y$7,\"\")","v":""},{"$f":"IF(F1771<>\"\",事業者基本情報!$Y$8,\"\")","v":""},{"$f":"IF(F1771<>\"\",事業者基本情報!$E$11&事業者基本情報!$F$11&事業者基本情報!$G$11&事業者基本情報!$H$11&事業者基本情報!$I$11,\"\")","v":""},null,null,null,"市",null,null,"-",null,"-",null,{"$f":"IFERROR(VLOOKUP(Q1771,コード表!$B$3:$C$101,2,FALSE),\"\")","v":""},null,{"$f":"IFERROR(VLOOKUP(S1771,コード表!$F$7:$G$141,2,FALSE),\"\")","v":""},null,null,"t",null,null,null,null,null,null,null,null,null,null,null,null,null,null,null,null,null,null,null,null,null,null,null,null,null,null,null,null,null,null,null,null,null,null,null,null,null,null,null,null,null,null,null,null,null,null,null,null,"","",{"$f":"IF(BS1771=\"\",\"\",IF(COUNTIF(BS$4:BS1771,BS1771)=1,ROW(),\"\"))","v":""},{"$f":"IFERROR(INDEX(BS:BS,SMALL(BT:BT,ROW(A1768))),\"\")","v":""},"","","",""]
[{"$f":"IF(F1774<>\"\",事業者基本情報!$E$9&事業者基本情報!$F$9&事業者基本情報!$G$9,\"\")","v":""},{"$f":"IF(F1774<>\"\",事業者基本情報!$Y$10,\"\")","v":""},{"$f":"IF(F1774<>\"\",事業者基本情報!$Y$7,\"\")","v":""},{"$f":"IF(F1774<>\"\",事業者基本情報!$Y$8,\"\")","v":""},{"$f":"IF(F1774<>\"\",事業者基本情報!$E$11&事業者基本情報!$F$11&事業者基本情報!$G$11&事業者基本情報!$H$11&事業者基本情報!$I$11,\"\")","v":""},null,null,null,"市",null,null,"-",null,"-",null,{"$f":"IFERROR(VLOOKUP(Q1774,コード表!$B$3:$C$101,2,FALSE),\"\")","v":""},null,{"$f":"IFERROR(VLOOKUP(S1774,コード表!$F$7:$G$141,2,FALSE),\"\")","v":""},null,null,"t",null,null,null,null,null,null,null,null,null,null,null,null,null,null,null,null,null,null,null,null,null,null,null,null,null,null,null,null,null,null,null,null,null,null,null,null,null,null,null,null,null,null,null,null,null,null,null,null,"","",{"$f":"IF(BS1774=\"\",\"\",IF(COUNTIF(BS$4:BS1774,BS1774)=1,ROW(),\"\"))","v":""},{"$f":"IFERROR(INDEX(BS:BS,SMALL(BT:BT,ROW(A1771))),\"\")","v":""},"","","",""]
[{"$f":"IF(F1778<>\"\",事業者基本情報!$E$9&事業者基本情報!$F$9&事業者基本情報!$G$9,\"\")","v":""},{"$f":"IF(F1778<>\"\",事業者基本情報!$Y$10,\"\")","v":""},{"$f":"IF(F1778<>\"\",事業者基本情報!$Y$7,\"\")","v":""},{"$f":"IF(F1778<>\"\",事業者基本情報!$Y$8,\"\")","v":""},{"$f":"IF(F1778<>\"\",事業者基本情報!$E$11&事業者基本情報!$F$11&事業者基本情報!$G$11&事業者基本情報!$H$11&事業者基本情報!$I$11,\"\")","v":""},null,null,null,"市",null,null,"-",null,"-",null,{"$f":"IFERROR(VLOOKUP(Q1778,コード表!$B$3:$C$101,2,FALSE),\"\")","v":""},null,{"$f":"IFERROR(VLOOKUP(S1778,コード表!$F$7:$G$141,2,FALSE),\"\")","v":""},null,null,"t",null,null,null,null,null,null,null,null,null,null,null,null,null,null,null,null,null,null,null,null,null,null,null,null,null,null,null,null,null,null,null,null,null,null,null,null,null,null,null,null,null,null,null,null,null,null,null,null,"","",{"$f":"IF(BS1778=\"\",\"\",IF(COUNTIF(BS$4:BS1778,BS1778)=1,ROW(),\"\"))","v":""},{"$f":"IFERROR(INDEX(BS:BS,SMALL(BT:BT,ROW(A1775))),\"\")","v":""},"","","",""]
[{"$f":"IF(F1780<>\"\",事業者基本情報!$E$9&事業者基本情報!$F$9&事業者基本情報!$G$9,\"\")","v":""},{"$f":"IF(F1780<>\"\",事業者基本情報!$Y$10,\"\")","v":""},{"$f":"IF(F1780<>\"\",事業者基本情報!$Y$7,\"\")","v":""},{"$f":"IF(F1780<>\"\",事業者基本情報!$Y$8,\"\")","v":""},{"$f":"IF(F1780<>\"\",事業者基本情報!$E$11&事業者基本情報!$F$11&事業者基本情報!$G$11&事業者基本情報!$H$11&事業者基本情報!$I$11,\"\")","v":""},null,null,null,"市",null,null,"-",null,"-",null,{"$f":"IFERROR(VLOOKUP(Q1780,コード表!$B$3:$C$101,2,FALSE),\"\")","v":""},null,{"$f":"IFERROR(VLOOKUP(S1780,コード表!$F$7:$G$141,2,FALSE),\"\")","v":""},null,null,"t",null,null,null,null,null,null,null,null,null,null,null,null,null,null,null,null,null,null,null,null,null,null,null,null,null,null,null,null,null,null,null,null,null,null,null,null,null,null,null,null,null,null,null,null,null,null,null,null,"","",{"$f":"IF(BS1780=\"\",\"\",IF(COUNTIF(BS$4:BS1780,BS1780)=1,ROW(),\"\"))","v":""},{"$f":"IFERROR(INDEX(BS:BS,SMALL(BT:BT,ROW(A1777))),\"\")","v":""},"","","",""]
[{"$f":"IF(F1783<>\"\",事業者基本情報!$E$9&事業者基本情報!$F$9&事業者基本情報!$G$9,\"\")","v":""},{"$f":"IF(F1783<>\"\",事業者基本情報!$Y$10,\"\")","v":""},{"$f":"IF(F1783<>\"\",事業者基本情報!$Y$7,\"\")","v":""},{"$f":"IF(F1783<>\"\",事業者基本情報!$Y$8,\"\")","v":""},{"$f":"IF(F1783<>\"\",事業者基本情報!$E$11&事業者基本情報!$F$11&事業者基本情報!$G$11&事業者基本情報!$H$11&事業者基本情報!$I$11,\"\")","v":""},null,null,null,"市",null,null,"-",null,"-",null,{"$f":"IFERROR(VLOOKUP(Q1783,コード表!$B$3:$C$101,2,FALSE),\"\")","v":""},null,{"$f":"IFERROR(VLOOKUP(S1783,コード表!$F$7:$G$141,2,FALSE),\"\")","v":""},null,null,"t",null,null,null,null,null,null,null,null,null,null,null,null,null,null,null,null,null,null,null,null,null,null,null,null,null,null,null,null,null,null,null,null,null,null,null,null,null,null,null,null,null,null,null,null,null,null,null,null,"","",{"$f":"IF(BS1783=\"\",\"\",IF(COUNTIF(BS$4:BS1783,BS1783)=1,ROW(),\"\"))","v":""},{"$f":"IFERROR(INDEX(BS:BS,SMALL(BT:BT,ROW(A1780))),\"\")","v":""},"","","",""]
[{"$f":"IF(F1787<>\"\",事業者基本情報!$E$9&事業者基本情報!$F$9&事業者基本情報!$G$9,\"\")","v":""},{"$f":"IF(F1787<>\"\",事業者基本情報!$Y$10,\"\")","v":""},{"$f":"IF(F1787<>\"\",事業者基本情報!$Y$7,\"\")","v":""},{"$f":"IF(F1787<>\"\",事業者基本情報!$Y$8,\"\")","v":""},{"$f":"IF(F1787<>\"\",事業者基本情報!$E$11&事業者基本情報!$F$11&事業者基本情報!$G$11&事業者基本情報!$H$11&事業者基本情報!$I$11,\"\")","v":""},null,null,null,"市",null,null,"-",null,"-",null,{"$f":"IFERROR(VLOOKUP(Q1787,コード表!$B$3:$C$101,2,FALSE),\"\")","v":""},null,{"$f":"IFERROR(VLOOKUP(S1787,コード表!$F$7:$G$141,2,FALSE),\"\")","v":""},null,null,"t",null,null,null,null,null,null,null,null,null,null,null,null,null,null,null,null,null,null,null,null,null,null,null,null,null,null,null,null,null,null,null,null,null,null,null,null,null,null,null,null,null,null,null,null,null,null,null,null,"","",{"$f":"IF(BS1787=\"\",\"\",IF(COUNTIF(BS$4:BS1787,BS1787)=1,ROW(),\"\"))","v":""},{"$f":"IFERROR(INDEX(BS:BS,SMALL(BT:BT,ROW(A1784))),\"\")","v":""},"","","",""]
[{"$f":"IF(F1789<>\"\",事業者基本情報!$E$9&事業者基本情報!$F$9&事業者基本情報!$G$9,\"\")","v":""},{"$f":"IF(F1789<>\"\",事業者基本情報!$Y$10,\"\")","v":""},{"$f":"IF(F1789<>\"\",事業者基本情報!$Y$7,\"\")","v":""},{"$f":"IF(F1789<>\"\",事業者基本情報!$Y$8,\"\")","v":""},{"$f":"IF(F1789<>\"\",事業者基本情報!$E$11&事業者基本情報!$F$11&事業者基本情報!$G$11&事業者基本情報!$H$11&事業者基本情報!$I$11,\"\")","v":""},null,null,null,"市",null,null,"-",null,"-",null,{"$f":"IFERROR(VLOOKUP(Q1789,コード表!$B$3:$C$101,2,FALSE),\"\")","v":""},null,{"$f":"IFERROR(VLOOKUP(S1789,コード表!$F$7:$G$141,2,FALSE),\"\")","v":""},null,null,"t",null,null,null,null,null,null,null,null,null,null,null,null,null,null,null,null,null,null,null,null,null,null,null,null,null,null,null,null,null,null,null,null,null,null,null,null,null,null,null,null,null,null,null,null,null,null,null,null,"","",{"$f":"IF(BS1789=\"\",\"\",IF(COUNTIF(BS$4:BS1789,BS1789)=1,ROW(),\"\"))","v":""},{"$f":"IFERROR(INDEX(BS:BS,SMALL(BT:BT,ROW(A1786))),\"\")","v":""},"","","",""]
[{"$f":"IF(F1790<>\"\",事業者基本情報!$E$9&事業者基本情報!$F$9&事業者基本情報!$G$9,\"\")","v":""},{"$f":"IF(F1790<>\"\",事業者基本情報!$Y$10,\"\")","v":""},{"$f":"IF(F1790<>\"\",事業者基本情報!$Y$7,\"\")","v":""},{"$f":"IF(F1790<>\"\",事業者基本情報!$Y$8,\"\")","v":""},{"$f":"IF(F1790<>\"\",事業者基本情報!$E$11&事業者基本情報!$F$11&事業者基本情報!$G$11&事業者基本情報!$H$11&事業者基本情報!$I$11,\"\")","v":""},null,null,null,"市",null,null,"-",null,"-",null,{"$f":"IFERROR(VLOOKUP(Q1790,コード表!$B$3:$C$101,2,FALSE),\"\")","v":""},null,{"$f":"IFERROR(VLOOKUP(S1790,コード表!$F$7:$G$141,2,FALSE),\"\")","v":""},null,null,"t",null,null,null,null,null,null,null,null,null,null,null,null,null,null,null,null,null,null,null,null,null,null,null,null,null,null,null,null,null,null,null,null,null,null,null,null,null,null,null,null,null,null,null,null,null,null,null,null,"","",{"$f":"IF(BS1790=\"\",\"\",IF(COUNTIF(BS$4:BS1790,BS1790)=1,ROW(),\"\"))","v":""},{"$f":"IFERROR(INDEX(BS:BS,SMALL(BT:BT,ROW(A1787))),\"\")","v":""},"","","",""]
[{"$f":"IF(F1793<>\"\",事業者基本情報!$E$9&事業者基本情報!$F$9&事業者基本情報!$G$9,\"\")","v":""},{"$f":"IF(F1793<>\"\",事業者基本情報!$Y$10,\"\")","v":""},{"$f":"IF(F1793<>\"\",事業者基本情報!$Y$7,\"\")","v":""},{"$f":"IF(F1793<>\"\",事業者基本情報!$Y$8,\"\")","v":""},{"$f":"IF(F1793<>\"\",事業者基本情報!$E$11&事業者基本情報!$F$11&事業者基本情報!$G$11&事業者基本情報!$H$11&事業者基本情報!$I$11,\"\")","v":""},null,null,null,"市",null,null,"-",null,"-",null,{"$f":"IFERROR(VLOOKUP(Q1793,コード表!$B$3:$C$101,2,FALSE),\"\")","v":""},null,{"$f":"IFERROR(VLOOKUP(S1793,コード表!$F$7:$G$141,2,FALSE),\"\")","v":""},null,null,"t",null,null,null,null,null,null,null,null,null,null,null,null,null,null,null,null,null,null,null,null,null,null,null,null,null,null,null,null,null,null,null,null,null,null,null,null,null,null,null,null,null,null,null,null,null,null,null,null,"","",{"$f":"IF(BS1793=\"\",\"\",IF(COUNTIF(BS$4:BS1793,BS1793)=1,ROW(),\"\"))","v":""},{"$f":"IFERROR(INDEX(BS:BS,SMALL(BT:BT,ROW(A1790))),\"\")","v":""},"","","",""]
[{"$f":"IF(F1796<>\"\",事業者基本情報!$E$9&事業者基本情報!$F$9&事業者基本情報!$G$9,\"\")","v":""},{"$f":"IF(F1796<>\"\",事業者基本情報!$Y$10,\"\")","v":""},{"$f":"IF(F1796<>\"\",事業者基本情報!$Y$7,\"\")","v":""},{"$f":"IF(F1796<>\"\",事業者基本情報!$Y$8,\"\")","v":""},{"$f":"IF(F1796<>\"\",事業者基本情報!$E$11&事業者基本情報!$F$11&事業者基本情報!$G$11&事業者基本情報!$H$11&事業者基本情報!$I$11,\"\")","v":""},null,null,null,"市",null,null,"-",null,"-",null,{"$f":"IFERROR(VLOOKUP(Q1796,コード表!$B$3:$C$101,2,FALSE),\"\")","v":""},null,{"$f":"IFERROR(VLOOKUP(S1796,コード表!$F$7:$G$141,2,FALSE),\"\")","v":""},null,null,"t",null,null,null,null,null,null,null,null,null,null,null,null,null,null,null,null,null,null,null,null,null,null,null,null,null,null,null,null,null,null,null,null,null,null,null,null,null,null,null,null,null,null,null,null,null,null,null,null,{"$f":"IFERROR(IF(TRIM(F1796)=\"\",\"\",IF(AND(VALUE(TRIM(R1796))>=100000,VALUE(TRIM(R1796))<7000000),\"普通産廃\",IF(AND(VALUE(TRIM(R1796))>=7000000,VALUE(TRIM(R1796))<9000000),\"特別産廃\",\"\"))),\"\")","v":""},{"$f":"IF(BR1796<>\"\",TRIM(F1796)&\"(\"&BR1796&\")\",\"\")","v":""},{"$f":"IF(BS1796=\"\",\"\",IF(COUNTIF(BS$4:BS1796,BS1796)=1,ROW(),\"\"))","v":""},{"$f":"IFERROR(INDEX(BS:BS,SMALL(BT:BT,ROW(A1793))),\"\")","v":""},{"$f":"IF(BU1796=\"\",\"\",IF(SUMIF(BS:BS,BU1796,T:T)=0,\"\",SUMIF(BS:BS,BU1796,T:T)))","v":""},{"$f":"IF(AS1796<>\"\",AS1796,IF(AO1796<>\"\",AO1796,IF(AK1796<>\"\",AK1796,IF(AG1796<>\"\",AG1796,IF(Y1796<>\"\",Y1796,\"\")))))","v":""},"",{"$f":"IF(F1796&G1796&H1796&J1796&K1796&M1796&O1796&Q1796&S1796&T1796&V1796&W1796&X1796&Y1796&Z1796&AA1796&AB1796&AC1796&AD1796&AE1796&AF1796&AG1796&AH1796&AI1796&AJ1796&AK1796&AL1796&AM1796&AN1796&AO1796&AP1796&AQ1796&AR1796&AS1796&AT1796=\"\",\"\",1)","v":""}]
[{"$f":"IF(F1800<>\"\",事業者基本情報!$E$9&事業者基本情報!$F$9&事業者基本情報!$G$9,\"\")","v":""},{"$f":"IF(F1800<>\"\",事業者基本情報!$Y$10,\"\")","v":""},{"$f":"IF(F1800<>\"\",事業者基本情報!$Y$7,\"\")","v":""},{"$f":"IF(F1800<>\"\",事業者基本情報!$Y$8,\"\")","v":""},{"$f":"IF(F1800<>\"\",事業者基本情報!$E$11&事業者基本情報!$F$11&事業者基本情報!$G$11&事業者基本情報!$H$11&事業者基本情報!$I$11,\"\")","v":""},null,null,null,"市",null,null,"-",null,"-",null,{"$f":"IFERROR(VLOOKUP(Q1800,コード表!$B$3:$C$101,2,FALSE),\"\")","v":""},null,{"$f":"IFERROR(VLOOKUP(S1800,コード表!$F$7:$G$141,2,FALSE),\"\")","v":""},null,null,"t",null,null,null,null,null,null,null,null,null,null,null,null,null,null,null,null,null,null,null,null,null,null,null,null,null,null,null,null,null,null,null,null,null,null,null,null,null,null,null,null,null,null,null,null,null,null,null,null,"","",{"$f":"IF(BS1800=\"\",\"\",IF(COUNTIF(BS$4:BS1800,BS1800)=1,ROW(),\"\"))","v":""},{"$f":"IFERROR(INDEX(BS:BS,SMALL(BT:BT,ROW(A1797))),\"\")","v":""},"","","",""]
[{"$f":"IF(F1802<>\"\",事業者基本情報!$E$9&事業者基本情報!$F$9&事業者基本情報!$G$9,\"\")","v":""},{"$f":"IF(F1802<>\"\",事業者基本情報!$Y$10,\"\")","v":""},{"$f":"IF(F1802<>\"\",事業者基本情報!$Y$7,\"\")","v":""},{"$f":"IF(F1802<>\"\",事業者基本情報!$Y$8,\"\")","v":""},{"$f":"IF(F1802<>\"\",事業者基本情報!$E$11&事業者基本情報!$F$11&事業者基本情報!$G$11&事業者基本情報!$H$11&事業者基本情報!$I$11,\"\")","v":""},null,null,null,"市",null,null,"-",null,"-",null,{"$f":"IFERROR(VLOOKUP(Q1802,コード表!$B$3:$C$101,2,FALSE),\"\")","v":""},null,{"$f":"IFERROR(VLOOKUP(S1802,コード表!$F$7:$G$141,2,FALSE),\"\")","v":""},null,null,"t",null,null,null,null,null,null,null,null,null,null,null,null,null,null,null,null,null,null,null,null,null,null,null,null,null,null,null,null,null,null,null,null,null,null,null,null,null,null,null,null,null,null,null,null,null,null,null,null,"","",{"$f":"IF(BS1802=\"\",\"\",IF(COUNTIF(BS$4:BS1802,BS1802)=1,ROW(),\"\"))","v":""},{"$f":"IFERROR(INDEX(BS:BS,SMALL(BT:BT,ROW(A1799))),\"\")","v":""},"","","",""]
[{"$f":"IF(F1806<>\"\",事業者基本情報!$E$9&事業者基本情報!$F$9&事業者基本情報!$G$9,\"\")","v":""},{"$f":"IF(F1806<>\"\",事業者基本情報!$Y$10,\"\")","v":""},{"$f":"IF(F1806<>\"\",事業者基本情報!$Y$7,\"\")","v":""},{"$f":"IF(F1806<>\"\",事業者基本情報!$Y$8,\"\")","v":""},{"$f":"IF(F1806<>\"\",事業者基本情報!$E$11&事業者基本情報!$F$11&事業者基本情報!$G$11&事業者基本情報!$H$11&事業者基本情報!$I$11,\"\")","v":""},null,null,null,"市",null,null,"-",null,"-",null,{"$f":"IFERROR(VLOOKUP(Q1806,コード表!$B$3:$C$101,2,FALSE),\"\")","v":""},null,{"$f":"IFERROR(VLOOKUP(S1806,コード表!$F$7:$G$141,2,FALSE),\"\")","v":""},null,null,"t",null,null,null,null,null,null,null,null,null,null,null,null,null,null,null,null,null,null,null,null,null,null,null,null,null,null,null,null,null,null,null,null,null,null,null,null,null,null,null,null,null,null,null,null,null,null,null,null,"","",{"$f":"IF(BS1806=\"\",\"\",IF(COUNTIF(BS$4:BS1806,BS1806)=1,ROW(),\"\"))","v":""},{"$f":"IFERROR(INDEX(BS:BS,SMALL(BT:BT,ROW(A1803))),\"\")","v":""},"","","",""]
[{"$f":"IF(F1809<>\"\",事業者基本情報!$E$9&事業者基本情報!$F$9&事業者基本情報!$G$9,\"\")","v":""},{"$f":"IF(F1809<>\"\",事業者基本情報!$Y$10,\"\")","v":""},{"$f":"IF(F1809<>\"\",事業者基本情報!$Y$7,\"\")","v":""},{"$f":"IF(F1809<>\"\",事業者基本情報!$Y$8,\"\")","v":""},{"$f":"IF(F1809<>\"\",事業者基本情報!$E$11&事業者基本情報!$F$11&事業者基本情報!$G$11&事業者基本情報!$H$11&事業者基本情報!$I$11,\"\")","v":""},null,null,null,"市",null,null,"-",null,"-",null,{"$f":"IFERROR(VLOOKUP(Q1809,コード表!$B$3:$C$101,2,FALSE),\"\")","v":""},null,{"$f":"IFERROR(VLOOKUP(S1809,コード表!$F$7:$G$141,2,FALSE),\"\")","v":""},null,null,"t",null,null,null,null,null,null,null,null,null,null,null,null,null,null,null,null,null,null,null,null,null,null,null,null,null,null,null,null,null,null,null,null,null,null,null,null,null,null,null,null,null,null,null,null,null,null,null,null,"","",{"$f":"IF(BS1809=\"\",\"\",IF(COUNTIF(BS$4:BS1809,BS1809)=1,ROW(),\"\"))","v":""},{"$f":"IFERROR(INDEX(BS:BS,SMALL(BT:BT,ROW(A1806))),\"\")","v":""},"","","",""]
[{"$f":"IF(F1811<>\"\",事業者基本情報!$E$9&事業者基本情報!$F$9&事業者基本情報!$G$9,\"\")","v":""},{"$f":"IF(F1811<>\"\",事業者基本情報!$Y$10,\"\")","v":""},{"$f":"IF(F1811<>\"\",事業者基本情報!$Y$7,\"\")","v":""},{"$f":"IF(F1811<>\"\",事業者基本情報!$Y$8,\"\")","v":""},{"$f":"IF(F1811<>\"\",事業者基本情報!$E$11&事業者基本情報!$F$11&事業者基本情報!$G$11&事業者基本情報!$H$11&事業者基本情報!$I$11,\"\")","v":""},null,null,null,"市",null,null,"-",null,"-",null,{"$f":"IFERROR(VLOOKUP(Q1811,コード表!$B$3:$C$101,2,FALSE),\"\")","v":""},null,{"$f":"IFERROR(VLOOKUP(S1811,コード表!$F$7:$G$141,2,FALSE),\"\")","v":""},null,null,"t",null,null,null,null,null,null,null,null,null,null,null,null,null,null,null,null,null,null,null,null,null,null,null,null,null,null,null,null,null,null,null,null,null,null,null,null,null,null,null,null,null,null,null,null,null,null,null,null,"","",{"$f":"IF(BS1811=\"\",\"\",IF(COUNTIF(BS$4:BS1811,BS1811)=1,ROW(),\"\"))","v":""},{"$f":"IFERROR(INDEX(BS:BS,SMALL(BT:BT,ROW(A1808))),\"\")","v":""},"","","",""]
[{"$f":"IF(F1812<>\"\",事業者基本情報!$E$9&事業者基本情報!$F$9&事業者基本情報!$G$9,\"\")","v":""},{"$f":"IF(F1812<>\"\",事業者基本情報!$Y$10,\"\")","v":""},{"$f":"IF(F1812<>\"\",事業者基本情報!$Y$7,\"\")","v":""},{"$f":"IF(F1812<>\"\",事業者基本情報!$Y$8,\"\")","v":""},{"$f":"IF(F1812<>\"\",事業者基本情報!$E$11&事業者基本情報!$F$11&事業者基本情報!$G$11&事業者基本情報!$H$11&事業者基本情報!$I$11,\"\")","v":""},null,null,null,"市",null,null,"-",null,"-",null,{"$f":"IFERROR(VLOOKUP(Q1812,コード表!$B$3:$C$101,2,FALSE),\"\")","v":""},null,{"$f":"IFERROR(VLOOKUP(S1812,コード表!$F$7:$G$141,2,FALSE),\"\")","v":""},null,null,"t",null,null,null,null,null,null,null,null,null,null,null,null,null,null,null,null,null,null,null,null,null,null,null,null,null,null,null,null,null,null,null,null,null,null,null,null,null,null,null,null,null,null,null,null,null,null,null,null,"","",{"$f":"IF(BS1812=\"\",\"\",IF(COUNTIF(BS$4:BS1812,BS1812)=1,ROW(),\"\"))","v":""},{"$f":"IFERROR(INDEX(BS:BS,SMALL(BT:BT,ROW(A1809))),\"\")","v":""},"","","",""]
[{"$f":"IF(F1815<>\"\",事業者基本情報!$E$9&事業者基本情報!$F$9&事業者基本情報!$G$9,\"\")","v":""},{"$f":"IF(F1815<>\"\",事業者基本情報!$Y$10,\"\")","v":""},{"$f":"IF(F1815<>\"\",事業者基本情報!$Y$7,\"\")","v":""},{"$f":"IF(F1815<>\"\",事業者基本情報!$Y$8,\"\")","v":""},{"$f":"IF(F1815<>\"\",事業者基本情報!$E$11&事業者基本情報!$F$11&事業者基本情報!$G$11&事業者基本情報!$H$11&事業者基本情報!$I$11,\"\")","v":""},null,null,null,"市",null,null,"-",null,"-",null,{"$f":"IFERROR(VLOOKUP(Q1815,コード表!$B$3:$C$101,2,FALSE),\"\")","v":""},null,{"$f":"IFERROR(VLOOKUP(S1815,コード表!$F$7:$G$141,2,FALSE),\"\")","v":""},null,null,"t",null,null,null,null,null,null,null,null,null,null,null,null,null,null,null,null,null,null,null,null,null,null,null,null,null,null,null,null,null,null,null,null,null,null,null,null,null,null,null,null,null,null,null,null,null,null,null,null,"","",{"$f":"IF(BS1815=\"\",\"\",IF(COUNTIF(BS$4:BS1815,BS1815)=1,ROW(),\"\"))","v":""},{"$f":"IFERROR(INDEX(BS:BS,SMALL(BT:BT,ROW(A1812))),\"\")","v":""},"","","",""]
[{"$f":"IF(F1818<>\"\",事業者基本情報!$E$9&事業者基本情報!$F$9&事業者基本情報!$G$9,\"\")","v":""},{"$f":"IF(F1818<>\"\",事業者基本情報!$Y$10,\"\")","v":""},{"$f":"IF(F1818<>\"\",事業者基本情報!$Y$7,\"\")","v":""},{"$f":"IF(F1818<>\"\",事業者基本情報!$Y$8,\"\")","v":""},{"$f":"IF(F1818<>\"\",事業者基本情報!$E$11&事業者基本情報!$F$11&事業者基本情報!$G$11&事業者基本情報!$H$11&事業者基本情報!$I$11,\"\")","v":""},null,null,null,"市",null,null,"-",null,"-",null,{"$f":"IFERROR(VLOOKUP(Q1818,コード表!$B$3:$C$101,2,FALSE),\"\")","v":""},null,{"$f":"IFERROR(VLOOKUP(S1818,コード表!$F$7:$G$141,2,FALSE),\"\")","v":""},null,null,"t",null,null,null,null,null,null,null,null,null,null,null,null,null,null,null,null,null,null,null,null,null,null,null,null,null,null,null,null,null,null,null,null,null,null,null,null,null,null,null,null,null,null,null,null,null,null,null,null,"","",{"$f":"IF(BS1818=\"\",\"\",IF(COUNTIF(BS$4:BS1818,BS1818)=1,ROW(),\"\"))","v":""},{"$f":"IFERROR(INDEX(BS:BS,SMALL(BT:BT,ROW(A1815))),\"\")","v":""},"","","",""]
[{"$f":"IF(F1822<>\"\",事業者基本情報!$E$9&事業者基本情報!$F$9&事業者基本情報!$G$9,\"\")","v":""},{"$f":"IF(F1822<>\"\",事業者基本情報!$Y$10,\"\")","v":""},{"$f":"IF(F1822<>\"\",事業者基本情報!$Y$7,\"\")","v":""},{"$f":"IF(F1822<>\"\",事業者基本情報!$Y$8,\"\")","v":""},{"$f":"IF(F1822<>\"\",事業者基本情報!$E$11&事業者基本情報!$F$11&事業者基本情報!$G$11&事業者基本情報!$H$11&事業者基本情報!$I$11,\"\")","v":""},null,null,null,"市",null,null,"-",null,"-",null,{"$f":"IFERROR(VLOOKUP(Q1822,コード表!$B$3:$C$101,2,FALSE),\"\")","v":""},null,{"$f":"IFERROR(VLOOKUP(S1822,コード表!$F$7:$G$141,2,FALSE),\"\")","v":""},null,null,"t",null,null,null,null,null,null,null,null,null,null,null,null,null,null,null,null,null,null,null,null,null,null,null,null,null,null,null,null,null,null,null,null,null,null,null,null,null,null,null,null,null,null,null,null,null,null,null,null,"","",{"$f":"IF(BS1822=\"\",\"\",IF(COUNTIF(BS$4:BS1822,BS1822)=1,ROW(),\"\"))","v":""},{"$f":"IFERROR(INDEX(BS:BS,SMALL(BT:BT,ROW(A1819))),\"\")","v":""},"","","",""]
[{"$f":"IF(F1824<>\"\",事業者基本情報!$E$9&事業者基本情報!$F$9&事業者基本情報!$G$9,\"\")","v":""},{"$f":"IF(F1824<>\"\",事業者基本情報!$Y$10,\"\")","v":""},{"$f":"IF(F1824<>\"\",事業者基本情報!$Y$7,\"\")","v":""},{"$f":"IF(F1824<>\"\",事業者基本情報!$Y$8,\"\")","v":""},{"$f":"IF(F1824<>\"\",事業者基本情報!$E$11&事業者基本情報!$F$11&事業者基本情報!$G$11&事業者基本情報!$H$11&事業者基本情報!$I$11,\"\")","v":""},null,null,null,"市",null,null,"-",null,"-",null,{"$f":"IFERROR(VLOOKUP(Q1824,コード表!$B$3:$C$101,2,FALSE),\"\")","v":""},null,{"$f":"IFERROR(VLOOKUP(S1824,コード表!$F$7:$G$141,2,FALSE),\"\")","v":""},null,null,"t",null,null,null,null,null,null,null,null,null,null,null,null,null,null,null,null,null,null,null,null,null,null,null,null,null,null,null,null,null,null,null,null,null,null,null,null,null,null,null,null,null,null,null,null,null,null,null,null,"","",{"$f":"IF(BS1824=\"\",\"\",IF(COUNTIF(BS$4:BS1824,BS1824)=1,ROW(),\"\"))","v":""},{"$f":"IFERROR(INDEX(BS:BS,SMALL(BT:BT,ROW(A1821))),\"\")","v":""},"","","",""]
[{"$f":"IF(F1828<>\"\",事業者基本情報!$E$9&事業者基本情報!$F$9&事業者基本情報!$G$9,\"\")","v":""},{"$f":"IF(F1828<>\"\",事業者基本情報!$Y$10,\"\")","v":""},{"$f":"IF(F1828<>\"\",事業者基本情報!$Y$7,\"\")","v":""},{"$f":"IF(F1828<>\"\",事業者基本情報!$Y$8,\"\")","v":""},{"$f":"IF(F1828<>\"\",事業者基本情報!$E$11&事業者基本情報!$F$11&事業者基本情報!$G$11&事業者基本情報!$H$11&事業者基本情報!$I$11,\"\")","v":""},null,null,null,"市",null,null,"-",null,"-",null,{"$f":"IFERROR(VLOOKUP(Q1828,コード表!$B$3:$C$101,2,FALSE),\"\")","v":""},null,{"$f":"IFERROR(VLOOKUP(S1828,コード表!$F$7:$G$141,2,FALSE),\"\")","v":""},null,null,"t",null,null,null,null,null,null,null,null,null,null,null,null,null,null,null,null,null,null,null,null,null,null,null,null,null,null,null,null,null,null,null,null,null,null,null,null,null,null,null,null,null,null,null,null,null,null,null,null,"","",{"$f":"IF(BS1828=\"\",\"\",IF(COUNTIF(BS$4:BS1828,BS1828)=1,ROW(),\"\"))","v":""},{"$f":"IFERROR(INDEX(BS:BS,SMALL(BT:BT,ROW(A1825))),\"\")","v":""},"","","",""]
[{"$f":"IF(F1831<>\"\",事業者基本情報!$E$9&事業者基本情報!$F$9&事業者基本情報!$G$9,\"\")","v":""},{"$f":"IF(F1831<>\"\",事業者基本情報!$Y$10,\"\")","v":""},{"$f":"IF(F1831<>\"\",事業者基本情報!$Y$7,\"\")","v":""},{"$f":"IF(F1831<>\"\",事業者基本情報!$Y$8,\"\")","v":""},{"$f":"IF(F1831<>\"\",事業者基本情報!$E$11&事業者基本情報!$F$11&事業者基本情報!$G$11&事業者基本情報!$H$11&事業者基本情報!$I$11,\"\")","v":""},null,null,null,"市",null,null,"-",null,"-",null,{"$f":"IFERROR(VLOOKUP(Q1831,コード表!$B$3:$C$101,2,FALSE),\"\")","v":""},null,{"$f":"IFERROR(VLOOKUP(S1831,コード表!$F$7:$G$141,2,FALSE),\"\")","v":""},null,null,"t",null,null,null,null,null,null,null,null,null,null,null,null,null,null,null,null,null,null,null,null,null,null,null,null,null,null,null,null,null,null,null,null,null,null,null,null,null,null,null,null,null,null,null,null,null,null,null,null,"","",{"$f":"IF(BS1831=\"\",\"\",IF(COUNTIF(BS$4:BS1831,BS1831)=1,ROW(),\"\"))","v":""},{"$f":"IFERROR(INDEX(BS:BS,SMALL(BT:BT,ROW(A1828))),\"\")","v":""},"","","",""]
[{"$f":"IF(F1833<>\"\",事業者基本情報!$E$9&事業者基本情報!$F$9&事業者基本情報!$G$9,\"\")","v":""},{"$f":"IF(F1833<>\"\",事業者基本情報!$Y$10,\"\")","v":""},{"$f":"IF(F1833<>\"\",事業者基本情報!$Y$7,\"\")","v":""},{"$f":"IF(F1833<>\"\",事業者基本情報!$Y$8,\"\")","v":""},{"$f":"IF(F1833<>\"\",事業者基本情報!$E$11&事業者基本情報!$F$11&事業者基本情報!$G$11&事業者基本情報!$H$11&事業者基本情報!$I$11,\"\")","v":""},null,null,null,"市",null,null,"-",null,"-",null,{"$f":"IFERROR(VLOOKUP(Q1833,コード表!$B$3:$C$101,2,FALSE),\"\")","v":""},null,{"$f":"IFERROR(VLOOKUP(S1833,コード表!$F$7:$G$141,2,FALSE),\"\")","v":""},null,null,"t",null,null,null,null,null,null,null,null,null,null,null,null,null,null,null,null,null,null,null,null,null,null,null,null,null,null,null,null,null,null,null,null,null,null,null,null,null,null,null,null,null,null,null,null,null,null,null,null,"","",{"$f":"IF(BS1833=\"\",\"\",IF(COUNTIF(BS$4:BS1833,BS1833)=1,ROW(),\"\"))","v":""},{"$f":"IFERROR(INDEX(BS:BS,SMALL(BT:BT,ROW(A1830))),\"\")","v":""},"","","",""]
[{"$f":"IF(F1834<>\"\",事業者基本情報!$E$9&事業者基本情報!$F$9&事業者基本情報!$G$9,\"\")","v":""},{"$f":"IF(F1834<>\"\",事業者基本情報!$Y$10,\"\")","v":""},{"$f":"IF(F1834<>\"\",事業者基本情報!$Y$7,\"\")","v":""},{"$f":"IF(F1834<>\"\",事業者基本情報!$Y$8,\"\")","v":""},{"$f":"IF(F1834<>\"\",事業者基本情報!$E$11&事業者基本情報!$F$11&事業者基本情報!$G$11&事業者基本情報!$H$11&事業者基本情報!$I$11,\"\")","v":""},null,null,null,"市",null,null,"-",null,"-",null,{"$f":"IFERROR(VLOOKUP(Q1834,コード表!$B$3:$C$101,2,FALSE),\"\")","v":""},null,{"$f":"IFERROR(VLOOKUP(S1834,コード表!$F$7:$G$141,2,FALSE),\"\")","v":""},null,null,"t",null,null,null,null,null,null,null,null,null,null,null,null,null,null,null,null,null,null,null,null,null,null,null,null,null,null,null,null,null,null,null,null,null,null,null,null,null,null,null,null,null,null,null,null,null,null,null,null,"","",{"$f":"IF(BS1834=\"\",\"\",IF(COUNTIF(BS$4:BS1834,BS1834)=1,ROW(),\"\"))","v":""},{"$f":"IFERROR(INDEX(BS:BS,SMALL(BT:BT,ROW(A1831))),\"\")","v":""},"","","",""]
[{"$f":"IF(F1837<>\"\",事業者基本情報!$E$9&事業者基本情報!$F$9&事業者基本情報!$G$9,\"\")","v":""},{"$f":"IF(F1837<>\"\",事業者基本情報!$Y$10,\"\")","v":""},{"$f":"IF(F1837<>\"\",事業者基本情報!$Y$7,\"\")","v":""},{"$f":"IF(F1837<>\"\",事業者基本情報!$Y$8,\"\")","v":""},{"$f":"IF(F1837<>\"\",事業者基本情報!$E$11&事業者基本情報!$F$11&事業者基本情報!$G$11&事業者基本情報!$H$11&事業者基本情報!$I$11,\"\")","v":""},null,null,null,"市",null,null,"-",null,"-",null,{"$f":"IFERROR(VLOOKUP(Q1837,コード表!$B$3:$C$101,2,FALSE),\"\")","v":""},null,{"$f":"IFERROR(VLOOKUP(S1837,コード表!$F$7:$G$141,2,FALSE),\"\")","v":""},null,null,"t",null,null,null,null,null,null,null,null,null,null,null,null,null,null,null,null,null,null,null,null,null,null,null,null,null,null,null,null,null,null,null,null,null,null,null,null,null,null,null,null,null,null,null,null,null,null,null,null,"","",{"$f":"IF(BS1837=\"\",\"\",IF(COUNTIF(BS$4:BS1837,BS1837)=1,ROW(),\"\"))","v":""},{"$f":"IFERROR(INDEX(BS:BS,SMALL(BT:BT,ROW(A1834))),\"\")","v":""},"","","",""]
[{"$f":"IF(F1841<>\"\",事業者基本情報!$E$9&事業者基本情報!$F$9&事業者基本情報!$G$9,\"\")","v":""},{"$f":"IF(F1841<>\"\",事業者基本情報!$Y$10,\"\")","v":""},{"$f":"IF(F1841<>\"\",事業者基本情報!$Y$7,\"\")","v":""},{"$f":"IF(F1841<>\"\",事業者基本情報!$Y$8,\"\")","v":""},{"$f":"IF(F1841<>\"\",事業者基本情報!$E$11&事業者基本情報!$F$11&事業者基本情報!$G$11&事業者基本情報!$H$11&事業者基本情報!$I$11,\"\")","v":""},null,null,null,"市",null,null,"-",null,"-",null,{"$f":"IFERROR(VLOOKUP(Q1841,コード表!$B$3:$C$101,2,FALSE),\"\")","v":""},null,{"$f":"IFERROR(VLOOKUP(S1841,コード表!$F$7:$G$141,2,FALSE),\"\")","v":""},null,null,"t",null,null,null,null,null,null,null,null,null,null,null,null,null,null,null,null,null,null,null,null,null,null,null,null,null,null,null,null,null,null,null,null,null,null,null,null,null,null,null,null,null,null,null,null,null,null,null,null,"","",{"$f":"IF(BS1841=\"\",\"\",IF(COUNTIF(BS$4:BS1841,BS1841)=1,ROW(),\"\"))","v":""},{"$f":"IFERROR(INDEX(BS:BS,SMALL(BT:BT,ROW(A1838))),\"\")","v":""},"","","",""]
[{"$f":"IF(F1844<>\"\",事業者基本情報!$E$9&事業者基本情報!$F$9&事業者基本情報!$G$9,\"\")","v":""},{"$f":"IF(F1844<>\"\",事業者基本情報!$Y$10,\"\")","v":""},{"$f":"IF(F1844<>\"\",事業者基本情報!$Y$7,\"\")","v":""},{"$f":"IF(F1844<>\"\",事業者基本情報!$Y$8,\"\")","v":""},{"$f":"IF(F1844<>\"\",事業者基本情報!$E$11&事業者基本情報!$F$11&事業者基本情報!$G$11&事業者基本情報!$H$11&事業者基本情報!$I$11,\"\")","v":""},null,null,null,"市",null,null,"-",null,"-",null,{"$f":"IFERROR(VLOOKUP(Q1844,コード表!$B$3:$C$101,2,FALSE),\"\")","v":""},null,{"$f":"IFERROR(VLOOKUP(S1844,コード表!$F$7:$G$141,2,FALSE),\"\")","v":""},null,null,"t",null,null,null,null,null,null,null,null,null,null,null,null,null,null,null,null,null,null,null,null,null,null,null,null,null,null,null,null,null,null,null,null,null,null,null,null,null,null,null,null,null,null,null,null,null,null,null,null,"","",{"$f":"IF(BS1844=\"\",\"\",IF(COUNTIF(BS$4:BS1844,BS1844)=1,ROW(),\"\"))","v":""},{"$f":"IFERROR(INDEX(BS:BS,SMALL(BT:BT,ROW(A1841))),\"\")","v":""},"","","",""]
[{"$f":"IF(F1846<>\"\",事業者基本情報!$E$9&事業者基本情報!$F$9&事業者基本情報!$G$9,\"\")","v":""},{"$f":"IF(F1846<>\"\",事業者基本情報!$Y$10,\"\")","v":""},{"$f":"IF(F1846<>\"\",事業者基本情報!$Y$7,\"\")","v":""},{"$f":"IF(F1846<>\"\",事業者基本情報!$Y$8,\"\")","v":""},{"$f":"IF(F1846<>\"\",事業者基本情報!$E$11&事業者基本情報!$F$11&事業者基本情報!$G$11&事業者基本情報!$H$11&事業者基本情報!$I$11,\"\")","v":""},null,null,null,"市",null,null,"-",null,"-",null,{"$f":"IFERROR(VLOOKUP(Q1846,コード表!$B$3:$C$101,2,FALSE),\"\")","v":""},null,{"$f":"IFERROR(VLOOKUP(S1846,コード表!$F$7:$G$141,2,FALSE),\"\")","v":""},null,null,"t",null,null,null,null,null,null,null,null,null,null,null,null,null,null,null,null,null,null,null,null,null,null,null,null,null,null,null,null,null,null,null,null,null,null,null,null,null,null,null,null,null,null,null,null,null,null,null,null,"","",{"$f":"IF(BS1846=\"\",\"\",IF(COUNTIF(BS$4:BS1846,BS1846)=1,ROW(),\"\"))","v":""},{"$f":"IFERROR(INDEX(BS:BS,SMALL(BT:BT,ROW(A1843))),\"\")","v":""},"","","",""]
[{"$f":"IF(F1850<>\"\",事業者基本情報!$E$9&事業者基本情報!$F$9&事業者基本情報!$G$9,\"\")","v":""},{"$f":"IF(F1850<>\"\",事業者基本情報!$Y$10,\"\")","v":""},{"$f":"IF(F1850<>\"\",事業者基本情報!$Y$7,\"\")","v":""},{"$f":"IF(F1850<>\"\",事業者基本情報!$Y$8,\"\")","v":""},{"$f":"IF(F1850<>\"\",事業者基本情報!$E$11&事業者基本情報!$F$11&事業者基本情報!$G$11&事業者基本情報!$H$11&事業者基本情報!$I$11,\"\")","v":""},null,null,null,"市",null,null,"-",null,"-",null,{"$f":"IFERROR(VLOOKUP(Q1850,コード表!$B$3:$C$101,2,FALSE),\"\")","v":""},null,{"$f":"IFERROR(VLOOKUP(S1850,コード表!$F$7:$G$141,2,FALSE),\"\")","v":""},null,null,"t",null,null,null,null,null,null,null,null,null,null,null,null,null,null,null,null,null,null,null,null,null,null,null,null,null,null,null,null,null,null,null,null,null,null,null,null,null,null,null,null,null,null,null,null,null,null,null,null,"","",{"$f":"IF(BS1850=\"\",\"\",IF(COUNTIF(BS$4:BS1850,BS1850)=1,ROW(),\"\"))","v":""},{"$f":"IFERROR(INDEX(BS:BS,SMALL(BT:BT,ROW(A1847))),\"\")","v":""},"","","",""]
[{"$f":"IF(F1853<>\"\",事業者基本情報!$E$9&事業者基本情報!$F$9&事業者基本情報!$G$9,\"\")","v":""},{"$f":"IF(F1853<>\"\",事業者基本情報!$Y$10,\"\")","v":""},{"$f":"IF(F1853<>\"\",事業者基本情報!$Y$7,\"\")","v":""},{"$f":"IF(F1853<>\"\",事業者基本情報!$Y$8,\"\")","v":""},{"$f":"IF(F1853<>\"\",事業者基本情報!$E$11&事業者基本情報!$F$11&事業者基本情報!$G$11&事業者基本情報!$H$11&事業者基本情報!$I$11,\"\")","v":""},null,null,null,"市",null,null,"-",null,"-",null,{"$f":"IFERROR(VLOOKUP(Q1853,コード表!$B$3:$C$101,2,FALSE),\"\")","v":""},null,{"$f":"IFERROR(VLOOKUP(S1853,コード表!$F$7:$G$141,2,FALSE),\"\")","v":""},null,null,"t",null,null,null,null,null,null,null,null,null,null,null,null,null,null,null,null,null,null,null,null,null,null,null,null,null,null,null,null,null,null,null,null,null,null,null,null,null,null,null,null,null,null,null,null,null,null,null,null,"","",{"$f":"IF(BS1853=\"\",\"\",IF(COUNTIF(BS$4:BS1853,BS1853)=1,ROW(),\"\"))","v":""},{"$f":"IFERROR(INDEX(BS:BS,SMALL(BT:BT,ROW(A1850))),\"\")","v":""},"","","",""]
[{"$f":"IF(F1855<>\"\",事業者基本情報!$E$9&事業者基本情報!$F$9&事業者基本情報!$G$9,\"\")","v":""},{"$f":"IF(F1855<>\"\",事業者基本情報!$Y$10,\"\")","v":""},{"$f":"IF(F1855<>\"\",事業者基本情報!$Y$7,\"\")","v":""},{"$f":"IF(F1855<>\"\",事業者基本情報!$Y$8,\"\")","v":""},{"$f":"IF(F1855<>\"\",事業者基本情報!$E$11&事業者基本情報!$F$11&事業者基本情報!$G$11&事業者基本情報!$H$11&事業者基本情報!$I$11,\"\")","v":""},null,null,null,"市",null,null,"-",null,"-",null,{"$f":"IFERROR(VLOOKUP(Q1855,コード表!$B$3:$C$101,2,FALSE),\"\")","v":""},null,{"$f":"IFERROR(VLOOKUP(S1855,コード表!$F$7:$G$141,2,FALSE),\"\")","v":""},null,null,"t",null,null,null,null,null,null,null,null,null,null,null,null,null,null,null,null,null,null,null,null,null,null,null,null,null,null,null,null,null,null,null,null,null,null,null,null,null,null,null,null,null,null,null,null,null,null,null,null,"","",{"$f":"IF(BS1855=\"\",\"\",IF(COUNTIF(BS$4:BS1855,BS1855)=1,ROW(),\"\"))","v":""},{"$f":"IFERROR(INDEX(BS:BS,SMALL(BT:BT,ROW(A1852))),\"\")","v":""},"","","",""]
[{"$f":"IF(F1856<>\"\",事業者基本情報!$E$9&事業者基本情報!$F$9&事業者基本情報!$G$9,\"\")","v":""},{"$f":"IF(F1856<>\"\",事業者基本情報!$Y$10,\"\")","v":""},{"$f":"IF(F1856<>\"\",事業者基本情報!$Y$7,\"\")","v":""},{"$f":"IF(F1856<>\"\",事業者基本情報!$Y$8,\"\")","v":""},{"$f":"IF(F1856<>\"\",事業者基本情報!$E$11&事業者基本情報!$F$11&事業者基本情報!$G$11&事業者基本情報!$H$11&事業者基本情報!$I$11,\"\")","v":""},null,null,null,"市",null,null,"-",null,"-",null,{"$f":"IFERROR(VLOOKUP(Q1856,コード表!$B$3:$C$101,2,FALSE),\"\")","v":""},null,{"$f":"IFERROR(VLOOKUP(S1856,コード表!$F$7:$G$141,2,FALSE),\"\")","v":""},null,null,"t",null,null,null,null,null,null,null,null,null,null,null,null,null,null,null,null,null,null,null,null,null,null,null,null,null,null,null,null,null,null,null,null,null,null,null,null,null,null,null,null,null,null,null,null,null,null,null,null,"","",{"$f":"IF(BS1856=\"\",\"\",IF(COUNTIF(BS$4:BS1856,BS1856)=1,ROW(),\"\"))","v":""},{"$f":"IFERROR(INDEX(BS:BS,SMALL(BT:BT,ROW(A1853))),\"\")","v":""},"","","",""]
[{"$f":"IF(F1859<>\"\",事業者基本情報!$E$9&事業者基本情報!$F$9&事業者基本情報!$G$9,\"\")","v":""},{"$f":"IF(F1859<>\"\",事業者基本情報!$Y$10,\"\")","v":""},{"$f":"IF(F1859<>\"\",事業者基本情報!$Y$7,\"\")","v":""},{"$f":"IF(F1859<>\"\",事業者基本情報!$Y$8,\"\")","v":""},{"$f":"IF(F1859<>\"\",事業者基本情報!$E$11&事業者基本情報!$F$11&事業者基本情報!$G$11&事業者基本情報!$H$11&事業者基本情報!$I$11,\"\")","v":""},null,null,null,"市",null,null,"-",null,"-",null,{"$f":"IFERROR(VLOOKUP(Q1859,コード表!$B$3:$C$101,2,FALSE),\"\")","v":""},null,{"$f":"IFERROR(VLOOKUP(S1859,コード表!$F$7:$G$141,2,FALSE),\"\")","v":""},null,null,"t",null,null,null,null,null,null,null,null,null,null,null,null,null,null,null,null,null,null,null,null,null,null,null,null,null,null,null,null,null,null,null,null,null,null,null,null,null,null,null,null,null,null,null,null,null,null,null,null,"","",{"$f":"IF(BS1859=\"\",\"\",IF(COUNTIF(BS$4:BS1859,BS1859)=1,ROW(),\"\"))","v":""},{"$f":"IFERROR(INDEX(BS:BS,SMALL(BT:BT,ROW(A1856))),\"\")","v":""},"","","",""]
[{"$f":"IF(F1863<>\"\",事業者基本情報!$E$9&事業者基本情報!$F$9&事業者基本情報!$G$9,\"\")","v":""},{"$f":"IF(F1863<>\"\",事業者基本情報!$Y$10,\"\")","v":""},{"$f":"IF(F1863<>\"\",事業者基本情報!$Y$7,\"\")","v":""},{"$f":"IF(F1863<>\"\",事業者基本情報!$Y$8,\"\")","v":""},{"$f":"IF(F1863<>\"\",事業者基本情報!$E$11&事業者基本情報!$F$11&事業者基本情報!$G$11&事業者基本情報!$H$11&事業者基本情報!$I$11,\"\")","v":""},null,null,null,"市",null,null,"-",null,"-",null,{"$f":"IFERROR(VLOOKUP(Q1863,コード表!$B$3:$C$101,2,FALSE),\"\")","v":""},null,{"$f":"IFERROR(VLOOKUP(S1863,コード表!$F$7:$G$141,2,FALSE),\"\")","v":""},null,null,"t",null,null,null,null,null,null,null,null,null,null,null,null,null,null,null,null,null,null,null,null,null,null,null,null,null,null,null,null,null,null,null,null,null,null,null,null,null,null,null,null,null,null,null,null,null,null,null,null,"","",{"$f":"IF(BS1863=\"\",\"\",IF(COUNTIF(BS$4:BS1863,BS1863)=1,ROW(),\"\"))","v":""},{"$f":"IFERROR(INDEX(BS:BS,SMALL(BT:BT,ROW(A1860))),\"\")","v":""},"","","",""]
[{"$f":"IF(F1866<>\"\",事業者基本情報!$E$9&事業者基本情報!$F$9&事業者基本情報!$G$9,\"\")","v":""},{"$f":"IF(F1866<>\"\",事業者基本情報!$Y$10,\"\")","v":""},{"$f":"IF(F1866<>\"\",事業者基本情報!$Y$7,\"\")","v":""},{"$f":"IF(F1866<>\"\",事業者基本情報!$Y$8,\"\")","v":""},{"$f":"IF(F1866<>\"\",事業者基本情報!$E$11&事業者基本情報!$F$11&事業者基本情報!$G$11&事業者基本情報!$H$11&事業者基本情報!$I$11,\"\")","v":""},null,null,null,"市",null,null,"-",null,"-",null,{"$f":"IFERROR(VLOOKUP(Q1866,コード表!$B$3:$C$101,2,FALSE),\"\")","v":""},null,{"$f":"IFERROR(VLOOKUP(S1866,コード表!$F$7:$G$141,2,FALSE),\"\")","v":""},null,null,"t",null,null,null,null,null,null,null,null,null,null,null,null,null,null,null,null,null,null,null,null,null,null,null,null,null,null,null,null,null,null,null,null,null,null,null,null,null,null,null,null,null,null,null,null,null,null,null,null,"","",{"$f":"IF(BS1866=\"\",\"\",IF(COUNTIF(BS$4:BS1866,BS1866)=1,ROW(),\"\"))","v":""},{"$f":"IFERROR(INDEX(BS:BS,SMALL(BT:BT,ROW(A1863))),\"\")","v":""},"","","",""]
[{"$f":"IF(F1868<>\"\",事業者基本情報!$E$9&事業者基本情報!$F$9&事業者基本情報!$G$9,\"\")","v":""},{"$f":"IF(F1868<>\"\",事業者基本情報!$Y$10,\"\")","v":""},{"$f":"IF(F1868<>\"\",事業者基本情報!$Y$7,\"\")","v":""},{"$f":"IF(F1868<>\"\",事業者基本情報!$Y$8,\"\")","v":""},{"$f":"IF(F1868<>\"\",事業者基本情報!$E$11&事業者基本情報!$F$11&事業者基本情報!$G$11&事業者基本情報!$H$11&事業者基本情報!$I$11,\"\")","v":""},null,null,null,"市",null,null,"-",null,"-",null,{"$f":"IFERROR(VLOOKUP(Q1868,コード表!$B$3:$C$101,2,FALSE),\"\")","v":""},null,{"$f":"IFERROR(VLOOKUP(S1868,コード表!$F$7:$G$141,2,FALSE),\"\")","v":""},null,null,"t",null,null,null,null,null,null,null,null,null,null,null,null,null,null,null,null,null,null,null,null,null,null,null,null,null,null,null,null,null,null,null,null,null,null,null,null,null,null,null,null,null,null,null,null,null,null,null,null,"","",{"$f":"IF(BS1868=\"\",\"\",IF(COUNTIF(BS$4:BS1868,BS1868)=1,ROW(),\"\"))","v":""},{"$f":"IFERROR(INDEX(BS:BS,SMALL(BT:BT,ROW(A1865))),\"\")","v":""},"","","",""]
[{"$f":"IF(F1872<>\"\",事業者基本情報!$E$9&事業者基本情報!$F$9&事業者基本情報!$G$9,\"\")","v":""},{"$f":"IF(F1872<>\"\",事業者基本情報!$Y$10,\"\")","v":""},{"$f":"IF(F1872<>\"\",事業者基本情報!$Y$7,\"\")","v":""},{"$f":"IF(F1872<>\"\",事業者基本情報!$Y$8,\"\")","v":""},{"$f":"IF(F1872<>\"\",事業者基本情報!$E$11&事業者基本情報!$F$11&事業者基本情報!$G$11&事業者基本情報!$H$11&事業者基本情報!$I$11,\"\")","v":""},null,null,null,"市",null,null,"-",null,"-",null,{"$f":"IFERROR(VLOOKUP(Q1872,コード表!$B$3:$C$101,2,FALSE),\"\")","v":""},null,{"$f":"IFERROR(VLOOKUP(S1872,コード表!$F$7:$G$141,2,FALSE),\"\")","v":""},null,null,"t",null,null,null,null,null,null,null,null,null,null,null,null,null,null,null,null,null,null,null,null,null,null,null,null,null,null,null,null,null,null,null,null,null,null,null,null,null,null,null,null,null,null,null,null,null,null,null,null,"","",{"$f":"IF(BS1872=\"\",\"\",IF(COUNTIF(BS$4:BS1872,BS1872)=1,ROW(),\"\"))","v":""},{"$f":"IFERROR(INDEX(BS:BS,SMALL(BT:BT,ROW(A1869))),\"\")","v":""},"","","",""]
[{"$f":"IF(F1875<>\"\",事業者基本情報!$E$9&事業者基本情報!$F$9&事業者基本情報!$G$9,\"\")","v":""},{"$f":"IF(F1875<>\"\",事業者基本情報!$Y$10,\"\")","v":""},{"$f":"IF(F1875<>\"\",事業者基本情報!$Y$7,\"\")","v":""},{"$f":"IF(F1875<>\"\",事業者基本情報!$Y$8,\"\")","v":""},{"$f":"IF(F1875<>\"\",事業者基本情報!$E$11&事業者基本情報!$F$11&事業者基本情報!$G$11&事業者基本情報!$H$11&事業者基本情報!$I$11,\"\")","v":""},null,null,null,"市",null,null,"-",null,"-",null,{"$f":"IFERROR(VLOOKUP(Q1875,コード表!$B$3:$C$101,2,FALSE),\"\")","v":""},null,{"$f":"IFERROR(VLOOKUP(S1875,コード表!$F$7:$G$141,2,FALSE),\"\")","v":""},null,null,"t",null,null,null,null,null,null,null,null,null,null,null,null,null,null,null,null,null,null,null,null,null,null,null,null,null,null,null,null,null,null,null,null,null,null,null,null,null,null,null,null,null,null,null,null,null,null,null,null,"","",{"$f":"IF(BS1875=\"\",\"\",IF(COUNTIF(BS$4:BS1875,BS1875)=1,ROW(),\"\"))","v":""},{"$f":"IFERROR(INDEX(BS:BS,SMALL(BT:BT,ROW(A1872))),\"\")","v":""},"","","",""]
[{"$f":"IF(F1876<>\"\",事業者基本情報!$E$9&事業者基本情報!$F$9&事業者基本情報!$G$9,\"\")","v":""},{"$f":"IF(F1876<>\"\",事業者基本情報!$Y$10,\"\")","v":""},{"$f":"IF(F1876<>\"\",事業者基本情報!$Y$7,\"\")","v":""},{"$f":"IF(F1876<>\"\",事業者基本情報!$Y$8,\"\")","v":""},{"$f":"IF(F1876<>\"\",事業者基本情報!$E$11&事業者基本情報!$F$11&事業者基本情報!$G$11&事業者基本情報!$H$11&事業者基本情報!$I$11,\"\")","v":""},null,null,null,"市",null,null,"-",null,"-",null,{"$f":"IFERROR(VLOOKUP(Q1876,コード表!$B$3:$C$101,2,FALSE),\"\")","v":""},null,{"$f":"IFERROR(VLOOKUP(S1876,コード表!$F$7:$G$141,2,FALSE),\"\")","v":""},null,null,"t",null,null,null,null,null,null,null,null,null,null,null,null,null,null,null,null,null,null,null,null,null,null,null,null,null,null,null,null,null,null,null,null,null,null,null,null,null,null,null,null,null,null,null,null,null,null,null,null,"","",{"$f":"IF(BS1876=\"\",\"\",IF(COUNTIF(BS$4:BS1876,BS1876)=1,ROW(),\"\"))","v":""},{"$f":"IFERROR(INDEX(BS:BS,SMALL(BT:BT,ROW(A1873))),\"\")","v":""},"","","",""]
[{"$f":"IF(F1877<>\"\",事業者基本情報!$E$9&事業者基本情報!$F$9&事業者基本情報!$G$9,\"\")","v":""},{"$f":"IF(F1877<>\"\",事業者基本情報!$Y$10,\"\")","v":""},{"$f":"IF(F1877<>\"\",事業者基本情報!$Y$7,\"\")","v":""},{"$f":"IF(F1877<>\"\",事業者基本情報!$Y$8,\"\")","v":""},{"$f":"IF(F1877<>\"\",事業者基本情報!$E$11&事業者基本情報!$F$11&事業者基本情報!$G$11&事業者基本情報!$H$11&事業者基本情報!$I$11,\"\")","v":""},null,null,null,"市",null,null,"-",null,"-",null,{"$f":"IFERROR(VLOOKUP(Q1877,コード表!$B$3:$C$101,2,FALSE),\"\")","v":""},null,{"$f":"IFERROR(VLOOKUP(S1877,コード表!$F$7:$G$141,2,FALSE),\"\")","v":""},null,null,"t",null,null,null,null,null,null,null,null,null,null,null,null,null,null,null,null,null,null,null,null,null,null,null,null,null,null,null,null,null,null,null,null,null,null,null,null,null,null,null,null,null,null,null,null,null,null,null,null,"","",{"$f":"IF(BS1877=\"\",\"\",IF(COUNTIF(BS$4:BS1877,BS1877)=1,ROW(),\"\"))","v":""},{"$f":"IFERROR(INDEX(BS:BS,SMALL(BT:BT,ROW(A1874))),\"\")","v":""},"","","",""]
[{"$f":"IF(F1878<>\"\",事業者基本情報!$E$9&事業者基本情報!$F$9&事業者基本情報!$G$9,\"\")","v":""},{"$f":"IF(F1878<>\"\",事業者基本情報!$Y$10,\"\")","v":""},{"$f":"IF(F1878<>\"\",事業者基本情報!$Y$7,\"\")","v":""},{"$f":"IF(F1878<>\"\",事業者基本情報!$Y$8,\"\")","v":""},{"$f":"IF(F1878<>\"\",事業者基本情報!$E$11&事業者基本情報!$F$11&事業者基本情報!$G$11&事業者基本情報!$H$11&事業者基本情報!$I$11,\"\")","v":""},null,null,null,"市",null,null,"-",null,"-",null,{"$f":"IFERROR(VLOOKUP(Q1878,コード表!$B$3:$C$101,2,FALSE),\"\")","v":""},null,{"$f":"IFERROR(VLOOKUP(S1878,コード表!$F$7:$G$141,2,FALSE),\"\")","v":""},null,null,"t",null,null,null,null,null,null,null,null,null,null,null,null,null,null,null,null,null,null,null,null,null,null,null,null,null,null,null,null,null,null,null,null,null,null,null,null,null,null,null,null,null,null,null,null,null,null,null,null,"","",{"$f":"IF(BS1878=\"\",\"\",IF(COUNTIF(BS$4:BS1878,BS1878)=1,ROW(),\"\"))","v":""},{"$f":"IFERROR(INDEX(BS:BS,SMALL(BT:BT,ROW(A1875))),\"\")","v":""},"","","",""]
[{"$f":"IF(F1879<>\"\",事業者基本情報!$E$9&事業者基本情報!$F$9&事業者基本情報!$G$9,\"\")","v":""},{"$f":"IF(F1879<>\"\",事業者基本情報!$Y$10,\"\")","v":""},{"$f":"IF(F1879<>\"\",事業者基本情報!$Y$7,\"\")","v":""},{"$f":"IF(F1879<>\"\",事業者基本情報!$Y$8,\"\")","v":""},{"$f":"IF(F1879<>\"\",事業者基本情報!$E$11&事業者基本情報!$F$11&事業者基本情報!$G$11&事業者基本情報!$H$11&事業者基本情報!$I$11,\"\")","v":""},null,null,null,"市",null,null,"-",null,"-",null,{"$f":"IFERROR(VLOOKUP(Q1879,コード表!$B$3:$C$101,2,FALSE),\"\")","v":""},null,{"$f":"IFERROR(VLOOKUP(S1879,コード表!$F$7:$G$141,2,FALSE),\"\")","v":""},null,null,"t",null,null,null,null,null,null,null,null,null,null,null,null,null,null,null,null,null,null,null,null,null,null,null,null,null,null,null,null,null,null,null,null,null,null,null,null,null,null,null,null,null,null,null,null,null,null,null,null,"","",{"$f":"IF(BS1879=\"\",\"\",IF(COUNTIF(BS$4:BS1879,BS1879)=1,ROW(),\"\"))","v":""},{"$f":"IFERROR(INDEX(BS:BS,SMALL(BT:BT,ROW(A1876))),\"\")","v":""},"","","",""]
[{"$f":"IF(F1880<>\"\",事業者基本情報!$E$9&事業者基本情報!$F$9&事業者基本情報!$G$9,\"\")","v":""},{"$f":"IF(F1880<>\"\",事業者基本情報!$Y$10,\"\")","v":""},{"$f":"IF(F1880<>\"\",事業者基本情報!$Y$7,\"\")","v":""},{"$f":"IF(F1880<>\"\",事業者基本情報!$Y$8,\"\")","v":""},{"$f":"IF(F1880<>\"\",事業者基本情報!$E$11&事業者基本情報!$F$11&事業者基本情報!$G$11&事業者基本情報!$H$11&事業者基本情報!$I$11,\"\")","v":""},null,null,null,"市",null,null,"-",null,"-",null,{"$f":"IFERROR(VLOOKUP(Q1880,コード表!$B$3:$C$101,2,FALSE),\"\")","v":""},null,{"$f":"IFERROR(VLOOKUP(S1880,コード表!$F$7:$G$141,2,FALSE),\"\")","v":""},null,null,"t",null,null,null,null,null,null,null,null,null,null,null,null,null,null,null,null,null,null,null,null,null,null,null,null,null,null,null,null,null,null,null,null,null,null,null,null,null,null,null,null,null,null,null,null,null,null,null,null,"","",{"$f":"IF(BS1880=\"\",\"\",IF(COUNTIF(BS$4:BS1880,BS1880)=1,ROW(),\"\"))","v":""},{"$f":"IFERROR(INDEX(BS:BS,SMALL(BT:BT,ROW(A1877))),\"\")","v":""},"","","",""]
[{"$f":"IF(F1881<>\"\",事業者基本情報!$E$9&事業者基本情報!$F$9&事業者基本情報!$G$9,\"\")","v":""},{"$f":"IF(F1881<>\"\",事業者基本情報!$Y$10,\"\")","v":""},{"$f":"IF(F1881<>\"\",事業者基本情報!$Y$7,\"\")","v":""},{"$f":"IF(F1881<>\"\",事業者基本情報!$Y$8,\"\")","v":""},{"$f":"IF(F1881<>\"\",事業者基本情報!$E$11&事業者基本情報!$F$11&事業者基本情報!$G$11&事業者基本情報!$H$11&事業者基本情報!$I$11,\"\")","v":""},null,null,null,"市",null,null,"-",null,"-",null,{"$f":"IFERROR(VLOOKUP(Q1881,コード表!$B$3:$C$101,2,FALSE),\"\")","v":""},null,{"$f":"IFERROR(VLOOKUP(S1881,コード表!$F$7:$G$141,2,FALSE),\"\")","v":""},null,null,"t",null,null,null,null,null,null,null,null,null,null,null,null,null,null,null,null,null,null,null,null,null,null,null,null,null,null,null,null,null,null,null,null,null,null,null,null,null,null,null,null,null,null,null,null,null,null,null,null,"","",{"$f":"IF(BS1881=\"\",\"\",IF(COUNTIF(BS$4:BS1881,BS1881)=1,ROW(),\"\"))","v":""},{"$f":"IFERROR(INDEX(BS:BS,SMALL(BT:BT,ROW(A1878))),\"\")","v":""},"","","",""]
[{"$f":"IF(F1882<>\"\",事業者基本情報!$E$9&事業者基本情報!$F$9&事業者基本情報!$G$9,\"\")","v":""},{"$f":"IF(F1882<>\"\",事業者基本情報!$Y$10,\"\")","v":""},{"$f":"IF(F1882<>\"\",事業者基本情報!$Y$7,\"\")","v":""},{"$f":"IF(F1882<>\"\",事業者基本情報!$Y$8,\"\")","v":""},{"$f":"IF(F1882<>\"\",事業者基本情報!$E$11&事業者基本情報!$F$11&事業者基本情報!$G$11&事業者基本情報!$H$11&事業者基本情報!$I$11,\"\")","v":""},null,null,null,"市",null,null,"-",null,"-",null,{"$f":"IFERROR(VLOOKUP(Q1882,コード表!$B$3:$C$101,2,FALSE),\"\")","v":""},null,{"$f":"IFERROR(VLOOKUP(S1882,コード表!$F$7:$G$141,2,FALSE),\"\")","v":""},null,null,"t",null,null,null,null,null,null,null,null,null,null,null,null,null,null,null,null,null,null,null,null,null,null,null,null,null,null,null,null,null,null,null,null,null,null,null,null,null,null,null,null,null,null,null,null,null,null,null,null,"","",{"$f":"IF(BS1882=\"\",\"\",IF(COUNTIF(BS$4:BS1882,BS1882)=1,ROW(),\"\"))","v":""},{"$f":"IFERROR(INDEX(BS:BS,SMALL(BT:BT,ROW(A1879))),\"\")","v":""},"","","",""]
[{"$f":"IF(F1883<>\"\",事業者基本情報!$E$9&事業者基本情報!$F$9&事業者基本情報!$G$9,\"\")","v":""},{"$f":"IF(F1883<>\"\",事業者基本情報!$Y$10,\"\")","v":""},{"$f":"IF(F1883<>\"\",事業者基本情報!$Y$7,\"\")","v":""},{"$f":"IF(F1883<>\"\",事業者基本情報!$Y$8,\"\")","v":""},{"$f":"IF(F1883<>\"\",事業者基本情報!$E$11&事業者基本情報!$F$11&事業者基本情報!$G$11&事業者基本情報!$H$11&事業者基本情報!$I$11,\"\")","v":""},null,null,null,"市",null,null,"-",null,"-",null,{"$f":"IFERROR(VLOOKUP(Q1883,コード表!$B$3:$C$101,2,FALSE),\"\")","v":""},null,{"$f":"IFERROR(VLOOKUP(S1883,コード表!$F$7:$G$141,2,FALSE),\"\")","v":""},null,null,"t",null,null,null,null,null,null,null,null,null,null,null,null,null,null,null,null,null,null,null,null,null,null,null,null,null,null,null,null,null,null,null,null,null,null,null,null,null,null,null,null,null,null,null,null,null,null,null,null,"","",{"$f":"IF(BS1883=\"\",\"\",IF(COUNTIF(BS$4:BS1883,BS1883)=1,ROW(),\"\"))","v":""},{"$f":"IFERROR(INDEX(BS:BS,SMALL(BT:BT,ROW(A1880))),\"\")","v":""},"","","",""]
[{"$f":"IF(F1884<>\"\",事業者基本情報!$E$9&事業者基本情報!$F$9&事業者基本情報!$G$9,\"\")","v":""},{"$f":"IF(F1884<>\"\",事業者基本情報!$Y$10,\"\")","v":""},{"$f":"IF(F1884<>\"\",事業者基本情報!$Y$7,\"\")","v":""},{"$f":"IF(F1884<>\"\",事業者基本情報!$Y$8,\"\")","v":""},{"$f":"IF(F1884<>\"\",事業者基本情報!$E$11&事業者基本情報!$F$11&事業者基本情報!$G$11&事業者基本情報!$H$11&事業者基本情報!$I$11,\"\")","v":""},null,null,null,"市",null,null,"-",null,"-",null,{"$f":"IFERROR(VLOOKUP(Q1884,コード表!$B$3:$C$101,2,FALSE),\"\")","v":""},null,{"$f":"IFERROR(VLOOKUP(S1884,コード表!$F$7:$G$141,2,FALSE),\"\")","v":""},null,null,"t",null,null,null,null,null,null,null,null,null,null,null,null,null,null,null,null,null,null,null,null,null,null,null,null,null,null,null,null,null,null,null,null,null,null,null,null,null,null,null,null,null,null,null,null,null,null,null,null,"","",{"$f":"IF(BS1884=\"\",\"\",IF(COUNTIF(BS$4:BS1884,BS1884)=1,ROW(),\"\"))","v":""},{"$f":"IFERROR(INDEX(BS:BS,SMALL(BT:BT,ROW(A1881))),\"\")","v":""},"","","",""]
[{"$f":"IF(F1885<>\"\",事業者基本情報!$E$9&事業者基本情報!$F$9&事業者基本情報!$G$9,\"\")","v":""},{"$f":"IF(F1885<>\"\",事業者基本情報!$Y$10,\"\")","v":""},{"$f":"IF(F1885<>\"\",事業者基本情報!$Y$7,\"\")","v":""},{"$f":"IF(F1885<>\"\",事業者基本情報!$Y$8,\"\")","v":""},{"$f":"IF(F1885<>\"\",事業者基本情報!$E$11&事業者基本情報!$F$11&事業者基本情報!$G$11&事業者基本情報!$H$11&事業者基本情報!$I$11,\"\")","v":""},null,null,null,"市",null,null,"-",null,"-",null,{"$f":"IFERROR(VLOOKUP(Q1885,コード表!$B$3:$C$101,2,FALSE),\"\")","v":""},null,{"$f":"IFERROR(VLOOKUP(S1885,コード表!$F$7:$G$141,2,FALSE),\"\")","v":""},null,null,"t",null,null,null,null,null,null,null,null,null,null,null,null,null,null,null,null,null,null,null,null,null,null,null,null,null,null,null,null,null,null,null,null,null,null,null,null,null,null,null,null,null,null,null,null,null,null,null,null,"","",{"$f":"IF(BS1885=\"\",\"\",IF(COUNTIF(BS$4:BS1885,BS1885)=1,ROW(),\"\"))","v":""},{"$f":"IFERROR(INDEX(BS:BS,SMALL(BT:BT,ROW(A1882))),\"\")","v":""},"","","",""]
[{"$f":"IF(F1886<>\"\",事業者基本情報!$E$9&事業者基本情報!$F$9&事業者基本情報!$G$9,\"\")","v":""},{"$f":"IF(F1886<>\"\",事業者基本情報!$Y$10,\"\")","v":""},{"$f":"IF(F1886<>\"\",事業者基本情報!$Y$7,\"\")","v":""},{"$f":"IF(F1886<>\"\",事業者基本情報!$Y$8,\"\")","v":""},{"$f":"IF(F1886<>\"\",事業者基本情報!$E$11&事業者基本情報!$F$11&事業者基本情報!$G$11&事業者基本情報!$H$11&事業者基本情報!$I$11,\"\")","v":""},null,null,null,"市",null,null,"-",null,"-",null,{"$f":"IFERROR(VLOOKUP(Q1886,コード表!$B$3:$C$101,2,FALSE),\"\")","v":""},null,{"$f":"IFERROR(VLOOKUP(S1886,コード表!$F$7:$G$141,2,FALSE),\"\")","v":""},null,null,"t",null,null,null,null,null,null,null,null,null,null,null,null,null,null,null,null,null,null,null,null,null,null,null,null,null,null,null,null,null,null,null,null,null,null,null,null,null,null,null,null,null,null,null,null,null,null,null,null,"","",{"$f":"IF(BS1886=\"\",\"\",IF(COUNTIF(BS$4:BS1886,BS1886)=1,ROW(),\"\"))","v":""},{"$f":"IFERROR(INDEX(BS:BS,SMALL(BT:BT,ROW(A1883))),\"\")","v":""},"","","",""]
[{"$f":"IF(F1887<>\"\",事業者基本情報!$E$9&事業者基本情報!$F$9&事業者基本情報!$G$9,\"\")","v":""},{"$f":"IF(F1887<>\"\",事業者基本情報!$Y$10,\"\")","v":""},{"$f":"IF(F1887<>\"\",事業者基本情報!$Y$7,\"\")","v":""},{"$f":"IF(F1887<>\"\",事業者基本情報!$Y$8,\"\")","v":""},{"$f":"IF(F1887<>\"\",事業者基本情報!$E$11&事業者基本情報!$F$11&事業者基本情報!$G$11&事業者基本情報!$H$11&事業者基本情報!$I$11,\"\")","v":""},null,null,null,"市",null,null,"-",null,"-",null,{"$f":"IFERROR(VLOOKUP(Q1887,コード表!$B$3:$C$101,2,FALSE),\"\")","v":""},null,{"$f":"IFERROR(VLOOKUP(S1887,コード表!$F$7:$G$141,2,FALSE),\"\")","v":""},null,null,"t",null,null,null,null,null,null,null,null,null,null,null,null,null,null,null,null,null,null,null,null,null,null,null,null,null,null,null,null,null,null,null,null,null,null,null,null,null,null,null,null,null,null,null,null,null,null,null,null,"","",{"$f":"IF(BS1887=\"\",\"\",IF(COUNTIF(BS$4:BS1887,BS1887)=1,ROW(),\"\"))","v":""},{"$f":"IFERROR(INDEX(BS:BS,SMALL(BT:BT,ROW(A1884))),\"\")","v":""},"","","",""]
[{"$f":"IF(F1888<>\"\",事業者基本情報!$E$9&事業者基本情報!$F$9&事業者基本情報!$G$9,\"\")","v":""},{"$f":"IF(F1888<>\"\",事業者基本情報!$Y$10,\"\")","v":""},{"$f":"IF(F1888<>\"\",事業者基本情報!$Y$7,\"\")","v":""},{"$f":"IF(F1888<>\"\",事業者基本情報!$Y$8,\"\")","v":""},{"$f":"IF(F1888<>\"\",事業者基本情報!$E$11&事業者基本情報!$F$11&事業者基本情報!$G$11&事業者基本情報!$H$11&事業者基本情報!$I$11,\"\")","v":""},null,null,null,"市",null,null,"-",null,"-",null,{"$f":"IFERROR(VLOOKUP(Q1888,コード表!$B$3:$C$101,2,FALSE),\"\")","v":""},null,{"$f":"IFERROR(VLOOKUP(S1888,コード表!$F$7:$G$141,2,FALSE),\"\")","v":""},null,null,"t",null,null,null,null,null,null,null,null,null,null,null,null,null,null,null,null,null,null,null,null,null,null,null,null,null,null,null,null,null,null,null,null,null,null,null,null,null,null,null,null,null,null,null,null,null,null,null,null,"","",{"$f":"IF(BS1888=\"\",\"\",IF(COUNTIF(BS$4:BS1888,BS1888)=1,ROW(),\"\"))","v":""},{"$f":"IFERROR(INDEX(BS:BS,SMALL(BT:BT,ROW(A1885))),\"\")","v":""},"","","",""]
[{"$f":"IF(F1889<>\"\",事業者基本情報!$E$9&事業者基本情報!$F$9&事業者基本情報!$G$9,\"\")","v":""},{"$f":"IF(F1889<>\"\",事業者基本情報!$Y$10,\"\")","v":""},{"$f":"IF(F1889<>\"\",事業者基本情報!$Y$7,\"\")","v":""},{"$f":"IF(F1889<>\"\",事業者基本情報!$Y$8,\"\")","v":""},{"$f":"IF(F1889<>\"\",事業者基本情報!$E$11&事業者基本情報!$F$11&事業者基本情報!$G$11&事業者基本情報!$H$11&事業者基本情報!$I$11,\"\")","v":""},null,null,null,"市",null,null,"-",null,"-",null,{"$f":"IFERROR(VLOOKUP(Q1889,コード表!$B$3:$C$101,2,FALSE),\"\")","v":""},null,{"$f":"IFERROR(VLOOKUP(S1889,コード表!$F$7:$G$141,2,FALSE),\"\")","v":""},null,null,"t",null,null,null,null,null,null,null,null,null,null,null,null,null,null,null,null,null,null,null,null,null,null,null,null,null,null,null,null,null,null,null,null,null,null,null,null,null,null,null,null,null,null,null,null,null,null,null,null,"","",{"$f":"IF(BS1889=\"\",\"\",IF(COUNTIF(BS$4:BS1889,BS1889)=1,ROW(),\"\"))","v":""},{"$f":"IFERROR(INDEX(BS:BS,SMALL(BT:BT,ROW(A1886))),\"\")","v":""},"","","",""]
[{"$f":"IF(F1890<>\"\",事業者基本情報!$E$9&事業者基本情報!$F$9&事業者基本情報!$G$9,\"\")","v":""},{"$f":"IF(F1890<>\"\",事業者基本情報!$Y$10,\"\")","v":""},{"$f":"IF(F1890<>\"\",事業者基本情報!$Y$7,\"\")","v":""},{"$f":"IF(F1890<>\"\",事業者基本情報!$Y$8,\"\")","v":""},{"$f":"IF(F1890<>\"\",事業者基本情報!$E$11&事業者基本情報!$F$11&事業者基本情報!$G$11&事業者基本情報!$H$11&事業者基本情報!$I$11,\"\")","v":""},null,null,null,"市",null,null,"-",null,"-",null,{"$f":"IFERROR(VLOOKUP(Q1890,コード表!$B$3:$C$101,2,FALSE),\"\")","v":""},null,{"$f":"IFERROR(VLOOKUP(S1890,コード表!$F$7:$G$141,2,FALSE),\"\")","v":""},null,null,"t",null,null,null,null,null,null,null,null,null,null,null,null,null,null,null,null,null,null,null,null,null,null,null,null,null,null,null,null,null,null,null,null,null,null,null,null,null,null,null,null,null,null,null,null,null,null,null,null,"","",{"$f":"IF(BS1890=\"\",\"\",IF(COUNTIF(BS$4:BS1890,BS1890)=1,ROW(),\"\"))","v":""},{"$f":"IFERROR(INDEX(BS:BS,SMALL(BT:BT,ROW(A1887))),\"\")","v":""},"","","",""]
[{"$f":"IF(F1891<>\"\",事業者基本情報!$E$9&事業者基本情報!$F$9&事業者基本情報!$G$9,\"\")","v":""},{"$f":"IF(F1891<>\"\",事業者基本情報!$Y$10,\"\")","v":""},{"$f":"IF(F1891<>\"\",事業者基本情報!$Y$7,\"\")","v":""},{"$f":"IF(F1891<>\"\",事業者基本情報!$Y$8,\"\")","v":""},{"$f":"IF(F1891<>\"\",事業者基本情報!$E$11&事業者基本情報!$F$11&事業者基本情報!$G$11&事業者基本情報!$H$11&事業者基本情報!$I$11,\"\")","v":""},null,null,null,"市",null,null,"-",null,"-",null,{"$f":"IFERROR(VLOOKUP(Q1891,コード表!$B$3:$C$101,2,FALSE),\"\")","v":""},null,{"$f":"IFERROR(VLOOKUP(S1891,コード表!$F$7:$G$141,2,FALSE),\"\")","v":""},null,null,"t",null,null,null,null,null,null,null,null,null,null,null,null,null,null,null,null,null,null,null,null,null,null,null,null,null,null,null,null,null,null,null,null,null,null,null,null,null,null,null,null,null,null,null,null,null,null,null,null,"","",{"$f":"IF(BS1891=\"\",\"\",IF(COUNTIF(BS$4:BS1891,BS1891)=1,ROW(),\"\"))","v":""},{"$f":"IFERROR(INDEX(BS:BS,SMALL(BT:BT,ROW(A1888))),\"\")","v":""},"","","",""]
[{"$f":"IF(F1892<>\"\",事業者基本情報!$E$9&事業者基本情報!$F$9&事業者基本情報!$G$9,\"\")","v":""},{"$f":"IF(F1892<>\"\",事業者基本情報!$Y$10,\"\")","v":""},{"$f":"IF(F1892<>\"\",事業者基本情報!$Y$7,\"\")","v":""},{"$f":"IF(F1892<>\"\",事業者基本情報!$Y$8,\"\")","v":""},{"$f":"IF(F1892<>\"\",事業者基本情報!$E$11&事業者基本情報!$F$11&事業者基本情報!$G$11&事業者基本情報!$H$11&事業者基本情報!$I$11,\"\")","v":""},null,null,null,"市",null,null,"-",null,"-",null,{"$f":"IFERROR(VLOOKUP(Q1892,コード表!$B$3:$C$101,2,FALSE),\"\")","v":""},null,{"$f":"IFERROR(VLOOKUP(S1892,コード表!$F$7:$G$141,2,FALSE),\"\")","v":""},null,null,"t",null,null,null,null,null,null,null,null,null,null,null,null,null,null,null,null,null,null,null,null,null,null,null,null,null,null,null,null,null,null,null,null,null,null,null,null,null,null,null,null,null,null,null,null,null,null,null,null,"","",{"$f":"IF(BS1892=\"\",\"\",IF(COUNTIF(BS$4:BS1892,BS1892)=1,ROW(),\"\"))","v":""},{"$f":"IFERROR(INDEX(BS:BS,SMALL(BT:BT,ROW(A1889))),\"\")","v":""},"","","",""]
[{"$f":"IF(F1893<>\"\",事業者基本情報!$E$9&事業者基本情報!$F$9&事業者基本情報!$G$9,\"\")","v":""},{"$f":"IF(F1893<>\"\",事業者基本情報!$Y$10,\"\")","v":""},{"$f":"IF(F1893<>\"\",事業者基本情報!$Y$7,\"\")","v":""},{"$f":"IF(F1893<>\"\",事業者基本情報!$Y$8,\"\")","v":""},{"$f":"IF(F1893<>\"\",事業者基本情報!$E$11&事業者基本情報!$F$11&事業者基本情報!$G$11&事業者基本情報!$H$11&事業者基本情報!$I$11,\"\")","v":""},null,null,null,"市",null,null,"-",null,"-",null,{"$f":"IFERROR(VLOOKUP(Q1893,コード表!$B$3:$C$101,2,FALSE),\"\")","v":""},null,{"$f":"IFERROR(VLOOKUP(S1893,コード表!$F$7:$G$141,2,FALSE),\"\")","v":""},null,null,"t",null,null,null,null,null,null,null,null,null,null,null,null,null,null,null,null,null,null,null,null,null,null,null,null,null,null,null,null,null,null,null,null,null,null,null,null,null,null,null,null,null,null,null,null,null,null,null,null,"","",{"$f":"IF(BS1893=\"\",\"\",IF(COUNTIF(BS$4:BS1893,BS1893)=1,ROW(),\"\"))","v":""},{"$f":"IFERROR(INDEX(BS:BS,SMALL(BT:BT,ROW(A1890))),\"\")","v":""},"","","",""]
[{"$f":"IF(F1894<>\"\",事業者基本情報!$E$9&事業者基本情報!$F$9&事業者基本情報!$G$9,\"\")","v":""},{"$f":"IF(F1894<>\"\",事業者基本情報!$Y$10,\"\")","v":""},{"$f":"IF(F1894<>\"\",事業者基本情報!$Y$7,\"\")","v":""},{"$f":"IF(F1894<>\"\",事業者基本情報!$Y$8,\"\")","v":""},{"$f":"IF(F1894<>\"\",事業者基本情報!$E$11&事業者基本情報!$F$11&事業者基本情報!$G$11&事業者基本情報!$H$11&事業者基本情報!$I$11,\"\")","v":""},null,null,null,"市",null,null,"-",null,"-",null,{"$f":"IFERROR(VLOOKUP(Q1894,コード表!$B$3:$C$101,2,FALSE),\"\")","v":""},null,{"$f":"IFERROR(VLOOKUP(S1894,コード表!$F$7:$G$141,2,FALSE),\"\")","v":""},null,null,"t",null,null,null,null,null,null,null,null,null,null,null,null,null,null,null,null,null,null,null,null,null,null,null,null,null,null,null,null,null,null,null,null,null,null,null,null,null,null,null,null,null,null,null,null,null,null,null,null,"","",{"$f":"IF(BS1894=\"\",\"\",IF(COUNTIF(BS$4:BS1894,BS1894)=1,ROW(),\"\"))","v":""},{"$f":"IFERROR(INDEX(BS:BS,SMALL(BT:BT,ROW(A1891))),\"\")","v":""},"","","",""]
[{"$f":"IF(F1895<>\"\",事業者基本情報!$E$9&事業者基本情報!$F$9&事業者基本情報!$G$9,\"\")","v":""},{"$f":"IF(F1895<>\"\",事業者基本情報!$Y$10,\"\")","v":""},{"$f":"IF(F1895<>\"\",事業者基本情報!$Y$7,\"\")","v":""},{"$f":"IF(F1895<>\"\",事業者基本情報!$Y$8,\"\")","v":""},{"$f":"IF(F1895<>\"\",事業者基本情報!$E$11&事業者基本情報!$F$11&事業者基本情報!$G$11&事業者基本情報!$H$11&事業者基本情報!$I$11,\"\")","v":""},null,null,null,"市",null,null,"-",null,"-",null,{"$f":"IFERROR(VLOOKUP(Q1895,コード表!$B$3:$C$101,2,FALSE),\"\")","v":""},null,{"$f":"IFERROR(VLOOKUP(S1895,コード表!$F$7:$G$141,2,FALSE),\"\")","v":""},null,null,"t",null,null,null,null,null,null,null,null,null,null,null,null,null,null,null,null,null,null,null,null,null,null,null,null,null,null,null,null,null,null,null,null,null,null,null,null,null,null,null,null,null,null,null,null,null,null,null,null,"","",{"$f":"IF(BS1895=\"\",\"\",IF(COUNTIF(BS$4:BS1895,BS1895)=1,ROW(),\"\"))","v":""},{"$f":"IFERROR(INDEX(BS:BS,SMALL(BT:BT,ROW(A1892))),\"\")","v":""},"","","",""]
[{"$f":"IF(F1896<>\"\",事業者基本情報!$E$9&事業者基本情報!$F$9&事業者基本情報!$G$9,\"\")","v":""},{"$f":"IF(F1896<>\"\",事業者基本情報!$Y$10,\"\")","v":""},{"$f":"IF(F1896<>\"\",事業者基本情報!$Y$7,\"\")","v":""},{"$f":"IF(F1896<>\"\",事業者基本情報!$Y$8,\"\")","v":""},{"$f":"IF(F1896<>\"\",事業者基本情報!$E$11&事業者基本情報!$F$11&事業者基本情報!$G$11&事業者基本情報!$H$11&事業者基本情報!$I$11,\"\")","v":""},null,null,null,"市",null,null,"-",null,"-",null,{"$f":"IFERROR(VLOOKUP(Q1896,コード表!$B$3:$C$101,2,FALSE),\"\")","v":""},null,{"$f":"IFERROR(VLOOKUP(S1896,コード表!$F$7:$G$141,2,FALSE),\"\")","v":""},null,null,"t",null,null,null,null,null,null,null,null,null,null,null,null,null,null,null,null,null,null,null,null,null,null,null,null,null,null,null,null,null,null,null,null,null,null,null,null,null,null,null,null,null,null,null,null,null,null,null,null,"","",{"$f":"IF(BS1896=\"\",\"\",IF(COUNTIF(BS$4:BS1896,BS1896)=1,ROW(),\"\"))","v":""},{"$f":"IFERROR(INDEX(BS:BS,SMALL(BT:BT,ROW(A1893))),\"\")","v":""},"","","",""]
[{"$f":"IF(F1897<>\"\",事業者基本情報!$E$9&事業者基本情報!$F$9&事業者基本情報!$G$9,\"\")","v":""},{"$f":"IF(F1897<>\"\",事業者基本情報!$Y$10,\"\")","v":""},{"$f":"IF(F1897<>\"\",事業者基本情報!$Y$7,\"\")","v":""},{"$f":"IF(F1897<>\"\",事業者基本情報!$Y$8,\"\")","v":""},{"$f":"IF(F1897<>\"\",事業者基本情報!$E$11&事業者基本情報!$F$11&事業者基本情報!$G$11&事業者基本情報!$H$11&事業者基本情報!$I$11,\"\")","v":""},null,null,null,"市",null,null,"-",null,"-",null,{"$f":"IFERROR(VLOOKUP(Q1897,コード表!$B$3:$C$101,2,FALSE),\"\")","v":""},null,{"$f":"IFERROR(VLOOKUP(S1897,コード表!$F$7:$G$141,2,FALSE),\"\")","v":""},null,null,"t",null,null,null,null,null,null,null,null,null,null,null,null,null,null,null,null,null,null,null,null,null,null,null,null,null,null,null,null,null,null,null,null,null,null,null,null,null,null,null,null,null,null,null,null,null,null,null,null,"","",{"$f":"IF(BS1897=\"\",\"\",IF(COUNTIF(BS$4:BS1897,BS1897)=1,ROW(),\"\"))","v":""},{"$f":"IFERROR(INDEX(BS:BS,SMALL(BT:BT,ROW(A1894))),\"\")","v":""},"","","",""]
[{"$f":"IF(F1898<>\"\",事業者基本情報!$E$9&事業者基本情報!$F$9&事業者基本情報!$G$9,\"\")","v":""},{"$f":"IF(F1898<>\"\",事業者基本情報!$Y$10,\"\")","v":""},{"$f":"IF(F1898<>\"\",事業者基本情報!$Y$7,\"\")","v":""},{"$f":"IF(F1898<>\"\",事業者基本情報!$Y$8,\"\")","v":""},{"$f":"IF(F1898<>\"\",事業者基本情報!$E$11&事業者基本情報!$F$11&事業者基本情報!$G$11&事業者基本情報!$H$11&事業者基本情報!$I$11,\"\")","v":""},null,null,null,"市",null,null,"-",null,"-",null,{"$f":"IFERROR(VLOOKUP(Q1898,コード表!$B$3:$C$101,2,FALSE),\"\")","v":""},null,{"$f":"IFERROR(VLOOKUP(S1898,コード表!$F$7:$G$141,2,FALSE),\"\")","v":""},null,null,"t",null,null,null,null,null,null,null,null,null,null,null,null,null,null,null,null,null,null,null,null,null,null,null,null,null,null,null,null,null,null,null,null,null,null,null,null,null,null,null,null,null,null,null,null,null,null,null,null,"","",{"$f":"IF(BS1898=\"\",\"\",IF(COUNTIF(BS$4:BS1898,BS1898)=1,ROW(),\"\"))","v":""},{"$f":"IFERROR(INDEX(BS:BS,SMALL(BT:BT,ROW(A1895))),\"\")","v":""},"","","",""]
[{"$f":"IF(F1899<>\"\",事業者基本情報!$E$9&事業者基本情報!$F$9&事業者基本情報!$G$9,\"\")","v":""},{"$f":"IF(F1899<>\"\",事業者基本情報!$Y$10,\"\")","v":""},{"$f":"IF(F1899<>\"\",事業者基本情報!$Y$7,\"\")","v":""},{"$f":"IF(F1899<>\"\",事業者基本情報!$Y$8,\"\")","v":""},{"$f":"IF(F1899<>\"\",事業者基本情報!$E$11&事業者基本情報!$F$11&事業者基本情報!$G$11&事業者基本情報!$H$11&事業者基本情報!$I$11,\"\")","v":""},null,null,null,"市",null,null,"-",null,"-",null,{"$f":"IFERROR(VLOOKUP(Q1899,コード表!$B$3:$C$101,2,FALSE),\"\")","v":""},null,{"$f":"IFERROR(VLOOKUP(S1899,コード表!$F$7:$G$141,2,FALSE),\"\")","v":""},null,null,"t",null,null,null,null,null,null,null,null,null,null,null,null,null,null,null,null,null,null,null,null,null,null,null,null,null,null,null,null,null,null,null,null,null,null,null,null,null,null,null,null,null,null,null,null,null,null,null,null,"","",{"$f":"IF(BS1899=\"\",\"\",IF(COUNTIF(BS$4:BS1899,BS1899)=1,ROW(),\"\"))","v":""},{"$f":"IFERROR(INDEX(BS:BS,SMALL(BT:BT,ROW(A1896))),\"\")","v":""},"","","",""]
[{"$f":"IF(F1900<>\"\",事業者基本情報!$E$9&事業者基本情報!$F$9&事業者基本情報!$G$9,\"\")","v":""},{"$f":"IF(F1900<>\"\",事業者基本情報!$Y$10,\"\")","v":""},{"$f":"IF(F1900<>\"\",事業者基本情報!$Y$7,\"\")","v":""},{"$f":"IF(F1900<>\"\",事業者基本情報!$Y$8,\"\")","v":""},{"$f":"IF(F1900<>\"\",事業者基本情報!$E$11&事業者基本情報!$F$11&事業者基本情報!$G$11&事業者基本情報!$H$11&事業者基本情報!$I$11,\"\")","v":""},null,null,null,"市",null,null,"-",null,"-",null,{"$f":"IFERROR(VLOOKUP(Q1900,コード表!$B$3:$C$101,2,FALSE),\"\")","v":""},null,{"$f":"IFERROR(VLOOKUP(S1900,コード表!$F$7:$G$141,2,FALSE),\"\")","v":""},null,null,"t",null,null,null,null,null,null,null,null,null,null,null,null,null,null,null,null,null,null,null,null,null,null,null,null,null,null,null,null,null,null,null,null,null,null,null,null,null,null,null,null,null,null,null,null,null,null,null,null,"","",{"$f":"IF(BS1900=\"\",\"\",IF(COUNTIF(BS$4:BS1900,BS1900)=1,ROW(),\"\"))","v":""},{"$f":"IFERROR(INDEX(BS:BS,SMALL(BT:BT,ROW(A1897))),\"\")","v":""},"","","",""]
[{"$f":"IF(F1901<>\"\",事業者基本情報!$E$9&事業者基本情報!$F$9&事業者基本情報!$G$9,\"\")","v":""},{"$f":"IF(F1901<>\"\",事業者基本情報!$Y$10,\"\")","v":""},{"$f":"IF(F1901<>\"\",事業者基本情報!$Y$7,\"\")","v":""},{"$f":"IF(F1901<>\"\",事業者基本情報!$Y$8,\"\")","v":""},{"$f":"IF(F1901<>\"\",事業者基本情報!$E$11&事業者基本情報!$F$11&事業者基本情報!$G$11&事業者基本情報!$H$11&事業者基本情報!$I$11,\"\")","v":""},null,null,null,"市",null,null,"-",null,"-",null,{"$f":"IFERROR(VLOOKUP(Q1901,コード表!$B$3:$C$101,2,FALSE),\"\")","v":""},null,{"$f":"IFERROR(VLOOKUP(S1901,コード表!$F$7:$G$141,2,FALSE),\"\")","v":""},null,null,"t",null,null,null,null,null,null,null,null,null,null,null,null,null,null,null,null,null,null,null,null,null,null,null,null,null,null,null,null,null,null,null,null,null,null,null,null,null,null,null,null,null,null,null,null,null,null,null,null,"","",{"$f":"IF(BS1901=\"\",\"\",IF(COUNTIF(BS$4:BS1901,BS1901)=1,ROW(),\"\"))","v":""},{"$f":"IFERROR(INDEX(BS:BS,SMALL(BT:BT,ROW(A1898))),\"\")","v":""},"","","",""]
[{"$f":"IF(F1902<>\"\",事業者基本情報!$E$9&事業者基本情報!$F$9&事業者基本情報!$G$9,\"\")","v":""},{"$f":"IF(F1902<>\"\",事業者基本情報!$Y$10,\"\")","v":""},{"$f":"IF(F1902<>\"\",事業者基本情報!$Y$7,\"\")","v":""},{"$f":"IF(F1902<>\"\",事業者基本情報!$Y$8,\"\")","v":""},{"$f":"IF(F1902<>\"\",事業者基本情報!$E$11&事業者基本情報!$F$11&事業者基本情報!$G$11&事業者基本情報!$H$11&事業者基本情報!$I$11,\"\")","v":""},null,null,null,"市",null,null,"-",null,"-",null,{"$f":"IFERROR(VLOOKUP(Q1902,コード表!$B$3:$C$101,2,FALSE),\"\")","v":""},null,{"$f":"IFERROR(VLOOKUP(S1902,コード表!$F$7:$G$141,2,FALSE),\"\")","v":""},null,null,"t",null,null,null,null,null,null,null,null,null,null,null,null,null,null,null,null,null,null,null,null,null,null,null,null,null,null,null,null,null,null,null,null,null,null,null,null,null,null,null,null,null,null,null,null,null,null,null,null,"","",{"$f":"IF(BS1902=\"\",\"\",IF(COUNTIF(BS$4:BS1902,BS1902)=1,ROW(),\"\"))","v":""},{"$f":"IFERROR(INDEX(BS:BS,SMALL(BT:BT,ROW(A1899))),\"\")","v":""},"","","",""]
[{"$f":"IF(F1903<>\"\",事業者基本情報!$E$9&事業者基本情報!$F$9&事業者基本情報!$G$9,\"\")","v":""},{"$f":"IF(F1903<>\"\",事業者基本情報!$Y$10,\"\")","v":""},{"$f":"IF(F1903<>\"\",事業者基本情報!$Y$7,\"\")","v":""},{"$f":"IF(F1903<>\"\",事業者基本情報!$Y$8,\"\")","v":""},{"$f":"IF(F1903<>\"\",事業者基本情報!$E$11&事業者基本情報!$F$11&事業者基本情報!$G$11&事業者基本情報!$H$11&事業者基本情報!$I$11,\"\")","v":""},null,null,null,"市",null,null,"-",null,"-",null,{"$f":"IFERROR(VLOOKUP(Q1903,コード表!$B$3:$C$101,2,FALSE),\"\")","v":""},null,{"$f":"IFERROR(VLOOKUP(S1903,コード表!$F$7:$G$141,2,FALSE),\"\")","v":""},null,null,"t",null,null,null,null,null,null,null,null,null,null,null,null,null,null,null,null,null,null,null,null,null,null,null,null,null,null,null,null,null,null,null,null,null,null,null,null,null,null,null,null,null,null,null,null,null,null,null,null,"","",{"$f":"IF(BS1903=\"\",\"\",IF(COUNTIF(BS$4:BS1903,BS1903)=1,ROW(),\"\"))","v":""},{"$f":"IFERROR(INDEX(BS:BS,SMALL(BT:BT,ROW(A1900))),\"\")","v":""},"","","",""]
[{"$f":"IF(F1904<>\"\",事業者基本情報!$E$9&事業者基本情報!$F$9&事業者基本情報!$G$9,\"\")","v":""},{"$f":"IF(F1904<>\"\",事業者基本情報!$Y$10,\"\")","v":""},{"$f":"IF(F1904<>\"\",事業者基本情報!$Y$7,\"\")","v":""},{"$f":"IF(F1904<>\"\",事業者基本情報!$Y$8,\"\")","v":""},{"$f":"IF(F1904<>\"\",事業者基本情報!$E$11&事業者基本情報!$F$11&事業者基本情報!$G$11&事業者基本情報!$H$11&事業者基本情報!$I$11,\"\")","v":""},null,null,null,"市",null,null,"-",null,"-",null,{"$f":"IFERROR(VLOOKUP(Q1904,コード表!$B$3:$C$101,2,FALSE),\"\")","v":""},null,{"$f":"IFERROR(VLOOKUP(S1904,コード表!$F$7:$G$141,2,FALSE),\"\")","v":""},null,null,"t",null,null,null,null,null,null,null,null,null,null,null,null,null,null,null,null,null,null,null,null,null,null,null,null,null,null,null,null,null,null,null,null,null,null,null,null,null,null,null,null,null,null,null,null,null,null,null,null,"","",{"$f":"IF(BS1904=\"\",\"\",IF(COUNTIF(BS$4:BS1904,BS1904)=1,ROW(),\"\"))","v":""},{"$f":"IFERROR(INDEX(BS:BS,SMALL(BT:BT,ROW(A1901))),\"\")","v":""},"","","",""]
[{"$f":"IF(F1905<>\"\",事業者基本情報!$E$9&事業者基本情報!$F$9&事業者基本情報!$G$9,\"\")","v":""},{"$f":"IF(F1905<>\"\",事業者基本情報!$Y$10,\"\")","v":""},{"$f":"IF(F1905<>\"\",事業者基本情報!$Y$7,\"\")","v":""},{"$f":"IF(F1905<>\"\",事業者基本情報!$Y$8,\"\")","v":""},{"$f":"IF(F1905<>\"\",事業者基本情報!$E$11&事業者基本情報!$F$11&事業者基本情報!$G$11&事業者基本情報!$H$11&事業者基本情報!$I$11,\"\")","v":""},null,null,null,"市",null,null,"-",null,"-",null,{"$f":"IFERROR(VLOOKUP(Q1905,コード表!$B$3:$C$101,2,FALSE),\"\")","v":""},null,{"$f":"IFERROR(VLOOKUP(S1905,コード表!$F$7:$G$141,2,FALSE),\"\")","v":""},null,null,"t",null,null,null,null,null,null,null,null,null,null,null,null,null,null,null,null,null,null,null,null,null,null,null,null,null,null,null,null,null,null,null,null,null,null,null,null,null,null,null,null,null,null,null,null,null,null,null,null,"","",{"$f":"IF(BS1905=\"\",\"\",IF(COUNTIF(BS$4:BS1905,BS1905)=1,ROW(),\"\"))","v":""},{"$f":"IFERROR(INDEX(BS:BS,SMALL(BT:BT,ROW(A1902))),\"\")","v":""},"","","",""]
[{"$f":"IF(F1906<>\"\",事業者基本情報!$E$9&事業者基本情報!$F$9&事業者基本情報!$G$9,\"\")","v":""},{"$f":"IF(F1906<>\"\",事業者基本情報!$Y$10,\"\")","v":""},{"$f":"IF(F1906<>\"\",事業者基本情報!$Y$7,\"\")","v":""},{"$f":"IF(F1906<>\"\",事業者基本情報!$Y$8,\"\")","v":""},{"$f":"IF(F1906<>\"\",事業者基本情報!$E$11&事業者基本情報!$F$11&事業者基本情報!$G$11&事業者基本情報!$H$11&事業者基本情報!$I$11,\"\")","v":""},null,null,null,"市",null,null,"-",null,"-",null,{"$f":"IFERROR(VLOOKUP(Q1906,コード表!$B$3:$C$101,2,FALSE),\"\")","v":""},null,{"$f":"IFERROR(VLOOKUP(S1906,コード表!$F$7:$G$141,2,FALSE),\"\")","v":""},null,null,"t",null,null,null,null,null,null,null,null,null,null,null,null,null,null,null,null,null,null,null,null,null,null,null,null,null,null,null,null,null,null,null,null,null,null,null,null,null,null,null,null,null,null,null,null,null,null,null,null,"","",{"$f":"IF(BS1906=\"\",\"\",IF(COUNTIF(BS$4:BS1906,BS1906)=1,ROW(),\"\"))","v":""},{"$f":"IFERROR(INDEX(BS:BS,SMALL(BT:BT,ROW(A1903))),\"\")","v":""},"","","",""]
[{"$f":"IF(F1907<>\"\",事業者基本情報!$E$9&事業者基本情報!$F$9&事業者基本情報!$G$9,\"\")","v":""},{"$f":"IF(F1907<>\"\",事業者基本情報!$Y$10,\"\")","v":""},{"$f":"IF(F1907<>\"\",事業者基本情報!$Y$7,\"\")","v":""},{"$f":"IF(F1907<>\"\",事業者基本情報!$Y$8,\"\")","v":""},{"$f":"IF(F1907<>\"\",事業者基本情報!$E$11&事業者基本情報!$F$11&事業者基本情報!$G$11&事業者基本情報!$H$11&事業者基本情報!$I$11,\"\")","v":""},null,null,null,"市",null,null,"-",null,"-",null,{"$f":"IFERROR(VLOOKUP(Q1907,コード表!$B$3:$C$101,2,FALSE),\"\")","v":""},null,{"$f":"IFERROR(VLOOKUP(S1907,コード表!$F$7:$G$141,2,FALSE),\"\")","v":""},null,null,"t",null,null,null,null,null,null,null,null,null,null,null,null,null,null,null,null,null,null,null,null,null,null,null,null,null,null,null,null,null,null,null,null,null,null,null,null,null,null,null,null,null,null,null,null,null,null,null,null,"","",{"$f":"IF(BS1907=\"\",\"\",IF(COUNTIF(BS$4:BS1907,BS1907)=1,ROW(),\"\"))","v":""},{"$f":"IFERROR(INDEX(BS:BS,SMALL(BT:BT,ROW(A1904))),\"\")","v":""},"","","",""]
[{"$f":"IF(F1908<>\"\",事業者基本情報!$E$9&事業者基本情報!$F$9&事業者基本情報!$G$9,\"\")","v":""},{"$f":"IF(F1908<>\"\",事業者基本情報!$Y$10,\"\")","v":""},{"$f":"IF(F1908<>\"\",事業者基本情報!$Y$7,\"\")","v":""},{"$f":"IF(F1908<>\"\",事業者基本情報!$Y$8,\"\")","v":""},{"$f":"IF(F1908<>\"\",事業者基本情報!$E$11&事業者基本情報!$F$11&事業者基本情報!$G$11&事業者基本情報!$H$11&事業者基本情報!$I$11,\"\")","v":""},null,null,null,"市",null,null,"-",null,"-",null,{"$f":"IFERROR(VLOOKUP(Q1908,コード表!$B$3:$C$101,2,FALSE),\"\")","v":""},null,{"$f":"IFERROR(VLOOKUP(S1908,コード表!$F$7:$G$141,2,FALSE),\"\")","v":""},null,null,"t",null,null,null,null,null,null,null,null,null,null,null,null,null,null,null,null,null,null,null,null,null,null,null,null,null,null,null,null,null,null,null,null,null,null,null,null,null,null,null,null,null,null,null,null,null,null,null,null,"","",{"$f":"IF(BS1908=\"\",\"\",IF(COUNTIF(BS$4:BS1908,BS1908)=1,ROW(),\"\"))","v":""},{"$f":"IFERROR(INDEX(BS:BS,SMALL(BT:BT,ROW(A1905))),\"\")","v":""},"","","",""]
[{"$f":"IF(F1909<>\"\",事業者基本情報!$E$9&事業者基本情報!$F$9&事業者基本情報!$G$9,\"\")","v":""},{"$f":"IF(F1909<>\"\",事業者基本情報!$Y$10,\"\")","v":""},{"$f":"IF(F1909<>\"\",事業者基本情報!$Y$7,\"\")","v":""},{"$f":"IF(F1909<>\"\",事業者基本情報!$Y$8,\"\")","v":""},{"$f":"IF(F1909<>\"\",事業者基本情報!$E$11&事業者基本情報!$F$11&事業者基本情報!$G$11&事業者基本情報!$H$11&事業者基本情報!$I$11,\"\")","v":""},null,null,null,"市",null,null,"-",null,"-",null,{"$f":"IFERROR(VLOOKUP(Q1909,コード表!$B$3:$C$101,2,FALSE),\"\")","v":""},null,{"$f":"IFERROR(VLOOKUP(S1909,コード表!$F$7:$G$141,2,FALSE),\"\")","v":""},null,null,"t",null,null,null,null,null,null,null,null,null,null,null,null,null,null,null,null,null,null,null,null,null,null,null,null,null,null,null,null,null,null,null,null,null,null,null,null,null,null,null,null,null,null,null,null,null,null,null,null,"","",{"$f":"IF(BS1909=\"\",\"\",IF(COUNTIF(BS$4:BS1909,BS1909)=1,ROW(),\"\"))","v":""},{"$f":"IFERROR(INDEX(BS:BS,SMALL(BT:BT,ROW(A1906))),\"\")","v":""},"","","",""]
[{"$f":"IF(F1910<>\"\",事業者基本情報!$E$9&事業者基本情報!$F$9&事業者基本情報!$G$9,\"\")","v":""},{"$f":"IF(F1910<>\"\",事業者基本情報!$Y$10,\"\")","v":""},{"$f":"IF(F1910<>\"\",事業者基本情報!$Y$7,\"\")","v":""},{"$f":"IF(F1910<>\"\",事業者基本情報!$Y$8,\"\")","v":""},{"$f":"IF(F1910<>\"\",事業者基本情報!$E$11&事業者基本情報!$F$11&事業者基本情報!$G$11&事業者基本情報!$H$11&事業者基本情報!$I$11,\"\")","v":""},null,null,null,"市",null,null,"-",null,"-",null,{"$f":"IFERROR(VLOOKUP(Q1910,コード表!$B$3:$C$101,2,FALSE),\"\")","v":""},null,{"$f":"IFERROR(VLOOKUP(S1910,コード表!$F$7:$G$141,2,FALSE),\"\")","v":""},null,null,"t",null,null,null,null,null,null,null,null,null,null,null,null,null,null,null,null,null,null,null,null,null,null,null,null,null,null,null,null,null,null,null,null,null,null,null,null,null,null,null,null,null,null,null,null,null,null,null,null,"","",{"$f":"IF(BS1910=\"\",\"\",IF(COUNTIF(BS$4:BS1910,BS1910)=1,ROW(),\"\"))","v":""},{"$f":"IFERROR(INDEX(BS:BS,SMALL(BT:BT,ROW(A1907))),\"\")","v":""},"","","",""]
[{"$f":"IF(F1911<>\"\",事業者基本情報!$E$9&事業者基本情報!$F$9&事業者基本情報!$G$9,\"\")","v":""},{"$f":"IF(F1911<>\"\",事業者基本情報!$Y$10,\"\")","v":""},{"$f":"IF(F1911<>\"\",事業者基本情報!$Y$7,\"\")","v":""},{"$f":"IF(F1911<>\"\",事業者基本情報!$Y$8,\"\")","v":""},{"$f":"IF(F1911<>\"\",事業者基本情報!$E$11&事業者基本情報!$F$11&事業者基本情報!$G$11&事業者基本情報!$H$11&事業者基本情報!$I$11,\"\")","v":""},null,null,null,"市",null,null,"-",null,"-",null,{"$f":"IFERROR(VLOOKUP(Q1911,コード表!$B$3:$C$101,2,FALSE),\"\")","v":""},null,{"$f":"IFERROR(VLOOKUP(S1911,コード表!$F$7:$G$141,2,FALSE),\"\")","v":""},null,null,"t",null,null,null,null,null,null,null,null,null,null,null,null,null,null,null,null,null,null,null,null,null,null,null,null,null,null,null,null,null,null,null,null,null,null,null,null,null,null,null,null,null,null,null,null,null,null,null,null,"","",{"$f":"IF(BS1911=\"\",\"\",IF(COUNTIF(BS$4:BS1911,BS1911)=1,ROW(),\"\"))","v":""},{"$f":"IFERROR(INDEX(BS:BS,SMALL(BT:BT,ROW(A1908))),\"\")","v":""},"","","",""]
[{"$f":"IF(F1912<>\"\",事業者基本情報!$E$9&事業者基本情報!$F$9&事業者基本情報!$G$9,\"\")","v":""},{"$f":"IF(F1912<>\"\",事業者基本情報!$Y$10,\"\")","v":""},{"$f":"IF(F1912<>\"\",事業者基本情報!$Y$7,\"\")","v":""},{"$f":"IF(F1912<>\"\",事業者基本情報!$Y$8,\"\")","v":""},{"$f":"IF(F1912<>\"\",事業者基本情報!$E$11&事業者基本情報!$F$11&事業者基本情報!$G$11&事業者基本情報!$H$11&事業者基本情報!$I$11,\"\")","v":""},null,null,null,"市",null,null,"-",null,"-",null,{"$f":"IFERROR(VLOOKUP(Q1912,コード表!$B$3:$C$101,2,FALSE),\"\")","v":""},null,{"$f":"IFERROR(VLOOKUP(S1912,コード表!$F$7:$G$141,2,FALSE),\"\")","v":""},null,null,"t",null,null,null,null,null,null,null,null,null,null,null,null,null,null,null,null,null,null,null,null,null,null,null,null,null,null,null,null,null,null,null,null,null,null,null,null,null,null,null,null,null,null,null,null,null,null,null,null,"","",{"$f":"IF(BS1912=\"\",\"\",IF(COUNTIF(BS$4:BS1912,BS1912)=1,ROW(),\"\"))","v":""},{"$f":"IFERROR(INDEX(BS:BS,SMALL(BT:BT,ROW(A1909))),\"\")","v":""},"","","",""]
[{"$f":"IF(F1913<>\"\",事業者基本情報!$E$9&事業者基本情報!$F$9&事業者基本情報!$G$9,\"\")","v":""},{"$f":"IF(F1913<>\"\",事業者基本情報!$Y$10,\"\")","v":""},{"$f":"IF(F1913<>\"\",事業者基本情報!$Y$7,\"\")","v":""},{"$f":"IF(F1913<>\"\",事業者基本情報!$Y$8,\"\")","v":""},{"$f":"IF(F1913<>\"\",事業者基本情報!$E$11&事業者基本情報!$F$11&事業者基本情報!$G$11&事業者基本情報!$H$11&事業者基本情報!$I$11,\"\")","v":""},null,null,null,"市",null,null,"-",null,"-",null,{"$f":"IFERROR(VLOOKUP(Q1913,コード表!$B$3:$C$101,2,FALSE),\"\")","v":""},null,{"$f":"IFERROR(VLOOKUP(S1913,コード表!$F$7:$G$141,2,FALSE),\"\")","v":""},null,null,"t",null,null,null,null,null,null,null,null,null,null,null,null,null,null,null,null,null,null,null,null,null,null,null,null,null,null,null,null,null,null,null,null,null,null,null,null,null,null,null,null,null,null,null,null,null,null,null,null,"","",{"$f":"IF(BS1913=\"\",\"\",IF(COUNTIF(BS$4:BS1913,BS1913)=1,ROW(),\"\"))","v":""},{"$f":"IFERROR(INDEX(BS:BS,SMALL(BT:BT,ROW(A1910))),\"\")","v":""},"","","",""]
[{"$f":"IF(F1914<>\"\",事業者基本情報!$E$9&事業者基本情報!$F$9&事業者基本情報!$G$9,\"\")","v":""},{"$f":"IF(F1914<>\"\",事業者基本情報!$Y$10,\"\")","v":""},{"$f":"IF(F1914<>\"\",事業者基本情報!$Y$7,\"\")","v":""},{"$f":"IF(F1914<>\"\",事業者基本情報!$Y$8,\"\")","v":""},{"$f":"IF(F1914<>\"\",事業者基本情報!$E$11&事業者基本情報!$F$11&事業者基本情報!$G$11&事業者基本情報!$H$11&事業者基本情報!$I$11,\"\")","v":""},null,null,null,"市",null,null,"-",null,"-",null,{"$f":"IFERROR(VLOOKUP(Q1914,コード表!$B$3:$C$101,2,FALSE),\"\")","v":""},null,{"$f":"IFERROR(VLOOKUP(S1914,コード表!$F$7:$G$141,2,FALSE),\"\")","v":""},null,null,"t",null,null,null,null,null,null,null,null,null,null,null,null,null,null,null,null,null,null,null,null,null,null,null,null,null,null,null,null,null,null,null,null,null,null,null,null,null,null,null,null,null,null,null,null,null,null,null,null,"","",{"$f":"IF(BS1914=\"\",\"\",IF(COUNTIF(BS$4:BS1914,BS1914)=1,ROW(),\"\"))","v":""},{"$f":"IFERROR(INDEX(BS:BS,SMALL(BT:BT,ROW(A1911))),\"\")","v":""},"","","",""]
[{"$f":"IF(F1915<>\"\",事業者基本情報!$E$9&事業者基本情報!$F$9&事業者基本情報!$G$9,\"\")","v":""},{"$f":"IF(F1915<>\"\",事業者基本情報!$Y$10,\"\")","v":""},{"$f":"IF(F1915<>\"\",事業者基本情報!$Y$7,\"\")","v":""},{"$f":"IF(F1915<>\"\",事業者基本情報!$Y$8,\"\")","v":""},{"$f":"IF(F1915<>\"\",事業者基本情報!$E$11&事業者基本情報!$F$11&事業者基本情報!$G$11&事業者基本情報!$H$11&事業者基本情報!$I$11,\"\")","v":""},null,null,null,"市",null,null,"-",null,"-",null,{"$f":"IFERROR(VLOOKUP(Q1915,コード表!$B$3:$C$101,2,FALSE),\"\")","v":""},null,{"$f":"IFERROR(VLOOKUP(S1915,コード表!$F$7:$G$141,2,FALSE),\"\")","v":""},null,null,"t",null,null,null,null,null,null,null,null,null,null,null,null,null,null,null,null,null,null,null,null,null,null,null,null,null,null,null,null,null,null,null,null,null,null,null,null,null,null,null,null,null,null,null,null,null,null,null,null,"","",{"$f":"IF(BS1915=\"\",\"\",IF(COUNTIF(BS$4:BS1915,BS1915)=1,ROW(),\"\"))","v":""},{"$f":"IFERROR(INDEX(BS:BS,SMALL(BT:BT,ROW(A1912))),\"\")","v":""},"","","",""]
[{"$f":"IF(F1916<>\"\",事業者基本情報!$E$9&事業者基本情報!$F$9&事業者基本情報!$G$9,\"\")","v":""},{"$f":"IF(F1916<>\"\",事業者基本情報!$Y$10,\"\")","v":""},{"$f":"IF(F1916<>\"\",事業者基本情報!$Y$7,\"\")","v":""},{"$f":"IF(F1916<>\"\",事業者基本情報!$Y$8,\"\")","v":""},{"$f":"IF(F1916<>\"\",事業者基本情報!$E$11&事業者基本情報!$F$11&事業者基本情報!$G$11&事業者基本情報!$H$11&事業者基本情報!$I$11,\"\")","v":""},null,null,null,"市",null,null,"-",null,"-",null,{"$f":"IFERROR(VLOOKUP(Q1916,コード表!$B$3:$C$101,2,FALSE),\"\")","v":""},null,{"$f":"IFERROR(VLOOKUP(S1916,コード表!$F$7:$G$141,2,FALSE),\"\")","v":""},null,null,"t",null,null,null,null,null,null,null,null,null,null,null,null,null,null,null,null,null,null,null,null,null,null,null,null,null,null,null,null,null,null,null,null,null,null,null,null,null,null,null,null,null,null,null,null,null,null,null,null,"","",{"$f":"IF(BS1916=\"\",\"\",IF(COUNTIF(BS$4:BS1916,BS1916)=1,ROW(),\"\"))","v":""},{"$f":"IFERROR(INDEX(BS:BS,SMALL(BT:BT,ROW(A1913))),\"\")","v":""},"","","",""]
[{"$f":"IF(F1917<>\"\",事業者基本情報!$E$9&事業者基本情報!$F$9&事業者基本情報!$G$9,\"\")","v":""},{"$f":"IF(F1917<>\"\",事業者基本情報!$Y$10,\"\")","v":""},{"$f":"IF(F1917<>\"\",事業者基本情報!$Y$7,\"\")","v":""},{"$f":"IF(F1917<>\"\",事業者基本情報!$Y$8,\"\")","v":""},{"$f":"IF(F1917<>\"\",事業者基本情報!$E$11&事業者基本情報!$F$11&事業者基本情報!$G$11&事業者基本情報!$H$11&事業者基本情報!$I$11,\"\")","v":""},null,null,null,"市",null,null,"-",null,"-",null,{"$f":"IFERROR(VLOOKUP(Q1917,コード表!$B$3:$C$101,2,FALSE),\"\")","v":""},null,{"$f":"IFERROR(VLOOKUP(S1917,コード表!$F$7:$G$141,2,FALSE),\"\")","v":""},null,null,"t",null,null,null,null,null,null,null,null,null,null,null,null,null,null,null,null,null,null,null,null,null,null,null,null,null,null,null,null,null,null,null,null,null,null,null,null,null,null,null,null,null,null,null,null,null,null,null,null,"","",{"$f":"IF(BS1917=\"\",\"\",IF(COUNTIF(BS$4:BS1917,BS1917)=1,ROW(),\"\"))","v":""},{"$f":"IFERROR(INDEX(BS:BS,SMALL(BT:BT,ROW(A1914))),\"\")","v":""},"","","",""]
[{"$f":"IF(F1918<>\"\",事業者基本情報!$E$9&事業者基本情報!$F$9&事業者基本情報!$G$9,\"\")","v":""},{"$f":"IF(F1918<>\"\",事業者基本情報!$Y$10,\"\")","v":""},{"$f":"IF(F1918<>\"\",事業者基本情報!$Y$7,\"\")","v":""},{"$f":"IF(F1918<>\"\",事業者基本情報!$Y$8,\"\")","v":""},{"$f":"IF(F1918<>\"\",事業者基本情報!$E$11&事業者基本情報!$F$11&事業者基本情報!$G$11&事業者基本情報!$H$11&事業者基本情報!$I$11,\"\")","v":""},null,null,null,"市",null,null,"-",null,"-",null,{"$f":"IFERROR(VLOOKUP(Q1918,コード表!$B$3:$C$101,2,FALSE),\"\")","v":""},null,{"$f":"IFERROR(VLOOKUP(S1918,コード表!$F$7:$G$141,2,FALSE),\"\")","v":""},null,null,"t",null,null,null,null,null,null,null,null,null,null,null,null,null,null,null,null,null,null,null,null,null,null,null,null,null,null,null,null,null,null,null,null,null,null,null,null,null,null,null,null,null,null,null,null,null,null,null,null,"","",{"$f":"IF(BS1918=\"\",\"\",IF(COUNTIF(BS$4:BS1918,BS1918)=1,ROW(),\"\"))","v":""},{"$f":"IFERROR(INDEX(BS:BS,SMALL(BT:BT,ROW(A1915))),\"\")","v":""},"","","",""]
[{"$f":"IF(F1919<>\"\",事業者基本情報!$E$9&事業者基本情報!$F$9&事業者基本情報!$G$9,\"\")","v":""},{"$f":"IF(F1919<>\"\",事業者基本情報!$Y$10,\"\")","v":""},{"$f":"IF(F1919<>\"\",事業者基本情報!$Y$7,\"\")","v":""},{"$f":"IF(F1919<>\"\",事業者基本情報!$Y$8,\"\")","v":""},{"$f":"IF(F1919<>\"\",事業者基本情報!$E$11&事業者基本情報!$F$11&事業者基本情報!$G$11&事業者基本情報!$H$11&事業者基本情報!$I$11,\"\")","v":""},null,null,null,"市",null,null,"-",null,"-",null,{"$f":"IFERROR(VLOOKUP(Q1919,コード表!$B$3:$C$101,2,FALSE),\"\")","v":""},null,{"$f":"IFERROR(VLOOKUP(S1919,コード表!$F$7:$G$141,2,FALSE),\"\")","v":""},null,null,"t",null,null,null,null,null,null,null,null,null,null,null,null,null,null,null,null,null,null,null,null,null,null,null,null,null,null,null,null,null,null,null,null,null,null,null,null,null,null,null,null,null,null,null,null,null,null,null,null,"","",{"$f":"IF(BS1919=\"\",\"\",IF(COUNTIF(BS$4:BS1919,BS1919)=1,ROW(),\"\"))","v":""},{"$f":"IFERROR(INDEX(BS:BS,SMALL(BT:BT,ROW(A1916))),\"\")","v":""},"","","",""]
[{"$f":"IF(F1920<>\"\",事業者基本情報!$E$9&事業者基本情報!$F$9&事業者基本情報!$G$9,\"\")","v":""},{"$f":"IF(F1920<>\"\",事業者基本情報!$Y$10,\"\")","v":""},{"$f":"IF(F1920<>\"\",事業者基本情報!$Y$7,\"\")","v":""},{"$f":"IF(F1920<>\"\",事業者基本情報!$Y$8,\"\")","v":""},{"$f":"IF(F1920<>\"\",事業者基本情報!$E$11&事業者基本情報!$F$11&事業者基本情報!$G$11&事業者基本情報!$H$11&事業者基本情報!$I$11,\"\")","v":""},null,null,null,"市",null,null,"-",null,"-",null,{"$f":"IFERROR(VLOOKUP(Q1920,コード表!$B$3:$C$101,2,FALSE),\"\")","v":""},null,{"$f":"IFERROR(VLOOKUP(S1920,コード表!$F$7:$G$141,2,FALSE),\"\")","v":""},null,null,"t",null,null,null,null,null,null,null,null,null,null,null,null,null,null,null,null,null,null,null,null,null,null,null,null,null,null,null,null,null,null,null,null,null,null,null,null,null,null,null,null,null,null,null,null,null,null,null,null,"","",{"$f":"IF(BS1920=\"\",\"\",IF(COUNTIF(BS$4:BS1920,BS1920)=1,ROW(),\"\"))","v":""},{"$f":"IFERROR(INDEX(BS:BS,SMALL(BT:BT,ROW(A1917))),\"\")","v":""},"","","",""]
[{"$f":"IF(F1921<>\"\",事業者基本情報!$E$9&事業者基本情報!$F$9&事業者基本情報!$G$9,\"\")","v":""},{"$f":"IF(F1921<>\"\",事業者基本情報!$Y$10,\"\")","v":""},{"$f":"IF(F1921<>\"\",事業者基本情報!$Y$7,\"\")","v":""},{"$f":"IF(F1921<>\"\",事業者基本情報!$Y$8,\"\")","v":""},{"$f":"IF(F1921<>\"\",事業者基本情報!$E$11&事業者基本情報!$F$11&事業者基本情報!$G$11&事業者基本情報!$H$11&事業者基本情報!$I$11,\"\")","v":""},null,null,null,"市",null,null,"-",null,"-",null,{"$f":"IFERROR(VLOOKUP(Q1921,コード表!$B$3:$C$101,2,FALSE),\"\")","v":""},null,{"$f":"IFERROR(VLOOKUP(S1921,コード表!$F$7:$G$141,2,FALSE),\"\")","v":""},null,null,"t",null,null,null,null,null,null,null,null,null,null,null,null,null,null,null,null,null,null,null,null,null,null,null,null,null,null,null,null,null,null,null,null,null,null,null,null,null,null,null,null,null,null,null,null,null,null,null,null,"","",{"$f":"IF(BS1921=\"\",\"\",IF(COUNTIF(BS$4:BS1921,BS1921)=1,ROW(),\"\"))","v":""},{"$f":"IFERROR(INDEX(BS:BS,SMALL(BT:BT,ROW(A1918))),\"\")","v":""},"","","",""]
[{"$f":"IF(F1922<>\"\",事業者基本情報!$E$9&事業者基本情報!$F$9&事業者基本情報!$G$9,\"\")","v":""},{"$f":"IF(F1922<>\"\",事業者基本情報!$Y$10,\"\")","v":""},{"$f":"IF(F1922<>\"\",事業者基本情報!$Y$7,\"\")","v":""},{"$f":"IF(F1922<>\"\",事業者基本情報!$Y$8,\"\")","v":""},{"$f":"IF(F1922<>\"\",事業者基本情報!$E$11&事業者基本情報!$F$11&事業者基本情報!$G$11&事業者基本情報!$H$11&事業者基本情報!$I$11,\"\")","v":""},null,null,null,"市",null,null,"-",null,"-",null,{"$f":"IFERROR(VLOOKUP(Q1922,コード表!$B$3:$C$101,2,FALSE),\"\")","v":""},null,{"$f":"IFERROR(VLOOKUP(S1922,コード表!$F$7:$G$141,2,FALSE),\"\")","v":""},null,null,"t",null,null,null,null,null,null,null,null,null,null,null,null,null,null,null,null,null,null,null,null,null,null,null,null,null,null,null,null,null,null,null,null,null,null,null,null,null,null,null,null,null,null,null,null,null,null,null,null,"","",{"$f":"IF(BS1922=\"\",\"\",IF(COUNTIF(BS$4:BS1922,BS1922)=1,ROW(),\"\"))","v":""},{"$f":"IFERROR(INDEX(BS:BS,SMALL(BT:BT,ROW(A1919))),\"\")","v":""},"","","",""]
[{"$f":"IF(F1923<>\"\",事業者基本情報!$E$9&事業者基本情報!$F$9&事業者基本情報!$G$9,\"\")","v":""},{"$f":"IF(F1923<>\"\",事業者基本情報!$Y$10,\"\")","v":""},{"$f":"IF(F1923<>\"\",事業者基本情報!$Y$7,\"\")","v":""},{"$f":"IF(F1923<>\"\",事業者基本情報!$Y$8,\"\")","v":""},{"$f":"IF(F1923<>\"\",事業者基本情報!$E$11&事業者基本情報!$F$11&事業者基本情報!$G$11&事業者基本情報!$H$11&事業者基本情報!$I$11,\"\")","v":""},null,null,null,"市",null,null,"-",null,"-",null,{"$f":"IFERROR(VLOOKUP(Q1923,コード表!$B$3:$C$101,2,FALSE),\"\")","v":""},null,{"$f":"IFERROR(VLOOKUP(S1923,コード表!$F$7:$G$141,2,FALSE),\"\")","v":""},null,null,"t",null,null,null,null,null,null,null,null,null,null,null,null,null,null,null,null,null,null,null,null,null,null,null,null,null,null,null,null,null,null,null,null,null,null,null,null,null,null,null,null,null,null,null,null,null,null,null,null,"","",{"$f":"IF(BS1923=\"\",\"\",IF(COUNTIF(BS$4:BS1923,BS1923)=1,ROW(),\"\"))","v":""},{"$f":"IFERROR(INDEX(BS:BS,SMALL(BT:BT,ROW(A1920))),\"\")","v":""},"","","",""]
[{"$f":"IF(F1924<>\"\",事業者基本情報!$E$9&事業者基本情報!$F$9&事業者基本情報!$G$9,\"\")","v":""},{"$f":"IF(F1924<>\"\",事業者基本情報!$Y$10,\"\")","v":""},{"$f":"IF(F1924<>\"\",事業者基本情報!$Y$7,\"\")","v":""},{"$f":"IF(F1924<>\"\",事業者基本情報!$Y$8,\"\")","v":""},{"$f":"IF(F1924<>\"\",事業者基本情報!$E$11&事業者基本情報!$F$11&事業者基本情報!$G$11&事業者基本情報!$H$11&事業者基本情報!$I$11,\"\")","v":""},null,null,null,"市",null,null,"-",null,"-",null,{"$f":"IFERROR(VLOOKUP(Q1924,コード表!$B$3:$C$101,2,FALSE),\"\")","v":""},null,{"$f":"IFERROR(VLOOKUP(S1924,コード表!$F$7:$G$141,2,FALSE),\"\")","v":""},null,null,"t",null,null,null,null,null,null,null,null,null,null,null,null,null,null,null,null,null,null,null,null,null,null,null,null,null,null,null,null,null,null,null,null,null,null,null,null,null,null,null,null,null,null,null,null,null,null,null,null,{"$f":"IFERROR(IF(TRIM(F1924)=\"\",\"\",IF(AND(VALUE(TRIM(R1924))>=100000,VALUE(TRIM(R1924))<7000000),\"普通産廃\",IF(AND(VALUE(TRIM(R1924))>=7000000,VALUE(TRIM(R1924))<9000000),\"特別産廃\",\"\"))),\"\")","v":""},{"$f":"IF(BR1924<>\"\",TRIM(F1924)&\"(\"&BR1924&\")\",\"\")","v":""},{"$f":"IF(BS1924=\"\",\"\",IF(COUNTIF(BS$4:BS1924,BS1924)=1,ROW(),\"\"))","v":""},{"$f":"IFERROR(INDEX(BS:BS,SMALL(BT:BT,ROW(A1921))),\"\")","v":""},{"$f":"IF(BU1924=\"\",\"\",IF(SUMIF(BS:BS,BU1924,T:T)=0,\"\",SUMIF(BS:BS,BU1924,T:T)))","v":""},{"$f":"IF(AS1924<>\"\",AS1924,IF(AO1924<>\"\",AO1924,IF(AK1924<>\"\",AK1924,IF(AG1924<>\"\",AG1924,IF(Y1924<>\"\",Y1924,\"\")))))","v":""},"",{"$f":"IF(F1924&G1924&H1924&J1924&K1924&M1924&O1924&Q1924&S1924&T1924&V1924&W1924&X1924&Y1924&Z1924&AA1924&AB1924&AC1924&AD1924&AE1924&AF1924&AG1924&AH1924&AI1924&AJ1924&AK1924&AL1924&AM1924&AN1924&AO1924&AP1924&AQ1924&AR1924&AS1924&AT1924=\"\",\"\",1)","v":""}]
[{"$f":"IF(F1925<>\"\",事業者基本情報!$E$9&事業者基本情報!$F$9&事業者基本情報!$G$9,\"\")","v":""},{"$f":"IF(F1925<>\"\",事業者基本情報!$Y$10,\"\")","v":""},{"$f":"IF(F1925<>\"\",事業者基本情報!$Y$7,\"\")","v":""},{"$f":"IF(F1925<>\"\",事業者基本情報!$Y$8,\"\")","v":""},{"$f":"IF(F1925<>\"\",事業者基本情報!$E$11&事業者基本情報!$F$11&事業者基本情報!$G$11&事業者基本情報!$H$11&事業者基本情報!$I$11,\"\")","v":""},null,null,null,"市",null,null,"-",null,"-",null,{"$f":"IFERROR(VLOOKUP(Q1925,コード表!$B$3:$C$101,2,FALSE),\"\")","v":""},null,{"$f":"IFERROR(VLOOKUP(S1925,コード表!$F$7:$G$141,2,FALSE),\"\")","v":""},null,null,"t",null,null,null,null,null,null,null,null,null,null,null,null,null,null,null,null,null,null,null,null,null,null,null,null,null,null,null,null,null,null,null,null,null,null,null,null,null,null,null,null,null,null,null,null,null,null,null,null,"","",{"$f":"IF(BS1925=\"\",\"\",IF(COUNTIF(BS$4:BS1925,BS1925)=1,ROW(),\"\"))","v":""},{"$f":"IFERROR(INDEX(BS:BS,SMALL(BT:BT,ROW(A1922))),\"\")","v":""},"","","",""]
[{"$f":"IF(F1926<>\"\",事業者基本情報!$E$9&事業者基本情報!$F$9&事業者基本情報!$G$9,\"\")","v":""},{"$f":"IF(F1926<>\"\",事業者基本情報!$Y$10,\"\")","v":""},{"$f":"IF(F1926<>\"\",事業者基本情報!$Y$7,\"\")","v":""},{"$f":"IF(F1926<>\"\",事業者基本情報!$Y$8,\"\")","v":""},{"$f":"IF(F1926<>\"\",事業者基本情報!$E$11&事業者基本情報!$F$11&事業者基本情報!$G$11&事業者基本情報!$H$11&事業者基本情報!$I$11,\"\")","v":""},null,null,null,"市",null,null,"-",null,"-",null,{"$f":"IFERROR(VLOOKUP(Q1926,コード表!$B$3:$C$101,2,FALSE),\"\")","v":""},null,{"$f":"IFERROR(VLOOKUP(S1926,コード表!$F$7:$G$141,2,FALSE),\"\")","v":""},null,null,"t",null,null,null,null,null,null,null,null,null,null,null,null,null,null,null,null,null,null,null,null,null,null,null,null,null,null,null,null,null,null,null,null,null,null,null,null,null,null,null,null,null,null,null,null,null,null,null,null,"","",{"$f":"IF(BS1926=\"\",\"\",IF(COUNTIF(BS$4:BS1926,BS1926)=1,ROW(),\"\"))","v":""},{"$f":"IFERROR(INDEX(BS:BS,SMALL(BT:BT,ROW(A1923))),\"\")","v":""},"","","",""]
[{"$f":"IF(F1927<>\"\",事業者基本情報!$E$9&事業者基本情報!$F$9&事業者基本情報!$G$9,\"\")","v":""},{"$f":"IF(F1927<>\"\",事業者基本情報!$Y$10,\"\")","v":""},{"$f":"IF(F1927<>\"\",事業者基本情報!$Y$7,\"\")","v":""},{"$f":"IF(F1927<>\"\",事業者基本情報!$Y$8,\"\")","v":""},{"$f":"IF(F1927<>\"\",事業者基本情報!$E$11&事業者基本情報!$F$11&事業者基本情報!$G$11&事業者基本情報!$H$11&事業者基本情報!$I$11,\"\")","v":""},null,null,null,"市",null,null,"-",null,"-",null,{"$f":"IFERROR(VLOOKUP(Q1927,コード表!$B$3:$C$101,2,FALSE),\"\")","v":""},null,{"$f":"IFERROR(VLOOKUP(S1927,コード表!$F$7:$G$141,2,FALSE),\"\")","v":""},null,null,"t",null,null,null,null,null,null,null,null,null,null,null,null,null,null,null,null,null,null,null,null,null,null,null,null,null,null,null,null,null,null,null,null,null,null,null,null,null,null,null,null,null,null,null,null,null,null,null,null,"","",{"$f":"IF(BS1927=\"\",\"\",IF(COUNTIF(BS$4:BS1927,BS1927)=1,ROW(),\"\"))","v":""},{"$f":"IFERROR(INDEX(BS:BS,SMALL(BT:BT,ROW(A1924))),\"\")","v":""},"","","",""]
[{"$f":"IF(F1928<>\"\",事業者基本情報!$E$9&事業者基本情報!$F$9&事業者基本情報!$G$9,\"\")","v":""},{"$f":"IF(F1928<>\"\",事業者基本情報!$Y$10,\"\")","v":""},{"$f":"IF(F1928<>\"\",事業者基本情報!$Y$7,\"\")","v":""},{"$f":"IF(F1928<>\"\",事業者基本情報!$Y$8,\"\")","v":""},{"$f":"IF(F1928<>\"\",事業者基本情報!$E$11&事業者基本情報!$F$11&事業者基本情報!$G$11&事業者基本情報!$H$11&事業者基本情報!$I$11,\"\")","v":""},null,null,null,"市",null,null,"-",null,"-",null,{"$f":"IFERROR(VLOOKUP(Q1928,コード表!$B$3:$C$101,2,FALSE),\"\")","v":""},null,{"$f":"IFERROR(VLOOKUP(S1928,コード表!$F$7:$G$141,2,FALSE),\"\")","v":""},null,null,"t",null,null,null,null,null,null,null,null,null,null,null,null,null,null,null,null,null,null,null,null,null,null,null,null,null,null,null,null,null,null,null,null,null,null,null,null,null,null,null,null,null,null,null,null,null,null,null,null,"","",{"$f":"IF(BS1928=\"\",\"\",IF(COUNTIF(BS$4:BS1928,BS1928)=1,ROW(),\"\"))","v":""},{"$f":"IFERROR(INDEX(BS:BS,SMALL(BT:BT,ROW(A1925))),\"\")","v":""},"","","",""]
[{"$f":"IF(F1929<>\"\",事業者基本情報!$E$9&事業者基本情報!$F$9&事業者基本情報!$G$9,\"\")","v":""},{"$f":"IF(F1929<>\"\",事業者基本情報!$Y$10,\"\")","v":""},{"$f":"IF(F1929<>\"\",事業者基本情報!$Y$7,\"\")","v":""},{"$f":"IF(F1929<>\"\",事業者基本情報!$Y$8,\"\")","v":""},{"$f":"IF(F1929<>\"\",事業者基本情報!$E$11&事業者基本情報!$F$11&事業者基本情報!$G$11&事業者基本情報!$H$11&事業者基本情報!$I$11,\"\")","v":""},null,null,null,"市",null,null,"-",null,"-",null,{"$f":"IFERROR(VLOOKUP(Q1929,コード表!$B$3:$C$101,2,FALSE),\"\")","v":""},null,{"$f":"IFERROR(VLOOKUP(S1929,コード表!$F$7:$G$141,2,FALSE),\"\")","v":""},null,null,"t",null,null,null,null,null,null,null,null,null,null,null,null,null,null,null,null,null,null,null,null,null,null,null,null,null,null,null,null,null,null,null,null,null,null,null,null,null,null,null,null,null,null,null,null,null,null,null,null,"","",{"$f":"IF(BS1929=\"\",\"\",IF(COUNTIF(BS$4:BS1929,BS1929)=1,ROW(),\"\"))","v":""},{"$f":"IFERROR(INDEX(BS:BS,SMALL(BT:BT,ROW(A1926))),\"\")","v":""},"","","",""]
[{"$f":"IF(F1930<>\"\",事業者基本情報!$E$9&事業者基本情報!$F$9&事業者基本情報!$G$9,\"\")","v":""},{"$f":"IF(F1930<>\"\",事業者基本情報!$Y$10,\"\")","v":""},{"$f":"IF(F1930<>\"\",事業者基本情報!$Y$7,\"\")","v":""},{"$f":"IF(F1930<>\"\",事業者基本情報!$Y$8,\"\")","v":""},{"$f":"IF(F1930<>\"\",事業者基本情報!$E$11&事業者基本情報!$F$11&事業者基本情報!$G$11&事業者基本情報!$H$11&事業者基本情報!$I$11,\"\")","v":""},null,null,null,"市",null,null,"-",null,"-",null,{"$f":"IFERROR(VLOOKUP(Q1930,コード表!$B$3:$C$101,2,FALSE),\"\")","v":""},null,{"$f":"IFERROR(VLOOKUP(S1930,コード表!$F$7:$G$141,2,FALSE),\"\")","v":""},null,null,"t",null,null,null,null,null,null,null,null,null,null,null,null,null,null,null,null,null,null,null,null,null,null,null,null,null,null,null,null,null,null,null,null,null,null,null,null,null,null,null,null,null,null,null,null,null,null,null,null,"","",{"$f":"IF(BS1930=\"\",\"\",IF(COUNTIF(BS$4:BS1930,BS1930)=1,ROW(),\"\"))","v":""},{"$f":"IFERROR(INDEX(BS:BS,SMALL(BT:BT,ROW(A1927))),\"\")","v":""},"","","",""]
[{"$f":"IF(F1931<>\"\",事業者基本情報!$E$9&事業者基本情報!$F$9&事業者基本情報!$G$9,\"\")","v":""},{"$f":"IF(F1931<>\"\",事業者基本情報!$Y$10,\"\")","v":""},{"$f":"IF(F1931<>\"\",事業者基本情報!$Y$7,\"\")","v":""},{"$f":"IF(F1931<>\"\",事業者基本情報!$Y$8,\"\")","v":""},{"$f":"IF(F1931<>\"\",事業者基本情報!$E$11&事業者基本情報!$F$11&事業者基本情報!$G$11&事業者基本情報!$H$11&事業者基本情報!$I$11,\"\")","v":""},null,null,null,"市",null,null,"-",null,"-",null,{"$f":"IFERROR(VLOOKUP(Q1931,コード表!$B$3:$C$101,2,FALSE),\"\")","v":""},null,{"$f":"IFERROR(VLOOKUP(S1931,コード表!$F$7:$G$141,2,FALSE),\"\")","v":""},null,null,"t",null,null,null,null,null,null,null,null,null,null,null,null,null,null,null,null,null,null,null,null,null,null,null,null,null,null,null,null,null,null,null,null,null,null,null,null,null,null,null,null,null,null,null,null,null,null,null,null,"","",{"$f":"IF(BS1931=\"\",\"\",IF(COUNTIF(BS$4:BS1931,BS1931)=1,ROW(),\"\"))","v":""},{"$f":"IFERROR(INDEX(BS:BS,SMALL(BT:BT,ROW(A1928))),\"\")","v":""},"","","",""]
[{"$f":"IF(F1932<>\"\",事業者基本情報!$E$9&事業者基本情報!$F$9&事業者基本情報!$G$9,\"\")","v":""},{"$f":"IF(F1932<>\"\",事業者基本情報!$Y$10,\"\")","v":""},{"$f":"IF(F1932<>\"\",事業者基本情報!$Y$7,\"\")","v":""},{"$f":"IF(F1932<>\"\",事業者基本情報!$Y$8,\"\")","v":""},{"$f":"IF(F1932<>\"\",事業者基本情報!$E$11&事業者基本情報!$F$11&事業者基本情報!$G$11&事業者基本情報!$H$11&事業者基本情報!$I$11,\"\")","v":""},null,null,null,"市",null,null,"-",null,"-",null,{"$f":"IFERROR(VLOOKUP(Q1932,コード表!$B$3:$C$101,2,FALSE),\"\")","v":""},null,{"$f":"IFERROR(VLOOKUP(S1932,コード表!$F$7:$G$141,2,FALSE),\"\")","v":""},null,null,"t",null,null,null,null,null,null,null,null,null,null,null,null,null,null,null,null,null,null,null,null,null,null,null,null,null,null,null,null,null,null,null,null,null,null,null,null,null,null,null,null,null,null,null,null,null,null,null,null,"","",{"$f":"IF(BS1932=\"\",\"\",IF(COUNTIF(BS$4:BS1932,BS1932)=1,ROW(),\"\"))","v":""},{"$f":"IFERROR(INDEX(BS:BS,SMALL(BT:BT,ROW(A1929))),\"\")","v":""},"","","",""]
[{"$f":"IF(F1933<>\"\",事業者基本情報!$E$9&事業者基本情報!$F$9&事業者基本情報!$G$9,\"\")","v":""},{"$f":"IF(F1933<>\"\",事業者基本情報!$Y$10,\"\")","v":""},{"$f":"IF(F1933<>\"\",事業者基本情報!$Y$7,\"\")","v":""},{"$f":"IF(F1933<>\"\",事業者基本情報!$Y$8,\"\")","v":""},{"$f":"IF(F1933<>\"\",事業者基本情報!$E$11&事業者基本情報!$F$11&事業者基本情報!$G$11&事業者基本情報!$H$11&事業者基本情報!$I$11,\"\")","v":""},null,null,null,"市",null,null,"-",null,"-",null,{"$f":"IFERROR(VLOOKUP(Q1933,コード表!$B$3:$C$101,2,FALSE),\"\")","v":""},null,{"$f":"IFERROR(VLOOKUP(S1933,コード表!$F$7:$G$141,2,FALSE),\"\")","v":""},null,null,"t",null,null,null,null,null,null,null,null,null,null,null,null,null,null,null,null,null,null,null,null,null,null,null,null,null,null,null,null,null,null,null,null,null,null,null,null,null,null,null,null,null,null,null,null,null,null,null,null,"","",{"$f":"IF(BS1933=\"\",\"\",IF(COUNTIF(BS$4:BS1933,BS1933)=1,ROW(),\"\"))","v":""},{"$f":"IFERROR(INDEX(BS:BS,SMALL(BT:BT,ROW(A1930))),\"\")","v":""},"","","",""]
[{"$f":"IF(F1934<>\"\",事業者基本情報!$E$9&事業者基本情報!$F$9&事業者基本情報!$G$9,\"\")","v":""},{"$f":"IF(F1934<>\"\",事業者基本情報!$Y$10,\"\")","v":""},{"$f":"IF(F1934<>\"\",事業者基本情報!$Y$7,\"\")","v":""},{"$f":"IF(F1934<>\"\",事業者基本情報!$Y$8,\"\")","v":""},{"$f":"IF(F1934<>\"\",事業者基本情報!$E$11&事業者基本情報!$F$11&事業者基本情報!$G$11&事業者基本情報!$H$11&事業者基本情報!$I$11,\"\")","v":""},null,null,null,"市",null,null,"-",null,"-",null,{"$f":"IFERROR(VLOOKUP(Q1934,コード表!$B$3:$C$101,2,FALSE),\"\")","v":""},null,{"$f":"IFERROR(VLOOKUP(S1934,コード表!$F$7:$G$141,2,FALSE),\"\")","v":""},null,null,"t",null,null,null,null,null,null,null,null,null,null,null,null,null,null,null,null,null,null,null,null,null,null,null,null,null,null,null,null,null,null,null,null,null,null,null,null,null,null,null,null,null,null,null,null,null,null,null,null,"","",{"$f":"IF(BS1934=\"\",\"\",IF(COUNTIF(BS$4:BS1934,BS1934)=1,ROW(),\"\"))","v":""},{"$f":"IFERROR(INDEX(BS:BS,SMALL(BT:BT,ROW(A1931))),\"\")","v":""},"","","",""]
[{"$f":"IF(F1935<>\"\",事業者基本情報!$E$9&事業者基本情報!$F$9&事業者基本情報!$G$9,\"\")","v":""},{"$f":"IF(F1935<>\"\",事業者基本情報!$Y$10,\"\")","v":""},{"$f":"IF(F1935<>\"\",事業者基本情報!$Y$7,\"\")","v":""},{"$f":"IF(F1935<>\"\",事業者基本情報!$Y$8,\"\")","v":""},{"$f":"IF(F1935<>\"\",事業者基本情報!$E$11&事業者基本情報!$F$11&事業者基本情報!$G$11&事業者基本情報!$H$11&事業者基本情報!$I$11,\"\")","v":""},null,null,null,"市",null,null,"-",null,"-",null,{"$f":"IFERROR(VLOOKUP(Q1935,コード表!$B$3:$C$101,2,FALSE),\"\")","v":""},null,{"$f":"IFERROR(VLOOKUP(S1935,コード表!$F$7:$G$141,2,FALSE),\"\")","v":""},null,null,"t",null,null,null,null,null,null,null,null,null,null,null,null,null,null,null,null,null,null,null,null,null,null,null,null,null,null,null,null,null,null,null,null,null,null,null,null,null,null,null,null,null,null,null,null,null,null,null,null,"","",{"$f":"IF(BS1935=\"\",\"\",IF(COUNTIF(BS$4:BS1935,BS1935)=1,ROW(),\"\"))","v":""},{"$f":"IFERROR(INDEX(BS:BS,SMALL(BT:BT,ROW(A1932))),\"\")","v":""},"","","",""]
[{"$f":"IF(F1936<>\"\",事業者基本情報!$E$9&事業者基本情報!$F$9&事業者基本情報!$G$9,\"\")","v":""},{"$f":"IF(F1936<>\"\",事業者基本情報!$Y$10,\"\")","v":""},{"$f":"IF(F1936<>\"\",事業者基本情報!$Y$7,\"\")","v":""},{"$f":"IF(F1936<>\"\",事業者基本情報!$Y$8,\"\")","v":""},{"$f":"IF(F1936<>\"\",事業者基本情報!$E$11&事業者基本情報!$F$11&事業者基本情報!$G$11&事業者基本情報!$H$11&事業者基本情報!$I$11,\"\")","v":""},null,null,null,"市",null,null,"-",null,"-",null,{"$f":"IFERROR(VLOOKUP(Q1936,コード表!$B$3:$C$101,2,FALSE),\"\")","v":""},null,{"$f":"IFERROR(VLOOKUP(S1936,コード表!$F$7:$G$141,2,FALSE),\"\")","v":""},null,null,"t",null,null,null,null,null,null,null,null,null,null,null,null,null,null,null,null,null,null,null,null,null,null,null,null,null,null,null,null,null,null,null,null,null,null,null,null,null,null,null,null,null,null,null,null,null,null,null,null,"","",{"$f":"IF(BS1936=\"\",\"\",IF(COUNTIF(BS$4:BS1936,BS1936)=1,ROW(),\"\"))","v":""},{"$f":"IFERROR(INDEX(BS:BS,SMALL(BT:BT,ROW(A1933))),\"\")","v":""},"","","",""]
[{"$f":"IF(F1937<>\"\",事業者基本情報!$E$9&事業者基本情報!$F$9&事業者基本情報!$G$9,\"\")","v":""},{"$f":"IF(F1937<>\"\",事業者基本情報!$Y$10,\"\")","v":""},{"$f":"IF(F1937<>\"\",事業者基本情報!$Y$7,\"\")","v":""},{"$f":"IF(F1937<>\"\",事業者基本情報!$Y$8,\"\")","v":""},{"$f":"IF(F1937<>\"\",事業者基本情報!$E$11&事業者基本情報!$F$11&事業者基本情報!$G$11&事業者基本情報!$H$11&事業者基本情報!$I$11,\"\")","v":""},null,null,null,"市",null,null,"-",null,"-",null,{"$f":"IFERROR(VLOOKUP(Q1937,コード表!$B$3:$C$101,2,FALSE),\"\")","v":""},null,{"$f":"IFERROR(VLOOKUP(S1937,コード表!$F$7:$G$141,2,FALSE),\"\")","v":""},null,null,"t",null,null,null,null,null,null,null,null,null,null,null,null,null,null,null,null,null,null,null,null,null,null,null,null,null,null,null,null,null,null,null,null,null,null,null,null,null,null,null,null,null,null,null,null,null,null,null,null,"","",{"$f":"IF(BS1937=\"\",\"\",IF(COUNTIF(BS$4:BS1937,BS1937)=1,ROW(),\"\"))","v":""},{"$f":"IFERROR(INDEX(BS:BS,SMALL(BT:BT,ROW(A1934))),\"\")","v":""},"","","",""]
[{"$f":"IF(F1938<>\"\",事業者基本情報!$E$9&事業者基本情報!$F$9&事業者基本情報!$G$9,\"\")","v":""},{"$f":"IF(F1938<>\"\",事業者基本情報!$Y$10,\"\")","v":""},{"$f":"IF(F1938<>\"\",事業者基本情報!$Y$7,\"\")","v":""},{"$f":"IF(F1938<>\"\",事業者基本情報!$Y$8,\"\")","v":""},{"$f":"IF(F1938<>\"\",事業者基本情報!$E$11&事業者基本情報!$F$11&事業者基本情報!$G$11&事業者基本情報!$H$11&事業者基本情報!$I$11,\"\")","v":""},null,null,null,"市",null,null,"-",null,"-",null,{"$f":"IFERROR(VLOOKUP(Q1938,コード表!$B$3:$C$101,2,FALSE),\"\")","v":""},null,{"$f":"IFERROR(VLOOKUP(S1938,コード表!$F$7:$G$141,2,FALSE),\"\")","v":""},null,null,"t",null,null,null,null,null,null,null,null,null,null,null,null,null,null,null,null,null,null,null,null,null,null,null,null,null,null,null,null,null,null,null,null,null,null,null,null,null,null,null,null,null,null,null,null,null,null,null,null,"","",{"$f":"IF(BS1938=\"\",\"\",IF(COUNTIF(BS$4:BS1938,BS1938)=1,ROW(),\"\"))","v":""},{"$f":"IFERROR(INDEX(BS:BS,SMALL(BT:BT,ROW(A1935))),\"\")","v":""},"","","",""]
[{"$f":"IF(F1939<>\"\",事業者基本情報!$E$9&事業者基本情報!$F$9&事業者基本情報!$G$9,\"\")","v":""},{"$f":"IF(F1939<>\"\",事業者基本情報!$Y$10,\"\")","v":""},{"$f":"IF(F1939<>\"\",事業者基本情報!$Y$7,\"\")","v":""},{"$f":"IF(F1939<>\"\",事業者基本情報!$Y$8,\"\")","v":""},{"$f":"IF(F1939<>\"\",事業者基本情報!$E$11&事業者基本情報!$F$11&事業者基本情報!$G$11&事業者基本情報!$H$11&事業者基本情報!$I$11,\"\")","v":""},null,null,null,"市",null,null,"-",null,"-",null,{"$f":"IFERROR(VLOOKUP(Q1939,コード表!$B$3:$C$101,2,FALSE),\"\")","v":""},null,{"$f":"IFERROR(VLOOKUP(S1939,コード表!$F$7:$G$141,2,FALSE),\"\")","v":""},null,null,"t",null,null,null,null,null,null,null,null,null,null,null,null,null,null,null,null,null,null,null,null,null,null,null,null,null,null,null,null,null,null,null,null,null,null,null,null,null,null,null,null,null,null,null,null,null,null,null,null,"","",{"$f":"IF(BS1939=\"\",\"\",IF(COUNTIF(BS$4:BS1939,BS1939)=1,ROW(),\"\"))","v":""},{"$f":"IFERROR(INDEX(BS:BS,SMALL(BT:BT,ROW(A1936))),\"\")","v":""},"","","",""]
[{"$f":"IF(F1940<>\"\",事業者基本情報!$E$9&事業者基本情報!$F$9&事業者基本情報!$G$9,\"\")","v":""},{"$f":"IF(F1940<>\"\",事業者基本情報!$Y$10,\"\")","v":""},{"$f":"IF(F1940<>\"\",事業者基本情報!$Y$7,\"\")","v":""},{"$f":"IF(F1940<>\"\",事業者基本情報!$Y$8,\"\")","v":""},{"$f":"IF(F1940<>\"\",事業者基本情報!$E$11&事業者基本情報!$F$11&事業者基本情報!$G$11&事業者基本情報!$H$11&事業者基本情報!$I$11,\"\")","v":""},null,null,null,"市",null,null,"-",null,"-",null,{"$f":"IFERROR(VLOOKUP(Q1940,コード表!$B$3:$C$101,2,FALSE),\"\")","v":""},null,{"$f":"IFERROR(VLOOKUP(S1940,コード表!$F$7:$G$141,2,FALSE),\"\")","v":""},null,null,"t",null,null,null,null,null,null,null,null,null,null,null,null,null,null,null,null,null,null,null,null,null,null,null,null,null,null,null,null,null,null,null,null,null,null,null,null,null,null,null,null,null,null,null,null,null,null,null,null,"","",{"$f":"IF(BS1940=\"\",\"\",IF(COUNTIF(BS$4:BS1940,BS1940)=1,ROW(),\"\"))","v":""},{"$f":"IFERROR(INDEX(BS:BS,SMALL(BT:BT,ROW(A1937))),\"\")","v":""},"","","",""]
[{"$f":"IF(F1941<>\"\",事業者基本情報!$E$9&事業者基本情報!$F$9&事業者基本情報!$G$9,\"\")","v":""},{"$f":"IF(F1941<>\"\",事業者基本情報!$Y$10,\"\")","v":""},{"$f":"IF(F1941<>\"\",事業者基本情報!$Y$7,\"\")","v":""},{"$f":"IF(F1941<>\"\",事業者基本情報!$Y$8,\"\")","v":""},{"$f":"IF(F1941<>\"\",事業者基本情報!$E$11&事業者基本情報!$F$11&事業者基本情報!$G$11&事業者基本情報!$H$11&事業者基本情報!$I$11,\"\")","v":""},null,null,null,"市",null,null,"-",null,"-",null,{"$f":"IFERROR(VLOOKUP(Q1941,コード表!$B$3:$C$101,2,FALSE),\"\")","v":""},null,{"$f":"IFERROR(VLOOKUP(S1941,コード表!$F$7:$G$141,2,FALSE),\"\")","v":""},null,null,"t",null,null,null,null,null,null,null,null,null,null,null,null,null,null,null,null,null,null,null,null,null,null,null,null,null,null,null,null,null,null,null,null,null,null,null,null,null,null,null,null,null,null,null,null,null,null,null,null,"","",{"$f":"IF(BS1941=\"\",\"\",IF(COUNTIF(BS$4:BS1941,BS1941)=1,ROW(),\"\"))","v":""},{"$f":"IFERROR(INDEX(BS:BS,SMALL(BT:BT,ROW(A1938))),\"\")","v":""},"","","",""]
[{"$f":"IF(F1942<>\"\",事業者基本情報!$E$9&事業者基本情報!$F$9&事業者基本情報!$G$9,\"\")","v":""},{"$f":"IF(F1942<>\"\",事業者基本情報!$Y$10,\"\")","v":""},{"$f":"IF(F1942<>\"\",事業者基本情報!$Y$7,\"\")","v":""},{"$f":"IF(F1942<>\"\",事業者基本情報!$Y$8,\"\")","v":""},{"$f":"IF(F1942<>\"\",事業者基本情報!$E$11&事業者基本情報!$F$11&事業者基本情報!$G$11&事業者基本情報!$H$11&事業者基本情報!$I$11,\"\")","v":""},null,null,null,"市",null,null,"-",null,"-",null,{"$f":"IFERROR(VLOOKUP(Q1942,コード表!$B$3:$C$101,2,FALSE),\"\")","v":""},null,{"$f":"IFERROR(VLOOKUP(S1942,コード表!$F$7:$G$141,2,FALSE),\"\")","v":""},null,null,"t",null,null,null,null,null,null,null,null,null,null,null,null,null,null,null,null,null,null,null,null,null,null,null,null,null,null,null,null,null,null,null,null,null,null,null,null,null,null,null,null,null,null,null,null,null,null,null,null,"","",{"$f":"IF(BS1942=\"\",\"\",IF(COUNTIF(BS$4:BS1942,BS1942)=1,ROW(),\"\"))","v":""},{"$f":"IFERROR(INDEX(BS:BS,SMALL(BT:BT,ROW(A1939))),\"\")","v":""},"","","",""]
[{"$f":"IF(F1943<>\"\",事業者基本情報!$E$9&事業者基本情報!$F$9&事業者基本情報!$G$9,\"\")","v":""},{"$f":"IF(F1943<>\"\",事業者基本情報!$Y$10,\"\")","v":""},{"$f":"IF(F1943<>\"\",事業者基本情報!$Y$7,\"\")","v":""},{"$f":"IF(F1943<>\"\",事業者基本情報!$Y$8,\"\")","v":""},{"$f":"IF(F1943<>\"\",事業者基本情報!$E$11&事業者基本情報!$F$11&事業者基本情報!$G$11&事業者基本情報!$H$11&事業者基本情報!$I$11,\"\")","v":""},null,null,null,"市",null,null,"-",null,"-",null,{"$f":"IFERROR(VLOOKUP(Q1943,コード表!$B$3:$C$101,2,FALSE),\"\")","v":""},null,{"$f":"IFERROR(VLOOKUP(S1943,コード表!$F$7:$G$141,2,FALSE),\"\")","v":""},null,null,"t",null,null,null,null,null,null,null,null,null,null,null,null,null,null,null,null,null,null,null,null,null,null,null,null,null,null,null,null,null,null,null,null,null,null,null,null,null,null,null,null,null,null,null,null,null,null,null,null,"","",{"$f":"IF(BS1943=\"\",\"\",IF(COUNTIF(BS$4:BS1943,BS1943)=1,ROW(),\"\"))","v":""},{"$f":"IFERROR(INDEX(BS:BS,SMALL(BT:BT,ROW(A1940))),\"\")","v":""},"","","",""]
[{"$f":"IF(F1944<>\"\",事業者基本情報!$E$9&事業者基本情報!$F$9&事業者基本情報!$G$9,\"\")","v":""},{"$f":"IF(F1944<>\"\",事業者基本情報!$Y$10,\"\")","v":""},{"$f":"IF(F1944<>\"\",事業者基本情報!$Y$7,\"\")","v":""},{"$f":"IF(F1944<>\"\",事業者基本情報!$Y$8,\"\")","v":""},{"$f":"IF(F1944<>\"\",事業者基本情報!$E$11&事業者基本情報!$F$11&事業者基本情報!$G$11&事業者基本情報!$H$11&事業者基本情報!$I$11,\"\")","v":""},null,null,null,"市",null,null,"-",null,"-",null,{"$f":"IFERROR(VLOOKUP(Q1944,コード表!$B$3:$C$101,2,FALSE),\"\")","v":""},null,{"$f":"IFERROR(VLOOKUP(S1944,コード表!$F$7:$G$141,2,FALSE),\"\")","v":""},null,null,"t",null,null,null,null,null,null,null,null,null,null,null,null,null,null,null,null,null,null,null,null,null,null,null,null,null,null,null,null,null,null,null,null,null,null,null,null,null,null,null,null,null,null,null,null,null,null,null,null,"","",{"$f":"IF(BS1944=\"\",\"\",IF(COUNTIF(BS$4:BS1944,BS1944)=1,ROW(),\"\"))","v":""},{"$f":"IFERROR(INDEX(BS:BS,SMALL(BT:BT,ROW(A1941))),\"\")","v":""},"","","",""]
[{"$f":"IF(F1945<>\"\",事業者基本情報!$E$9&事業者基本情報!$F$9&事業者基本情報!$G$9,\"\")","v":""},{"$f":"IF(F1945<>\"\",事業者基本情報!$Y$10,\"\")","v":""},{"$f":"IF(F1945<>\"\",事業者基本情報!$Y$7,\"\")","v":""},{"$f":"IF(F1945<>\"\",事業者基本情報!$Y$8,\"\")","v":""},{"$f":"IF(F1945<>\"\",事業者基本情報!$E$11&事業者基本情報!$F$11&事業者基本情報!$G$11&事業者基本情報!$H$11&事業者基本情報!$I$11,\"\")","v":""},null,null,null,"市",null,null,"-",null,"-",null,{"$f":"IFERROR(VLOOKUP(Q1945,コード表!$B$3:$C$101,2,FALSE),\"\")","v":""},null,{"$f":"IFERROR(VLOOKUP(S1945,コード表!$F$7:$G$141,2,FALSE),\"\")","v":""},null,null,"t",null,null,null,null,null,null,null,null,null,null,null,null,null,null,null,null,null,null,null,null,null,null,null,null,null,null,null,null,null,null,null,null,null,null,null,null,null,null,null,null,null,null,null,null,null,null,null,null,"","",{"$f":"IF(BS1945=\"\",\"\",IF(COUNTIF(BS$4:BS1945,BS1945)=1,ROW(),\"\"))","v":""},{"$f":"IFERROR(INDEX(BS:BS,SMALL(BT:BT,ROW(A1942))),\"\")","v":""},"","","",""]
[{"$f":"IF(F1946<>\"\",事業者基本情報!$E$9&事業者基本情報!$F$9&事業者基本情報!$G$9,\"\")","v":""},{"$f":"IF(F1946<>\"\",事業者基本情報!$Y$10,\"\")","v":""},{"$f":"IF(F1946<>\"\",事業者基本情報!$Y$7,\"\")","v":""},{"$f":"IF(F1946<>\"\",事業者基本情報!$Y$8,\"\")","v":""},{"$f":"IF(F1946<>\"\",事業者基本情報!$E$11&事業者基本情報!$F$11&事業者基本情報!$G$11&事業者基本情報!$H$11&事業者基本情報!$I$11,\"\")","v":""},null,null,null,"市",null,null,"-",null,"-",null,{"$f":"IFERROR(VLOOKUP(Q1946,コード表!$B$3:$C$101,2,FALSE),\"\")","v":""},null,{"$f":"IFERROR(VLOOKUP(S1946,コード表!$F$7:$G$141,2,FALSE),\"\")","v":""},null,null,"t",null,null,null,null,null,null,null,null,null,null,null,null,null,null,null,null,null,null,null,null,null,null,null,null,null,null,null,null,null,null,null,null,null,null,null,null,null,null,null,null,null,null,null,null,null,null,null,null,"","",{"$f":"IF(BS1946=\"\",\"\",IF(COUNTIF(BS$4:BS1946,BS1946)=1,ROW(),\"\"))","v":""},{"$f":"IFERROR(INDEX(BS:BS,SMALL(BT:BT,ROW(A1943))),\"\")","v":""},"","","",""]
[{"$f":"IF(F1947<>\"\",事業者基本情報!$E$9&事業者基本情報!$F$9&事業者基本情報!$G$9,\"\")","v":""},{"$f":"IF(F1947<>\"\",事業者基本情報!$Y$10,\"\")","v":""},{"$f":"IF(F1947<>\"\",事業者基本情報!$Y$7,\"\")","v":""},{"$f":"IF(F1947<>\"\",事業者基本情報!$Y$8,\"\")","v":""},{"$f":"IF(F1947<>\"\",事業者基本情報!$E$11&事業者基本情報!$F$11&事業者基本情報!$G$11&事業者基本情報!$H$11&事業者基本情報!$I$11,\"\")","v":""},null,null,null,"市",null,null,"-",null,"-",null,{"$f":"IFERROR(VLOOKUP(Q1947,コード表!$B$3:$C$101,2,FALSE),\"\")","v":""},null,{"$f":"IFERROR(VLOOKUP(S1947,コード表!$F$7:$G$141,2,FALSE),\"\")","v":""},null,null,"t",null,null,null,null,null,null,null,null,null,null,null,null,null,null,null,null,null,null,null,null,null,null,null,null,null,null,null,null,null,null,null,null,null,null,null,null,null,null,null,null,null,null,null,null,null,null,null,null,"","",{"$f":"IF(BS1947=\"\",\"\",IF(COUNTIF(BS$4:BS1947,BS1947)=1,ROW(),\"\"))","v":""},{"$f":"IFERROR(INDEX(BS:BS,SMALL(BT:BT,ROW(A1944))),\"\")","v":""},"","","",""]
[{"$f":"IF(F1948<>\"\",事業者基本情報!$E$9&事業者基本情報!$F$9&事業者基本情報!$G$9,\"\")","v":""},{"$f":"IF(F1948<>\"\",事業者基本情報!$Y$10,\"\")","v":""},{"$f":"IF(F1948<>\"\",事業者基本情報!$Y$7,\"\")","v":""},{"$f":"IF(F1948<>\"\",事業者基本情報!$Y$8,\"\")","v":""},{"$f":"IF(F1948<>\"\",事業者基本情報!$E$11&事業者基本情報!$F$11&事業者基本情報!$G$11&事業者基本情報!$H$11&事業者基本情報!$I$11,\"\")","v":""},null,null,null,"市",null,null,"-",null,"-",null,{"$f":"IFERROR(VLOOKUP(Q1948,コード表!$B$3:$C$101,2,FALSE),\"\")","v":""},null,{"$f":"IFERROR(VLOOKUP(S1948,コード表!$F$7:$G$141,2,FALSE),\"\")","v":""},null,null,"t",null,null,null,null,null,null,null,null,null,null,null,null,null,null,null,null,null,null,null,null,null,null,null,null,null,null,null,null,null,null,null,null,null,null,null,null,null,null,null,null,null,null,null,null,null,null,null,null,"","",{"$f":"IF(BS1948=\"\",\"\",IF(COUNTIF(BS$4:BS1948,BS1948)=1,ROW(),\"\"))","v":""},{"$f":"IFERROR(INDEX(BS:BS,SMALL(BT:BT,ROW(A1945))),\"\")","v":""},"","","",""]
[{"$f":"IF(F1949<>\"\",事業者基本情報!$E$9&事業者基本情報!$F$9&事業者基本情報!$G$9,\"\")","v":""},{"$f":"IF(F1949<>\"\",事業者基本情報!$Y$10,\"\")","v":""},{"$f":"IF(F1949<>\"\",事業者基本情報!$Y$7,\"\")","v":""},{"$f":"IF(F1949<>\"\",事業者基本情報!$Y$8,\"\")","v":""},{"$f":"IF(F1949<>\"\",事業者基本情報!$E$11&事業者基本情報!$F$11&事業者基本情報!$G$11&事業者基本情報!$H$11&事業者基本情報!$I$11,\"\")","v":""},null,null,null,"市",null,null,"-",null,"-",null,{"$f":"IFERROR(VLOOKUP(Q1949,コード表!$B$3:$C$101,2,FALSE),\"\")","v":""},null,{"$f":"IFERROR(VLOOKUP(S1949,コード表!$F$7:$G$141,2,FALSE),\"\")","v":""},null,null,"t",null,null,null,null,null,null,null,null,null,null,null,null,null,null,null,null,null,null,null,null,null,null,null,null,null,null,null,null,null,null,null,null,null,null,null,null,null,null,null,null,null,null,null,null,null,null,null,null,"","",{"$f":"IF(BS1949=\"\",\"\",IF(COUNTIF(BS$4:BS1949,BS1949)=1,ROW(),\"\"))","v":""},{"$f":"IFERROR(INDEX(BS:BS,SMALL(BT:BT,ROW(A1946))),\"\")","v":""},"","","",""]
[{"$f":"IF(F1950<>\"\",事業者基本情報!$E$9&事業者基本情報!$F$9&事業者基本情報!$G$9,\"\")","v":""},{"$f":"IF(F1950<>\"\",事業者基本情報!$Y$10,\"\")","v":""},{"$f":"IF(F1950<>\"\",事業者基本情報!$Y$7,\"\")","v":""},{"$f":"IF(F1950<>\"\",事業者基本情報!$Y$8,\"\")","v":""},{"$f":"IF(F1950<>\"\",事業者基本情報!$E$11&事業者基本情報!$F$11&事業者基本情報!$G$11&事業者基本情報!$H$11&事業者基本情報!$I$11,\"\")","v":""},null,null,null,"市",null,null,"-",null,"-",null,{"$f":"IFERROR(VLOOKUP(Q1950,コード表!$B$3:$C$101,2,FALSE),\"\")","v":""},null,{"$f":"IFERROR(VLOOKUP(S1950,コード表!$F$7:$G$141,2,FALSE),\"\")","v":""},null,null,"t",null,null,null,null,null,null,null,null,null,null,null,null,null,null,null,null,null,null,null,null,null,null,null,null,null,null,null,null,null,null,null,null,null,null,null,null,null,null,null,null,null,null,null,null,null,null,null,null,"","",{"$f":"IF(BS1950=\"\",\"\",IF(COUNTIF(BS$4:BS1950,BS1950)=1,ROW(),\"\"))","v":""},{"$f":"IFERROR(INDEX(BS:BS,SMALL(BT:BT,ROW(A1947))),\"\")","v":""},"","","",""]
[{"$f":"IF(F1951<>\"\",事業者基本情報!$E$9&事業者基本情報!$F$9&事業者基本情報!$G$9,\"\")","v":""},{"$f":"IF(F1951<>\"\",事業者基本情報!$Y$10,\"\")","v":""},{"$f":"IF(F1951<>\"\",事業者基本情報!$Y$7,\"\")","v":""},{"$f":"IF(F1951<>\"\",事業者基本情報!$Y$8,\"\")","v":""},{"$f":"IF(F1951<>\"\",事業者基本情報!$E$11&事業者基本情報!$F$11&事業者基本情報!$G$11&事業者基本情報!$H$11&事業者基本情報!$I$11,\"\")","v":""},null,null,null,"市",null,null,"-",null,"-",null,{"$f":"IFERROR(VLOOKUP(Q1951,コード表!$B$3:$C$101,2,FALSE),\"\")","v":""},null,{"$f":"IFERROR(VLOOKUP(S1951,コード表!$F$7:$G$141,2,FALSE),\"\")","v":""},null,null,"t",null,null,null,null,null,null,null,null,null,null,null,null,null,null,null,null,null,null,null,null,null,null,null,null,null,null,null,null,null,null,null,null,null,null,null,null,null,null,null,null,null,null,null,null,null,null,null,null,"","",{"$f":"IF(BS1951=\"\",\"\",IF(COUNTIF(BS$4:BS1951,BS1951)=1,ROW(),\"\"))","v":""},{"$f":"IFERROR(INDEX(BS:BS,SMALL(BT:BT,ROW(A1948))),\"\")","v":""},"","","",""]
[{"$f":"IF(F1952<>\"\",事業者基本情報!$E$9&事業者基本情報!$F$9&事業者基本情報!$G$9,\"\")","v":""},{"$f":"IF(F1952<>\"\",事業者基本情報!$Y$10,\"\")","v":""},{"$f":"IF(F1952<>\"\",事業者基本情報!$Y$7,\"\")","v":""},{"$f":"IF(F1952<>\"\",事業者基本情報!$Y$8,\"\")","v":""},{"$f":"IF(F1952<>\"\",事業者基本情報!$E$11&事業者基本情報!$F$11&事業者基本情報!$G$11&事業者基本情報!$H$11&事業者基本情報!$I$11,\"\")","v":""},null,null,null,"市",null,null,"-",null,"-",null,{"$f":"IFERROR(VLOOKUP(Q1952,コード表!$B$3:$C$101,2,FALSE),\"\")","v":""},null,{"$f":"IFERROR(VLOOKUP(S1952,コード表!$F$7:$G$141,2,FALSE),\"\")","v":""},null,null,"t",null,null,null,null,null,null,null,null,null,null,null,null,null,null,null,null,null,null,null,null,null,null,null,null,null,null,null,null,null,null,null,null,null,null,null,null,null,null,null,null,null,null,null,null,null,null,null,null,"","",{"$f":"IF(BS1952=\"\",\"\",IF(COUNTIF(BS$4:BS1952,BS1952)=1,ROW(),\"\"))","v":""},{"$f":"IFERROR(INDEX(BS:BS,SMALL(BT:BT,ROW(A1949))),\"\")","v":""},"","","",""]
[{"$f":"IF(F1953<>\"\",事業者基本情報!$E$9&事業者基本情報!$F$9&事業者基本情報!$G$9,\"\")","v":""},{"$f":"IF(F1953<>\"\",事業者基本情報!$Y$10,\"\")","v":""},{"$f":"IF(F1953<>\"\",事業者基本情報!$Y$7,\"\")","v":""},{"$f":"IF(F1953<>\"\",事業者基本情報!$Y$8,\"\")","v":""},{"$f":"IF(F1953<>\"\",事業者基本情報!$E$11&事業者基本情報!$F$11&事業者基本情報!$G$11&事業者基本情報!$H$11&事業者基本情報!$I$11,\"\")","v":""},null,null,null,"市",null,null,"-",null,"-",null,{"$f":"IFERROR(VLOOKUP(Q1953,コード表!$B$3:$C$101,2,FALSE),\"\")","v":""},null,{"$f":"IFERROR(VLOOKUP(S1953,コード表!$F$7:$G$141,2,FALSE),\"\")","v":""},null,null,"t",null,null,null,null,null,null,null,null,null,null,null,null,null,null,null,null,null,null,null,null,null,null,null,null,null,null,null,null,null,null,null,null,null,null,null,null,null,null,null,null,null,null,null,null,null,null,null,null,"","",{"$f":"IF(BS1953=\"\",\"\",IF(COUNTIF(BS$4:BS1953,BS1953)=1,ROW(),\"\"))","v":""},{"$f":"IFERROR(INDEX(BS:BS,SMALL(BT:BT,ROW(A1950))),\"\")","v":""},"","","",""]
[{"$f":"IF(F1954<>\"\",事業者基本情報!$E$9&事業者基本情報!$F$9&事業者基本情報!$G$9,\"\")","v":""},{"$f":"IF(F1954<>\"\",事業者基本情報!$Y$10,\"\")","v":""},{"$f":"IF(F1954<>\"\",事業者基本情報!$Y$7,\"\")","v":""},{"$f":"IF(F1954<>\"\",事業者基本情報!$Y$8,\"\")","v":""},{"$f":"IF(F1954<>\"\",事業者基本情報!$E$11&事業者基本情報!$F$11&事業者基本情報!$G$11&事業者基本情報!$H$11&事業者基本情報!$I$11,\"\")","v":""},null,null,null,"市",null,null,"-",null,"-",null,{"$f":"IFERROR(VLOOKUP(Q1954,コード表!$B$3:$C$101,2,FALSE),\"\")","v":""},null,{"$f":"IFERROR(VLOOKUP(S1954,コード表!$F$7:$G$141,2,FALSE),\"\")","v":""},null,null,"t",null,null,null,null,null,null,null,null,null,null,null,null,null,null,null,null,null,null,null,null,null,null,null,null,null,null,null,null,null,null,null,null,null,null,null,null,null,null,null,null,null,null,null,null,null,null,null,null,"","",{"$f":"IF(BS1954=\"\",\"\",IF(COUNTIF(BS$4:BS1954,BS1954)=1,ROW(),\"\"))","v":""},{"$f":"IFERROR(INDEX(BS:BS,SMALL(BT:BT,ROW(A1951))),\"\")","v":""},"","","",""]
[{"$f":"IF(F1955<>\"\",事業者基本情報!$E$9&事業者基本情報!$F$9&事業者基本情報!$G$9,\"\")","v":""},{"$f":"IF(F1955<>\"\",事業者基本情報!$Y$10,\"\")","v":""},{"$f":"IF(F1955<>\"\",事業者基本情報!$Y$7,\"\")","v":""},{"$f":"IF(F1955<>\"\",事業者基本情報!$Y$8,\"\")","v":""},{"$f":"IF(F1955<>\"\",事業者基本情報!$E$11&事業者基本情報!$F$11&事業者基本情報!$G$11&事業者基本情報!$H$11&事業者基本情報!$I$11,\"\")","v":""},null,null,null,"市",null,null,"-",null,"-",null,{"$f":"IFERROR(VLOOKUP(Q1955,コード表!$B$3:$C$101,2,FALSE),\"\")","v":""},null,{"$f":"IFERROR(VLOOKUP(S1955,コード表!$F$7:$G$141,2,FALSE),\"\")","v":""},null,null,"t",null,null,null,null,null,null,null,null,null,null,null,null,null,null,null,null,null,null,null,null,null,null,null,null,null,null,null,null,null,null,null,null,null,null,null,null,null,null,null,null,null,null,null,null,null,null,null,null,"","",{"$f":"IF(BS1955=\"\",\"\",IF(COUNTIF(BS$4:BS1955,BS1955)=1,ROW(),\"\"))","v":""},{"$f":"IFERROR(INDEX(BS:BS,SMALL(BT:BT,ROW(A1952))),\"\")","v":""},"","","",""]
[{"$f":"IF(F1956<>\"\",事業者基本情報!$E$9&事業者基本情報!$F$9&事業者基本情報!$G$9,\"\")","v":""},{"$f":"IF(F1956<>\"\",事業者基本情報!$Y$10,\"\")","v":""},{"$f":"IF(F1956<>\"\",事業者基本情報!$Y$7,\"\")","v":""},{"$f":"IF(F1956<>\"\",事業者基本情報!$Y$8,\"\")","v":""},{"$f":"IF(F1956<>\"\",事業者基本情報!$E$11&事業者基本情報!$F$11&事業者基本情報!$G$11&事業者基本情報!$H$11&事業者基本情報!$I$11,\"\")","v":""},null,null,null,"市",null,null,"-",null,"-",null,{"$f":"IFERROR(VLOOKUP(Q1956,コード表!$B$3:$C$101,2,FALSE),\"\")","v":""},null,{"$f":"IFERROR(VLOOKUP(S1956,コード表!$F$7:$G$141,2,FALSE),\"\")","v":""},null,null,"t",null,null,null,null,null,null,null,null,null,null,null,null,null,null,null,null,null,null,null,null,null,null,null,null,null,null,null,null,null,null,null,null,null,null,null,null,null,null,null,null,null,null,null,null,null,null,null,null,"","",{"$f":"IF(BS1956=\"\",\"\",IF(COUNTIF(BS$4:BS1956,BS1956)=1,ROW(),\"\"))","v":""},{"$f":"IFERROR(INDEX(BS:BS,SMALL(BT:BT,ROW(A1953))),\"\")","v":""},"","","",""]
[{"$f":"IF(F1957<>\"\",事業者基本情報!$E$9&事業者基本情報!$F$9&事業者基本情報!$G$9,\"\")","v":""},{"$f":"IF(F1957<>\"\",事業者基本情報!$Y$10,\"\")","v":""},{"$f":"IF(F1957<>\"\",事業者基本情報!$Y$7,\"\")","v":""},{"$f":"IF(F1957<>\"\",事業者基本情報!$Y$8,\"\")","v":""},{"$f":"IF(F1957<>\"\",事業者基本情報!$E$11&事業者基本情報!$F$11&事業者基本情報!$G$11&事業者基本情報!$H$11&事業者基本情報!$I$11,\"\")","v":""},null,null,null,"市",null,null,"-",null,"-",null,{"$f":"IFERROR(VLOOKUP(Q1957,コード表!$B$3:$C$101,2,FALSE),\"\")","v":""},null,{"$f":"IFERROR(VLOOKUP(S1957,コード表!$F$7:$G$141,2,FALSE),\"\")","v":""},null,null,"t",null,null,null,null,null,null,null,null,null,null,null,null,null,null,null,null,null,null,null,null,null,null,null,null,null,null,null,null,null,null,null,null,null,null,null,null,null,null,null,null,null,null,null,null,null,null,null,null,"","",{"$f":"IF(BS1957=\"\",\"\",IF(COUNTIF(BS$4:BS1957,BS1957)=1,ROW(),\"\"))","v":""},{"$f":"IFERROR(INDEX(BS:BS,SMALL(BT:BT,ROW(A1954))),\"\")","v":""},"","","",""]
[{"$f":"IF(F1958<>\"\",事業者基本情報!$E$9&事業者基本情報!$F$9&事業者基本情報!$G$9,\"\")","v":""},{"$f":"IF(F1958<>\"\",事業者基本情報!$Y$10,\"\")","v":""},{"$f":"IF(F1958<>\"\",事業者基本情報!$Y$7,\"\")","v":""},{"$f":"IF(F1958<>\"\",事業者基本情報!$Y$8,\"\")","v":""},{"$f":"IF(F1958<>\"\",事業者基本情報!$E$11&事業者基本情報!$F$11&事業者基本情報!$G$11&事業者基本情報!$H$11&事業者基本情報!$I$11,\"\")","v":""},null,null,null,"市",null,null,"-",null,"-",null,{"$f":"IFERROR(VLOOKUP(Q1958,コード表!$B$3:$C$101,2,FALSE),\"\")","v":""},null,{"$f":"IFERROR(VLOOKUP(S1958,コード表!$F$7:$G$141,2,FALSE),\"\")","v":""},null,null,"t",null,null,null,null,null,null,null,null,null,null,null,null,null,null,null,null,null,null,null,null,null,null,null,null,null,null,null,null,null,null,null,null,null,null,null,null,null,null,null,null,null,null,null,null,null,null,null,null,"","",{"$f":"IF(BS1958=\"\",\"\",IF(COUNTIF(BS$4:BS1958,BS1958)=1,ROW(),\"\"))","v":""},{"$f":"IFERROR(INDEX(BS:BS,SMALL(BT:BT,ROW(A1955))),\"\")","v":""},"","","",""]
[{"$f":"IF(F1959<>\"\",事業者基本情報!$E$9&事業者基本情報!$F$9&事業者基本情報!$G$9,\"\")","v":""},{"$f":"IF(F1959<>\"\",事業者基本情報!$Y$10,\"\")","v":""},{"$f":"IF(F1959<>\"\",事業者基本情報!$Y$7,\"\")","v":""},{"$f":"IF(F1959<>\"\",事業者基本情報!$Y$8,\"\")","v":""},{"$f":"IF(F1959<>\"\",事業者基本情報!$E$11&事業者基本情報!$F$11&事業者基本情報!$G$11&事業者基本情報!$H$11&事業者基本情報!$I$11,\"\")","v":""},null,null,null,"市",null,null,"-",null,"-",null,{"$f":"IFERROR(VLOOKUP(Q1959,コード表!$B$3:$C$101,2,FALSE),\"\")","v":""},null,{"$f":"IFERROR(VLOOKUP(S1959,コード表!$F$7:$G$141,2,FALSE),\"\")","v":""},null,null,"t",null,null,null,null,null,null,null,null,null,null,null,null,null,null,null,null,null,null,null,null,null,null,null,null,null,null,null,null,null,null,null,null,null,null,null,null,null,null,null,null,null,null,null,null,null,null,null,null,"","",{"$f":"IF(BS1959=\"\",\"\",IF(COUNTIF(BS$4:BS1959,BS1959)=1,ROW(),\"\"))","v":""},{"$f":"IFERROR(INDEX(BS:BS,SMALL(BT:BT,ROW(A1956))),\"\")","v":""},"","","",""]
[{"$f":"IF(F1960<>\"\",事業者基本情報!$E$9&事業者基本情報!$F$9&事業者基本情報!$G$9,\"\")","v":""},{"$f":"IF(F1960<>\"\",事業者基本情報!$Y$10,\"\")","v":""},{"$f":"IF(F1960<>\"\",事業者基本情報!$Y$7,\"\")","v":""},{"$f":"IF(F1960<>\"\",事業者基本情報!$Y$8,\"\")","v":""},{"$f":"IF(F1960<>\"\",事業者基本情報!$E$11&事業者基本情報!$F$11&事業者基本情報!$G$11&事業者基本情報!$H$11&事業者基本情報!$I$11,\"\")","v":""},null,null,null,"市",null,null,"-",null,"-",null,{"$f":"IFERROR(VLOOKUP(Q1960,コード表!$B$3:$C$101,2,FALSE),\"\")","v":""},null,{"$f":"IFERROR(VLOOKUP(S1960,コード表!$F$7:$G$141,2,FALSE),\"\")","v":""},null,null,"t",null,null,null,null,null,null,null,null,null,null,null,null,null,null,null,null,null,null,null,null,null,null,null,null,null,null,null,null,null,null,null,null,null,null,null,null,null,null,null,null,null,null,null,null,null,null,null,null,"","",{"$f":"IF(BS1960=\"\",\"\",IF(COUNTIF(BS$4:BS1960,BS1960)=1,ROW(),\"\"))","v":""},{"$f":"IFERROR(INDEX(BS:BS,SMALL(BT:BT,ROW(A1957))),\"\")","v":""},"","","",""]
[{"$f":"IF(F1961<>\"\",事業者基本情報!$E$9&事業者基本情報!$F$9&事業者基本情報!$G$9,\"\")","v":""},{"$f":"IF(F1961<>\"\",事業者基本情報!$Y$10,\"\")","v":""},{"$f":"IF(F1961<>\"\",事業者基本情報!$Y$7,\"\")","v":""},{"$f":"IF(F1961<>\"\",事業者基本情報!$Y$8,\"\")","v":""},{"$f":"IF(F1961<>\"\",事業者基本情報!$E$11&事業者基本情報!$F$11&事業者基本情報!$G$11&事業者基本情報!$H$11&事業者基本情報!$I$11,\"\")","v":""},null,null,null,"市",null,null,"-",null,"-",null,{"$f":"IFERROR(VLOOKUP(Q1961,コード表!$B$3:$C$101,2,FALSE),\"\")","v":""},null,{"$f":"IFERROR(VLOOKUP(S1961,コード表!$F$7:$G$141,2,FALSE),\"\")","v":""},null,null,"t",null,null,null,null,null,null,null,null,null,null,null,null,null,null,null,null,null,null,null,null,null,null,null,null,null,null,null,null,null,null,null,null,null,null,null,null,null,null,null,null,null,null,null,null,null,null,null,null,"","",{"$f":"IF(BS1961=\"\",\"\",IF(COUNTIF(BS$4:BS1961,BS1961)=1,ROW(),\"\"))","v":""},{"$f":"IFERROR(INDEX(BS:BS,SMALL(BT:BT,ROW(A1958))),\"\")","v":""},"","","",""]
[{"$f":"IF(F1962<>\"\",事業者基本情報!$E$9&事業者基本情報!$F$9&事業者基本情報!$G$9,\"\")","v":""},{"$f":"IF(F1962<>\"\",事業者基本情報!$Y$10,\"\")","v":""},{"$f":"IF(F1962<>\"\",事業者基本情報!$Y$7,\"\")","v":""},{"$f":"IF(F1962<>\"\",事業者基本情報!$Y$8,\"\")","v":""},{"$f":"IF(F1962<>\"\",事業者基本情報!$E$11&事業者基本情報!$F$11&事業者基本情報!$G$11&事業者基本情報!$H$11&事業者基本情報!$I$11,\"\")","v":""},null,null,null,"市",null,null,"-",null,"-",null,{"$f":"IFERROR(VLOOKUP(Q1962,コード表!$B$3:$C$101,2,FALSE),\"\")","v":""},null,{"$f":"IFERROR(VLOOKUP(S1962,コード表!$F$7:$G$141,2,FALSE),\"\")","v":""},null,null,"t",null,null,null,null,null,null,null,null,null,null,null,null,null,null,null,null,null,null,null,null,null,null,null,null,null,null,null,null,null,null,null,null,null,null,null,null,null,null,null,null,null,null,null,null,null,null,null,null,"","",{"$f":"IF(BS1962=\"\",\"\",IF(COUNTIF(BS$4:BS1962,BS1962)=1,ROW(),\"\"))","v":""},{"$f":"IFERROR(INDEX(BS:BS,SMALL(BT:BT,ROW(A1959))),\"\")","v":""},"","","",""]
[{"$f":"IF(F1963<>\"\",事業者基本情報!$E$9&事業者基本情報!$F$9&事業者基本情報!$G$9,\"\")","v":""},{"$f":"IF(F1963<>\"\",事業者基本情報!$Y$10,\"\")","v":""},{"$f":"IF(F1963<>\"\",事業者基本情報!$Y$7,\"\")","v":""},{"$f":"IF(F1963<>\"\",事業者基本情報!$Y$8,\"\")","v":""},{"$f":"IF(F1963<>\"\",事業者基本情報!$E$11&事業者基本情報!$F$11&事業者基本情報!$G$11&事業者基本情報!$H$11&事業者基本情報!$I$11,\"\")","v":""},null,null,null,"市",null,null,"-",null,"-",null,{"$f":"IFERROR(VLOOKUP(Q1963,コード表!$B$3:$C$101,2,FALSE),\"\")","v":""},null,{"$f":"IFERROR(VLOOKUP(S1963,コード表!$F$7:$G$141,2,FALSE),\"\")","v":""},null,null,"t",null,null,null,null,null,null,null,null,null,null,null,null,null,null,null,null,null,null,null,null,null,null,null,null,null,null,null,null,null,null,null,null,null,null,null,null,null,null,null,null,null,null,null,null,null,null,null,null,"","",{"$f":"IF(BS1963=\"\",\"\",IF(COUNTIF(BS$4:BS1963,BS1963)=1,ROW(),\"\"))","v":""},{"$f":"IFERROR(INDEX(BS:BS,SMALL(BT:BT,ROW(A1960))),\"\")","v":""},"","","",""]
[{"$f":"IF(F1964<>\"\",事業者基本情報!$E$9&事業者基本情報!$F$9&事業者基本情報!$G$9,\"\")","v":""},{"$f":"IF(F1964<>\"\",事業者基本情報!$Y$10,\"\")","v":""},{"$f":"IF(F1964<>\"\",事業者基本情報!$Y$7,\"\")","v":""},{"$f":"IF(F1964<>\"\",事業者基本情報!$Y$8,\"\")","v":""},{"$f":"IF(F1964<>\"\",事業者基本情報!$E$11&事業者基本情報!$F$11&事業者基本情報!$G$11&事業者基本情報!$H$11&事業者基本情報!$I$11,\"\")","v":""},null,null,null,"市",null,null,"-",null,"-",null,{"$f":"IFERROR(VLOOKUP(Q1964,コード表!$B$3:$C$101,2,FALSE),\"\")","v":""},null,{"$f":"IFERROR(VLOOKUP(S1964,コード表!$F$7:$G$141,2,FALSE),\"\")","v":""},null,null,"t",null,null,null,null,null,null,null,null,null,null,null,null,null,null,null,null,null,null,null,null,null,null,null,null,null,null,null,null,null,null,null,null,null,null,null,null,null,null,null,null,null,null,null,null,null,null,null,null,"","",{"$f":"IF(BS1964=\"\",\"\",IF(COUNTIF(BS$4:BS1964,BS1964)=1,ROW(),\"\"))","v":""},{"$f":"IFERROR(INDEX(BS:BS,SMALL(BT:BT,ROW(A1961))),\"\")","v":""},"","","",""]
[{"$f":"IF(F1965<>\"\",事業者基本情報!$E$9&事業者基本情報!$F$9&事業者基本情報!$G$9,\"\")","v":""},{"$f":"IF(F1965<>\"\",事業者基本情報!$Y$10,\"\")","v":""},{"$f":"IF(F1965<>\"\",事業者基本情報!$Y$7,\"\")","v":""},{"$f":"IF(F1965<>\"\",事業者基本情報!$Y$8,\"\")","v":""},{"$f":"IF(F1965<>\"\",事業者基本情報!$E$11&事業者基本情報!$F$11&事業者基本情報!$G$11&事業者基本情報!$H$11&事業者基本情報!$I$11,\"\")","v":""},null,null,null,"市",null,null,"-",null,"-",null,{"$f":"IFERROR(VLOOKUP(Q1965,コード表!$B$3:$C$101,2,FALSE),\"\")","v":""},null,{"$f":"IFERROR(VLOOKUP(S1965,コード表!$F$7:$G$141,2,FALSE),\"\")","v":""},null,null,"t",null,null,null,null,null,null,null,null,null,null,null,null,null,null,null,null,null,null,null,null,null,null,null,null,null,null,null,null,null,null,null,null,null,null,null,null,null,null,null,null,null,null,null,null,null,null,null,null,"","",{"$f":"IF(BS1965=\"\",\"\",IF(COUNTIF(BS$4:BS1965,BS1965)=1,ROW(),\"\"))","v":""},{"$f":"IFERROR(INDEX(BS:BS,SMALL(BT:BT,ROW(A1962))),\"\")","v":""},"","","",""]
[{"$f":"IF(F1966<>\"\",事業者基本情報!$E$9&事業者基本情報!$F$9&事業者基本情報!$G$9,\"\")","v":""},{"$f":"IF(F1966<>\"\",事業者基本情報!$Y$10,\"\")","v":""},{"$f":"IF(F1966<>\"\",事業者基本情報!$Y$7,\"\")","v":""},{"$f":"IF(F1966<>\"\",事業者基本情報!$Y$8,\"\")","v":""},{"$f":"IF(F1966<>\"\",事業者基本情報!$E$11&事業者基本情報!$F$11&事業者基本情報!$G$11&事業者基本情報!$H$11&事業者基本情報!$I$11,\"\")","v":""},null,null,null,"市",null,null,"-",null,"-",null,{"$f":"IFERROR(VLOOKUP(Q1966,コード表!$B$3:$C$101,2,FALSE),\"\")","v":""},null,{"$f":"IFERROR(VLOOKUP(S1966,コード表!$F$7:$G$141,2,FALSE),\"\")","v":""},null,null,"t",null,null,null,null,null,null,null,null,null,null,null,null,null,null,null,null,null,null,null,null,null,null,null,null,null,null,null,null,null,null,null,null,null,null,null,null,null,null,null,null,null,null,null,null,null,null,null,null,"","",{"$f":"IF(BS1966=\"\",\"\",IF(COUNTIF(BS$4:BS1966,BS1966)=1,ROW(),\"\"))","v":""},{"$f":"IFERROR(INDEX(BS:BS,SMALL(BT:BT,ROW(A1963))),\"\")","v":""},"","","",""]
[{"$f":"IF(F1967<>\"\",事業者基本情報!$E$9&事業者基本情報!$F$9&事業者基本情報!$G$9,\"\")","v":""},{"$f":"IF(F1967<>\"\",事業者基本情報!$Y$10,\"\")","v":""},{"$f":"IF(F1967<>\"\",事業者基本情報!$Y$7,\"\")","v":""},{"$f":"IF(F1967<>\"\",事業者基本情報!$Y$8,\"\")","v":""},{"$f":"IF(F1967<>\"\",事業者基本情報!$E$11&事業者基本情報!$F$11&事業者基本情報!$G$11&事業者基本情報!$H$11&事業者基本情報!$I$11,\"\")","v":""},null,null,null,"市",null,null,"-",null,"-",null,{"$f":"IFERROR(VLOOKUP(Q1967,コード表!$B$3:$C$101,2,FALSE),\"\")","v":""},null,{"$f":"IFERROR(VLOOKUP(S1967,コード表!$F$7:$G$141,2,FALSE),\"\")","v":""},null,null,"t",null,null,null,null,null,null,null,null,null,null,null,null,null,null,null,null,null,null,null,null,null,null,null,null,null,null,null,null,null,null,null,null,null,null,null,null,null,null,null,null,null,null,null,null,null,null,null,null,"","",{"$f":"IF(BS1967=\"\",\"\",IF(COUNTIF(BS$4:BS1967,BS1967)=1,ROW(),\"\"))","v":""},{"$f":"IFERROR(INDEX(BS:BS,SMALL(BT:BT,ROW(A1964))),\"\")","v":""},"","","",""]
[{"$f":"IF(F1968<>\"\",事業者基本情報!$E$9&事業者基本情報!$F$9&事業者基本情報!$G$9,\"\")","v":""},{"$f":"IF(F1968<>\"\",事業者基本情報!$Y$10,\"\")","v":""},{"$f":"IF(F1968<>\"\",事業者基本情報!$Y$7,\"\")","v":""},{"$f":"IF(F1968<>\"\",事業者基本情報!$Y$8,\"\")","v":""},{"$f":"IF(F1968<>\"\",事業者基本情報!$E$11&事業者基本情報!$F$11&事業者基本情報!$G$11&事業者基本情報!$H$11&事業者基本情報!$I$11,\"\")","v":""},null,null,null,"市",null,null,"-",null,"-",null,{"$f":"IFERROR(VLOOKUP(Q1968,コード表!$B$3:$C$101,2,FALSE),\"\")","v":""},null,{"$f":"IFERROR(VLOOKUP(S1968,コード表!$F$7:$G$141,2,FALSE),\"\")","v":""},null,null,"t",null,null,null,null,null,null,null,null,null,null,null,null,null,null,null,null,null,null,null,null,null,null,null,null,null,null,null,null,null,null,null,null,null,null,null,null,null,null,null,null,null,null,null,null,null,null,null,null,"","",{"$f":"IF(BS1968=\"\",\"\",IF(COUNTIF(BS$4:BS1968,BS1968)=1,ROW(),\"\"))","v":""},{"$f":"IFERROR(INDEX(BS:BS,SMALL(BT:BT,ROW(A1965))),\"\")","v":""},"","","",""]
[{"$f":"IF(F1969<>\"\",事業者基本情報!$E$9&事業者基本情報!$F$9&事業者基本情報!$G$9,\"\")","v":""},{"$f":"IF(F1969<>\"\",事業者基本情報!$Y$10,\"\")","v":""},{"$f":"IF(F1969<>\"\",事業者基本情報!$Y$7,\"\")","v":""},{"$f":"IF(F1969<>\"\",事業者基本情報!$Y$8,\"\")","v":""},{"$f":"IF(F1969<>\"\",事業者基本情報!$E$11&事業者基本情報!$F$11&事業者基本情報!$G$11&事業者基本情報!$H$11&事業者基本情報!$I$11,\"\")","v":""},null,null,null,"市",null,null,"-",null,"-",null,{"$f":"IFERROR(VLOOKUP(Q1969,コード表!$B$3:$C$101,2,FALSE),\"\")","v":""},null,{"$f":"IFERROR(VLOOKUP(S1969,コード表!$F$7:$G$141,2,FALSE),\"\")","v":""},null,null,"t",null,null,null,null,null,null,null,null,null,null,null,null,null,null,null,null,null,null,null,null,null,null,null,null,null,null,null,null,null,null,null,null,null,null,null,null,null,null,null,null,null,null,null,null,null,null,null,null,"","",{"$f":"IF(BS1969=\"\",\"\",IF(COUNTIF(BS$4:BS1969,BS1969)=1,ROW(),\"\"))","v":""},{"$f":"IFERROR(INDEX(BS:BS,SMALL(BT:BT,ROW(A1966))),\"\")","v":""},"","","",""]
[{"$f":"IF(F1970<>\"\",事業者基本情報!$E$9&事業者基本情報!$F$9&事業者基本情報!$G$9,\"\")","v":""},{"$f":"IF(F1970<>\"\",事業者基本情報!$Y$10,\"\")","v":""},{"$f":"IF(F1970<>\"\",事業者基本情報!$Y$7,\"\")","v":""},{"$f":"IF(F1970<>\"\",事業者基本情報!$Y$8,\"\")","v":""},{"$f":"IF(F1970<>\"\",事業者基本情報!$E$11&事業者基本情報!$F$11&事業者基本情報!$G$11&事業者基本情報!$H$11&事業者基本情報!$I$11,\"\")","v":""},null,null,null,"市",null,null,"-",null,"-",null,{"$f":"IFERROR(VLOOKUP(Q1970,コード表!$B$3:$C$101,2,FALSE),\"\")","v":""},null,{"$f":"IFERROR(VLOOKUP(S1970,コード表!$F$7:$G$141,2,FALSE),\"\")","v":""},null,null,"t",null,null,null,null,null,null,null,null,null,null,null,null,null,null,null,null,null,null,null,null,null,null,null,null,null,null,null,null,null,null,null,null,null,null,null,null,null,null,null,null,null,null,null,null,null,null,null,null,"","",{"$f":"IF(BS1970=\"\",\"\",IF(COUNTIF(BS$4:BS1970,BS1970)=1,ROW(),\"\"))","v":""},{"$f":"IFERROR(INDEX(BS:BS,SMALL(BT:BT,ROW(A1967))),\"\")","v":""},"","","",""]
[{"$f":"IF(F1971<>\"\",事業者基本情報!$E$9&事業者基本情報!$F$9&事業者基本情報!$G$9,\"\")","v":""},{"$f":"IF(F1971<>\"\",事業者基本情報!$Y$10,\"\")","v":""},{"$f":"IF(F1971<>\"\",事業者基本情報!$Y$7,\"\")","v":""},{"$f":"IF(F1971<>\"\",事業者基本情報!$Y$8,\"\")","v":""},{"$f":"IF(F1971<>\"\",事業者基本情報!$E$11&事業者基本情報!$F$11&事業者基本情報!$G$11&事業者基本情報!$H$11&事業者基本情報!$I$11,\"\")","v":""},null,null,null,"市",null,null,"-",null,"-",null,{"$f":"IFERROR(VLOOKUP(Q1971,コード表!$B$3:$C$101,2,FALSE),\"\")","v":""},null,{"$f":"IFERROR(VLOOKUP(S1971,コード表!$F$7:$G$141,2,FALSE),\"\")","v":""},null,null,"t",null,null,null,null,null,null,null,null,null,null,null,null,null,null,null,null,null,null,null,null,null,null,null,null,null,null,null,null,null,null,null,null,null,null,null,null,null,null,null,null,null,null,null,null,null,null,null,null,"","",{"$f":"IF(BS1971=\"\",\"\",IF(COUNTIF(BS$4:BS1971,BS1971)=1,ROW(),\"\"))","v":""},{"$f":"IFERROR(INDEX(BS:BS,SMALL(BT:BT,ROW(A1968))),\"\")","v":""},"","","",""]
[{"$f":"IF(F1972<>\"\",事業者基本情報!$E$9&事業者基本情報!$F$9&事業者基本情報!$G$9,\"\")","v":""},{"$f":"IF(F1972<>\"\",事業者基本情報!$Y$10,\"\")","v":""},{"$f":"IF(F1972<>\"\",事業者基本情報!$Y$7,\"\")","v":""},{"$f":"IF(F1972<>\"\",事業者基本情報!$Y$8,\"\")","v":""},{"$f":"IF(F1972<>\"\",事業者基本情報!$E$11&事業者基本情報!$F$11&事業者基本情報!$G$11&事業者基本情報!$H$11&事業者基本情報!$I$11,\"\")","v":""},null,null,null,"市",null,null,"-",null,"-",null,{"$f":"IFERROR(VLOOKUP(Q1972,コード表!$B$3:$C$101,2,FALSE),\"\")","v":""},null,{"$f":"IFERROR(VLOOKUP(S1972,コード表!$F$7:$G$141,2,FALSE),\"\")","v":""},null,null,"t",null,null,null,null,null,null,null,null,null,null,null,null,null,null,null,null,null,null,null,null,null,null,null,null,null,null,null,null,null,null,null,null,null,null,null,null,null,null,null,null,null,null,null,null,null,null,null,null,"","",{"$f":"IF(BS1972=\"\",\"\",IF(COUNTIF(BS$4:BS1972,BS1972)=1,ROW(),\"\"))","v":""},{"$f":"IFERROR(INDEX(BS:BS,SMALL(BT:BT,ROW(A1969))),\"\")","v":""},"","","",""]
[{"$f":"IF(F1973<>\"\",事業者基本情報!$E$9&事業者基本情報!$F$9&事業者基本情報!$G$9,\"\")","v":""},{"$f":"IF(F1973<>\"\",事業者基本情報!$Y$10,\"\")","v":""},{"$f":"IF(F1973<>\"\",事業者基本情報!$Y$7,\"\")","v":""},{"$f":"IF(F1973<>\"\",事業者基本情報!$Y$8,\"\")","v":""},{"$f":"IF(F1973<>\"\",事業者基本情報!$E$11&事業者基本情報!$F$11&事業者基本情報!$G$11&事業者基本情報!$H$11&事業者基本情報!$I$11,\"\")","v":""},null,null,null,"市",null,null,"-",null,"-",null,{"$f":"IFERROR(VLOOKUP(Q1973,コード表!$B$3:$C$101,2,FALSE),\"\")","v":""},null,{"$f":"IFERROR(VLOOKUP(S1973,コード表!$F$7:$G$141,2,FALSE),\"\")","v":""},null,null,"t",null,null,null,null,null,null,null,null,null,null,null,null,null,null,null,null,null,null,null,null,null,null,null,null,null,null,null,null,null,null,null,null,null,null,null,null,null,null,null,null,null,null,null,null,null,null,null,null,"","",{"$f":"IF(BS1973=\"\",\"\",IF(COUNTIF(BS$4:BS1973,BS1973)=1,ROW(),\"\"))","v":""},{"$f":"IFERROR(INDEX(BS:BS,SMALL(BT:BT,ROW(A1970))),\"\")","v":""},"","","",""]
[{"$f":"IF(F1974<>\"\",事業者基本情報!$E$9&事業者基本情報!$F$9&事業者基本情報!$G$9,\"\")","v":""},{"$f":"IF(F1974<>\"\",事業者基本情報!$Y$10,\"\")","v":""},{"$f":"IF(F1974<>\"\",事業者基本情報!$Y$7,\"\")","v":""},{"$f":"IF(F1974<>\"\",事業者基本情報!$Y$8,\"\")","v":""},{"$f":"IF(F1974<>\"\",事業者基本情報!$E$11&事業者基本情報!$F$11&事業者基本情報!$G$11&事業者基本情報!$H$11&事業者基本情報!$I$11,\"\")","v":""},null,null,null,"市",null,null,"-",null,"-",null,{"$f":"IFERROR(VLOOKUP(Q1974,コード表!$B$3:$C$101,2,FALSE),\"\")","v":""},null,{"$f":"IFERROR(VLOOKUP(S1974,コード表!$F$7:$G$141,2,FALSE),\"\")","v":""},null,null,"t",null,null,null,null,null,null,null,null,null,null,null,null,null,null,null,null,null,null,null,null,null,null,null,null,null,null,null,null,null,null,null,null,null,null,null,null,null,null,null,null,null,null,null,null,null,null,null,null,"","",{"$f":"IF(BS1974=\"\",\"\",IF(COUNTIF(BS$4:BS1974,BS1974)=1,ROW(),\"\"))","v":""},{"$f":"IFERROR(INDEX(BS:BS,SMALL(BT:BT,ROW(A1971))),\"\")","v":""},"","","",""]
[{"$f":"IF(F1975<>\"\",事業者基本情報!$E$9&事業者基本情報!$F$9&事業者基本情報!$G$9,\"\")","v":""},{"$f":"IF(F1975<>\"\",事業者基本情報!$Y$10,\"\")","v":""},{"$f":"IF(F1975<>\"\",事業者基本情報!$Y$7,\"\")","v":""},{"$f":"IF(F1975<>\"\",事業者基本情報!$Y$8,\"\")","v":""},{"$f":"IF(F1975<>\"\",事業者基本情報!$E$11&事業者基本情報!$F$11&事業者基本情報!$G$11&事業者基本情報!$H$11&事業者基本情報!$I$11,\"\")","v":""},null,null,null,"市",null,null,"-",null,"-",null,{"$f":"IFERROR(VLOOKUP(Q1975,コード表!$B$3:$C$101,2,FALSE),\"\")","v":""},null,{"$f":"IFERROR(VLOOKUP(S1975,コード表!$F$7:$G$141,2,FALSE),\"\")","v":""},null,null,"t",null,null,null,null,null,null,null,null,null,null,null,null,null,null,null,null,null,null,null,null,null,null,null,null,null,null,null,null,null,null,null,null,null,null,null,null,null,null,null,null,null,null,null,null,null,null,null,null,"","",{"$f":"IF(BS1975=\"\",\"\",IF(COUNTIF(BS$4:BS1975,BS1975)=1,ROW(),\"\"))","v":""},{"$f":"IFERROR(INDEX(BS:BS,SMALL(BT:BT,ROW(A1972))),\"\")","v":""},"","","",""]
[{"$f":"IF(F1976<>\"\",事業者基本情報!$E$9&事業者基本情報!$F$9&事業者基本情報!$G$9,\"\")","v":""},{"$f":"IF(F1976<>\"\",事業者基本情報!$Y$10,\"\")","v":""},{"$f":"IF(F1976<>\"\",事業者基本情報!$Y$7,\"\")","v":""},{"$f":"IF(F1976<>\"\",事業者基本情報!$Y$8,\"\")","v":""},{"$f":"IF(F1976<>\"\",事業者基本情報!$E$11&事業者基本情報!$F$11&事業者基本情報!$G$11&事業者基本情報!$H$11&事業者基本情報!$I$11,\"\")","v":""},null,null,null,"市",null,null,"-",null,"-",null,{"$f":"IFERROR(VLOOKUP(Q1976,コード表!$B$3:$C$101,2,FALSE),\"\")","v":""},null,{"$f":"IFERROR(VLOOKUP(S1976,コード表!$F$7:$G$141,2,FALSE),\"\")","v":""},null,null,"t",null,null,null,null,null,null,null,null,null,null,null,null,null,null,null,null,null,null,null,null,null,null,null,null,null,null,null,null,null,null,null,null,null,null,null,null,null,null,null,null,null,null,null,null,null,null,null,null,"","",{"$f":"IF(BS1976=\"\",\"\",IF(COUNTIF(BS$4:BS1976,BS1976)=1,ROW(),\"\"))","v":""},{"$f":"IFERROR(INDEX(BS:BS,SMALL(BT:BT,ROW(A1973))),\"\")","v":""},"","","",""]
[{"$f":"IF(F1977<>\"\",事業者基本情報!$E$9&事業者基本情報!$F$9&事業者基本情報!$G$9,\"\")","v":""},{"$f":"IF(F1977<>\"\",事業者基本情報!$Y$10,\"\")","v":""},{"$f":"IF(F1977<>\"\",事業者基本情報!$Y$7,\"\")","v":""},{"$f":"IF(F1977<>\"\",事業者基本情報!$Y$8,\"\")","v":""},{"$f":"IF(F1977<>\"\",事業者基本情報!$E$11&事業者基本情報!$F$11&事業者基本情報!$G$11&事業者基本情報!$H$11&事業者基本情報!$I$11,\"\")","v":""},null,null,null,"市",null,null,"-",null,"-",null,{"$f":"IFERROR(VLOOKUP(Q1977,コード表!$B$3:$C$101,2,FALSE),\"\")","v":""},null,{"$f":"IFERROR(VLOOKUP(S1977,コード表!$F$7:$G$141,2,FALSE),\"\")","v":""},null,null,"t",null,null,null,null,null,null,null,null,null,null,null,null,null,null,null,null,null,null,null,null,null,null,null,null,null,null,null,null,null,null,null,null,null,null,null,null,null,null,null,null,null,null,null,null,null,null,null,null,"","",{"$f":"IF(BS1977=\"\",\"\",IF(COUNTIF(BS$4:BS1977,BS1977)=1,ROW(),\"\"))","v":""},{"$f":"IFERROR(INDEX(BS:BS,SMALL(BT:BT,ROW(A1974))),\"\")","v":""},"","","",""]
[{"$f":"IF(F1978<>\"\",事業者基本情報!$E$9&事業者基本情報!$F$9&事業者基本情報!$G$9,\"\")","v":""},{"$f":"IF(F1978<>\"\",事業者基本情報!$Y$10,\"\")","v":""},{"$f":"IF(F1978<>\"\",事業者基本情報!$Y$7,\"\")","v":""},{"$f":"IF(F1978<>\"\",事業者基本情報!$Y$8,\"\")","v":""},{"$f":"IF(F1978<>\"\",事業者基本情報!$E$11&事業者基本情報!$F$11&事業者基本情報!$G$11&事業者基本情報!$H$11&事業者基本情報!$I$11,\"\")","v":""},null,null,null,"市",null,null,"-",null,"-",null,{"$f":"IFERROR(VLOOKUP(Q1978,コード表!$B$3:$C$101,2,FALSE),\"\")","v":""},null,{"$f":"IFERROR(VLOOKUP(S1978,コード表!$F$7:$G$141,2,FALSE),\"\")","v":""},null,null,"t",null,null,null,null,null,null,null,null,null,null,null,null,null,null,null,null,null,null,null,null,null,null,null,null,null,null,null,null,null,null,null,null,null,null,null,null,null,null,null,null,null,null,null,null,null,null,null,null,"","",{"$f":"IF(BS1978=\"\",\"\",IF(COUNTIF(BS$4:BS1978,BS1978)=1,ROW(),\"\"))","v":""},{"$f":"IFERROR(INDEX(BS:BS,SMALL(BT:BT,ROW(A1975))),\"\")","v":""},"","","",""]
[{"$f":"IF(F1979<>\"\",事業者基本情報!$E$9&事業者基本情報!$F$9&事業者基本情報!$G$9,\"\")","v":""},{"$f":"IF(F1979<>\"\",事業者基本情報!$Y$10,\"\")","v":""},{"$f":"IF(F1979<>\"\",事業者基本情報!$Y$7,\"\")","v":""},{"$f":"IF(F1979<>\"\",事業者基本情報!$Y$8,\"\")","v":""},{"$f":"IF(F1979<>\"\",事業者基本情報!$E$11&事業者基本情報!$F$11&事業者基本情報!$G$11&事業者基本情報!$H$11&事業者基本情報!$I$11,\"\")","v":""},null,null,null,"市",null,null,"-",null,"-",null,{"$f":"IFERROR(VLOOKUP(Q1979,コード表!$B$3:$C$101,2,FALSE),\"\")","v":""},null,{"$f":"IFERROR(VLOOKUP(S1979,コード表!$F$7:$G$141,2,FALSE),\"\")","v":""},null,null,"t",null,null,null,null,null,null,null,null,null,null,null,null,null,null,null,null,null,null,null,null,null,null,null,null,null,null,null,null,null,null,null,null,null,null,null,null,null,null,null,null,null,null,null,null,null,null,null,null,"","",{"$f":"IF(BS1979=\"\",\"\",IF(COUNTIF(BS$4:BS1979,BS1979)=1,ROW(),\"\"))","v":""},{"$f":"IFERROR(INDEX(BS:BS,SMALL(BT:BT,ROW(A1976))),\"\")","v":""},"","","",""]
[{"$f":"IF(F1980<>\"\",事業者基本情報!$E$9&事業者基本情報!$F$9&事業者基本情報!$G$9,\"\")","v":""},{"$f":"IF(F1980<>\"\",事業者基本情報!$Y$10,\"\")","v":""},{"$f":"IF(F1980<>\"\",事業者基本情報!$Y$7,\"\")","v":""},{"$f":"IF(F1980<>\"\",事業者基本情報!$Y$8,\"\")","v":""},{"$f":"IF(F1980<>\"\",事業者基本情報!$E$11&事業者基本情報!$F$11&事業者基本情報!$G$11&事業者基本情報!$H$11&事業者基本情報!$I$11,\"\")","v":""},null,null,null,"市",null,null,"-",null,"-",null,{"$f":"IFERROR(VLOOKUP(Q1980,コード表!$B$3:$C$101,2,FALSE),\"\")","v":""},null,{"$f":"IFERROR(VLOOKUP(S1980,コード表!$F$7:$G$141,2,FALSE),\"\")","v":""},null,null,"t",null,null,null,null,null,null,null,null,null,null,null,null,null,null,null,null,null,null,null,null,null,null,null,null,null,null,null,null,null,null,null,null,null,null,null,null,null,null,null,null,null,null,null,null,null,null,null,null,"","",{"$f":"IF(BS1980=\"\",\"\",IF(COUNTIF(BS$4:BS1980,BS1980)=1,ROW(),\"\"))","v":""},{"$f":"IFERROR(INDEX(BS:BS,SMALL(BT:BT,ROW(A1977))),\"\")","v":""},"","","",""]
[{"$f":"IF(F1981<>\"\",事業者基本情報!$E$9&事業者基本情報!$F$9&事業者基本情報!$G$9,\"\")","v":""},{"$f":"IF(F1981<>\"\",事業者基本情報!$Y$10,\"\")","v":""},{"$f":"IF(F1981<>\"\",事業者基本情報!$Y$7,\"\")","v":""},{"$f":"IF(F1981<>\"\",事業者基本情報!$Y$8,\"\")","v":""},{"$f":"IF(F1981<>\"\",事業者基本情報!$E$11&事業者基本情報!$F$11&事業者基本情報!$G$11&事業者基本情報!$H$11&事業者基本情報!$I$11,\"\")","v":""},null,null,null,"市",null,null,"-",null,"-",null,{"$f":"IFERROR(VLOOKUP(Q1981,コード表!$B$3:$C$101,2,FALSE),\"\")","v":""},null,{"$f":"IFERROR(VLOOKUP(S1981,コード表!$F$7:$G$141,2,FALSE),\"\")","v":""},null,null,"t",null,null,null,null,null,null,null,null,null,null,null,null,null,null,null,null,null,null,null,null,null,null,null,null,null,null,null,null,null,null,null,null,null,null,null,null,null,null,null,null,null,null,null,null,null,null,null,null,"","",{"$f":"IF(BS1981=\"\",\"\",IF(COUNTIF(BS$4:BS1981,BS1981)=1,ROW(),\"\"))","v":""},{"$f":"IFERROR(INDEX(BS:BS,SMALL(BT:BT,ROW(A1978))),\"\")","v":""},"","","",""]
[{"$f":"IF(F1982<>\"\",事業者基本情報!$E$9&事業者基本情報!$F$9&事業者基本情報!$G$9,\"\")","v":""},{"$f":"IF(F1982<>\"\",事業者基本情報!$Y$10,\"\")","v":""},{"$f":"IF(F1982<>\"\",事業者基本情報!$Y$7,\"\")","v":""},{"$f":"IF(F1982<>\"\",事業者基本情報!$Y$8,\"\")","v":""},{"$f":"IF(F1982<>\"\",事業者基本情報!$E$11&事業者基本情報!$F$11&事業者基本情報!$G$11&事業者基本情報!$H$11&事業者基本情報!$I$11,\"\")","v":""},null,null,null,"市",null,null,"-",null,"-",null,{"$f":"IFERROR(VLOOKUP(Q1982,コード表!$B$3:$C$101,2,FALSE),\"\")","v":""},null,{"$f":"IFERROR(VLOOKUP(S1982,コード表!$F$7:$G$141,2,FALSE),\"\")","v":""},null,null,"t",null,null,null,null,null,null,null,null,null,null,null,null,null,null,null,null,null,null,null,null,null,null,null,null,null,null,null,null,null,null,null,null,null,null,null,null,null,null,null,null,null,null,null,null,null,null,null,null,"","",{"$f":"IF(BS1982=\"\",\"\",IF(COUNTIF(BS$4:BS1982,BS1982)=1,ROW(),\"\"))","v":""},{"$f":"IFERROR(INDEX(BS:BS,SMALL(BT:BT,ROW(A1979))),\"\")","v":""},"","","",""]
[{"$f":"IF(F1983<>\"\",事業者基本情報!$E$9&事業者基本情報!$F$9&事業者基本情報!$G$9,\"\")","v":""},{"$f":"IF(F1983<>\"\",事業者基本情報!$Y$10,\"\")","v":""},{"$f":"IF(F1983<>\"\",事業者基本情報!$Y$7,\"\")","v":""},{"$f":"IF(F1983<>\"\",事業者基本情報!$Y$8,\"\")","v":""},{"$f":"IF(F1983<>\"\",事業者基本情報!$E$11&事業者基本情報!$F$11&事業者基本情報!$G$11&事業者基本情報!$H$11&事業者基本情報!$I$11,\"\")","v":""},null,null,null,"市",null,null,"-",null,"-",null,{"$f":"IFERROR(VLOOKUP(Q1983,コード表!$B$3:$C$101,2,FALSE),\"\")","v":""},null,{"$f":"IFERROR(VLOOKUP(S1983,コード表!$F$7:$G$141,2,FALSE),\"\")","v":""},null,null,"t",null,null,null,null,null,null,null,null,null,null,null,null,null,null,null,null,null,null,null,null,null,null,null,null,null,null,null,null,null,null,null,null,null,null,null,null,null,null,null,null,null,null,null,null,null,null,null,null,"","",{"$f":"IF(BS1983=\"\",\"\",IF(COUNTIF(BS$4:BS1983,BS1983)=1,ROW(),\"\"))","v":""},{"$f":"IFERROR(INDEX(BS:BS,SMALL(BT:BT,ROW(A1980))),\"\")","v":""},"","","",""]
[{"$f":"IF(F1984<>\"\",事業者基本情報!$E$9&事業者基本情報!$F$9&事業者基本情報!$G$9,\"\")","v":""},{"$f":"IF(F1984<>\"\",事業者基本情報!$Y$10,\"\")","v":""},{"$f":"IF(F1984<>\"\",事業者基本情報!$Y$7,\"\")","v":""},{"$f":"IF(F1984<>\"\",事業者基本情報!$Y$8,\"\")","v":""},{"$f":"IF(F1984<>\"\",事業者基本情報!$E$11&事業者基本情報!$F$11&事業者基本情報!$G$11&事業者基本情報!$H$11&事業者基本情報!$I$11,\"\")","v":""},null,null,null,"市",null,null,"-",null,"-",null,{"$f":"IFERROR(VLOOKUP(Q1984,コード表!$B$3:$C$101,2,FALSE),\"\")","v":""},null,{"$f":"IFERROR(VLOOKUP(S1984,コード表!$F$7:$G$141,2,FALSE),\"\")","v":""},null,null,"t",null,null,null,null,null,null,null,null,null,null,null,null,null,null,null,null,null,null,null,null,null,null,null,null,null,null,null,null,null,null,null,null,null,null,null,null,null,null,null,null,null,null,null,null,null,null,null,null,"","",{"$f":"IF(BS1984=\"\",\"\",IF(COUNTIF(BS$4:BS1984,BS1984)=1,ROW(),\"\"))","v":""},{"$f":"IFERROR(INDEX(BS:BS,SMALL(BT:BT,ROW(A1981))),\"\")","v":""},"","","",""]
[{"$f":"IF(F1985<>\"\",事業者基本情報!$E$9&事業者基本情報!$F$9&事業者基本情報!$G$9,\"\")","v":""},{"$f":"IF(F1985<>\"\",事業者基本情報!$Y$10,\"\")","v":""},{"$f":"IF(F1985<>\"\",事業者基本情報!$Y$7,\"\")","v":""},{"$f":"IF(F1985<>\"\",事業者基本情報!$Y$8,\"\")","v":""},{"$f":"IF(F1985<>\"\",事業者基本情報!$E$11&事業者基本情報!$F$11&事業者基本情報!$G$11&事業者基本情報!$H$11&事業者基本情報!$I$11,\"\")","v":""},null,null,null,"市",null,null,"-",null,"-",null,{"$f":"IFERROR(VLOOKUP(Q1985,コード表!$B$3:$C$101,2,FALSE),\"\")","v":""},null,{"$f":"IFERROR(VLOOKUP(S1985,コード表!$F$7:$G$141,2,FALSE),\"\")","v":""},null,null,"t",null,null,null,null,null,null,null,null,null,null,null,null,null,null,null,null,null,null,null,null,null,null,null,null,null,null,null,null,null,null,null,null,null,null,null,null,null,null,null,null,null,null,null,null,null,null,null,null,"","",{"$f":"IF(BS1985=\"\",\"\",IF(COUNTIF(BS$4:BS1985,BS1985)=1,ROW(),\"\"))","v":""},{"$f":"IFERROR(INDEX(BS:BS,SMALL(BT:BT,ROW(A1982))),\"\")","v":""},"","","",""]
[{"$f":"IF(F1986<>\"\",事業者基本情報!$E$9&事業者基本情報!$F$9&事業者基本情報!$G$9,\"\")","v":""},{"$f":"IF(F1986<>\"\",事業者基本情報!$Y$10,\"\")","v":""},{"$f":"IF(F1986<>\"\",事業者基本情報!$Y$7,\"\")","v":""},{"$f":"IF(F1986<>\"\",事業者基本情報!$Y$8,\"\")","v":""},{"$f":"IF(F1986<>\"\",事業者基本情報!$E$11&事業者基本情報!$F$11&事業者基本情報!$G$11&事業者基本情報!$H$11&事業者基本情報!$I$11,\"\")","v":""},null,null,null,"市",null,null,"-",null,"-",null,{"$f":"IFERROR(VLOOKUP(Q1986,コード表!$B$3:$C$101,2,FALSE),\"\")","v":""},null,{"$f":"IFERROR(VLOOKUP(S1986,コード表!$F$7:$G$141,2,FALSE),\"\")","v":""},null,null,"t",null,null,null,null,null,null,null,null,null,null,null,null,null,null,null,null,null,null,null,null,null,null,null,null,null,null,null,null,null,null,null,null,null,null,null,null,null,null,null,null,null,null,null,null,null,null,null,null,"","",{"$f":"IF(BS1986=\"\",\"\",IF(COUNTIF(BS$4:BS1986,BS1986)=1,ROW(),\"\"))","v":""},{"$f":"IFERROR(INDEX(BS:BS,SMALL(BT:BT,ROW(A1983))),\"\")","v":""},"","","",""]
[{"$f":"IF(F1987<>\"\",事業者基本情報!$E$9&事業者基本情報!$F$9&事業者基本情報!$G$9,\"\")","v":""},{"$f":"IF(F1987<>\"\",事業者基本情報!$Y$10,\"\")","v":""},{"$f":"IF(F1987<>\"\",事業者基本情報!$Y$7,\"\")","v":""},{"$f":"IF(F1987<>\"\",事業者基本情報!$Y$8,\"\")","v":""},{"$f":"IF(F1987<>\"\",事業者基本情報!$E$11&事業者基本情報!$F$11&事業者基本情報!$G$11&事業者基本情報!$H$11&事業者基本情報!$I$11,\"\")","v":""},null,null,null,"市",null,null,"-",null,"-",null,{"$f":"IFERROR(VLOOKUP(Q1987,コード表!$B$3:$C$101,2,FALSE),\"\")","v":""},null,{"$f":"IFERROR(VLOOKUP(S1987,コード表!$F$7:$G$141,2,FALSE),\"\")","v":""},null,null,"t",null,null,null,null,null,null,null,null,null,null,null,null,null,null,null,null,null,null,null,null,null,null,null,null,null,null,null,null,null,null,null,null,null,null,null,null,null,null,null,null,null,null,null,null,null,null,null,null,"","",{"$f":"IF(BS1987=\"\",\"\",IF(COUNTIF(BS$4:BS1987,BS1987)=1,ROW(),\"\"))","v":""},{"$f":"IFERROR(INDEX(BS:BS,SMALL(BT:BT,ROW(A1984))),\"\")","v":""},"","","",""]
[{"$f":"IF(F1988<>\"\",事業者基本情報!$E$9&事業者基本情報!$F$9&事業者基本情報!$G$9,\"\")","v":""},{"$f":"IF(F1988<>\"\",事業者基本情報!$Y$10,\"\")","v":""},{"$f":"IF(F1988<>\"\",事業者基本情報!$Y$7,\"\")","v":""},{"$f":"IF(F1988<>\"\",事業者基本情報!$Y$8,\"\")","v":""},{"$f":"IF(F1988<>\"\",事業者基本情報!$E$11&事業者基本情報!$F$11&事業者基本情報!$G$11&事業者基本情報!$H$11&事業者基本情報!$I$11,\"\")","v":""},null,null,null,"市",null,null,"-",null,"-",null,{"$f":"IFERROR(VLOOKUP(Q1988,コード表!$B$3:$C$101,2,FALSE),\"\")","v":""},null,{"$f":"IFERROR(VLOOKUP(S1988,コード表!$F$7:$G$141,2,FALSE),\"\")","v":""},null,null,"t",null,null,null,null,null,null,null,null,null,null,null,null,null,null,null,null,null,null,null,null,null,null,null,null,null,null,null,null,null,null,null,null,null,null,null,null,null,null,null,null,null,null,null,null,null,null,null,null,{"$f":"IFERROR(IF(TRIM(F1988)=\"\",\"\",IF(AND(VALUE(TRIM(R1988))>=100000,VALUE(TRIM(R1988))<7000000),\"普通産廃\",IF(AND(VALUE(TRIM(R1988))>=7000000,VALUE(TRIM(R1988))<9000000),\"特別産廃\",\"\"))),\"\")","v":""},{"$f":"IF(BR1988<>\"\",TRIM(F1988)&\"(\"&BR1988&\")\",\"\")","v":""},{"$f":"IF(BS1988=\"\",\"\",IF(COUNTIF(BS$4:BS1988,BS1988)=1,ROW(),\"\"))","v":""},{"$f":"IFERROR(INDEX(BS:BS,SMALL(BT:BT,ROW(A1985))),\"\")","v":""},{"$f":"IF(BU1988=\"\",\"\",IF(SUMIF(BS:BS,BU1988,T:T)=0,\"\",SUMIF(BS:BS,BU1988,T:T)))","v":""},{"$f":"IF(AS1988<>\"\",AS1988,IF(AO1988<>\"\",AO1988,IF(AK1988<>\"\",AK1988,IF(AG1988<>\"\",AG1988,IF(Y1988<>\"\",Y1988,\"\")))))","v":""},"",{"$f":"IF(F1988&G1988&H1988&J1988&K1988&M1988&O1988&Q1988&S1988&T1988&V1988&W1988&X1988&Y1988&Z1988&AA1988&AB1988&AC1988&AD1988&AE1988&AF1988&AG1988&AH1988&AI1988&AJ1988&AK1988&AL1988&AM1988&AN1988&AO1988&AP1988&AQ1988&AR1988&AS1988&AT1988=\"\",\"\",1)","v":""}]
[{"$f":"IF(F1989<>\"\",事業者基本情報!$E$9&事業者基本情報!$F$9&事業者基本情報!$G$9,\"\")","v":""},{"$f":"IF(F1989<>\"\",事業者基本情報!$Y$10,\"\")","v":""},{"$f":"IF(F1989<>\"\",事業者基本情報!$Y$7,\"\")","v":""},{"$f":"IF(F1989<>\"\",事業者基本情報!$Y$8,\"\")","v":""},{"$f":"IF(F1989<>\"\",事業者基本情報!$E$11&事業者基本情報!$F$11&事業者基本情報!$G$11&事業者基本情報!$H$11&事業者基本情報!$I$11,\"\")","v":""},null,null,null,"市",null,null,"-",null,"-",null,{"$f":"IFERROR(VLOOKUP(Q1989,コード表!$B$3:$C$101,2,FALSE),\"\")","v":""},null,{"$f":"IFERROR(VLOOKUP(S1989,コード表!$F$7:$G$141,2,FALSE),\"\")","v":""},null,null,"t",null,null,null,null,null,null,null,null,null,null,null,null,null,null,null,null,null,null,null,null,null,null,null,null,null,null,null,null,null,null,null,null,null,null,null,null,null,null,null,null,null,null,null,null,null,null,null,null,"","",{"$f":"IF(BS1989=\"\",\"\",IF(COUNTIF(BS$4:BS1989,BS1989)=1,ROW(),\"\"))","v":""},{"$f":"IFERROR(INDEX(BS:BS,SMALL(BT:BT,ROW(A1986))),\"\")","v":""},"","","",""]
[{"$f":"IF(F1990<>\"\",事業者基本情報!$E$9&事業者基本情報!$F$9&事業者基本情報!$G$9,\"\")","v":""},{"$f":"IF(F1990<>\"\",事業者基本情報!$Y$10,\"\")","v":""},{"$f":"IF(F1990<>\"\",事業者基本情報!$Y$7,\"\")","v":""},{"$f":"IF(F1990<>\"\",事業者基本情報!$Y$8,\"\")","v":""},{"$f":"IF(F1990<>\"\",事業者基本情報!$E$11&事業者基本情報!$F$11&事業者基本情報!$G$11&事業者基本情報!$H$11&事業者基本情報!$I$11,\"\")","v":""},null,null,null,"市",null,null,"-",null,"-",null,{"$f":"IFERROR(VLOOKUP(Q1990,コード表!$B$3:$C$101,2,FALSE),\"\")","v":""},null,{"$f":"IFERROR(VLOOKUP(S1990,コード表!$F$7:$G$141,2,FALSE),\"\")","v":""},null,null,"t",null,null,null,null,null,null,null,null,null,null,null,null,null,null,null,null,null,null,null,null,null,null,null,null,null,null,null,null,null,null,null,null,null,null,null,null,null,null,null,null,null,null,null,null,null,null,null,null,"","",{"$f":"IF(BS1990=\"\",\"\",IF(COUNTIF(BS$4:BS1990,BS1990)=1,ROW(),\"\"))","v":""},{"$f":"IFERROR(INDEX(BS:BS,SMALL(BT:BT,ROW(A1987))),\"\")","v":""},"","","",""]
[{"$f":"IF(F1991<>\"\",事業者基本情報!$E$9&事業者基本情報!$F$9&事業者基本情報!$G$9,\"\")","v":""},{"$f":"IF(F1991<>\"\",事業者基本情報!$Y$10,\"\")","v":""},{"$f":"IF(F1991<>\"\",事業者基本情報!$Y$7,\"\")","v":""},{"$f":"IF(F1991<>\"\",事業者基本情報!$Y$8,\"\")","v":""},{"$f":"IF(F1991<>\"\",事業者基本情報!$E$11&事業者基本情報!$F$11&事業者基本情報!$G$11&事業者基本情報!$H$11&事業者基本情報!$I$11,\"\")","v":""},null,null,null,"市",null,null,"-",null,"-",null,{"$f":"IFERROR(VLOOKUP(Q1991,コード表!$B$3:$C$101,2,FALSE),\"\")","v":""},null,{"$f":"IFERROR(VLOOKUP(S1991,コード表!$F$7:$G$141,2,FALSE),\"\")","v":""},null,null,"t",null,null,null,null,null,null,null,null,null,null,null,null,null,null,null,null,null,null,null,null,null,null,null,null,null,null,null,null,null,null,null,null,null,null,null,null,null,null,null,null,null,null,null,null,null,null,null,null,"","",{"$f":"IF(BS1991=\"\",\"\",IF(COUNTIF(BS$4:BS1991,BS1991)=1,ROW(),\"\"))","v":""},{"$f":"IFERROR(INDEX(BS:BS,SMALL(BT:BT,ROW(A1988))),\"\")","v":""},"","","",""]
[{"$f":"IF(F1992<>\"\",事業者基本情報!$E$9&事業者基本情報!$F$9&事業者基本情報!$G$9,\"\")","v":""},{"$f":"IF(F1992<>\"\",事業者基本情報!$Y$10,\"\")","v":""},{"$f":"IF(F1992<>\"\",事業者基本情報!$Y$7,\"\")","v":""},{"$f":"IF(F1992<>\"\",事業者基本情報!$Y$8,\"\")","v":""},{"$f":"IF(F1992<>\"\",事業者基本情報!$E$11&事業者基本情報!$F$11&事業者基本情報!$G$11&事業者基本情報!$H$11&事業者基本情報!$I$11,\"\")","v":""},null,null,null,"市",null,null,"-",null,"-",null,{"$f":"IFERROR(VLOOKUP(Q1992,コード表!$B$3:$C$101,2,FALSE),\"\")","v":""},null,{"$f":"IFERROR(VLOOKUP(S1992,コード表!$F$7:$G$141,2,FALSE),\"\")","v":""},null,null,"t",null,null,null,null,null,null,null,null,null,null,null,null,null,null,null,null,null,null,null,null,null,null,null,null,null,null,null,null,null,null,null,null,null,null,null,null,null,null,null,null,null,null,null,null,null,null,null,null,"","",{"$f":"IF(BS1992=\"\",\"\",IF(COUNTIF(BS$4:BS1992,BS1992)=1,ROW(),\"\"))","v":""},{"$f":"IFERROR(INDEX(BS:BS,SMALL(BT:BT,ROW(A1989))),\"\")","v":""},"","","",""]
[{"$f":"IF(F1993<>\"\",事業者基本情報!$E$9&事業者基本情報!$F$9&事業者基本情報!$G$9,\"\")","v":""},{"$f":"IF(F1993<>\"\",事業者基本情報!$Y$10,\"\")","v":""},{"$f":"IF(F1993<>\"\",事業者基本情報!$Y$7,\"\")","v":""},{"$f":"IF(F1993<>\"\",事業者基本情報!$Y$8,\"\")","v":""},{"$f":"IF(F1993<>\"\",事業者基本情報!$E$11&事業者基本情報!$F$11&事業者基本情報!$G$11&事業者基本情報!$H$11&事業者基本情報!$I$11,\"\")","v":""},null,null,null,"市",null,null,"-",null,"-",null,{"$f":"IFERROR(VLOOKUP(Q1993,コード表!$B$3:$C$101,2,FALSE),\"\")","v":""},null,{"$f":"IFERROR(VLOOKUP(S1993,コード表!$F$7:$G$141,2,FALSE),\"\")","v":""},null,null,"t",null,null,null,null,null,null,null,null,null,null,null,null,null,null,null,null,null,null,null,null,null,null,null,null,null,null,null,null,null,null,null,null,null,null,null,null,null,null,null,null,null,null,null,null,null,null,null,null,"","",{"$f":"IF(BS1993=\"\",\"\",IF(COUNTIF(BS$4:BS1993,BS1993)=1,ROW(),\"\"))","v":""},{"$f":"IFERROR(INDEX(BS:BS,SMALL(BT:BT,ROW(A1990))),\"\")","v":""},"","","",""]
[{"$f":"IF(F1994<>\"\",事業者基本情報!$E$9&事業者基本情報!$F$9&事業者基本情報!$G$9,\"\")","v":""},{"$f":"IF(F1994<>\"\",事業者基本情報!$Y$10,\"\")","v":""},{"$f":"IF(F1994<>\"\",事業者基本情報!$Y$7,\"\")","v":""},{"$f":"IF(F1994<>\"\",事業者基本情報!$Y$8,\"\")","v":""},{"$f":"IF(F1994<>\"\",事業者基本情報!$E$11&事業者基本情報!$F$11&事業者基本情報!$G$11&事業者基本情報!$H$11&事業者基本情報!$I$11,\"\")","v":""},null,null,null,"市",null,null,"-",null,"-",null,{"$f":"IFERROR(VLOOKUP(Q1994,コード表!$B$3:$C$101,2,FALSE),\"\")","v":""},null,{"$f":"IFERROR(VLOOKUP(S1994,コード表!$F$7:$G$141,2,FALSE),\"\")","v":""},null,null,"t",null,null,null,null,null,null,null,null,null,null,null,null,null,null,null,null,null,null,null,null,null,null,null,null,null,null,null,null,null,null,null,null,null,null,null,null,null,null,null,null,null,null,null,null,null,null,null,null,"","",{"$f":"IF(BS1994=\"\",\"\",IF(COUNTIF(BS$4:BS1994,BS1994)=1,ROW(),\"\"))","v":""},{"$f":"IFERROR(INDEX(BS:BS,SMALL(BT:BT,ROW(A1991))),\"\")","v":""},"","","",""]
[{"$f":"IF(F1995<>\"\",事業者基本情報!$E$9&事業者基本情報!$F$9&事業者基本情報!$G$9,\"\")","v":""},{"$f":"IF(F1995<>\"\",事業者基本情報!$Y$10,\"\")","v":""},{"$f":"IF(F1995<>\"\",事業者基本情報!$Y$7,\"\")","v":""},{"$f":"IF(F1995<>\"\",事業者基本情報!$Y$8,\"\")","v":""},{"$f":"IF(F1995<>\"\",事業者基本情報!$E$11&事業者基本情報!$F$11&事業者基本情報!$G$11&事業者基本情報!$H$11&事業者基本情報!$I$11,\"\")","v":""},null,null,null,"市",null,null,"-",null,"-",null,{"$f":"IFERROR(VLOOKUP(Q1995,コード表!$B$3:$C$101,2,FALSE),\"\")","v":""},null,{"$f":"IFERROR(VLOOKUP(S1995,コード表!$F$7:$G$141,2,FALSE),\"\")","v":""},null,null,"t",null,null,null,null,null,null,null,null,null,null,null,null,null,null,null,null,null,null,null,null,null,null,null,null,null,null,null,null,null,null,null,null,null,null,null,null,null,null,null,null,null,null,null,null,null,null,null,null,"","",{"$f":"IF(BS1995=\"\",\"\",IF(COUNTIF(BS$4:BS1995,BS1995)=1,ROW(),\"\"))","v":""},{"$f":"IFERROR(INDEX(BS:BS,SMALL(BT:BT,ROW(A1992))),\"\")","v":""},"","","",""]
[{"$f":"IF(F1996<>\"\",事業者基本情報!$E$9&事業者基本情報!$F$9&事業者基本情報!$G$9,\"\")","v":""},{"$f":"IF(F1996<>\"\",事業者基本情報!$Y$10,\"\")","v":""},{"$f":"IF(F1996<>\"\",事業者基本情報!$Y$7,\"\")","v":""},{"$f":"IF(F1996<>\"\",事業者基本情報!$Y$8,\"\")","v":""},{"$f":"IF(F1996<>\"\",事業者基本情報!$E$11&事業者基本情報!$F$11&事業者基本情報!$G$11&事業者基本情報!$H$11&事業者基本情報!$I$11,\"\")","v":""},null,null,null,"市",null,null,"-",null,"-",null,{"$f":"IFERROR(VLOOKUP(Q1996,コード表!$B$3:$C$101,2,FALSE),\"\")","v":""},null,{"$f":"IFERROR(VLOOKUP(S1996,コード表!$F$7:$G$141,2,FALSE),\"\")","v":""},null,null,"t",null,null,null,null,null,null,null,null,null,null,null,null,null,null,null,null,null,null,null,null,null,null,null,null,null,null,null,null,null,null,null,null,null,null,null,null,null,null,null,null,null,null,null,null,null,null,null,null,"","",{"$f":"IF(BS1996=\"\",\"\",IF(COUNTIF(BS$4:BS1996,BS1996)=1,ROW(),\"\"))","v":""},{"$f":"IFERROR(INDEX(BS:BS,SMALL(BT:BT,ROW(A1993))),\"\")","v":""},"","","",""]
[{"$f":"IF(F1997<>\"\",事業者基本情報!$E$9&事業者基本情報!$F$9&事業者基本情報!$G$9,\"\")","v":""},{"$f":"IF(F1997<>\"\",事業者基本情報!$Y$10,\"\")","v":""},{"$f":"IF(F1997<>\"\",事業者基本情報!$Y$7,\"\")","v":""},{"$f":"IF(F1997<>\"\",事業者基本情報!$Y$8,\"\")","v":""},{"$f":"IF(F1997<>\"\",事業者基本情報!$E$11&事業者基本情報!$F$11&事業者基本情報!$G$11&事業者基本情報!$H$11&事業者基本情報!$I$11,\"\")","v":""},null,null,null,"市",null,null,"-",null,"-",null,{"$f":"IFERROR(VLOOKUP(Q1997,コード表!$B$3:$C$101,2,FALSE),\"\")","v":""},null,{"$f":"IFERROR(VLOOKUP(S1997,コード表!$F$7:$G$141,2,FALSE),\"\")","v":""},null,null,"t",null,null,null,null,null,null,null,null,null,null,null,null,null,null,null,null,null,null,null,null,null,null,null,null,null,null,null,null,null,null,null,null,null,null,null,null,null,null,null,null,null,null,null,null,null,null,null,null,"","",{"$f":"IF(BS1997=\"\",\"\",IF(COUNTIF(BS$4:BS1997,BS1997)=1,ROW(),\"\"))","v":""},{"$f":"IFERROR(INDEX(BS:BS,SMALL(BT:BT,ROW(A1994))),\"\")","v":""},"","","",""]
[{"$f":"IF(F1998<>\"\",事業者基本情報!$E$9&事業者基本情報!$F$9&事業者基本情報!$G$9,\"\")","v":""},{"$f":"IF(F1998<>\"\",事業者基本情報!$Y$10,\"\")","v":""},{"$f":"IF(F1998<>\"\",事業者基本情報!$Y$7,\"\")","v":""},{"$f":"IF(F1998<>\"\",事業者基本情報!$Y$8,\"\")","v":""},{"$f":"IF(F1998<>\"\",事業者基本情報!$E$11&事業者基本情報!$F$11&事業者基本情報!$G$11&事業者基本情報!$H$11&事業者基本情報!$I$11,\"\")","v":""},null,null,null,"市",null,null,"-",null,"-",null,{"$f":"IFERROR(VLOOKUP(Q1998,コード表!$B$3:$C$101,2,FALSE),\"\")","v":""},null,{"$f":"IFERROR(VLOOKUP(S1998,コード表!$F$7:$G$141,2,FALSE),\"\")","v":""},null,null,"t",null,null,null,null,null,null,null,null,null,null,null,null,null,null,null,null,null,null,null,null,null,null,null,null,null,null,null,null,null,null,null,null,null,null,null,null,null,null,null,null,null,null,null,null,null,null,null,null,"","",{"$f":"IF(BS1998=\"\",\"\",IF(COUNTIF(BS$4:BS1998,BS1998)=1,ROW(),\"\"))","v":""},{"$f":"IFERROR(INDEX(BS:BS,SMALL(BT:BT,ROW(A1995))),\"\")","v":""},"","","",""]
[{"$f":"IF(F1999<>\"\",事業者基本情報!$E$9&事業者基本情報!$F$9&事業者基本情報!$G$9,\"\")","v":""},{"$f":"IF(F1999<>\"\",事業者基本情報!$Y$10,\"\")","v":""},{"$f":"IF(F1999<>\"\",事業者基本情報!$Y$7,\"\")","v":""},{"$f":"IF(F1999<>\"\",事業者基本情報!$Y$8,\"\")","v":""},{"$f":"IF(F1999<>\"\",事業者基本情報!$E$11&事業者基本情報!$F$11&事業者基本情報!$G$11&事業者基本情報!$H$11&事業者基本情報!$I$11,\"\")","v":""},null,null,null,"市",null,null,"-",null,"-",null,{"$f":"IFERROR(VLOOKUP(Q1999,コード表!$B$3:$C$101,2,FALSE),\"\")","v":""},null,{"$f":"IFERROR(VLOOKUP(S1999,コード表!$F$7:$G$141,2,FALSE),\"\")","v":""},null,null,"t",null,null,null,null,null,null,null,null,null,null,null,null,null,null,null,null,null,null,null,null,null,null,null,null,null,null,null,null,null,null,null,null,null,null,null,null,null,null,null,null,null,null,null,null,null,null,null,null,"","",{"$f":"IF(BS1999=\"\",\"\",IF(COUNTIF(BS$4:BS1999,BS1999)=1,ROW(),\"\"))","v":""},{"$f":"IFERROR(INDEX(BS:BS,SMALL(BT:BT,ROW(A1996))),\"\")","v":""},"","","",""]
[{"$f":"IF(F2000<>\"\",事業者基本情報!$E$9&事業者基本情報!$F$9&事業者基本情報!$G$9,\"\")","v":""},{"$f":"IF(F2000<>\"\",事業者基本情報!$Y$10,\"\")","v":""},{"$f":"IF(F2000<>\"\",事業者基本情報!$Y$7,\"\")","v":""},{"$f":"IF(F2000<>\"\",事業者基本情報!$Y$8,\"\")","v":""},{"$f":"IF(F2000<>\"\",事業者基本情報!$E$11&事業者基本情報!$F$11&事業者基本情報!$G$11&事業者基本情報!$H$11&事業者基本情報!$I$11,\"\")","v":""},null,null,null,"市",null,null,"-",null,"-",null,{"$f":"IFERROR(VLOOKUP(Q2000,コード表!$B$3:$C$101,2,FALSE),\"\")","v":""},null,{"$f":"IFERROR(VLOOKUP(S2000,コード表!$F$7:$G$141,2,FALSE),\"\")","v":""},null,null,"t",null,null,null,null,null,null,null,null,null,null,null,null,null,null,null,null,null,null,null,null,null,null,null,null,null,null,null,null,null,null,null,null,null,null,null,null,null,null,null,null,null,null,null,null,null,null,null,null,"","",{"$f":"IF(BS2000=\"\",\"\",IF(COUNTIF(BS$4:BS2000,BS2000)=1,ROW(),\"\"))","v":""},{"$f":"IFERROR(INDEX(BS:BS,SMALL(BT:BT,ROW(A1997))),\"\")","v":""},"","","",""]

{"sheet":"様式第６号_本紙","index":10,"n_rows":40,"n_cols":56,"rows_kept":40,"cut":false,"hidden":true,"merged":[[1,0,1,14],[1,52,1,55],[5,11,5,13],[6,0,6,2],[8,9,8,13],[10,9,10,13],[11,9,11,13],[12,9,12,12],[13,10,13,12],[15,0,15,6],[16,0,16,4],[17,3,17,6],[17,7,17,13],[18,9,18,10],[18,11,18,12],[19,9,19,10],[19,11,19,12],[20,9,20,10],[20,11,20,12],[21,9,21,10],[21,11,21,12],[22,9,22,10],[22,11,22,12],[23,9,23,10],[23,11,23,12],[24,9,24,10],[24,11,24,12],[25,9,25,10],[25,11,25,12],[26,9,26,10],[26,11,26,12],[27,9,27,10],[27,11,27,12],[28,9,28,10],[28,11,28,12],[29,9,29,10],[29,11,29,12],[30,9,30,10],[30,11,30,12],[31,9,31,10],[31,11,31,12],[34,0,34,13],[35,0,35,13],[36,0,36,13],[38,0,38,13],[2,13,3,14],[19,0,24,0],[25,0,30,0],[3,54,12,54],[3,55,12,55]]}
["H","I",1,"N"]
["様式第６号（第15条関係）（用紙　日本工業規格Ａ４横型）",null,null,null,null,null,null,null,null,null,null,null,null,null,null,null,null,null,null,null,null,null,null,null,{"$f":"A20","v":"行った場合"},null,null,"燃えがら",null,null,null,null,null,null,null,null,null,null,null,null,null,null,null,null,null,null,null,null,null,null,null,null,"行追加用T"]
[null,null,null,null,null,null,null,null,null,null,null,null,null,null,null,null,null,null,null,null,null,null,null,null,{"$f":"A26","v":"行わなかった場合"},null,"産業廃棄物","汚泥",null,null,null,null,null,null,null,null,null,null,null,null,null,null,null,null,null,null,null,null,null,null,null,null,"開始行","終了行","行追加用T\n最終行","削除不可\n最低行数"]
[null,null,"産業廃棄物 運搬状況報告書",null,null,null,null,null,null,null,null,null,null,null,null,null,null,null,null,null,null,null,null,null,null,null,"特別管理産業廃棄物","廃油",null,null,null,null,null,null,null,null,null,null,null,null,null,null,null,null,null,null,null,null,null,null,null,null,24,{"$f":"BA4","v":24},{"$f":"COUNTA(BA4:BA13)","v":2},24]
[null,null,null,null,null,null,null,null,null,null,null,null,null,null,null,null,null,null,null,null,null,null,null,null,null,null,null,"廃酸",null,null,null,null,null,null,null,null,null,null,null,null,null,null,null,null,null,null,null,null,null,null,null,null,30,{"$f":"BA5","v":30}]
[null,null,null,null,null,null,null,null,null,null,null,{"$f":"IFERROR(DATEVALUE(事業者基本情報!E5&事業者基本情報!F5&事業者基本情報!G5&事業者基本情報!H5&事業者基本情報!I5&事業者基本情報!J5),\"\")","v":""},null,null,null,null,null,null,null,null,null,null,null,null,null,null,null,"廃アルカリ"]
["　静岡県知事 様",null,null,null,null,null,null,null,null,null,null,null,null,null,null,null,null,null,null,null,null,null,null,null,null,null,null,"廃プラスチック類"]
[null,null,null,null,null,null,null,null,null,null,null,null,null,null,null,null,null,null,null,null,null,null,null,null,null,null,null,"紙くず"]
[null,null,null,null,null,null,null,null,"住　所",{"$f":"事業者基本情報!E9&事業者基本情報!F9&事業者基本情報!G9&CHAR(10)&事業者基本情報!E10&事業者基本情報!F10","v":"-\n静岡県"},null,null,null,null,null,null,null,null,null,null,null,null,null,null,null,null,null,"木くず"]
[null,null,null,null,null,null,null,null,null,null,null,null,null,null,null,null,null,null,null,null,null,null,null,null,null,null,null,"繊維くず"]
[null,null,null,null,null,null,null,null,"氏　名",{"$f":"事業者基本情報!Y7","v":""},null,null,null,null,null,null,null,null,null,null,null,null,null,null,null,null,null,"動植物性残さ"]
[null,null,null,null,null,null,null,null,null,{"$f":"IF(事業者基本情報!Y7=事業者基本情報!Y8,\"\",事業者基本情報!Y8)","v":""},null,null,null,null,null,null,null,null,null,null,null,null,null,null,null,null,null,"ゴムくず"]
[null,null,null,null,null,null,null,null,"電話番号",{"$f":"事業者基本情報!E11&事業者基本情報!F11&事業者基本情報!G11&事業者基本情報!H11&事業者基本情報!I11","v":"--"},null,null,null,null,null,null,null,null,null,null,null,null,null,null,null,null,null,"金属くず"]
[null,null,null,null,null,null,null,null,"許可番号","022",null,null,null,null,null,null,null,null,null,null,null,null,null,null,null,null,null,"ガラス・コンクリート・陶磁器くず"]
["　　　　　",null,null,null,null,null,null,null,null,null,null,null,null,null,null,null,null,null,null,null,null,null,null,null,null,null,null,"鉱さい"]
["　静岡県産業廃棄物の適正な処理に関する条例第17条第１項の規定により、",null,null,null,null,null,null,{"$f":"事業者基本情報!E4&事業者基本情報!F4+1","v":"令和8"},"　年３月31日以前の１年間における 産業廃棄物 の運搬状況",null,null,null,null,null,null,null,null,null,null,null,null,null,null,null,null,null,null,"がれき類"]
["について、次のとおり報告します。",null,null,null,null,null,null,null,null,null,null,null,null,null,null,null,null,null,null,null,null,null,null,null,null,null,null,"家畜のふん尿"]
["保管","種類","運搬量","報告者に運搬を委託した者",null,null,null,"報告者が産業廃棄物又は特別管理産業廃棄物を引き渡した者",null,null,null,null,null,null,null,null,null,null,null,null,null,null,null,null,null,null,null,"家畜の死体"]
[null,null,"（ｔ）","許可番号","氏名又は\n名称","住所又は\n所在地","受託量\n（ｔ）","許可番号","氏名又は\n名称","住所又は\n所在地",null,"引渡量（ｔ）",null,"備考",null,null,null,null,null,null,null,null,null,null,null,null,null,"ばいじん"]
["行った場合",null,null,null,null,null,null,null,null,null,null,null,null,null,null,null,null,null,null,null,null,null,null,null,null,{"$f":"_xlfn.IFS(B20=\"\",\"*\",B20=\"小計\",\"*\",TRUE,IF($Y$2=\"行った場合\",\"1\",\"0\"))","v":"*"},null,"１３号廃棄物",null,null,null,null,null,null,null,null,null,null,null,null,null,null,null,null,null,null,{"$f":"C20","v":0},{"$f":"G20","v":0},{"$f":"L20","v":0}]
[null,null,null,null,null,null,null,null,null,null,null,null,null,null,null,null,null,null,null,null,null,null,null,null,null,{"$f":"_xlfn.IFS(B21=\"\",\"*\",B21=\"小計\",\"*\",TRUE,IF($Y$2=\"行った場合\",\"1\",\"0\"))","v":"*"},null,null,null,null,null,null,null,null,null,null,null,null,null,null,null,null,null,null,null,null,{"$f":"C21","v":0},{"$f":"G21","v":0},{"$f":"L21","v":0}]
[null,null,null,null,null,null,null,null,null,null,null,null,null,null,null,null,null,null,null,null,null,null,null,null,null,{"$f":"_xlfn.IFS(B22=\"\",\"*\",B22=\"小計\",\"*\",TRUE,IF($Y$2=\"行った場合\",\"1\",\"0\"))","v":"*"},null,null,null,null,null,null,null,null,null,null,null,null,null,null,null,null,null,null,null,null,{"$f":"C22","v":0},{"$f":"G22","v":0},{"$f":"L22","v":0}]
[null,null,null,null,null,null,null,null,null,null,null,null,null,null,null,null,null,null,null,null,null,null,null,null,null,{"$f":"_xlfn.IFS(B23=\"\",\"*\",B23=\"小計\",\"*\",TRUE,IF($Y$2=\"行った場合\",\"1\",\"0\"))","v":"*"},null,null,null,null,null,null,null,null,null,null,null,null,null,null,null,null,null,null,null,null,{"$f":"C23","v":0},{"$f":"G23","v":0},{"$f":"L23","v":0}]
[null,null,null,null,null,null,null,null,null,null,null,null,null,null,null,null,null,null,null,null,null,null,null,null,null,{"$f":"_xlfn.IFS(B24=\"\",\"*\",B24=\"小計\",\"*\",TRUE,IF($Y$2=\"行った場合\",\"1\",\"0\"))","v":"*"},null,null,null,null,null,null,null,null,null,null,null,null,null,null,null,null,null,null,null,null,{"$f":"C24","v":0},{"$f":"G24","v":0},{"$f":"L24","v":0}]
[null,"小計",{"$f":"SUM(AU:AU)","v":0},"―","―","―",{"$f":"SUM(AV:AV)","v":0},"―","―","―",null,{"$f":"SUM(AW:AW)","v":0},null,"―",null,null,null,null,null,null,null,null,null,null,null,{"$f":"_xlfn.IFS(B25=\"\",\"*\",B25=\"小計\",\"*\",TRUE,IF($Y$2=\"行った場合\",\"1\",\"0\"))","v":"*"}]
["行わなかった場合",null,null,null,null,null,null,null,null,null,null,null,null,null,null,null,null,null,null,null,null,null,null,null,null,{"$f":"_xlfn.IFS(B26=\"\",\"*\",B26=\"小計\",\"*\",TRUE,IF($Y$3=\"行った場合\",\"1\",\"0\"))","v":"*"},null,null,null,null,null,null,null,null,null,null,null,null,null,null,null,null,null,null,null,null,null,null,null,{"$f":"C26","v":0},{"$f":"G26","v":0},{"$f":"L26","v":0}]
[null,null,null,null,null,null,null,null,null,null,null,null,null,null,null,null,null,null,null,null,null,null,null,null,null,{"$f":"_xlfn.IFS(B27=\"\",\"*\",B27=\"小計\",\"*\",TRUE,IF($Y$3=\"行った場合\",\"1\",\"0\"))","v":"*"},null,null,null,null,null,null,null,null,null,null,null,null,null,null,null,null,null,null,null,null,null,null,null,{"$f":"C27","v":0},{"$f":"G27","v":0},{"$f":"L27","v":0}]
[null,null,null,null,null,null,null,null,null,null,null,null,null,null,null,null,null,null,null,null,null,null,null,null,null,{"$f":"_xlfn.IFS(B28=\"\",\"*\",B28=\"小計\",\"*\",TRUE,IF($Y$3=\"行った場合\",\"1\",\"0\"))","v":"*"},null,null,null,null,null,null,null,null,null,null,null,null,null,null,null,null,null,null,null,null,null,null,null,{"$f":"C28","v":0},{"$f":"G28","v":0},{"$f":"L28","v":0}]
[null,null,null,null,null,null,null,null,null,null,null,null,null,null,null,null,null,null,null,null,null,null,null,null,null,{"$f":"_xlfn.IFS(B29=\"\",\"*\",B29=\"小計\",\"*\",TRUE,IF($Y$3=\"行った場合\",\"1\",\"0\"))","v":"*"},null,null,null,null,null,null,null,null,null,null,null,null,null,null,null,null,null,null,null,null,null,null,null,{"$f":"C29","v":0},{"$f":"G29","v":0},{"$f":"L29","v":0}]
[null,null,null,null,null,null,null,null,null,null,null,null,null,null,null,null,null,null,null,null,null,null,null,null,null,{"$f":"_xlfn.IFS(B30=\"\",\"*\",B30=\"小計\",\"*\",TRUE,IF($Y$3=\"行った場合\",\"1\",\"0\"))","v":"*"},null,null,null,null,null,null,null,null,null,null,null,null,null,null,null,null,null,null,null,null,null,null,null,{"$f":"C30","v":0},{"$f":"G30","v":0},{"$f":"L30","v":0}]
[null,"小計",{"$f":"SUM(AX:AX)","v":0},"―","―","―",{"$f":"SUM(AY:AY)","v":0},"―","―","―",null,{"$f":"SUM(AZ:AZ)","v":0},null,"―",null,null,null,null,null,null,null,null,null,null,null,{"$f":"_xlfn.IFS(B31=\"\",\"*\",B31=\"小計\",\"*\",TRUE,IF($Y$3=\"行った場合\",\"1\",\"0\"))","v":"*"}]
["合計",null,{"$f":"SUM(AU:AU,AX:AX)","v":0},"―","―","―",{"$f":"SUM(AV:AV,AY:AY)","v":0},"―","―","―",null,{"$f":"SUM(AW:AW,AZ:AZ)","v":0},null,"―"]
[]
["備考"]
["１　産業廃棄物の運搬に係る報告と特別管理産業廃棄物の運搬に係る報告は別葉とすること。"]
["２　「許可番号」の欄には、報告者に運搬を委託した者又は報告者が産業廃棄物若しくは特別管理産業廃棄物を引き渡した者が産業廃棄物処理業者である場\n　合に、その許可番号を記載すること。"]
["３　報告者が収集運搬業者に運搬を再委託した場合には、「備考」の欄に「再」と記載すること。"]
["４　記入欄が不足するときは、この様式の例により作成した書面に記載して、当該書面を添付すること。"]
["５　産業廃棄物又は特別管理産業廃棄物の種類ごと及び月ごとの保管が行われる施設（以下「保管施設」という。）への搬入搬出状況等については、別紙に\n　記載し添付すること。"]
["６　売却の場合は「備考」の欄に「売却」と記載すること。"]

{"sheet":"様式第６号_別紙","index":11,"n_rows":58,"n_cols":56,"rows_kept":58,"cut":false,"hidden":true,"merged":[[1,0,1,13],[1,52,1,55],[3,3,3,14],[8,0,8,14],[54,0,54,14],[55,0,55,14],[56,0,56,14],[57,0,57,14],[4,0,6,2],[4,3,6,14],[9,0,10,0],[9,1,10,1],[9,2,10,2],[9,3,10,3],[9,4,10,4],[9,5,10,5],[9,6,10,6],[9,7,10,7],[9,8,10,8],[9,9,10,9],[9,10,10,10],[9,11,10,11],[9,12,10,12],[9,13,10,13],[9,14,10,14],[11,0,12,0],[13,0,14,0],[15,0,16,0],[17,0,18,0],[19,0,20,0],[21,0,22,0],[23,0,24,0],[25,0,26,0],[27,0,28,0],[29,0,30,0],[31,0,32,0],[33,0,34,0],[35,0,36,0],[37,0,38,0],[39,0,40,0],[41,0,42,0],[43,0,44,0],[45,0,46,0],[47,0,48,0],[49,0,50,0],[51,0,52,0],[3,54,12,54],[3,55,12,55]]}
["H","I",2,"N"]
["別紙（用紙　日本工業規格Ａ４横型）",null,null,null,null,null,null,null,null,null,null,null,null,null,null,null,null,null,null,null,null,null,null,null,null,null,"燃えがら",null,null,null,null,null,null,null,null,null,null,null,null,null,null,null,null,null,null,null,null,null,null,null,null,null,"行追加用T"]
[null,null,null,null,null,null,null,null,null,null,null,null,null,null,null,null,null,null,null,null,null,null,null,null,null,null,"汚泥",null,null,null,null,null,null,null,null,null,null,null,null,null,null,null,null,null,null,null,null,null,null,null,null,null,"開始行","終了行","行追加用T\n最終行","削除不可\n最低行数"]
["保管施設の設置場所",null,null,null,null,null,null,null,null,null,null,null,null,null,null,null,null,null,null,null,null,null,null,null,null,null,"廃油",null,null,null,null,null,null,null,null,null,null,null,null,null,null,null,null,null,null,null,null,null,null,null,"総搬入量",null,52,{"$f":"BA4+1","v":53},{"$f":"COUNTA(BA4:BA13)","v":1},13]
["保管施設における産業廃棄物又は特別管理産業廃棄物の種類ごとの保管上限（ｔ）",null,null,null,null,null,null,null,null,null,null,null,null,null,null,null,null,null,null,null,null,null,null,null,null,null,"廃酸",null,null,null,null,null,null,null,null,null,null,null,null,null,null,null,null,null,null,null,null,null,null,null,{"$f":"SUM(AX:AX)","v":0}]
[null,null,null,null,null,null,null,null,null,null,null,null,null,null,null,null,null,null,null,null,null,null,null,null,null,null,"廃アルカリ"]
[null,null,null,null,null,null,null,null,null,null,null,null,null,null,null,null,null,null,null,null,null,null,null,null,null,null,"廃プラスチック類"]
[null,null,null,null,null,null,null,null,null,null,null,null,null,null,null,null,null,null,null,null,null,null,null,null,null,null,"紙くず"]
["産業廃棄物又は特別管理産業廃棄物の種類ごと及び月ごとの搬入搬出状況",null,null,null,null,null,null,null,null,null,null,null,null,null,null,null,null,null,null,null,null,null,null,null,null,null,"木くず"]
["種　類","月",4,5,6,7,8,9,10,11,12,1,2,3,"年間総量\n（ｔ）","年間搬入量合計値(t)",null,null,null,null,null,null,null,null,null,null,"繊維くず"]
[null,null,null,null,null,null,null,null,null,null,null,null,null,null,null,{"$f":"AY5","v":0},null,null,null,null,null,null,null,null,null,null,"動植物性残さ"]
[null,"搬入量(t)",null,null,null,null,null,null,null,null,null,null,null,null,{"$f":"SUM(C12:N12)","v":0},null,null,null,null,null,null,null,null,null,null,null,"ゴムくず",null,null,null,null,null,null,null,null,null,null,null,null,null,null,null,null,null,null,null,null,null,null,{"$f":"O12","v":0}]
[null,"搬出量(t)",null,null,null,null,null,null,null,null,null,null,null,null,0,null,null,null,null,null,null,null,null,null,null,null,"金属くず"]
[null,"搬入量(t)",null,null,null,null,null,null,null,null,null,null,null,null,0,null,null,null,null,null,null,null,null,null,null,null,"ガラス・コンクリート・陶磁器くず",null,null,null,null,null,null,null,null,null,null,null,null,null,null,null,null,null,null,null,null,null,null,{"$f":"O14","v":0}]
[null,"搬出量(t)",null,null,null,null,null,null,null,null,null,null,null,null,0,null,null,null,null,null,null,null,null,null,null,null,"鉱さい"]
[null,"搬入量(t)",null,null,null,null,null,null,null,null,null,null,null,null,0,null,null,null,null,null,null,null,null,null,null,null,"がれき類",null,null,null,null,null,null,null,null,null,null,null,null,null,null,null,null,null,null,null,null,null,null,{"$f":"O16","v":0}]
[null,"搬出量(t)",null,null,null,null,null,null,null,null,null,null,null,null,0,null,null,null,null,null,null,null,null,null,null,null,"家畜のふん尿"]
[null,"搬入量(t)",null,null,null,null,null,null,null,null,null,null,null,null,0,null,null,null,null,null,null,null,null,null,null,null,"家畜の死体",null,null,null,null,null,null,null,null,null,null,null,null,null,null,null,null,null,null,null,null,null,null,{"$f":"O18","v":0}]
[null,"搬出量(t)",null,null,null,null,null,null,null,null,null,null,null,null,0,null,null,null,null,null,null,null,null,null,null,null,"ばいじん"]
[null,"搬入量(t)",null,null,null,null,null,null,null,null,null,null,null,null,0,null,null,null,null,null,null,null,null,null,null,null,"１３号廃棄物",null,null,null,null,null,null,null,null,null,null,null,null,null,null,null,null,null,null,null,null,null,null,{"$f":"O20","v":0}]
[null,"搬出量(t)",null,null,null,null,null,null,null,null,null,null,null,null,0,null,null,null,null,null,null,null,null,null,null,null,"動物系固形不要物"]
[null,"搬入量(t)",null,null,null,null,null,null,null,null,null,null,null,null,0,null,null,null,null,null,null,null,null,null,null,null,null,null,null,null,null,null,null,null,null,null,null,null,null,null,null,null,null,null,null,null,null,null,null,{"$f":"O22","v":0}]
[null,"搬出量(t)",null,null,null,null,null,null,null,null,null,null,null,null,0]
[null,"搬入量(t)",null,null,null,null,null,null,null,null,null,null,null,null,0,null,null,null,null,null,null,null,null,null,null,null,null,null,null,null,null,null,null,null,null,null,null,null,null,null,null,null,null,null,null,null,null,null,null,{"$f":"O24","v":0}]
[null,"搬出量(t)",null,null,null,null,null,null,null,null,null,null,null,null,0]
[null,"搬入量(t)",null,null,null,null,null,null,null,null,null,null,null,null,0,null,null,null,null,null,null,null,null,null,null,null,null,null,null,null,null,null,null,null,null,null,null,null,null,null,null,null,null,null,null,null,null,null,null,{"$f":"O26","v":0}]
[null,"搬出量(t)",null,null,null,null,null,null,null,null,null,null,null,null,0]
[null,"搬入量(t)",null,null,null,null,null,null,null,null,null,null,null,null,0,null,null,null,null,null,null,null,null,null,null,null,null,null,null,null,null,null,null,null,null,null,null,null,null,null,null,null,null,null,null,null,null,null,null,{"$f":"O28","v":0}]
[null,"搬出量(t)",null,null,null,null,null,null,null,null,null,null,null,null,0]
[null,"搬入量(t)",null,null,null,null,null,null,null,null,null,null,null,null,0,null,null,null,null,null,null,null,null,null,null,null,null,null,null,null,null,null,null,null,null,null,null,null,null,null,null,null,null,null,null,null,null,null,null,{"$f":"O30","v":0}]
[null,"搬出量(t)",null,null,null,null,null,null,null,null,null,null,null,null,0]
[null,"搬入量(t)",null,null,null,null,null,null,null,null,null,null,null,null,0,null,null,null,null,null,null,null,null,null,null,null,null,null,null,null,null,null,null,null,null,null,null,null,null,null,null,null,null,null,null,null,null,null,null,{"$f":"O32","v":0}]
[null,"搬出量(t)",null,null,null,null,null,null,null,null,null,null,null,null,0]
[null,"搬入量(t)",null,null,null,null,null,null,null,null,null,null,null,null,0,null,null,null,null,null,null,null,null,null,null,null,null,null,null,null,null,null,null,null,null,null,null,null,null,null,null,null,null,null,null,null,null,null,null,{"$f":"O34","v":0}]
[null,"搬出量(t)",null,null,null,null,null,null,null,null,null,null,null,null,0]
[null,"搬入量(t)",null,null,null,null,null,null,null,null,null,null,null,null,0,null,null,null,null,null,null,null,null,null,null,null,null,null,null,null,null,null,null,null,null,null,null,null,null,null,null,null,null,null,null,null,null,null,null,{"$f":"O36","v":0}]
[null,"搬出量(t)",null,null,null,null,null,null,null,null,null,null,null,null,0]
[null,"搬入量(t)",null,null,null,null,null,null,null,null,null,null,null,null,0,null,null,null,null,null,null,null,null,null,null,null,null,null,null,null,null,null,null,null,null,null,null,null,null,null,null,null,null,null,null,null,null,null,null,{"$f":"O38","v":0}]
[null,"搬出量(t)",null,null,null,null,null,null,null,null,null,null,null,null,0]
[null,"搬入量(t)",null,null,null,null,null,null,null,null,null,null,null,null,0,null,null,null,null,null,null,null,null,null,null,null,null,null,null,null,null,null,null,null,null,null,null,null,null,null,null,null,null,null,null,null,null,null,null,{"$f":"O40","v":0}]
[null,"搬出量(t)",null,null,null,null,null,null,null,null,null,null,null,null,0]
[null,"搬入量(t)",null,null,null,null,null,null,null,null,null,null,null,null,0,null,null,null,null,null,null,null,null,null,null,null,null,null,null,null,null,null,null,null,null,null,null,null,null,null,null,null,null,null,null,null,null,null,null,{"$f":"O42","v":0}]
[null,"搬出量(t)",null,null,null,null,null,null,null,null,null,null,null,null,0]
[null,"搬入量(t)",null,null,null,null,null,null,null,null,null,null,null,null,0,null,null,null,null,null,null,null,null,null,null,null,null,null,null,null,null,null,null,null,null,null,null,null,null,null,null,null,null,null,null,null,null,null,null,{"$f":"O44","v":0}]
[null,"搬出量(t)",null,null,null,null,null,null,null,null,null,null,null,null,0]
[null,"搬入量(t)",null,null,null,null,null,null,null,null,null,null,null,null,0,null,null,null,null,null,null,null,null,null,null,null,null,null,null,null,null,null,null,null,null,null,null,null,null,null,null,null,null,null,null,null,null,null,null,{"$f":"O46","v":0}]
[null,"搬出量(t)",null,null,null,null,null,null,null,null,null,null,null,null,0]
[null,"搬入量(t)",null,null,null,null,null,null,null,null,null,null,null,null,0,null,null,null,null,null,null,null,null,null,null,null,null,null,null,null,null,null,null,null,null,null,null,null,null,null,null,null,null,null,null,null,null,null,null,{"$f":"O48","v":0}]
[null,"搬出量(t)",null,null,null,null,null,null,null,null,null,null,null,null,0]
[null,"搬入量(t)",null,null,null,null,null,null,null,null,null,null,null,null,0,null,null,null,null,null,null,null,null,null,null,null,null,null,null,null,null,null,null,null,null,null,null,null,null,null,null,null,null,null,null,null,null,null,null,{"$f":"O50","v":0}]
[null,"搬出量(t)",null,null,null,null,null,null,null,null,null,null,null,null,0]
[null,"搬入量(t)",null,null,null,null,null,null,null,null,null,null,null,null,0,null,null,null,null,null,null,null,null,null,null,null,null,null,null,null,null,null,null,null,null,null,null,null,null,null,null,null,null,null,null,null,null,null,null,{"$f":"O52","v":0}]
[null,"搬出量(t)",null,null,null,null,null,null,null,null,null,null,null,null,0]
[]
["備考　"]
["１　産業廃棄物の運搬に係る報告と特別管理産業廃棄物の運搬に係る報告は別葉とすること。"]
["２　保管施設ごとに別葉とすること。"]
["３　記入欄が不足するときは、この様式の例により作成した書面に記載して、当該書面を添付すること。"]

{"sheet":"様式第６号_本紙_特別","index":12,"n_rows":40,"n_cols":56,"rows_kept":40,"cut":false,"hidden":true,"merged":[[1,0,1,14],[1,52,1,55],[5,11,5,13],[6,0,6,2],[8,9,8,13],[10,9,10,13],[11,9,11,13],[12,9,12,12],[13,10,13,12],[15,0,15,5],[15,7,15,13],[16,0,16,4],[17,3,17,6],[17,7,17,13],[18,9,18,10],[18,11,18,12],[19,9,19,10],[19,11,19,12],[20,9,20,10],[20,11,20,12],[21,9,21,10],[21,11,21,12],[22,9,22,10],[22,11,22,12],[23,9,23,10],[23,11,23,12],[24,9,24,10],[24,11,24,12],[25,9,25,10],[25,11,25,12],[26,9,26,10],[26,11,26,12],[27,9,27,10],[27,11,27,12],[28,9,28,10],[28,11,28,12],[29,9,29,10],[29,11,29,12],[30,9,30,10],[30,11,30,12],[31,9,31,10],[31,11,31,12],[34,0,34,13],[35,0,35,13],[36,0,36,13],[38,0,38,13],[2,13,3,14],[19,0,24,0],[25,0,30,0],[3,54,12,54],[3,55,12,55]]}
["H","I",1,"S"]
["様式第６号（第15条関係）（用紙　日本工業規格Ａ４横型）",null,null,null,null,null,null,null,null,null,null,null,null,null,null,null,null,null,null,null,null,null,null,null,{"$f":"A20","v":"行った場合"},null,null,"燃えがら",null,null,null,null,null,null,null,null,null,null,null,null,null,null,null,null,null,null,null,null,null,null,null,null,"行追加用T"]
[null,null,null,null,null,null,null,null,null,null,null,null,null,null,null,null,null,null,null,null,null,null,null,null,{"$f":"A26","v":"行わなかった場合"},null,"産業廃棄物","汚泥",null,null,null,null,null,null,null,null,null,null,null,null,null,null,null,null,null,null,null,null,null,null,null,null,"開始行","終了行","行追加用T\n最終行","削除不可\n最低行数"]
[null,null,"特別管理産業廃棄物 運搬状況報告書",null,null,null,null,null,null,null,null,null,null,null,null,null,null,null,null,null,null,null,null,null,null,null,"特別管理産業廃棄物","廃油",null,null,null,null,null,null,null,null,null,null,null,null,null,null,null,null,null,null,null,null,null,null,null,null,24,{"$f":"BA4","v":24},{"$f":"COUNTA(BA4:BA13)","v":2},24]
[null,null,null,null,null,null,null,null,null,null,null,null,null,null,null,null,null,null,null,null,null,null,null,null,null,null,null,"廃酸",null,null,null,null,null,null,null,null,null,null,null,null,null,null,null,null,null,null,null,null,null,null,null,null,30,{"$f":"BA5","v":30}]
[null,null,null,null,null,null,null,null,null,null,null,{"$f":"IFERROR(DATEVALUE(事業者基本情報!E5&事業者基本情報!F5&事業者基本情報!G5&事業者基本情報!H5&事業者基本情報!I5&事業者基本情報!J5),\"\")","v":""},null,null,null,null,null,null,null,null,null,null,null,null,null,null,null,"廃アルカリ"]
["　静岡県知事 様",null,null,null,null,null,null,null,null,null,null,null,null,null,null,null,null,null,null,null,null,null,null,null,null,null,null,"廃プラスチック類"]
[null,null,null,null,null,null,null,null,null,null,null,null,null,null,null,null,null,null,null,null,null,null,null,null,null,null,null,"紙くず"]
[null,null,null,null,null,null,null,null,"住　所",{"$f":"事業者基本情報!E9&事業者基本情報!F9&事業者基本情報!G9&CHAR(10)&事業者基本情報!E10&事業者基本情報!F10","v":"-\n静岡県"},null,null,null,null,null,null,null,null,null,null,null,null,null,null,null,null,null,"木くず"]
[null,null,null,null,null,null,null,null,null,null,null,null,null,null,null,null,null,null,null,null,null,null,null,null,null,null,null,"繊維くず"]
[null,null,null,null,null,null,null,null,"氏　名",{"$f":"事業者基本情報!Y7","v":""},null,null,null,null,null,null,null,null,null,null,null,null,null,null,null,null,null,"動植物性残さ"]
[null,null,null,null,null,null,null,null,null,{"$f":"IF(事業者基本情報!Y7=事業者基本情報!Y8,\"\",事業者基本情報!Y8)","v":""},null,null,null,null,null,null,null,null,null,null,null,null,null,null,null,null,null,"ゴムくず"]
[null,null,null,null,null,null,null,null,"電話番号",{"$f":"事業者基本情報!E11&事業者基本情報!F11&事業者基本情報!G11&事業者基本情報!H11&事業者基本情報!I11","v":"--"},null,null,null,null,null,null,null,null,null,null,null,null,null,null,null,null,null,"金属くず"]
[null,null,null,null,null,null,null,null,"許可番号","022",null,null,null,null,null,null,null,null,null,null,null,null,null,null,null,null,null,"ガラス・コンクリート・陶磁器くず"]
["　　　　　",null,null,null,null,null,null,null,null,null,null,null,null,null,null,null,null,null,null,null,null,null,null,null,null,null,null,"鉱さい"]
["　静岡県産業廃棄物の適正な処理に関する条例第17条第１項の規定により、",null,null,null,null,null,{"$f":"事業者基本情報!E4&事業者基本情報!F4+1","v":"令和8"},"年３月31日以前の１年間における 特別管理産業廃棄物 の運搬状況",null,null,null,null,null,null,null,null,null,null,null,null,null,null,null,null,null,null,null,"がれき類"]
["について、次のとおり報告します。",null,null,null,null,null,null,null,null,null,null,null,null,null,null,null,null,null,null,null,null,null,null,null,null,null,null,"家畜のふん尿"]
["保管","種類","運搬量","報告者に運搬を委託した者",null,null,null,"報告者が産業廃棄物又は特別管理産業廃棄物を引き渡した者",null,null,null,null,null,null,null,null,null,null,null,null,null,null,null,null,null,null,null,"家畜の死体"]
[null,null,"（ｔ）","許可番号","氏名又は\n名称","住所又は\n所在地","受託量\n（ｔ）","許可番号","氏名又は\n名称","住所又は\n所在地",null,"引渡量（ｔ）",null,"備考",null,null,null,null,null,null,null,null,null,null,null,null,null,"ばいじん"]
["行った場合",null,null,null,null,null,null,null,null,null,null,null,null,null,null,null,null,null,null,null,null,null,null,null,null,{"$f":"_xlfn.IFS(B20=\"\",\"*\",B20=\"小計\",\"*\",TRUE,IF($Y$2=\"行った場合\",\"1\",\"0\"))","v":"*"},null,"１３号廃棄物",null,null,null,null,null,null,null,null,null,null,null,null,null,null,null,null,null,null,{"$f":"C20","v":0},{"$f":"G20","v":0},{"$f":"L20","v":0}]
[null,null,null,null,null,null,null,null,null,null,null,null,null,null,null,null,null,null,null,null,null,null,null,null,null,{"$f":"_xlfn.IFS(B21=\"\",\"*\",B21=\"小計\",\"*\",TRUE,IF($Y$2=\"行った場合\",\"1\",\"0\"))","v":"*"},null,"１３号廃棄物",null,null,null,null,null,null,null,null,null,null,null,null,null,null,null,null,null,null,{"$f":"C21","v":0},{"$f":"G21","v":0},{"$f":"L21","v":0}]
[null,null,null,null,null,null,null,null,null,null,null,null,null,null,null,null,null,null,null,null,null,null,null,null,null,{"$f":"_xlfn.IFS(B22=\"\",\"*\",B22=\"小計\",\"*\",TRUE,IF($Y$2=\"行った場合\",\"1\",\"0\"))","v":"*"},null,"１３号廃棄物",null,null,null,null,null,null,null,null,null,null,null,null,null,null,null,null,null,null,{"$f":"C22","v":0},{"$f":"G22","v":0},{"$f":"L22","v":0}]
[null,null,null,null,null,null,null,null,null,null,null,null,null,null,null,null,null,null,null,null,null,null,null,null,null,{"$f":"_xlfn.IFS(B23=\"\",\"*\",B23=\"小計\",\"*\",TRUE,IF($Y$2=\"行った場合\",\"1\",\"0\"))","v":"*"},null,"１３号廃棄物",null,null,null,null,null,null,null,null,null,null,null,null,null,null,null,null,null,null,{"$f":"C23","v":0},{"$f":"G23","v":0},{"$f":"L23","v":0}]
[null,null,null,null,null,null,null,null,null,null,null,null,null,null,null,null,null,null,null,null,null,null,null,null,null,{"$f":"_xlfn.IFS(B24=\"\",\"*\",B24=\"小計\",\"*\",TRUE,IF($Y$2=\"行った場合\",\"1\",\"0\"))","v":"*"},null,"１３号廃棄物",null,null,null,null,null,null,null,null,null,null,null,null,null,null,null,null,null,null,{"$f":"C24","v":0},{"$f":"G24","v":0},{"$f":"L24","v":0}]
[null,"小計",{"$f":"SUM(AU:AU)","v":0},"―","―","―",{"$f":"SUM(AV:AV)","v":0},"―","―","―",null,{"$f":"SUM(AW:AW)","v":0},null,"―",null,null,null,null,null,null,null,null,null,null,null,{"$f":"_xlfn.IFS(B25=\"\",\"*\",B25=\"小計\",\"*\",TRUE,IF($Y$2=\"行った場合\",\"1\",\"0\"))","v":"*"}]
["行わなかった場合",null,null,null,null,null,null,null,null,null,null,null,null,null,null,null,null,null,null,null,null,null,null,null,null,{"$f":"_xlfn.IFS(B26=\"\",\"*\",B26=\"小計\",\"*\",TRUE,IF($Y$3=\"行った場合\",\"1\",\"0\"))","v":"*"},null,null,null,null,null,null,null,null,null,null,null,null,null,null,null,null,null,null,null,null,null,null,null,{"$f":"C26","v":0},{"$f":"G26","v":0},{"$f":"L26","v":0}]
[null,null,null,null,null,null,null,null,null,null,null,null,null,null,null,null,null,null,null,null,null,null,null,null,null,{"$f":"_xlfn.IFS(B27=\"\",\"*\",B27=\"小計\",\"*\",TRUE,IF($Y$3=\"行った場合\",\"1\",\"0\"))","v":"*"},null,null,null,null,null,null,null,null,null,null,null,null,null,null,null,null,null,null,null,null,null,null,null,{"$f":"C27","v":0},{"$f":"G27","v":0},{"$f":"L27","v":0}]
[null,null,null,null,null,null,null,null,null,null,null,null,null,null,null,null,null,null,null,null,null,null,null,null,null,{"$f":"_xlfn.IFS(B28=\"\",\"*\",B28=\"小計\",\"*\",TRUE,IF($Y$3=\"行った場合\",\"1\",\"0\"))","v":"*"},null,null,null,null,null,null,null,null,null,null,null,null,null,null,null,null,null,null,null,null,null,null,null,{"$f":"C28","v":0},{"$f":"G28","v":0},{"$f":"L28","v":0}]
[null,null,null,null,null,null,null,null,null,null,null,null,null,null,null,null,null,null,null,null,null,null,null,null,null,{"$f":"_xlfn.IFS(B29=\"\",\"*\",B29=\"小計\",\"*\",TRUE,IF($Y$3=\"行った場合\",\"1\",\"0\"))","v":"*"},null,null,null,null,null,null,null,null,null,null,null,null,null,null,null,null,null,null,null,null,null,null,null,{"$f":"C29","v":0},{"$f":"G29","v":0},{"$f":"L29","v":0}]
[null,null,null,null,null,null,null,null,null,null,null,null,null,null,null,null,null,null,null,null,null,null,null,null,null,{"$f":"_xlfn.IFS(B30=\"\",\"*\",B30=\"小計\",\"*\",TRUE,IF($Y$3=\"行った場合\",\"1\",\"0\"))","v":"*"},null,null,null,null,null,null,null,null,null,null,null,null,null,null,null,null,null,null,null,null,null,null,null,{"$f":"C30","v":0},{"$f":"G30","v":0},{"$f":"L30","v":0}]
[null,"小計",{"$f":"SUM(AX:AX)","v":0},"―","―","―",{"$f":"SUM(AY:AY)","v":0},"―","―","―",null,{"$f":"SUM(AZ:AZ)","v":0},null,"―",null,null,null,null,null,null,null,null,null,null,null,{"$f":"_xlfn.IFS(B31=\"\",\"*\",B31=\"小計\",\"*\",TRUE,IF($Y$3=\"行った場合\",\"1\",\"0\"))","v":"*"}]
["合計",null,{"$f":"SUM(AU:AU,AX:AX)","v":0},"―","―","―",{"$f":"SUM(AV:AV,AY:AY)","v":0},"―","―","―",null,{"$f":"SUM(AW:AW,AZ:AZ)","v":0},null,"―"]
[]
["備考"]
["１　産業廃棄物の運搬に係る報告と特別管理産業廃棄物の運搬に係る報告は別葉とすること。"]
["２　「許可番号」の欄には、報告者に運搬を委託した者又は報告者が産業廃棄物若しくは特別管理産業廃棄物を引き渡した者が産業廃棄物処理業者である場\n　合に、その許可番号を記載すること。"]
["３　報告者が収集運搬業者に運搬を再委託した場合には、「備考」の欄に「再」と記載すること。"]
["４　記入欄が不足するときは、この様式の例により作成した書面に記載して、当該書面を添付すること。"]
["５　産業廃棄物又は特別管理産業廃棄物の種類ごと及び月ごとの保管が行われる施設（以下「保管施設」という。）への搬入搬出状況等については、別紙に\n　記載し添付すること。"]
["６　売却の場合は「備考」の欄に「売却」と記載すること。"]

{"sheet":"様式第６号_別紙_特別","index":13,"n_rows":58,"n_cols":56,"rows_kept":58,"cut":false,"hidden":true,"merged":[[1,0,1,13],[1,52,1,55],[3,3,3,14],[8,0,8,14],[54,0,54,14],[55,0,55,14],[56,0,56,14],[57,0,57,14],[4,0,6,2],[4,3,6,14],[9,0,10,0],[9,1,10,1],[9,2,10,2],[9,3,10,3],[9,4,10,4],[9,5,10,5],[9,6,10,6],[9,7,10,7],[9,8,10,8],[9,9,10,9],[9,10,10,10],[9,11,10,11],[9,12,10,12],[9,13,10,13],[9,14,10,14],[11,0,12,0],[13,0,14,0],[15,0,16,0],[17,0,18,0],[19,0,20,0],[21,0,22,0],[23,0,24,0],[25,0,26,0],[27,0,28,0],[29,0,30,0],[31,0,32,0],[33,0,34,0],[35,0,36,0],[37,0,38,0],[39,0,40,0],[41,0,42,0],[43,0,44,0],[45,0,46,0],[47,0,48,0],[49,0,50,0],[51,0,52,0],[3,54,12,54],[3,55,12,55]]}
["H","I",2,"S"]
["別紙（用紙　日本工業規格Ａ４横型）",null,null,null,null,null,null,null,null,null,null,null,null,null,null,null,null,null,null,null,null,null,null,null,null,null,"燃えがら",null,null,null,null,null,null,null,null,null,null,null,null,null,null,null,null,null,null,null,null,null,null,null,null,null,"行追加用T"]
[null,null,null,null,null,null,null,null,null,null,null,null,null,null,null,null,null,null,null,null,null,null,null,null,null,null,"汚泥",null,null,null,null,null,null,null,null,null,null,null,null,null,null,null,null,null,null,null,null,null,null,null,null,null,"開始行","終了行","行追加用T\n最終行","削除不可\n最低行数"]
["保管施設の設置場所",null,null,null,null,null,null,null,null,null,null,null,null,null,null,null,null,null,null,null,null,null,null,null,null,null,"廃油",null,null,null,null,null,null,null,null,null,null,null,null,null,null,null,null,null,null,null,null,null,null,null,"総搬入量",null,52,{"$f":"BA4+1","v":53},{"$f":"COUNTA(BA4:BA13)","v":1},13]
["保管施設における産業廃棄物又は特別管理産業廃棄物の種類ごとの保管上限（ｔ）",null,null,null,null,null,null,null,null,null,null,null,null,null,null,null,null,null,null,null,null,null,null,null,null,null,"廃酸",null,null,null,null,null,null,null,null,null,null,null,null,null,null,null,null,null,null,null,null,null,null,null,{"$f":"SUM(AX:AX)","v":0}]
[null,null,null,null,null,null,null,null,null,null,null,null,null,null,null,null,null,null,null,null,null,null,null,null,null,null,"廃アルカリ"]
[null,null,null,null,null,null,null,null,null,null,null,null,null,null,null,null,null,null,null,null,null,null,null,null,null,null,"廃プラスチック類"]
[null,null,null,null,null,null,null,null,null,null,null,null,null,null,null,null,null,null,null,null,null,null,null,null,null,null,"紙くず"]
["産業廃棄物又は特別管理産業廃棄物の種類ごと及び月ごとの搬入搬出状況",null,null,null,null,null,null,null,null,null,null,null,null,null,null,null,null,null,null,null,null,null,null,null,null,null,"木くず"]
["種　類","月",4,5,6,7,8,9,10,11,12,1,2,3,"年間総量\n（ｔ）","年間搬入量合計値(t)",null,null,null,null,null,null,null,null,null,null,"繊維くず"]
[null,null,null,null,null,null,null,null,null,null,null,null,null,null,null,{"$f":"AY5","v":0},null,null,null,null,null,null,null,null,null,null,"動植物性残さ"]
[null,"搬入量(t)",null,null,null,null,null,null,null,null,null,null,null,null,{"$f":"SUM(C12:N12)","v":0},null,null,null,null,null,null,null,null,null,null,null,"ゴムくず",null,null,null,null,null,null,null,null,null,null,null,null,null,null,null,null,null,null,null,null,null,null,{"$f":"O12","v":0}]
[null,"搬出量(t)",null,null,null,null,null,null,null,null,null,null,null,null,0,null,null,null,null,null,null,null,null,null,null,null,"金属くず"]
[null,"搬入量(t)",null,null,null,null,null,null,null,null,null,null,null,null,0,null,null,null,null,null,null,null,null,null,null,null,"ガラス・コンクリート・陶磁器くず",null,null,null,null,null,null,null,null,null,null,null,null,null,null,null,null,null,null,null,null,null,null,{"$f":"O14","v":0}]
[null,"搬出量(t)",null,null,null,null,null,null,null,null,null,null,null,null,0,null,null,null,null,null,null,null,null,null,null,null,"鉱さい"]
[null,"搬入量(t)",null,null,null,null,null,null,null,null,null,null,null,null,0,null,null,null,null,null,null,null,null,null,null,null,"がれき類",null,null,null,null,null,null,null,null,null,null,null,null,null,null,null,null,null,null,null,null,null,null,{"$f":"O16","v":0}]
[null,"搬出量(t)",null,null,null,null,null,null,null,null,null,null,null,null,0,null,null,null,null,null,null,null,null,null,null,null,"家畜のふん尿"]
[null,"搬入量(t)",null,null,null,null,null,null,null,null,null,null,null,null,0,null,null,null,null,null,null,null,null,null,null,null,"家畜の死体",null,null,null,null,null,null,null,null,null,null,null,null,null,null,null,null,null,null,null,null,null,null,{"$f":"O18","v":0}]
[null,"搬出量(t)",null,null,null,null,null,null,null,null,null,null,null,null,0,null,null,null,null,null,null,null,null,null,null,null,"ばいじん"]
[null,"搬入量(t)",null,null,null,null,null,null,null,null,null,null,null,null,0,null,null,null,null,null,null,null,null,null,null,null,"１３号廃棄物",null,null,null,null,null,null,null,null,null,null,null,null,null,null,null,null,null,null,null,null,null,null,{"$f":"O20","v":0}]
[null,"搬出量(t)",null,null,null,null,null,null,null,null,null,null,null,null,0,null,null,null,null,null,null,null,null,null,null,null,"動物系固形不要物"]
[null,"搬入量(t)",null,null,null,null,null,null,null,null,null,null,null,null,0,null,null,null,null,null,null,null,null,null,null,null,null,null,null,null,null,null,null,null,null,null,null,null,null,null,null,null,null,null,null,null,null,null,null,{"$f":"O22","v":0}]
[null,"搬出量(t)",null,null,null,null,null,null,null,null,null,null,null,null,0]
[null,"搬入量(t)",null,null,null,null,null,null,null,null,null,null,null,null,0,null,null,null,null,null,null,null,null,null,null,null,null,null,null,null,null,null,null,null,null,null,null,null,null,null,null,null,null,null,null,null,null,null,null,{"$f":"O24","v":0}]
[null,"搬出量(t)",null,null,null,null,null,null,null,null,null,null,null,null,0]
[null,"搬入量(t)",null,null,null,null,null,null,null,null,null,null,null,null,0,null,null,null,null,null,null,null,null,null,null,null,null,null,null,null,null,null,null,null,null,null,null,null,null,null,null,null,null,null,null,null,null,null,null,{"$f":"O26","v":0}]
[null,"搬出量(t)",null,null,null,null,null,null,null,null,null,null,null,null,0]
[null,"搬入量(t)",null,null,null,null,null,null,null,null,null,null,null,null,0,null,null,null,null,null,null,null,null,null,null,null,null,null,null,null,null,null,null,null,null,null,null,null,null,null,null,null,null,null,null,null,null,null,null,{"$f":"O28","v":0}]
[null,"搬出量(t)",null,null,null,null,null,null,null,null,null,null,null,null,0]
[null,"搬入量(t)",null,null,null,null,null,null,null,null,null,null,null,null,0,null,null,null,null,null,null,null,null,null,null,null,null,null,null,null,null,null,null,null,null,null,null,null,null,null,null,null,null,null,null,null,null,null,null,{"$f":"O30","v":0}]
[null,"搬出量(t)",null,null,null,null,null,null,null,null,null,null,null,null,0]
[null,"搬入量(t)",null,null,null,null,null,null,null,null,null,null,null,null,0,null,null,null,null,null,null,null,null,null,null,null,null,null,null,null,null,null,null,null,null,null,null,null,null,null,null,null,null,null,null,null,null,null,null,{"$f":"O32","v":0}]
[null,"搬出量(t)",null,null,null,null,null,null,null,null,null,null,null,null,0]
[null,"搬入量(t)",null,null,null,null,null,null,null,null,null,null,null,null,0,null,null,null,null,null,null,null,null,null,null,null,null,null,null,null,null,null,null,null,null,null,null,null,null,null,null,null,null,null,null,null,null,null,null,{"$f":"O34","v":0}]
[null,"搬出量(t)",null,null,null,null,null,null,null,null,null,null,null,null,0]
[null,"搬入量(t)",null,null,null,null,null,null,null,null,null,null,null,null,0,null,null,null,null,null,null,null,null,null,null,null,null,null,null,null,null,null,null,null,null,null,null,null,null,null,null,null,null,null,null,null,null,null,null,{"$f":"O36","v":0}]
[null,"搬出量(t)",null,null,null,null,null,null,null,null,null,null,null,null,0]
[null,"搬入量(t)",null,null,null,null,null,null,null,null,null,null,null,null,0,null,null,null,null,null,null,null,null,null,null,null,null,null,null,null,null,null,null,null,null,null,null,null,null,null,null,null,null,null,null,null,null,null,null,{"$f":"O38","v":0}]
[null,"搬出量(t)",null,null,null,null,null,null,null,null,null,null,null,null,0]
[null,"搬入量(t)",null,null,null,null,null,null,null,null,null,null,null,null,0,null,null,null,null,null,null,null,null,null,null,null,null,null,null,null,null,null,null,null,null,null,null,null,null,null,null,null,null,null,null,null,null,null,null,{"$f":"O40","v":0}]
[null,"搬出量(t)",null,null,null,null,null,null,null,null,null,null,null,null,0]
[null,"搬入量(t)",null,null,null,null,null,null,null,null,null,null,null,null,0,null,null,null,null,null,null,null,null,null,null,null,null,null,null,null,null,null,null,null,null,null,null,null,null,null,null,null,null,null,null,null,null,null,null,{"$f":"O42","v":0}]
[null,"搬出量(t)",null,null,null,null,null,null,null,null,null,null,null,null,0]
[null,"搬入量(t)",null,null,null,null,null,null,null,null,null,null,null,null,0,null,null,null,null,null,null,null,null,null,null,null,null,null,null,null,null,null,null,null,null,null,null,null,null,null,null,null,null,null,null,null,null,null,null,{"$f":"O44","v":0}]
[null,"搬出量(t)",null,null,null,null,null,null,null,null,null,null,null,null,0]
[null,"搬入量(t)",null,null,null,null,null,null,null,null,null,null,null,null,0,null,null,null,null,null,null,null,null,null,null,null,null,null,null,null,null,null,null,null,null,null,null,null,null,null,null,null,null,null,null,null,null,null,null,{"$f":"O46","v":0}]
[null,"搬出量(t)",null,null,null,null,null,null,null,null,null,null,null,null,0]
[null,"搬入量(t)",null,null,null,null,null,null,null,null,null,null,null,null,0,null,null,null,null,null,null,null,null,null,null,null,null,null,null,null,null,null,null,null,null,null,null,null,null,null,null,null,null,null,null,null,null,null,null,{"$f":"O48","v":0}]
[null,"搬出量(t)",null,null,null,null,null,null,null,null,null,null,null,null,0]
[null,"搬入量(t)",null,null,null,null,null,null,null,null,null,null,null,null,0,null,null,null,null,null,null,null,null,null,null,null,null,null,null,null,null,null,null,null,null,null,null,null,null,null,null,null,null,null,null,null,null,null,null,{"$f":"O50","v":0}]
[null,"搬出量(t)",null,null,null,null,null,null,null,null,null,null,null,null,0]
[null,"搬入量(t)",null,null,null,null,null,null,null,null,null,null,null,null,0,null,null,null,null,null,null,null,null,null,null,null,null,null,null,null,null,null,null,null,null,null,null,null,null,null,null,null,null,null,null,null,null,null,null,{"$f":"O52","v":0}]
[null,"搬出量(t)",null,null,null,null,null,null,null,null,null,null,null,null,0]
[]
["備考　"]
["１　産業廃棄物の運搬に係る報告と特別管理産業廃棄物の運搬に係る報告は別葉とすること。"]
["２　保管施設ごとに別葉とすること。"]
["３　記入欄が不足するときは、この様式の例により作成した書面に記載して、当該書面を添付すること。"]

{"sheet":"様式第７号_本紙","index":14,"n_rows":36,"n_cols":56,"rows_kept":36,"cut":false,"hidden":true,"merged":[[1,0,1,13],[1,52,1,55],[5,11,5,13],[6,0,6,2],[8,10,8,13],[10,10,10,13],[11,10,11,13],[12,10,12,11],[15,0,15,6],[15,8,15,12],[16,0,16,4],[17,4,17,8],[17,9,17,13],[26,0,26,13],[27,0,27,13],[28,0,28,13],[29,0,29,13],[30,0,30,13],[31,0,31,13],[32,0,32,13],[33,0,33,13],[34,0,34,13],[35,0,35,13],[3,54,12,54],[3,55,12,55]]}
["I","I",1,"N"]
["様式第７号（第15条関係）（用紙　日本工業規格Ａ４横型）",null,null,null,null,null,null,null,null,null,null,null,null,null,null,null,null,null,null,null,null,null,null,null,null,null,null,"燃えがら",null,null,null,null,null,null,null,null,null,null,null,null,null,null,null,null,null,null,null,null,null,null,null,null,"行追加用T"]
[null,null,null,null,null,null,null,null,null,null,null,null,null,null,null,null,null,null,null,null,null,null,null,null,null,null,"産業廃棄物","汚泥",null,null,null,null,null,null,null,null,null,null,null,null,null,null,null,null,null,null,null,null,null,null,null,null,"開始行","終了行","行追加用T\n最終行","削除不可\n最低行数"]
[null,null,"産業廃棄物 処分状況報告書",null,null,null,null,null,null,null,null,null,null,null,null,null,null,null,null,null,null,null,null,null,null,null,"特別管理産業廃棄物","廃油",null,null,null,null,null,null,null,null,null,null,null,null,null,null,null,null,null,null,null,null,null,null,null,null,24,{"$f":"BA4","v":24},{"$f":"COUNTA(BA4:BA13)","v":1},24]
[null,null,null,null,null,null,null,null,null,null,null,null,null,null,null,null,null,null,null,null,null,null,null,null,null,null,null,"廃酸"]
[null,null,null,null,null,null,null,null,null,null,null,{"$f":"IFERROR(DATEVALUE(事業者基本情報!E5&事業者基本情報!F5&事業者基本情報!G5&事業者基本情報!H5&事業者基本情報!I5&事業者基本情報!J5),\"\")","v":""},null,null,null,null,null,null,null,null,null,null,null,null,null,null,null,"廃アルカリ"]
["　静岡県知事 様",null,null,null,null,null,null,null,null,null,null,null,null,null,null,null,null,null,null,null,null,null,null,null,null,null,null,"廃プラスチック類"]
[null,null,null,null,null,null,null,null,null,null,null,null,null,null,null,null,null,null,null,null,null,null,null,null,null,null,null,"紙くず"]
[null,null,null,null,null,null,null,null,null,"住　所",{"$f":"事業者基本情報!E9&事業者基本情報!F9&事業者基本情報!G9&CHAR(10)&事業者基本情報!E10&事業者基本情報!F10","v":"-\n静岡県"},null,null,null,null,null,null,null,null,null,null,null,null,null,null,null,null,"木くず"]
[null,null,null,null,null,null,null,null,null,null,null,null,null,null,null,null,null,null,null,null,null,null,null,null,null,null,null,"繊維くず"]
[null,null,null,null,null,null,null,null,"　","氏　名",{"$f":"事業者基本情報!Y7","v":""},null,null,null,null,null,null,null,null,null,null,null,null,null,null,null,null,"動植物性残さ"]
[null,null,null,null,null,null,null,null,null,null,{"$f":"IF(事業者基本情報!Y7=事業者基本情報!Y8,\"\",事業者基本情報!Y8)","v":""},null,null,null,null,null,null,null,null,null,null,null,null,null,null,null,null,"ゴムくず"]
[null,null,null,null,null,null,null,null,null,"電話番号",{"$f":"事業者基本情報!E11&事業者基本情報!F11&事業者基本情報!G11&事業者基本情報!H11&事業者基本情報!I11","v":"--"},null,null,null,null,null,null,null,null,null,null,null,null,null,null,null,null,"金属くず"]
[null,null,null,null,null,null,null,null,null,"許可番号","022",null,null,null,null,null,null,null,null,null,null,null,null,null,null,null,null,"ガラス・コンクリート・陶磁器くず"]
["　　　　　",null,null,null,null,null,null,null,null,null,null,null,null,null,null,null,null,null,null,null,null,null,null,null,null,null,null,"鉱さい"]
["　静岡県産業廃棄物の適正な処理に関する条例第17条第１項の規定により、",null,null,null,null,null,null,{"$f":"事業者基本情報!E4&事業者基本情報!F4+1","v":"令和8"},"年３月31日以前の１年間における 産業廃棄物 の処分状況",null,null,null,null,null,null,null,null,null,null,null,null,null,null,null,null,null,null,"がれき類"]
["について、次のとおり報告します。",null,null,null,null,null,null,null,null,null,null,null,null,null,null,null,null,null,null,null,null,null,null,null,null,null,null,"家畜のふん尿"]
["種類","処分方法","処分量(t)","処分後","報告者に処分を委託した者",null,null,null,null,"報告者が処分を委託した者",null,null,null,null,null,null,null,null,null,null,null,null,null,null,null,null,null,"家畜の死体"]
[null,null,null,"量(t)","許可番号","氏名又は\n名称","住所又は\n所在地","受託量(t)","備考","許可番号","氏名又は\n名称","住所又は\n所在地","委託量(t)","備考",null,null,null,null,null,null,null,null,null,null,null,null,null,"ばいじん"]
[null,null,null,null,null,null,null,null,null,null,null,null,null,null,null,null,null,null,{"$f":"C20","v":0},0,{"$f":"H20","v":0},{"$f":"M20","v":0},null,null,null,null,null,"１３号廃棄物"]
[null,null,null,null,null,null,null,null,null,null,null,null,null,null,null,null,null,null,0,0,{"$f":"H21","v":0},{"$f":"M21","v":0},null,null,null,null,null,"動物系固形不要物"]
[null,null,null,null,null,null,null,null,null,null,null,null,null,null,null,null,null,null,0,0,{"$f":"H22","v":0},{"$f":"M22","v":0}]
[null,null,null,null,null,null,null,null,null,null,null,null,null,null,null,null,null,null,0,0,{"$f":"H23","v":0},{"$f":"M23","v":0}]
[null,null,null,null,null,null,null,null,null,null,null,null,null,null,null,null,null,null,0,0,{"$f":"H24","v":0},{"$f":"M24","v":0}]
["合計","―",{"$f":"SUM(S:S)","v":0},{"$f":"SUM(T:T)","v":0},"―","―","―",{"$f":"SUM(U:U)","v":0},"―","―","―","―",{"$f":"SUM(V:V)","v":0},"―"]
["備考"]
["　１　産業廃棄物の処分に係る報告と特別管理産業廃棄物の処分に係る報告は別葉とすること。"]
["　２　「許可番号」の欄には、報告者に処分を委託した者又は報告者が処分を委託した者が産業廃棄物処分業者である場合に、その許可番号を記載す"]
["　　ること。"]
["　３　報告者が処分業者から処分を再委託された場合には、「報告者に処分を委託した者」の「備考」の欄に「再」と記載すること。"]
["　４　報告者が処分業者に処分を再委託した場合には、「報告者が処分を委託した者」の「備考」の欄に「再」と記載すること。"]
["　５　委託を受けた産業廃棄物又は特別管理産業廃棄物について、２以上の処分方法により段階的に処分を行った場合にあっては、最初の段階におけ"]
["　　る処分に係る記載をした上で、その下段の「処分方法」、「処分量（ｔ）」及び「処分後量（ｔ）」の欄並びに「報告者が処分を委託した者」の"]
["　　各欄に、後に続く段階における処分に係る記載を続けてすること。"]
["　６　記入欄が不足するときは、この様式の例により作成した書面に記載して、当該書面を添付すること。"]
["　７　産業廃棄物又は特別管理産業廃棄物の種類ごと、処分方法ごと及び月ごとの処分量等については、別紙に記載し添付すること。"]

{"sheet":"様式第７号_別紙1","index":15,"n_rows":134,"n_cols":56,"rows_kept":134,"cut":false,"hidden":true,"merged":[[1,0,1,16],[1,52,1,55],[3,0,3,3],[3,4,3,16],[4,0,4,3],[4,4,4,16],[6,0,6,16],[7,1,7,3],[8,1,8,3],[14,1,14,3],[20,1,20,3],[26,1,26,3],[32,1,32,3],[38,1,38,3],[44,1,44,3],[50,1,50,3],[56,1,56,3],[62,1,62,3],[68,1,68,3],[74,1,74,3],[80,1,80,3],[86,1,86,3],[92,1,92,3],[98,1,98,3],[104,1,104,3],[110,1,110,3],[116,1,116,3],[122,1,122,3],[128,1,128,3],[8,0,13,0],[14,0,19,0],[20,0,25,0],[26,0,31,0],[32,0,37,0],[38,0,43,0],[44,0,49,0],[50,0,55,0],[56,0,61,0],[62,0,67,0],[68,0,73,0],[74,0,79,0],[80,0,85,0],[86,0,91,0],[92,0,97,0],[98,0,103,0],[104,0,109,0],[110,0,115,0],[116,0,121,0],[122,0,127,0],[128,0,133,0],[3,54,12,54],[3,55,12,55]]}
["I","I",2,"N"]
["別紙（用紙　日本工業規格Ａ４横型）",null,null,null,null,null,null,null,null,null,null,null,null,null,null,null,null,null,null,null,null,null,null,null,null,null,null,null,null,null,null,null,null,null,null,null,null,null,null,null,null,null,null,null,null,null,null,null,null,null,null,null,"行追加用T"]
[null,null,null,null,null,null,null,null,null,null,null,null,null,null,null,null,null,null,null,null,null,null,null,null,null,null,null,null,null,null,null,null,null,null,null,null,null,null,null,null,null,null,null,null,null,null,null,null,null,null,null,"年間受入量","開始行","終了行","行追加用T\n最終行","削除不可\n最低行数"]
["事業場の所在地",null,null,null,null,null,null,null,null,null,null,null,null,null,null,null,null,null,null,null,null,null,null,null,null,null,null,null,null,null,null,null,null,null,null,null,null,null,null,null,null,null,null,null,null,null,null,null,null,null,null,{"$f":"SUM(AY:AY)","v":0},129,{"$f":"BA4+5","v":134},{"$f":"COUNTA(BA4:BA13)","v":1},14]
["処分方法並びに当該処分が行われる施設ごと及び産業廃棄物又は特別管理産業廃棄物の種類ごとの処理能力"]
[]
["産業廃棄物又は特別管理産業廃棄物の種類ごと、処分方法ごと及び月ごとの処分状況"]
["種類","月",null,null,4,5,6,7,8,9,10,11,12,1,2,3,"年間総量（ｔ）","年間受入量（ｔ）"]
[null,"受入量(t)",null,null,null,null,null,null,null,null,null,null,null,null,null,null,{"$f":"SUM(E9:P9)","v":0},{"$f":"AZ4","v":0},null,null,null,null,null,null,null,null,null,null,null,null,null,null,null,null,null,null,null,null,null,null,null,null,null,null,null,null,null,null,null,null,{"$f":"Q9","v":0}]
[null,"処分量","処分方法１",null,null,null,null,null,null,null,null,null,null,null,null,null,0]
[null,"(t)","処分方法２",null,null,null,null,null,null,null,null,null,null,null,null,null,0]
[null,null,"処分方法３",null,null,null,null,null,null,null,null,null,null,null,null,null,0]
[null,null,"処分方法４",null,null,null,null,null,null,null,null,null,null,null,null,null,0]
[null,null,"処分方法５",null,null,null,null,null,null,null,null,null,null,null,null,null,0]
[null,"受入量(t)",null,null,null,null,null,null,null,null,null,null,null,null,null,null,0,null,null,null,null,null,null,null,null,null,null,null,null,null,null,null,null,null,null,null,null,null,null,null,null,null,null,null,null,null,null,null,null,null,{"$f":"Q15","v":0}]
[null,"処分量","処分方法１",null,null,null,null,null,null,null,null,null,null,null,null,null,0]
[null,"(t)","処分方法２",null,null,null,null,null,null,null,null,null,null,null,null,null,0]
[null,null,"処分方法３",null,null,null,null,null,null,null,null,null,null,null,null,null,0]
[null,null,"処分方法４",null,null,null,null,null,null,null,null,null,null,null,null,null,0]
[null,null,"処分方法５",null,null,null,null,null,null,null,null,null,null,null,null,null,0]
[null,"受入量(t)",null,null,null,null,null,null,null,null,null,null,null,null,null,null,0,null,null,null,null,null,null,null,null,null,null,null,null,null,null,null,null,null,null,null,null,null,null,null,null,null,null,null,null,null,null,null,null,null,{"$f":"Q21","v":0}]
[null,"処分量","処分方法１",null,null,null,null,null,null,null,null,null,null,null,null,null,0]
[null,"(t)","処分方法２",null,null,null,null,null,null,null,null,null,null,null,null,null,0]
[null,null,"処分方法３",null,null,null,null,null,null,null,null,null,null,null,null,null,0]
[null,null,"処分方法４",null,null,null,null,null,null,null,null,null,null,null,null,null,0]
[null,null,"処分方法５",null,null,null,null,null,null,null,null,null,null,null,null,null,0]
[null,"受入量(t)",null,null,null,null,null,null,null,null,null,null,null,null,null,null,0,null,null,null,null,null,null,null,null,null,null,null,null,null,null,null,null,null,null,null,null,null,null,null,null,null,null,null,null,null,null,null,null,null,{"$f":"Q27","v":0}]
[null,"処分量","処分方法１",null,null,null,null,null,null,null,null,null,null,null,null,null,0]
[null,"(t)","処分方法２",null,null,null,null,null,null,null,null,null,null,null,null,null,0]
[null,null,"処分方法３",null,null,null,null,null,null,null,null,null,null,null,null,null,0]
[null,null,"処分方法４",null,null,null,null,null,null,null,null,null,null,null,null,null,0]
[null,null,"処分方法５",null,null,null,null,null,null,null,null,null,null,null,null,null,0]
[null,"受入量(t)",null,null,null,null,null,null,null,null,null,null,null,null,null,null,0,null,null,null,null,null,null,null,null,null,null,null,null,null,null,null,null,null,null,null,null,null,null,null,null,null,null,null,null,null,null,null,null,null,{"$f":"Q33","v":0}]
[null,"処分量","処分方法１",null,null,null,null,null,null,null,null,null,null,null,null,null,0]
[null,"(t)","処分方法２",null,null,null,null,null,null,null,null,null,null,null,null,null,0]
[null,null,"処分方法３",null,null,null,null,null,null,null,null,null,null,null,null,null,0]
[null,null,"処分方法４",null,null,null,null,null,null,null,null,null,null,null,null,null,0]
[null,null,"処分方法５",null,null,null,null,null,null,null,null,null,null,null,null,null,0]
[null,"受入量(t)",null,null,null,null,null,null,null,null,null,null,null,null,null,null,0,null,null,null,null,null,null,null,null,null,null,null,null,null,null,null,null,null,null,null,null,null,null,null,null,null,null,null,null,null,null,null,null,null,{"$f":"Q39","v":0}]
[null,"処分量","処分方法１",null,null,null,null,null,null,null,null,null,null,null,null,null,0]
[null,"(t)","処分方法２",null,null,null,null,null,null,null,null,null,null,null,null,null,0]
[null,null,"処分方法３",null,null,null,null,null,null,null,null,null,null,null,null,null,0]
[null,null,"処分方法４",null,null,null,null,null,null,null,null,null,null,null,null,null,0]
[null,null,"処分方法５",null,null,null,null,null,null,null,null,null,null,null,null,null,0]
[null,"受入量(t)",null,null,null,null,null,null,null,null,null,null,null,null,null,null,0,null,null,null,null,null,null,null,null,null,null,null,null,null,null,null,null,null,null,null,null,null,null,null,null,null,null,null,null,null,null,null,null,null,{"$f":"Q45","v":0}]
[null,"処分量","処分方法１",null,null,null,null,null,null,null,null,null,null,null,null,null,0]
[null,"(t)","処分方法２",null,null,null,null,null,null,null,null,null,null,null,null,null,0]
[null,null,"処分方法３",null,null,null,null,null,null,null,null,null,null,null,null,null,0]
[null,null,"処分方法４",null,null,null,null,null,null,null,null,null,null,null,null,null,0]
[null,null,"処分方法５",null,null,null,null,null,null,null,null,null,null,null,null,null,0]
[null,"受入量(t)",null,null,null,null,null,null,null,null,null,null,null,null,null,null,0,null,null,null,null,null,null,null,null,null,null,null,null,null,null,null,null,null,null,null,null,null,null,null,null,null,null,null,null,null,null,null,null,null,{"$f":"Q51","v":0}]
[null,"処分量","処分方法１",null,null,null,null,null,null,null,null,null,null,null,null,null,0]
[null,"(t)","処分方法２",null,null,null,null,null,null,null,null,null,null,null,null,null,0]
[null,null,"処分方法３",null,null,null,null,null,null,null,null,null,null,null,null,null,0]
[null,null,"処分方法４",null,null,null,null,null,null,null,null,null,null,null,null,null,0]
[null,null,"処分方法５",null,null,null,null,null,null,null,null,null,null,null,null,null,0]
[null,"受入量(t)",null,null,null,null,null,null,null,null,null,null,null,null,null,null,0,null,null,null,null,null,null,null,null,null,null,null,null,null,null,null,null,null,null,null,null,null,null,null,null,null,null,null,null,null,null,null,null,null,{"$f":"Q57","v":0}]
[null,"処分量","処分方法１",null,null,null,null,null,null,null,null,null,null,null,null,null,0]
[null,"(t)","処分方法２",null,null,null,null,null,null,null,null,null,null,null,null,null,0]
[null,null,"処分方法３",null,null,null,null,null,null,null,null,null,null,null,null,null,0]
[null,null,"処分方法４",null,null,null,null,null,null,null,null,null,null,null,null,null,0]
[null,null,"処分方法５",null,null,null,null,null,null,null,null,null,null,null,null,null,0]
[null,"受入量(t)",null,null,null,null,null,null,null,null,null,null,null,null,null,null,0,null,null,null,null,null,null,null,null,null,null,null,null,null,null,null,null,null,null,null,null,null,null,null,null,null,null,null,null,null,null,null,null,null,{"$f":"Q63","v":0}]
[null,"処分量","処分方法１",null,null,null,null,null,null,null,null,null,null,null,null,null,0]
[null,"(t)","処分方法２",null,null,null,null,null,null,null,null,null,null,null,null,null,0]
[null,null,"処分方法３",null,null,null,null,null,null,null,null,null,null,null,null,null,0]
[null,null,"処分方法４",null,null,null,null,null,null,null,null,null,null,null,null,null,0]
[null,null,"処分方法５",null,null,null,null,null,null,null,null,null,null,null,null,null,0]
[null,"受入量(t)",null,null,null,null,null,null,null,null,null,null,null,null,null,null,0,null,null,null,null,null,null,null,null,null,null,null,null,null,null,null,null,null,null,null,null,null,null,null,null,null,null,null,null,null,null,null,null,null,{"$f":"Q69","v":0}]
[null,"処分量","処分方法１",null,null,null,null,null,null,null,null,null,null,null,null,null,0]
[null,"(t)","処分方法２",null,null,null,null,null,null,null,null,null,null,null,null,null,0]
[null,null,"処分方法３",null,null,null,null,null,null,null,null,null,null,null,null,null,0]
[null,null,"処分方法４",null,null,null,null,null,null,null,null,null,null,null,null,null,{"$f":"SUM(E73:P73)","v":0}]
[null,null,"処分方法５",null,null,null,null,null,null,null,null,null,null,null,null,null,0]
[null,"受入量(t)",null,null,null,null,null,null,null,null,null,null,null,null,null,null,0,null,null,null,null,null,null,null,null,null,null,null,null,null,null,null,null,null,null,null,null,null,null,null,null,null,null,null,null,null,null,null,null,null,{"$f":"Q75","v":0}]
[null,"処分量","処分方法１",null,null,null,null,null,null,null,null,null,null,null,null,null,0]
[null,"(t)","処分方法２",null,null,null,null,null,null,null,null,null,null,null,null,null,0]
[null,null,"処分方法３",null,null,null,null,null,null,null,null,null,null,null,null,null,0]
[null,null,"処分方法４",null,null,null,null,null,null,null,null,null,null,null,null,null,0]
[null,null,"処分方法５",null,null,null,null,null,null,null,null,null,null,null,null,null,0]
[null,"受入量(t)",null,null,null,null,null,null,null,null,null,null,null,null,null,null,0,null,null,null,null,null,null,null,null,null,null,null,null,null,null,null,null,null,null,null,null,null,null,null,null,null,null,null,null,null,null,null,null,null,{"$f":"Q81","v":0}]
[null,"処分量","処分方法１",null,null,null,null,null,null,null,null,null,null,null,null,null,0]
[null,"(t)","処分方法２",null,null,null,null,null,null,null,null,null,null,null,null,null,0]
[null,null,"処分方法３",null,null,null,null,null,null,null,null,null,null,null,null,null,0]
[null,null,"処分方法４",null,null,null,null,null,null,null,null,null,null,null,null,null,0]
[null,null,"処分方法５",null,null,null,null,null,null,null,null,null,null,null,null,null,0]
[null,"受入量(t)",null,null,null,null,null,null,null,null,null,null,null,null,null,null,0,null,null,null,null,null,null,null,null,null,null,null,null,null,null,null,null,null,null,null,null,null,null,null,null,null,null,null,null,null,null,null,null,null,{"$f":"Q87","v":0}]
[null,"処分量","処分方法１",null,null,null,null,null,null,null,null,null,null,null,null,null,0]
[null,"(t)","処分方法２",null,null,null,null,null,null,null,null,null,null,null,null,null,0]
[null,null,"処分方法３",null,null,null,null,null,null,null,null,null,null,null,null,null,0]
[null,null,"処分方法４",null,null,null,null,null,null,null,null,null,null,null,null,null,0]
[null,null,"処分方法５",null,null,null,null,null,null,null,null,null,null,null,null,null,0]
[null,"受入量(t)",null,null,null,null,null,null,null,null,null,null,null,null,null,null,0,null,null,null,null,null,null,null,null,null,null,null,null,null,null,null,null,null,null,null,null,null,null,null,null,null,null,null,null,null,null,null,null,null,{"$f":"Q93","v":0}]
[null,"処分量","処分方法１",null,null,null,null,null,null,null,null,null,null,null,null,null,0]
[null,"(t)","処分方法２",null,null,null,null,null,null,null,null,null,null,null,null,null,0]
[null,null,"処分方法３",null,null,null,null,null,null,null,null,null,null,null,null,null,0]
[null,null,"処分方法４",null,null,null,null,null,null,null,null,null,null,null,null,null,0]
[null,null,"処分方法５",null,null,null,null,null,null,null,null,null,null,null,null,null,0]
[null,"受入量(t)",null,null,null,null,null,null,null,null,null,null,null,null,null,null,0,null,null,null,null,null,null,null,null,null,null,null,null,null,null,null,null,null,null,null,null,null,null,null,null,null,null,null,null,null,null,null,null,null,{"$f":"Q99","v":0}]
[null,"処分量","処分方法１",null,null,null,null,null,null,null,null,null,null,null,null,null,0]
[null,"(t)","処分方法２",null,null,null,null,null,null,null,null,null,null,null,null,null,0]
[null,null,"処分方法３",null,null,null,null,null,null,null,null,null,null,null,null,null,0]
[null,null,"処分方法４",null,null,null,null,null,null,null,null,null,null,null,null,null,0]
[null,null,"処分方法５",null,null,null,null,null,null,null,null,null,null,null,null,null,0]
[null,"受入量(t)",null,null,null,null,null,null,null,null,null,null,null,null,null,null,0,null,null,null,null,null,null,null,null,null,null,null,null,null,null,null,null,null,null,null,null,null,null,null,null,null,null,null,null,null,null,null,null,null,{"$f":"Q105","v":0}]
[null,"処分量","処分方法１",null,null,null,null,null,null,null,null,null,null,null,null,null,0]
[null,"(t)","処分方法２",null,null,null,null,null,null,null,null,null,null,null,null,null,0]
[null,null,"処分方法３",null,null,null,null,null,null,null,null,null,null,null,null,null,0]
[null,null,"処分方法４",null,null,null,null,null,null,null,null,null,null,null,null,null,0]
[null,null,"処分方法５",null,null,null,null,null,null,null,null,null,null,null,null,null,0]
[null,"受入量(t)",null,null,null,null,null,null,null,null,null,null,null,null,null,null,0,null,null,null,null,null,null,null,null,null,null,null,null,null,null,null,null,null,null,null,null,null,null,null,null,null,null,null,null,null,null,null,null,null,{"$f":"Q111","v":0}]
[null,"処分量","処分方法１",null,null,null,null,null,null,null,null,null,null,null,null,null,0]
[null,"(t)","処分方法２",null,null,null,null,null,null,null,null,null,null,null,null,null,0]
[null,null,"処分方法３",null,null,null,null,null,null,null,null,null,null,null,null,null,0]
[null,null,"処分方法４",null,null,null,null,null,null,null,null,null,null,null,null,null,0]
[null,null,"処分方法５",null,null,null,null,null,null,null,null,null,null,null,null,null,0]
[null,"受入量(t)",null,null,null,null,null,null,null,null,null,null,null,null,null,null,0,null,null,null,null,null,null,null,null,null,null,null,null,null,null,null,null,null,null,null,null,null,null,null,null,null,null,null,null,null,null,null,null,null,{"$f":"Q117","v":0}]
[null,"処分量","処分方法１",null,null,null,null,null,null,null,null,null,null,null,null,null,0]
[null,"(t)","処分方法２",null,null,null,null,null,null,null,null,null,null,null,null,null,0]
[null,null,"処分方法３",null,null,null,null,null,null,null,null,null,null,null,null,null,0]
[null,null,"処分方法４",null,null,null,null,null,null,null,null,null,null,null,null,null,0]
[null,null,"処分方法５",null,null,null,null,null,null,null,null,null,null,null,null,null,0]
[null,"受入量(t)",null,null,null,null,null,null,null,null,null,null,null,null,null,null,0,null,null,null,null,null,null,null,null,null,null,null,null,null,null,null,null,null,null,null,null,null,null,null,null,null,null,null,null,null,null,null,null,null,{"$f":"Q123","v":0}]
[null,"処分量","処分方法１",null,null,null,null,null,null,null,null,null,null,null,null,null,0]
[null,"(t)","処分方法２",null,null,null,null,null,null,null,null,null,null,null,null,null,0]
[null,null,"処分方法３",null,null,null,null,null,null,null,null,null,null,null,null,null,0]
[null,null,"処分方法４",null,null,null,null,null,null,null,null,null,null,null,null,null,0]
[null,null,"処分方法５",null,null,null,null,null,null,null,null,null,null,null,null,null,0]
[null,"受入量(t)",null,null,null,null,null,null,null,null,null,null,null,null,null,null,0,null,null,null,null,null,null,null,null,null,null,null,null,null,null,null,null,null,null,null,null,null,null,null,null,null,null,null,null,null,null,null,null,null,{"$f":"Q129","v":0}]
[null,"処分量","処分方法１",null,null,null,null,null,null,null,null,null,null,null,null,null,0]
[null,"(t)","処分方法２",null,null,null,null,null,null,null,null,null,null,null,null,null,0]
[null,null,"処分方法３",null,null,null,null,null,null,null,null,null,null,null,null,null,0]
[null,null,"処分方法４",null,null,null,null,null,null,null,null,null,null,null,null,null,0]
[null,null,"処分方法５",null,null,null,null,null,null,null,null,null,null,null,null,null,0]

{"sheet":"様式第７号_別紙2","index":16,"n_rows":244,"n_cols":56,"rows_kept":244,"cut":false,"hidden":true,"merged":[[1,0,1,14],[1,52,1,55],[2,3,2,14],[14,1,14,2],[25,1,25,2],[36,1,36,2],[47,1,47,2],[58,1,58,2],[69,1,69,2],[80,1,80,2],[91,1,91,2],[102,1,102,2],[113,1,113,2],[124,1,124,2],[135,1,135,2],[146,1,146,2],[157,1,157,2],[168,1,168,2],[179,1,179,2],[190,1,190,2],[201,1,201,2],[212,1,212,2],[223,1,223,2],[234,1,234,2],[238,0,238,15],[239,0,239,15],[240,0,240,15],[241,0,241,15],[242,0,242,15],[243,0,243,15],[2,0,3,0],[2,1,3,1],[2,2,3,2],[2,15,3,15],[3,54,12,54],[3,55,12,55],[4,0,14,0],[15,0,25,0],[26,0,36,0],[37,0,47,0],[48,0,58,0],[59,0,69,0],[70,0,80,0],[81,0,91,0],[92,0,102,0],[103,0,113,0],[114,0,124,0],[125,0,135,0],[136,0,146,0],[147,0,157,0],[158,0,168,0],[169,0,179,0],[180,0,190,0],[191,0,201,0],[202,0,212,0],[213,0,223,0],[224,0,234,0]]}
["I","I",3,"N"]
["中間処理後の産業廃棄物又は特別管理産業廃棄物の種類ごと、持出先ごと、処分方法ごと及び月ごとの持出状況",null,null,null,null,null,null,null,null,null,null,null,null,null,null,null,null,null,null,null,null,null,null,null,null,null,"燃えがら",null,null,null,null,null,null,null,null,null,null,null,null,null,null,null,null,null,null,null,null,null,null,null,null,null,"行追加用T"]
["種類","持出先","処分方法","月　　　ご　　　と　　　の　　　持　　　出　　　量　　　（　ｔ　）",null,null,null,null,null,null,null,null,null,null,null,"年間総量（ｔ）","年間総量合計（ｔ）",null,null,null,null,null,null,null,null,null,"汚泥",null,null,null,null,null,null,null,null,null,null,null,null,null,null,null,null,null,null,null,null,null,null,null,"年間総量合計",null,"開始行","終了行","行追加用T\n最終行","削除不可\n最低行数"]
[null,null,null,4,5,6,7,8,9,10,11,12,1,2,3,null,{"$f":"AY4","v":0},null,null,null,null,null,null,null,null,null,"廃油",null,null,null,null,null,null,null,null,null,null,null,null,null,null,null,null,null,null,null,null,null,null,null,{"$f":"SUM(AX:AX)","v":0},null,225,{"$f":"BA4+10","v":235},{"$f":"COUNTA(BA4:BA13)","v":1},15]
[null,null,null,null,null,null,null,null,null,null,null,null,null,null,null,{"$f":"SUM(D5:O5)","v":0},null,null,null,null,null,null,null,null,null,null,"廃酸"]
[null,null,null,null,null,null,null,null,null,null,null,null,null,null,null,0,null,null,null,null,null,null,null,null,null,null,"廃アルカリ"]
[null,null,null,null,null,null,null,null,null,null,null,null,null,null,null,0,null,null,null,null,null,null,null,null,null,null,"廃プラスチック類"]
[null,null,null,null,null,null,null,null,null,null,null,null,null,null,null,0,null,null,null,null,null,null,null,null,null,null,"紙くず"]
[null,null,null,null,null,null,null,null,null,null,null,null,null,null,null,0,null,null,null,null,null,null,null,null,null,null,"木くず"]
[null,null,null,null,null,null,null,null,null,null,null,null,null,null,null,0,null,null,null,null,null,null,null,null,null,null,"繊維くず"]
[null,null,null,null,null,null,null,null,null,null,null,null,null,null,null,0,null,null,null,null,null,null,null,null,null,null,"動植物性残さ"]
[null,null,null,null,null,null,null,null,null,null,null,null,null,null,null,0,null,null,null,null,null,null,null,null,null,null,"ゴムくず"]
[null,null,null,null,null,null,null,null,null,null,null,null,null,null,null,0,null,null,null,null,null,null,null,null,null,null,"金属くず"]
[null,null,null,null,null,null,null,null,null,null,null,null,null,null,null,0,null,null,null,null,null,null,null,null,null,null,"ガラス・コンクリート・陶磁器くず"]
[null,"合計",null,{"$f":"SUM(D5:D14)","v":0},0,0,0,0,0,0,0,0,0,0,0,0,null,null,null,null,null,null,null,null,null,null,"鉱さい",null,null,null,null,null,null,null,null,null,null,null,null,null,null,null,null,null,null,null,null,null,null,{"$f":"P15","v":0}]
[null,null,null,null,null,null,null,null,null,null,null,null,null,null,null,0,null,null,null,null,null,null,null,null,null,null,"廃酸"]
[null,null,null,null,null,null,null,null,null,null,null,null,null,null,null,0,null,null,null,null,null,null,null,null,null,null,"廃アルカリ"]
[null,null,null,null,null,null,null,null,null,null,null,null,null,null,null,0,null,null,null,null,null,null,null,null,null,null,"廃プラスチック類"]
[null,null,null,null,null,null,null,null,null,null,null,null,null,null,null,0,null,null,null,null,null,null,null,null,null,null,"紙くず"]
[null,null,null,null,null,null,null,null,null,null,null,null,null,null,null,0,null,null,null,null,null,null,null,null,null,null,"木くず"]
[null,null,null,null,null,null,null,null,null,null,null,null,null,null,null,0,null,null,null,null,null,null,null,null,null,null,"繊維くず"]
[null,null,null,null,null,null,null,null,null,null,null,null,null,null,null,0,null,null,null,null,null,null,null,null,null,null,"動植物性残さ"]
[null,null,null,null,null,null,null,null,null,null,null,null,null,null,null,0,null,null,null,null,null,null,null,null,null,null,"ゴムくず"]
[null,null,null,null,null,null,null,null,null,null,null,null,null,null,null,0,null,null,null,null,null,null,null,null,null,null,"金属くず"]
[null,null,null,null,null,null,null,null,null,null,null,null,null,null,null,0,null,null,null,null,null,null,null,null,null,null,"ガラス・コンクリート・陶磁器くず"]
[null,"合計",null,{"$f":"SUM(D16:D25)","v":0},0,0,0,0,0,0,0,0,0,0,0,0,null,null,null,null,null,null,null,null,null,null,"鉱さい",null,null,null,null,null,null,null,null,null,null,null,null,null,null,null,null,null,null,null,null,null,null,{"$f":"P26","v":0}]
[null,null,null,null,null,null,null,null,null,null,null,null,null,null,null,0,null,null,null,null,null,null,null,null,null,null,"廃酸"]
[null,null,null,null,null,null,null,null,null,null,null,null,null,null,null,0,null,null,null,null,null,null,null,null,null,null,"廃アルカリ"]
[null,null,null,null,null,null,null,null,null,null,null,null,null,null,null,0,null,null,null,null,null,null,null,null,null,null,"廃プラスチック類"]
[null,null,null,null,null,null,null,null,null,null,null,null,null,null,null,0,null,null,null,null,null,null,null,null,null,null,"紙くず"]
[null,null,null,null,null,null,null,null,null,null,null,null,null,null,null,0,null,null,null,null,null,null,null,null,null,null,"木くず"]
[null,null,null,null,null,null,null,null,null,null,null,null,null,null,null,0,null,null,null,null,null,null,null,null,null,null,"繊維くず"]
[null,null,null,null,null,null,null,null,null,null,null,null,null,null,null,0,null,null,null,null,null,null,null,null,null,null,"動植物性残さ"]
[null,null,null,null,null,null,null,null,null,null,null,null,null,null,null,0,null,null,null,null,null,null,null,null,null,null,"ゴムくず"]
[null,null,null,null,null,null,null,null,null,null,null,null,null,null,null,0,null,null,null,null,null,null,null,null,null,null,"金属くず"]
[null,null,null,null,null,null,null,null,null,null,null,null,null,null,null,0,null,null,null,null,null,null,null,null,null,null,"ガラス・コンクリート・陶磁器くず"]
[null,"合計",null,{"$f":"SUM(D27:D36)","v":0},0,0,0,0,0,0,0,0,0,0,0,0,null,null,null,null,null,null,null,null,null,null,"鉱さい",null,null,null,null,null,null,null,null,null,null,null,null,null,null,null,null,null,null,null,null,null,null,{"$f":"P37","v":0}]
[null,null,null,null,null,null,null,null,null,null,null,null,null,null,null,0,null,null,null,null,null,null,null,null,null,null,"廃酸"]
[null,null,null,null,null,null,null,null,null,null,null,null,null,null,null,0,null,null,null,null,null,null,null,null,null,null,"廃アルカリ"]
[null,null,null,null,null,null,null,null,null,null,null,null,null,null,null,0,null,null,null,null,null,null,null,null,null,null,"廃プラスチック類"]
[null,null,null,null,null,null,null,null,null,null,null,null,null,null,null,0,null,null,null,null,null,null,null,null,null,null,"紙くず"]
[null,null,null,null,null,null,null,null,null,null,null,null,null,null,null,0,null,null,null,null,null,null,null,null,null,null,"木くず"]
[null,null,null,null,null,null,null,null,null,null,null,null,null,null,null,0,null,null,null,null,null,null,null,null,null,null,"繊維くず"]
[null,null,null,null,null,null,null,null,null,null,null,null,null,null,null,0,null,null,null,null,null,null,null,null,null,null,"動植物性残さ"]
[null,null,null,null,null,null,null,null,null,null,null,null,null,null,null,0,null,null,null,null,null,null,null,null,null,null,"ゴムくず"]
[null,null,null,null,null,null,null,null,null,null,null,null,null,null,null,0,null,null,null,null,null,null,null,null,null,null,"金属くず"]
[null,null,null,null,null,null,null,null,null,null,null,null,null,null,null,0,null,null,null,null,null,null,null,null,null,null,"ガラス・コンクリート・陶磁器くず"]
[null,"合計",null,{"$f":"SUM(D38:D47)","v":0},0,0,0,0,0,0,0,0,0,0,0,0,null,null,null,null,null,null,null,null,null,null,"鉱さい",null,null,null,null,null,null,null,null,null,null,null,null,null,null,null,null,null,null,null,null,null,null,{"$f":"P48","v":0}]
[null,null,null,null,null,null,null,null,null,null,null,null,null,null,null,0,null,null,null,null,null,null,null,null,null,null,"廃酸"]
[null,null,null,null,null,null,null,null,null,null,null,null,null,null,null,0,null,null,null,null,null,null,null,null,null,null,"廃アルカリ"]
[null,null,null,null,null,null,null,null,null,null,null,null,null,null,null,0,null,null,null,null,null,null,null,null,null,null,"廃プラスチック類"]
[null,null,null,null,null,null,null,null,null,null,null,null,null,null,null,0,null,null,null,null,null,null,null,null,null,null,"紙くず"]
[null,null,null,null,null,null,null,null,null,null,null,null,null,null,null,0,null,null,null,null,null,null,null,null,null,null,"木くず"]
[null,null,null,null,null,null,null,null,null,null,null,null,null,null,null,0,null,null,null,null,null,null,null,null,null,null,"繊維くず"]
[null,null,null,null,null,null,null,null,null,null,null,null,null,null,null,0,null,null,null,null,null,null,null,null,null,null,"動植物性残さ"]
[null,null,null,null,null,null,null,null,null,null,null,null,null,null,null,0,null,null,null,null,null,null,null,null,null,null,"ゴムくず"]
[null,null,null,null,null,null,null,null,null,null,null,null,null,null,null,0,null,null,null,null,null,null,null,null,null,null,"金属くず"]
[null,null,null,null,null,null,null,null,null,null,null,null,null,null,null,0,null,null,null,null,null,null,null,null,null,null,"ガラス・コンクリート・陶磁器くず"]
[null,"合計",null,{"$f":"SUM(D49:D58)","v":0},0,0,0,0,0,0,0,0,0,0,0,0,null,null,null,null,null,null,null,null,null,null,"鉱さい",null,null,null,null,null,null,null,null,null,null,null,null,null,null,null,null,null,null,null,null,null,null,{"$f":"P59","v":0}]
[null,null,null,null,null,null,null,null,null,null,null,null,null,null,null,0,null,null,null,null,null,null,null,null,null,null,"廃酸"]
[null,null,null,null,null,null,null,null,null,null,null,null,null,null,null,0,null,null,null,null,null,null,null,null,null,null,"廃アルカリ"]
[null,null,null,null,null,null,null,null,null,null,null,null,null,null,null,0,null,null,null,null,null,null,null,null,null,null,"廃プラスチック類"]
[null,null,null,null,null,null,null,null,null,null,null,null,null,null,null,0,null,null,null,null,null,null,null,null,null,null,"紙くず"]
[null,null,null,null,null,null,null,null,null,null,null,null,null,null,null,0,null,null,null,null,null,null,null,null,null,null,"木くず"]
[null,null,null,null,null,null,null,null,null,null,null,null,null,null,null,0,null,null,null,null,null,null,null,null,null,null,"繊維くず"]
[null,null,null,null,null,null,null,null,null,null,null,null,null,null,null,0,null,null,null,null,null,null,null,null,null,null,"動植物性残さ"]
[null,null,null,null,null,null,null,null,null,null,null,null,null,null,null,0,null,null,null,null,null,null,null,null,null,null,"ゴムくず"]
[null,null,null,null,null,null,null,null,null,null,null,null,null,null,null,0,null,null,null,null,null,null,null,null,null,null,"金属くず"]
[null,null,null,null,null,null,null,null,null,null,null,null,null,null,null,{"$f":"SUM(D69:O69)","v":0},null,null,null,null,null,null,null,null,null,null,"ガラス・コンクリート・陶磁器くず"]
[null,"合計",null,{"$f":"SUM(D60:D69)","v":0},0,0,0,0,0,0,0,0,0,0,0,0,null,null,null,null,null,null,null,null,null,null,"鉱さい",null,null,null,null,null,null,null,null,null,null,null,null,null,null,null,null,null,null,null,null,null,null,{"$f":"P70","v":0}]
[null,null,null,null,null,null,null,null,null,null,null,null,null,null,null,0,null,null,null,null,null,null,null,null,null,null,"廃酸"]
[null,null,null,null,null,null,null,null,null,null,null,null,null,null,null,0,null,null,null,null,null,null,null,null,null,null,"廃アルカリ"]
[null,null,null,null,null,null,null,null,null,null,null,null,null,null,null,0,null,null,null,null,null,null,null,null,null,null,"廃プラスチック類"]
[null,null,null,null,null,null,null,null,null,null,null,null,null,null,null,0,null,null,null,null,null,null,null,null,null,null,"紙くず"]
[null,null,null,null,null,null,null,null,null,null,null,null,null,null,null,0,null,null,null,null,null,null,null,null,null,null,"木くず"]
[null,null,null,null,null,null,null,null,null,null,null,null,null,null,null,0,null,null,null,null,null,null,null,null,null,null,"繊維くず"]
[null,null,null,null,null,null,null,null,null,null,null,null,null,null,null,0,null,null,null,null,null,null,null,null,null,null,"動植物性残さ"]
[null,null,null,null,null,null,null,null,null,null,null,null,null,null,null,0,null,null,null,null,null,null,null,null,null,null,"ゴムくず"]
[null,null,null,null,null,null,null,null,null,null,null,null,null,null,null,0,null,null,null,null,null,null,null,null,null,null,"金属くず"]
[null,null,null,null,null,null,null,null,null,null,null,null,null,null,null,0,null,null,null,null,null,null,null,null,null,null,"ガラス・コンクリート・陶磁器くず"]
[null,"合計",null,{"$f":"SUM(D71:D80)","v":0},0,0,0,0,0,0,0,0,0,0,0,0,null,null,null,null,null,null,null,null,null,null,"鉱さい",null,null,null,null,null,null,null,null,null,null,null,null,null,null,null,null,null,null,null,null,null,null,{"$f":"P81","v":0}]
[null,null,null,null,null,null,null,null,null,null,null,null,null,null,null,0,null,null,null,null,null,null,null,null,null,null,"廃酸"]
[null,null,null,null,null,null,null,null,null,null,null,null,null,null,null,0,null,null,null,null,null,null,null,null,null,null,"廃アルカリ"]
[null,null,null,null,null,null,null,null,null,null,null,null,null,null,null,0,null,null,null,null,null,null,null,null,null,null,"廃プラスチック類"]
[null,null,null,null,null,null,null,null,null,null,null,null,null,null,null,0,null,null,null,null,null,null,null,null,null,null,"紙くず"]
[null,null,null,null,null,null,null,null,null,null,null,null,null,null,null,0,null,null,null,null,null,null,null,null,null,null,"木くず"]
[null,null,null,null,null,null,null,null,null,null,null,null,null,null,null,0,null,null,null,null,null,null,null,null,null,null,"繊維くず"]
[null,null,null,null,null,null,null,null,null,null,null,null,null,null,null,0,null,null,null,null,null,null,null,null,null,null,"動植物性残さ"]
[null,null,null,null,null,null,null,null,null,null,null,null,null,null,null,0,null,null,null,null,null,null,null,null,null,null,"ゴムくず"]
[null,null,null,null,null,null,null,null,null,null,null,null,null,null,null,0,null,null,null,null,null,null,null,null,null,null,"金属くず"]
[null,null,null,null,null,null,null,null,null,null,null,null,null,null,null,0,null,null,null,null,null,null,null,null,null,null,"ガラス・コンクリート・陶磁器くず"]
[null,"合計",null,{"$f":"SUM(D82:D91)","v":0},0,0,0,0,0,0,0,0,0,0,0,0,null,null,null,null,null,null,null,null,null,null,"鉱さい",null,null,null,null,null,null,null,null,null,null,null,null,null,null,null,null,null,null,null,null,null,null,{"$f":"P92","v":0}]
[null,null,null,null,null,null,null,null,null,null,null,null,null,null,null,0,null,null,null,null,null,null,null,null,null,null,"廃酸"]
[null,null,null,null,null,null,null,null,null,null,null,null,null,null,null,0,null,null,null,null,null,null,null,null,null,null,"廃アルカリ"]
[null,null,null,null,null,null,null,null,null,null,null,null,null,null,null,0,null,null,null,null,null,null,null,null,null,null,"廃プラスチック類"]
[null,null,null,null,null,null,null,null,null,null,null,null,null,null,null,0,null,null,null,null,null,null,null,null,null,null,"紙くず"]
[null,null,null,null,null,null,null,null,null,null,null,null,null,null,null,0,null,null,null,null,null,null,null,null,null,null,"木くず"]
[null,null,null,null,null,null,null,null,null,null,null,null,null,null,null,0,null,null,null,null,null,null,null,null,null,null,"繊維くず"]
[null,null,null,null,null,null,null,null,null,null,null,null,null,null,null,0,null,null,null,null,null,null,null,null,null,null,"動植物性残さ"]
[null,null,null,null,null,null,null,null,null,null,null,null,null,null,null,0,null,null,null,null,null,null,null,null,null,null,"ゴムくず"]
[null,null,null,null,null,null,null,null,null,null,null,null,null,null,null,0,null,null,null,null,null,null,null,null,null,null,"金属くず"]
[null,null,null,null,null,null,null,null,null,null,null,null,null,null,null,0,null,null,null,null,null,null,null,null,null,null,"ガラス・コンクリート・陶磁器くず"]
[null,"合計",null,{"$f":"SUM(D93:D102)","v":0},0,0,0,0,0,0,0,0,0,0,0,0,null,null,null,null,null,null,null,null,null,null,"鉱さい",null,null,null,null,null,null,null,null,null,null,null,null,null,null,null,null,null,null,null,null,null,null,{"$f":"P103","v":0}]
[null,null,null,null,null,null,null,null,null,null,null,null,null,null,null,0,null,null,null,null,null,null,null,null,null,null,"廃酸"]
[null,null,null,null,null,null,null,null,null,null,null,null,null,null,null,0,null,null,null,null,null,null,null,null,null,null,"廃アルカリ"]
[null,null,null,null,null,null,null,null,null,null,null,null,null,null,null,0,null,null,null,null,null,null,null,null,null,null,"廃プラスチック類"]
[null,null,null,null,null,null,null,null,null,null,null,null,null,null,null,0,null,null,null,null,null,null,null,null,null,null,"紙くず"]
[null,null,null,null,null,null,null,null,null,null,null,null,null,null,null,0,null,null,null,null,null,null,null,null,null,null,"木くず"]
[null,null,null,null,null,null,null,null,null,null,null,null,null,null,null,0,null,null,null,null,null,null,null,null,null,null,"繊維くず"]
[null,null,null,null,null,null,null,null,null,null,null,null,null,null,null,0,null,null,null,null,null,null,null,null,null,null,"動植物性残さ"]
[null,null,null,null,null,null,null,null,null,null,null,null,null,null,null,0,null,null,null,null,null,null,null,null,null,null,"ゴムくず"]
[null,null,null,null,null,null,null,null,null,null,null,null,null,null,null,0,null,null,null,null,null,null,null,null,null,null,"金属くず"]
[null,null,null,null,null,null,null,null,null,null,null,null,null,null,null,0,null,null,null,null,null,null,null,null,null,null,"ガラス・コンクリート・陶磁器くず"]
[null,"合計",null,{"$f":"SUM(D104:D113)","v":0},0,0,0,0,0,0,0,0,0,0,0,0,null,null,null,null,null,null,null,null,null,null,"鉱さい",null,null,null,null,null,null,null,null,null,null,null,null,null,null,null,null,null,null,null,null,null,null,{"$f":"P114","v":0}]
[null,null,null,null,null,null,null,null,null,null,null,null,null,null,null,0,null,null,null,null,null,null,null,null,null,null,"廃酸"]
[null,null,null,null,null,null,null,null,null,null,null,null,null,null,null,0,null,null,null,null,null,null,null,null,null,null,"廃アルカリ"]
[null,null,null,null,null,null,null,null,null,null,null,null,null,null,null,0,null,null,null,null,null,null,null,null,null,null,"廃プラスチック類"]
[null,null,null,null,null,null,null,null,null,null,null,null,null,null,null,0,null,null,null,null,null,null,null,null,null,null,"紙くず"]
[null,null,null,null,null,null,null,null,null,null,null,null,null,null,null,0,null,null,null,null,null,null,null,null,null,null,"木くず"]
[null,null,null,null,null,null,null,null,null,null,null,null,null,null,null,0,null,null,null,null,null,null,null,null,null,null,"繊維くず"]
[null,null,null,null,null,null,null,null,null,null,null,null,null,null,null,0,null,null,null,null,null,null,null,null,null,null,"動植物性残さ"]
[null,null,null,null,null,null,null,null,null,null,null,null,null,null,null,0,null,null,null,null,null,null,null,null,null,null,"ゴムくず"]
[null,null,null,null,null,null,null,null,null,null,null,null,null,null,null,0,null,null,null,null,null,null,null,null,null,null,"金属くず"]
[null,null,null,null,null,null,null,null,null,null,null,null,null,null,null,0,null,null,null,null,null,null,null,null,null,null,"ガラス・コンクリート・陶磁器くず"]
[null,"合計",null,{"$f":"SUM(D115:D124)","v":0},0,0,0,0,0,0,0,0,0,0,0,0,null,null,null,null,null,null,null,null,null,null,"鉱さい",null,null,null,null,null,null,null,null,null,null,null,null,null,null,null,null,null,null,null,null,null,null,{"$f":"P125","v":0}]
[null,null,null,null,null,null,null,null,null,null,null,null,null,null,null,0,null,null,null,null,null,null,null,null,null,null,"廃酸"]
[null,null,null,null,null,null,null,null,null,null,null,null,null,null,null,0,null,null,null,null,null,null,null,null,null,null,"廃アルカリ"]
[null,null,null,null,null,null,null,null,null,null,null,null,null,null,null,0,null,null,null,null,null,null,null,null,null,null,"廃プラスチック類"]
[null,null,null,null,null,null,null,null,null,null,null,null,null,null,null,0,null,null,null,null,null,null,null,null,null,null,"紙くず"]
[null,null,null,null,null,null,null,null,null,null,null,null,null,null,null,0,null,null,null,null,null,null,null,null,null,null,"木くず"]
[null,null,null,null,null,null,null,null,null,null,null,null,null,null,null,0,null,null,null,null,null,null,null,null,null,null,"繊維くず"]
[null,null,null,null,null,null,null,null,null,null,null,null,null,null,null,0,null,null,null,null,null,null,null,null,null,null,"動植物性残さ"]
[null,null,null,null,null,null,null,null,null,null,null,null,null,null,null,{"$f":"SUM(D133:O133)","v":0},null,null,null,null,null,null,null,null,null,null,"ゴムくず"]
[null,null,null,null,null,null,null,null,null,null,null,null,null,null,null,0,null,null,null,null,null,null,null,null,null,null,"金属くず"]
[null,null,null,null,null,null,null,null,null,null,null,null,null,null,null,0,null,null,null,null,null,null,null,null,null,null,"ガラス・コンクリート・陶磁器くず"]
[null,"合計",null,{"$f":"SUM(D126:D135)","v":0},0,0,0,0,0,0,0,0,0,0,0,0,null,null,null,null,null,null,null,null,null,null,"鉱さい",null,null,null,null,null,null,null,null,null,null,null,null,null,null,null,null,null,null,null,null,null,null,{"$f":"P136","v":0}]
[null,null,null,null,null,null,null,null,null,null,null,null,null,null,null,0,null,null,null,null,null,null,null,null,null,null,"廃酸"]
[null,null,null,null,null,null,null,null,null,null,null,null,null,null,null,0,null,null,null,null,null,null,null,null,null,null,"廃アルカリ"]
[null,null,null,null,null,null,null,null,null,null,null,null,null,null,null,0,null,null,null,null,null,null,null,null,null,null,"廃プラスチック類"]
[null,null,null,null,null,null,null,null,null,null,null,null,null,null,null,0,null,null,null,null,null,null,null,null,null,null,"紙くず"]
[null,null,null,null,null,null,null,null,null,null,null,null,null,null,null,0,null,null,null,null,null,null,null,null,null,null,"木くず"]
[null,null,null,null,null,null,null,null,null,null,null,null,null,null,null,0,null,null,null,null,null,null,null,null,null,null,"繊維くず"]
[null,null,null,null,null,null,null,null,null,null,null,null,null,null,null,0,null,null,null,null,null,null,null,null,null,null,"動植物性残さ"]
[null,null,null,null,null,null,null,null,null,null,null,null,null,null,null,0,null,null,null,null,null,null,null,null,null,null,"ゴムくず"]
[null,null,null,null,null,null,null,null,null,null,null,null,null,null,null,0,null,null,null,null,null,null,null,null,null,null,"金属くず"]
[null,null,null,null,null,null,null,null,null,null,null,null,null,null,null,0,null,null,null,null,null,null,null,null,null,null,"ガラス・コンクリート・陶磁器くず"]
[null,"合計",null,{"$f":"SUM(D137:D146)","v":0},0,0,0,0,0,0,0,0,0,0,0,0,null,null,null,null,null,null,null,null,null,null,"鉱さい",null,null,null,null,null,null,null,null,null,null,null,null,null,null,null,null,null,null,null,null,null,null,{"$f":"P147","v":0}]
[null,null,null,null,null,null,null,null,null,null,null,null,null,null,null,0,null,null,null,null,null,null,null,null,null,null,"廃酸"]
[null,null,null,null,null,null,null,null,null,null,null,null,null,null,null,0,null,null,null,null,null,null,null,null,null,null,"廃アルカリ"]
[null,null,null,null,null,null,null,null,null,null,null,null,null,null,null,0,null,null,null,null,null,null,null,null,null,null,"廃プラスチック類"]
[null,null,null,null,null,null,null,null,null,null,null,null,null,null,null,0,null,null,null,null,null,null,null,null,null,null,"紙くず"]
[null,null,null,null,null,null,null,null,null,null,null,null,null,null,null,0,null,null,null,null,null,null,null,null,null,null,"木くず"]
[null,null,null,null,null,null,null,null,null,null,null,null,null,null,null,0,null,null,null,null,null,null,null,null,null,null,"繊維くず"]
[null,null,null,null,null,null,null,null,null,null,null,null,null,null,null,0,null,null,null,null,null,null,null,null,null,null,"動植物性残さ"]
[null,null,null,null,null,null,null,null,null,null,null,null,null,null,null,0,null,null,null,null,null,null,null,null,null,null,"ゴムくず"]
[null,null,null,null,null,null,null,null,null,null,null,null,null,null,null,0,null,null,null,null,null,null,null,null,null,null,"金属くず"]
[null,null,null,null,null,null,null,null,null,null,null,null,null,null,null,0,null,null,null,null,null,null,null,null,null,null,"ガラス・コンクリート・陶磁器くず"]
[null,"合計",null,{"$f":"SUM(D148:D157)","v":0},0,0,0,0,0,0,0,0,0,0,0,0,null,null,null,null,null,null,null,null,null,null,"鉱さい",null,null,null,null,null,null,null,null,null,null,null,null,null,null,null,null,null,null,null,null,null,null,{"$f":"P158","v":0}]
[null,null,null,null,null,null,null,null,null,null,null,null,null,null,null,0,null,null,null,null,null,null,null,null,null,null,"廃酸"]
[null,null,null,null,null,null,null,null,null,null,null,null,null,null,null,0,null,null,null,null,null,null,null,null,null,null,"廃アルカリ"]
[null,null,null,null,null,null,null,null,null,null,null,null,null,null,null,0,null,null,null,null,null,null,null,null,null,null,"廃プラスチック類"]
[null,null,null,null,null,null,null,null,null,null,null,null,null,null,null,0,null,null,null,null,null,null,null,null,null,null,"紙くず"]
[null,null,null,null,null,null,null,null,null,null,null,null,null,null,null,0,null,null,null,null,null,null,null,null,null,null,"木くず"]
[null,null,null,null,null,null,null,null,null,null,null,null,null,null,null,0,null,null,null,null,null,null,null,null,null,null,"繊維くず"]
[null,null,null,null,null,null,null,null,null,null,null,null,null,null,null,0,null,null,null,null,null,null,null,null,null,null,"動植物性残さ"]
[null,null,null,null,null,null,null,null,null,null,null,null,null,null,null,0,null,null,null,null,null,null,null,null,null,null,"ゴムくず"]
[null,null,null,null,null,null,null,null,null,null,null,null,null,null,null,0,null,null,null,null,null,null,null,null,null,null,"金属くず"]
[null,null,null,null,null,null,null,null,null,null,null,null,null,null,null,0,null,null,null,null,null,null,null,null,null,null,"ガラス・コンクリート・陶磁器くず"]
[null,"合計",null,{"$f":"SUM(D159:D168)","v":0},0,0,0,0,0,0,0,0,0,0,0,0,null,null,null,null,null,null,null,null,null,null,"鉱さい",null,null,null,null,null,null,null,null,null,null,null,null,null,null,null,null,null,null,null,null,null,null,{"$f":"P169","v":0}]
[null,null,null,null,null,null,null,null,null,null,null,null,null,null,null,0,null,null,null,null,null,null,null,null,null,null,"廃酸"]
[null,null,null,null,null,null,null,null,null,null,null,null,null,null,null,0,null,null,null,null,null,null,null,null,null,null,"廃アルカリ"]
[null,null,null,null,null,null,null,null,null,null,null,null,null,null,null,0,null,null,null,null,null,null,null,null,null,null,"廃プラスチック類"]
[null,null,null,null,null,null,null,null,null,null,null,null,null,null,null,0,null,null,null,null,null,null,null,null,null,null,"紙くず"]
[null,null,null,null,null,null,null,null,null,null,null,null,null,null,null,0,null,null,null,null,null,null,null,null,null,null,"木くず"]
[null,null,null,null,null,null,null,null,null,null,null,null,null,null,null,0,null,null,null,null,null,null,null,null,null,null,"繊維くず"]
[null,null,null,null,null,null,null,null,null,null,null,null,null,null,null,0,null,null,null,null,null,null,null,null,null,null,"動植物性残さ"]
[null,null,null,null,null,null,null,null,null,null,null,null,null,null,null,0,null,null,null,null,null,null,null,null,null,null,"ゴムくず"]
[null,null,null,null,null,null,null,null,null,null,null,null,null,null,null,0,null,null,null,null,null,null,null,null,null,null,"金属くず"]
[null,null,null,null,null,null,null,null,null,null,null,null,null,null,null,0,null,null,null,null,null,null,null,null,null,null,"ガラス・コンクリート・陶磁器くず"]
[null,"合計",null,{"$f":"SUM(D170:D179)","v":0},0,0,0,0,0,0,0,0,0,0,0,0,null,null,null,null,null,null,null,null,null,null,"鉱さい",null,null,null,null,null,null,null,null,null,null,null,null,null,null,null,null,null,null,null,null,null,null,{"$f":"P180","v":0}]
[null,null,null,null,null,null,null,null,null,null,null,null,null,null,null,0,null,null,null,null,null,null,null,null,null,null,"廃酸"]
[null,null,null,null,null,null,null,null,null,null,null,null,null,null,null,0,null,null,null,null,null,null,null,null,null,null,"廃アルカリ"]
[null,null,null,null,null,null,null,null,null,null,null,null,null,null,null,0,null,null,null,null,null,null,null,null,null,null,"廃プラスチック類"]
[null,null,null,null,null,null,null,null,null,null,null,null,null,null,null,0,null,null,null,null,null,null,null,null,null,null,"紙くず"]
[null,null,null,null,null,null,null,null,null,null,null,null,null,null,null,0,null,null,null,null,null,null,null,null,null,null,"木くず"]
[null,null,null,null,null,null,null,null,null,null,null,null,null,null,null,0,null,null,null,null,null,null,null,null,null,null,"繊維くず"]
[null,null,null,null,null,null,null,null,null,null,null,null,null,null,null,0,null,null,null,null,null,null,null,null,null,null,"動植物性残さ"]
[null,null,null,null,null,null,null,null,null,null,null,null,null,null,null,0,null,null,null,null,null,null,null,null,null,null,"ゴムくず"]
[null,null,null,null,null,null,null,null,null,null,null,null,null,null,null,0,null,null,null,null,null,null,null,null,null,null,"金属くず"]
[null,null,null,null,null,null,null,null,null,null,null,null,null,null,null,0,null,null,null,null,null,null,null,null,null,null,"ガラス・コンクリート・陶磁器くず"]
[null,"合計",null,{"$f":"SUM(D181:D190)","v":0},0,0,0,0,0,0,0,0,0,0,0,0,null,null,null,null,null,null,null,null,null,null,"鉱さい",null,null,null,null,null,null,null,null,null,null,null,null,null,null,null,null,null,null,null,null,null,null,{"$f":"P191","v":0}]
[null,null,null,null,null,null,null,null,null,null,null,null,null,null,null,0,null,null,null,null,null,null,null,null,null,null,"廃酸"]
[null,null,null,null,null,null,null,null,null,null,null,null,null,null,null,0,null,null,null,null,null,null,null,null,null,null,"廃アルカリ"]
[null,null,null,null,null,null,null,null,null,null,null,null,null,null,null,0,null,null,null,null,null,null,null,null,null,null,"廃プラスチック類"]
[null,null,null,null,null,null,null,null,null,null,null,null,null,null,null,0,null,null,null,null,null,null,null,null,null,null,"紙くず"]
[null,null,null,null,null,null,null,null,null,null,null,null,null,null,null,0,null,null,null,null,null,null,null,null,null,null,"木くず"]
[null,null,null,null,null,null,null,null,null,null,null,null,null,null,null,{"$f":"SUM(D197:O197)","v":0},null,null,null,null,null,null,null,null,null,null,"繊維くず"]
[null,null,null,null,null,null,null,null,null,null,null,null,null,null,null,0,null,null,null,null,null,null,null,null,null,null,"動植物性残さ"]
[null,null,null,null,null,null,null,null,null,null,null,null,null,null,null,0,null,null,null,null,null,null,null,null,null,null,"ゴムくず"]
[null,null,null,null,null,null,null,null,null,null,null,null,null,null,null,0,null,null,null,null,null,null,null,null,null,null,"金属くず"]
[null,null,null,null,null,null,null,null,null,null,null,null,null,null,null,0,null,null,null,null,null,null,null,null,null,null,"ガラス・コンクリート・陶磁器くず"]
[null,"合計",null,{"$f":"SUM(D192:D201)","v":0},0,0,0,0,0,0,0,0,0,0,0,0,null,null,null,null,null,null,null,null,null,null,"鉱さい",null,null,null,null,null,null,null,null,null,null,null,null,null,null,null,null,null,null,null,null,null,null,{"$f":"P202","v":0}]
[null,null,null,null,null,null,null,null,null,null,null,null,null,null,null,0,null,null,null,null,null,null,null,null,null,null,"廃酸"]
[null,null,null,null,null,null,null,null,null,null,null,null,null,null,null,0,null,null,null,null,null,null,null,null,null,null,"廃アルカリ"]
[null,null,null,null,null,null,null,null,null,null,null,null,null,null,null,0,null,null,null,null,null,null,null,null,null,null,"廃プラスチック類"]
[null,null,null,null,null,null,null,null,null,null,null,null,null,null,null,0,null,null,null,null,null,null,null,null,null,null,"紙くず"]
[null,null,null,null,null,null,null,null,null,null,null,null,null,null,null,0,null,null,null,null,null,null,null,null,null,null,"木くず"]
[null,null,null,null,null,null,null,null,null,null,null,null,null,null,null,0,null,null,null,null,null,null,null,null,null,null,"繊維くず"]
[null,null,null,null,null,null,null,null,null,null,null,null,null,null,null,0,null,null,null,null,null,null,null,null,null,null,"動植物性残さ"]
[null,null,null,null,null,null,null,null,null,null,null,null,null,null,null,0,null,null,null,null,null,null,null,null,null,null,"ゴムくず"]
[null,null,null,null,null,null,null,null,null,null,null,null,null,null,null,0,null,null,null,null,null,null,null,null,null,null,"金属くず"]
[null,null,null,null,null,null,null,null,null,null,null,null,null,null,null,0,null,null,null,null,null,null,null,null,null,null,"ガラス・コンクリート・陶磁器くず"]
[null,"合計",null,{"$f":"SUM(D203:D212)","v":0},0,0,0,0,0,0,0,0,0,0,0,0,null,null,null,null,null,null,null,null,null,null,"鉱さい",null,null,null,null,null,null,null,null,null,null,null,null,null,null,null,null,null,null,null,null,null,null,{"$f":"P213","v":0}]
[null,null,null,null,null,null,null,null,null,null,null,null,null,null,null,0,null,null,null,null,null,null,null,null,null,null,"廃酸"]
[null,null,null,null,null,null,null,null,null,null,null,null,null,null,null,0,null,null,null,null,null,null,null,null,null,null,"廃アルカリ"]
[null,null,null,null,null,null,null,null,null,null,null,null,null,null,null,0,null,null,null,null,null,null,null,null,null,null,"廃プラスチック類"]
[null,null,null,null,null,null,null,null,null,null,null,null,null,null,null,0,null,null,null,null,null,null,null,null,null,null,"紙くず"]
[null,null,null,null,null,null,null,null,null,null,null,null,null,null,null,0,null,null,null,null,null,null,null,null,null,null,"木くず"]
[null,null,null,null,null,null,null,null,null,null,null,null,null,null,null,0,null,null,null,null,null,null,null,null,null,null,"繊維くず"]
[null,null,null,null,null,null,null,null,null,null,null,null,null,null,null,0,null,null,null,null,null,null,null,null,null,null,"動植物性残さ"]
[null,null,null,null,null,null,null,null,null,null,null,null,null,null,null,0,null,null,null,null,null,null,null,null,null,null,"ゴムくず"]
[null,null,null,null,null,null,null,null,null,null,null,null,null,null,null,0,null,null,null,null,null,null,null,null,null,null,"金属くず"]
[null,null,null,null,null,null,null,null,null,null,null,null,null,null,null,0,null,null,null,null,null,null,null,null,null,null,"ガラス・コンクリート・陶磁器くず"]
[null,"合計",null,{"$f":"SUM(D214:D223)","v":0},0,0,0,0,0,0,0,0,0,0,0,0,null,null,null,null,null,null,null,null,null,null,"鉱さい",null,null,null,null,null,null,null,null,null,null,null,null,null,null,null,null,null,null,null,null,null,null,{"$f":"P224","v":0}]
[null,null,null,null,null,null,null,null,null,null,null,null,null,null,null,0,null,null,null,null,null,null,null,null,null,null,"廃酸"]
[null,null,null,null,null,null,null,null,null,null,null,null,null,null,null,0,null,null,null,null,null,null,null,null,null,null,"廃アルカリ"]
[null,null,null,null,null,null,null,null,null,null,null,null,null,null,null,0,null,null,null,null,null,null,null,null,null,null,"廃プラスチック類"]
[null,null,null,null,null,null,null,null,null,null,null,null,null,null,null,0,null,null,null,null,null,null,null,null,null,null,"紙くず"]
[null,null,null,null,null,null,null,null,null,null,null,null,null,null,null,0,null,null,null,null,null,null,null,null,null,null,"木くず"]
[null,null,null,null,null,null,null,null,null,null,null,null,null,null,null,0,null,null,null,null,null,null,null,null,null,null,"繊維くず"]
[null,null,null,null,null,null,null,null,null,null,null,null,null,null,null,0,null,null,null,null,null,null,null,null,null,null,"動植物性残さ"]
[null,null,null,null,null,null,null,null,null,null,null,null,null,null,null,0,null,null,null,null,null,null,null,null,null,null,"ゴムくず"]
[null,null,null,null,null,null,null,null,null,null,null,null,null,null,null,0,null,null,null,null,null,null,null,null,null,null,"金属くず"]
[null,null,null,null,null,null,null,null,null,null,null,null,null,null,null,0,null,null,null,null,null,null,null,null,null,null,"ガラス・コンクリート・陶磁器くず"]
[null,"合計",null,{"$f":"SUM(D225:D234)","v":0},0,0,0,0,0,0,0,0,0,0,0,0,null,null,null,null,null,null,null,null,null,null,"鉱さい"]
[]
[]
["備考　"]
["　１　産業廃棄物の処分に係る報告と特別管理産業廃棄物の処分に係る報告は別葉とすること。"]
["　２　事業場ごとに別葉とすること。"]
["　３　「持出先」の欄には、中間処理後の産業廃棄物又は特別管理産業廃棄物を報告者が別の事業場において自ら処分するため持出しを行う場合には"]
["　　「自社」、委託して処分するため持出しを行う場合には「委託」、再生品として使用又は販売をするため持出しを行う場合には「再生」と記載す"]
["　　ること。"]
["  ４　記入欄が不足するときは、この様式の例により作成した書面に記載して、当該書面を添付すること。　"]

{"sheet":"様式第７号_本紙_特別","index":17,"n_rows":36,"n_cols":56,"rows_kept":36,"cut":false,"hidden":true,"merged":[[1,0,1,13],[1,52,1,55],[5,11,5,13],[6,0,6,2],[8,10,8,13],[10,10,10,13],[11,10,11,13],[12,10,12,11],[15,0,15,6],[16,0,16,4],[17,4,17,8],[17,9,17,13],[26,0,26,13],[27,0,27,13],[28,0,28,13],[29,0,29,13],[30,0,30,13],[31,0,31,13],[32,0,32,13],[33,0,33,13],[34,0,34,13],[35,0,35,13],[3,54,12,54],[3,55,12,55]]}
["I","I",1,"S"]
["様式第７号（第15条関係）（用紙　日本工業規格Ａ４横型）",null,null,null,null,null,null,null,null,null,null,null,null,null,null,null,null,null,null,null,null,null,null,null,null,null,null,"燃えがら",null,null,null,null,null,null,null,null,null,null,null,null,null,null,null,null,null,null,null,null,null,null,null,null,"行追加用T"]
[null,null,null,null,null,null,null,null,null,null,null,null,null,null,null,null,null,null,null,null,null,null,null,null,null,null,"産業廃棄物","汚泥",null,null,null,null,null,null,null,null,null,null,null,null,null,null,null,null,null,null,null,null,null,null,null,null,"開始行","終了行","行追加用T\n最終行","削除不可\n最低行数"]
[null,null,"特別管理産業廃棄物 処分状況報告書",null,null,null,null,null,null,null,null,null,null,null,null,null,null,null,null,null,null,null,null,null,null,null,"特別管理産業廃棄物","廃油",null,null,null,null,null,null,null,null,null,null,null,null,null,null,null,null,null,null,null,null,null,null,null,null,24,{"$f":"BA4","v":24},{"$f":"COUNTA(BA4:BA13)","v":1},24]
[null,null,null,null,null,null,null,null,null,null,null,null,null,null,null,null,null,null,null,null,null,null,null,null,null,null,null,"廃酸"]
[null,null,null,null,null,null,null,null,null,null,null,{"$f":"IFERROR(DATEVALUE(事業者基本情報!E5&事業者基本情報!F5&事業者基本情報!G5&事業者基本情報!H5&事業者基本情報!I5&事業者基本情報!J5),\"\")","v":""},null,null,null,null,null,null,null,null,null,null,null,null,null,null,null,"廃アルカリ"]
["　静岡県知事 様",null,null,null,null,null,null,null,null,null,null,null,null,null,null,null,null,null,null,null,null,null,null,null,null,null,null,"廃プラスチック類"]
[null,null,null,null,null,null,null,null,null,null,null,null,null,null,null,null,null,null,null,null,null,null,null,null,null,null,null,"紙くず"]
[null,null,null,null,null,null,null,null,null,"住　所",{"$f":"事業者基本情報!E9&事業者基本情報!F9&事業者基本情報!G9&CHAR(10)&事業者基本情報!E10&事業者基本情報!F10","v":"-\n静岡県"},null,null,null,null,null,null,null,null,null,null,null,null,null,null,null,null,"木くず"]
[null,null,null,null,null,null,null,null,null,null,null,null,null,null,null,null,null,null,null,null,null,null,null,null,null,null,null,"繊維くず"]
[null,null,null,null,null,null,null,null,"　","氏　名",{"$f":"事業者基本情報!Y7","v":""},null,null,null,null,null,null,null,null,null,null,null,null,null,null,null,null,"動植物性残さ"]
[null,null,null,null,null,null,null,null,null,null,{"$f":"IF(事業者基本情報!Y7=事業者基本情報!Y8,\"\",事業者基本情報!Y8)","v":""},null,null,null,null,null,null,null,null,null,null,null,null,null,null,null,null,"ゴムくず"]
[null,null,null,null,null,null,null,null,null,"電話番号",{"$f":"事業者基本情報!E11&事業者基本情報!F11&事業者基本情報!G11&事業者基本情報!H11&事業者基本情報!I11","v":"--"},null,null,null,null,null,null,null,null,null,null,null,null,null,null,null,null,"金属くず"]
[null,null,null,null,null,null,null,null,null,"許可番号","022",null,null,null,null,null,null,null,null,null,null,null,null,null,null,null,null,"ガラス・コンクリート・陶磁器くず"]
["　　　　　",null,null,null,null,null,null,null,null,null,null,null,null,null,null,null,null,null,null,null,null,null,null,null,null,null,null,"鉱さい"]
["　静岡県産業廃棄物の適正な処理に関する条例第17条第１項の規定により、",null,null,null,null,null,null,{"$f":"事業者基本情報!E4&事業者基本情報!F4+1","v":"令和8"},"年３月31日以前の１年間における　特別管理産業廃棄物　の処分状況",null,null,null,null,null,null,null,null,null,null,null,null,null,null,null,null,null,null,"がれき類"]
["について、次のとおり報告します。",null,null,null,null,null,null,null,null,null,null,null,null,null,null,null,null,null,null,null,null,null,null,null,null,null,null,"家畜のふん尿"]
["種類","処分方法","処分量(t)","処分後","報告者に処分を委託した者",null,null,null,null,"報告者が処分を委託した者",null,null,null,null,null,null,null,null,null,null,null,null,null,null,null,null,null,"家畜の死体"]
[null,null,null,"量(t)","許可番号","氏名又は\n名称","住所又は\n所在地","受託量(t)","備考","許可番号","氏名又は\n名称","住所又は\n所在地","委託量(t)","備考",null,null,null,null,null,null,null,null,null,null,null,null,null,"ばいじん"]
[null,null,null,null,null,null,null,null,null,null,null,null,null,null,null,null,null,null,{"$f":"C20","v":0},0,{"$f":"H20","v":0},{"$f":"M20","v":0},null,null,null,null,null,"１３号廃棄物"]
[null,null,null,null,null,null,null,null,null,null,null,null,null,null,null,null,null,null,0,0,{"$f":"H21","v":0},{"$f":"M21","v":0},null,null,null,null,null,"動物系固形不要物"]
[null,null,null,null,null,null,null,null,null,null,null,null,null,null,null,null,null,null,0,0,{"$f":"H22","v":0},{"$f":"M22","v":0}]
[null,null,null,null,null,null,null,null,null,null,null,null,null,null,null,null,null,null,0,0,{"$f":"H23","v":0},{"$f":"M23","v":0}]
[null,null,null,null,null,null,null,null,null,null,null,null,null,null,null,null,null,null,0,0,{"$f":"H24","v":0},{"$f":"M24","v":0}]
["合計","―",{"$f":"SUM(S:S)","v":0},{"$f":"SUM(T:T)","v":0},"―","―","―",{"$f":"SUM(U:U)","v":0},"―","―","―","―",{"$f":"SUM(V:V)","v":0},"―"]
["備考"]
["　１　産業廃棄物の処分に係る報告と特別管理産業廃棄物の処分に係る報告は別葉とすること。"]
["　２　「許可番号」の欄には、報告者に処分を委託した者又は報告者が処分を委託した者が産業廃棄物処分業者である場合に、その許可番号を記載す"]
["　　ること。"]
["　３　報告者が処分業者から処分を再委託された場合には、「報告者に処分を委託した者」の「備考」の欄に「再」と記載すること。"]
["　４　報告者が処分業者に処分を再委託した場合には、「報告者が処分を委託した者」の「備考」の欄に「再」と記載すること。"]
["　５　委託を受けた産業廃棄物又は特別管理産業廃棄物について、２以上の処分方法により段階的に処分を行った場合にあっては、最初の段階におけ"]
["　　る処分に係る記載をした上で、その下段の「処分方法」、「処分量（ｔ）」及び「処分後量（ｔ）」の欄並びに「報告者が処分を委託した者」の"]
["　　各欄に、後に続く段階における処分に係る記載を続けてすること。"]
["　６　記入欄が不足するときは、この様式の例により作成した書面に記載して、当該書面を添付すること。"]
["　７　産業廃棄物又は特別管理産業廃棄物の種類ごと、処分方法ごと及び月ごとの処分量等については、別紙に記載し添付すること。"]

{"sheet":"様式第７号_別紙1_特別","index":18,"n_rows":134,"n_cols":56,"rows_kept":134,"cut":false,"hidden":true,"merged":[[1,0,1,16],[1,52,1,55],[3,0,3,3],[3,4,3,16],[4,0,4,3],[4,4,4,16],[6,0,6,16],[7,1,7,3],[8,1,8,3],[14,1,14,3],[20,1,20,3],[26,1,26,3],[32,1,32,3],[38,1,38,3],[44,1,44,3],[50,1,50,3],[56,1,56,3],[62,1,62,3],[68,1,68,3],[74,1,74,3],[80,1,80,3],[86,1,86,3],[92,1,92,3],[98,1,98,3],[104,1,104,3],[110,1,110,3],[116,1,116,3],[122,1,122,3],[128,1,128,3],[8,0,13,0],[14,0,19,0],[20,0,25,0],[26,0,31,0],[32,0,37,0],[38,0,43,0],[44,0,49,0],[50,0,55,0],[56,0,61,0],[62,0,67,0],[68,0,73,0],[74,0,79,0],[80,0,85,0],[86,0,91,0],[92,0,97,0],[98,0,103,0],[104,0,109,0],[110,0,115,0],[116,0,121,0],[122,0,127,0],[128,0,133,0],[3,54,12,54],[3,55,12,55]]}
["I","I",2,"S"]
["別紙（用紙　日本工業規格Ａ４横型）",null,null,null,null,null,null,null,null,null,null,null,null,null,null,null,null,null,null,null,null,null,null,null,null,null,null,null,null,null,null,null,null,null,null,null,null,null,null,null,null,null,null,null,null,null,null,null,null,null,null,null,"行追加用T"]
[null,null,null,null,null,null,null,null,null,null,null,null,null,null,null,null,null,null,null,null,null,null,null,null,null,null,null,null,null,null,null,null,null,null,null,null,null,null,null,null,null,null,null,null,null,null,null,null,null,null,null,"年間受入量","開始行","終了行","行追加用T\n最終行","削除不可\n最低行数"]
["事業場の所在地",null,null,null,null,null,null,null,null,null,null,null,null,null,null,null,null,null,null,null,null,null,null,null,null,null,null,null,null,null,null,null,null,null,null,null,null,null,null,null,null,null,null,null,null,null,null,null,null,null,null,{"$f":"SUM(AY:AY)","v":0},129,{"$f":"BA4+5","v":134},{"$f":"COUNTA(BA4:BA13)","v":1},14]
["処分方法並びに当該処分が行われる施設ごと及び産業廃棄物又は特別管理産業廃棄物の種類ごとの処理能力"]
[]
["産業廃棄物又は特別管理産業廃棄物の種類ごと、処分方法ごと及び月ごとの処分状況"]
["種類","月",null,null,4,5,6,7,8,9,10,11,12,1,2,3,"年間総量（ｔ）","年間受入量（ｔ）"]
[null,"受入量(t)",null,null,null,null,null,null,null,null,null,null,null,null,null,null,{"$f":"SUM(E9:P9)","v":0},{"$f":"AZ4","v":0},null,null,null,null,null,null,null,null,null,null,null,null,null,null,null,null,null,null,null,null,null,null,null,null,null,null,null,null,null,null,null,null,{"$f":"Q9","v":0}]
[null,"処分量","処分方法１",null,null,null,null,null,null,null,null,null,null,null,null,null,0]
[null,"(t)","処分方法２",null,null,null,null,null,null,null,null,null,null,null,null,null,0]
[null,null,"処分方法３",null,null,null,null,null,null,null,null,null,null,null,null,null,0]
[null,null,"処分方法４",null,null,null,null,null,null,null,null,null,null,null,null,null,0]
[null,null,"処分方法５",null,null,null,null,null,null,null,null,null,null,null,null,null,0]
[null,"受入量(t)",null,null,null,null,null,null,null,null,null,null,null,null,null,null,0,null,null,null,null,null,null,null,null,null,null,null,null,null,null,null,null,null,null,null,null,null,null,null,null,null,null,null,null,null,null,null,null,null,{"$f":"Q15","v":0}]
[null,"処分量","処分方法１",null,null,null,null,null,null,null,null,null,null,null,null,null,0]
[null,"(t)","処分方法２",null,null,null,null,null,null,null,null,null,null,null,null,null,0]
[null,null,"処分方法３",null,null,null,null,null,null,null,null,null,null,null,null,null,0]
[null,null,"処分方法４",null,null,null,null,null,null,null,null,null,null,null,null,null,0]
[null,null,"処分方法５",null,null,null,null,null,null,null,null,null,null,null,null,null,0]
[null,"受入量(t)",null,null,null,null,null,null,null,null,null,null,null,null,null,null,0,null,null,null,null,null,null,null,null,null,null,null,null,null,null,null,null,null,null,null,null,null,null,null,null,null,null,null,null,null,null,null,null,null,{"$f":"Q21","v":0}]
[null,"処分量","処分方法１",null,null,null,null,null,null,null,null,null,null,null,null,null,0]
[null,"(t)","処分方法２",null,null,null,null,null,null,null,null,null,null,null,null,null,0]
[null,null,"処分方法３",null,null,null,null,null,null,null,null,null,null,null,null,null,0]
[null,null,"処分方法４",null,null,null,null,null,null,null,null,null,null,null,null,null,0]
[null,null,"処分方法５",null,null,null,null,null,null,null,null,null,null,null,null,null,0]
[null,"受入量(t)",null,null,null,null,null,null,null,null,null,null,null,null,null,null,0,null,null,null,null,null,null,null,null,null,null,null,null,null,null,null,null,null,null,null,null,null,null,null,null,null,null,null,null,null,null,null,null,null,{"$f":"Q27","v":0}]
[null,"処分量","処分方法１",null,null,null,null,null,null,null,null,null,null,null,null,null,0]
[null,"(t)","処分方法２",null,null,null,null,null,null,null,null,null,null,null,null,null,0]
[null,null,"処分方法３",null,null,null,null,null,null,null,null,null,null,null,null,null,0]
[null,null,"処分方法４",null,null,null,null,null,null,null,null,null,null,null,null,null,0]
[null,null,"処分方法５",null,null,null,null,null,null,null,null,null,null,null,null,null,0]
[null,"受入量(t)",null,null,null,null,null,null,null,null,null,null,null,null,null,null,0,null,null,null,null,null,null,null,null,null,null,null,null,null,null,null,null,null,null,null,null,null,null,null,null,null,null,null,null,null,null,null,null,null,{"$f":"Q33","v":0}]
[null,"処分量","処分方法１",null,null,null,null,null,null,null,null,null,null,null,null,null,0]
[null,"(t)","処分方法２",null,null,null,null,null,null,null,null,null,null,null,null,null,0]
[null,null,"処分方法３",null,null,null,null,null,null,null,null,null,null,null,null,null,0]
[null,null,"処分方法４",null,null,null,null,null,null,null,null,null,null,null,null,null,0]
[null,null,"処分方法５",null,null,null,null,null,null,null,null,null,null,null,null,null,0]
[null,"受入量(t)",null,null,null,null,null,null,null,null,null,null,null,null,null,null,0,null,null,null,null,null,null,null,null,null,null,null,null,null,null,null,null,null,null,null,null,null,null,null,null,null,null,null,null,null,null,null,null,null,{"$f":"Q39","v":0}]
[null,"処分量","処分方法１",null,null,null,null,null,null,null,null,null,null,null,null,null,0]
[null,"(t)","処分方法２",null,null,null,null,null,null,null,null,null,null,null,null,null,0]
[null,null,"処分方法３",null,null,null,null,null,null,null,null,null,null,null,null,null,0]
[null,null,"処分方法４",null,null,null,null,null,null,null,null,null,null,null,null,null,0]
[null,null,"処分方法５",null,null,null,null,null,null,null,null,null,null,null,null,null,0]
[null,"受入量(t)",null,null,null,null,null,null,null,null,null,null,null,null,null,null,0,null,null,null,null,null,null,null,null,null,null,null,null,null,null,null,null,null,null,null,null,null,null,null,null,null,null,null,null,null,null,null,null,null,{"$f":"Q45","v":0}]
[null,"処分量","処分方法１",null,null,null,null,null,null,null,null,null,null,null,null,null,0]
[null,"(t)","処分方法２",null,null,null,null,null,null,null,null,null,null,null,null,null,0]
[null,null,"処分方法３",null,null,null,null,null,null,null,null,null,null,null,null,null,0]
[null,null,"処分方法４",null,null,null,null,null,null,null,null,null,null,null,null,null,0]
[null,null,"処分方法５",null,null,null,null,null,null,null,null,null,null,null,null,null,0]
[null,"受入量(t)",null,null,null,null,null,null,null,null,null,null,null,null,null,null,0,null,null,null,null,null,null,null,null,null,null,null,null,null,null,null,null,null,null,null,null,null,null,null,null,null,null,null,null,null,null,null,null,null,{"$f":"Q51","v":0}]
[null,"処分量","処分方法１",null,null,null,null,null,null,null,null,null,null,null,null,null,0]
[null,"(t)","処分方法２",null,null,null,null,null,null,null,null,null,null,null,null,null,0]
[null,null,"処分方法３",null,null,null,null,null,null,null,null,null,null,null,null,null,0]
[null,null,"処分方法４",null,null,null,null,null,null,null,null,null,null,null,null,null,0]
[null,null,"処分方法５",null,null,null,null,null,null,null,null,null,null,null,null,null,0]
[null,"受入量(t)",null,null,null,null,null,null,null,null,null,null,null,null,null,null,0,null,null,null,null,null,null,null,null,null,null,null,null,null,null,null,null,null,null,null,null,null,null,null,null,null,null,null,null,null,null,null,null,null,{"$f":"Q57","v":0}]
[null,"処分量","処分方法１",null,null,null,null,null,null,null,null,null,null,null,null,null,0]
[null,"(t)","処分方法２",null,null,null,null,null,null,null,null,null,null,null,null,null,0]
[null,null,"処分方法３",null,null,null,null,null,null,null,null,null,null,null,null,null,0]
[null,null,"処分方法４",null,null,null,null,null,null,null,null,null,null,null,null,null,0]
[null,null,"処分方法５",null,null,null,null,null,null,null,null,null,null,null,null,null,0]
[null,"受入量(t)",null,null,null,null,null,null,null,null,null,null,null,null,null,null,0,null,null,null,null,null,null,null,null,null,null,null,null,null,null,null,null,null,null,null,null,null,null,null,null,null,null,null,null,null,null,null,null,null,{"$f":"Q63","v":0}]
[null,"処分量","処分方法１",null,null,null,null,null,null,null,null,null,null,null,null,null,0]
[null,"(t)","処分方法２",null,null,null,null,null,null,null,null,null,null,null,null,null,0]
[null,null,"処分方法３",null,null,null,null,null,null,null,null,null,null,null,null,null,0]
[null,null,"処分方法４",null,null,null,null,null,null,null,null,null,null,null,null,null,0]
[null,null,"処分方法５",null,null,null,null,null,null,null,null,null,null,null,null,null,0]
[null,"受入量(t)",null,null,null,null,null,null,null,null,null,null,null,null,null,null,0,null,null,null,null,null,null,null,null,null,null,null,null,null,null,null,null,null,null,null,null,null,null,null,null,null,null,null,null,null,null,null,null,null,{"$f":"Q69","v":0}]
[null,"処分量","処分方法１",null,null,null,null,null,null,null,null,null,null,null,null,null,0]
[null,"(t)","処分方法２",null,null,null,null,null,null,null,null,null,null,null,null,null,0]
[null,null,"処分方法３",null,null,null,null,null,null,null,null,null,null,null,null,null,0]
[null,null,"処分方法４",null,null,null,null,null,null,null,null,null,null,null,null,null,{"$f":"SUM(E73:P73)","v":0}]
[null,null,"処分方法５",null,null,null,null,null,null,null,null,null,null,null,null,null,0]
[null,"受入量(t)",null,null,null,null,null,null,null,null,null,null,null,null,null,null,0,null,null,null,null,null,null,null,null,null,null,null,null,null,null,null,null,null,null,null,null,null,null,null,null,null,null,null,null,null,null,null,null,null,{"$f":"Q75","v":0}]
[null,"処分量","処分方法１",null,null,null,null,null,null,null,null,null,null,null,null,null,0]
[null,"(t)","処分方法２",null,null,null,null,null,null,null,null,null,null,null,null,null,0]
[null,null,"処分方法３",null,null,null,null,null,null,null,null,null,null,null,null,null,0]
[null,null,"処分方法４",null,null,null,null,null,null,null,null,null,null,null,null,null,0]
[null,null,"処分方法５",null,null,null,null,null,null,null,null,null,null,null,null,null,0]
[null,"受入量(t)",null,null,null,null,null,null,null,null,null,null,null,null,null,null,0,null,null,null,null,null,null,null,null,null,null,null,null,null,null,null,null,null,null,null,null,null,null,null,null,null,null,null,null,null,null,null,null,null,{"$f":"Q81","v":0}]
[null,"処分量","処分方法１",null,null,null,null,null,null,null,null,null,null,null,null,null,0]
[null,"(t)","処分方法２",null,null,null,null,null,null,null,null,null,null,null,null,null,0]
[null,null,"処分方法３",null,null,null,null,null,null,null,null,null,null,null,null,null,0]
[null,null,"処分方法４",null,null,null,null,null,null,null,null,null,null,null,null,null,0]
[null,null,"処分方法５",null,null,null,null,null,null,null,null,null,null,null,null,null,0]
[null,"受入量(t)",null,null,null,null,null,null,null,null,null,null,null,null,null,null,0,null,null,null,null,null,null,null,null,null,null,null,null,null,null,null,null,null,null,null,null,null,null,null,null,null,null,null,null,null,null,null,null,null,{"$f":"Q87","v":0}]
[null,"処分量","処分方法１",null,null,null,null,null,null,null,null,null,null,null,null,null,0]
[null,"(t)","処分方法２",null,null,null,null,null,null,null,null,null,null,null,null,null,0]
[null,null,"処分方法３",null,null,null,null,null,null,null,null,null,null,null,null,null,0]
[null,null,"処分方法４",null,null,null,null,null,null,null,null,null,null,null,null,null,0]
[null,null,"処分方法５",null,null,null,null,null,null,null,null,null,null,null,null,null,0]
[null,"受入量(t)",null,null,null,null,null,null,null,null,null,null,null,null,null,null,0,null,null,null,null,null,null,null,null,null,null,null,null,null,null,null,null,null,null,null,null,null,null,null,null,null,null,null,null,null,null,null,null,null,{"$f":"Q93","v":0}]
[null,"処分量","処分方法１",null,null,null,null,null,null,null,null,null,null,null,null,null,0]
[null,"(t)","処分方法２",null,null,null,null,null,null,null,null,null,null,null,null,null,0]
[null,null,"処分方法３",null,null,null,null,null,null,null,null,null,null,null,null,null,0]
[null,null,"処分方法４",null,null,null,null,null,null,null,null,null,null,null,null,null,0]
[null,null,"処分方法５",null,null,null,null,null,null,null,null,null,null,null,null,null,0]
[null,"受入量(t)",null,null,null,null,null,null,null,null,null,null,null,null,null,null,0,null,null,null,null,null,null,null,null,null,null,null,null,null,null,null,null,null,null,null,null,null,null,null,null,null,null,null,null,null,null,null,null,null,{"$f":"Q99","v":0}]
[null,"処分量","処分方法１",null,null,null,null,null,null,null,null,null,null,null,null,null,0]
[null,"(t)","処分方法２",null,null,null,null,null,null,null,null,null,null,null,null,null,0]
[null,null,"処分方法３",null,null,null,null,null,null,null,null,null,null,null,null,null,0]
[null,null,"処分方法４",null,null,null,null,null,null,null,null,null,null,null,null,null,0]
[null,null,"処分方法５",null,null,null,null,null,null,null,null,null,null,null,null,null,0]
[null,"受入量(t)",null,null,null,null,null,null,null,null,null,null,null,null,null,null,0,null,null,null,null,null,null,null,null,null,null,null,null,null,null,null,null,null,null,null,null,null,null,null,null,null,null,null,null,null,null,null,null,null,{"$f":"Q105","v":0}]
[null,"処分量","処分方法１",null,null,null,null,null,null,null,null,null,null,null,null,null,0]
[null,"(t)","処分方法２",null,null,null,null,null,null,null,null,null,null,null,null,null,0]
[null,null,"処分方法３",null,null,null,null,null,null,null,null,null,null,null,null,null,0]
[null,null,"処分方法４",null,null,null,null,null,null,null,null,null,null,null,null,null,0]
[null,null,"処分方法５",null,null,null,null,null,null,null,null,null,null,null,null,null,0]
[null,"受入量(t)",null,null,null,null,null,null,null,null,null,null,null,null,null,null,0,null,null,null,null,null,null,null,null,null,null,null,null,null,null,null,null,null,null,null,null,null,null,null,null,null,null,null,null,null,null,null,null,null,{"$f":"Q111","v":0}]
[null,"処分量","処分方法１",null,null,null,null,null,null,null,null,null,null,null,null,null,0]
[null,"(t)","処分方法２",null,null,null,null,null,null,null,null,null,null,null,null,null,0]
[null,null,"処分方法３",null,null,null,null,null,null,null,null,null,null,null,null,null,0]
[null,null,"処分方法４",null,null,null,null,null,null,null,null,null,null,null,null,null,0]
[null,null,"処分方法５",null,null,null,null,null,null,null,null,null,null,null,null,null,0]
[null,"受入量(t)",null,null,null,null,null,null,null,null,null,null,null,null,null,null,0,null,null,null,null,null,null,null,null,null,null,null,null,null,null,null,null,null,null,null,null,null,null,null,null,null,null,null,null,null,null,null,null,null,{"$f":"Q117","v":0}]
[null,"処分量","処分方法１",null,null,null,null,null,null,null,null,null,null,null,null,null,0]
[null,"(t)","処分方法２",null,null,null,null,null,null,null,null,null,null,null,null,null,0]
[null,null,"処分方法３",null,null,null,null,null,null,null,null,null,null,null,null,null,0]
[null,null,"処分方法４",null,null,null,null,null,null,null,null,null,null,null,null,null,0]
[null,null,"処分方法５",null,null,null,null,null,null,null,null,null,null,null,null,null,0]
[null,"受入量(t)",null,null,null,null,null,null,null,null,null,null,null,null,null,null,0,null,null,null,null,null,null,null,null,null,null,null,null,null,null,null,null,null,null,null,null,null,null,null,null,null,null,null,null,null,null,null,null,null,{"$f":"Q123","v":0}]
[null,"処分量","処分方法１",null,null,null,null,null,null,null,null,null,null,null,null,null,0]
[null,"(t)","処分方法２",null,null,null,null,null,null,null,null,null,null,null,null,null,0]
[null,null,"処分方法３",null,null,null,null,null,null,null,null,null,null,null,null,null,0]
[null,null,"処分方法４",null,null,null,null,null,null,null,null,null,null,null,null,null,0]
[null,null,"処分方法５",null,null,null,null,null,null,null,null,null,null,null,null,null,0]
[null,"受入量(t)",null,null,null,null,null,null,null,null,null,null,null,null,null,null,0,null,null,null,null,null,null,null,null,null,null,null,null,null,null,null,null,null,null,null,null,null,null,null,null,null,null,null,null,null,null,null,null,null,{"$f":"Q129","v":0}]
[null,"処分量","処分方法１",null,null,null,null,null,null,null,null,null,null,null,null,null,0]
[null,"(t)","処分方法２",null,null,null,null,null,null,null,null,null,null,null,null,null,0]
[null,null,"処分方法３",null,null,null,null,null,null,null,null,null,null,null,null,null,0]
[null,null,"処分方法４",null,null,null,null,null,null,null,null,null,null,null,null,null,0]
[null,null,"処分方法５",null,null,null,null,null,null,null,null,null,null,null,null,null,0]

{"sheet":"様式第７号_別紙2_特別","index":19,"n_rows":244,"n_cols":56,"rows_kept":244,"cut":false,"hidden":true,"merged":[[1,0,1,14],[1,52,1,55],[2,3,2,14],[14,1,14,2],[25,1,25,2],[36,1,36,2],[47,1,47,2],[58,1,58,2],[69,1,69,2],[80,1,80,2],[91,1,91,2],[102,1,102,2],[113,1,113,2],[124,1,124,2],[135,1,135,2],[146,1,146,2],[157,1,157,2],[168,1,168,2],[179,1,179,2],[190,1,190,2],[201,1,201,2],[212,1,212,2],[223,1,223,2],[234,1,234,2],[238,0,238,15],[239,0,239,15],[240,0,240,15],[241,0,241,15],[242,0,242,15],[243,0,243,15],[2,0,3,0],[2,1,3,1],[2,2,3,2],[2,15,3,15],[3,54,12,54],[3,55,12,55],[4,0,14,0],[15,0,25,0],[26,0,36,0],[37,0,47,0],[48,0,58,0],[59,0,69,0],[70,0,80,0],[81,0,91,0],[92,0,102,0],[103,0,113,0],[114,0,124,0],[125,0,135,0],[136,0,146,0],[147,0,157,0],[158,0,168,0],[169,0,179,0],[180,0,190,0],[191,0,201,0],[202,0,212,0],[213,0,223,0],[224,0,234,0]]}
["I","I",3,"S"]
["中間処理後の産業廃棄物又は特別管理産業廃棄物の種類ごと、持出先ごと、処分方法ごと及び月ごとの持出状況",null,null,null,null,null,null,null,null,null,null,null,null,null,null,null,null,null,null,null,null,null,null,null,null,null,"燃えがら",null,null,null,null,null,null,null,null,null,null,null,null,null,null,null,null,null,null,null,null,null,null,null,null,null,"行追加用T"]
["種類","持出先","処分方法","月　　　ご　　　と　　　の　　　持　　　出　　　量　　　（　ｔ　）",null,null,null,null,null,null,null,null,null,null,null,"年間総量（ｔ）","年間総量合計（ｔ）",null,null,null,null,null,null,null,null,null,"汚泥",null,null,null,null,null,null,null,null,null,null,null,null,null,null,null,null,null,null,null,null,null,null,null,"年間総量合計",null,"開始行","終了行","行追加用T\n最終行","削除不可\n最低行数"]
[null,null,null,4,5,6,7,8,9,10,11,12,1,2,3,null,{"$f":"AY4","v":0},null,null,null,null,null,null,null,null,null,"廃油",null,null,null,null,null,null,null,null,null,null,null,null,null,null,null,null,null,null,null,null,null,null,null,{"$f":"SUM(AX:AX)","v":0},null,225,{"$f":"BA4+10","v":235},{"$f":"COUNTA(BA4:BA13)","v":1},15]
[null,null,null,null,null,null,null,null,null,null,null,null,null,null,null,{"$f":"SUM(D5:O5)","v":0},null,null,null,null,null,null,null,null,null,null,"廃酸"]
[null,null,null,null,null,null,null,null,null,null,null,null,null,null,null,0,null,null,null,null,null,null,null,null,null,null,"廃アルカリ"]
[null,null,null,null,null,null,null,null,null,null,null,null,null,null,null,0,null,null,null,null,null,null,null,null,null,null,"廃プラスチック類"]
[null,null,null,null,null,null,null,null,null,null,null,null,null,null,null,0,null,null,null,null,null,null,null,null,null,null,"紙くず"]
[null,null,null,null,null,null,null,null,null,null,null,null,null,null,null,0,null,null,null,null,null,null,null,null,null,null,"木くず"]
[null,null,null,null,null,null,null,null,null,null,null,null,null,null,null,0,null,null,null,null,null,null,null,null,null,null,"繊維くず"]
[null,null,null,null,null,null,null,null,null,null,null,null,null,null,null,0,null,null,null,null,null,null,null,null,null,null,"動植物性残さ"]
[null,null,null,null,null,null,null,null,null,null,null,null,null,null,null,0,null,null,null,null,null,null,null,null,null,null,"ゴムくず"]
[null,null,null,null,null,null,null,null,null,null,null,null,null,null,null,0,null,null,null,null,null,null,null,null,null,null,"金属くず"]
[null,null,null,null,null,null,null,null,null,null,null,null,null,null,null,0,null,null,null,null,null,null,null,null,null,null,"ガラス・コンクリート・陶磁器くず"]
[null,"合計",null,{"$f":"SUM(D5:D14)","v":0},0,0,0,0,0,0,0,0,0,0,0,0,null,null,null,null,null,null,null,null,null,null,"鉱さい",null,null,null,null,null,null,null,null,null,null,null,null,null,null,null,null,null,null,null,null,null,null,{"$f":"P15","v":0}]
[null,null,null,null,null,null,null,null,null,null,null,null,null,null,null,0,null,null,null,null,null,null,null,null,null,null,"廃酸"]
[null,null,null,null,null,null,null,null,null,null,null,null,null,null,null,0,null,null,null,null,null,null,null,null,null,null,"廃アルカリ"]
[null,null,null,null,null,null,null,null,null,null,null,null,null,null,null,0,null,null,null,null,null,null,null,null,null,null,"廃プラスチック類"]
[null,null,null,null,null,null,null,null,null,null,null,null,null,null,null,0,null,null,null,null,null,null,null,null,null,null,"紙くず"]
[null,null,null,null,null,null,null,null,null,null,null,null,null,null,null,0,null,null,null,null,null,null,null,null,null,null,"木くず"]
[null,null,null,null,null,null,null,null,null,null,null,null,null,null,null,0,null,null,null,null,null,null,null,null,null,null,"繊維くず"]
[null,null,null,null,null,null,null,null,null,null,null,null,null,null,null,0,null,null,null,null,null,null,null,null,null,null,"動植物性残さ"]
[null,null,null,null,null,null,null,null,null,null,null,null,null,null,null,0,null,null,null,null,null,null,null,null,null,null,"ゴムくず"]
[null,null,null,null,null,null,null,null,null,null,null,null,null,null,null,0,null,null,null,null,null,null,null,null,null,null,"金属くず"]
[null,null,null,null,null,null,null,null,null,null,null,null,null,null,null,0,null,null,null,null,null,null,null,null,null,null,"ガラス・コンクリート・陶磁器くず"]
[null,"合計",null,{"$f":"SUM(D16:D25)","v":0},0,0,0,0,0,0,0,0,0,0,0,0,null,null,null,null,null,null,null,null,null,null,"鉱さい",null,null,null,null,null,null,null,null,null,null,null,null,null,null,null,null,null,null,null,null,null,null,{"$f":"P26","v":0}]
[null,null,null,null,null,null,null,null,null,null,null,null,null,null,null,0,null,null,null,null,null,null,null,null,null,null,"廃酸"]
[null,null,null,null,null,null,null,null,null,null,null,null,null,null,null,0,null,null,null,null,null,null,null,null,null,null,"廃アルカリ"]
[null,null,null,null,null,null,null,null,null,null,null,null,null,null,null,0,null,null,null,null,null,null,null,null,null,null,"廃プラスチック類"]
[null,null,null,null,null,null,null,null,null,null,null,null,null,null,null,0,null,null,null,null,null,null,null,null,null,null,"紙くず"]
[null,null,null,null,null,null,null,null,null,null,null,null,null,null,null,0,null,null,null,null,null,null,null,null,null,null,"木くず"]
[null,null,null,null,null,null,null,null,null,null,null,null,null,null,null,0,null,null,null,null,null,null,null,null,null,null,"繊維くず"]
[null,null,null,null,null,null,null,null,null,null,null,null,null,null,null,0,null,null,null,null,null,null,null,null,null,null,"動植物性残さ"]
[null,null,null,null,null,null,null,null,null,null,null,null,null,null,null,0,null,null,null,null,null,null,null,null,null,null,"ゴムくず"]
[null,null,null,null,null,null,null,null,null,null,null,null,null,null,null,0,null,null,null,null,null,null,null,null,null,null,"金属くず"]
[null,null,null,null,null,null,null,null,null,null,null,null,null,null,null,0,null,null,null,null,null,null,null,null,null,null,"ガラス・コンクリート・陶磁器くず"]
[null,"合計",null,{"$f":"SUM(D27:D36)","v":0},0,0,0,0,0,0,0,0,0,0,0,0,null,null,null,null,null,null,null,null,null,null,"鉱さい",null,null,null,null,null,null,null,null,null,null,null,null,null,null,null,null,null,null,null,null,null,null,{"$f":"P37","v":0}]
[null,null,null,null,null,null,null,null,null,null,null,null,null,null,null,0,null,null,null,null,null,null,null,null,null,null,"廃酸"]
[null,null,null,null,null,null,null,null,null,null,null,null,null,null,null,0,null,null,null,null,null,null,null,null,null,null,"廃アルカリ"]
[null,null,null,null,null,null,null,null,null,null,null,null,null,null,null,0,null,null,null,null,null,null,null,null,null,null,"廃プラスチック類"]
[null,null,null,null,null,null,null,null,null,null,null,null,null,null,null,0,null,null,null,null,null,null,null,null,null,null,"紙くず"]
[null,null,null,null,null,null,null,null,null,null,null,null,null,null,null,0,null,null,null,null,null,null,null,null,null,null,"木くず"]
[null,null,null,null,null,null,null,null,null,null,null,null,null,null,null,0,null,null,null,null,null,null,null,null,null,null,"繊維くず"]
[null,null,null,null,null,null,null,null,null,null,null,null,null,null,null,0,null,null,null,null,null,null,null,null,null,null,"動植物性残さ"]
[null,null,null,null,null,null,null,null,null,null,null,null,null,null,null,0,null,null,null,null,null,null,null,null,null,null,"ゴムくず"]
[null,null,null,null,null,null,null,null,null,null,null,null,null,null,null,0,null,null,null,null,null,null,null,null,null,null,"金属くず"]
[null,null,null,null,null,null,null,null,null,null,null,null,null,null,null,0,null,null,null,null,null,null,null,null,null,null,"ガラス・コンクリート・陶磁器くず"]
[null,"合計",null,{"$f":"SUM(D38:D47)","v":0},0,0,0,0,0,0,0,0,0,0,0,0,null,null,null,null,null,null,null,null,null,null,"鉱さい",null,null,null,null,null,null,null,null,null,null,null,null,null,null,null,null,null,null,null,null,null,null,{"$f":"P48","v":0}]
[null,null,null,null,null,null,null,null,null,null,null,null,null,null,null,0,null,null,null,null,null,null,null,null,null,null,"廃酸"]
[null,null,null,null,null,null,null,null,null,null,null,null,null,null,null,0,null,null,null,null,null,null,null,null,null,null,"廃アルカリ"]
[null,null,null,null,null,null,null,null,null,null,null,null,null,null,null,0,null,null,null,null,null,null,null,null,null,null,"廃プラスチック類"]
[null,null,null,null,null,null,null,null,null,null,null,null,null,null,null,0,null,null,null,null,null,null,null,null,null,null,"紙くず"]
[null,null,null,null,null,null,null,null,null,null,null,null,null,null,null,0,null,null,null,null,null,null,null,null,null,null,"木くず"]
[null,null,null,null,null,null,null,null,null,null,null,null,null,null,null,0,null,null,null,null,null,null,null,null,null,null,"繊維くず"]
[null,null,null,null,null,null,null,null,null,null,null,null,null,null,null,0,null,null,null,null,null,null,null,null,null,null,"動植物性残さ"]
[null,null,null,null,null,null,null,null,null,null,null,null,null,null,null,0,null,null,null,null,null,null,null,null,null,null,"ゴムくず"]
[null,null,null,null,null,null,null,null,null,null,null,null,null,null,null,0,null,null,null,null,null,null,null,null,null,null,"金属くず"]
[null,null,null,null,null,null,null,null,null,null,null,null,null,null,null,0,null,null,null,null,null,null,null,null,null,null,"ガラス・コンクリート・陶磁器くず"]
[null,"合計",null,{"$f":"SUM(D49:D58)","v":0},0,0,0,0,0,0,0,0,0,0,0,0,null,null,null,null,null,null,null,null,null,null,"鉱さい",null,null,null,null,null,null,null,null,null,null,null,null,null,null,null,null,null,null,null,null,null,null,{"$f":"P59","v":0}]
[null,null,null,null,null,null,null,null,null,null,null,null,null,null,null,0,null,null,null,null,null,null,null,null,null,null,"廃酸"]
[null,null,null,null,null,null,null,null,null,null,null,null,null,null,null,0,null,null,null,null,null,null,null,null,null,null,"廃アルカリ"]
[null,null,null,null,null,null,null,null,null,null,null,null,null,null,null,0,null,null,null,null,null,null,null,null,null,null,"廃プラスチック類"]
[null,null,null,null,null,null,null,null,null,null,null,null,null,null,null,0,null,null,null,null,null,null,null,null,null,null,"紙くず"]
[null,null,null,null,null,null,null,null,null,null,null,null,null,null,null,0,null,null,null,null,null,null,null,null,null,null,"木くず"]
[null,null,null,null,null,null,null,null,null,null,null,null,null,null,null,0,null,null,null,null,null,null,null,null,null,null,"繊維くず"]
[null,null,null,null,null,null,null,null,null,null,null,null,null,null,null,0,null,null,null,null,null,null,null,null,null,null,"動植物性残さ"]
[null,null,null,null,null,null,null,null,null,null,null,null,null,null,null,0,null,null,null,null,null,null,null,null,null,null,"ゴムくず"]
[null,null,null,null,null,null,null,null,null,null,null,null,null,null,null,0,null,null,null,null,null,null,null,null,null,null,"金属くず"]
[null,null,null,null,null,null,null,null,null,null,null,null,null,null,null,{"$f":"SUM(D69:O69)","v":0},null,null,null,null,null,null,null,null,null,null,"ガラス・コンクリート・陶磁器くず"]
[null,"合計",null,{"$f":"SUM(D60:D69)","v":0},0,0,0,0,0,0,0,0,0,0,0,0,null,null,null,null,null,null,null,null,null,null,"鉱さい",null,null,null,null,null,null,null,null,null,null,null,null,null,null,null,null,null,null,null,null,null,null,{"$f":"P70","v":0}]
[null,null,null,null,null,null,null,null,null,null,null,null,null,null,null,0,null,null,null,null,null,null,null,null,null,null,"廃酸"]
[null,null,null,null,null,null,null,null,null,null,null,null,null,null,null,0,null,null,null,null,null,null,null,null,null,null,"廃アルカリ"]
[null,null,null,null,null,null,null,null,null,null,null,null,null,null,null,0,null,null,null,null,null,null,null,null,null,null,"廃プラスチック類"]
[null,null,null,null,null,null,null,null,null,null,null,null,null,null,null,0,null,null,null,null,null,null,null,null,null,null,"紙くず"]
[null,null,null,null,null,null,null,null,null,null,null,null,null,null,null,0,null,null,null,null,null,null,null,null,null,null,"木くず"]
[null,null,null,null,null,null,null,null,null,null,null,null,null,null,null,0,null,null,null,null,null,null,null,null,null,null,"繊維くず"]
[null,null,null,null,null,null,null,null,null,null,null,null,null,null,null,0,null,null,null,null,null,null,null,null,null,null,"動植物性残さ"]
[null,null,null,null,null,null,null,null,null,null,null,null,null,null,null,0,null,null,null,null,null,null,null,null,null,null,"ゴムくず"]
[null,null,null,null,null,null,null,null,null,null,null,null,null,null,null,0,null,null,null,null,null,null,null,null,null,null,"金属くず"]
[null,null,null,null,null,null,null,null,null,null,null,null,null,null,null,0,null,null,null,null,null,null,null,null,null,null,"ガラス・コンクリート・陶磁器くず"]
[null,"合計",null,{"$f":"SUM(D71:D80)","v":0},0,0,0,0,0,0,0,0,0,0,0,0,null,null,null,null,null,null,null,null,null,null,"鉱さい",null,null,null,null,null,null,null,null,null,null,null,null,null,null,null,null,null,null,null,null,null,null,{"$f":"P81","v":0}]
[null,null,null,null,null,null,null,null,null,null,null,null,null,null,null,0,null,null,null,null,null,null,null,null,null,null,"廃酸"]
[null,null,null,null,null,null,null,null,null,null,null,null,null,null,null,0,null,null,null,null,null,null,null,null,null,null,"廃アルカリ"]
[null,null,null,null,null,null,null,null,null,null,null,null,null,null,null,0,null,null,null,null,null,null,null,null,null,null,"廃プラスチック類"]
[null,null,null,null,null,null,null,null,null,null,null,null,null,null,null,0,null,null,null,null,null,null,null,null,null,null,"紙くず"]
[null,null,null,null,null,null,null,null,null,null,null,null,null,null,null,0,null,null,null,null,null,null,null,null,null,null,"木くず"]
[null,null,null,null,null,null,null,null,null,null,null,null,null,null,null,0,null,null,null,null,null,null,null,null,null,null,"繊維くず"]
[null,null,null,null,null,null,null,null,null,null,null,null,null,null,null,0,null,null,null,null,null,null,null,null,null,null,"動植物性残さ"]
[null,null,null,null,null,null,null,null,null,null,null,null,null,null,null,0,null,null,null,null,null,null,null,null,null,null,"ゴムくず"]
[null,null,null,null,null,null,null,null,null,null,null,null,null,null,null,0,null,null,null,null,null,null,null,null,null,null,"金属くず"]
[null,null,null,null,null,null,null,null,null,null,null,null,null,null,null,0,null,null,null,null,null,null,null,null,null,null,"ガラス・コンクリート・陶磁器くず"]
[null,"合計",null,{"$f":"SUM(D82:D91)","v":0},0,0,0,0,0,0,0,0,0,0,0,0,null,null,null,null,null,null,null,null,null,null,"鉱さい",null,null,null,null,null,null,null,null,null,null,null,null,null,null,null,null,null,null,null,null,null,null,{"$f":"P92","v":0}]
[null,null,null,null,null,null,null,null,null,null,null,null,null,null,null,0,null,null,null,null,null,null,null,null,null,null,"廃酸"]
[null,null,null,null,null,null,null,null,null,null,null,null,null,null,null,0,null,null,null,null,null,null,null,null,null,null,"廃アルカリ"]
[null,null,null,null,null,null,null,null,null,null,null,null,null,null,null,0,null,null,null,null,null,null,null,null,null,null,"廃プラスチック類"]
[null,null,null,null,null,null,null,null,null,null,null,null,null,null,null,0,null,null,null,null,null,null,null,null,null,null,"紙くず"]
[null,null,null,null,null,null,null,null,null,null,null,null,null,null,null,0,null,null,null,null,null,null,null,null,null,null,"木くず"]
[null,null,null,null,null,null,null,null,null,null,null,null,null,null,null,0,null,null,null,null,null,null,null,null,null,null,"繊維くず"]
[null,null,null,null,null,null,null,null,null,null,null,null,null,null,null,0,null,null,null,null,null,null,null,null,null,null,"動植物性残さ"]
[null,null,null,null,null,null,null,null,null,null,null,null,null,null,null,0,null,null,null,null,null,null,null,null,null,null,"ゴムくず"]
[null,null,null,null,null,null,null,null,null,null,null,null,null,null,null,0,null,null,null,null,null,null,null,null,null,null,"金属くず"]
[null,null,null,null,null,null,null,null,null,null,null,null,null,null,null,0,null,null,null,null,null,null,null,null,null,null,"ガラス・コンクリート・陶磁器くず"]
[null,"合計",null,{"$f":"SUM(D93:D102)","v":0},0,0,0,0,0,0,0,0,0,0,0,0,null,null,null,null,null,null,null,null,null,null,"鉱さい",null,null,null,null,null,null,null,null,null,null,null,null,null,null,null,null,null,null,null,null,null,null,{"$f":"P103","v":0}]
[null,null,null,null,null,null,null,null,null,null,null,null,null,null,null,0,null,null,null,null,null,null,null,null,null,null,"廃酸"]
[null,null,null,null,null,null,null,null,null,null,null,null,null,null,null,0,null,null,null,null,null,null,null,null,null,null,"廃アルカリ"]
[null,null,null,null,null,null,null,null,null,null,null,null,null,null,null,0,null,null,null,null,null,null,null,null,null,null,"廃プラスチック類"]
[null,null,null,null,null,null,null,null,null,null,null,null,null,null,null,0,null,null,null,null,null,null,null,null,null,null,"紙くず"]
[null,null,null,null,null,null,null,null,null,null,null,null,null,null,null,0,null,null,null,null,null,null,null,null,null,null,"木くず"]
[null,null,null,null,null,null,null,null,null,null,null,null,null,null,null,0,null,null,null,null,null,null,null,null,null,null,"繊維くず"]
[null,null,null,null,null,null,null,null,null,null,null,null,null,null,null,0,null,null,null,null,null,null,null,null,null,null,"動植物性残さ"]
[null,null,null,null,null,null,null,null,null,null,null,null,null,null,null,0,null,null,null,null,null,null,null,null,null,null,"ゴムくず"]
[null,null,null,null,null,null,null,null,null,null,null,null,null,null,null,0,null,null,null,null,null,null,null,null,null,null,"金属くず"]
[null,null,null,null,null,null,null,null,null,null,null,null,null,null,null,0,null,null,null,null,null,null,null,null,null,null,"ガラス・コンクリート・陶磁器くず"]
[null,"合計",null,{"$f":"SUM(D104:D113)","v":0},0,0,0,0,0,0,0,0,0,0,0,0,null,null,null,null,null,null,null,null,null,null,"鉱さい",null,null,null,null,null,null,null,null,null,null,null,null,null,null,null,null,null,null,null,null,null,null,{"$f":"P114","v":0}]
[null,null,null,null,null,null,null,null,null,null,null,null,null,null,null,0,null,null,null,null,null,null,null,null,null,null,"廃酸"]
[null,null,null,null,null,null,null,null,null,null,null,null,null,null,null,0,null,null,null,null,null,null,null,null,null,null,"廃アルカリ"]
[null,null,null,null,null,null,null,null,null,null,null,null,null,null,null,0,null,null,null,null,null,null,null,null,null,null,"廃プラスチック類"]
[null,null,null,null,null,null,null,null,null,null,null,null,null,null,null,0,null,null,null,null,null,null,null,null,null,null,"紙くず"]
[null,null,null,null,null,null,null,null,null,null,null,null,null,null,null,0,null,null,null,null,null,null,null,null,null,null,"木くず"]
[null,null,null,null,null,null,null,null,null,null,null,null,null,null,null,0,null,null,null,null,null,null,null,null,null,null,"繊維くず"]
[null,null,null,null,null,null,null,null,null,null,null,null,null,null,null,0,null,null,null,null,null,null,null,null,null,null,"動植物性残さ"]
[null,null,null,null,null,null,null,null,null,null,null,null,null,null,null,0,null,null,null,null,null,null,null,null,null,null,"ゴムくず"]
[null,null,null,null,null,null,null,null,null,null,null,null,null,null,null,0,null,null,null,null,null,null,null,null,null,null,"金属くず"]
[null,null,null,null,null,null,null,null,null,null,null,null,null,null,null,0,null,null,null,null,null,null,null,null,null,null,"ガラス・コンクリート・陶磁器くず"]
[null,"合計",null,{"$f":"SUM(D115:D124)","v":0},0,0,0,0,0,0,0,0,0,0,0,0,null,null,null,null,null,null,null,null,null,null,"鉱さい",null,null,null,null,null,null,null,null,null,null,null,null,null,null,null,null,null,null,null,null,null,null,{"$f":"P125","v":0}]
[null,null,null,null,null,null,null,null,null,null,null,null,null,null,null,0,null,null,null,null,null,null,null,null,null,null,"廃酸"]
[null,null,null,null,null,null,null,null,null,null,null,null,null,null,null,0,null,null,null,null,null,null,null,null,null,null,"廃アルカリ"]
[null,null,null,null,null,null,null,null,null,null,null,null,null,null,null,0,null,null,null,null,null,null,null,null,null,null,"廃プラスチック類"]
[null,null,null,null,null,null,null,null,null,null,null,null,null,null,null,0,null,null,null,null,null,null,null,null,null,null,"紙くず"]
[null,null,null,null,null,null,null,null,null,null,null,null,null,null,null,0,null,null,null,null,null,null,null,null,null,null,"木くず"]
[null,null,null,null,null,null,null,null,null,null,null,null,null,null,null,0,null,null,null,null,null,null,null,null,null,null,"繊維くず"]
[null,null,null,null,null,null,null,null,null,null,null,null,null,null,null,0,null,null,null,null,null,null,null,null,null,null,"動植物性残さ"]
[null,null,null,null,null,null,null,null,null,null,null,null,null,null,null,{"$f":"SUM(D133:O133)","v":0},null,null,null,null,null,null,null,null,null,null,"ゴムくず"]
[null,null,null,null,null,null,null,null,null,null,null,null,null,null,null,0,null,null,null,null,null,null,null,null,null,null,"金属くず"]
[null,null,null,null,null,null,null,null,null,null,null,null,null,null,null,0,null,null,null,null,null,null,null,null,null,null,"ガラス・コンクリート・陶磁器くず"]
[null,"合計",null,{"$f":"SUM(D126:D135)","v":0},0,0,0,0,0,0,0,0,0,0,0,0,null,null,null,null,null,null,null,null,null,null,"鉱さい",null,null,null,null,null,null,null,null,null,null,null,null,null,null,null,null,null,null,null,null,null,null,{"$f":"P136","v":0}]
[null,null,null,null,null,null,null,null,null,null,null,null,null,null,null,0,null,null,null,null,null,null,null,null,null,null,"廃酸"]
[null,null,null,null,null,null,null,null,null,null,null,null,null,null,null,0,null,null,null,null,null,null,null,null,null,null,"廃アルカリ"]
[null,null,null,null,null,null,null,null,null,null,null,null,null,null,null,0,null,null,null,null,null,null,null,null,null,null,"廃プラスチック類"]
[null,null,null,null,null,null,null,null,null,null,null,null,null,null,null,0,null,null,null,null,null,null,null,null,null,null,"紙くず"]
[null,null,null,null,null,null,null,null,null,null,null,null,null,null,null,0,null,null,null,null,null,null,null,null,null,null,"木くず"]
[null,null,null,null,null,null,null,null,null,null,null,null,null,null,null,0,null,null,null,null,null,null,null,null,null,null,"繊維くず"]
[null,null,null,null,null,null,null,null,null,null,null,null,null,null,null,0,null,null,null,null,null,null,null,null,null,null,"動植物性残さ"]
[null,null,null,null,null,null,null,null,null,null,null,null,null,null,null,0,null,null,null,null,null,null,null,null,null,null,"ゴムくず"]
[null,null,null,null,null,null,null,null,null,null,null,null,null,null,null,0,null,null,null,null,null,null,null,null,null,null,"金属くず"]
[null,null,null,null,null,null,null,null,null,null,null,null,null,null,null,0,null,null,null,null,null,null,null,null,null,null,"ガラス・コンクリート・陶磁器くず"]
[null,"合計",null,{"$f":"SUM(D137:D146)","v":0},0,0,0,0,0,0,0,0,0,0,0,0,null,null,null,null,null,null,null,null,null,null,"鉱さい",null,null,null,null,null,null,null,null,null,null,null,null,null,null,null,null,null,null,null,null,null,null,{"$f":"P147","v":0}]
[null,null,null,null,null,null,null,null,null,null,null,null,null,null,null,0,null,null,null,null,null,null,null,null,null,null,"廃酸"]
[null,null,null,null,null,null,null,null,null,null,null,null,null,null,null,0,null,null,null,null,null,null,null,null,null,null,"廃アルカリ"]
[null,null,null,null,null,null,null,null,null,null,null,null,null,null,null,0,null,null,null,null,null,null,null,null,null,null,"廃プラスチック類"]
[null,null,null,null,null,null,null,null,null,null,null,null,null,null,null,0,null,null,null,null,null,null,null,null,null,null,"紙くず"]
[null,null,null,null,null,null,null,null,null,null,null,null,null,null,null,0,null,null,null,null,null,null,null,null,null,null,"木くず"]
[null,null,null,null,null,null,null,null,null,null,null,null,null,null,null,0,null,null,null,null,null,null,null,null,null,null,"繊維くず"]
[null,null,null,null,null,null,null,null,null,null,null,null,null,null,null,0,null,null,null,null,null,null,null,null,null,null,"動植物性残さ"]
[null,null,null,null,null,null,null,null,null,null,null,null,null,null,null,0,null,null,null,null,null,null,null,null,null,null,"ゴムくず"]
[null,null,null,null,null,null,null,null,null,null,null,null,null,null,null,0,null,null,null,null,null,null,null,null,null,null,"金属くず"]
[null,null,null,null,null,null,null,null,null,null,null,null,null,null,null,0,null,null,null,null,null,null,null,null,null,null,"ガラス・コンクリート・陶磁器くず"]
[null,"合計",null,{"$f":"SUM(D148:D157)","v":0},0,0,0,0,0,0,0,0,0,0,0,0,null,null,null,null,null,null,null,null,null,null,"鉱さい",null,null,null,null,null,null,null,null,null,null,null,null,null,null,null,null,null,null,null,null,null,null,{"$f":"P158","v":0}]
[null,null,null,null,null,null,null,null,null,null,null,null,null,null,null,0,null,null,null,null,null,null,null,null,null,null,"廃酸"]
[null,null,null,null,null,null,null,null,null,null,null,null,null,null,null,0,null,null,null,null,null,null,null,null,null,null,"廃アルカリ"]
[null,null,null,null,null,null,null,null,null,null,null,null,null,null,null,0,null,null,null,null,null,null,null,null,null,null,"廃プラスチック類"]
[null,null,null,null,null,null,null,null,null,null,null,null,null,null,null,0,null,null,null,null,null,null,null,null,null,null,"紙くず"]
[null,null,null,null,null,null,null,null,null,null,null,null,null,null,null,0,null,null,null,null,null,null,null,null,null,null,"木くず"]
[null,null,null,null,null,null,null,null,null,null,null,null,null,null,null,0,null,null,null,null,null,null,null,null,null,null,"繊維くず"]
[null,null,null,null,null,null,null,null,null,null,null,null,null,null,null,0,null,null,null,null,null,null,null,null,null,null,"動植物性残さ"]
[null,null,null,null,null,null,null,null,null,null,null,null,null,null,null,0,null,null,null,null,null,null,null,null,null,null,"ゴムくず"]
[null,null,null,null,null,null,null,null,null,null,null,null,null,null,null,0,null,null,null,null,null,null,null,null,null,null,"金属くず"]
[null,null,null,null,null,null,null,null,null,null,null,null,null,null,null,0,null,null,null,null,null,null,null,null,null,null,"ガラス・コンクリート・陶磁器くず"]
[null,"合計",null,{"$f":"SUM(D159:D168)","v":0},0,0,0,0,0,0,0,0,0,0,0,0,null,null,null,null,null,null,null,null,null,null,"鉱さい",null,null,null,null,null,null,null,null,null,null,null,null,null,null,null,null,null,null,null,null,null,null,{"$f":"P169","v":0}]
[null,null,null,null,null,null,null,null,null,null,null,null,null,null,null,0,null,null,null,null,null,null,null,null,null,null,"廃酸"]
[null,null,null,null,null,null,null,null,null,null,null,null,null,null,null,0,null,null,null,null,null,null,null,null,null,null,"廃アルカリ"]
[null,null,null,null,null,null,null,null,null,null,null,null,null,null,null,0,null,null,null,null,null,null,null,null,null,null,"廃プラスチック類"]
[null,null,null,null,null,null,null,null,null,null,null,null,null,null,null,0,null,null,null,null,null,null,null,null,null,null,"紙くず"]
[null,null,null,null,null,null,null,null,null,null,null,null,null,null,null,0,null,null,null,null,null,null,null,null,null,null,"木くず"]
[null,null,null,null,null,null,null,null,null,null,null,null,null,null,null,0,null,null,null,null,null,null,null,null,null,null,"繊維くず"]
[null,null,null,null,null,null,null,null,null,null,null,null,null,null,null,0,null,null,null,null,null,null,null,null,null,null,"動植物性残さ"]
[null,null,null,null,null,null,null,null,null,null,null,null,null,null,null,0,null,null,null,null,null,null,null,null,null,null,"ゴムくず"]
[null,null,null,null,null,null,null,null,null,null,null,null,null,null,null,0,null,null,null,null,null,null,null,null,null,null,"金属くず"]
[null,null,null,null,null,null,null,null,null,null,null,null,null,null,null,0,null,null,null,null,null,null,null,null,null,null,"ガラス・コンクリート・陶磁器くず"]
[null,"合計",null,{"$f":"SUM(D170:D179)","v":0},0,0,0,0,0,0,0,0,0,0,0,0,null,null,null,null,null,null,null,null,null,null,"鉱さい",null,null,null,null,null,null,null,null,null,null,null,null,null,null,null,null,null,null,null,null,null,null,{"$f":"P180","v":0}]
[null,null,null,null,null,null,null,null,null,null,null,null,null,null,null,0,null,null,null,null,null,null,null,null,null,null,"廃酸"]
[null,null,null,null,null,null,null,null,null,null,null,null,null,null,null,0,null,null,null,null,null,null,null,null,null,null,"廃アルカリ"]
[null,null,null,null,null,null,null,null,null,null,null,null,null,null,null,0,null,null,null,null,null,null,null,null,null,null,"廃プラスチック類"]
[null,null,null,null,null,null,null,null,null,null,null,null,null,null,null,0,null,null,null,null,null,null,null,null,null,null,"紙くず"]
[null,null,null,null,null,null,null,null,null,null,null,null,null,null,null,0,null,null,null,null,null,null,null,null,null,null,"木くず"]
[null,null,null,null,null,null,null,null,null,null,null,null,null,null,null,0,null,null,null,null,null,null,null,null,null,null,"繊維くず"]
[null,null,null,null,null,null,null,null,null,null,null,null,null,null,null,0,null,null,null,null,null,null,null,null,null,null,"動植物性残さ"]
[null,null,null,null,null,null,null,null,null,null,null,null,null,null,null,0,null,null,null,null,null,null,null,null,null,null,"ゴムくず"]
[null,null,null,null,null,null,null,null,null,null,null,null,null,null,null,0,null,null,null,null,null,null,null,null,null,null,"金属くず"]
[null,null,null,null,null,null,null,null,null,null,null,null,null,null,null,0,null,null,null,null,null,null,null,null,null,null,"ガラス・コンクリート・陶磁器くず"]
[null,"合計",null,{"$f":"SUM(D181:D190)","v":0},0,0,0,0,0,0,0,0,0,0,0,0,null,null,null,null,null,null,null,null,null,null,"鉱さい",null,null,null,null,null,null,null,null,null,null,null,null,null,null,null,null,null,null,null,null,null,null,{"$f":"P191","v":0}]
[null,null,null,null,null,null,null,null,null,null,null,null,null,null,null,0,null,null,null,null,null,null,null,null,null,null,"廃酸"]
[null,null,null,null,null,null,null,null,null,null,null,null,null,null,null,0,null,null,null,null,null,null,null,null,null,null,"廃アルカリ"]
[null,null,null,null,null,null,null,null,null,null,null,null,null,null,null,0,null,null,null,null,null,null,null,null,null,null,"廃プラスチック類"]
[null,null,null,null,null,null,null,null,null,null,null,null,null,null,null,0,null,null,null,null,null,null,null,null,null,null,"紙くず"]
[null,null,null,null,null,null,null,null,null,null,null,null,null,null,null,0,null,null,null,null,null,null,null,null,null,null,"木くず"]
[null,null,null,null,null,null,null,null,null,null,null,null,null,null,null,{"$f":"SUM(D197:O197)","v":0},null,null,null,null,null,null,null,null,null,null,"繊維くず"]
[null,null,null,null,null,null,null,null,null,null,null,null,null,null,null,0,null,null,null,null,null,null,null,null,null,null,"動植物性残さ"]
[null,null,null,null,null,null,null,null,null,null,null,null,null,null,null,0,null,null,null,null,null,null,null,null,null,null,"ゴムくず"]
[null,null,null,null,null,null,null,null,null,null,null,null,null,null,null,0,null,null,null,null,null,null,null,null,null,null,"金属くず"]
[null,null,null,null,null,null,null,null,null,null,null,null,null,null,null,0,null,null,null,null,null,null,null,null,null,null,"ガラス・コンクリート・陶磁器くず"]
[null,"合計",null,{"$f":"SUM(D192:D201)","v":0},0,0,0,0,0,0,0,0,0,0,0,0,null,null,null,null,null,null,null,null,null,null,"鉱さい",null,null,null,null,null,null,null,null,null,null,null,null,null,null,null,null,null,null,null,null,null,null,{"$f":"P202","v":0}]
[null,null,null,null,null,null,null,null,null,null,null,null,null,null,null,0,null,null,null,null,null,null,null,null,null,null,"廃酸"]
[null,null,null,null,null,null,null,null,null,null,null,null,null,null,null,0,null,null,null,null,null,null,null,null,null,null,"廃アルカリ"]
[null,null,null,null,null,null,null,null,null,null,null,null,null,null,null,0,null,null,null,null,null,null,null,null,null,null,"廃プラスチック類"]
[null,null,null,null,null,null,null,null,null,null,null,null,null,null,null,0,null,null,null,null,null,null,null,null,null,null,"紙くず"]
[null,null,null,null,null,null,null,null,null,null,null,null,null,null,null,0,null,null,null,null,null,null,null,null,null,null,"木くず"]
[null,null,null,null,null,null,null,null,null,null,null,null,null,null,null,0,null,null,null,null,null,null,null,null,null,null,"繊維くず"]
[null,null,null,null,null,null,null,null,null,null,null,null,null,null,null,0,null,null,null,null,null,null,null,null,null,null,"動植物性残さ"]
[null,null,null,null,null,null,null,null,null,null,null,null,null,null,null,0,null,null,null,null,null,null,null,null,null,null,"ゴムくず"]
[null,null,null,null,null,null,null,null,null,null,null,null,null,null,null,0,null,null,null,null,null,null,null,null,null,null,"金属くず"]
[null,null,null,null,null,null,null,null,null,null,null,null,null,null,null,0,null,null,null,null,null,null,null,null,null,null,"ガラス・コンクリート・陶磁器くず"]
[null,"合計",null,{"$f":"SUM(D203:D212)","v":0},0,0,0,0,0,0,0,0,0,0,0,0,null,null,null,null,null,null,null,null,null,null,"鉱さい",null,null,null,null,null,null,null,null,null,null,null,null,null,null,null,null,null,null,null,null,null,null,{"$f":"P213","v":0}]
[null,null,null,null,null,null,null,null,null,null,null,null,null,null,null,0,null,null,null,null,null,null,null,null,null,null,"廃酸"]
[null,null,null,null,null,null,null,null,null,null,null,null,null,null,null,0,null,null,null,null,null,null,null,null,null,null,"廃アルカリ"]
[null,null,null,null,null,null,null,null,null,null,null,null,null,null,null,0,null,null,null,null,null,null,null,null,null,null,"廃プラスチック類"]
[null,null,null,null,null,null,null,null,null,null,null,null,null,null,null,0,null,null,null,null,null,null,null,null,null,null,"紙くず"]
[null,null,null,null,null,null,null,null,null,null,null,null,null,null,null,0,null,null,null,null,null,null,null,null,null,null,"木くず"]
[null,null,null,null,null,null,null,null,null,null,null,null,null,null,null,0,null,null,null,null,null,null,null,null,null,null,"繊維くず"]
[null,null,null,null,null,null,null,null,null,null,null,null,null,null,null,0,null,null,null,null,null,null,null,null,null,null,"動植物性残さ"]
[null,null,null,null,null,null,null,null,null,null,null,null,null,null,null,0,null,null,null,null,null,null,null,null,null,null,"ゴムくず"]
[null,null,null,null,null,null,null,null,null,null,null,null,null,null,null,0,null,null,null,null,null,null,null,null,null,null,"金属くず"]
[null,null,null,null,null,null,null,null,null,null,null,null,null,null,null,0,null,null,null,null,null,null,null,null,null,null,"ガラス・コンクリート・陶磁器くず"]
[null,"合計",null,{"$f":"SUM(D214:D223)","v":0},0,0,0,0,0,0,0,0,0,0,0,0,null,null,null,null,null,null,null,null,null,null,"鉱さい",null,null,null,null,null,null,null,null,null,null,null,null,null,null,null,null,null,null,null,null,null,null,{"$f":"P224","v":0}]
[null,null,null,null,null,null,null,null,null,null,null,null,null,null,null,0,null,null,null,null,null,null,null,null,null,null,"廃酸"]
[null,null,null,null,null,null,null,null,null,null,null,null,null,null,null,0,null,null,null,null,null,null,null,null,null,null,"廃アルカリ"]
[null,null,null,null,null,null,null,null,null,null,null,null,null,null,null,0,null,null,null,null,null,null,null,null,null,null,"廃プラスチック類"]
[null,null,null,null,null,null,null,null,null,null,null,null,null,null,null,0,null,null,null,null,null,null,null,null,null,null,"紙くず"]
[null,null,null,null,null,null,null,null,null,null,null,null,null,null,null,0,null,null,null,null,null,null,null,null,null,null,"木くず"]
[null,null,null,null,null,null,null,null,null,null,null,null,null,null,null,0,null,null,null,null,null,null,null,null,null,null,"繊維くず"]
[null,null,null,null,null,null,null,null,null,null,null,null,null,null,null,0,null,null,null,null,null,null,null,null,null,null,"動植物性残さ"]
[null,null,null,null,null,null,null,null,null,null,null,null,null,null,null,0,null,null,null,null,null,null,null,null,null,null,"ゴムくず"]
[null,null,null,null,null,null,null,null,null,null,null,null,null,null,null,0,null,null,null,null,null,null,null,null,null,null,"金属くず"]
[null,null,null,null,null,null,null,null,null,null,null,null,null,null,null,0,null,null,null,null,null,null,null,null,null,null,"ガラス・コンクリート・陶磁器くず"]
[null,"合計",null,{"$f":"SUM(D225:D234)","v":0},0,0,0,0,0,0,0,0,0,0,0,0,null,null,null,null,null,null,null,null,null,null,"鉱さい"]
[]
[]
["備考　"]
["　１　産業廃棄物の処分に係る報告と特別管理産業廃棄物の処分に係る報告は別葉とすること。"]
["　２　事業場ごとに別葉とすること。"]
["　３　「持出先」の欄には、中間処理後の産業廃棄物又は特別管理産業廃棄物を報告者が別の事業場において自ら処分するため持出しを行う場合には"]
["　　「自社」、委託して処分するため持出しを行う場合には「委託」、再生品として使用又は販売をするため持出しを行う場合には「再生」と記載す"]
["　　ること。"]
["  ４　記入欄が不足するときは、この様式の例により作成した書面に記載して、当該書面を添付すること。　"]

{"sheet":"様式第24号","index":20,"n_rows":32,"n_cols":56,"rows_kept":32,"cut":false,"hidden":true,"merged":[[1,52,1,55],[2,4,2,6],[3,10,3,11],[4,1,4,2],[5,9,5,11],[6,9,6,11],[7,9,7,11],[8,10,8,11],[11,0,11,1],[11,2,11,7],[11,9,11,11],[12,1,12,4],[12,5,12,11],[13,5,13,7],[13,8,13,11],[14,8,14,9],[12,0,15,0],[13,1,15,1],[13,2,15,2],[13,3,15,3],[13,4,15,4],[14,5,15,5],[14,6,15,6],[14,7,15,7],[14,10,15,10],[14,11,15,11],[16,0,17,0],[16,1,17,1],[16,2,17,2],[16,3,17,3],[16,4,17,4],[16,5,17,5],[16,6,17,6],[16,7,17,7],[18,0,19,0],[18,1,19,1],[18,2,19,2],[18,3,19,3],[18,4,19,4],[18,5,19,5],[18,6,19,6],[18,7,19,7],[20,0,21,0],[20,1,21,1],[20,2,21,2],[20,3,21,3],[20,4,21,4],[20,5,21,5],[20,6,21,6],[20,7,21,7],[22,0,23,0],[22,1,23,1],[22,2,23,2],[22,3,23,3],[22,4,23,4],[22,5,23,5],[22,6,23,6],[22,7,23,7],[24,0,25,0],[24,1,25,1],[24,2,25,2],[24,3,25,3],[24,4,25,4],[24,5,25,5],[24,6,25,6],[24,7,25,7],[26,0,27,0],[26,1,27,1],[26,2,27,2],[26,3,27,3],[26,4,27,4],[26,5,27,5],[26,6,27,6],[26,7,27,7],[3,54,12,54],[3,55,12,55]]}
["B","I",1]
["様式第24号（第21条関係）（用紙日本産業規格Ａ４横型）",null,null,null,null,null,null,null,null,null,null,null,null,null,null,null,null,null,null,null,null,null,null,null,null,null,null,null,null,null,null,null,null,null,null,null,null,null,null,null,null,null,null,null,null,null,null,null,null,null,null,null,"行追加用T"]
[null,null,null,null,"産業廃棄物処理実績報告書　（",null,null,{"$f":"TEXT(TODAY(),\"ggg\")&事業者基本情報!F4&事業者基本情報!G4","v":"令和7年度"},"）",null,null,null,null,null,null,null,null,null,null,null,null,null,null,null,null,null,null,null,null,null,null,null,null,null,null,null,null,null,null,null,null,null,null,null,null,null,null,null,null,null,null,null,"開始行","終了行","行追加用T\n最終行","削除不可\n最低行数"]
[null,null,null,null,null,null,null,null,null,null,{"$f":"IFERROR(DATEVALUE(事業者基本情報!E5&事業者基本情報!F5&事業者基本情報!G5&事業者基本情報!H5&事業者基本情報!I5&事業者基本情報!J5),\"\")","v":""},null,null,null,null,null,null,null,null,null,null,null,null,null,null,null,null,null,null,null,null,null,null,null,null,null,null,null,null,null,null,null,null,null,null,null,null,null,null,null,null,null,25,{"$f":"BA4+1","v":26},{"$f":"COUNTA(BA4:BA13)","v":1},25]
[null,"静岡県知事 様"]
[null,null,null,null,null,null,null,null,"住　所",{"$f":"事業者基本情報!E9&事業者基本情報!F9&事業者基本情報!G9&CHAR(10)&事業者基本情報!E10&事業者基本情報!F10","v":"-\n静岡県"}]
[null,null,null,null,null,null,null,null,"報告者",{"$f":"事業者基本情報!Y7","v":""}]
[null,null,null,null,null,null,null,null,"氏　名",{"$f":"IF(事業者基本情報!Y7=事業者基本情報!Y8,\"\",事業者基本情報!Y8)","v":""}]
[null,null,null,null,null,null,null,null,null,"電話番号",{"$f":"事業者基本情報!E11&事業者基本情報!F11&事業者基本情報!G11&事業者基本情報!H11&事業者基本情報!I11","v":"--"}]
[]
[" 次のとおり産業廃棄物を処理したので、廃棄物の処理及び清掃に関する法律施行細則第21条の規定により報告します。"]
["事業場の所在地",null,null,null,null,null,null,null,"電話番号"]
["産業廃棄物処理施設の種　　　類","左の処理施設での処分",null,null,null,"左の処分後の産業廃棄物の処理"]
[null,"処分前の産業廃棄物の種類","処分量\n（ｔ）","処分後の産業廃棄物の種類","排出量\n（ｔ）","自己処分",null,null,"委託処理"]
[null,null,null,null,null,"処分場所","処分方法","処分量\n（ｔ）","受託者",null,"処分方法","委託量\n（ｔ）"]
[null,null,null,null,null,null,null,null,"許可番号","氏名又は名称"]
[null,null,null,null,null,null,null,null,null,null,null,null,null,null,null,null,null,null,null,null,null,null,null,null,null,null,null,null,null,null,null,null,null,null,null,null,null,null,null,null,null,null,null,null,null,null,null,null,null,{"$f":"L17","v":0}]
[null,null,null,null,null,null,null,null,null,null,null,null,null,null,null,null,null,null,null,null,null,null,null,null,null,null,null,null,null,null,null,null,null,null,null,null,null,null,null,null,null,null,null,null,null,null,{"$f":"C17","v":0},{"$f":"E17","v":0},{"$f":"H17","v":0},null,{"$f":"L18","v":0}]
[null,null,null,null,null,null,null,null,null,null,null,null,null,null,null,null,null,null,null,null,null,null,null,null,null,null,null,null,null,null,null,null,null,null,null,null,null,null,null,null,null,null,null,null,null,null,null,null,null,{"$f":"L19","v":0}]
[null,null,null,null,null,null,null,null,null,null,null,null,null,null,null,null,null,null,null,null,null,null,null,null,null,null,null,null,null,null,null,null,null,null,null,null,null,null,null,null,null,null,null,null,null,null,{"$f":"C19","v":0},{"$f":"E19","v":0},{"$f":"H19","v":0},null,{"$f":"L20","v":0}]
[null,null,null,null,null,null,null,null,null,null,null,null,null,null,null,null,null,null,null,null,null,null,null,null,null,null,null,null,null,null,null,null,null,null,null,null,null,null,null,null,null,null,null,null,null,null,null,null,null,{"$f":"L21","v":0}]
[null,null,null,null,null,null,null,null,null,null,null,null,null,null,null,null,null,null,null,null,null,null,null,null,null,null,null,null,null,null,null,null,null,null,null,null,null,null,null,null,null,null,null,null,null,null,{"$f":"C21","v":0},{"$f":"E21","v":0},{"$f":"H21","v":0},null,{"$f":"L22","v":0}]
[null,null,null,null,null,null,null,null,null,null,null,null,null,null,null,null,null,null,null,null,null,null,null,null,null,null,null,null,null,null,null,null,null,null,null,null,null,null,null,null,null,null,null,null,null,null,null,null,null,{"$f":"L23","v":0}]
[null,null,null,null,null,null,null,null,null,null,null,null,null,null,null,null,null,null,null,null,null,null,null,null,null,null,null,null,null,null,null,null,null,null,null,null,null,null,null,null,null,null,null,null,null,null,{"$f":"C23","v":0},{"$f":"E23","v":0},{"$f":"H23","v":0},null,{"$f":"L24","v":0}]
[null,null,null,null,null,null,null,null,null,null,null,null,null,null,null,null,null,null,null,null,null,null,null,null,null,null,null,null,null,null,null,null,null,null,null,null,null,null,null,null,null,null,null,null,null,null,null,null,null,{"$f":"L25","v":0}]
[null,null,null,null,null,null,null,null,null,null,null,null,null,null,null,null,null,null,null,null,null,null,null,null,null,null,null,null,null,null,null,null,null,null,null,null,null,null,null,null,null,null,null,null,null,null,{"$f":"C25","v":0},{"$f":"E25","v":0},{"$f":"H25","v":0},null,{"$f":"L26","v":0}]
["合計","-",{"$f":"SUM(AU:AU)","v":0},"-",{"$f":"SUM(AV:AV)","v":0},"-","-",{"$f":"SUM(AW:AW)","v":0},"-","-","-",{"$f":"SUM(AX:AX)","v":0}]
[null,null,null,null,null,null,null,null,"-","-","-",{"$f":"SUM(AY:AY)","v":0}]
["備考"]
["　1　前年4月1日から3月31日までに処理した産業廃棄物について記載し、その年の6月30日までに提出すること。"]
["　2　「委託処理」の欄の上段に収集運搬の委託内容を、下段に処分の委託内容をそれぞれ記載すること。"]
["　3　記入欄が不足する場合は、行を追加して記載すること。"]

{"sheet":"様式第25号","index":21,"n_rows":33,"n_cols":56,"rows_kept":33,"cut":false,"hidden":true,"merged":[[1,52,1,55],[4,10,4,11],[5,1,5,2],[6,9,6,11],[7,9,7,11],[8,9,8,11],[9,10,9,11],[10,10,10,11],[12,1,12,2],[13,2,13,6],[13,7,13,11],[16,4,16,5],[17,4,17,5],[18,4,18,5],[19,4,19,5],[20,4,20,5],[21,4,21,5],[22,4,22,5],[23,4,23,5],[13,0,15,0],[13,1,15,1],[14,2,15,2],[14,3,15,3],[14,4,15,5],[14,6,15,6],[14,7,15,7],[14,8,15,8],[14,9,15,9],[14,10,15,10],[14,11,15,11],[3,54,12,54],[3,55,12,55]]}
["C","I",1,"N"]
["様式第25号（第22条関係）（用紙日本産業規格Ａ４横型）",null,null,null,null,null,null,null,null,null,null,null,null,null,null,null,null,null,null,null,null,null,null,null,null,null,null,null,null,null,null,null,null,null,null,null,null,null,null,null,null,null,null,null,null,null,null,null,null,null,null,null,"行追加用T"]
[null,null,null,null,null,null,null,null,null,null,null,null,null,null,null,null,null,null,null,null,null,null,null,null,null,null,null,null,null,null,null,null,null,null,null,null,null,null,null,null,null,null,null,null,null,null,null,null,null,null,null,null,"開始行","終了行","行追加用T\n最終行","削除不可\n最低行数"]
[null,null,null,null,null,null,"産業廃棄物 運搬実績報告書（",{"$f":"TEXT(TODAY(),\"ggg\")&事業者基本情報!F4&事業者基本情報!G4","v":"令和7年度"},"）",null,null,null,null,null,null,null,null,null,null,null,null,null,null,null,null,null,null,null,null,null,null,null,null,null,null,null,null,null,null,null,null,null,null,null,null,null,null,null,null,null,null,null,23,{"$f":"BA4","v":23},{"$f":"COUNTA(BA4:BA13)","v":1},23]
[null,null,null,null,null,null,null,null,null,null,{"$f":"IFERROR(DATEVALUE(事業者基本情報!E5&事業者基本情報!F5&事業者基本情報!G5&事業者基本情報!H5&事業者基本情報!I5&事業者基本情報!J5),\"\")","v":""}]
[null,"静岡県知事 様"]
[null,null,null,null,null,null,null,null,"住　所",{"$f":"事業者基本情報!E9&事業者基本情報!F9&事業者基本情報!G9&CHAR(10)&事業者基本情報!E10&事業者基本情報!F10","v":"-\n静岡県"}]
[null,null,null,null,null,null,null,null,"報告者",{"$f":"事業者基本情報!Y7","v":""}]
[null,null,null,null,null,null,null,null,"氏　名",{"$f":"IF(事業者基本情報!Y7=事業者基本情報!Y8,\"\",事業者基本情報!Y8)","v":""}]
[null,null,null,null,null,null,null,null,null,"電話番号",{"$f":"事業者基本情報!E11&事業者基本情報!F11&事業者基本情報!G11&事業者基本情報!H11&事業者基本情報!I11","v":"--"}]
[null,null,null,null,null,null,null,null,null,"許可番号"]
[]
["次のとおり","産　業　廃　棄　物",null,"を運搬したので、廃棄物の処理及び清掃に関する法律施行細則第22条の規定により報告します。"]
["種類","運搬量\n（ｔ）","報告者に運搬を委託した者",null,null,null,null,"報告者が産業廃棄物又は特別管理産業廃棄物を引き渡した者"]
[null,null,"許可番号","氏名又は名称","住所又は所在地",null,"受託量\n（ｔ）","許可番号","氏名又は名称","住所又は所在地","引渡量\n（ｔ）","備考"]
[]
[null,null,null,null,null,null,{"$f":"IF(B17<>0,B17,\"\")","v":""},null,null,null,{"$f":"IF(B17<>0,B17,\"\")","v":""},null,null,null,null,null,null,null,null,null,null,null,null,null,null,null,null,null,null,null,null,null,null,null,null,null,null,null,null,null,null,null,null,null,null,null,null,null,null,{"$f":"B17","v":0},{"$f":"G17","v":""},{"$f":"K17","v":""}]
[null,null,null,null,null,null,"",null,null,null,"",null,null,null,null,null,null,null,null,null,null,null,null,null,null,null,null,null,null,null,null,null,null,null,null,null,null,null,null,null,null,null,null,null,null,null,null,null,null,0,"",""]
[null,null,null,null,null,null,"",null,null,null,"",null,null,null,null,null,null,null,null,null,null,null,null,null,null,null,null,null,null,null,null,null,null,null,null,null,null,null,null,null,null,null,null,null,null,null,null,null,null,0,"",""]
[null,null,null,null,null,null,"",null,null,null,"",null,null,null,null,null,null,null,null,null,null,null,null,null,null,null,null,null,null,null,null,null,null,null,null,null,null,null,null,null,null,null,null,null,null,null,null,null,null,0,"",""]
[null,null,null,null,null,null,"",null,null,null,"",null,null,null,null,null,null,null,null,null,null,null,null,null,null,null,null,null,null,null,null,null,null,null,null,null,null,null,null,null,null,null,null,null,null,null,null,null,null,0,"",""]
[null,null,null,null,null,null,"",null,null,null,"",null,null,null,null,null,null,null,null,null,null,null,null,null,null,null,null,null,null,null,null,null,null,null,null,null,null,null,null,null,null,null,null,null,null,null,null,null,null,0,"",""]
[null,null,null,null,null,null,"",null,null,null,"",null,null,null,null,null,null,null,null,null,null,null,null,null,null,null,null,null,null,null,null,null,null,null,null,null,null,null,null,null,null,null,null,null,null,null,null,null,null,0,"",""]
["合計",{"$f":"SUM(AX:AX)","v":0},"-","-","-",null,{"$f":"SUM(AY:AY)","v":0},"-","-","-",{"$f":"SUM(AZ:AZ)","v":0},"-"]
["備考"]
["1　前年4月1日から3月31日までに処理した産業廃棄物又は特別管理産業廃棄物について記載し、その年の6月30日までに提出すること。"]
["2　産業廃棄物の運搬に係る報告と特別管理産業廃棄物の運搬に係る報告は別様とすること。"]
["3　「許可番号」の欄には、報告者に運搬を委託した者又は報告者が産業廃棄物若しくは特別管理産業廃棄物を引き渡した者が、産業廃棄物収集"]
["　運搬業者若しくは特別管理産業廃棄物収集運搬業者又は産業廃棄物処分業者若しくは特別管理産業廃棄物処分業者である場合に、その許可番号"]
["　を記載すること。"]
["4　報告者が産業廃棄物収集運搬業者又は特別管理産業廃棄物収集運搬業者に運搬を再委託した場合は、「備考」の欄に「再」と記載すること。"]
["5　記入欄が不足する場合は、行を追加して記載すること。"]
["6　売却の場合は「備考」の欄に「売却」と記載すること。"]

{"sheet":"様式第25号_特別","index":22,"n_rows":33,"n_cols":56,"rows_kept":33,"cut":false,"hidden":true,"merged":[[1,52,1,55],[3,2,3,6],[4,10,4,11],[5,1,5,2],[6,9,6,11],[7,9,7,11],[8,9,8,11],[9,10,9,11],[10,10,10,11],[12,1,12,2],[13,2,13,6],[13,7,13,11],[16,4,16,5],[17,4,17,5],[18,4,18,5],[19,4,19,5],[20,4,20,5],[21,4,21,5],[22,4,22,5],[23,4,23,5],[13,0,15,0],[13,1,15,1],[14,2,15,2],[14,3,15,3],[14,4,15,5],[14,6,15,6],[14,7,15,7],[14,8,15,8],[14,9,15,9],[14,10,15,10],[14,11,15,11],[3,54,12,54],[3,55,12,55]]}
["C","I",1,"S"]
["様式第25号（第22条関係）（用紙日本産業規格Ａ４横型）",null,null,null,null,null,null,null,null,null,null,null,null,null,null,null,null,null,null,null,null,null,null,null,null,null,null,null,null,null,null,null,null,null,null,null,null,null,null,null,null,null,null,null,null,null,null,null,null,null,null,null,"行追加用T"]
[null,null,null,null,null,null,null,null,null,null,null,null,null,null,null,null,null,null,null,null,null,null,null,null,null,null,null,null,null,null,null,null,null,null,null,null,null,null,null,null,null,null,null,null,null,null,null,null,null,null,null,null,"開始行","終了行","行追加用T\n最終行","削除不可\n最低行数"]
[null,null,"特別管理産業廃棄物 運搬実績報告書（",null,null,null,null,{"$f":"TEXT(TODAY(),\"ggg\")&事業者基本情報!F4&事業者基本情報!G4","v":"令和7年度"},"）",null,null,null,null,null,null,null,null,null,null,null,null,null,null,null,null,null,null,null,null,null,null,null,null,null,null,null,null,null,null,null,null,null,null,null,null,null,null,null,null,null,null,null,23,{"$f":"BA4","v":23},{"$f":"COUNTA(BA4:BA13)","v":1},23]
[null,null,null,null,null,null,null,null,null,null,{"$f":"IFERROR(DATEVALUE(事業者基本情報!E5&事業者基本情報!F5&事業者基本情報!G5&事業者基本情報!H5&事業者基本情報!I5&事業者基本情報!J5),\"\")","v":""}]
[null,"静岡県知事 様"]
[null,null,null,null,null,null,null,null,"住　所",{"$f":"事業者基本情報!E9&事業者基本情報!F9&事業者基本情報!G9&CHAR(10)&事業者基本情報!E10&事業者基本情報!F10","v":"-\n静岡県"}]
[null,null,null,null,null,null,null,null,"報告者",{"$f":"事業者基本情報!Y7","v":""}]
[null,null,null,null,null,null,null,null,"氏　名",{"$f":"IF(事業者基本情報!Y7=事業者基本情報!Y8,\"\",事業者基本情報!Y8)","v":""}]
[null,null,null,null,null,null,null,null,null,"電話番号",{"$f":"事業者基本情報!E11&事業者基本情報!F11&事業者基本情報!G11&事業者基本情報!H11&事業者基本情報!I11","v":"--"}]
[null,null,null,null,null,null,null,null,null,"許可番号"]
[]
["次のとおり","特別管理産業廃棄物",null,"を運搬したので、廃棄物の処理及び清掃に関する法律施行細則第22条の規定により報告します。"]
["種類","運搬量\n（ｔ）","報告者に運搬を委託した者",null,null,null,null,"報告者が産業廃棄物又は特別管理産業廃棄物を引き渡した者"]
[null,null,"許可番号","氏名又は名称","住所又は所在地",null,"受託量\n（ｔ）","許可番号","氏名又は名称","住所又は所在地","引渡量\n（ｔ）","備考"]
[]
[null,null,null,null,null,null,{"$f":"IF(B17<>0,B17,\"\")","v":""},null,null,null,{"$f":"IF(B17<>0,B17,\"\")","v":""},null,null,null,null,null,null,null,null,null,null,null,null,null,null,null,null,null,null,null,null,null,null,null,null,null,null,null,null,null,null,null,null,null,null,null,null,null,null,{"$f":"B17","v":0},{"$f":"G17","v":""},{"$f":"K17","v":""}]
[null,null,null,null,null,null,"",null,null,null,"",null,null,null,null,null,null,null,null,null,null,null,null,null,null,null,null,null,null,null,null,null,null,null,null,null,null,null,null,null,null,null,null,null,null,null,null,null,null,0,"",""]
[null,null,null,null,null,null,"",null,null,null,"",null,null,null,null,null,null,null,null,null,null,null,null,null,null,null,null,null,null,null,null,null,null,null,null,null,null,null,null,null,null,null,null,null,null,null,null,null,null,0,"",""]
[null,null,null,null,null,null,"",null,null,null,"",null,null,null,null,null,null,null,null,null,null,null,null,null,null,null,null,null,null,null,null,null,null,null,null,null,null,null,null,null,null,null,null,null,null,null,null,null,null,0,"",""]
[null,null,null,null,null,null,"",null,null,null,"",null,null,null,null,null,null,null,null,null,null,null,null,null,null,null,null,null,null,null,null,null,null,null,null,null,null,null,null,null,null,null,null,null,null,null,null,null,null,0,"",""]
[null,null,null,null,null,null,"",null,null,null,"",null,null,null,null,null,null,null,null,null,null,null,null,null,null,null,null,null,null,null,null,null,null,null,null,null,null,null,null,null,null,null,null,null,null,null,null,null,null,0,"",""]
[null,null,null,null,null,null,"",null,null,null,"",null,null,null,null,null,null,null,null,null,null,null,null,null,null,null,null,null,null,null,null,null,null,null,null,null,null,null,null,null,null,null,null,null,null,null,null,null,null,0,"",""]
["合計",{"$f":"SUM(AX:AX)","v":0},"-","-","-",null,{"$f":"SUM(AY:AY)","v":0},"-","-","-",{"$f":"SUM(AZ:AZ)","v":0},"-"]
["備考"]
["1　前年4月1日から3月31日までに処理した産業廃棄物又は特別管理産業廃棄物について記載し、その年の6月30日までに提出すること。"]
["2　産業廃棄物の運搬に係る報告と特別管理産業廃棄物の運搬に係る報告は別様とすること。"]
["3　「許可番号」の欄には、報告者に運搬を委託した者又は報告者が産業廃棄物若しくは特別管理産業廃棄物を引き渡した者が、産業廃棄物収集"]
["　運搬業者若しくは特別管理産業廃棄物収集運搬業者又は産業廃棄物処分業者若しくは特別管理産業廃棄物処分業者である場合に、その許可番号"]
["　を記載すること。"]
["4　報告者が産業廃棄物収集運搬業者又は特別管理産業廃棄物収集運搬業者に運搬を再委託した場合は、「備考」の欄に「再」と記載すること。"]
["5　記入欄が不足する場合は、行を追加して記載すること。"]
["6　売却の場合は「備考」の欄に「売却」と記載すること。"]

{"sheet":"コード表","index":23,"n_rows":141,"n_cols":7,"rows_kept":141,"cut":false,"hidden":true,"merged":[[0,0,0,2],[0,4,0,6],[1,4,5,4],[1,6,5,6],[2,0,3,0],[4,0,5,0],[7,0,9,0],[34,0,37,0],[38,0,42,0],[63,0,68,0],[69,0,71,0],[72,0,75,0],[76,0,78,0],[79,0,81,0],[82,0,83,0],[84,0,86,0],[87,0,88,0],[98,0,99,0],[139,4,140,4],[6,4,74,4],[10,0,33,0],[43,0,50,0],[51,0,62,0],[75,4,115,4],[89,0,97,0],[116,4,138,4]]}
["産業分類コード表",null,null,null,"廃棄物コード表"]
["大分類","中分類","業種コード",null,"マスタ","廃棄物の種類","分類コード"]
["Ａ　農業、林業","農業","A01"]
[null,"林業","A02",null,null,"大分類"]
["Ｂ　漁業","漁業","B03",null,null,"　中分類"]
[null,"水産養殖業","B04",null,null,"　　小分類"]
["Ｃ　鉱業、採石業、砂利採取業","鉱業、採石業、砂利採取業","C05",null,"廃棄物処理法で定められた２０種類（大分類）の分類マスタ","燃え殻","0100000"]
["Ｄ　建設業","総合工事業","D06",null,null,"　焼却灰","0110000"]
[null,"職別工事業（設備工事業を除く）","D07",null,null,"　　石灰灰","0111000"]
[null,"設備工事業","D08",null,null,"　　廃棄物の焼却灰","0112000"]
["Ｅ　製造業","食料品製造業","E09",null,null,"　廃カーボン・活性炭","0120000"]
[null,"飲料・たばこ・飼料製造業","E10",null,null,"汚泥（泥状のもの）","0200000"]
[null,"繊維工業","E11",null,null,"　有機性汚泥","0210000"]
[null,"木材・木製品製造業（家具を除く）","E12",null,null,"　　下水汚泥","0211000"]
[null,"家具・装備品製造業","E13",null,null,"　無機性汚泥","0220000"]
[null,"パルプ・紙・紙加工品製造業","E14",null,null,"　　建設汚泥（残土を除く）","0221000"]
[null,"印刷・同関連業","E15",null,null,"　　上水汚泥","0222000"]
[null,"化学工業","E16",null,null,"廃油","0300000"]
[null,"石油製品・石炭製品製造業","E17",null,null,"　一般廃油","0310000"]
[null,"プラスチック製品製造業（別掲を除く）","E18",null,null,"　　鉱物廃油","0311000"]
[null,"ゴム製品製造業","E19",null,null,"　　植物性廃油","0312000"]
[null,"なめし革・同製品・毛皮製造業","E20",null,null,"　廃溶剤","0320000"]
[null,"窯業・土石製品製造業","E21",null,null,"　固形油","0330000"]
[null,"鉄鋼業","E22",null,null,"　油でい","0340000"]
[null,"非鉄金属製造業","E23",null,null,"廃酸","0400000"]
[null,"金属製品製造業","E24",null,null,"　　写真定着廃液","0401000"]
[null,"はん用機械器具製造業","E25",null,null,"廃アルカリ","0500000"]
[null,"生産用機械器具製造業","E26",null,null,"　　写真現像廃液","0501000"]
[null,"業務用機械器具製造業","E27",null,null,"廃プラスチック類","0600000"]
[null,"電子部品・デバイス・電子回路製造業","E28",null,null,"　　廃タイヤ","0601000"]
[null,"電気機械器具製造業","E29",null,null,"　　自動車用廃プラスチックバンパー","0602000"]
[null,"情報通信機械器具製造業","E30",null,null,"　　廃農業用ビニール","0603000"]
[null,"輸送用機械器具製造業","E31",null,null,"　　プラスチック製廃容器包装","0604000"]
[null,"その他の製造業","E32",null,null,"　　発泡スチロール","0605000"]
["Ｆ　電気・ガス・熱供給・水道業","電気業","F33",null,null,"　　発泡ウレタン","0606000"]
[null,"ガス業","F34",null,null,"　　発泡ポリスチレン","0607000"]
[null,"熱供給業","F35",null,null,"　　塩化ビニール製建設資材","0608000"]
[null,"水道業","F36",null,null,"紙くず","0700000"]
["Ｇ　情報通信業","通信業","G37",null,null,"　建設工事の紙くず","0710000"]
[null,"放送業","G38",null,null,"　　ダンボール","0711000"]
[null,"情報サービス業","G39",null,null,"木くず","0800000"]
[null,"インターネット付随サービス業","G40",null,null,"　建設工事の木くず","0810000"]
[null,"映像・音声・文字情報制作業","G41",null,null,"　　伐採材・伐根材","0811000"]
["Ｈ　運輸業、郵便業","鉄道業","H42",null,null,"繊維くず（天然繊維くず）","0900000"]
[null,"道路旅客運送業","H43",null,null,"　建設工事の繊維くず","0910000"]
[null,"道路貨物運送業","H44",null,null,"動・植物性残渣",1000000]
[null,"水運業","H45",null,null,"動物系固形不要物",4000000]
[null,"航空運輸業","H46",null,null,"ゴムくず（天然ゴムくず）",1100000]
[null,"倉庫業","H47",null,null,"金属くず",1200000]
[null,"運輸に附帯するサービス業","H48",null,null,"　鉄くず",1210000]
[null,"郵便業（信書便事業を含む）","H49",null,null,"　非鉄金属くず",1220000]
["Ｉ　卸売・小売業","各種商品卸売業","I50",null,null,"　　鉛製の管又は板",1221000]
[null,"繊維・衣服等卸売業","I51",null,null,"　　電線くず",1222000]
[null,"飲食料品卸売業","I52",null,null,"ガラスくず、ｺﾝｸﾘｰﾄくず及び陶磁器くず",1300000]
[null,"建築材料、鉱物・金属材料等卸売業","I53",null,null,"　ガラスくず",1310000]
[null,"機械器具卸売業","I54",null,null,"　　カレット",1311000]
[null,"その他の卸売業","I55",null,null,"　　廃ブラウン管（側面部）",1312000]
[null,"各種商品小売業","I56",null,null,"　　ガラス製廃容器包装",1313000]
[null,"織物・衣服・身の回り品小売業","I57",null,null,"　　ロックウール",1314000]
[null,"飲食料品小売業","I58",null,null,"　　石綿（非飛散性）",1315000]
[null,"機械器具小売業","I59",null,null,"　　グラスウール",1316000]
[null,"その他の小売業","I60",null,null,"　　岩綿吸音板",1317000]
[null,"無店舗小売業","I61",null,null,"　陶磁器くず",1320000]
["Ｊ　金融業・保険業","銀行業","J62",null,null,"　　コンクリートくず",1321000]
[null,"協同組織金融業","J63",null,null,"　　石膏ボード",1322000]
[null,"貸金業、クレジットカード業等非預金信用機関","J64",null,null,"　　ＡＬＣ（軽量気泡コンクリート）",1323000]
[null,"金融商品取引業、商品先物取引業","J65",null,null,"鉱さい",1400000]
[null,"補助的金融業等","J66",null,null,"　　スラグ",1401000]
[null,"保険業（保険媒介代理業、保険サービス業を含む）","J67",null,null,"がれき類（工作物の新築、改築又は除去に伴って生じた不要物）",1500000]
["Ｋ　不動産業、物品賃貸業","不動産取引業","K68",null,null,"　　コンクリート破片",1501000]
[null,"不動産賃貸業・管理業","K69",null,null,"　　アスファルト・コンクリート破片",1502000]
[null,"物品賃貸業","K70",null,null,"動物のふん尿（畜産農業から排出されたもの）",1600000]
["Ｌ　学術研究、専門・技術サービス業","学術・開発研究機関","L71",null,null,"動物の死体（畜産農業から排出されたもの）",1700000]
[null,"専門サービス業（他に分類されないもの）","L72",null,null,"ばいじん（工場の排ガスを処理して得られるばいじん）",1800000]
[null,"広告業","L73",null,null,"処分するために処理したもの（１３号廃棄物",1900000]
[null,"技術サービス業（他に分類されないもの）","L74",null,"前記以外の産業廃棄物（不可分一体の廃棄物）の分類マスタ","建設混合廃棄物",2000000]
["Ｍ　宿泊業、飲食サービス業","宿泊業","M75",null,null,"　安定型建設混合廃棄物",2010000]
[null,"飲食店","M76",null,null,"　管理型建設混合廃棄物",2020000]
[null,"持ち帰り・配達飲食サービス業","M77",null,null,"　　新築系混合廃棄物",2021000]
["Ｎ　生活関連サービス業、娯楽業","洗濯・理容・美容・浴場業","N78",null,null,"　　解体系混合廃棄物",2022000]
[null,"その他の生活関連サービス業","N79",null,null,"安定型混合廃棄物",2100000]
[null,"娯楽業","N80",null,null,"管理型混合廃棄物",2200000]
["Ｏ　教育、学習支援業","学校教育","O81",null,null,"シュレッダーダスト",2300000]
[null,"その他の教育、学習支援業","O82",null,null,"石綿含有産業廃棄物",2400000]
["Ｐ　医療、福祉","医療業","P83",null,null,"　建設混合廃棄物",2410000]
[null,"保健衛生","P84",null,null,"　ガラスくず、コンクリートくず及び陶磁器くず",2420000]
[null,"社会保険・社会福祉・介護事業","P85",null,null,"　廃プラスチック類",2430000]
["Ｑ　複合サービス事業","郵便局","Q86",null,null,"　がれき類（工作物の新築、改築又は除去に伴って生じた不要物）",2440000]
[null,"協同組合（他に分類されないもの）","Q87",null,null,"　紙くず",2450000]
["Ｒ　サービス業（他に分類されないもの）","廃棄物処理業","R88",null,null,"　木くず",2460000]
[null,"自動車整備業","R89",null,null,"　繊維くず（天然繊維くず）",2470000]
[null,"機械等修理業（別掲を除く）","R90",null,null,"水銀使用製品産業廃棄物",2500000]
[null,"職業紹介・労働者派遣業","R91",null,null,"  蛍光灯",2522000]
[null,"その他の事業サービス業","R92",null,null,"　水銀体温計",2561000]
[null,"政治・経済・文化団体","R93",null,null,"　水銀式血圧計",2562000]
[null,"宗教","R94",null,null,"廃自動車",3000000]
[null,"その他のサービス業","R95",null,null,"　廃二輪車",3010000]
[null,"外国公務","R96",null,null,"　　バイク",3011000]
["Ｓ　公務（他に分類されるものを除く）","国家公務","S97",null,null,"　　自転車",3012000]
[null,"地方公務","S98",null,null,"廃電気機械器具",3100000]
["Ｔ　分類不能の産業","分類不能の産業","T99",null,null,"　　廃パチンコ機及び廃パチスロ機",3101000]
[null,null,null,null,null,"　　プリント配線板",3102000]
[null,null,null,null,null,"　　テレビジョン受信機",3103000]
[null,null,null,null,null,"　　エアコンディショナー",3104000]
[null,null,null,null,null,"　　冷蔵庫",3105000]
[null,null,null,null,null,"　　洗濯機",3106000]
[null,null,null,null,null,"　　電子レンジ",3107000]
[null,null,null,null,null,"　　パーソナルコンピュータ",3108000]
[null,null,null,null,null,"　　電話機",3109000]
[null,null,null,null,null,"　　自動販売機",3110000]
[null,null,null,null,null,"　　蛍光灯",3111000]
[null,null,null,null,null,"　　冷凍庫",3112000]
[null,null,null,null,null,"廃電池類",3500000]
[null,null,null,null,null,"　鉛蓄電池",3510000]
[null,null,null,null,null,"　乾電池",3520000]
[null,null,null,null,null,"複合材",3600000]
[null,null,null,null,"特別管理産業廃棄物の分類マスタ ","燃えやすい廃油",7000000]
[null,null,null,null,null,"　燃えやすい廃油 ",7010000]
[null,null,null,null,null,"ph２.０以下の廃酸",7100000]
[null,null,null,null,null,"　ph２.０以下の廃酸 ",7110000]
[null,null,null,null,null,"ph１２.５以上の廃アルカリ",7200000]
[null,null,null,null,null,"　ph１２.５以上の廃アルカリ ",7210000]
[null,null,null,null,null,"感染性廃棄物",7300000]
[null,null,null,null,null,"特定有害産業廃棄物",7400000]
[null,null,null,null,null,"　廃ＰＣＢ等・ＰＣＢ汚染物・ＰＣＢ処理物",7410000]
[null,null,null,null,null,"　　廃ＰＣＢ",7411000]
[null,null,null,null,null,"　　ＰＣＢ汚染物",7412000]
[null,null,null,null,null,"　　ＰＣＢ処理物",7413000]
[null,null,null,null,null,"　　廃石綿等（飛散性）",7421000]
[null,null,null,null,null,"　　指定下水汚泥",7422000]
[null,null,null,null,null,"　　鉱さい ",7423000]
[null,null,null,null,null,"　　燃えがら ",7424000]
[null,null,null,null,null,"　　廃油 ",7425000]
[null,null,null,null,null,"　　汚泥 ",7426000]
[null,null,null,null,null,"　　廃酸 ",7427000]
[null,null,null,null,null,"　　廃アルカリ ",7428000]
[null,null,null,null,null,"　　ばいじん ",7429000]
[null,null,null,null,null,"　処分するために処理したもの ",7430000]
[null,null,null,null,null,"　廃水銀等(処分するために処理したものを含む)","7440000"]
[null,null,null,null,"再生資源等の分類マスタ","土砂",9000000]
[null,null,null,null,null,"しゅんせつ土",9100000]

{"sheet":"様式第２号_必須入力チェック","index":24,"n_rows":79,"n_cols":30,"rows_kept":79,"cut":false,"hidden":true,"merged":[[0,1,0,4],[0,6,0,9],[0,11,0,14],[0,16,0,19],[0,21,0,24],[0,26,0,29]]}
[{"$f":"IF(MAX(INDEX((LEN(E:E)>0)*ROW(E:E),0))=3,\"\",MAX(INDEX((LEN(E:E)>0)*ROW(E:E),0)))","v":79},"様式第２号の８",null,null,null,{"$f":"IF(MAX(INDEX((LEN(J:J)>0)*ROW(J:J),0))=3,\"\",MAX(INDEX((LEN(J:J)>0)*ROW(J:J),0)))","v":2},"様式第２号の13",null,null,null,{"$f":"IF(MAX(INDEX((LEN(O:O)>0)*ROW(O:O),0))=3,\"\",MAX(INDEX((LEN(O:O)>0)*ROW(O:O),0)))","v":2},"様式第２号の９_第1面",null,null,null,{"$f":"IF(MAX(INDEX((LEN(T:T)>0)*ROW(T:T),0))=3,\"\",MAX(INDEX((LEN(T:T)>0)*ROW(T:T),0)))","v":2},"様式第２号の９_第2面",null,null,null,{"$f":"IF(MAX(INDEX((LEN(Y:Y)>0)*ROW(Y:Y),0))=3,\"\",MAX(INDEX((LEN(Y:Y)>0)*ROW(Y:Y),0)))","v":2},"様式第２号の14_第1面",null,null,null,{"$f":"IF(MAX(INDEX((LEN(AD:AD)>0)*ROW(AD:AD),0))=3,\"\",MAX(INDEX((LEN(AD:AD)>0)*ROW(AD:AD),0)))","v":2},"様式第２号の14_第2面"]
[null,"エラーフラグ","必須項目フラグ","必須入力内容","対象セル",null,"エラーフラグ","必須項目フラグ","必須入力内容","対象セル",null,"エラーフラグ","必須項目フラグ","必須入力内容","対象セル",null,"エラーフラグ","必須項目フラグ","必須入力内容","対象セル",null,"エラーフラグ","必須項目フラグ","必須入力内容","対象セル",null,"エラーフラグ","必須項目フラグ","必須入力内容","対象セル"]
[null,0,1,"A事業場","I25"]
[null,0,1,"富士","L26"]
[null,0,1,"○○△△□□","O26"]
[null,1,1,"","I28"]
[null,0,1,"農業","I30"]
[null,1,1,"","I31"]
[null,1,1,"","I32"]
[null,1,1,"","I33"]
[null,1,1,"","C39"]
[null,1,1,"","H47"]
[null,1,1,"","Q47"]
[null,0,1,"","H49"]
[null,0,1,"0","Q49"]
[null,1,1,"","H52"]
[null,1,1,"","H55"]
[null,1,1,"","Q55"]
[null,0,1,"","H57"]
[null,0,1,"0","Q57"]
[null,1,1,"","H60"]
[null,1,1,"","H63"]
[null,1,1,"","H65"]
[null,1,1,"","H71"]
[null,1,1,"","Q71"]
[null,0,1,"","H73"]
[null,0,1,"0","Q73"]
[null,1,1,"","H76"]
[null,1,1,"","H79"]
[null,1,1,"","Q79"]
[null,0,1,"","H81"]
[null,0,1,"0","Q81"]
[null,1,1,"","H84"]
[null,1,1,"","H88"]
[null,1,1,"","N88"]
[null,1,1,"","T88"]
[null,0,1,"","H91"]
[null,0,1,"0","N91"]
[null,0,1,"0","T91"]
[null,1,1,"","H95"]
[null,1,1,"","H98"]
[null,1,1,"","N98"]
[null,1,1,"","T98"]
[null,0,1,"","H101"]
[null,0,1,"0","N101"]
[null,0,1,"0","T101"]
[null,1,1,"","H105"]
[null,1,1,"","H110"]
[null,1,1,"","Q110"]
[null,0,1,"","H112"]
[null,0,1,"0","Q112"]
[null,1,1,"","H115"]
[null,1,1,"","H118"]
[null,1,1,"","Q118"]
[null,0,1,"","H120"]
[null,0,1,"0","Q120"]
[null,1,1,"","H123"]
[null,1,1,"","H128"]
[null,1,1,"","N128"]
[null,1,1,"","P128"]
[null,1,1,"","R128"]
[null,1,1,"","T128"]
[null,0,1,"","H133"]
[null,0,1,"0","N133"]
[null,0,1,"0","P133"]
[null,0,1,"0","R133"]
[null,0,1,"0","T133"]
[null,1,1,"","H139"]
[null,1,1,"","H146"]
[null,1,1,"","N146"]
[null,1,1,"","P146"]
[null,1,1,"","R146"]
[null,1,1,"","T146"]
[null,0,1,"","H151"]
[null,0,1,"0","N151"]
[null,0,1,"0","P151"]
[null,0,1,"0","R151"]
[null,0,1,"0","T151"]
[null,1,1,"","H157"]

{"sheet":"様式第２号","index":25,"n_rows":9,"n_cols":12,"rows_kept":9,"cut":false,"hidden":true,"merged":[[1,0,1,1]]}
["D","I",1]
["事業場",null,"事業"]
["名称","所在地","種類"]
[{"$f":"様式第２号の８!I25","v":0},{"$f":"様式第２号の８!I26&様式第２号の８!L26&様式第２号の８!N26&様式第２号の８!O26","v":"静岡県市"},{"$f":"様式第２号の８!I30","v":0},{"$f":"IF(事業者基本情報!$W17=FALSE,0,1)","v":0},0,0,0,null,null,null,null,"(*) 8"]
[{"$f":"様式第２号の９_第1面!K24","v":0},{"$f":"様式第２号の９_第1面!K28&様式第２号の９_第1面!N28&様式第２号の９_第1面!P28&様式第２号の９_第1面!Q28","v":"静岡県市"},{"$f":"様式第２号の９_第1面!K32","v":0},0,0,{"$f":"IF(事業者基本情報!$W18=FALSE,0,1)","v":0},0,null,null,null,null,"(*) 9"]
[{"$f":"様式第２号の13!I25","v":0},{"$f":"様式第２号の13!I26&様式第２号の13!L26&様式第２号の13!N26&様式第２号の13!O26","v":"静岡県市"},{"$f":"様式第２号の13!I30","v":0},0,{"$f":"IF(事業者基本情報!$W19=FALSE,0,1)","v":0},0,0,null,null,null,null,"(*) 13"]
[{"$f":"様式第２号の14_第1面!K24","v":0},{"$f":"様式第２号の14_第1面!K26&様式第２号の14_第1面!N26&様式第２号の14_第1面!P26&様式第２号の14_第1面!Q26","v":"静岡県市"},{"$f":"様式第２号の14_第1面!K28","v":0},0,0,0,{"$f":"IF(事業者基本情報!$W20=FALSE,0,1)","v":0},null,null,null,null,"(*) 14"]
[]
["↑ 各チェックボックスのON:1/OFF:0"]