Workbook
Name 病床確保料: #REF!
Name 病床確保料: #REF!
Name 病床確保料: #REF!
Name 病床確保料: #REF!
Name 病床確保料: #REF!
Name 病床確保料: #REF!
Name 病床確保料: #REF!
Name 病床確保料: #REF!
Name 病床確保料: #REF!
Name 病床確保料: #REF!
Name 地域医療介護総合確保基金: #REF!
Name 木造: #REF!
Name 医療提供体制施設整備補助金: #REF!
Name ブロック: #REF!
Name 医療提供体制施設整備交付金: #REF!
Name 事業分類: #REF!
Name 鉄筋コンクリート: #REF!

Sheet 【参考】申請書（医療機関等→都道府県）
A1: 様式
C2: 支給申請書兼口座振込依頼書
B6: 都道府県知事 殿
B9: 給付金等の支給を受けたいので、下記のとおり申請します。
AZ13: =IF(AND('【参考】集計用シート'!P3>=45748,'【参考】集計用シート'!P3<=46112),"","↓申請対象機関の日付を入力してください") -> ↓申請対象機関の日付を入力してください
A16: １．申請者の情報 | AN16: 申請年月日 | AZ16: 2026 | BH16: 年 | BJ16: 12 | BP16: 月 | BR16: 31 | BX16: 日
A19: フリガナ | N19: ビョウイン | AN19: 住所・所在地 | AZ19: 〒 | BB19: 123 | BG19: － | BI19: 4567
A21: 病院等の名称 | N21: ●●病院 | AZ21: a
N25: 医療機関コード： | Z25: 1234567890
A27: フリガナ | N27: マルマルホウジン | AN27: 事務担当者 | AZ27: 氏名 | BF27: i
A29: 開設者 （代表者の職・氏名も記載） | N29: 法人名（個人の場合は記載不要） | AZ29: 電話番号 | BF29: u
AZ31: ファクシミリ | BF31: e
N32: 代表者職 | Z32: 氏名
AZ33: 電子メール | BF33: o
A37: ２．支給申請額
A40: 生産性向上・職場環境整備等支援事業 | J40: 支給申請額(円) | N40: =VLOOKUP(A40,#REF!,2,FALSE) -> #REF!
A41: 病床数適正化支援事業 | J41: 支給申請額(円) | N41: =VLOOKUP(A41,#REF!,2,FALSE) -> #REF!
A42: 施設整備促進支援事業 | J42: 支給申請額(円) | N42: =VLOOKUP(A42,#REF!,2,FALSE) -> #REF!
A43: 分娩取扱施設支援事業 | J43: 支給申請額(円) | N43: =VLOOKUP(A43,#REF!,2,FALSE) -> #REF!
A44: 小児医療施設支援事業 | J44: 支給申請額(円) | N44: =VLOOKUP(A44,#REF!,2,FALSE) -> #REF!
A45: 地域連携周産期支援事業（分娩取扱施設） | J45: 支給申請額(円) | N45: =VLOOKUP(A45,#REF!,2,FALSE) -> #REF!
A46: 地域連携周産期支援事業（産科施設）（設備） | J46: 支給申請額(円) | N46: =VLOOKUP(A46,#REF!,2,FALSE) -> #REF!
A47: 地域連携周産期支援事業（産科施設）（施設） | J47: 支給申請額(円) | N47: =VLOOKUP(A47,#REF!,2,FALSE) -> #REF!
A48: 合計 | J48: 支給申請額(円) | N48: {=SUM(IFERROR(N40:W47,0))} -> 0
A50: ３．振込口座
A53: 金融機関名 | AB53: 金融機関 コード | AQ53: 支店名 | BN53: 支店 コード
A56: 口座番号 （右詰め） | AB56: 預金種別 | AQ56: フリガナ
AQ57: 口座名義人
A59: ※ ゆうちょ銀行の場合は、「振込用の店名・預金種目・口座番号（７桁）」（通帳見開き下部に記載）を記入すること。
A61: ４．支給申請に関する誓約事項
A64: （１） 各事業に定めのある支給要件を満たしていることを誓約します。 （２） 本給付金等に関する報告や調査について、厚生労働省又は都道府県から求められた場合には、これに応じます。 （３） 本給付金等の給付後、各事業に定めのある返還事由に該当した場合は各事業に係る給付金の全額を返還します。

Sheet 【参考】集計用シート
A1: 医療機関コード | B1: 医療機関名 | D1: 法人名 | H1: 郵便番号 | K1: 事務担当者 | O1: 申請年月日 | R1: 支給申請額(円) | Y1: 振込口座
C2: ヨミガナ | E2: 代表者職 | F2: 氏名 | G2: ヨミガナ | H2: 文字列 | I2: 数値 | J2: 住所 | K2: 氏名 | L2: 電話番号 | M2: ファクシミリ | N2: 電子メール | O2: 文字列 | P2: 西暦 | Q2: 和暦 | R2: 生産性向上・職場環境整備等支援事業 | S2: 病床数適正化支援事業 | T2: 施設整備促進支援事業 | U2: 分娩取扱施設支援事業 | V2: 小児医療施設支援事業 | W2: 地域連携周産期支援事業（分娩取扱施設） | X2: 合計 | Y2: 金融機関名 | Z2: 支店名 | AA2: 預金種別 | AB2: 金融機関コード | AC2: 支店コード | AD2: 預金種別 | AE2: 口座番号 | AF2: 口座振替名義人
A3: ='【参考】申請書（医療機関等→都道府県）'!Z25 -> 1234567890 | B3: ='【参考】申請書（医療機関等→都道府県）'!N21 -> ●●病院 | C3: ='【参考】申請書（医療機関等→都道府県）'!N19 -> ビョウイン | D3: ='【参考】申請書（医療機関等→都道府県）'!N29 -> 法人名（個人の場合は記載不要） | E3: ='【参考】申請書（医療機関等→都道府県）'!N32 -> 代表者職 | F3: ='【参考】申請書（医療機関等→都道府県）'!Z32 -> 氏名 | G3: ='【参考】申請書（医療機関等→都道府県）'!N27 -> マルマルホウジン | H3: ='【参考】申請書（医療機関等→都道府県）'!BB19&"-"&'【参考】申請書（医療機関等→都道府県）'!BI19 -> 123-4567 | I3: =VALUE('【参考】申請書（医療機関等→都道府県）'!BB19&'【参考】申請書（医療機関等→都道府県）'!BI19) -> 1234567 | J3: ='【参考】申請書（医療機関等→都道府県）'!AZ21 -> a | K3: ='【参考】申請書（医療機関等→都道府県）'!BF27 -> i | L3: ='【参考】申請書（医療機関等→都道府県）'!BF29 -> u | M3: ='【参考】申請書（医療機関等→都道府県）'!BF31 -> e | N3: ='【参考】申請書（医療機関等→都道府県）'!BF33 -> o | O3: ='【参考】申請書（医療機関等→都道府県）'!AZ16&"/"&'【参考】申請書（医療機関等→都道府県）'!BJ16&"/"&'【参考】申請書（医療機関等→都道府県）'!BR16 -> 2026/12/31 | P3: =VALUE(O3) -> 46387 | Q3: =VALUE(O3) -> 46387 | R3: ='【参考】申請書（医療機関等→都道府県）'!N40 -> #REF! | S3: ='【参考】申請書（医療機関等→都道府県）'!N41 -> #REF! | T3: ='【参考】申請書（医療機関等→都道府県）'!N42 -> #REF! | U3: ='【参考】申請書（医療機関等→都道府県）'!N43 -> #REF! | V3: ='【参考】申請書（医療機関等→都道府県）'!N44 -> #REF! | W3: ='【参考】申請書（医療機関等→都道府県）'!N45 -> #REF! | X3: ='【参考】申請書（医療機関等→都道府県）'!N48 -> 0 | Y3: ='【参考】申請書（医療機関等→都道府県）'!N53 -> 0 | Z3: ='【参考】申請書（医療機関等→都道府県）'!BB53 -> 0 | AA3: ='【参考】申請書（医療機関等→都道府県）'!AI56 -> 0 | AB3: ='【参考】申請書（医療機関等→都道府県）'!AI53&'【参考】申請書（医療機関等→都道府県）'!AK53&'【参考】申請書（医療機関等→都道府県）'!AM53&'【参考】申請書（医療機関等→都道府県）'!AO53 | AC3: ='【参考】申請書（医療機関等→都道府県）'!BT53&'【参考】申請書（医療機関等→都道府県）'!BV53&'【参考】申請書（医療機関等→都道府県）'!BX53 | AD3: =IF(AA3="普通",1,IF(AA3="当座",2,"未入力")) -> 未入力 | AE3: ='【参考】申請書（医療機関等→都道府県）'!N56&'【参考】申請書（医療機関等→都道府県）'!P56&'【参考】申請書（医療機関等→都道府県）'!R56&'【参考】申請書（医療機関等→都道府県）'!T56&'【参考】申請書（医療機関等→都道府県）'!V56&'【参考】申請書（医療機関等→都道府県）'!X56&'【参考】申請書（医療機関等→都道府県）'!Z56 | AF3: ='【参考】申請書（医療機関等→都道府県）'!BB56 -> 0 | AG3: ='【参考】申請書（医療機関等→都道府県）'!BB57 -> 0

Sheet 【参考】委任状
B2: 委 任 状
H7: 令和○年○月○日
B10: ○○県知事殿
G12: 委任者 | H12: 医療法人 ○○会
G13: 住所 | H13: ○○県○○市○○区○○
G14: 役職・氏名 | H14: 理事長 ○○ ○○
B19: 私は下記の者を代理人と定め、令和７年度（令和６年度からの繰越分）医療施設等経営強化緊急支援事業費補助金についての受領、返納及び精算に関する一切の権限を委任します。
C24: 委任期間 | D24: 令和○年○月○日 | F24: から | G24: 令和○年○月○日 | I24: まで。
D26: ただし、その年度に属する出納整理期間を含む。
C32: 受任者
D34: 病院等名 | E34: ○○病院
D35: 住所 | E35: ○○県○○市○○区○○
D36: 役職・氏名 | E36: 病院長 ○○ ○○

Sheet 【参考】病院・有床診→都道府県への申請書
B1: 別紙様式１（病院・有床診療所）
B2: ○○○○知事 殿
G3: 保険医療機関名：
B5: 生産性向上・職場環境整備等支援事業申請書
B7: 生産性向上・職場環境整備等支援事業について、次のとおり申請します。
B9: 【申請額】
C10: 病床数 | E10: 給付額 | G10: 申請額
D11: × | E11: 40000 | F11: ＝ | G11: =C11*E11 -> 0
B13: 【対象施設であることの申出】※該当する要件にチェックを入れること
C15: 令和７年３月31日時点において、別紙に掲げる診療報酬のいずれかを届け出ている。
B17: 【生産性向上・職場環境整備等の実施内容及び申請額】
C19: ①タブレット端末、離床センサー、インカム、ＷＥＢ会議設備、床ふきロボット、監視カメラ等の業務効率化に資する設備の導入
D22: 設備名 | H22: ①に要する申請額
B23: 導入設備
B29: 合計 | H29: =SUM(H23:H28) -> 0
C31: ②医師事務作業補助者、看護補助者等の職員の新たな配置によるタスクシフト／シェア
G33: ②に要する申請額
C35: ③処遇改善を目的とした、既に雇用している職員の賃金改善
G37: ③に要する申請額
G39: ①＋②＋③ | H39: =H29+H33+H37 -> 0
G40: 数値チェック | H40: =IF(G11=H39,"○","×") -> ○
E41: ①＋②＋③≧申請額の場合の上限額 | H41: =IF(G11<=H39,G11,H39) -> 0
G42: 事務担当者名：
G43: 電話番号：
G44: メールアドレス

Sheet 【参考】別紙（病院・有床診）
B1: （別紙）（病院・有床診療所）
B2: 保険医療機関名 | C2: ='【参考】病院・有床診→都道府県への申請書'!H3 -> 0
B4: チェック欄に「✔」を付すこと。（複数選択可）
B5: 項目 | C5: チェック
B6: O100 外来・在宅ベースアップ評価料（Ⅰ）
B7: P100 歯科外来・在宅ベースアップ評価料（Ⅰ）
B8: O102 入院ベースアップ評価料（医科）
B9: P102 入院ベースアップ評価料（歯科）
B10: 訪問看護ベースアップ評価料（Ⅰ）

Sheet 【参考】診療所・訪看ＳＴ→都道府県への申請書
B1: 別紙様式１（無床診療所・訪問看護事業所）
B2: ○○○○知事 殿
G3: 保険医療機関名：
B5: 生産性向上・職場環境整備等支援事業申請書
B7: 生産性向上・職場環境整備等支援事業について、次のとおり申請します。
B9: 【申請額】
G10: 申請額
G11: 180000
B13: 【対象施設であることの申出】※該当する要件にチェックを入れること
C15: 令和７年３月31日時点において、別紙に掲げる診療報酬のいずれかを届け出ている。
B17: 【生産性向上・職場環境整備等の実施内容及び申請額】
C19: ①タブレット端末、離床センサー、インカム、ＷＥＢ会議設備、床ふきロボット、監視カメラ等の業務効率化に資する設備の導入
D22: 設備名 | H22: ①に要する申請額
B23: 導入設備
B29: 合計 | H29: =SUM(H23:H28) -> 0
C31: ②医師事務作業補助者、看護補助者等の職員の新たな配置によるタスクシフト／シェア
G33: ②に要する申請額 | H33: 0
C35: ③処遇改善を目的とした、既に雇用している職員の賃金改善
G37: ③に要する申請額
G39: ①＋②＋③ | H39: =H29+H33+H37 -> 0
G40: 数値チェック | H40: =IF(G11=H39,"○","×") -> ×
E41: ①＋②＋③≧申請額の場合の上限額 | H41: =IF(G11<=H39,G11,H39) -> 0
G42: 事務担当者名：
G43: 電話番号：
G44: メールアドレス

Sheet 【参考】別紙（無床診療所・訪問看護事業者）
B1: （別紙）（無床診療所・訪問看護事業所）
B2: 保険医療機関名 | C2: ='【参考】診療所・訪看ＳＴ→都道府県への申請書'!H3 -> 0
B4: チェック欄に「✔」を付すこと。（複数選択可）
B5: 項目 | C5: チェック
B6: O100 外来・在宅ベースアップ評価料（Ⅰ）
B7: P100 歯科外来・在宅ベースアップ評価料（Ⅰ）
B8: 訪問看護ベースアップ評価料（Ⅰ）

Sheet 都道府県リスト
A1: ※都道府県名を選択してください
A2: 01北海道 | B2: 1
A3: 02青森県 | B3: 2
A4: 03岩手県 | B4: 3
A5: 04宮城県 | B5: 4
A6: 05秋田県 | B6: 5
A7: 06山形県 | B7: 6
A8: 07福島県 | B8: 7
A9: 08茨城県 | B9: 8
A10: 09栃木県 | B10: 9
A11: 10群馬県 | B11: 10
A12: 11埼玉県 | B12: 11
A13: 12千葉県 | B13: 12
... A48: 47沖縄県 | B48: 47

Sheet 参考_（医療機関用支給額算定書）
B1: 病床数適正化支援事業 支給額算定書
Z3: 医療機関名
Z4: 事務担当者名
Z5: 電話番号
Y6: メールアドレス
A8: 都道府県 | B8: No | C8: 医療機関の名称 | D8: 令和４年度赤字額（千円）※１ | E8: 令和５年度赤字額（千円）※１ | F8: 令和６年度赤字額 （見込）（千円）※１ | G8: 令和７年度他の補助金等での収入見込み額（千円）※２ | H8: 地域医療構想※３ | I8: 削減予定日 （実施済を含む）※４ | J8: 設置主体 | K8: 構想区域名 | L8: 令和6年度病床機能報告における病床・外来管理番号 | M8: 削減前の許可病床数 | Q8: 削減後の許可病床数 | U8: 減少病床数（支給対象） | Y8: 減少病床数（うち稼働病床数） | AC8: 病床稼働率（％）※５ | AD8: 単価 （千円） | AE8: 小計 （千円） | AF8: 地域医療介護総合確保基金 単独支援給付金支給額 （千円） | AG8: 支給申請額 (千円）
M10: 一般 | N10: 療養 | O10: 精神 | P10: 合計 | Q10: 一般 | R10: 療養 | S10: 精神 | T10: 合計 | U10: 一般 | V10: 療養 | W10: 精神 | X10: 合計 | Y10: 一般 | Z10: 療養 | AA10: 精神 | AB10: 合計
A12: 0 | B12: 1 | C12: 3 | D12: 4 | E12: 5 | K12: 2 | M12: 4 | N12: 5 | O12: 6 | P12: 9 | Q12: 11 | R12: 12 | S12: 13 | T12: 15 | U12: 17 | V12: 18 | W12: 19 | X12: 22 | Y12: 17 | Z12: 18 | AA12: 19 | AB12: 22 | AD12: 32 | AE12: 33 | AF12: 34 | AG12: 37
B13: 1 | P13: =SUM(M13:O13) -> 0 | T13: =SUM(Q13:S13) -> 0 | U13: =M13-Q13 -> 0 | V13: =N13-R13 -> 0 | W13: =O13-S13 -> 0 | X13: =SUM(U13:W13) -> 0 | AB13: =SUM(Y13:AA13) -> 0 | AD13: 4104 | AE13: =X13*AD13 -> 0 | AG13: =AE13-AF13 -> 0
B14: 合計 | M14: =SUBTOTAL(9,M13:M13) -> 0 | N14: =SUBTOTAL(9,N13:N13) -> 0 | O14: =SUBTOTAL(9,O13:O13) -> 0 | P14: =SUBTOTAL(9,P13:P13) -> 0 | Q14: =SUBTOTAL(9,Q13:Q13) -> 0 | R14: =SUBTOTAL(9,R13:R13) -> 0 | S14: =SUBTOTAL(9,S13:S13) -> 0 | T14: =SUBTOTAL(9,T13:T13) -> 0 | ... AB14: =SUBTOTAL(9,AB13:AB13) -> 0 | AE14: =SUBTOTAL(9,AE13:AE13) -> 0 | AF14: =SUBTOTAL(9,AF13:AF13) -> 0 | AG14: =SUBTOTAL(9,AG13:AG13) -> 0
D15: ※１ 各年度の経常収支が赤字の医療機関については金額を記載。（マイナスで記載）黒字の場合は記載不要。 | J15: 1 | K15: 厚生労働省 | AC15: ※５ 病院または診療所全体の病床稼働率（直近３ヶ月の平均）
D16: ※２ 国・地方自治体から経営支援を目的とした他の補助金等で令和７年度に措置される見込み額を記載。 | J16: 2 | K16: 独立行政法人国立病院機構
D17: ※３ 単独支援給付金支給事業を活用した病床の場合に記載 | J17: 3 | K17: 国立大学法人
D18: ※４ 令和６年12月17日から令和７年９月30日までの削減に限る | J18: 4 | K18: 独立行政法人労働者健康安全機構
J19: 5 | K19: 国立高度専門医療研究センター
J20: 6 | K20: 独立行政法人地域医療機能推進機構
J21: 7 | K21: その他（国）
J22: 8 | K22: 都道府県
J23: 9 | K23: 市町村
J24: 10 | K24: 地方独立行政法人
J25: 11 | K25: 日赤
J26: 12 | K26: 済生会
J27: 13 | K27: 北海道社会事業協会
J28: 14 | K28: 厚生連
J29: 15 | K29: 国民健康保険団体連合会
J30: 16 | K30: 健康保険組合及びその連合会
... J40: 26 | K40: 個人

Sheet 第１号様式_別表６別紙１計画書（地域連携周産期（分娩））
A1: 第１号様式_別表６（事業計画書）_別紙１
A4: 令和 年 月 日
A7: 都道府県知事 殿
A11: 名 称
A12: 代表者氏名
A18: 令和 年度地域連携周産期支援事業（分娩取扱施設）に
A19: かかる事業計画書
A23: 標記について、次のとおり事業計画書を添えて申請する。
A27: 記
A32: 〇 事業計画書
A44: 以上

Sheet 第１号様式_別表６別紙２計画書地域連携周産期（分娩））
A1: 第１号様式_別表６（事業計画書）_別紙２
A3: 別紙
A5: 令和 年度地域連携周産期支援事業（分娩取扱施設）にかかる事業計画書
A10: １ 今後の分娩取扱の予定（あてはまるもの一つにレ点を入れてかっこ内に該当事項を記載してください。）
A12: □ 継続予定
A15: □ その他 （
A19: ２ 今後の分娩取扱に関する他施設との連携の状況（あてはまるもの全てにレ点を入れてかっこ内に 該当事項 を記載してください。）
A22: □ 他施設との連携あり
A23: （例）
A24: * 他施設との連携を行いながら分娩取扱を継続する。
A25: * 分娩取扱の減少が想定される場合の妊産婦の受入れ先等について
A26: 他施設と協議・連携している。
... A39: （

Sheet 事業計画書地域連携周産期（産科施設)人件費（仮）
A1: 第１号様式_別表５（事業計画書）
B2: 地域連携周産期支援事業（産科施設）人件費（仮） 経費所要額調 様式
B3: 施設に記載・入力頂く箇所
B4: 都道府県に入力頂く箇所
B5: 厚労省記載もしくは自動計算される箇所（入力不要）
C7: ←都道府県名を選択
B8: 施設名称 | C8: 補助方法 | D8: 総事業費 | E8: 産科部門の収入額及び寄付金その他の収入額 | F8: 差引額 | G8: 対象経費の 支出予定額 | H8: 分娩取扱期間 | I8: 基準額 | J8: 選定額 | K8: 都道府県 補助額 （直接補助の場合は記載不要） | L8: 国庫補助 基本額 | M8: 国庫補助 所要額 | N8: 既交付決定額 | O8: 差引追加交付 （一部取消） 申請額
D12: A | E12: B | F12: C=A-B | G12: D | I12: E | J12: F =C,D,Eの最少額 | K12: G | L12: H= F, G の最少額 | M12: I=H×補助率1/2 | N12: J | O12: K
C13: 選択 | D13: 円 | E13: 円 | F13: 円 | G13: 円 | H13: 選択 | I13: 円 | J13: 円 | K13: 円 | L13: 円 | M13: 円 | N13: 円 | O13: 円
A14: 記入例 | B14: 厚生病院 | C14: イ.都道府県が補助する事業（間接補助） | D14: 70000000 | E14: 30000000 | F14: =D14-E14 -> 40000000 | G14: 18000000 | H14: 年間６月以上９月未満 | I14: =IF(H14="年間９月以上",11246000,IF(H14="年間６月以上９月未満",7500000,IF(H14="年間６月未満",3700000,0))) -> 7500000 | J14: =MIN(F14,G14,I14) -> 7500000 | K14: 7500000 | L14: =MIN(J14,K14) -> 7500000 | M14: =ROUNDDOWN(L14*1/2,-3) -> 3750000
A15: 記入例 | B15: ○○県立病院 | C15: ア.都道府県が行う事業（直接補助） | D15: 120000000 | E15: 60000000 | F15: =D15-E15 -> 60000000 | G15: 58000000 | H15: 年間９月以上 | I15: =IF(H15="年間９月以上",11246000,IF(H15="年間６月以上９月未満",7500000,IF(H15="年間６月未満",3700000,0))) -> 11246000 | J15: =MIN(F15,G15,I15) -> 11246000 | L15: =MIN(J15,K15) -> 11246000 | M15: =ROUNDDOWN(L15*1/2,-3) -> 5623000
F16: =D16-E16 -> 0 | I16: =IF(H16="年間９月以上",11246000,IF(H16="年間６月以上９月未満",7500000,IF(H16="年間６月未満",3700000,0))) -> 0 | J16: =MIN(F16,G16,I16) -> 0 | L16: =MIN(J16,K16) -> 0 | M16: =ROUNDDOWN(L16*1/2,-3) -> 0
F17: =D17-E17 -> 0 | I17: =IF(H17="年間９月以上",11246000,IF(H17="年間６月以上９月未満",7500000,IF(H17="年間６月未満",3700000,0))) -> 0 | J17: =MIN(F17,G17,I17) -> 0 | L17: =MIN(J17,K17) -> 0 | M17: =ROUNDDOWN(L17*1/2,-3) -> 0
F18: =D18-E18 -> 0 | I18: =IF(H18="年間９月以上",11246000,IF(H18="年間６月以上９月未満",7500000,IF(H18="年間６月未満",3700000,0))) -> 0 | J18: =MIN(F18,G18,I18) -> 0 | L18: =MIN(J18,K18) -> 0 | M18: =ROUNDDOWN(L18*1/2,-3) -> 0
F19: =D19-E19 -> 0 | I19: =IF(H19="年間９月以上",11246000,IF(H19="年間６月以上９月未満",7500000,IF(H19="年間６月未満",3700000,0))) -> 0 | J19: =MIN(F19,G19,I19) -> 0 | L19: =MIN(J19,K19) -> 0 | M19: =ROUNDDOWN(L19*1/2,-3) -> 0
F20: =D20-E20 -> 0 | I20: =IF(H20="年間９月以上",11246000,IF(H20="年間６月以上９月未満",7500000,IF(H20="年間６月未満",3700000,0))) -> 0 | J20: =MIN(F20,G20,I20) -> 0 | L20: =MIN(J20,K20) -> 0 | M20: =ROUNDDOWN(L20*1/2,-3) -> 0
F21: =D21-E21 -> 0 | I21: =IF(H21="年間９月以上",11246000,IF(H21="年間６月以上９月未満",7500000,IF(H21="年間６月未満",3700000,0))) -> 0 | J21: =MIN(F21,G21,I21) -> 0 | L21: =MIN(J21,K21) -> 0 | M21: =ROUNDDOWN(L21*1/2,-3) -> 0
F22: =D22-E22 -> 0 | I22: =IF(H22="年間９月以上",11246000,IF(H22="年間６月以上９月未満",7500000,IF(H22="年間６月未満",3700000,0))) -> 0 | J22: =MIN(F22,G22,I22) -> 0 | L22: =MIN(J22,K22) -> 0 | M22: =ROUNDDOWN(L22*1/2,-3) -> 0
F23: =D23-E23 -> 0 | I23: =IF(H23="年間９月以上",11246000,IF(H23="年間６月以上９月未満",7500000,IF(H23="年間６月未満",3700000,0))) -> 0 | J23: =MIN(F23,G23,I23) -> 0 | L23: =MIN(J23,K23) -> 0 | M23: =ROUNDDOWN(L23*1/2,-3) -> 0
F24: =D24-E24 -> 0 | I24: =IF(H24="年間９月以上",11246000,IF(H24="年間６月以上９月未満",7500000,IF(H24="年間６月未満",3700000,0))) -> 0 | J24: =MIN(F24,G24,I24) -> 0 | L24: =MIN(J24,K24) -> 0 | M24: =ROUNDDOWN(L24*1/2,-3) -> 0
F25: =D25-E25 -> 0 | I25: =IF(H25="年間９月以上",11246000,IF(H25="年間６月以上９月未満",7500000,IF(H25="年間６月未満",3700000,0))) -> 0 | J25: =MIN(F25,G25,I25) -> 0 | L25: =MIN(J25,K25) -> 0 | M25: =ROUNDDOWN(L25*1/2,-3) -> 0
F26: =D26-E26 -> 0 | I26: =IF(H26="年間９月以上",11246000,IF(H26="年間６月以上９月未満",7500000,IF(H26="年間６月未満",3700000,0))) -> 0 | J26: =MIN(F26,G26,I26) -> 0 | L26: =MIN(J26,K26) -> 0 | M26: =ROUNDDOWN(L26*1/2,-3) -> 0
F27: =D27-E27 -> 0 | I27: =IF(H27="年間９月以上",11246000,IF(H27="年間６月以上９月未満",7500000,IF(H27="年間６月未満",3700000,0))) -> 0 | J27: =MIN(F27,G27,I27) -> 0 | L27: =MIN(J27,K27) -> 0 | M27: =ROUNDDOWN(L27*1/2,-3) -> 0
... F33: =D33-E33 -> 0 | I33: =IF(H33="年間９月以上",11246000,IF(H33="年間６月以上９月未満",7500000,IF(H33="年間６月未満",3700000,0))) -> 0 | J33: =MIN(F33,G33,I33) -> 0 | L33: =MIN(J33,K33) -> 0 | M33: =ROUNDDOWN(L33*1/2,-3) -> 0
B34: 合計 | M34: =SUM(M16:M33) -> 0
C36: ア.都道府県が行う事業（直接補助） | H36: 年間９月以上
C37: イ.都道府県が補助する事業（間接補助） | H37: 年間６月以上９月未満
H38: 年間６月未満
C40: ※J欄及びK欄については、交付要綱の７による変更交付申請手続の他は斜線を引くこと。 A 総事業費とは、本事業を行うために必要な産科部門に係るすべての経費。 B 寄付金とは、寄付者がその使途を、本事業に指定する寄付金をいい、使途を指定しない一般寄付金及び総事業のうち、補助対象外の事業に対する寄付金は、ここにいう寄付金とはみなさない。 その他の収入とは、評価額、徴収法定額等をも含めることとし、収入の種類及び範囲は次のとおりとする。 ①法令（地方公共団体の条例及び規則を含む。）に基づく徴収金、返還金等の収入 ②契約違反による違約徴収金の収入 ③既存建物等の全部又は一部が被災したことに伴う火災保険、地震保険による保険金収入等から交付要綱等により算出される自己負担相当を控除した額 ④その他当該補助事業等に関する収入 D 対象経費とは、必要な次に掲げる経費 職員基本給、職員諸手当、諸謝金、社会保険料

Sheet 事業計画書地域連携周産期（産科施設)施設
A1: 第１号様式_別表７（事業計画書）
B2: 地域連携周産期支援事業（産科施設）＿施設＿経費所要額調 様式
B3: 施設に記載・入力頂く箇所
B4: 都道府県に入力頂く箇所
B5: 自動計算される箇所（入力不要）
B8: 22静岡県 | C8: ←都道府県名を選択
B9: 施設名称 | C9: 補助方法 | D9: 令和７年度内に契約し、着工したか否か （〇or×を選択） | E9: 補助対象となる工事内容 （例、診察室の改修工事） | F9: 総事業費 | G9: 寄付金その 他の収入額 | H9: 差引額 | I9: 対象経費の 支出予定額 | J9: 基 準 額 | K9: 選 定 額 （Ｃ）・（Ｄ）・（Ｅ）のうち最少額 | L9: 補助率 | M9: 選定額×補助率 | N9: 都道府県 補助額 | O9: 国庫補助 所要額 | P9: 既交付決定額 | Q9: 差引追加交付 （一部取消） 申請額
F10: (Ａ) | G10: (Ｂ) | H10: (A)-(B)=(C) | I10: （Ｄ) | J10: （Ｅ) | K10: （Ｆ) | M10: （G）＝（F）×補助率1/2 | N10: （H） | O10: （I） | P10: （I） | Q10: （J）
C11: 選択 | D11: 選択 | F11: 円 | G11: 円 | H11: 円 | I11: 円 | J11: 円 | K11: 円 | M11: 円 | N11: 円 | O11: 円 | P11: 円 | Q11: 円
A12: 記入例 | B12: 厚労産婦人科 | C12: イ.都道府県が補助する事業（間接補助） | D12: 〇 | E12: 診察室の新築工事 | F12: 50000000 | G12: 8500000 | H12: =F12-G12 -> 41500000 | I12: 40000000 | J12: 7239000 | K12: =MIN(H12,I12,J12) -> 7239000 | L12: 0.5 | M12: =K12*1/2 -> 3619500 | N12: 3619500 | O12: =ROUNDDOWN(MIN(M12,N12),-3) -> 3619000
A13: 記入例 | B13: 県立厚労病院 | C13: ア.都道府県が行う事業（直接補助） | D13: 〇 | E13: 診察室の改修工事 | F13: 50000000 | G13: 8500000 | H13: =F13-G13 -> 41500000 | I13: 15800353 | J13: 7239000 | K13: =MIN(H13,I13,J13) -> 7239000 | L13: 0.5 | M13: =K13*1/2 -> 3619500 | O13: =ROUNDDOWN(MIN(M13,N13),-3) -> 3619000
H14: =F14-G14 -> 0 | J14: 7239000 | K14: =MIN(H14,I14,J14) -> 0 | L14: 0.5 | M14: =K14*1/2 -> 0 | N14: 0 | O14: =ROUNDDOWN(MIN(M14,N14),-3) -> 0
H15: =F15-G15 -> 0 | J15: 7239000 | K15: =MIN(H15,I15,J15) -> 0 | L15: 0.5 | M15: =K15*1/2 -> 0 | N15: 0 | O15: =ROUNDDOWN(MIN(M15,N15),-3) -> 0
H16: =F16-G16 -> 0 | J16: 7239000 | K16: =MIN(H16,I16,J16) -> 0 | L16: 0.5 | M16: =K16*1/2 -> 0 | N16: 0 | O16: =ROUNDDOWN(MIN(M16,N16),-3) -> 0
H17: =F17-G17 -> 0 | J17: 7239000 | K17: =MIN(H17,I17,J17) -> 0 | L17: 0.5 | M17: =K17*1/2 -> 0 | N17: 0 | O17: =ROUNDDOWN(MIN(M17,N17),-3) -> 0
B18: 合計 | O18: =SUM(O14:O17) -> 0
C19: ア.都道府県が行う事業（直接補助）
B20: 【留意事項】 | C20: イ.都道府県が補助する事業（間接補助）
B21: 申請時には、間接補助の場合には、選定額×補助率1/2と、都道府県が補助した額を比較して少ない方の額が申請額となる
B22: I欄及びJ欄については、交付要綱の７による変更交付申請手続の他は斜線を引くこと。
B23: （A）総事業費は、地域連携周産期支援事業（産科施設のうち施設）に関わるすべての経費で、設計その他工事に伴う事務に要する費用も含まれる。
B24: （B）寄付金とは、寄付者がその使途を、本事業に指定する寄付金をいい、使途を指定しない一般寄付金及び総事業のうち、補助対象外の事業に対する寄付金は、ここにいう寄付金とはみなさない。 その他の収入とは、評価額、徴収法定額等をも含めることとし、収入の種類及び範囲は次のとおりとする。 ①法令（地方公共団体の条例及び規則を含む。）に基づく徴収金、返還金等の収入 ②契約違反による違約徴収金の収入 ③既存建物等の全部又は一部が被災したことに伴う火災保険、地震保険による保険金収入等から交付要綱等により算出される自己負担相当を控除した額 ④その他当該補助事業等に関する収入
B25: （D）対象経費は、産科医療施設として必要な診療部門（診察室、病室等）の新築、増築、改築及び改修に要する工事費又は工事請負費
D27: 〇
D28: ×

Sheet 事業計画書地域連携周産期（産科施設 )設備
A1: 第１号様式_別表８（事業計画書）
B2: 地域連携周産期支援事業（産科施設）＿設備＿経費所要額調 様式
B3: 施設に記載・入力頂く箇所
B4: 都道府県に入力頂く箇所
B5: 自動計算される箇所（入力不要）
B8: 22静岡県 | C8: ←都道府県名を選択
B9: 施設名称 | C9: 補助方法 | D9: R７に契約し、納品されたか （〇か×を選択してください） | E9: 超音波診断装置 の金額 | F9: 診察台（内診台） の金額 | G9: 分娩監視装置 の金額 | H9: 補助対象品目 の小計額 | I9: 総事業費 | J9: 寄付金その 他の収入額 | K9: 差引額 | L9: 対象経費の 支出予定額 | M9: 基 準 額 | N9: 選 定 額 （Ｃ）・（Ｄ）・（Ｅ）のうち最少額 | O9: 補助率 | P9: 選定額×補助率 | Q9: 都道府県 補助額 | R9: 国庫補助 所要額 | S9: 既交付決定額 | T9: 差引追加交付 （一部取消） 申請額
I10: (Ａ) | J10: (Ｂ) | K10: (A)-(B)=(C) | L10: （Ｄ) | M10: （Ｅ) | N10: （Ｆ) | P10: （G）＝（F）×補助率1/2 | Q10: （H） | R10: （I） | S10: （I） | T10: （J）
I11: 円 | J11: 円 | K11: 円 | L11: 円 | M11: 円 | N11: 円 | P11: 円 | Q11: 円 | R11: 円 | S11: 円 | T11: 円
A12: 記入例 | B12: 厚労産婦人科 | C12: イ.都道府県が補助する事業（間接補助） | D12: 〇 | E12: 3000000 | F12: 500000 | G12: 2000000 | H12: =SUM(E12:G12) -> 5500000 | I12: 50000000 | J12: 8500000 | K12: =I12-J12 -> 41500000 | L12: =H12 -> 5500000 | M12: 4630000 | N12: =MIN(K12,L12,M12) -> 4630000 | O12: 0.5 | P12: =N12*1/2 -> 2315000 | Q12: 16800000 | R12: =ROUNDDOWN(MIN(P12,Q12),-3) -> 2315000
A13: 記入例 | B13: 県立厚労病院 | C13: ア.都道府県が行う事業（直接補助） | D13: 〇 | E13: 3000000 | H13: =SUM(E13:G13) -> 3000000 | I13: 50000000 | J13: 8500000 | K13: =I13-J13 -> 41500000 | L13: =H13 -> 3000000 | M13: 4630000 | N13: =MIN(K13,L13,M13) -> 3000000 | O13: 0.5 | P13: =N13*1/2 -> 1500000 | R13: =ROUNDDOWN(MIN(P13,Q13),-3) -> 1500000
H14: =SUM(E14:G14) -> 0 | K14: =I14-J14 -> 0 | L14: =H14 -> 0 | M14: 4630000 | N14: =MIN(K14,L14,M14) -> 0 | O14: 0.5 | P14: =N14*1/2 -> 0 | Q14: 0 | R14: =ROUNDDOWN(MIN(P14,Q14),-3) -> 0
H15: =SUM(E15:G15) -> 0 | K15: =I15-J15 -> 0 | L15: =H15 -> 0 | M15: 4630000 | N15: =MIN(K15,L15,M15) -> 0 | O15: 0.5 | P15: =N15*1/2 -> 0 | Q15: 0 | R15: =ROUNDDOWN(MIN(P15,Q15),-3) -> 0
H16: =SUM(E16:G16) -> 0 | K16: =I16-J16 -> 0 | L16: =H16 -> 0 | M16: 4630000 | N16: =MIN(K16,L16,M16) -> 0 | O16: 0.5 | P16: =N16*1/2 -> 0 | Q16: 0 | R16: =ROUNDDOWN(MIN(P16,Q16),-3) -> 0
H17: =SUM(E17:G17) -> 0 | K17: =I17-J17 -> 0 | L17: =H17 -> 0 | M17: 4630000 | N17: =MIN(K17,L17,M17) -> 0 | O17: 0.5 | P17: =N17*1/2 -> 0 | Q17: 0 | R17: =ROUNDDOWN(MIN(P17,Q17),-3) -> 0
B18: 合計 | R18: =SUM(R14:R17) -> 0
C19: ア.都道府県が行う事業（直接補助）
B20: 【留意事項】 | C20: イ.都道府県が補助する事業（間接補助）
B21: 申請時には、間接補助の場合には、選定額×補助率1/2と、都道府県が補助した額を比較して少ない方の額が申請額となる
B22: I欄及びJ欄については、交付要綱の７による変更交付申請手続の他は斜線を引くこと。
B23: （A）総事業費は、地域連携周産期支援事業（産科施設のうち設備）に関わるすべての経費
B24: （B）寄付金とは、寄付者がその使途を、本事業に指定する寄付金をいい、使途を指定しない一般寄付金及び総事業のうち、補助対象外の事業に対する寄付金は、ここにいう寄付金とはみなさない。 その他の収入とは、評価額、徴収法定額等をも含めることとし、収入の種類及び範囲は次のとおりとする。 ①法令（地方公共団体の条例及び規則を含む。）に基づく徴収金、返還金等の収入 ②契約違反による違約徴収金の収入 ③既存建物等の全部又は一部が被災したことに伴う火災保険、地震保険による保険金収入等から交付要綱等により算出される自己負担相当を控除した額 ④その他当該補助事業等に関する収入
B25: （D）対象経費は、妊婦健診を行う産科医療施設として必要な医療機器購入費（超音波診断装置、診察台（内診台）、分娩監視装置）
D27: 〇 | H27: 超音波診断装置
D28: × | H28: 診察台（内診台）
H29: 分娩監視装置

Sheet 第１号様式_別表９（案）事業計画書（事務経費）
A1: 第１号様式_別表9（事業計画書） | C1: 第２号様式_別表9（事業計画書）
B2: 医療施設等経営強化緊急支援執行事業 経費所要額調 様式
D7: ←都道府県名を選択
B8: 施設名称 | C8: 補助方法 | D8: 総事業費 | E8: 寄付金 その他の収入額 | F8: 差引事業費 | G8: 対象経費の 支出予定額 | H8: 基準額 | I8: 選定額 | J8: 都道府県 補助額 （直接補助の場合は記載不要） | K8: 国庫補助 基本額 | L8: 国庫補助 所要額
D12: A | E12: B | F12: C=A-B | G12: D | H12: E | I12: F =D,Eの最少額 | J12: I | K12: J= Dと I のうち最少額 | L12: J
C13: 選択 | D13: 円 | E13: 円 | F13: 円 | G13: 円 | H13: 円 | I13: 円 | J13: 円 | K13: 円 | L13: 円
A14: 記入例 | B14: 厚生病院 | C14: ア.都道府県が行う事業（直接補助） | D14: 100000000 | E14: 75000000 | F14: =D14-E14 -> 25000000 | G14: 32000000 | H14: 25000000 | I14: =MIN(F14,G14,H14) -> 25000000 | J14: 8000000 | K14: =MIN(F14,J14) -> 8000000 | L14: =ROUNDDOWN(K14,-3) -> 8000000
A15: 記入例 | B15: ○○県立病院 | C15: イ.都道府県が補助する事業（間接補助） | D15: 95000000 | E15: 60000000 | F15: =D15-E15 -> 35000000 | G15: 20000000 | H15: 35000000 | I15: =MIN(F15,G15,H15) -> 20000000 | K15: =MIN(I15,J15) -> 20000000 | L15: =ROUNDDOWN(K15,-3) -> 20000000
F16: =D16-E16 -> 0 | H16: 0 | I16: 0 | K16: 0 | L16: 0
F17: =D17-E17 -> 0 | H17: 0 | I17: 0 | K17: 0 | L17: 0
F18: =D18-E18 -> 0 | H18: 0 | I18: 0 | K18: 0 | L18: 0
F19: =D19-E19 -> 0 | H19: 0 | I19: 0 | K19: 0 | L19: 0
F20: =D20-E20 -> 0 | H20: 0 | I20: 0 | K20: 0 | L20: 0
F21: =D21-E21 -> 0 | H21: 0 | I21: 0 | K21: 0 | L21: 0
F22: =D22-E22 -> 0 | H22: 0 | I22: 0 | K22: 0 | L22: 0
F23: =D23-E23 -> 0 | H23: 0 | I23: 0 | K23: 0 | L23: 0
F24: =D24-E24 -> 0 | H24: 0 | I24: 0 | K24: 0 | L24: 0
F25: =D25-E25 -> 0 | H25: 0 | I25: 0 | K25: 0 | L25: 0
F26: =D26-E26 -> 0 | H26: 0 | I26: 0 | K26: 0 | L26: 0
F27: =D27-E27 -> 0 | H27: 0 | I27: 0 | K27: 0 | L27: 0
... F33: =D33-E33 -> 0 | H33: 0 | I33: 0 | K33: 0 | L33: 0
B34: 合計 | L34: =SUM(L16:L33) -> 0
C36: ア.都道府県が行う事業（直接補助）
C37: イ.都道府県が補助する事業（間接補助）
C40: A 総事業費とは、本事業を行うために必要な産科部門に係るすべての経費。 B 寄付金とは、寄付者がその使途を、本事業に指定する寄付金をいい、使途を指定しない一般寄付金及び総事業のうち、補助対象外の事業に対する寄付金は、ここにいう寄付金とはみなさない。 その他の収入とは、評価額、徴収法定額等をも含めることとし、収入の種類及び範囲は次のとおりとする。 ①法令（地方公共団体の条例及び規則を含む。）に基づく徴収金、返還金等の収入 ②契約違反による違約徴収金の収入 ③既存建物等の全部又は一部が被災したことに伴う火災保険、地震保険による保険金収入等から交付要綱等により算出される自己負担相当を控除した額 ④その他当該補助事業等に関する収入 D 対象経費とは、必要な次に掲げる経費 職員基本給、職員諸手当、諸謝金、社会保険料

Sheet 【参考】病院・有床診→都道府県の実績報告書
B1: 別紙様式２（病院・有床診療所）
B2: ○○○○知事 殿
G3: 保険医療機関名：
B5: 生産性向上・職場環境整備等支援事業実績報告書
B7: 生産性向上・職場環境整備等支援事業について、次のとおり報告します。
B9: 【支出額】
G10: 支出額
B13: 【対象施設であることの申出】※該当する要件にチェックを入れること
C15: 令和７年３月31日時点において、別紙に掲げる診療報酬のいずれかを届け出ている。
B18: 【生産性向上・職場環境整備等の実施内容及び支出額】
C20: ①タブレット端末、離床センサー、インカム、ＷＥＢ会議設備、床ふきロボット、監視カメラ等の業務効率化に資する設備の導入
D23: 設備名 | H23: ①に要する支出額
B24: 導入設備
B30: 合計 | H30: =SUM(H24:H29) -> 0
C32: ②医師事務作業補助者、看護補助者等の職員の新たな配置によるタスクシフト／シェア
G34: ②に要する支出額
C36: ③処遇改善を目的とした、既に雇用している職員の賃金改善
G38: ③に要する支出額
G40: ①＋②＋③ | H40: =H30+H34+H38 -> 0
G41: 数値チェック | H41: =IF(G11=H40,"○","×") -> ○
E42: ①＋②＋③≧支出額の場合の上限額 | H42: =IF(G11<=H40,G11,H40) -> 0
G43: 事務担当者名：
G44: 電話番号：
G45: メールアドレス

Sheet 別紙（病院・有床診）
B1: （別紙）（病院・有床診療所）
B2: 保険医療機関名 | C2: ='【参考】病院・有床診→都道府県の実績報告書'!H3 -> 0
B4: チェック欄に「✔」を付すこと。（複数選択可）
B5: 項目 | C5: チェック
B6: O100 外来・在宅ベースアップ評価料（Ⅰ）
B7: P100 歯科外来・在宅ベースアップ評価料（Ⅰ）
B8: O102 入院ベースアップ評価料（医科）
B9: P102 入院ベースアップ評価料（歯科）
B10: 訪問看護ベースアップ評価料（Ⅰ）

Sheet 【参考】診療所・訪看ＳＴ→都道府県の実績報告書
B1: 別紙様式２（無床診療所・訪問看護事業所）
B2: ○○○○知事 殿
G3: 保険医療機関名：
B5: 生産性向上・職場環境整備等支援事業実績報告書
B7: 生産性向上・職場環境整備等支援事業について、次のとおり報告します。
B9: 【支出額】
G10: 支出額
B13: 【対象施設であることの申出】※該当する要件にチェックを入れること
C15: 令和７年３月31日時点において、別紙に掲げる診療報酬のいずれかを届け出ている。
B18: 【生産性向上・職場環境整備等の実施内容及び支出額】
C20: ①タブレット端末、離床センサー、インカム、ＷＥＢ会議設備、床ふきロボット、監視カメラ等の業務効率化に資する設備の導入
D23: 設備名 | H23: ①に要する支出額
B24: 導入設備
B30: 合計 | H30: =SUM(H24:H29) -> 0
C32: ②医師事務作業補助者、看護補助者等の職員の新たな配置によるタスクシフト／シェア
G34: ②に要する支出額 | H34: 0
C36: ③処遇改善を目的とした、既に雇用している職員の賃金改善
G38: ③に要する支出額
G40: ①＋②＋③ | H40: =H30+H34+H38 -> 0
G41: 数値チェック | H41: =IF(G11=H40,"○","×") -> ○
E42: ①＋②＋③≧支出額の場合の上限額 | H42: =IF(G11<=H40,G11,H40) -> 0
G43: 事務担当者名：
G44: 電話番号：
G45: メールアドレス

Sheet 別紙（無床診療所・訪問看護事業者）
B1: （別紙）（無床診療所・訪問看護事業所）
B2: 保険医療機関名 | C2: ='【参考】診療所・訪看ＳＴ→都道府県の実績報告書'!H3 -> 0
B4: チェック欄に「✔」を付すこと。（複数選択可）
B5: 項目 | C5: チェック
B6: O100 外来・在宅ベースアップ評価料（Ⅰ）
B7: P100 歯科外来・在宅ベースアップ評価料（Ⅰ）
B8: 訪問看護ベースアップ評価料（Ⅰ）

Sheet 都道府県
A1: ※都道府県名を選択してください
A2: 01北海道 | B2: 1
A3: 02青森県 | B3: 2
A4: 03岩手県 | B4: 3
A5: 04宮城県 | B5: 4
A6: 05秋田県 | B6: 5
A7: 06山形県 | B7: 6
A8: 07福島県 | B8: 7
A9: 08茨城県 | B9: 8
A10: 09栃木県 | B10: 9
A11: 10群馬県 | B11: 10
A12: 11埼玉県 | B12: 11
A13: 12千葉県 | B13: 12
... A48: 47沖縄県 | B48: 47
