{"text_format":"1","workbook":"xlsx","n_sheets":12,"sheets":["マクロの実行","もとデータ","統計","問題別集計③","問題別集計②","問題別集計","判定結果","全体集計表","学校別集計","集計","一時保存","学校番号"],"not_rendered":{"charts":0,"images":1,"macros":1,"external_links":0,"defined_names":4,"comments":1,"pivot_tables":0},"unopened":[],"bounds":{"document_bytes":16777216,"sheet_cells":100000,"rows_first":2000,"rows_last":500,"rows_between":2000,"halvings":0,"cell_chars":16384,"cell_head_chars":4096},"cells_cut":0,"cells_raw":0,"read":"whole","date_system":"1900"}

{"sheet":"マクロの実行","index":0,"n_rows":14,"n_cols":3,"rows_kept":14,"cut":false,"hidden":false,"merged":[]}
["【マクロ実行前手順】"]
["①静岡県ネット依存度判定システムから出力されたファイルのシートをコピーして、もとデータシートにそのまま貼り付けてください"]
["②下記のマクロ実行ボタンを押してください"]
[]
["集計期間","2022-04-01","2023-04-01"]
[]
[null,"処　理　内　容","処　理　状　況"]
["step１","一時保存"]
["step２","集計"]
["step３","学校別集計"]
["step４","全体集計表"]
["step５","問題別集計表"]
["step６","問題別集計表②"]
["step７","問題別集計表③"]

{"sheet":"もとデータ","index":1,"n_rows":3,"n_cols":208,"rows_kept":3,"cut":false,"hidden":false,"merged":[]}
["学校区分",null,null,null,null,null,null,"個別区分",null,null,null,null,"児童・生徒",null,null,null,null,null,null,null,null,null,null,"保護者",null,null,null,null,null,null,null,null,null,null,"児童・生徒",null,null,null,null,null,null,null,null,null,null,null,null,null,null,null,null,null,null,null,null,null,null,null,null,null,null,null,null,null,null,null,null,null,null,null,null,null,null,null,null,null,null,null,null,null,null,null,null,null,null,null,null,null,null,null,null,null,null,null,null,null,null,null,null,null,null,null,null,null,null,null,null,null,null,null,null,null,null,null,null,null,null,"保護者"]
[null,null,null,null,null,null,null,null,null,null,null,null,"判定",null,null,"点数",null,"Ｋスケール要因別点数",null,null,"ＤＱ（参考）",null,"受検日","判定",null,null,"点数",null,"Ｋスケール要因別点数",null,null,"ＤＱ（参考）",null,"受検日","ＤＱ",null,null,null,null,null,null,null,"Ｋスケール",null,null,null,null,null,null,null,null,null,null,null,null,null,null,"ＩＡＴ",null,null,null,null,null,null,null,null,null,null,null,null,null,null,null,null,null,null,null,"基本項目",null,null,null,null,null,null,null,null,null,null,null,null,null,null,null,null,null,null,null,null,null,null,"アンケート",null,null,null,null,null,null,null,null,null,null,null,null,null,null,null,null,"ＤＱ",null,null,null,null,null,null,null,"Ｋスケール",null,null,null,null,null,null,null,null,null,null,null,null,null,null,"ＩＡＴ",null,null,null,null,null,null,null,null,null,null,null,null,null,null,null,null,null,null,null,"基本項目",null,null,null,null,null,null,null,null,null,null,null,null,null,null,null,null,null,null,null,null,null,null,null,null,null,null,null,null,null,null,"アンケート"]
["市町区分","学校名","期間番号","期間","設置区分","市町区分","校種区分","個別番号","学年","クラス","出席番号","性別","総合","Ｋスケール","ＩＡＴ","Ｋスケール点数","ＩＡＴ","Ａ要因","Ｂ要因","Ｃ要因","判定","点数",null,"総合","Ｋスケール","ＩＡＴ","Ｋスケール点数","ＩＡＴ","Ａ要因","Ｂ要因","Ｃ要因","判定","点数",null,"質問４","質問５","質問６","質問７","質問８","質問９","質問10","質問11","質問12","質問13","質問14","質問15","質問16","質問17","質問18","質問19","質問20","質問21","質問22","質問23","質問24","質問25","質問26","質問27","質問28","質問29","質問30","質問31","質問32","質問33","質問34","質問35","質問36","質問37","質問38","質問39","質問40","質問41","質問42","質問43","質問44","質問45","質問46","質問１","質問２(1)","質問２(2)","質問２(3)","質問２(4)","質問２(5)","質問２(6)","質問２(7)","質問２(8)","質問２(9)","質問２(10)","質問２(11)","質問２(12)","質問３(1)","質問３(2)","質問３(3)","質問３(4)","質問３(5)","質問３(6)","質問３(7)","質問３(8)","質問３(9)","質問３(10)","質問47(1)","質問47(2)","質問47(3)","質問47(4)","質問47(5)","質問47(6)","質問47(7)","質問47(8)","質問47(9)","質問47(10)","質問47(11)","質問47(12)","質問47(13)","質問47(14)","質問47(15)","質問47(16)","質問48","質問５","質問６","質問７","質問８","質問９","質問10","質問11","質問12","質問13","質問14","質問15","質問16","質問17","質問18","質問19","質問20","質問21","質問22","質問23","質問24","質問25","質問26","質問27","質問28","質問29","質問30","質問31","質問32","質問33","質問34","質問35","質問36","質問37","質問38","質問39","質問40","質問41","質問42","質問43","質問44","質問45","質問46","質問47","質問１","質問２(1)","質問２(2)","質問２(3)","質問２(4)","質問２(5)","質問２(6)","質問２(7)","質問２(8)","質問２(9)","質問２(10)","質問２(11)","質問２(12)","質問３(1)","質問３(2)","質問３(3)","質問３(4)","質問３(5)","質問３(6)","質問３(7)","質問３(8)","質問３(9)","質問３(10)","質問４(1)","質問４(2)","質問４(3)","質問４(4)","質問４(5)","質問４(6)","質問４(7)","質問４(8)","質問48(1)","質問48(2)","質問48(3)","質問48(4)","質問48(5)","質問48(6)","質問48(7)","質問48(8)","質問48(9)","質問48(10)","質問48(11)","質問48(12)","質問48(13)","質問48(14)","質問48(15)","質問48(16)","質問49"]

{"sheet":"統計","index":2,"n_rows":285,"n_cols":90,"rows_kept":285,"cut":false,"hidden":false,"merged":[[77,18,78,18],[74,13,75,13],[74,14,75,14],[74,15,75,15],[72,6,73,6],[60,1,62,1],[63,1,65,1],[66,1,68,1],[15,1,27,1],[5,13,5,15],[5,16,5,18],[5,20,5,22],[5,23,5,25],[5,27,5,29],[5,30,5,32],[3,13,4,18],[5,6,5,8],[5,9,5,11],[72,7,73,7],[72,8,73,8],[72,9,73,9],[72,10,73,10],[72,11,73,11],[74,16,75,16],[74,17,75,17],[74,18,75,18],[72,13,73,13],[72,14,73,14],[72,15,73,15],[72,16,73,16],[72,17,73,17],[72,18,73,18],[267,0,284,0],[147,0,266,0],[261,1,266,1],[261,2,266,2],[237,1,242,1],[237,2,242,2],[231,1,236,1],[231,2,236,2],[225,1,230,1],[225,2,230,2],[201,1,206,1],[201,2,206,2],[195,1,200,1],[195,2,200,2],[189,1,194,1],[189,2,194,2],[165,1,170,1],[165,2,170,2],[159,1,164,1],[147,1,152,1],[147,2,152,2],[153,2,158,2],[255,1,260,1],[255,2,260,2],[249,1,254,1],[249,2,254,2],[243,1,248,1],[243,2,248,2],[79,6,80,6],[79,7,80,7],[79,8,80,8],[79,9,80,9],[79,10,80,10],[79,11,80,11],[74,11,75,11],[77,6,78,6],[77,7,78,7],[77,8,78,8],[77,9,78,9],[77,10,78,10],[77,11,78,11],[74,6,75,6],[74,7,75,7],[74,8,75,8],[74,9,75,9],[74,10,75,10],[94,9,95,9],[94,10,95,10],[94,11,95,11],[92,6,93,6],[92,7,93,7],[92,8,93,8],[92,9,93,9],[92,10,93,10],[92,11,93,11],[92,2,96,2],[97,1,101,1],[97,2,101,2],[82,6,83,6],[82,7,83,7],[82,8,83,8],[82,9,83,9],[82,10,83,10],[82,11,83,11],[84,7,85,7],[84,8,85,8],[84,9,85,9],[84,10,85,10],[84,11,85,11],[87,10,88,10],[87,11,88,11],[84,6,85,6],[87,9,88,9],[89,6,90,6],[89,7,90,7],[89,8,90,8],[89,9,90,9],[89,10,90,10],[89,11,90,11],[87,6,88,6],[87,7,88,7],[87,8,88,8],[104,6,105,6],[104,7,105,7],[104,8,105,8],[104,9,105,9],[104,10,105,10],[104,11,105,11],[102,6,103,6],[102,7,103,7],[102,8,103,8],[102,9,103,9],[102,10,103,10],[102,11,103,11],[99,6,100,6],[99,7,100,7],[99,8,100,8],[99,9,100,9],[99,10,100,10],[99,11,100,11],[97,6,98,6],[97,7,98,7],[97,8,98,8],[97,9,98,9],[97,10,98,10],[97,11,98,11],[94,6,95,6],[94,7,95,7],[94,8,95,8],[112,6,113,6],[112,7,113,7],[112,8,113,8],[112,9,113,9],[112,10,113,10],[112,11,113,11],[109,6,110,6],[109,7,110,7],[109,8,110,8],[109,9,110,9],[109,10,110,10],[109,11,110,11],[107,6,108,6],[107,7,108,7],[107,8,108,8],[107,9,108,9],[107,10,108,10],[107,11,108,11],[119,6,120,6],[119,7,120,7],[119,8,120,8],[119,9,120,9],[119,10,120,10],[119,11,120,11],[117,6,118,6],[117,7,118,7],[117,8,118,8],[117,9,118,9],[117,10,118,10],[117,11,118,11],[114,6,115,6],[114,7,115,7],[114,8,115,8],[114,9,115,9],[114,10,115,10],[114,11,115,11],[127,6,128,6],[127,7,128,7],[127,8,128,8],[127,9,128,9],[127,10,128,10],[127,11,128,11],[124,6,125,6],[124,7,125,7],[124,8,125,8],[124,9,125,9],[124,10,125,10],[124,11,125,11],[122,6,123,6],[122,7,123,7],[122,8,123,8],[122,9,123,9],[122,10,123,10],[122,11,123,11],[134,6,135,6],[134,7,135,7],[134,8,135,8],[134,9,135,9],[134,10,135,10],[134,11,135,11],[132,6,133,6],[132,7,133,7],[132,8,133,8],[132,9,133,9],[132,10,133,10],[132,11,133,11],[129,6,130,6],[129,7,130,7],[129,8,130,8],[129,9,130,9],[129,10,130,10],[129,11,130,11],[142,6,143,6],[142,7,143,7],[142,8,143,8],[142,9,143,9],[142,10,143,10],[142,11,143,11],[139,6,140,6],[139,7,140,7],[139,8,140,8],[139,9,140,9],[139,10,140,10],[139,11,140,11],[137,6,138,6],[137,7,138,7],[137,8,138,8],[137,9,138,9],[137,10,138,10],[137,11,138,11],[153,6,154,6],[153,7,154,7],[153,8,154,8],[153,9,154,9],[149,6,151,6],[149,7,151,7],[149,8,151,8],[149,9,151,9],[149,10,151,10],[149,11,151,11],[147,6,148,6],[147,7,148,7],[147,8,148,8],[147,9,148,9],[147,10,148,10],[147,11,148,11],[144,6,145,6],[144,7,145,7],[144,8,145,8],[144,9,145,9],[144,10,145,10],[144,11,145,11],[165,10,166,10],[165,11,166,11],[167,6,169,6],[167,7,169,7],[167,8,169,8],[167,9,169,9],[167,10,169,10],[167,11,169,11],[153,10,154,10],[153,11,154,11],[155,6,157,6],[155,7,157,7],[155,8,157,8],[155,9,157,9],[155,10,157,10],[155,11,157,11],[165,6,166,6],[165,7,166,7],[165,8,166,8],[165,9,166,9],[161,6,163,6],[161,7,163,7],[161,8,163,8],[161,9,163,9],[161,10,163,10],[161,11,163,11],[159,6,160,6],[159,7,160,7],[159,8,160,8],[159,9,160,9],[159,10,160,10],[159,11,160,11],[177,6,178,6],[177,7,178,7],[177,8,178,8],[177,9,178,9],[177,10,178,10],[177,11,178,11],[173,6,175,6],[173,7,175,7],[173,8,175,8],[173,9,175,9],[173,10,175,10],[173,11,175,11],[171,6,172,6],[171,7,172,7],[171,8,172,8],[171,9,172,9],[171,10,172,10],[171,11,172,11],[185,6,187,6],[185,7,187,7],[185,8,187,8],[185,9,187,9],[185,10,187,10],[185,11,187,11],[183,6,184,6],[183,7,184,7],[183,8,184,8],[183,9,184,9],[183,10,184,10],[183,11,184,11],[179,6,181,6],[179,7,181,7],[179,8,181,8],[179,9,181,9],[179,10,181,10],[179,11,181,11],[195,6,196,6],[195,7,196,7],[195,8,196,8],[195,9,196,9],[195,10,196,10],[195,11,196,11],[191,6,193,6],[191,7,193,7],[191,8,193,8],[191,9,193,9],[191,10,193,10],[191,11,193,11],[189,6,190,6],[189,7,190,7],[189,8,190,8],[189,9,190,9],[189,10,190,10],[189,11,190,11],[203,6,205,6],[203,7,205,7],[203,8,205,8],[203,9,205,9],[203,10,205,10],[203,11,205,11],[201,6,202,6],[201,7,202,7],[201,8,202,8],[201,9,202,9],[201,10,202,10],[201,11,202,11],[197,6,199,6],[197,7,199,7],[197,8,199,8],[197,9,199,9],[197,10,199,10],[197,11,199,11],[213,6,214,6],[213,7,214,7],[213,8,214,8],[213,9,214,9],[213,10,214,10],[213,11,214,11],[209,6,211,6],[209,7,211,7],[209,8,211,8],[209,9,211,9],[209,10,211,10],[209,11,211,11],[207,6,208,6],[207,7,208,7],[207,8,208,8],[207,9,208,9],[207,10,208,10],[207,11,208,11],[221,6,223,6],[221,7,223,7],[221,8,223,8],[221,9,223,9],[221,10,223,10],[221,11,223,11],[219,6,220,6],[219,7,220,7],[219,8,220,8],[219,9,220,9],[219,10,220,10],[219,11,220,11],[215,6,217,6],[215,7,217,7],[215,8,217,8],[215,9,217,9],[215,10,217,10],[215,11,217,11],[233,6,235,6],[233,7,235,7],[233,8,235,8],[233,9,235,9],[233,10,235,10],[233,11,235,11],[231,6,232,6],[231,7,232,7],[231,8,232,8],[231,9,232,9],[231,10,232,10],[231,11,232,11],[225,10,226,10],[225,11,226,11],[227,6,229,6],[227,7,229,7],[227,8,229,8],[227,9,229,9],[227,10,229,10],[227,11,229,11],[225,6,226,6],[225,7,226,7],[225,8,226,8],[225,9,226,9],[243,6,244,6],[243,7,244,7],[243,8,244,8],[243,9,244,9],[243,10,244,10],[243,11,244,11],[239,6,241,6],[239,7,241,7],[239,8,241,8],[239,9,241,9],[239,10,241,10],[239,11,241,11],[237,6,238,6],[237,7,238,7],[237,8,238,8],[237,9,238,9],[237,10,238,10],[237,11,238,11],[255,11,256,11],[251,6,253,6],[251,7,253,7],[251,8,253,8],[251,9,253,9],[251,10,253,10],[251,11,253,11],[249,6,250,6],[249,7,250,7],[249,8,250,8],[249,9,250,9],[249,10,250,10],[249,11,250,11],[245,6,247,6],[245,7,247,7],[245,8,247,8],[245,9,247,9],[245,10,247,10],[245,11,247,11],[82,16,83,16],[82,17,83,17],[82,18,83,18],[79,13,80,13],[79,14,80,14],[79,15,80,15],[79,16,80,16],[79,17,80,17],[79,18,80,18],[263,6,265,6],[263,7,265,7],[263,8,265,8],[263,9,265,9],[263,10,265,10],[263,11,265,11],[261,6,262,6],[261,7,262,7],[261,8,262,8],[261,9,262,9],[261,10,262,10],[261,11,262,11],[257,6,259,6],[257,7,259,7],[257,8,259,8],[257,9,259,9],[257,10,259,10],[257,11,259,11],[255,6,256,6],[255,7,256,7],[255,8,256,8],[255,9,256,9],[255,10,256,10],[77,13,78,13],[77,14,78,14],[77,15,78,15],[77,16,78,16],[77,17,78,17],[92,13,93,13],[92,14,93,14],[92,15,93,15],[92,16,93,16],[92,17,93,17],[92,18,93,18],[89,13,90,13],[89,14,90,14],[89,15,90,15],[89,16,90,16],[89,17,90,17],[89,18,90,18],[87,13,88,13],[87,14,88,14],[87,15,88,15],[87,16,88,16],[87,17,88,17],[87,18,88,18],[84,13,85,13],[84,14,85,14],[84,15,85,15],[84,16,85,16],[84,17,85,17],[84,18,85,18],[82,13,83,13],[82,14,83,14],[82,15,83,15],[99,13,100,13],[99,14,100,14],[99,15,100,15],[99,16,100,16],[99,17,100,17],[99,18,100,18],[97,13,98,13],[97,14,98,14],[97,15,98,15],[97,16,98,16],[97,17,98,17],[97,18,98,18],[94,13,95,13],[94,14,95,14],[94,15,95,15],[94,16,95,16],[94,17,95,17],[94,18,95,18],[107,13,108,13],[107,14,108,14],[107,15,108,15],[107,16,108,16],[107,17,108,17],[107,18,108,18],[104,13,105,13],[104,14,105,14],[104,15,105,15],[104,16,105,16],[104,17,105,17],[104,18,105,18],[102,13,103,13],[102,14,103,14],[102,15,103,15],[102,16,103,16],[102,17,103,17],[102,18,103,18],[114,13,115,13],[114,14,115,14],[114,15,115,15],[114,16,115,16],[114,17,115,17],[114,18,115,18],[112,13,113,13],[112,14,113,14],[112,15,113,15],[112,16,113,16],[112,17,113,17],[112,18,113,18],[109,13,110,13],[109,14,110,14],[109,15,110,15],[109,16,110,16],[109,17,110,17],[109,18,110,18],[122,13,123,13],[122,14,123,14],[122,15,123,15],[122,16,123,16],[122,17,123,17],[122,18,123,18],[119,13,120,13],[119,14,120,14],[119,15,120,15],[119,16,120,16],[119,17,120,17],[119,18,120,18],[117,13,118,13],[117,14,118,14],[117,15,118,15],[117,16,118,16],[117,17,118,17],[117,18,118,18],[129,13,130,13],[129,14,130,14],[129,15,130,15],[129,16,130,16],[129,17,130,17],[129,18,130,18],[127,13,128,13],[127,14,128,14],[127,15,128,15],[127,16,128,16],[127,17,128,17],[127,18,128,18],[124,13,125,13],[124,14,125,14],[124,15,125,15],[124,16,125,16],[124,17,125,17],[124,18,125,18],[137,13,138,13],[137,14,138,14],[137,15,138,15],[137,16,138,16],[137,17,138,17],[137,18,138,18],[134,13,135,13],[134,14,135,14],[134,15,135,15],[134,16,135,16],[134,17,135,17],[134,18,135,18],[132,13,133,13],[132,14,133,14],[132,15,133,15],[132,16,133,16],[132,17,133,17],[132,18,133,18],[144,13,145,13],[144,14,145,14],[144,15,145,15],[144,16,145,16],[144,17,145,17],[144,18,145,18],[142,13,143,13],[142,14,143,14],[142,15,143,15],[142,16,143,16],[142,17,143,17],[142,18,143,18],[139,13,140,13],[139,14,140,14],[139,15,140,15],[139,16,140,16],[139,17,140,17],[139,18,140,18],[153,13,154,13],[153,14,154,14],[153,15,154,15],[153,16,154,16],[153,17,154,17],[153,18,154,18],[149,13,151,13],[149,14,151,14],[149,15,151,15],[149,16,151,16],[149,17,151,17],[149,18,151,18],[147,13,148,13],[147,14,148,14],[147,15,148,15],[147,16,148,16],[147,17,148,17],[147,18,148,18],[161,13,163,13],[161,14,163,14],[161,15,163,15],[161,16,163,16],[161,17,163,17],[161,18,163,18],[159,13,160,13],[159,14,160,14],[159,15,160,15],[159,16,160,16],[159,17,160,17],[159,18,160,18],[155,13,157,13],[155,14,157,14],[155,15,157,15],[155,16,157,16],[155,17,157,17],[155,18,157,18],[171,13,172,13],[171,14,172,14],[171,15,172,15],[171,16,172,16],[171,17,172,17],[171,18,172,18],[167,13,169,13],[167,14,169,14],[167,15,169,15],[167,16,169,16],[167,17,169,17],[167,18,169,18],[165,13,166,13],[165,14,166,14],[165,15,166,15],[165,16,166,16],[165,17,166,17],[165,18,166,18],[179,13,181,13],[179,14,181,14],[179,15,181,15],[179,16,181,16],[179,17,181,17],[179,18,181,18],[177,13,178,13],[177,14,178,14],[177,15,178,15],[177,16,178,16],[177,17,178,17],[177,18,178,18],[173,13,175,13],[173,14,175,14],[173,15,175,15],[173,16,175,16],[173,17,175,17],[173,18,175,18],[189,13,190,13],[189,14,190,14],[189,15,190,15],[189,16,190,16],[189,17,190,17],[189,18,190,18],[185,13,187,13],[185,14,187,14],[185,15,187,15],[185,16,187,16],[185,17,187,17],[185,18,187,18],[183,13,184,13],[183,14,184,14],[183,15,184,15],[183,16,184,16],[183,17,184,17],[183,18,184,18],[197,13,199,13],[197,14,199,14],[197,15,199,15],[197,16,199,16],[197,17,199,17],[197,18,199,18],[195,13,196,13],[195,14,196,14],[195,15,196,15],[195,16,196,16],[195,17,196,17],[195,18,196,18],[191,13,193,13],[191,14,193,14],[191,15,193,15],[191,16,193,16],[191,17,193,17],[191,18,193,18],[207,13,208,13],[207,14,208,14],[207,15,208,15],[207,16,208,16],[207,17,208,17],[207,18,208,18],[203,13,205,13],[203,14,205,14],[203,15,205,15],[203,16,205,16],[203,17,205,17],[203,18,205,18],[201,13,202,13],[201,14,202,14],[201,15,202,15],[201,16,202,16],[201,17,202,17],[201,18,202,18],[215,13,217,13],[215,14,217,14],[215,15,217,15],[215,16,217,16],[215,17,217,17],[215,18,217,18],[213,13,214,13],[213,14,214,14],[213,15,214,15],[213,16,214,16],[213,17,214,17],[213,18,214,18],[209,13,211,13],[209,14,211,14],[209,15,211,15],[209,16,211,16],[209,17,211,17],[209,18,211,18],[225,13,226,13],[225,14,226,14],[225,15,226,15],[225,16,226,16],[225,17,226,17],[225,18,226,18],[221,13,223,13],[221,14,223,14],[221,15,223,15],[221,16,223,16],[221,17,223,17],[221,18,223,18],[219,13,220,13],[219,14,220,14],[219,15,220,15],[219,16,220,16],[219,17,220,17],[219,18,220,18],[233,13,235,13],[233,14,235,14],[233,15,235,15],[233,16,235,16],[233,17,235,17],[233,18,235,18],[231,13,232,13],[231,14,232,14],[231,15,232,15],[231,16,232,16],[231,17,232,17],[231,18,232,18],[227,13,229,13],[227,14,229,14],[227,15,229,15],[227,16,229,16],[227,17,229,17],[227,18,229,18],[245,15,247,15],[245,16,247,16],[245,17,247,17],[245,18,247,18],[243,13,244,13],[243,14,244,14],[243,15,244,15],[243,16,244,16],[243,17,244,17],[243,18,244,18],[239,13,241,13],[239,14,241,14],[239,15,241,15],[239,16,241,16],[239,17,241,17],[239,18,241,18],[237,13,238,13],[237,14,238,14],[237,15,238,15],[237,16,238,16],[237,17,238,17],[237,18,238,18],[3,6,4,12],[1,6,1,33],[2,20,2,33],[263,13,265,13],[263,14,265,14],[263,15,265,15],[263,16,265,16],[263,17,265,17],[263,18,265,18],[261,13,262,13],[261,14,262,14],[261,15,262,15],[261,16,262,16],[261,17,262,17],[261,18,262,18],[257,13,259,13],[257,14,259,14],[257,15,259,15],[257,16,259,16],[257,17,259,17],[257,18,259,18],[255,13,256,13],[255,14,256,14],[255,15,256,15],[255,16,256,16],[255,17,256,17],[255,18,256,18],[251,13,253,13],[251,14,253,14],[251,15,253,15],[251,16,253,16],[251,17,253,17],[74,27,75,27],[74,28,75,28],[74,29,75,29],[74,30,75,30],[74,31,75,31],[74,32,75,32],[74,20,75,20],[74,21,75,21],[74,22,75,22],[74,23,75,23],[74,24,75,24],[74,25,75,25],[72,27,73,27],[72,28,73,28],[72,29,73,29],[72,30,73,30],[72,31,73,31],[72,32,73,32],[72,20,73,20],[72,21,73,21],[72,22,73,22],[72,23,73,23],[72,24,73,24],[72,25,73,25],[72,26,73,26],[74,26,75,26],[79,27,80,27],[79,28,80,28],[79,29,80,29],[79,30,80,30],[79,31,80,31],[79,32,80,32],[79,20,80,20],[79,21,80,21],[79,22,80,22],[79,23,80,23],[79,24,80,24],[79,25,80,25],[77,27,78,27],[77,28,78,28],[77,29,78,29],[77,30,78,30],[77,31,78,31],[77,32,78,32],[77,20,78,20],[77,21,78,21],[77,22,78,22],[77,23,78,23],[77,24,78,24],[77,25,78,25],[77,26,78,26],[79,26,80,26],[84,27,85,27],[84,28,85,28],[84,29,85,29],[84,30,85,30],[84,31,85,31],[84,32,85,32],[84,20,85,20],[84,21,85,21],[84,22,85,22],[84,23,85,23],[84,24,85,24],[84,25,85,25],[82,27,83,27],[82,28,83,28],[82,29,83,29],[82,30,83,30],[82,31,83,31],[82,32,83,32],[82,20,83,20],[82,21,83,21],[82,22,83,22],[82,23,83,23],[82,24,83,24],[82,25,83,25],[82,26,83,26],[84,26,85,26],[89,27,90,27],[89,28,90,28],[89,29,90,29],[89,30,90,30],[89,31,90,31],[89,32,90,32],[89,20,90,20],[89,21,90,21],[89,22,90,22],[89,23,90,23],[89,24,90,24],[89,25,90,25],[87,27,88,27],[87,28,88,28],[87,29,88,29],[87,30,88,30],[87,31,88,31],[87,32,88,32],[87,20,88,20],[87,21,88,21],[87,22,88,22],[87,23,88,23],[87,24,88,24],[87,25,88,25],[87,26,88,26],[89,26,90,26],[94,27,95,27],[94,28,95,28],[94,29,95,29],[94,30,95,30],[94,31,95,31],[94,32,95,32],[94,20,95,20],[94,21,95,21],[94,22,95,22],[94,23,95,23],[94,24,95,24],[94,25,95,25],[92,27,93,27],[92,28,93,28],[92,29,93,29],[92,30,93,30],[92,31,93,31],[92,32,93,32]],"merged_total":6090,"flags":["merged_cut"]}
[1,2,3,4,5,6,7,8,9,10,11,12,13,14,15,16,17,18,19,20,21,22,23,24,25,26,27,28,29,30,31,32,33,34,35,36,37,38,39,40,41,42,43,44,45,46,47,48,49,50,51,52,53,54,55,56,57,58,59,60,61,62,63,64,65,66,67,68,69,70,71,72,73,74,75,76,77,78,79,80,81,82,83,84,85,86,87,88,89,90]
["種\n類",null,null,null,null,null,"全　　　　　体",null,null,null,null,null,null,null,null,null,null,null,null,null,null,null,null,null,null,null,null,null,null,null,null,null,null,null,"高　　リ　　ス　　ク",null,null,null,null,null,null,null,null,null,null,null,null,null,null,null,null,null,null,null,null,null,null,null,null,null,null,null,"中リスク　＋　高リスク"]
[null,null,null,null,null,null,"人　　　　　数",null,null,null,null,null,null,null,null,null,null,null,null,null,"割　　　　　合",null,null,null,null,null,null,null,null,null,null,null,null,null,"人　　　　　数",null,null,null,null,null,null,null,null,null,null,null,null,null,"割　　　　　合",null,null,null,null,null,null,null,null,null,null,null,null,null,"人　　　　　数",null,null,null,null,null,null,null,null,null,null,null,null,null,"割　　　　　合"]
[null,"問題文",null,"選択項目",null,null,"児童・生徒（人）",null,null,null,null,null,null,"保護者（人）",null,null,null,null,null,null,"児童・生徒（％）",null,null,null,null,null,null,"保護者（％）",null,null,null,null,null,null,"児童・生徒（人）",null,null,null,null,null,null,"保護者（人）",null,null,null,null,null,null,"児童・生徒（％）",null,null,null,null,null,null,"保護者（％）",null,null,null,null,null,null,"児童・生徒（人）",null,null,null,null,null,null,"保護者（人）",null,null,null,null,null,null,"児童・生徒（％）",null,null,null,null,null,null,"保護者（％）"]
[]
[null,null,null,null,null,null,"校種別",null,null,"性別",null,null,"計","校種別",null,null,"性別",null,null,"計","校種別",null,null,"性別",null,null,"計","校種別",null,null,"性別",null,null,"計","校種別",null,null,"性別",null,null,"計","校種別",null,null,"性別",null,null,"計","校種別",null,null,"性別",null,null,"計","校種別",null,null,"性別",null,null,"計","校種別",null,null,"性別",null,null,"計","校種別",null,null,"性別",null,null,"計","校種別",null,null,"性別",null,null,"計","校種別",null,null,"性別",null,null,"計"]
[null,null,null,null,null,null,"小","中","高","男","女","ー",null,"小","中","高","男","女","ー",null,"小","中","高","男","女","ー",null,"小","中","高","男","女","ー",null,"小","中","高","男","女","ー",null,"小","中","高","男","女","ー",null,"小","中","高","男","女","ー",null,"小","中","高","男","女","ー",null,"小","中","高","男","女","ー",null,"小","中","高","男","女","ー",null,"小","中","高","男","女","ー",null,"小","中","高","男","女","ー"]
["基本項目","1\n（1）","あなたは、平日（土日をのぞいて）１日に平均して、だいたい、どのくらいの時間、インターネットを使いますか？",1,"１時間未満","－",{"$f":"問題別集計!G8","v":0},{"$f":"問題別集計!H8","v":0},{"$f":"問題別集計!I8","v":0},{"$f":"問題別集計!J8","v":0},{"$f":"問題別集計!K8","v":0},{"$f":"問題別集計!L8","v":0},{"$f":"問題別集計!M8","v":0},{"$f":"問題別集計!N8","v":0},{"$f":"問題別集計!O8","v":0},{"$f":"問題別集計!P8","v":0},{"$f":"問題別集計!Q8","v":0},{"$f":"問題別集計!R8","v":0},{"$f":"問題別集計!S8","v":0},{"$f":"問題別集計!T8","v":0},{"$f":"ROUND(G8/G$15,3)*100","v":{"$error":"#DIV/0!"}},{"$error":"#DIV/0!"},{"$error":"#DIV/0!"},{"$error":"#DIV/0!"},{"$error":"#DIV/0!"},{"$error":"#DIV/0!"},{"$error":"#DIV/0!"},{"$error":"#DIV/0!"},{"$error":"#DIV/0!"},{"$error":"#DIV/0!"},{"$error":"#DIV/0!"},{"$error":"#DIV/0!"},{"$error":"#DIV/0!"},{"$error":"#DIV/0!"},{"$f":"問題別集計③!G8","v":0},{"$f":"問題別集計③!H8","v":0},{"$f":"問題別集計③!I8","v":0},{"$f":"問題別集計③!J8","v":0},{"$f":"問題別集計③!K8","v":0},{"$f":"問題別集計③!L8","v":0},{"$f":"問題別集計③!M8","v":0},{"$f":"問題別集計③!N8","v":0},{"$f":"問題別集計③!O8","v":0},{"$f":"問題別集計③!P8","v":0},{"$f":"問題別集計③!Q8","v":0},{"$f":"問題別集計③!R8","v":0},{"$f":"問題別集計③!S8","v":0},{"$f":"問題別集計③!T8","v":0},{"$f":"ROUND(AI8/AI$15,3)*100","v":{"$error":"#DIV/0!"}},{"$error":"#DIV/0!"},{"$error":"#DIV/0!"},{"$error":"#DIV/0!"},{"$error":"#DIV/0!"},{"$error":"#DIV/0!"},{"$error":"#DIV/0!"},{"$error":"#DIV/0!"},{"$error":"#DIV/0!"},{"$error":"#DIV/0!"},{"$error":"#DIV/0!"},{"$error":"#DIV/0!"},{"$error":"#DIV/0!"},{"$error":"#DIV/0!"},{"$f":"問題別集計②!G8","v":0},{"$f":"問題別集計②!H8","v":0},{"$f":"問題別集計②!I8","v":0},{"$f":"問題別集計②!J8","v":0},{"$f":"問題別集計②!K8","v":0},{"$f":"問題別集計②!L8","v":0},{"$f":"問題別集計②!M8","v":0},{"$f":"問題別集計②!N8","v":0},{"$f":"問題別集計②!O8","v":0},{"$f":"問題別集計②!P8","v":0},{"$f":"問題別集計②!Q8","v":0},{"$f":"問題別集計②!R8","v":0},{"$f":"問題別集計②!S8","v":0},{"$f":"問題別集計②!T8","v":0},{"$f":"ROUND(BK8/BK$15,3)*100","v":{"$error":"#DIV/0!"}},{"$error":"#DIV/0!"},{"$error":"#DIV/0!"},{"$error":"#DIV/0!"},{"$error":"#DIV/0!"},{"$error":"#DIV/0!"},{"$error":"#DIV/0!"},{"$error":"#DIV/0!"},{"$error":"#DIV/0!"},{"$error":"#DIV/0!"},{"$error":"#DIV/0!"},{"$error":"#DIV/0!"},{"$error":"#DIV/0!"},{"$error":"#DIV/0!"}]
[null,null,null,2,"１時間以上２時間未満","－",{"$f":"問題別集計!G9","v":0},{"$f":"問題別集計!H9","v":0},{"$f":"問題別集計!I9","v":0},{"$f":"問題別集計!J9","v":0},{"$f":"問題別集計!K9","v":0},{"$f":"問題別集計!L9","v":0},{"$f":"問題別集計!M9","v":0},{"$f":"問題別集計!N9","v":0},{"$f":"問題別集計!O9","v":0},{"$f":"問題別集計!P9","v":0},{"$f":"問題別集計!Q9","v":0},{"$f":"問題別集計!R9","v":0},{"$f":"問題別集計!S9","v":0},{"$f":"問題別集計!T9","v":0},{"$error":"#DIV/0!"},{"$error":"#DIV/0!"},{"$error":"#DIV/0!"},{"$error":"#DIV/0!"},{"$error":"#DIV/0!"},{"$error":"#DIV/0!"},{"$error":"#DIV/0!"},{"$error":"#DIV/0!"},{"$error":"#DIV/0!"},{"$error":"#DIV/0!"},{"$error":"#DIV/0!"},{"$error":"#DIV/0!"},{"$error":"#DIV/0!"},{"$error":"#DIV/0!"},{"$f":"問題別集計③!G9","v":0},{"$f":"問題別集計③!H9","v":0},{"$f":"問題別集計③!I9","v":0},{"$f":"問題別集計③!J9","v":0},{"$f":"問題別集計③!K9","v":0},{"$f":"問題別集計③!L9","v":0},{"$f":"問題別集計③!M9","v":0},{"$f":"問題別集計③!N9","v":0},{"$f":"問題別集計③!O9","v":0},{"$f":"問題別集計③!P9","v":0},{"$f":"問題別集計③!Q9","v":0},{"$f":"問題別集計③!R9","v":0},{"$f":"問題別集計③!S9","v":0},{"$f":"問題別集計③!T9","v":0},{"$error":"#DIV/0!"},{"$error":"#DIV/0!"},{"$error":"#DIV/0!"},{"$error":"#DIV/0!"},{"$error":"#DIV/0!"},{"$error":"#DIV/0!"},{"$error":"#DIV/0!"},{"$error":"#DIV/0!"},{"$error":"#DIV/0!"},{"$error":"#DIV/0!"},{"$error":"#DIV/0!"},{"$error":"#DIV/0!"},{"$error":"#DIV/0!"},{"$error":"#DIV/0!"},{"$f":"問題別集計②!G9","v":0},{"$f":"問題別集計②!H9","v":0},{"$f":"問題別集計②!I9","v":0},{"$f":"問題別集計②!J9","v":0},{"$f":"問題別集計②!K9","v":0},{"$f":"問題別集計②!L9","v":0},{"$f":"問題別集計②!M9","v":0},{"$f":"問題別集計②!N9","v":0},{"$f":"問題別集計②!O9","v":0},{"$f":"問題別集計②!P9","v":0},{"$f":"問題別集計②!Q9","v":0},{"$f":"問題別集計②!R9","v":0},{"$f":"問題別集計②!S9","v":0},{"$f":"問題別集計②!T9","v":0},{"$error":"#DIV/0!"},{"$error":"#DIV/0!"},{"$error":"#DIV/0!"},{"$error":"#DIV/0!"},{"$error":"#DIV/0!"},{"$error":"#DIV/0!"},{"$error":"#DIV/0!"},{"$error":"#DIV/0!"},{"$error":"#DIV/0!"},{"$error":"#DIV/0!"},{"$error":"#DIV/0!"},{"$error":"#DIV/0!"},{"$error":"#DIV/0!"},{"$error":"#DIV/0!"}]
[null,null,null,3,"２時間以上３時間未満","－",{"$f":"問題別集計!G10","v":0},{"$f":"問題別集計!H10","v":0},{"$f":"問題別集計!I10","v":0},{"$f":"問題別集計!J10","v":0},{"$f":"問題別集計!K10","v":0},{"$f":"問題別集計!L10","v":0},{"$f":"問題別集計!M10","v":0},{"$f":"問題別集計!N10","v":0},{"$f":"問題別集計!O10","v":0},{"$f":"問題別集計!P10","v":0},{"$f":"問題別集計!Q10","v":0},{"$f":"問題別集計!R10","v":0},{"$f":"問題別集計!S10","v":0},{"$f":"問題別集計!T10","v":0},{"$f":"ROUND(G10/G$15,3)*100","v":{"$error":"#DIV/0!"}},{"$error":"#DIV/0!"},{"$error":"#DIV/0!"},{"$error":"#DIV/0!"},{"$error":"#DIV/0!"},{"$error":"#DIV/0!"},{"$error":"#DIV/0!"},{"$f":"ROUND(N10/N$15,3)*100","v":{"$error":"#DIV/0!"}},{"$f":"ROUND(O10/O$15,3)*100","v":{"$error":"#DIV/0!"}},{"$f":"ROUND(P10/P$15,3)*100","v":{"$error":"#DIV/0!"}},{"$f":"ROUND(Q10/Q$15,3)*100","v":{"$error":"#DIV/0!"}},{"$f":"ROUND(R10/R$15,3)*100","v":{"$error":"#DIV/0!"}},{"$f":"ROUND(S10/S$15,3)*100","v":{"$error":"#DIV/0!"}},{"$f":"ROUND(T10/T$15,3)*100","v":{"$error":"#DIV/0!"}},{"$f":"問題別集計③!G10","v":0},{"$f":"問題別集計③!H10","v":0},{"$f":"問題別集計③!I10","v":0},{"$f":"問題別集計③!J10","v":0},{"$f":"問題別集計③!K10","v":0},{"$f":"問題別集計③!L10","v":0},{"$f":"問題別集計③!M10","v":0},{"$f":"問題別集計③!N10","v":0},{"$f":"問題別集計③!O10","v":0},{"$f":"問題別集計③!P10","v":0},{"$f":"問題別集計③!Q10","v":0},{"$f":"問題別集計③!R10","v":0},{"$f":"問題別集計③!S10","v":0},{"$f":"問題別集計③!T10","v":0},{"$f":"ROUND(AI10/AI$15,3)*100","v":{"$error":"#DIV/0!"}},{"$error":"#DIV/0!"},{"$error":"#DIV/0!"},{"$error":"#DIV/0!"},{"$error":"#DIV/0!"},{"$error":"#DIV/0!"},{"$error":"#DIV/0!"},{"$f":"ROUND(AP10/AP$15,3)*100","v":{"$error":"#DIV/0!"}},{"$f":"ROUND(AQ10/AQ$15,3)*100","v":{"$error":"#DIV/0!"}},{"$f":"ROUND(AR10/AR$15,3)*100","v":{"$error":"#DIV/0!"}},{"$f":"ROUND(AS10/AS$15,3)*100","v":{"$error":"#DIV/0!"}},{"$f":"ROUND(AT10/AT$15,3)*100","v":{"$error":"#DIV/0!"}},{"$f":"ROUND(AU10/AU$15,3)*100","v":{"$error":"#DIV/0!"}},{"$f":"ROUND(AV10/AV$15,3)*100","v":{"$error":"#DIV/0!"}},{"$f":"問題別集計②!G10","v":0},{"$f":"問題別集計②!H10","v":0},{"$f":"問題別集計②!I10","v":0},{"$f":"問題別集計②!J10","v":0},{"$f":"問題別集計②!K10","v":0},{"$f":"問題別集計②!L10","v":0},{"$f":"問題別集計②!M10","v":0},{"$f":"問題別集計②!N10","v":0},{"$f":"問題別集計②!O10","v":0},{"$f":"問題別集計②!P10","v":0},{"$f":"問題別集計②!Q10","v":0},{"$f":"問題別集計②!R10","v":0},{"$f":"問題別集計②!S10","v":0},{"$f":"問題別集計②!T10","v":0},{"$f":"ROUND(BK10/BK$15,3)*100","v":{"$error":"#DIV/0!"}},{"$error":"#DIV/0!"},{"$error":"#DIV/0!"},{"$error":"#DIV/0!"},{"$error":"#DIV/0!"},{"$error":"#DIV/0!"},{"$error":"#DIV/0!"},{"$f":"ROUND(BR10/BR$15,3)*100","v":{"$error":"#DIV/0!"}},{"$f":"ROUND(BS10/BS$15,3)*100","v":{"$error":"#DIV/0!"}},{"$f":"ROUND(BT10/BT$15,3)*100","v":{"$error":"#DIV/0!"}},{"$f":"ROUND(BU10/BU$15,3)*100","v":{"$error":"#DIV/0!"}},{"$f":"ROUND(BV10/BV$15,3)*100","v":{"$error":"#DIV/0!"}},{"$f":"ROUND(BW10/BW$15,3)*100","v":{"$error":"#DIV/0!"}},{"$f":"ROUND(BX10/BX$15,3)*100","v":{"$error":"#DIV/0!"}}]
[null,null,null,4,"３時間以上４時間未満","－",{"$f":"問題別集計!G11","v":0},{"$f":"問題別集計!H11","v":0},{"$f":"問題別集計!I11","v":0},{"$f":"問題別集計!J11","v":0},{"$f":"問題別集計!K11","v":0},{"$f":"問題別集計!L11","v":0},{"$f":"問題別集計!M11","v":0},{"$f":"問題別集計!N11","v":0},{"$f":"問題別集計!O11","v":0},{"$f":"問題別集計!P11","v":0},{"$f":"問題別集計!Q11","v":0},{"$f":"問題別集計!R11","v":0},{"$f":"問題別集計!S11","v":0},{"$f":"問題別集計!T11","v":0},{"$error":"#DIV/0!"},{"$error":"#DIV/0!"},{"$error":"#DIV/0!"},{"$error":"#DIV/0!"},{"$error":"#DIV/0!"},{"$error":"#DIV/0!"},{"$error":"#DIV/0!"},{"$error":"#DIV/0!"},{"$error":"#DIV/0!"},{"$error":"#DIV/0!"},{"$error":"#DIV/0!"},{"$error":"#DIV/0!"},{"$error":"#DIV/0!"},{"$error":"#DIV/0!"},{"$f":"問題別集計③!G11","v":0},{"$f":"問題別集計③!H11","v":0},{"$f":"問題別集計③!I11","v":0},{"$f":"問題別集計③!J11","v":0},{"$f":"問題別集計③!K11","v":0},{"$f":"問題別集計③!L11","v":0},{"$f":"問題別集計③!M11","v":0},{"$f":"問題別集計③!N11","v":0},{"$f":"問題別集計③!O11","v":0},{"$f":"問題別集計③!P11","v":0},{"$f":"問題別集計③!Q11","v":0},{"$f":"問題別集計③!R11","v":0},{"$f":"問題別集計③!S11","v":0},{"$f":"問題別集計③!T11","v":0},{"$error":"#DIV/0!"},{"$error":"#DIV/0!"},{"$error":"#DIV/0!"},{"$error":"#DIV/0!"},{"$error":"#DIV/0!"},{"$error":"#DIV/0!"},{"$error":"#DIV/0!"},{"$error":"#DIV/0!"},{"$error":"#DIV/0!"},{"$error":"#DIV/0!"},{"$error":"#DIV/0!"},{"$error":"#DIV/0!"},{"$error":"#DIV/0!"},{"$error":"#DIV/0!"},{"$f":"問題別集計②!G11","v":0},{"$f":"問題別集計②!H11","v":0},{"$f":"問題別集計②!I11","v":0},{"$f":"問題別集計②!J11","v":0},{"$f":"問題別集計②!K11","v":0},{"$f":"問題別集計②!L11","v":0},{"$f":"問題別集計②!M11","v":0},{"$f":"問題別集計②!N11","v":0},{"$f":"問題別集計②!O11","v":0},{"$f":"問題別集計②!P11","v":0},{"$f":"問題別集計②!Q11","v":0},{"$f":"問題別集計②!R11","v":0},{"$f":"問題別集計②!S11","v":0},{"$f":"問題別集計②!T11","v":0},{"$error":"#DIV/0!"},{"$error":"#DIV/0!"},{"$error":"#DIV/0!"},{"$error":"#DIV/0!"},{"$error":"#DIV/0!"},{"$error":"#DIV/0!"},{"$error":"#DIV/0!"},{"$error":"#DIV/0!"},{"$error":"#DIV/0!"},{"$error":"#DIV/0!"},{"$error":"#DIV/0!"},{"$error":"#DIV/0!"},{"$error":"#DIV/0!"},{"$error":"#DIV/0!"}]
[null,null,null,5,"４時間以上５時間未満","－",{"$f":"問題別集計!G12","v":0},{"$f":"問題別集計!H12","v":0},{"$f":"問題別集計!I12","v":0},{"$f":"問題別集計!J12","v":0},{"$f":"問題別集計!K12","v":0},{"$f":"問題別集計!L12","v":0},{"$f":"問題別集計!M12","v":0},{"$f":"問題別集計!N12","v":0},{"$f":"問題別集計!O12","v":0},{"$f":"問題別集計!P12","v":0},{"$f":"問題別集計!Q12","v":0},{"$f":"問題別集計!R12","v":0},{"$f":"問題別集計!S12","v":0},{"$f":"問題別集計!T12","v":0},{"$error":"#DIV/0!"},{"$error":"#DIV/0!"},{"$error":"#DIV/0!"},{"$error":"#DIV/0!"},{"$error":"#DIV/0!"},{"$error":"#DIV/0!"},{"$error":"#DIV/0!"},{"$error":"#DIV/0!"},{"$error":"#DIV/0!"},{"$error":"#DIV/0!"},{"$error":"#DIV/0!"},{"$error":"#DIV/0!"},{"$error":"#DIV/0!"},{"$error":"#DIV/0!"},{"$f":"問題別集計③!G12","v":0},{"$f":"問題別集計③!H12","v":0},{"$f":"問題別集計③!I12","v":0},{"$f":"問題別集計③!J12","v":0},{"$f":"問題別集計③!K12","v":0},{"$f":"問題別集計③!L12","v":0},{"$f":"問題別集計③!M12","v":0},{"$f":"問題別集計③!N12","v":0},{"$f":"問題別集計③!O12","v":0},{"$f":"問題別集計③!P12","v":0},{"$f":"問題別集計③!Q12","v":0},{"$f":"問題別集計③!R12","v":0},{"$f":"問題別集計③!S12","v":0},{"$f":"問題別集計③!T12","v":0},{"$error":"#DIV/0!"},{"$error":"#DIV/0!"},{"$error":"#DIV/0!"},{"$error":"#DIV/0!"},{"$error":"#DIV/0!"},{"$error":"#DIV/0!"},{"$error":"#DIV/0!"},{"$error":"#DIV/0!"},{"$error":"#DIV/0!"},{"$error":"#DIV/0!"},{"$error":"#DIV/0!"},{"$error":"#DIV/0!"},{"$error":"#DIV/0!"},{"$error":"#DIV/0!"},{"$f":"問題別集計②!G12","v":0},{"$f":"問題別集計②!H12","v":0},{"$f":"問題別集計②!I12","v":0},{"$f":"問題別集計②!J12","v":0},{"$f":"問題別集計②!K12","v":0},{"$f":"問題別集計②!L12","v":0},{"$f":"問題別集計②!M12","v":0},{"$f":"問題別集計②!N12","v":0},{"$f":"問題別集計②!O12","v":0},{"$f":"問題別集計②!P12","v":0},{"$f":"問題別集計②!Q12","v":0},{"$f":"問題別集計②!R12","v":0},{"$f":"問題別集計②!S12","v":0},{"$f":"問題別集計②!T12","v":0},{"$error":"#DIV/0!"},{"$error":"#DIV/0!"},{"$error":"#DIV/0!"},{"$error":"#DIV/0!"},{"$error":"#DIV/0!"},{"$error":"#DIV/0!"},{"$error":"#DIV/0!"},{"$error":"#DIV/0!"},{"$error":"#DIV/0!"},{"$error":"#DIV/0!"},{"$error":"#DIV/0!"},{"$error":"#DIV/0!"},{"$error":"#DIV/0!"},{"$error":"#DIV/0!"}]
[null,null,null,6,"５時間以上６時間未満","－",{"$f":"問題別集計!G13","v":0},{"$f":"問題別集計!H13","v":0},{"$f":"問題別集計!I13","v":0},{"$f":"問題別集計!J13","v":0},{"$f":"問題別集計!K13","v":0},{"$f":"問題別集計!L13","v":0},{"$f":"問題別集計!M13","v":0},{"$f":"問題別集計!N13","v":0},{"$f":"問題別集計!O13","v":0},{"$f":"問題別集計!P13","v":0},{"$f":"問題別集計!Q13","v":0},{"$f":"問題別集計!R13","v":0},{"$f":"問題別集計!S13","v":0},{"$f":"問題別集計!T13","v":0},{"$error":"#DIV/0!"},{"$error":"#DIV/0!"},{"$error":"#DIV/0!"},{"$error":"#DIV/0!"},{"$error":"#DIV/0!"},{"$error":"#DIV/0!"},{"$error":"#DIV/0!"},{"$error":"#DIV/0!"},{"$error":"#DIV/0!"},{"$error":"#DIV/0!"},{"$error":"#DIV/0!"},{"$error":"#DIV/0!"},{"$error":"#DIV/0!"},{"$error":"#DIV/0!"},{"$f":"問題別集計③!G13","v":0},{"$f":"問題別集計③!H13","v":0},{"$f":"問題別集計③!I13","v":0},{"$f":"問題別集計③!J13","v":0},{"$f":"問題別集計③!K13","v":0},{"$f":"問題別集計③!L13","v":0},{"$f":"問題別集計③!M13","v":0},{"$f":"問題別集計③!N13","v":0},{"$f":"問題別集計③!O13","v":0},{"$f":"問題別集計③!P13","v":0},{"$f":"問題別集計③!Q13","v":0},{"$f":"問題別集計③!R13","v":0},{"$f":"問題別集計③!S13","v":0},{"$f":"問題別集計③!T13","v":0},{"$error":"#DIV/0!"},{"$error":"#DIV/0!"},{"$error":"#DIV/0!"},{"$error":"#DIV/0!"},{"$error":"#DIV/0!"},{"$error":"#DIV/0!"},{"$error":"#DIV/0!"},{"$error":"#DIV/0!"},{"$error":"#DIV/0!"},{"$error":"#DIV/0!"},{"$error":"#DIV/0!"},{"$error":"#DIV/0!"},{"$error":"#DIV/0!"},{"$error":"#DIV/0!"},{"$f":"問題別集計②!G13","v":0},{"$f":"問題別集計②!H13","v":0},{"$f":"問題別集計②!I13","v":0},{"$f":"問題別集計②!J13","v":0},{"$f":"問題別集計②!K13","v":0},{"$f":"問題別集計②!L13","v":0},{"$f":"問題別集計②!M13","v":0},{"$f":"問題別集計②!N13","v":0},{"$f":"問題別集計②!O13","v":0},{"$f":"問題別集計②!P13","v":0},{"$f":"問題別集計②!Q13","v":0},{"$f":"問題別集計②!R13","v":0},{"$f":"問題別集計②!S13","v":0},{"$f":"問題別集計②!T13","v":0},{"$error":"#DIV/0!"},{"$error":"#DIV/0!"},{"$error":"#DIV/0!"},{"$error":"#DIV/0!"},{"$error":"#DIV/0!"},{"$error":"#DIV/0!"},{"$error":"#DIV/0!"},{"$error":"#DIV/0!"},{"$error":"#DIV/0!"},{"$error":"#DIV/0!"},{"$error":"#DIV/0!"},{"$error":"#DIV/0!"},{"$error":"#DIV/0!"},{"$error":"#DIV/0!"}]
[null,null,null,7,"６時間以上","－",{"$f":"問題別集計!G14","v":0},{"$f":"問題別集計!H14","v":0},{"$f":"問題別集計!I14","v":0},{"$f":"問題別集計!J14","v":0},{"$f":"問題別集計!K14","v":0},{"$f":"問題別集計!L14","v":0},{"$f":"問題別集計!M14","v":0},{"$f":"問題別集計!N14","v":0},{"$f":"問題別集計!O14","v":0},{"$f":"問題別集計!P14","v":0},{"$f":"問題別集計!Q14","v":0},{"$f":"問題別集計!R14","v":0},{"$f":"問題別集計!S14","v":0},{"$f":"問題別集計!T14","v":0},{"$error":"#DIV/0!"},{"$error":"#DIV/0!"},{"$error":"#DIV/0!"},{"$error":"#DIV/0!"},{"$error":"#DIV/0!"},{"$error":"#DIV/0!"},{"$error":"#DIV/0!"},{"$error":"#DIV/0!"},{"$error":"#DIV/0!"},{"$error":"#DIV/0!"},{"$error":"#DIV/0!"},{"$error":"#DIV/0!"},{"$error":"#DIV/0!"},{"$error":"#DIV/0!"},{"$f":"問題別集計③!G14","v":0},{"$f":"問題別集計③!H14","v":0},{"$f":"問題別集計③!I14","v":0},{"$f":"問題別集計③!J14","v":0},{"$f":"問題別集計③!K14","v":0},{"$f":"問題別集計③!L14","v":0},{"$f":"問題別集計③!M14","v":0},{"$f":"問題別集計③!N14","v":0},{"$f":"問題別集計③!O14","v":0},{"$f":"問題別集計③!P14","v":0},{"$f":"問題別集計③!Q14","v":0},{"$f":"問題別集計③!R14","v":0},{"$f":"問題別集計③!S14","v":0},{"$f":"問題別集計③!T14","v":0},{"$error":"#DIV/0!"},{"$error":"#DIV/0!"},{"$error":"#DIV/0!"},{"$error":"#DIV/0!"},{"$error":"#DIV/0!"},{"$error":"#DIV/0!"},{"$error":"#DIV/0!"},{"$error":"#DIV/0!"},{"$error":"#DIV/0!"},{"$error":"#DIV/0!"},{"$error":"#DIV/0!"},{"$error":"#DIV/0!"},{"$error":"#DIV/0!"},{"$error":"#DIV/0!"},{"$f":"問題別集計②!G14","v":0},{"$f":"問題別集計②!H14","v":0},{"$f":"問題別集計②!I14","v":0},{"$f":"問題別集計②!J14","v":0},{"$f":"問題別集計②!K14","v":0},{"$f":"問題別集計②!L14","v":0},{"$f":"問題別集計②!M14","v":0},{"$f":"問題別集計②!N14","v":0},{"$f":"問題別集計②!O14","v":0},{"$f":"問題別集計②!P14","v":0},{"$f":"問題別集計②!Q14","v":0},{"$f":"問題別集計②!R14","v":0},{"$f":"問題別集計②!S14","v":0},{"$f":"問題別集計②!T14","v":0},{"$error":"#DIV/0!"},{"$error":"#DIV/0!"},{"$error":"#DIV/0!"},{"$error":"#DIV/0!"},{"$error":"#DIV/0!"},{"$error":"#DIV/0!"},{"$error":"#DIV/0!"},{"$error":"#DIV/0!"},{"$error":"#DIV/0!"},{"$error":"#DIV/0!"},{"$error":"#DIV/0!"},{"$error":"#DIV/0!"},{"$error":"#DIV/0!"},{"$error":"#DIV/0!"}]
[null,null,null,"計",null,null,{"$f":"SUM(G8:G14)","v":0},{"$f":"SUM(H8:H14)","v":0},0,0,0,0,0,0,0,0,0,0,0,0,{"$error":"#DIV/0!"},{"$error":"#DIV/0!"},{"$error":"#DIV/0!"},{"$error":"#DIV/0!"},{"$error":"#DIV/0!"},{"$error":"#DIV/0!"},{"$error":"#DIV/0!"},{"$f":"SUM(AB8:AB14)","v":{"$error":"#DIV/0!"}},{"$f":"SUM(AC8:AC14)","v":{"$error":"#DIV/0!"}},{"$f":"SUM(AD8:AD14)","v":{"$error":"#DIV/0!"}},{"$f":"SUM(AE8:AE14)","v":{"$error":"#DIV/0!"}},{"$f":"SUM(AF8:AF14)","v":{"$error":"#DIV/0!"}},{"$f":"SUM(AG8:AG14)","v":{"$error":"#DIV/0!"}},{"$error":"#DIV/0!"},0,0,0,0,0,0,0,0,0,0,0,0,0,0,{"$f":"SUM(AW8:AW14)","v":{"$error":"#DIV/0!"}},{"$f":"SUM(AX8:AX14)","v":{"$error":"#DIV/0!"}},{"$f":"SUM(AY8:AY14)","v":{"$error":"#DIV/0!"}},{"$f":"SUM(AZ8:AZ14)","v":{"$error":"#DIV/0!"}},{"$f":"SUM(BA8:BA14)","v":{"$error":"#DIV/0!"}},{"$f":"SUM(BB8:BB14)","v":{"$error":"#DIV/0!"}},{"$f":"SUM(BC8:BC14)","v":{"$error":"#DIV/0!"}},{"$f":"SUM(BD8:BD14)","v":{"$error":"#DIV/0!"}},{"$f":"SUM(BE8:BE14)","v":{"$error":"#DIV/0!"}},{"$f":"SUM(BF8:BF14)","v":{"$error":"#DIV/0!"}},{"$f":"SUM(BG8:BG14)","v":{"$error":"#DIV/0!"}},{"$f":"SUM(BH8:BH14)","v":{"$error":"#DIV/0!"}},{"$f":"SUM(BI8:BI14)","v":{"$error":"#DIV/0!"}},{"$f":"SUM(BJ8:BJ14)","v":{"$error":"#DIV/0!"}},0,0,0,0,0,0,0,0,0,0,0,0,0,{"$f":"SUM(BX8:BX14)","v":0},{"$f":"SUM(BY8:BY14)","v":{"$error":"#DIV/0!"}},{"$f":"SUM(BZ8:BZ14)","v":{"$error":"#DIV/0!"}},{"$f":"SUM(CA8:CA14)","v":{"$error":"#DIV/0!"}},{"$f":"SUM(CB8:CB14)","v":{"$error":"#DIV/0!"}},{"$f":"SUM(CC8:CC14)","v":{"$error":"#DIV/0!"}},{"$f":"SUM(CD8:CD14)","v":{"$error":"#DIV/0!"}},{"$f":"SUM(CE8:CE14)","v":{"$error":"#DIV/0!"}},{"$f":"SUM(CF8:CF14)","v":{"$error":"#DIV/0!"}},{"$f":"SUM(CG8:CG14)","v":{"$error":"#DIV/0!"}},{"$f":"SUM(CH8:CH14)","v":{"$error":"#DIV/0!"}},{"$f":"SUM(CI8:CI14)","v":{"$error":"#DIV/0!"}},{"$f":"SUM(CJ8:CJ14)","v":{"$error":"#DIV/0!"}},{"$f":"SUM(CK8:CK14)","v":{"$error":"#DIV/0!"}},{"$f":"SUM(CL8:CL14)","v":{"$error":"#DIV/0!"}}]
[null,"2\n（2）","あなたはインターネットを使って何をしていますか？あてはまるものを、すべて選んでください。（複数回答可）",1,"コミュニケーション（メール・メッセンジャー・SNSなど）","－",{"$f":"問題別集計!G15","v":0},{"$f":"問題別集計!H15","v":0},{"$f":"問題別集計!I15","v":0},{"$f":"問題別集計!J15","v":0},{"$f":"問題別集計!K15","v":0},{"$f":"問題別集計!L15","v":0},{"$f":"問題別集計!M15","v":0},{"$f":"問題別集計!N15","v":0},{"$f":"問題別集計!O15","v":0},{"$f":"問題別集計!P15","v":0},{"$f":"問題別集計!Q15","v":0},{"$f":"問題別集計!R15","v":0},{"$f":"問題別集計!S15","v":0},{"$f":"問題別集計!T15","v":0},{"$f":"ROUND(G16/G$15,3)*100","v":{"$error":"#DIV/0!"}},{"$error":"#DIV/0!"},{"$error":"#DIV/0!"},{"$error":"#DIV/0!"},{"$error":"#DIV/0!"},{"$error":"#DIV/0!"},{"$error":"#DIV/0!"},{"$f":"ROUND(N16/N$51,3)*100","v":{"$error":"#DIV/0!"}},{"$error":"#DIV/0!"},{"$error":"#DIV/0!"},{"$error":"#DIV/0!"},{"$error":"#DIV/0!"},{"$error":"#DIV/0!"},{"$error":"#DIV/0!"},{"$f":"問題別集計③!G15","v":0},{"$f":"問題別集計③!H15","v":0},{"$f":"問題別集計③!I15","v":0},{"$f":"問題別集計③!J15","v":0},{"$f":"問題別集計③!K15","v":0},{"$f":"問題別集計③!L15","v":0},{"$f":"問題別集計③!M15","v":0},{"$f":"問題別集計③!N15","v":0},{"$f":"問題別集計③!O15","v":0},{"$f":"問題別集計③!P15","v":0},{"$f":"問題別集計③!Q15","v":0},{"$f":"問題別集計③!R15","v":0},{"$f":"問題別集計③!S15","v":0},{"$f":"問題別集計③!T15","v":0},{"$f":"ROUND(AI16/AI$15,3)*100","v":{"$error":"#DIV/0!"}},{"$error":"#DIV/0!"},{"$error":"#DIV/0!"},{"$error":"#DIV/0!"},{"$error":"#DIV/0!"},{"$error":"#DIV/0!"},{"$error":"#DIV/0!"},{"$f":"ROUND(AP16/AP$51,3)*100","v":{"$error":"#DIV/0!"}},{"$error":"#DIV/0!"},{"$error":"#DIV/0!"},{"$error":"#DIV/0!"},{"$error":"#DIV/0!"},{"$error":"#DIV/0!"},{"$error":"#DIV/0!"},{"$f":"問題別集計②!G15","v":0},{"$f":"問題別集計②!H15","v":0},{"$f":"問題別集計②!I15","v":0},{"$f":"問題別集計②!J15","v":0},{"$f":"問題別集計②!K15","v":0},{"$f":"問題別集計②!L15","v":0},{"$f":"問題別集計②!M15","v":0},{"$f":"問題別集計②!N15","v":0},{"$f":"問題別集計②!O15","v":0},{"$f":"問題別集計②!P15","v":0},{"$f":"問題別集計②!Q15","v":0},{"$f":"問題別集計②!R15","v":0},{"$f":"問題別集計②!S15","v":0},{"$f":"問題別集計②!T15","v":0},{"$f":"ROUND(BK16/BK$15,3)*100","v":{"$error":"#DIV/0!"}},{"$error":"#DIV/0!"},{"$error":"#DIV/0!"},{"$error":"#DIV/0!"},{"$error":"#DIV/0!"},{"$error":"#DIV/0!"},{"$error":"#DIV/0!"},{"$f":"ROUND(BR16/BR$51,3)*100","v":{"$error":"#DIV/0!"}},{"$error":"#DIV/0!"},{"$error":"#DIV/0!"},{"$error":"#DIV/0!"},{"$error":"#DIV/0!"},{"$error":"#DIV/0!"},{"$error":"#DIV/0!"}]
[null,null,null,2,"ニュース","－",{"$f":"問題別集計!G16","v":0},{"$f":"問題別集計!H16","v":0},{"$f":"問題別集計!I16","v":0},{"$f":"問題別集計!J16","v":0},{"$f":"問題別集計!K16","v":0},{"$f":"問題別集計!L16","v":0},{"$f":"問題別集計!M16","v":0},{"$f":"問題別集計!N16","v":0},{"$f":"問題別集計!O16","v":0},{"$f":"問題別集計!P16","v":0},{"$f":"問題別集計!Q16","v":0},{"$f":"問題別集計!R16","v":0},{"$f":"問題別集計!S16","v":0},{"$f":"問題別集計!T16","v":0},{"$f":"ROUND(G17/G$15,3)*100","v":{"$error":"#DIV/0!"}},{"$f":"ROUND(H17/H$15,3)*100","v":{"$error":"#DIV/0!"}},{"$f":"ROUND(I17/I$15,3)*100","v":{"$error":"#DIV/0!"}},{"$f":"ROUND(J17/J$15,3)*100","v":{"$error":"#DIV/0!"}},{"$f":"ROUND(K17/K$15,3)*100","v":{"$error":"#DIV/0!"}},{"$f":"ROUND(L17/L$15,3)*100","v":{"$error":"#DIV/0!"}},{"$f":"ROUND(M17/M$15,3)*100","v":{"$error":"#DIV/0!"}},{"$f":"ROUND(N17/N$51,3)*100","v":{"$error":"#DIV/0!"}},{"$f":"ROUND(O17/O$51,3)*100","v":{"$error":"#DIV/0!"}},{"$f":"ROUND(P17/P$51,3)*100","v":{"$error":"#DIV/0!"}},{"$f":"ROUND(Q17/Q$51,3)*100","v":{"$error":"#DIV/0!"}},{"$f":"ROUND(R17/R$51,3)*100","v":{"$error":"#DIV/0!"}},{"$f":"ROUND(S17/S$51,3)*100","v":{"$error":"#DIV/0!"}},{"$f":"ROUND(T17/T$51,3)*100","v":{"$error":"#DIV/0!"}},{"$f":"問題別集計③!G16","v":0},{"$f":"問題別集計③!H16","v":0},{"$f":"問題別集計③!I16","v":0},{"$f":"問題別集計③!J16","v":0},{"$f":"問題別集計③!K16","v":0},{"$f":"問題別集計③!L16","v":0},{"$f":"問題別集計③!M16","v":0},{"$f":"問題別集計③!N16","v":0},{"$f":"問題別集計③!O16","v":0},{"$f":"問題別集計③!P16","v":0},{"$f":"問題別集計③!Q16","v":0},{"$f":"問題別集計③!R16","v":0},{"$f":"問題別集計③!S16","v":0},{"$f":"問題別集計③!T16","v":0},{"$f":"ROUND(AI17/AI$15,3)*100","v":{"$error":"#DIV/0!"}},{"$f":"ROUND(AJ17/AJ$15,3)*100","v":{"$error":"#DIV/0!"}},{"$f":"ROUND(AK17/AK$15,3)*100","v":{"$error":"#DIV/0!"}},{"$f":"ROUND(AL17/AL$15,3)*100","v":{"$error":"#DIV/0!"}},{"$f":"ROUND(AM17/AM$15,3)*100","v":{"$error":"#DIV/0!"}},{"$f":"ROUND(AN17/AN$15,3)*100","v":{"$error":"#DIV/0!"}},{"$f":"ROUND(AO17/AO$15,3)*100","v":{"$error":"#DIV/0!"}},{"$f":"ROUND(AP17/AP$51,3)*100","v":{"$error":"#DIV/0!"}},{"$f":"ROUND(AQ17/AQ$51,3)*100","v":{"$error":"#DIV/0!"}},{"$f":"ROUND(AR17/AR$51,3)*100","v":{"$error":"#DIV/0!"}},{"$f":"ROUND(AS17/AS$51,3)*100","v":{"$error":"#DIV/0!"}},{"$f":"ROUND(AT17/AT$51,3)*100","v":{"$error":"#DIV/0!"}},{"$f":"ROUND(AU17/AU$51,3)*100","v":{"$error":"#DIV/0!"}},{"$f":"ROUND(AV17/AV$51,3)*100","v":{"$error":"#DIV/0!"}},{"$f":"問題別集計②!G16","v":0},{"$f":"問題別集計②!H16","v":0},{"$f":"問題別集計②!I16","v":0},{"$f":"問題別集計②!J16","v":0},{"$f":"問題別集計②!K16","v":0},{"$f":"問題別集計②!L16","v":0},{"$f":"問題別集計②!M16","v":0},{"$f":"問題別集計②!N16","v":0},{"$f":"問題別集計②!O16","v":0},{"$f":"問題別集計②!P16","v":0},{"$f":"問題別集計②!Q16","v":0},{"$f":"問題別集計②!R16","v":0},{"$f":"問題別集計②!S16","v":0},{"$f":"問題別集計②!T16","v":0},{"$f":"ROUND(BK17/BK$15,3)*100","v":{"$error":"#DIV/0!"}},{"$f":"ROUND(BL17/BL$15,3)*100","v":{"$error":"#DIV/0!"}},{"$f":"ROUND(BM17/BM$15,3)*100","v":{"$error":"#DIV/0!"}},{"$f":"ROUND(BN17/BN$15,3)*100","v":{"$error":"#DIV/0!"}},{"$f":"ROUND(BO17/BO$15,3)*100","v":{"$error":"#DIV/0!"}},{"$f":"ROUND(BP17/BP$15,3)*100","v":{"$error":"#DIV/0!"}},{"$f":"ROUND(BQ17/BQ$15,3)*100","v":{"$error":"#DIV/0!"}},{"$f":"ROUND(BR17/BR$51,3)*100","v":{"$error":"#DIV/0!"}},{"$f":"ROUND(BS17/BS$51,3)*100","v":{"$error":"#DIV/0!"}},{"$f":"ROUND(BT17/BT$51,3)*100","v":{"$error":"#DIV/0!"}},{"$f":"ROUND(BU17/BU$51,3)*100","v":{"$error":"#DIV/0!"}},{"$f":"ROUND(BV17/BV$51,3)*100","v":{"$error":"#DIV/0!"}},{"$f":"ROUND(BW17/BW$51,3)*100","v":{"$error":"#DIV/0!"}},{"$f":"ROUND(BX17/BX$51,3)*100","v":{"$error":"#DIV/0!"}}]
[null,null,null,3,"情報検索","－",{"$f":"問題別集計!G17","v":0},{"$f":"問題別集計!H17","v":0},{"$f":"問題別集計!I17","v":0},{"$f":"問題別集計!J17","v":0},{"$f":"問題別集計!K17","v":0},{"$f":"問題別集計!L17","v":0},{"$f":"問題別集計!M17","v":0},{"$f":"問題別集計!N17","v":0},{"$f":"問題別集計!O17","v":0},{"$f":"問題別集計!P17","v":0},{"$f":"問題別集計!Q17","v":0},{"$f":"問題別集計!R17","v":0},{"$f":"問題別集計!S17","v":0},{"$f":"問題別集計!T17","v":0},{"$error":"#DIV/0!"},{"$error":"#DIV/0!"},{"$error":"#DIV/0!"},{"$error":"#DIV/0!"},{"$error":"#DIV/0!"},{"$error":"#DIV/0!"},{"$error":"#DIV/0!"},{"$error":"#DIV/0!"},{"$error":"#DIV/0!"},{"$error":"#DIV/0!"},{"$error":"#DIV/0!"},{"$error":"#DIV/0!"},{"$error":"#DIV/0!"},{"$error":"#DIV/0!"},{"$f":"問題別集計③!G17","v":0},{"$f":"問題別集計③!H17","v":0},{"$f":"問題別集計③!I17","v":0},{"$f":"問題別集計③!J17","v":0},{"$f":"問題別集計③!K17","v":0},{"$f":"問題別集計③!L17","v":0},{"$f":"問題別集計③!M17","v":0},{"$f":"問題別集計③!N17","v":0},{"$f":"問題別集計③!O17","v":0},{"$f":"問題別集計③!P17","v":0},{"$f":"問題別集計③!Q17","v":0},{"$f":"問題別集計③!R17","v":0},{"$f":"問題別集計③!S17","v":0},{"$f":"問題別集計③!T17","v":0},{"$error":"#DIV/0!"},{"$error":"#DIV/0!"},{"$error":"#DIV/0!"},{"$error":"#DIV/0!"},{"$error":"#DIV/0!"},{"$error":"#DIV/0!"},{"$error":"#DIV/0!"},{"$error":"#DIV/0!"},{"$error":"#DIV/0!"},{"$error":"#DIV/0!"},{"$error":"#DIV/0!"},{"$error":"#DIV/0!"},{"$error":"#DIV/0!"},{"$error":"#DIV/0!"},{"$f":"問題別集計②!G17","v":0},{"$f":"問題別集計②!H17","v":0},{"$f":"問題別集計②!I17","v":0},{"$f":"問題別集計②!J17","v":0},{"$f":"問題別集計②!K17","v":0},{"$f":"問題別集計②!L17","v":0},{"$f":"問題別集計②!M17","v":0},{"$f":"問題別集計②!N17","v":0},{"$f":"問題別集計②!O17","v":0},{"$f":"問題別集計②!P17","v":0},{"$f":"問題別集計②!Q17","v":0},{"$f":"問題別集計②!R17","v":0},{"$f":"問題別集計②!S17","v":0},{"$f":"問題別集計②!T17","v":0},{"$error":"#DIV/0!"},{"$error":"#DIV/0!"},{"$error":"#DIV/0!"},{"$error":"#DIV/0!"},{"$error":"#DIV/0!"},{"$error":"#DIV/0!"},{"$error":"#DIV/0!"},{"$error":"#DIV/0!"},{"$error":"#DIV/0!"},{"$error":"#DIV/0!"},{"$error":"#DIV/0!"},{"$error":"#DIV/0!"},{"$error":"#DIV/0!"},{"$error":"#DIV/0!"}]
[null,null,null,4,"地図・ナビゲーション","－",{"$f":"問題別集計!G18","v":0},{"$f":"問題別集計!H18","v":0},{"$f":"問題別集計!I18","v":0},{"$f":"問題別集計!J18","v":0},{"$f":"問題別集計!K18","v":0},{"$f":"問題別集計!L18","v":0},{"$f":"問題別集計!M18","v":0},{"$f":"問題別集計!N18","v":0},{"$f":"問題別集計!O18","v":0},{"$f":"問題別集計!P18","v":0},{"$f":"問題別集計!Q18","v":0},{"$f":"問題別集計!R18","v":0},{"$f":"問題別集計!S18","v":0},{"$f":"問題別集計!T18","v":0},{"$error":"#DIV/0!"},{"$error":"#DIV/0!"},{"$error":"#DIV/0!"},{"$error":"#DIV/0!"},{"$error":"#DIV/0!"},{"$error":"#DIV/0!"},{"$error":"#DIV/0!"},{"$error":"#DIV/0!"},{"$error":"#DIV/0!"},{"$error":"#DIV/0!"},{"$error":"#DIV/0!"},{"$error":"#DIV/0!"},{"$error":"#DIV/0!"},{"$error":"#DIV/0!"},{"$f":"問題別集計③!G18","v":0},{"$f":"問題別集計③!H18","v":0},{"$f":"問題別集計③!I18","v":0},{"$f":"問題別集計③!J18","v":0},{"$f":"問題別集計③!K18","v":0},{"$f":"問題別集計③!L18","v":0},{"$f":"問題別集計③!M18","v":0},{"$f":"問題別集計③!N18","v":0},{"$f":"問題別集計③!O18","v":0},{"$f":"問題別集計③!P18","v":0},{"$f":"問題別集計③!Q18","v":0},{"$f":"問題別集計③!R18","v":0},{"$f":"問題別集計③!S18","v":0},{"$f":"問題別集計③!T18","v":0},{"$error":"#DIV/0!"},{"$error":"#DIV/0!"},{"$error":"#DIV/0!"},{"$error":"#DIV/0!"},{"$error":"#DIV/0!"},{"$error":"#DIV/0!"},{"$error":"#DIV/0!"},{"$error":"#DIV/0!"},{"$error":"#DIV/0!"},{"$error":"#DIV/0!"},{"$error":"#DIV/0!"},{"$error":"#DIV/0!"},{"$error":"#DIV/0!"},{"$error":"#DIV/0!"},{"$f":"問題別集計②!G18","v":0},{"$f":"問題別集計②!H18","v":0},{"$f":"問題別集計②!I18","v":0},{"$f":"問題別集計②!J18","v":0},{"$f":"問題別集計②!K18","v":0},{"$f":"問題別集計②!L18","v":0},{"$f":"問題別集計②!M18","v":0},{"$f":"問題別集計②!N18","v":0},{"$f":"問題別集計②!O18","v":0},{"$f":"問題別集計②!P18","v":0},{"$f":"問題別集計②!Q18","v":0},{"$f":"問題別集計②!R18","v":0},{"$f":"問題別集計②!S18","v":0},{"$f":"問題別集計②!T18","v":0},{"$error":"#DIV/0!"},{"$error":"#DIV/0!"},{"$error":"#DIV/0!"},{"$error":"#DIV/0!"},{"$error":"#DIV/0!"},{"$error":"#DIV/0!"},{"$error":"#DIV/0!"},{"$error":"#DIV/0!"},{"$error":"#DIV/0!"},{"$error":"#DIV/0!"},{"$error":"#DIV/0!"},{"$error":"#DIV/0!"},{"$error":"#DIV/0!"},{"$error":"#DIV/0!"}]
[null,null,null,5,"音楽視聴","－",{"$f":"問題別集計!G19","v":0},{"$f":"問題別集計!H19","v":0},{"$f":"問題別集計!I19","v":0},{"$f":"問題別集計!J19","v":0},{"$f":"問題別集計!K19","v":0},{"$f":"問題別集計!L19","v":0},{"$f":"問題別集計!M19","v":0},{"$f":"問題別集計!N19","v":0},{"$f":"問題別集計!O19","v":0},{"$f":"問題別集計!P19","v":0},{"$f":"問題別集計!Q19","v":0},{"$f":"問題別集計!R19","v":0},{"$f":"問題別集計!S19","v":0},{"$f":"問題別集計!T19","v":0},{"$error":"#DIV/0!"},{"$error":"#DIV/0!"},{"$error":"#DIV/0!"},{"$error":"#DIV/0!"},{"$error":"#DIV/0!"},{"$error":"#DIV/0!"},{"$error":"#DIV/0!"},{"$error":"#DIV/0!"},{"$error":"#DIV/0!"},{"$error":"#DIV/0!"},{"$error":"#DIV/0!"},{"$error":"#DIV/0!"},{"$error":"#DIV/0!"},{"$error":"#DIV/0!"},{"$f":"問題別集計③!G19","v":0},{"$f":"問題別集計③!H19","v":0},{"$f":"問題別集計③!I19","v":0},{"$f":"問題別集計③!J19","v":0},{"$f":"問題別集計③!K19","v":0},{"$f":"問題別集計③!L19","v":0},{"$f":"問題別集計③!M19","v":0},{"$f":"問題別集計③!N19","v":0},{"$f":"問題別集計③!O19","v":0},{"$f":"問題別集計③!P19","v":0},{"$f":"問題別集計③!Q19","v":0},{"$f":"問題別集計③!R19","v":0},{"$f":"問題別集計③!S19","v":0},{"$f":"問題別集計③!T19","v":0},{"$error":"#DIV/0!"},{"$error":"#DIV/0!"},{"$error":"#DIV/0!"},{"$error":"#DIV/0!"},{"$error":"#DIV/0!"},{"$error":"#DIV/0!"},{"$error":"#DIV/0!"},{"$error":"#DIV/0!"},{"$error":"#DIV/0!"},{"$error":"#DIV/0!"},{"$error":"#DIV/0!"},{"$error":"#DIV/0!"},{"$error":"#DIV/0!"},{"$error":"#DIV/0!"},{"$f":"問題別集計②!G19","v":0},{"$f":"問題別集計②!H19","v":0},{"$f":"問題別集計②!I19","v":0},{"$f":"問題別集計②!J19","v":0},{"$f":"問題別集計②!K19","v":0},{"$f":"問題別集計②!L19","v":0},{"$f":"問題別集計②!M19","v":0},{"$f":"問題別集計②!N19","v":0},{"$f":"問題別集計②!O19","v":0},{"$f":"問題別集計②!P19","v":0},{"$f":"問題別集計②!Q19","v":0},{"$f":"問題別集計②!R19","v":0},{"$f":"問題別集計②!S19","v":0},{"$f":"問題別集計②!T19","v":0},{"$error":"#DIV/0!"},{"$error":"#DIV/0!"},{"$error":"#DIV/0!"},{"$error":"#DIV/0!"},{"$error":"#DIV/0!"},{"$error":"#DIV/0!"},{"$error":"#DIV/0!"},{"$error":"#DIV/0!"},{"$error":"#DIV/0!"},{"$error":"#DIV/0!"},{"$error":"#DIV/0!"},{"$error":"#DIV/0!"},{"$error":"#DIV/0!"},{"$error":"#DIV/0!"}]
[null,null,null,6,"動画視聴","－",{"$f":"問題別集計!G20","v":0},{"$f":"問題別集計!H20","v":0},{"$f":"問題別集計!I20","v":0},{"$f":"問題別集計!J20","v":0},{"$f":"問題別集計!K20","v":0},{"$f":"問題別集計!L20","v":0},{"$f":"問題別集計!M20","v":0},{"$f":"問題別集計!N20","v":0},{"$f":"問題別集計!O20","v":0},{"$f":"問題別集計!P20","v":0},{"$f":"問題別集計!Q20","v":0},{"$f":"問題別集計!R20","v":0},{"$f":"問題別集計!S20","v":0},{"$f":"問題別集計!T20","v":0},{"$error":"#DIV/0!"},{"$error":"#DIV/0!"},{"$error":"#DIV/0!"},{"$error":"#DIV/0!"},{"$error":"#DIV/0!"},{"$error":"#DIV/0!"},{"$error":"#DIV/0!"},{"$error":"#DIV/0!"},{"$error":"#DIV/0!"},{"$error":"#DIV/0!"},{"$error":"#DIV/0!"},{"$error":"#DIV/0!"},{"$error":"#DIV/0!"},{"$error":"#DIV/0!"},{"$f":"問題別集計③!G20","v":0},{"$f":"問題別集計③!H20","v":0},{"$f":"問題別集計③!I20","v":0},{"$f":"問題別集計③!J20","v":0},{"$f":"問題別集計③!K20","v":0},{"$f":"問題別集計③!L20","v":0},{"$f":"問題別集計③!M20","v":0},{"$f":"問題別集計③!N20","v":0},{"$f":"問題別集計③!O20","v":0},{"$f":"問題別集計③!P20","v":0},{"$f":"問題別集計③!Q20","v":0},{"$f":"問題別集計③!R20","v":0},{"$f":"問題別集計③!S20","v":0},{"$f":"問題別集計③!T20","v":0},{"$error":"#DIV/0!"},{"$error":"#DIV/0!"},{"$error":"#DIV/0!"},{"$error":"#DIV/0!"},{"$error":"#DIV/0!"},{"$error":"#DIV/0!"},{"$error":"#DIV/0!"},{"$error":"#DIV/0!"},{"$error":"#DIV/0!"},{"$error":"#DIV/0!"},{"$error":"#DIV/0!"},{"$error":"#DIV/0!"},{"$error":"#DIV/0!"},{"$error":"#DIV/0!"},{"$f":"問題別集計②!G20","v":0},{"$f":"問題別集計②!H20","v":0},{"$f":"問題別集計②!I20","v":0},{"$f":"問題別集計②!J20","v":0},{"$f":"問題別集計②!K20","v":0},{"$f":"問題別集計②!L20","v":0},{"$f":"問題別集計②!M20","v":0},{"$f":"問題別集計②!N20","v":0},{"$f":"問題別集計②!O20","v":0},{"$f":"問題別集計②!P20","v":0},{"$f":"問題別集計②!Q20","v":0},{"$f":"問題別集計②!R20","v":0},{"$f":"問題別集計②!S20","v":0},{"$f":"問題別集計②!T20","v":0},{"$error":"#DIV/0!"},{"$error":"#DIV/0!"},{"$error":"#DIV/0!"},{"$error":"#DIV/0!"},{"$error":"#DIV/0!"},{"$error":"#DIV/0!"},{"$error":"#DIV/0!"},{"$error":"#DIV/0!"},{"$error":"#DIV/0!"},{"$error":"#DIV/0!"},{"$error":"#DIV/0!"},{"$error":"#DIV/0!"},{"$error":"#DIV/0!"},{"$error":"#DIV/0!"}]
[null,null,null,7,"電子書籍","－",{"$f":"問題別集計!G21","v":0},{"$f":"問題別集計!H21","v":0},{"$f":"問題別集計!I21","v":0},{"$f":"問題別集計!J21","v":0},{"$f":"問題別集計!K21","v":0},{"$f":"問題別集計!L21","v":0},{"$f":"問題別集計!M21","v":0},{"$f":"問題別集計!N21","v":0},{"$f":"問題別集計!O21","v":0},{"$f":"問題別集計!P21","v":0},{"$f":"問題別集計!Q21","v":0},{"$f":"問題別集計!R21","v":0},{"$f":"問題別集計!S21","v":0},{"$f":"問題別集計!T21","v":0},{"$error":"#DIV/0!"},{"$error":"#DIV/0!"},{"$error":"#DIV/0!"},{"$error":"#DIV/0!"},{"$error":"#DIV/0!"},{"$error":"#DIV/0!"},{"$error":"#DIV/0!"},{"$error":"#DIV/0!"},{"$error":"#DIV/0!"},{"$error":"#DIV/0!"},{"$error":"#DIV/0!"},{"$error":"#DIV/0!"},{"$error":"#DIV/0!"},{"$error":"#DIV/0!"},{"$f":"問題別集計③!G21","v":0},{"$f":"問題別集計③!H21","v":0},{"$f":"問題別集計③!I21","v":0},{"$f":"問題別集計③!J21","v":0},{"$f":"問題別集計③!K21","v":0},{"$f":"問題別集計③!L21","v":0},{"$f":"問題別集計③!M21","v":0},{"$f":"問題別集計③!N21","v":0},{"$f":"問題別集計③!O21","v":0},{"$f":"問題別集計③!P21","v":0},{"$f":"問題別集計③!Q21","v":0},{"$f":"問題別集計③!R21","v":0},{"$f":"問題別集計③!S21","v":0},{"$f":"問題別集計③!T21","v":0},{"$error":"#DIV/0!"},{"$error":"#DIV/0!"},{"$error":"#DIV/0!"},{"$error":"#DIV/0!"},{"$error":"#DIV/0!"},{"$error":"#DIV/0!"},{"$error":"#DIV/0!"},{"$error":"#DIV/0!"},{"$error":"#DIV/0!"},{"$error":"#DIV/0!"},{"$error":"#DIV/0!"},{"$error":"#DIV/0!"},{"$error":"#DIV/0!"},{"$error":"#DIV/0!"},{"$f":"問題別集計②!G21","v":0},{"$f":"問題別集計②!H21","v":0},{"$f":"問題別集計②!I21","v":0},{"$f":"問題別集計②!J21","v":0},{"$f":"問題別集計②!K21","v":0},{"$f":"問題別集計②!L21","v":0},{"$f":"問題別集計②!M21","v":0},{"$f":"問題別集計②!N21","v":0},{"$f":"問題別集計②!O21","v":0},{"$f":"問題別集計②!P21","v":0},{"$f":"問題別集計②!Q21","v":0},{"$f":"問題別集計②!R21","v":0},{"$f":"問題別集計②!S21","v":0},{"$f":"問題別集計②!T21","v":0},{"$error":"#DIV/0!"},{"$error":"#DIV/0!"},{"$error":"#DIV/0!"},{"$error":"#DIV/0!"},{"$error":"#DIV/0!"},{"$error":"#DIV/0!"},{"$error":"#DIV/0!"},{"$error":"#DIV/0!"},{"$error":"#DIV/0!"},{"$error":"#DIV/0!"},{"$error":"#DIV/0!"},{"$error":"#DIV/0!"},{"$error":"#DIV/0!"},{"$error":"#DIV/0!"}]
[null,null,null,8,"ゲーム","－",{"$f":"問題別集計!G22","v":0},{"$f":"問題別集計!H22","v":0},{"$f":"問題別集計!I22","v":0},{"$f":"問題別集計!J22","v":0},{"$f":"問題別集計!K22","v":0},{"$f":"問題別集計!L22","v":0},{"$f":"問題別集計!M22","v":0},{"$f":"問題別集計!N22","v":0},{"$f":"問題別集計!O22","v":0},{"$f":"問題別集計!P22","v":0},{"$f":"問題別集計!Q22","v":0},{"$f":"問題別集計!R22","v":0},{"$f":"問題別集計!S22","v":0},{"$f":"問題別集計!T22","v":0},{"$error":"#DIV/0!"},{"$error":"#DIV/0!"},{"$error":"#DIV/0!"},{"$error":"#DIV/0!"},{"$error":"#DIV/0!"},{"$error":"#DIV/0!"},{"$error":"#DIV/0!"},{"$error":"#DIV/0!"},{"$error":"#DIV/0!"},{"$error":"#DIV/0!"},{"$error":"#DIV/0!"},{"$error":"#DIV/0!"},{"$error":"#DIV/0!"},{"$error":"#DIV/0!"},{"$f":"問題別集計③!G22","v":0},{"$f":"問題別集計③!H22","v":0},{"$f":"問題別集計③!I22","v":0},{"$f":"問題別集計③!J22","v":0},{"$f":"問題別集計③!K22","v":0},{"$f":"問題別集計③!L22","v":0},{"$f":"問題別集計③!M22","v":0},{"$f":"問題別集計③!N22","v":0},{"$f":"問題別集計③!O22","v":0},{"$f":"問題別集計③!P22","v":0},{"$f":"問題別集計③!Q22","v":0},{"$f":"問題別集計③!R22","v":0},{"$f":"問題別集計③!S22","v":0},{"$f":"問題別集計③!T22","v":0},{"$error":"#DIV/0!"},{"$error":"#DIV/0!"},{"$error":"#DIV/0!"},{"$error":"#DIV/0!"},{"$error":"#DIV/0!"},{"$error":"#DIV/0!"},{"$error":"#DIV/0!"},{"$error":"#DIV/0!"},{"$error":"#DIV/0!"},{"$error":"#DIV/0!"},{"$error":"#DIV/0!"},{"$error":"#DIV/0!"},{"$error":"#DIV/0!"},{"$error":"#DIV/0!"},{"$f":"問題別集計②!G22","v":0},{"$f":"問題別集計②!H22","v":0},{"$f":"問題別集計②!I22","v":0},{"$f":"問題別集計②!J22","v":0},{"$f":"問題別集計②!K22","v":0},{"$f":"問題別集計②!L22","v":0},{"$f":"問題別集計②!M22","v":0},{"$f":"問題別集計②!N22","v":0},{"$f":"問題別集計②!O22","v":0},{"$f":"問題別集計②!P22","v":0},{"$f":"問題別集計②!Q22","v":0},{"$f":"問題別集計②!R22","v":0},{"$f":"問題別集計②!S22","v":0},{"$f":"問題別集計②!T22","v":0},{"$error":"#DIV/0!"},{"$error":"#DIV/0!"},{"$error":"#DIV/0!"},{"$error":"#DIV/0!"},{"$error":"#DIV/0!"},{"$error":"#DIV/0!"},{"$error":"#DIV/0!"},{"$error":"#DIV/0!"},{"$error":"#DIV/0!"},{"$error":"#DIV/0!"},{"$error":"#DIV/0!"},{"$error":"#DIV/0!"},{"$error":"#DIV/0!"},{"$error":"#DIV/0!"}]
[null,null,null,9,"ショッピング・オークション","－",{"$f":"問題別集計!G23","v":0},{"$f":"問題別集計!H23","v":0},{"$f":"問題別集計!I23","v":0},{"$f":"問題別集計!J23","v":0},{"$f":"問題別集計!K23","v":0},{"$f":"問題別集計!L23","v":0},{"$f":"問題別集計!M23","v":0},{"$f":"問題別集計!N23","v":0},{"$f":"問題別集計!O23","v":0},{"$f":"問題別集計!P23","v":0},{"$f":"問題別集計!Q23","v":0},{"$f":"問題別集計!R23","v":0},{"$f":"問題別集計!S23","v":0},{"$f":"問題別集計!T23","v":0},{"$error":"#DIV/0!"},{"$error":"#DIV/0!"},{"$error":"#DIV/0!"},{"$error":"#DIV/0!"},{"$error":"#DIV/0!"},{"$error":"#DIV/0!"},{"$error":"#DIV/0!"},{"$error":"#DIV/0!"},{"$error":"#DIV/0!"},{"$error":"#DIV/0!"},{"$error":"#DIV/0!"},{"$error":"#DIV/0!"},{"$error":"#DIV/0!"},{"$error":"#DIV/0!"},{"$f":"問題別集計③!G23","v":0},{"$f":"問題別集計③!H23","v":0},{"$f":"問題別集計③!I23","v":0},{"$f":"問題別集計③!J23","v":0},{"$f":"問題別集計③!K23","v":0},{"$f":"問題別集計③!L23","v":0},{"$f":"問題別集計③!M23","v":0},{"$f":"問題別集計③!N23","v":0},{"$f":"問題別集計③!O23","v":0},{"$f":"問題別集計③!P23","v":0},{"$f":"問題別集計③!Q23","v":0},{"$f":"問題別集計③!R23","v":0},{"$f":"問題別集計③!S23","v":0},{"$f":"問題別集計③!T23","v":0},{"$error":"#DIV/0!"},{"$error":"#DIV/0!"},{"$error":"#DIV/0!"},{"$error":"#DIV/0!"},{"$error":"#DIV/0!"},{"$error":"#DIV/0!"},{"$error":"#DIV/0!"},{"$error":"#DIV/0!"},{"$error":"#DIV/0!"},{"$error":"#DIV/0!"},{"$error":"#DIV/0!"},{"$error":"#DIV/0!"},{"$error":"#DIV/0!"},{"$error":"#DIV/0!"},{"$f":"問題別集計②!G23","v":0},{"$f":"問題別集計②!H23","v":0},{"$f":"問題別集計②!I23","v":0},{"$f":"問題別集計②!J23","v":0},{"$f":"問題別集計②!K23","v":0},{"$f":"問題別集計②!L23","v":0},{"$f":"問題別集計②!M23","v":0},{"$f":"問題別集計②!N23","v":0},{"$f":"問題別集計②!O23","v":0},{"$f":"問題別集計②!P23","v":0},{"$f":"問題別集計②!Q23","v":0},{"$f":"問題別集計②!R23","v":0},{"$f":"問題別集計②!S23","v":0},{"$f":"問題別集計②!T23","v":0},{"$error":"#DIV/0!"},{"$error":"#DIV/0!"},{"$error":"#DIV/0!"},{"$error":"#DIV/0!"},{"$error":"#DIV/0!"},{"$error":"#DIV/0!"},{"$error":"#DIV/0!"},{"$error":"#DIV/0!"},{"$error":"#DIV/0!"},{"$error":"#DIV/0!"},{"$error":"#DIV/0!"},{"$error":"#DIV/0!"},{"$error":"#DIV/0!"},{"$error":"#DIV/0!"}]
[null,null,null,10,"勉強・学習・知育アプリやサービス","－",{"$f":"問題別集計!G24","v":0},{"$f":"問題別集計!H24","v":0},{"$f":"問題別集計!I24","v":0},{"$f":"問題別集計!J24","v":0},{"$f":"問題別集計!K24","v":0},{"$f":"問題別集計!L24","v":0},{"$f":"問題別集計!M24","v":0},{"$f":"問題別集計!N24","v":0},{"$f":"問題別集計!O24","v":0},{"$f":"問題別集計!P24","v":0},{"$f":"問題別集計!Q24","v":0},{"$f":"問題別集計!R24","v":0},{"$f":"問題別集計!S24","v":0},{"$f":"問題別集計!T24","v":0},{"$error":"#DIV/0!"},{"$error":"#DIV/0!"},{"$error":"#DIV/0!"},{"$error":"#DIV/0!"},{"$error":"#DIV/0!"},{"$error":"#DIV/0!"},{"$error":"#DIV/0!"},{"$error":"#DIV/0!"},{"$error":"#DIV/0!"},{"$error":"#DIV/0!"},{"$error":"#DIV/0!"},{"$error":"#DIV/0!"},{"$error":"#DIV/0!"},{"$error":"#DIV/0!"},{"$f":"問題別集計③!G24","v":0},{"$f":"問題別集計③!H24","v":0},{"$f":"問題別集計③!I24","v":0},{"$f":"問題別集計③!J24","v":0},{"$f":"問題別集計③!K24","v":0},{"$f":"問題別集計③!L24","v":0},{"$f":"問題別集計③!M24","v":0},{"$f":"問題別集計③!N24","v":0},{"$f":"問題別集計③!O24","v":0},{"$f":"問題別集計③!P24","v":0},{"$f":"問題別集計③!Q24","v":0},{"$f":"問題別集計③!R24","v":0},{"$f":"問題別集計③!S24","v":0},{"$f":"問題別集計③!T24","v":0},{"$error":"#DIV/0!"},{"$error":"#DIV/0!"},{"$error":"#DIV/0!"},{"$error":"#DIV/0!"},{"$error":"#DIV/0!"},{"$error":"#DIV/0!"},{"$error":"#DIV/0!"},{"$error":"#DIV/0!"},{"$error":"#DIV/0!"},{"$error":"#DIV/0!"},{"$error":"#DIV/0!"},{"$error":"#DIV/0!"},{"$error":"#DIV/0!"},{"$error":"#DIV/0!"},{"$f":"問題別集計②!G24","v":0},{"$f":"問題別集計②!H24","v":0},{"$f":"問題別集計②!I24","v":0},{"$f":"問題別集計②!J24","v":0},{"$f":"問題別集計②!K24","v":0},{"$f":"問題別集計②!L24","v":0},{"$f":"問題別集計②!M24","v":0},{"$f":"問題別集計②!N24","v":0},{"$f":"問題別集計②!O24","v":0},{"$f":"問題別集計②!P24","v":0},{"$f":"問題別集計②!Q24","v":0},{"$f":"問題別集計②!R24","v":0},{"$f":"問題別集計②!S24","v":0},{"$f":"問題別集計②!T24","v":0},{"$error":"#DIV/0!"},{"$error":"#DIV/0!"},{"$error":"#DIV/0!"},{"$error":"#DIV/0!"},{"$error":"#DIV/0!"},{"$error":"#DIV/0!"},{"$error":"#DIV/0!"},{"$error":"#DIV/0!"},{"$error":"#DIV/0!"},{"$error":"#DIV/0!"},{"$error":"#DIV/0!"},{"$error":"#DIV/0!"},{"$error":"#DIV/0!"},{"$error":"#DIV/0!"}]
[null,null,null,11,"その他","－",{"$f":"問題別集計!G25","v":0},{"$f":"問題別集計!H25","v":0},{"$f":"問題別集計!I25","v":0},{"$f":"問題別集計!J25","v":0},{"$f":"問題別集計!K25","v":0},{"$f":"問題別集計!L25","v":0},{"$f":"問題別集計!M25","v":0},{"$f":"問題別集計!N25","v":0},{"$f":"問題別集計!O25","v":0},{"$f":"問題別集計!P25","v":0},{"$f":"問題別集計!Q25","v":0},{"$f":"問題別集計!R25","v":0},{"$f":"問題別集計!S25","v":0},{"$f":"問題別集計!T25","v":0},{"$error":"#DIV/0!"},{"$error":"#DIV/0!"},{"$error":"#DIV/0!"},{"$error":"#DIV/0!"},{"$error":"#DIV/0!"},{"$error":"#DIV/0!"},{"$error":"#DIV/0!"},{"$error":"#DIV/0!"},{"$error":"#DIV/0!"},{"$error":"#DIV/0!"},{"$error":"#DIV/0!"},{"$error":"#DIV/0!"},{"$error":"#DIV/0!"},{"$error":"#DIV/0!"},{"$f":"問題別集計③!G25","v":0},{"$f":"問題別集計③!H25","v":0},{"$f":"問題別集計③!I25","v":0},{"$f":"問題別集計③!J25","v":0},{"$f":"問題別集計③!K25","v":0},{"$f":"問題別集計③!L25","v":0},{"$f":"問題別集計③!M25","v":0},{"$f":"問題別集計③!N25","v":0},{"$f":"問題別集計③!O25","v":0},{"$f":"問題別集計③!P25","v":0},{"$f":"問題別集計③!Q25","v":0},{"$f":"問題別集計③!R25","v":0},{"$f":"問題別集計③!S25","v":0},{"$f":"問題別集計③!T25","v":0},{"$error":"#DIV/0!"},{"$error":"#DIV/0!"},{"$error":"#DIV/0!"},{"$error":"#DIV/0!"},{"$error":"#DIV/0!"},{"$error":"#DIV/0!"},{"$error":"#DIV/0!"},{"$error":"#DIV/0!"},{"$error":"#DIV/0!"},{"$error":"#DIV/0!"},{"$error":"#DIV/0!"},{"$error":"#DIV/0!"},{"$error":"#DIV/0!"},{"$error":"#DIV/0!"},{"$f":"問題別集計②!G25","v":0},{"$f":"問題別集計②!H25","v":0},{"$f":"問題別集計②!I25","v":0},{"$f":"問題別集計②!J25","v":0},{"$f":"問題別集計②!K25","v":0},{"$f":"問題別集計②!L25","v":0},{"$f":"問題別集計②!M25","v":0},{"$f":"問題別集計②!N25","v":0},{"$f":"問題別集計②!O25","v":0},{"$f":"問題別集計②!P25","v":0},{"$f":"問題別集計②!Q25","v":0},{"$f":"問題別集計②!R25","v":0},{"$f":"問題別集計②!S25","v":0},{"$f":"問題別集計②!T25","v":0},{"$error":"#DIV/0!"},{"$error":"#DIV/0!"},{"$error":"#DIV/0!"},{"$error":"#DIV/0!"},{"$error":"#DIV/0!"},{"$error":"#DIV/0!"},{"$error":"#DIV/0!"},{"$error":"#DIV/0!"},{"$error":"#DIV/0!"},{"$error":"#DIV/0!"},{"$error":"#DIV/0!"},{"$error":"#DIV/0!"},{"$error":"#DIV/0!"},{"$error":"#DIV/0!"}]
[null,null,null,12,"わからない","－",{"$f":"問題別集計!G26","v":0},{"$f":"問題別集計!H26","v":0},{"$f":"問題別集計!I26","v":0},{"$f":"問題別集計!J26","v":0},{"$f":"問題別集計!K26","v":0},{"$f":"問題別集計!L26","v":0},{"$f":"問題別集計!M26","v":0},{"$f":"問題別集計!N26","v":0},{"$f":"問題別集計!O26","v":0},{"$f":"問題別集計!P26","v":0},{"$f":"問題別集計!Q26","v":0},{"$f":"問題別集計!R26","v":0},{"$f":"問題別集計!S26","v":0},{"$f":"問題別集計!T26","v":0},{"$error":"#DIV/0!"},{"$error":"#DIV/0!"},{"$error":"#DIV/0!"},{"$error":"#DIV/0!"},{"$error":"#DIV/0!"},{"$error":"#DIV/0!"},{"$error":"#DIV/0!"},{"$error":"#DIV/0!"},{"$error":"#DIV/0!"},{"$error":"#DIV/0!"},{"$error":"#DIV/0!"},{"$error":"#DIV/0!"},{"$error":"#DIV/0!"},{"$error":"#DIV/0!"},{"$f":"問題別集計③!G26","v":0},{"$f":"問題別集計③!H26","v":0},{"$f":"問題別集計③!I26","v":0},{"$f":"問題別集計③!J26","v":0},{"$f":"問題別集計③!K26","v":0},{"$f":"問題別集計③!L26","v":0},{"$f":"問題別集計③!M26","v":0},{"$f":"問題別集計③!N26","v":0},{"$f":"問題別集計③!O26","v":0},{"$f":"問題別集計③!P26","v":0},{"$f":"問題別集計③!Q26","v":0},{"$f":"問題別集計③!R26","v":0},{"$f":"問題別集計③!S26","v":0},{"$f":"問題別集計③!T26","v":0},{"$error":"#DIV/0!"},{"$error":"#DIV/0!"},{"$error":"#DIV/0!"},{"$error":"#DIV/0!"},{"$error":"#DIV/0!"},{"$error":"#DIV/0!"},{"$error":"#DIV/0!"},{"$error":"#DIV/0!"},{"$error":"#DIV/0!"},{"$error":"#DIV/0!"},{"$error":"#DIV/0!"},{"$error":"#DIV/0!"},{"$error":"#DIV/0!"},{"$error":"#DIV/0!"},{"$f":"問題別集計②!G26","v":0},{"$f":"問題別集計②!H26","v":0},{"$f":"問題別集計②!I26","v":0},{"$f":"問題別集計②!J26","v":0},{"$f":"問題別集計②!K26","v":0},{"$f":"問題別集計②!L26","v":0},{"$f":"問題別集計②!M26","v":0},{"$f":"問題別集計②!N26","v":0},{"$f":"問題別集計②!O26","v":0},{"$f":"問題別集計②!P26","v":0},{"$f":"問題別集計②!Q26","v":0},{"$f":"問題別集計②!R26","v":0},{"$f":"問題別集計②!S26","v":0},{"$f":"問題別集計②!T26","v":0},{"$error":"#DIV/0!"},{"$error":"#DIV/0!"},{"$error":"#DIV/0!"},{"$error":"#DIV/0!"},{"$error":"#DIV/0!"},{"$error":"#DIV/0!"},{"$error":"#DIV/0!"},{"$error":"#DIV/0!"},{"$error":"#DIV/0!"},{"$error":"#DIV/0!"},{"$error":"#DIV/0!"},{"$error":"#DIV/0!"},{"$error":"#DIV/0!"},{"$error":"#DIV/0!"}]
[null,null,null,"計",null,null,{"$f":"SUM(G16:G27)","v":0},{"$f":"SUM(H16:H27)","v":0},0,0,0,0,0,0,0,0,0,0,0,0,{"$f":"SUM(U16:U27)","v":{"$error":"#DIV/0!"}},{"$f":"SUM(V16:V27)","v":{"$error":"#DIV/0!"}},{"$f":"SUM(W16:W27)","v":{"$error":"#DIV/0!"}},{"$f":"SUM(X16:X27)","v":{"$error":"#DIV/0!"}},{"$f":"SUM(Y16:Y27)","v":{"$error":"#DIV/0!"}},{"$f":"SUM(Z16:Z27)","v":{"$error":"#DIV/0!"}},{"$error":"#DIV/0!"},{"$f":"SUM(AB16:AB27)","v":{"$error":"#DIV/0!"}},{"$f":"SUM(AC16:AC27)","v":{"$error":"#DIV/0!"}},{"$f":"SUM(AD16:AD27)","v":{"$error":"#DIV/0!"}},{"$f":"SUM(AE16:AE27)","v":{"$error":"#DIV/0!"}},{"$f":"SUM(AF16:AF27)","v":{"$error":"#DIV/0!"}},{"$f":"SUM(AG16:AG27)","v":{"$error":"#DIV/0!"}},{"$error":"#DIV/0!"},{"$f":"SUM(AI16:AI27)","v":0},{"$f":"SUM(AJ16:AJ27)","v":0},{"$f":"SUM(AK16:AK27)","v":0},{"$f":"SUM(AL16:AL27)","v":0},{"$f":"SUM(AM16:AM27)","v":0},{"$f":"SUM(AN16:AN27)","v":0},{"$f":"SUM(AO16:AO27)","v":0},{"$f":"SUM(AP16:AP27)","v":0},{"$f":"SUM(AQ16:AQ27)","v":0},{"$f":"SUM(AR16:AR27)","v":0},{"$f":"SUM(AS16:AS27)","v":0},{"$f":"SUM(AT16:AT27)","v":0},{"$f":"SUM(AU16:AU27)","v":0},{"$f":"SUM(AV16:AV27)","v":0},{"$f":"SUM(AW16:AW27)","v":{"$error":"#DIV/0!"}},{"$f":"SUM(AX16:AX27)","v":{"$error":"#DIV/0!"}},{"$f":"SUM(AY16:AY27)","v":{"$error":"#DIV/0!"}},{"$f":"SUM(AZ16:AZ27)","v":{"$error":"#DIV/0!"}},{"$f":"SUM(BA16:BA27)","v":{"$error":"#DIV/0!"}},{"$f":"SUM(BB16:BB27)","v":{"$error":"#DIV/0!"}},{"$f":"SUM(BC16:BC27)","v":{"$error":"#DIV/0!"}},{"$f":"SUM(BD16:BD27)","v":{"$error":"#DIV/0!"}},{"$f":"SUM(BE16:BE27)","v":{"$error":"#DIV/0!"}},{"$f":"SUM(BF16:BF27)","v":{"$error":"#DIV/0!"}},{"$f":"SUM(BG16:BG27)","v":{"$error":"#DIV/0!"}},{"$f":"SUM(BH16:BH27)","v":{"$error":"#DIV/0!"}},{"$f":"SUM(BI16:BI27)","v":{"$error":"#DIV/0!"}},{"$f":"SUM(BJ16:BJ27)","v":{"$error":"#DIV/0!"}},{"$f":"SUM(BK16:BK27)","v":0},{"$f":"SUM(BL16:BL27)","v":0},{"$f":"SUM(BM16:BM27)","v":0},{"$f":"SUM(BN16:BN27)","v":0},{"$f":"SUM(BO16:BO27)","v":0},{"$f":"SUM(BP16:BP27)","v":0},{"$f":"SUM(BQ16:BQ27)","v":0},{"$f":"SUM(BR16:BR27)","v":0},{"$f":"SUM(BS16:BS27)","v":0},{"$f":"SUM(BT16:BT27)","v":0},{"$f":"SUM(BU16:BU27)","v":0},{"$f":"SUM(BV16:BV27)","v":0},{"$f":"SUM(BW16:BW27)","v":0},{"$f":"SUM(BX16:BX27)","v":0},{"$f":"SUM(BY16:BY27)","v":{"$error":"#DIV/0!"}},{"$f":"SUM(BZ16:BZ27)","v":{"$error":"#DIV/0!"}},{"$f":"SUM(CA16:CA27)","v":{"$error":"#DIV/0!"}},{"$f":"SUM(CB16:CB27)","v":{"$error":"#DIV/0!"}},{"$f":"SUM(CC16:CC27)","v":{"$error":"#DIV/0!"}},{"$f":"SUM(CD16:CD27)","v":{"$error":"#DIV/0!"}},{"$f":"SUM(CE16:CE27)","v":{"$error":"#DIV/0!"}},{"$f":"SUM(CF16:CF27)","v":{"$error":"#DIV/0!"}},{"$f":"SUM(CG16:CG27)","v":{"$error":"#DIV/0!"}},{"$f":"SUM(CH16:CH27)","v":{"$error":"#DIV/0!"}},{"$f":"SUM(CI16:CI27)","v":{"$error":"#DIV/0!"}},{"$f":"SUM(CJ16:CJ27)","v":{"$error":"#DIV/0!"}},{"$f":"SUM(CK16:CK27)","v":{"$error":"#DIV/0!"}},{"$f":"SUM(CL16:CL27)","v":{"$error":"#DIV/0!"}}]
[null,"3\n（3）","あなたの家では、インターネットの使い方について、何か家庭でルールを決めていますか？あなたの家庭で決めている「インターネットの使い方のルール」にあてはまるものを、すべて選んでください。（複数回答可）",1,"利用する時間","－",{"$f":"問題別集計!G27","v":0},{"$f":"問題別集計!H27","v":0},{"$f":"問題別集計!I27","v":0},{"$f":"問題別集計!J27","v":0},{"$f":"問題別集計!K27","v":0},{"$f":"問題別集計!L27","v":0},{"$f":"問題別集計!M27","v":0},{"$f":"問題別集計!N27","v":0},{"$f":"問題別集計!O27","v":0},{"$f":"問題別集計!P27","v":0},{"$f":"問題別集計!Q27","v":0},{"$f":"問題別集計!R27","v":0},{"$f":"問題別集計!S27","v":0},{"$f":"問題別集計!T27","v":0},{"$f":"ROUND(G29/G$15,3)*100","v":{"$error":"#DIV/0!"}},{"$error":"#DIV/0!"},{"$error":"#DIV/0!"},{"$error":"#DIV/0!"},{"$error":"#DIV/0!"},{"$error":"#DIV/0!"},{"$error":"#DIV/0!"},{"$f":"ROUND(N29/N$51,3)*100","v":{"$error":"#DIV/0!"}},{"$error":"#DIV/0!"},{"$error":"#DIV/0!"},{"$error":"#DIV/0!"},{"$error":"#DIV/0!"},{"$error":"#DIV/0!"},{"$error":"#DIV/0!"},{"$f":"問題別集計③!G27","v":0},{"$f":"問題別集計③!H27","v":0},{"$f":"問題別集計③!I27","v":0},{"$f":"問題別集計③!J27","v":0},{"$f":"問題別集計③!K27","v":0},{"$f":"問題別集計③!L27","v":0},{"$f":"問題別集計③!M27","v":0},{"$f":"問題別集計③!N27","v":0},{"$f":"問題別集計③!O27","v":0},{"$f":"問題別集計③!P27","v":0},{"$f":"問題別集計③!Q27","v":0},{"$f":"問題別集計③!R27","v":0},{"$f":"問題別集計③!S27","v":0},{"$f":"問題別集計③!T27","v":0},{"$f":"ROUND(AI29/AI$15,3)*100","v":{"$error":"#DIV/0!"}},{"$error":"#DIV/0!"},{"$error":"#DIV/0!"},{"$error":"#DIV/0!"},{"$error":"#DIV/0!"},{"$error":"#DIV/0!"},{"$error":"#DIV/0!"},{"$f":"ROUND(AP29/AP$51,3)*100","v":{"$error":"#DIV/0!"}},{"$error":"#DIV/0!"},{"$error":"#DIV/0!"},{"$error":"#DIV/0!"},{"$error":"#DIV/0!"},{"$error":"#DIV/0!"},{"$error":"#DIV/0!"},{"$f":"問題別集計②!G27","v":0},{"$f":"問題別集計②!H27","v":0},{"$f":"問題別集計②!I27","v":0},{"$f":"問題別集計②!J27","v":0},{"$f":"問題別集計②!K27","v":0},{"$f":"問題別集計②!L27","v":0},{"$f":"問題別集計②!M27","v":0},{"$f":"問題別集計②!N27","v":0},{"$f":"問題別集計②!O27","v":0},{"$f":"問題別集計②!P27","v":0},{"$f":"問題別集計②!Q27","v":0},{"$f":"問題別集計②!R27","v":0},{"$f":"問題別集計②!S27","v":0},{"$f":"問題別集計②!T27","v":0},{"$f":"ROUND(BK29/BK$15,3)*100","v":{"$error":"#DIV/0!"}},{"$error":"#DIV/0!"},{"$error":"#DIV/0!"},{"$error":"#DIV/0!"},{"$error":"#DIV/0!"},{"$error":"#DIV/0!"},{"$error":"#DIV/0!"},{"$f":"ROUND(BR29/BR$51,3)*100","v":{"$error":"#DIV/0!"}},{"$error":"#DIV/0!"},{"$error":"#DIV/0!"},{"$error":"#DIV/0!"},{"$error":"#DIV/0!"},{"$error":"#DIV/0!"},{"$error":"#DIV/0!"}]
[null,null,null,2,"利用する場所","－",{"$f":"問題別集計!G28","v":0},{"$f":"問題別集計!H28","v":0},{"$f":"問題別集計!I28","v":0},{"$f":"問題別集計!J28","v":0},{"$f":"問題別集計!K28","v":0},{"$f":"問題別集計!L28","v":0},{"$f":"問題別集計!M28","v":0},{"$f":"問題別集計!N28","v":0},{"$f":"問題別集計!O28","v":0},{"$f":"問題別集計!P28","v":0},{"$f":"問題別集計!Q28","v":0},{"$f":"問題別集計!R28","v":0},{"$f":"問題別集計!S28","v":0},{"$f":"問題別集計!T28","v":0},{"$f":"ROUND(G30/G$15,3)*100","v":{"$error":"#DIV/0!"}},{"$f":"ROUND(H30/H$15,3)*100","v":{"$error":"#DIV/0!"}},{"$f":"ROUND(I30/I$15,3)*100","v":{"$error":"#DIV/0!"}},{"$f":"ROUND(J30/J$15,3)*100","v":{"$error":"#DIV/0!"}},{"$f":"ROUND(K30/K$15,3)*100","v":{"$error":"#DIV/0!"}},{"$f":"ROUND(L30/L$15,3)*100","v":{"$error":"#DIV/0!"}},{"$f":"ROUND(M30/M$15,3)*100","v":{"$error":"#DIV/0!"}},{"$f":"ROUND(N30/N$51,3)*100","v":{"$error":"#DIV/0!"}},{"$f":"ROUND(O30/O$51,3)*100","v":{"$error":"#DIV/0!"}},{"$f":"ROUND(P30/P$51,3)*100","v":{"$error":"#DIV/0!"}},{"$f":"ROUND(Q30/Q$51,3)*100","v":{"$error":"#DIV/0!"}},{"$f":"ROUND(R30/R$51,3)*100","v":{"$error":"#DIV/0!"}},{"$f":"ROUND(S30/S$51,3)*100","v":{"$error":"#DIV/0!"}},{"$f":"ROUND(T30/T$51,3)*100","v":{"$error":"#DIV/0!"}},{"$f":"問題別集計③!G28","v":0},{"$f":"問題別集計③!H28","v":0},{"$f":"問題別集計③!I28","v":0},{"$f":"問題別集計③!J28","v":0},{"$f":"問題別集計③!K28","v":0},{"$f":"問題別集計③!L28","v":0},{"$f":"問題別集計③!M28","v":0},{"$f":"問題別集計③!N28","v":0},{"$f":"問題別集計③!O28","v":0},{"$f":"問題別集計③!P28","v":0},{"$f":"問題別集計③!Q28","v":0},{"$f":"問題別集計③!R28","v":0},{"$f":"問題別集計③!S28","v":0},{"$f":"問題別集計③!T28","v":0},{"$f":"ROUND(AI30/AI$15,3)*100","v":{"$error":"#DIV/0!"}},{"$f":"ROUND(AJ30/AJ$15,3)*100","v":{"$error":"#DIV/0!"}},{"$f":"ROUND(AK30/AK$15,3)*100","v":{"$error":"#DIV/0!"}},{"$f":"ROUND(AL30/AL$15,3)*100","v":{"$error":"#DIV/0!"}},{"$f":"ROUND(AM30/AM$15,3)*100","v":{"$error":"#DIV/0!"}},{"$f":"ROUND(AN30/AN$15,3)*100","v":{"$error":"#DIV/0!"}},{"$f":"ROUND(AO30/AO$15,3)*100","v":{"$error":"#DIV/0!"}},{"$f":"ROUND(AP30/AP$51,3)*100","v":{"$error":"#DIV/0!"}},{"$f":"ROUND(AQ30/AQ$51,3)*100","v":{"$error":"#DIV/0!"}},{"$f":"ROUND(AR30/AR$51,3)*100","v":{"$error":"#DIV/0!"}},{"$f":"ROUND(AS30/AS$51,3)*100","v":{"$error":"#DIV/0!"}},{"$f":"ROUND(AT30/AT$51,3)*100","v":{"$error":"#DIV/0!"}},{"$f":"ROUND(AU30/AU$51,3)*100","v":{"$error":"#DIV/0!"}},{"$f":"ROUND(AV30/AV$51,3)*100","v":{"$error":"#DIV/0!"}},{"$f":"問題別集計②!G28","v":0},{"$f":"問題別集計②!H28","v":0},{"$f":"問題別集計②!I28","v":0},{"$f":"問題別集計②!J28","v":0},{"$f":"問題別集計②!K28","v":0},{"$f":"問題別集計②!L28","v":0},{"$f":"問題別集計②!M28","v":0},{"$f":"問題別集計②!N28","v":0},{"$f":"問題別集計②!O28","v":0},{"$f":"問題別集計②!P28","v":0},{"$f":"問題別集計②!Q28","v":0},{"$f":"問題別集計②!R28","v":0},{"$f":"問題別集計②!S28","v":0},{"$f":"問題別集計②!T28","v":0},{"$f":"ROUND(BK30/BK$15,3)*100","v":{"$error":"#DIV/0!"}},{"$f":"ROUND(BL30/BL$15,3)*100","v":{"$error":"#DIV/0!"}},{"$f":"ROUND(BM30/BM$15,3)*100","v":{"$error":"#DIV/0!"}},{"$f":"ROUND(BN30/BN$15,3)*100","v":{"$error":"#DIV/0!"}},{"$f":"ROUND(BO30/BO$15,3)*100","v":{"$error":"#DIV/0!"}},{"$f":"ROUND(BP30/BP$15,3)*100","v":{"$error":"#DIV/0!"}},{"$f":"ROUND(BQ30/BQ$15,3)*100","v":{"$error":"#DIV/0!"}},{"$f":"ROUND(BR30/BR$51,3)*100","v":{"$error":"#DIV/0!"}},{"$f":"ROUND(BS30/BS$51,3)*100","v":{"$error":"#DIV/0!"}},{"$f":"ROUND(BT30/BT$51,3)*100","v":{"$error":"#DIV/0!"}},{"$f":"ROUND(BU30/BU$51,3)*100","v":{"$error":"#DIV/0!"}},{"$f":"ROUND(BV30/BV$51,3)*100","v":{"$error":"#DIV/0!"}},{"$f":"ROUND(BW30/BW$51,3)*100","v":{"$error":"#DIV/0!"}},{"$f":"ROUND(BX30/BX$51,3)*100","v":{"$error":"#DIV/0!"}}]
[null,null,null,3,"メールやメッセージを送る相手","－",{"$f":"問題別集計!G29","v":0},{"$f":"問題別集計!H29","v":0},{"$f":"問題別集計!I29","v":0},{"$f":"問題別集計!J29","v":0},{"$f":"問題別集計!K29","v":0},{"$f":"問題別集計!L29","v":0},{"$f":"問題別集計!M29","v":0},{"$f":"問題別集計!N29","v":0},{"$f":"問題別集計!O29","v":0},{"$f":"問題別集計!P29","v":0},{"$f":"問題別集計!Q29","v":0},{"$f":"問題別集計!R29","v":0},{"$f":"問題別集計!S29","v":0},{"$f":"問題別集計!T29","v":0},{"$error":"#DIV/0!"},{"$error":"#DIV/0!"},{"$error":"#DIV/0!"},{"$error":"#DIV/0!"},{"$error":"#DIV/0!"},{"$error":"#DIV/0!"},{"$error":"#DIV/0!"},{"$error":"#DIV/0!"},{"$error":"#DIV/0!"},{"$error":"#DIV/0!"},{"$error":"#DIV/0!"},{"$error":"#DIV/0!"},{"$error":"#DIV/0!"},{"$error":"#DIV/0!"},{"$f":"問題別集計③!G29","v":0},{"$f":"問題別集計③!H29","v":0},{"$f":"問題別集計③!I29","v":0},{"$f":"問題別集計③!J29","v":0},{"$f":"問題別集計③!K29","v":0},{"$f":"問題別集計③!L29","v":0},{"$f":"問題別集計③!M29","v":0},{"$f":"問題別集計③!N29","v":0},{"$f":"問題別集計③!O29","v":0},{"$f":"問題別集計③!P29","v":0},{"$f":"問題別集計③!Q29","v":0},{"$f":"問題別集計③!R29","v":0},{"$f":"問題別集計③!S29","v":0},{"$f":"問題別集計③!T29","v":0},{"$error":"#DIV/0!"},{"$error":"#DIV/0!"},{"$error":"#DIV/0!"},{"$error":"#DIV/0!"},{"$error":"#DIV/0!"},{"$error":"#DIV/0!"},{"$error":"#DIV/0!"},{"$error":"#DIV/0!"},{"$error":"#DIV/0!"},{"$error":"#DIV/0!"},{"$error":"#DIV/0!"},{"$error":"#DIV/0!"},{"$error":"#DIV/0!"},{"$error":"#DIV/0!"},{"$f":"問題別集計②!G29","v":0},{"$f":"問題別集計②!H29","v":0},{"$f":"問題別集計②!I29","v":0},{"$f":"問題別集計②!J29","v":0},{"$f":"問題別集計②!K29","v":0},{"$f":"問題別集計②!L29","v":0},{"$f":"問題別集計②!M29","v":0},{"$f":"問題別集計②!N29","v":0},{"$f":"問題別集計②!O29","v":0},{"$f":"問題別集計②!P29","v":0},{"$f":"問題別集計②!Q29","v":0},{"$f":"問題別集計②!R29","v":0},{"$f":"問題別集計②!S29","v":0},{"$f":"問題別集計②!T29","v":0},{"$error":"#DIV/0!"},{"$error":"#DIV/0!"},{"$error":"#DIV/0!"},{"$error":"#DIV/0!"},{"$error":"#DIV/0!"},{"$error":"#DIV/0!"},{"$error":"#DIV/0!"},{"$error":"#DIV/0!"},{"$error":"#DIV/0!"},{"$error":"#DIV/0!"},{"$error":"#DIV/0!"},{"$error":"#DIV/0!"},{"$error":"#DIV/0!"},{"$error":"#DIV/0!"}]
[null,null,null,4,"利用するサイトやアプリの内容","－",{"$f":"問題別集計!G30","v":0},{"$f":"問題別集計!H30","v":0},{"$f":"問題別集計!I30","v":0},{"$f":"問題別集計!J30","v":0},{"$f":"問題別集計!K30","v":0},{"$f":"問題別集計!L30","v":0},{"$f":"問題別集計!M30","v":0},{"$f":"問題別集計!N30","v":0},{"$f":"問題別集計!O30","v":0},{"$f":"問題別集計!P30","v":0},{"$f":"問題別集計!Q30","v":0},{"$f":"問題別集計!R30","v":0},{"$f":"問題別集計!S30","v":0},{"$f":"問題別集計!T30","v":0},{"$error":"#DIV/0!"},{"$error":"#DIV/0!"},{"$error":"#DIV/0!"},{"$error":"#DIV/0!"},{"$error":"#DIV/0!"},{"$error":"#DIV/0!"},{"$error":"#DIV/0!"},{"$error":"#DIV/0!"},{"$error":"#DIV/0!"},{"$error":"#DIV/0!"},{"$error":"#DIV/0!"},{"$error":"#DIV/0!"},{"$error":"#DIV/0!"},{"$error":"#DIV/0!"},{"$f":"問題別集計③!G30","v":0},{"$f":"問題別集計③!H30","v":0},{"$f":"問題別集計③!I30","v":0},{"$f":"問題別集計③!J30","v":0},{"$f":"問題別集計③!K30","v":0},{"$f":"問題別集計③!L30","v":0},{"$f":"問題別集計③!M30","v":0},{"$f":"問題別集計③!N30","v":0},{"$f":"問題別集計③!O30","v":0},{"$f":"問題別集計③!P30","v":0},{"$f":"問題別集計③!Q30","v":0},{"$f":"問題別集計③!R30","v":0},{"$f":"問題別集計③!S30","v":0},{"$f":"問題別集計③!T30","v":0},{"$error":"#DIV/0!"},{"$error":"#DIV/0!"},{"$error":"#DIV/0!"},{"$error":"#DIV/0!"},{"$error":"#DIV/0!"},{"$error":"#DIV/0!"},{"$error":"#DIV/0!"},{"$error":"#DIV/0!"},{"$error":"#DIV/0!"},{"$error":"#DIV/0!"},{"$error":"#DIV/0!"},{"$error":"#DIV/0!"},{"$error":"#DIV/0!"},{"$error":"#DIV/0!"},{"$f":"問題別集計②!G30","v":0},{"$f":"問題別集計②!H30","v":0},{"$f":"問題別集計②!I30","v":0},{"$f":"問題別集計②!J30","v":0},{"$f":"問題別集計②!K30","v":0},{"$f":"問題別集計②!L30","v":0},{"$f":"問題別集計②!M30","v":0},{"$f":"問題別集計②!N30","v":0},{"$f":"問題別集計②!O30","v":0},{"$f":"問題別集計②!P30","v":0},{"$f":"問題別集計②!Q30","v":0},{"$f":"問題別集計②!R30","v":0},{"$f":"問題別集計②!S30","v":0},{"$f":"問題別集計②!T30","v":0},{"$error":"#DIV/0!"},{"$error":"#DIV/0!"},{"$error":"#DIV/0!"},{"$error":"#DIV/0!"},{"$error":"#DIV/0!"},{"$error":"#DIV/0!"},{"$error":"#DIV/0!"},{"$error":"#DIV/0!"},{"$error":"#DIV/0!"},{"$error":"#DIV/0!"},{"$error":"#DIV/0!"},{"$error":"#DIV/0!"},{"$error":"#DIV/0!"},{"$error":"#DIV/0!"}]
[null,null,null,5,"送信・投稿する内容","－",{"$f":"問題別集計!G31","v":0},{"$f":"問題別集計!H31","v":0},{"$f":"問題別集計!I31","v":0},{"$f":"問題別集計!J31","v":0},{"$f":"問題別集計!K31","v":0},{"$f":"問題別集計!L31","v":0},{"$f":"問題別集計!M31","v":0},{"$f":"問題別集計!N31","v":0},{"$f":"問題別集計!O31","v":0},{"$f":"問題別集計!P31","v":0},{"$f":"問題別集計!Q31","v":0},{"$f":"問題別集計!R31","v":0},{"$f":"問題別集計!S31","v":0},{"$f":"問題別集計!T31","v":0},{"$error":"#DIV/0!"},{"$error":"#DIV/0!"},{"$error":"#DIV/0!"},{"$error":"#DIV/0!"},{"$error":"#DIV/0!"},{"$error":"#DIV/0!"},{"$error":"#DIV/0!"},{"$error":"#DIV/0!"},{"$error":"#DIV/0!"},{"$error":"#DIV/0!"},{"$error":"#DIV/0!"},{"$error":"#DIV/0!"},{"$error":"#DIV/0!"},{"$error":"#DIV/0!"},{"$f":"問題別集計③!G31","v":0},{"$f":"問題別集計③!H31","v":0},{"$f":"問題別集計③!I31","v":0},{"$f":"問題別集計③!J31","v":0},{"$f":"問題別集計③!K31","v":0},{"$f":"問題別集計③!L31","v":0},{"$f":"問題別集計③!M31","v":0},{"$f":"問題別集計③!N31","v":0},{"$f":"問題別集計③!O31","v":0},{"$f":"問題別集計③!P31","v":0},{"$f":"問題別集計③!Q31","v":0},{"$f":"問題別集計③!R31","v":0},{"$f":"問題別集計③!S31","v":0},{"$f":"問題別集計③!T31","v":0},{"$error":"#DIV/0!"},{"$error":"#DIV/0!"},{"$error":"#DIV/0!"},{"$error":"#DIV/0!"},{"$error":"#DIV/0!"},{"$error":"#DIV/0!"},{"$error":"#DIV/0!"},{"$error":"#DIV/0!"},{"$error":"#DIV/0!"},{"$error":"#DIV/0!"},{"$error":"#DIV/0!"},{"$error":"#DIV/0!"},{"$error":"#DIV/0!"},{"$error":"#DIV/0!"},{"$f":"問題別集計②!G31","v":0},{"$f":"問題別集計②!H31","v":0},{"$f":"問題別集計②!I31","v":0},{"$f":"問題別集計②!J31","v":0},{"$f":"問題別集計②!K31","v":0},{"$f":"問題別集計②!L31","v":0},{"$f":"問題別集計②!M31","v":0},{"$f":"問題別集計②!N31","v":0},{"$f":"問題別集計②!O31","v":0},{"$f":"問題別集計②!P31","v":0},{"$f":"問題別集計②!Q31","v":0},{"$f":"問題別集計②!R31","v":0},{"$f":"問題別集計②!S31","v":0},{"$f":"問題別集計②!T31","v":0},{"$error":"#DIV/0!"},{"$error":"#DIV/0!"},{"$error":"#DIV/0!"},{"$error":"#DIV/0!"},{"$error":"#DIV/0!"},{"$error":"#DIV/0!"},{"$error":"#DIV/0!"},{"$error":"#DIV/0!"},{"$error":"#DIV/0!"},{"$error":"#DIV/0!"},{"$error":"#DIV/0!"},{"$error":"#DIV/0!"},{"$error":"#DIV/0!"},{"$error":"#DIV/0!"}]
[null,null,null,6,"利用者情報が漏れないようにしている","－",{"$f":"問題別集計!G32","v":0},{"$f":"問題別集計!H32","v":0},{"$f":"問題別集計!I32","v":0},{"$f":"問題別集計!J32","v":0},{"$f":"問題別集計!K32","v":0},{"$f":"問題別集計!L32","v":0},{"$f":"問題別集計!M32","v":0},{"$f":"問題別集計!N32","v":0},{"$f":"問題別集計!O32","v":0},{"$f":"問題別集計!P32","v":0},{"$f":"問題別集計!Q32","v":0},{"$f":"問題別集計!R32","v":0},{"$f":"問題別集計!S32","v":0},{"$f":"問題別集計!T32","v":0},{"$error":"#DIV/0!"},{"$error":"#DIV/0!"},{"$error":"#DIV/0!"},{"$error":"#DIV/0!"},{"$error":"#DIV/0!"},{"$error":"#DIV/0!"},{"$error":"#DIV/0!"},{"$error":"#DIV/0!"},{"$error":"#DIV/0!"},{"$error":"#DIV/0!"},{"$error":"#DIV/0!"},{"$error":"#DIV/0!"},{"$error":"#DIV/0!"},{"$error":"#DIV/0!"},{"$f":"問題別集計③!G32","v":0},{"$f":"問題別集計③!H32","v":0},{"$f":"問題別集計③!I32","v":0},{"$f":"問題別集計③!J32","v":0},{"$f":"問題別集計③!K32","v":0},{"$f":"問題別集計③!L32","v":0},{"$f":"問題別集計③!M32","v":0},{"$f":"問題別集計③!N32","v":0},{"$f":"問題別集計③!O32","v":0},{"$f":"問題別集計③!P32","v":0},{"$f":"問題別集計③!Q32","v":0},{"$f":"問題別集計③!R32","v":0},{"$f":"問題別集計③!S32","v":0},{"$f":"問題別集計③!T32","v":0},{"$error":"#DIV/0!"},{"$error":"#DIV/0!"},{"$error":"#DIV/0!"},{"$error":"#DIV/0!"},{"$error":"#DIV/0!"},{"$error":"#DIV/0!"},{"$error":"#DIV/0!"},{"$error":"#DIV/0!"},{"$error":"#DIV/0!"},{"$error":"#DIV/0!"},{"$error":"#DIV/0!"},{"$error":"#DIV/0!"},{"$error":"#DIV/0!"},{"$error":"#DIV/0!"},{"$f":"問題別集計②!G32","v":0},{"$f":"問題別集計②!H32","v":0},{"$f":"問題別集計②!I32","v":0},{"$f":"問題別集計②!J32","v":0},{"$f":"問題別集計②!K32","v":0},{"$f":"問題別集計②!L32","v":0},{"$f":"問題別集計②!M32","v":0},{"$f":"問題別集計②!N32","v":0},{"$f":"問題別集計②!O32","v":0},{"$f":"問題別集計②!P32","v":0},{"$f":"問題別集計②!Q32","v":0},{"$f":"問題別集計②!R32","v":0},{"$f":"問題別集計②!S32","v":0},{"$f":"問題別集計②!T32","v":0},{"$error":"#DIV/0!"},{"$error":"#DIV/0!"},{"$error":"#DIV/0!"},{"$error":"#DIV/0!"},{"$error":"#DIV/0!"},{"$error":"#DIV/0!"},{"$error":"#DIV/0!"},{"$error":"#DIV/0!"},{"$error":"#DIV/0!"},{"$error":"#DIV/0!"},{"$error":"#DIV/0!"},{"$error":"#DIV/0!"},{"$error":"#DIV/0!"},{"$error":"#DIV/0!"}]
[null,null,null,7,"ゲームやアプリの利用料金の上限や課金の利用方法","－",{"$f":"問題別集計!G33","v":0},{"$f":"問題別集計!H33","v":0},{"$f":"問題別集計!I33","v":0},{"$f":"問題別集計!J33","v":0},{"$f":"問題別集計!K33","v":0},{"$f":"問題別集計!L33","v":0},{"$f":"問題別集計!M33","v":0},{"$f":"問題別集計!N33","v":0},{"$f":"問題別集計!O33","v":0},{"$f":"問題別集計!P33","v":0},{"$f":"問題別集計!Q33","v":0},{"$f":"問題別集計!R33","v":0},{"$f":"問題別集計!S33","v":0},{"$f":"問題別集計!T33","v":0},{"$error":"#DIV/0!"},{"$error":"#DIV/0!"},{"$error":"#DIV/0!"},{"$error":"#DIV/0!"},{"$error":"#DIV/0!"},{"$error":"#DIV/0!"},{"$error":"#DIV/0!"},{"$error":"#DIV/0!"},{"$error":"#DIV/0!"},{"$error":"#DIV/0!"},{"$error":"#DIV/0!"},{"$error":"#DIV/0!"},{"$error":"#DIV/0!"},{"$error":"#DIV/0!"},{"$f":"問題別集計③!G33","v":0},{"$f":"問題別集計③!H33","v":0},{"$f":"問題別集計③!I33","v":0},{"$f":"問題別集計③!J33","v":0},{"$f":"問題別集計③!K33","v":0},{"$f":"問題別集計③!L33","v":0},{"$f":"問題別集計③!M33","v":0},{"$f":"問題別集計③!N33","v":0},{"$f":"問題別集計③!O33","v":0},{"$f":"問題別集計③!P33","v":0},{"$f":"問題別集計③!Q33","v":0},{"$f":"問題別集計③!R33","v":0},{"$f":"問題別集計③!S33","v":0},{"$f":"問題別集計③!T33","v":0},{"$error":"#DIV/0!"},{"$error":"#DIV/0!"},{"$error":"#DIV/0!"},{"$error":"#DIV/0!"},{"$error":"#DIV/0!"},{"$error":"#DIV/0!"},{"$error":"#DIV/0!"},{"$error":"#DIV/0!"},{"$error":"#DIV/0!"},{"$error":"#DIV/0!"},{"$error":"#DIV/0!"},{"$error":"#DIV/0!"},{"$error":"#DIV/0!"},{"$error":"#DIV/0!"},{"$f":"問題別集計②!G33","v":0},{"$f":"問題別集計②!H33","v":0},{"$f":"問題別集計②!I33","v":0},{"$f":"問題別集計②!J33","v":0},{"$f":"問題別集計②!K33","v":0},{"$f":"問題別集計②!L33","v":0},{"$f":"問題別集計②!M33","v":0},{"$f":"問題別集計②!N33","v":0},{"$f":"問題別集計②!O33","v":0},{"$f":"問題別集計②!P33","v":0},{"$f":"問題別集計②!Q33","v":0},{"$f":"問題別集計②!R33","v":0},{"$f":"問題別集計②!S33","v":0},{"$f":"問題別集計②!T33","v":0},{"$error":"#DIV/0!"},{"$error":"#DIV/0!"},{"$error":"#DIV/0!"},{"$error":"#DIV/0!"},{"$error":"#DIV/0!"},{"$error":"#DIV/0!"},{"$error":"#DIV/0!"},{"$error":"#DIV/0!"},{"$error":"#DIV/0!"},{"$error":"#DIV/0!"},{"$error":"#DIV/0!"},{"$error":"#DIV/0!"},{"$error":"#DIV/0!"},{"$error":"#DIV/0!"}]
[null,null,null,8,"困ったときにはすぐに保護者に相談する","－",{"$f":"問題別集計!G34","v":0},{"$f":"問題別集計!H34","v":0},{"$f":"問題別集計!I34","v":0},{"$f":"問題別集計!J34","v":0},{"$f":"問題別集計!K34","v":0},{"$f":"問題別集計!L34","v":0},{"$f":"問題別集計!M34","v":0},{"$f":"問題別集計!N34","v":0},{"$f":"問題別集計!O34","v":0},{"$f":"問題別集計!P34","v":0},{"$f":"問題別集計!Q34","v":0},{"$f":"問題別集計!R34","v":0},{"$f":"問題別集計!S34","v":0},{"$f":"問題別集計!T34","v":0},{"$error":"#DIV/0!"},{"$error":"#DIV/0!"},{"$error":"#DIV/0!"},{"$error":"#DIV/0!"},{"$error":"#DIV/0!"},{"$error":"#DIV/0!"},{"$error":"#DIV/0!"},{"$error":"#DIV/0!"},{"$error":"#DIV/0!"},{"$error":"#DIV/0!"},{"$error":"#DIV/0!"},{"$error":"#DIV/0!"},{"$error":"#DIV/0!"},{"$error":"#DIV/0!"},{"$f":"問題別集計③!G34","v":0},{"$f":"問題別集計③!H34","v":0},{"$f":"問題別集計③!I34","v":0},{"$f":"問題別集計③!J34","v":0},{"$f":"問題別集計③!K34","v":0},{"$f":"問題別集計③!L34","v":0},{"$f":"問題別集計③!M34","v":0},{"$f":"問題別集計③!N34","v":0},{"$f":"問題別集計③!O34","v":0},{"$f":"問題別集計③!P34","v":0},{"$f":"問題別集計③!Q34","v":0},{"$f":"問題別集計③!R34","v":0},{"$f":"問題別集計③!S34","v":0},{"$f":"問題別集計③!T34","v":0},{"$error":"#DIV/0!"},{"$error":"#DIV/0!"},{"$error":"#DIV/0!"},{"$error":"#DIV/0!"},{"$error":"#DIV/0!"},{"$error":"#DIV/0!"},{"$error":"#DIV/0!"},{"$error":"#DIV/0!"},{"$error":"#DIV/0!"},{"$error":"#DIV/0!"},{"$error":"#DIV/0!"},{"$error":"#DIV/0!"},{"$error":"#DIV/0!"},{"$error":"#DIV/0!"},{"$f":"問題別集計②!G34","v":0},{"$f":"問題別集計②!H34","v":0},{"$f":"問題別集計②!I34","v":0},{"$f":"問題別集計②!J34","v":0},{"$f":"問題別集計②!K34","v":0},{"$f":"問題別集計②!L34","v":0},{"$f":"問題別集計②!M34","v":0},{"$f":"問題別集計②!N34","v":0},{"$f":"問題別集計②!O34","v":0},{"$f":"問題別集計②!P34","v":0},{"$f":"問題別集計②!Q34","v":0},{"$f":"問題別集計②!R34","v":0},{"$f":"問題別集計②!S34","v":0},{"$f":"問題別集計②!T34","v":0},{"$error":"#DIV/0!"},{"$error":"#DIV/0!"},{"$error":"#DIV/0!"},{"$error":"#DIV/0!"},{"$error":"#DIV/0!"},{"$error":"#DIV/0!"},{"$error":"#DIV/0!"},{"$error":"#DIV/0!"},{"$error":"#DIV/0!"},{"$error":"#DIV/0!"},{"$error":"#DIV/0!"},{"$error":"#DIV/0!"},{"$error":"#DIV/0!"},{"$error":"#DIV/0!"}]
[null,null,null,9,"使用する際のルールは特にない","－",{"$f":"問題別集計!G35","v":0},{"$f":"問題別集計!H35","v":0},{"$f":"問題別集計!I35","v":0},{"$f":"問題別集計!J35","v":0},{"$f":"問題別集計!K35","v":0},{"$f":"問題別集計!L35","v":0},{"$f":"問題別集計!M35","v":0},{"$f":"問題別集計!N35","v":0},{"$f":"問題別集計!O35","v":0},{"$f":"問題別集計!P35","v":0},{"$f":"問題別集計!Q35","v":0},{"$f":"問題別集計!R35","v":0},{"$f":"問題別集計!S35","v":0},{"$f":"問題別集計!T35","v":0},{"$error":"#DIV/0!"},{"$error":"#DIV/0!"},{"$error":"#DIV/0!"},{"$error":"#DIV/0!"},{"$error":"#DIV/0!"},{"$error":"#DIV/0!"},{"$error":"#DIV/0!"},{"$error":"#DIV/0!"},{"$error":"#DIV/0!"},{"$error":"#DIV/0!"},{"$error":"#DIV/0!"},{"$error":"#DIV/0!"},{"$error":"#DIV/0!"},{"$error":"#DIV/0!"},{"$f":"問題別集計③!G35","v":0},{"$f":"問題別集計③!H35","v":0},{"$f":"問題別集計③!I35","v":0},{"$f":"問題別集計③!J35","v":0},{"$f":"問題別集計③!K35","v":0},{"$f":"問題別集計③!L35","v":0},{"$f":"問題別集計③!M35","v":0},{"$f":"問題別集計③!N35","v":0},{"$f":"問題別集計③!O35","v":0},{"$f":"問題別集計③!P35","v":0},{"$f":"問題別集計③!Q35","v":0},{"$f":"問題別集計③!R35","v":0},{"$f":"問題別集計③!S35","v":0},{"$f":"問題別集計③!T35","v":0},{"$error":"#DIV/0!"},{"$error":"#DIV/0!"},{"$error":"#DIV/0!"},{"$error":"#DIV/0!"},{"$error":"#DIV/0!"},{"$error":"#DIV/0!"},{"$error":"#DIV/0!"},{"$error":"#DIV/0!"},{"$error":"#DIV/0!"},{"$error":"#DIV/0!"},{"$error":"#DIV/0!"},{"$error":"#DIV/0!"},{"$error":"#DIV/0!"},{"$error":"#DIV/0!"},{"$f":"問題別集計②!G35","v":0},{"$f":"問題別集計②!H35","v":0},{"$f":"問題別集計②!I35","v":0},{"$f":"問題別集計②!J35","v":0},{"$f":"問題別集計②!K35","v":0},{"$f":"問題別集計②!L35","v":0},{"$f":"問題別集計②!M35","v":0},{"$f":"問題別集計②!N35","v":0},{"$f":"問題別集計②!O35","v":0},{"$f":"問題別集計②!P35","v":0},{"$f":"問題別集計②!Q35","v":0},{"$f":"問題別集計②!R35","v":0},{"$f":"問題別集計②!S35","v":0},{"$f":"問題別集計②!T35","v":0},{"$error":"#DIV/0!"},{"$error":"#DIV/0!"},{"$error":"#DIV/0!"},{"$error":"#DIV/0!"},{"$error":"#DIV/0!"},{"$error":"#DIV/0!"},{"$error":"#DIV/0!"},{"$error":"#DIV/0!"},{"$error":"#DIV/0!"},{"$error":"#DIV/0!"},{"$error":"#DIV/0!"},{"$error":"#DIV/0!"},{"$error":"#DIV/0!"},{"$error":"#DIV/0!"}]
[null,null,null,10,"その他","－",{"$f":"問題別集計!G36","v":0},{"$f":"問題別集計!H36","v":0},{"$f":"問題別集計!I36","v":0},{"$f":"問題別集計!J36","v":0},{"$f":"問題別集計!K36","v":0},{"$f":"問題別集計!L36","v":0},{"$f":"問題別集計!M36","v":0},{"$f":"問題別集計!N36","v":0},{"$f":"問題別集計!O36","v":0},{"$f":"問題別集計!P36","v":0},{"$f":"問題別集計!Q36","v":0},{"$f":"問題別集計!R36","v":0},{"$f":"問題別集計!S36","v":0},{"$f":"問題別集計!T36","v":0},{"$error":"#DIV/0!"},{"$error":"#DIV/0!"},{"$error":"#DIV/0!"},{"$error":"#DIV/0!"},{"$error":"#DIV/0!"},{"$error":"#DIV/0!"},{"$error":"#DIV/0!"},{"$error":"#DIV/0!"},{"$error":"#DIV/0!"},{"$error":"#DIV/0!"},{"$error":"#DIV/0!"},{"$error":"#DIV/0!"},{"$error":"#DIV/0!"},{"$error":"#DIV/0!"},{"$f":"問題別集計③!G36","v":0},{"$f":"問題別集計③!H36","v":0},{"$f":"問題別集計③!I36","v":0},{"$f":"問題別集計③!J36","v":0},{"$f":"問題別集計③!K36","v":0},{"$f":"問題別集計③!L36","v":0},{"$f":"問題別集計③!M36","v":0},{"$f":"問題別集計③!N36","v":0},{"$f":"問題別集計③!O36","v":0},{"$f":"問題別集計③!P36","v":0},{"$f":"問題別集計③!Q36","v":0},{"$f":"問題別集計③!R36","v":0},{"$f":"問題別集計③!S36","v":0},{"$f":"問題別集計③!T36","v":0},{"$error":"#DIV/0!"},{"$error":"#DIV/0!"},{"$error":"#DIV/0!"},{"$error":"#DIV/0!"},{"$error":"#DIV/0!"},{"$error":"#DIV/0!"},{"$error":"#DIV/0!"},{"$error":"#DIV/0!"},{"$error":"#DIV/0!"},{"$error":"#DIV/0!"},{"$error":"#DIV/0!"},{"$error":"#DIV/0!"},{"$error":"#DIV/0!"},{"$error":"#DIV/0!"},{"$f":"問題別集計②!G36","v":0},{"$f":"問題別集計②!H36","v":0},{"$f":"問題別集計②!I36","v":0},{"$f":"問題別集計②!J36","v":0},{"$f":"問題別集計②!K36","v":0},{"$f":"問題別集計②!L36","v":0},{"$f":"問題別集計②!M36","v":0},{"$f":"問題別集計②!N36","v":0},{"$f":"問題別集計②!O36","v":0},{"$f":"問題別集計②!P36","v":0},{"$f":"問題別集計②!Q36","v":0},{"$f":"問題別集計②!R36","v":0},{"$f":"問題別集計②!S36","v":0},{"$f":"問題別集計②!T36","v":0},{"$error":"#DIV/0!"},{"$error":"#DIV/0!"},{"$error":"#DIV/0!"},{"$error":"#DIV/0!"},{"$error":"#DIV/0!"},{"$error":"#DIV/0!"},{"$error":"#DIV/0!"},{"$error":"#DIV/0!"},{"$error":"#DIV/0!"},{"$error":"#DIV/0!"},{"$error":"#DIV/0!"},{"$error":"#DIV/0!"},{"$error":"#DIV/0!"},{"$error":"#DIV/0!"}]
[null,null,null,"計",null,null,{"$f":"SUM(G29:G38)","v":0},{"$f":"SUM(H29:H38)","v":0},0,0,0,0,0,0,0,0,0,0,0,0,{"$f":"SUM(U29:U38)","v":{"$error":"#DIV/0!"}},{"$f":"SUM(V29:V38)","v":{"$error":"#DIV/0!"}},{"$f":"SUM(W29:W38)","v":{"$error":"#DIV/0!"}},{"$f":"SUM(X29:X38)","v":{"$error":"#DIV/0!"}},{"$f":"SUM(Y29:Y38)","v":{"$error":"#DIV/0!"}},{"$f":"SUM(Z29:Z38)","v":{"$error":"#DIV/0!"}},{"$error":"#DIV/0!"},{"$f":"SUM(AB29:AB38)","v":{"$error":"#DIV/0!"}},{"$f":"SUM(AC29:AC38)","v":{"$error":"#DIV/0!"}},{"$f":"SUM(AD29:AD38)","v":{"$error":"#DIV/0!"}},{"$f":"SUM(AE29:AE38)","v":{"$error":"#DIV/0!"}},{"$f":"SUM(AF29:AF38)","v":{"$error":"#DIV/0!"}},{"$f":"SUM(AG29:AG38)","v":{"$error":"#DIV/0!"}},{"$error":"#DIV/0!"},{"$f":"SUM(AI29:AI38)","v":0},{"$f":"SUM(AJ29:AJ38)","v":0},{"$f":"SUM(AK29:AK38)","v":0},{"$f":"SUM(AL29:AL38)","v":0},{"$f":"SUM(AM29:AM38)","v":0},{"$f":"SUM(AN29:AN38)","v":0},{"$f":"SUM(AO29:AO38)","v":0},{"$f":"SUM(AP29:AP38)","v":0},{"$f":"SUM(AQ29:AQ38)","v":0},{"$f":"SUM(AR29:AR38)","v":0},{"$f":"SUM(AS29:AS38)","v":0},{"$f":"SUM(AT29:AT38)","v":0},{"$f":"SUM(AU29:AU38)","v":0},{"$f":"SUM(AV29:AV38)","v":0},{"$f":"SUM(AW29:AW38)","v":{"$error":"#DIV/0!"}},{"$f":"SUM(AX29:AX38)","v":{"$error":"#DIV/0!"}},{"$f":"SUM(AY29:AY38)","v":{"$error":"#DIV/0!"}},{"$f":"SUM(AZ29:AZ38)","v":{"$error":"#DIV/0!"}},{"$f":"SUM(BA29:BA38)","v":{"$error":"#DIV/0!"}},{"$f":"SUM(BB29:BB38)","v":{"$error":"#DIV/0!"}},{"$f":"SUM(BC29:BC38)","v":{"$error":"#DIV/0!"}},{"$f":"SUM(BD29:BD38)","v":{"$error":"#DIV/0!"}},{"$f":"SUM(BE29:BE38)","v":{"$error":"#DIV/0!"}},{"$f":"SUM(BF29:BF38)","v":{"$error":"#DIV/0!"}},{"$f":"SUM(BG29:BG38)","v":{"$error":"#DIV/0!"}},{"$f":"SUM(BH29:BH38)","v":{"$error":"#DIV/0!"}},{"$f":"SUM(BI29:BI38)","v":{"$error":"#DIV/0!"}},{"$f":"SUM(BJ29:BJ38)","v":{"$error":"#DIV/0!"}},{"$f":"SUM(BK29:BK38)","v":0},{"$f":"SUM(BL29:BL38)","v":0},{"$f":"SUM(BM29:BM38)","v":0},{"$f":"SUM(BN29:BN38)","v":0},{"$f":"SUM(BO29:BO38)","v":0},{"$f":"SUM(BP29:BP38)","v":0},{"$f":"SUM(BQ29:BQ38)","v":0},{"$f":"SUM(BR29:BR38)","v":0},{"$f":"SUM(BS29:BS38)","v":0},{"$f":"SUM(BT29:BT38)","v":0},{"$f":"SUM(BU29:BU38)","v":0},{"$f":"SUM(BV29:BV38)","v":0},{"$f":"SUM(BW29:BW38)","v":0},{"$f":"SUM(BX29:BX38)","v":0},{"$f":"SUM(BY29:BY38)","v":{"$error":"#DIV/0!"}},{"$f":"SUM(BZ29:BZ38)","v":{"$error":"#DIV/0!"}},{"$f":"SUM(CA29:CA38)","v":{"$error":"#DIV/0!"}},{"$f":"SUM(CB29:CB38)","v":{"$error":"#DIV/0!"}},{"$f":"SUM(CC29:CC38)","v":{"$error":"#DIV/0!"}},{"$f":"SUM(CD29:CD38)","v":{"$error":"#DIV/0!"}},{"$f":"SUM(CE29:CE38)","v":{"$error":"#DIV/0!"}},{"$f":"SUM(CF29:CF38)","v":{"$error":"#DIV/0!"}},{"$f":"SUM(CG29:CG38)","v":{"$error":"#DIV/0!"}},{"$f":"SUM(CH29:CH38)","v":{"$error":"#DIV/0!"}},{"$f":"SUM(CI29:CI38)","v":{"$error":"#DIV/0!"}},{"$f":"SUM(CJ29:CJ38)","v":{"$error":"#DIV/0!"}},{"$f":"SUM(CK29:CK38)","v":{"$error":"#DIV/0!"}},{"$f":"SUM(CL29:CL38)","v":{"$error":"#DIV/0!"}}]
[null,"－\n(4)","【保護者のみ】\n　あなた（保護者自身）は、子供が安全に安心してインターネットを利用することができるよう、保護者としてどのような取組をされていますか？あてはまるものをすべて選んでください。（複数回答可）",1,"大人の目の届く範囲で使わせている","－",{"$f":"問題別集計!G37","v":0},{"$f":"問題別集計!H37","v":0},{"$f":"問題別集計!I37","v":0},{"$f":"問題別集計!J37","v":0},{"$f":"問題別集計!K37","v":0},{"$f":"問題別集計!L37","v":0},{"$f":"問題別集計!M37","v":0},{"$f":"問題別集計!N37","v":0},{"$f":"問題別集計!O37","v":0},{"$f":"問題別集計!P37","v":0},{"$f":"問題別集計!Q37","v":0},{"$f":"問題別集計!R37","v":0},{"$f":"問題別集計!S37","v":0},{"$f":"問題別集計!T37","v":0},null,null,null,null,null,null,null,{"$f":"ROUND(N40/N$51,3)*100","v":{"$error":"#DIV/0!"}},{"$error":"#DIV/0!"},{"$error":"#DIV/0!"},{"$error":"#DIV/0!"},{"$error":"#DIV/0!"},{"$error":"#DIV/0!"},{"$error":"#DIV/0!"},null,null,null,null,null,null,null,{"$f":"問題別集計③!N37","v":0},{"$f":"問題別集計③!O37","v":0},{"$f":"問題別集計③!P37","v":0},{"$f":"問題別集計③!Q37","v":0},{"$f":"問題別集計③!R37","v":0},{"$f":"問題別集計③!S37","v":0},{"$f":"問題別集計③!T37","v":0},null,null,null,null,null,null,null,{"$f":"ROUND(AP40/AP$51,3)*100","v":{"$error":"#DIV/0!"}},{"$error":"#DIV/0!"},{"$error":"#DIV/0!"},{"$error":"#DIV/0!"},{"$error":"#DIV/0!"},{"$error":"#DIV/0!"},{"$error":"#DIV/0!"},null,null,null,null,null,null,null,{"$f":"問題別集計②!N37","v":0},{"$f":"問題別集計②!O37","v":0},{"$f":"問題別集計②!P37","v":0},{"$f":"問題別集計②!Q37","v":0},{"$f":"問題別集計②!R37","v":0},{"$f":"問題別集計②!S37","v":0},{"$f":"問題別集計②!T37","v":0},null,null,null,null,null,null,null,{"$f":"ROUND(BR40/BR$51,3)*100","v":{"$error":"#DIV/0!"}},{"$error":"#DIV/0!"},{"$error":"#DIV/0!"},{"$error":"#DIV/0!"},{"$error":"#DIV/0!"},{"$error":"#DIV/0!"},{"$error":"#DIV/0!"}]
[null,null,null,2,"利用する際に時間や場所を指定している","－",{"$f":"問題別集計!G38","v":0},{"$f":"問題別集計!H38","v":0},{"$f":"問題別集計!I38","v":0},{"$f":"問題別集計!J38","v":0},{"$f":"問題別集計!K38","v":0},{"$f":"問題別集計!L38","v":0},{"$f":"問題別集計!M38","v":0},{"$f":"問題別集計!N38","v":0},{"$f":"問題別集計!O38","v":0},{"$f":"問題別集計!P38","v":0},{"$f":"問題別集計!Q38","v":0},{"$f":"問題別集計!R38","v":0},{"$f":"問題別集計!S38","v":0},{"$f":"問題別集計!T38","v":0},null,null,null,null,null,null,null,{"$f":"ROUND(N41/N$51,3)*100","v":{"$error":"#DIV/0!"}},{"$f":"ROUND(O41/O$51,3)*100","v":{"$error":"#DIV/0!"}},{"$f":"ROUND(P41/P$51,3)*100","v":{"$error":"#DIV/0!"}},{"$f":"ROUND(Q41/Q$51,3)*100","v":{"$error":"#DIV/0!"}},{"$f":"ROUND(R41/R$51,3)*100","v":{"$error":"#DIV/0!"}},{"$f":"ROUND(S41/S$51,3)*100","v":{"$error":"#DIV/0!"}},{"$f":"ROUND(T41/T$51,3)*100","v":{"$error":"#DIV/0!"}},null,null,null,null,null,null,null,{"$f":"問題別集計③!N38","v":0},{"$f":"問題別集計③!O38","v":0},{"$f":"問題別集計③!P38","v":0},{"$f":"問題別集計③!Q38","v":0},{"$f":"問題別集計③!R38","v":0},{"$f":"問題別集計③!S38","v":0},{"$f":"問題別集計③!T38","v":0},null,null,null,null,null,null,null,{"$f":"ROUND(AP41/AP$51,3)*100","v":{"$error":"#DIV/0!"}},{"$f":"ROUND(AQ41/AQ$51,3)*100","v":{"$error":"#DIV/0!"}},{"$f":"ROUND(AR41/AR$51,3)*100","v":{"$error":"#DIV/0!"}},{"$f":"ROUND(AS41/AS$51,3)*100","v":{"$error":"#DIV/0!"}},{"$f":"ROUND(AT41/AT$51,3)*100","v":{"$error":"#DIV/0!"}},{"$f":"ROUND(AU41/AU$51,3)*100","v":{"$error":"#DIV/0!"}},{"$f":"ROUND(AV41/AV$51,3)*100","v":{"$error":"#DIV/0!"}},null,null,null,null,null,null,null,{"$f":"問題別集計②!N38","v":0},{"$f":"問題別集計②!O38","v":0},{"$f":"問題別集計②!P38","v":0},{"$f":"問題別集計②!Q38","v":0},{"$f":"問題別集計②!R38","v":0},{"$f":"問題別集計②!S38","v":0},{"$f":"問題別集計②!T38","v":0},null,null,null,null,null,null,null,{"$f":"ROUND(BR41/BR$51,3)*100","v":{"$error":"#DIV/0!"}},{"$f":"ROUND(BS41/BS$51,3)*100","v":{"$error":"#DIV/0!"}},{"$f":"ROUND(BT41/BT$51,3)*100","v":{"$error":"#DIV/0!"}},{"$f":"ROUND(BU41/BU$51,3)*100","v":{"$error":"#DIV/0!"}},{"$f":"ROUND(BV41/BV$51,3)*100","v":{"$error":"#DIV/0!"}},{"$f":"ROUND(BW41/BW$51,3)*100","v":{"$error":"#DIV/0!"}},{"$f":"ROUND(BX41/BX$51,3)*100","v":{"$error":"#DIV/0!"}}]
[null,null,null,3,"成長段階に合わせて、子供向けの機器やサービスを使わせている","－",{"$f":"問題別集計!G39","v":0},{"$f":"問題別集計!H39","v":0},{"$f":"問題別集計!I39","v":0},{"$f":"問題別集計!J39","v":0},{"$f":"問題別集計!K39","v":0},{"$f":"問題別集計!L39","v":0},{"$f":"問題別集計!M39","v":0},{"$f":"問題別集計!N39","v":0},{"$f":"問題別集計!O39","v":0},{"$f":"問題別集計!P39","v":0},{"$f":"問題別集計!Q39","v":0},{"$f":"問題別集計!R39","v":0},{"$f":"問題別集計!S39","v":0},{"$f":"問題別集計!T39","v":0},null,null,null,null,null,null,null,{"$error":"#DIV/0!"},{"$error":"#DIV/0!"},{"$error":"#DIV/0!"},{"$error":"#DIV/0!"},{"$error":"#DIV/0!"},{"$error":"#DIV/0!"},{"$error":"#DIV/0!"},null,null,null,null,null,null,null,{"$f":"問題別集計③!N39","v":0},{"$f":"問題別集計③!O39","v":0},{"$f":"問題別集計③!P39","v":0},{"$f":"問題別集計③!Q39","v":0},{"$f":"問題別集計③!R39","v":0},{"$f":"問題別集計③!S39","v":0},{"$f":"問題別集計③!T39","v":0},null,null,null,null,null,null,null,{"$error":"#DIV/0!"},{"$error":"#DIV/0!"},{"$error":"#DIV/0!"},{"$error":"#DIV/0!"},{"$error":"#DIV/0!"},{"$error":"#DIV/0!"},{"$error":"#DIV/0!"},null,null,null,null,null,null,null,{"$f":"問題別集計②!N39","v":0},{"$f":"問題別集計②!O39","v":0},{"$f":"問題別集計②!P39","v":0},{"$f":"問題別集計②!Q39","v":0},{"$f":"問題別集計②!R39","v":0},{"$f":"問題別集計②!S39","v":0},{"$f":"問題別集計②!T39","v":0},null,null,null,null,null,null,null,{"$error":"#DIV/0!"},{"$error":"#DIV/0!"},{"$error":"#DIV/0!"},{"$error":"#DIV/0!"},{"$error":"#DIV/0!"},{"$error":"#DIV/0!"},{"$error":"#DIV/0!"}]
[null,null,null,4,"普段の会話やコミュニケーションの中で、子供のインターネット利用状況を把握している","－",{"$f":"問題別集計!G40","v":0},{"$f":"問題別集計!H40","v":0},{"$f":"問題別集計!I40","v":0},{"$f":"問題別集計!J40","v":0},{"$f":"問題別集計!K40","v":0},{"$f":"問題別集計!L40","v":0},{"$f":"問題別集計!M40","v":0},{"$f":"問題別集計!N40","v":0},{"$f":"問題別集計!O40","v":0},{"$f":"問題別集計!P40","v":0},{"$f":"問題別集計!Q40","v":0},{"$f":"問題別集計!R40","v":0},{"$f":"問題別集計!S40","v":0},{"$f":"問題別集計!T40","v":0},null,null,null,null,null,null,null,{"$error":"#DIV/0!"},{"$error":"#DIV/0!"},{"$error":"#DIV/0!"},{"$error":"#DIV/0!"},{"$error":"#DIV/0!"},{"$error":"#DIV/0!"},{"$error":"#DIV/0!"},null,null,null,null,null,null,null,{"$f":"問題別集計③!N40","v":0},{"$f":"問題別集計③!O40","v":0},{"$f":"問題別集計③!P40","v":0},{"$f":"問題別集計③!Q40","v":0},{"$f":"問題別集計③!R40","v":0},{"$f":"問題別集計③!S40","v":0},{"$f":"問題別集計③!T40","v":0},null,null,null,null,null,null,null,{"$error":"#DIV/0!"},{"$error":"#DIV/0!"},{"$error":"#DIV/0!"},{"$error":"#DIV/0!"},{"$error":"#DIV/0!"},{"$error":"#DIV/0!"},{"$error":"#DIV/0!"},null,null,null,null,null,null,null,{"$f":"問題別集計②!N40","v":0},{"$f":"問題別集計②!O40","v":0},{"$f":"問題別集計②!P40","v":0},{"$f":"問題別集計②!Q40","v":0},{"$f":"問題別集計②!R40","v":0},{"$f":"問題別集計②!S40","v":0},{"$f":"問題別集計②!T40","v":0},null,null,null,null,null,null,null,{"$error":"#DIV/0!"},{"$error":"#DIV/0!"},{"$error":"#DIV/0!"},{"$error":"#DIV/0!"},{"$error":"#DIV/0!"},{"$error":"#DIV/0!"},{"$error":"#DIV/0!"}]
[null,null,null,5,"フィルタリングを使っている","－",{"$f":"問題別集計!G41","v":0},{"$f":"問題別集計!H41","v":0},{"$f":"問題別集計!I41","v":0},{"$f":"問題別集計!J41","v":0},{"$f":"問題別集計!K41","v":0},{"$f":"問題別集計!L41","v":0},{"$f":"問題別集計!M41","v":0},{"$f":"問題別集計!N41","v":0},{"$f":"問題別集計!O41","v":0},{"$f":"問題別集計!P41","v":0},{"$f":"問題別集計!Q41","v":0},{"$f":"問題別集計!R41","v":0},{"$f":"問題別集計!S41","v":0},{"$f":"問題別集計!T41","v":0},null,null,null,null,null,null,null,{"$error":"#DIV/0!"},{"$error":"#DIV/0!"},{"$error":"#DIV/0!"},{"$error":"#DIV/0!"},{"$error":"#DIV/0!"},{"$error":"#DIV/0!"},{"$error":"#DIV/0!"},null,null,null,null,null,null,null,{"$f":"問題別集計③!N41","v":0},{"$f":"問題別集計③!O41","v":0},{"$f":"問題別集計③!P41","v":0},{"$f":"問題別集計③!Q41","v":0},{"$f":"問題別集計③!R41","v":0},{"$f":"問題別集計③!S41","v":0},{"$f":"問題別集計③!T41","v":0},null,null,null,null,null,null,null,{"$error":"#DIV/0!"},{"$error":"#DIV/0!"},{"$error":"#DIV/0!"},{"$error":"#DIV/0!"},{"$error":"#DIV/0!"},{"$error":"#DIV/0!"},{"$error":"#DIV/0!"},null,null,null,null,null,null,null,{"$f":"問題別集計②!N41","v":0},{"$f":"問題別集計②!O41","v":0},{"$f":"問題別集計②!P41","v":0},{"$f":"問題別集計②!Q41","v":0},{"$f":"問題別集計②!R41","v":0},{"$f":"問題別集計②!S41","v":0},{"$f":"問題別集計②!T41","v":0},null,null,null,null,null,null,null,{"$error":"#DIV/0!"},{"$error":"#DIV/0!"},{"$error":"#DIV/0!"},{"$error":"#DIV/0!"},{"$error":"#DIV/0!"},{"$error":"#DIV/0!"},{"$error":"#DIV/0!"}]
[null,null,null,6,"その他の方法で管理を行っている","－",{"$f":"問題別集計!G42","v":0},{"$f":"問題別集計!H42","v":0},{"$f":"問題別集計!I42","v":0},{"$f":"問題別集計!J42","v":0},{"$f":"問題別集計!K42","v":0},{"$f":"問題別集計!L42","v":0},{"$f":"問題別集計!M42","v":0},{"$f":"問題別集計!N42","v":0},{"$f":"問題別集計!O42","v":0},{"$f":"問題別集計!P42","v":0},{"$f":"問題別集計!Q42","v":0},{"$f":"問題別集計!R42","v":0},{"$f":"問題別集計!S42","v":0},{"$f":"問題別集計!T42","v":0},null,null,null,null,null,null,null,{"$error":"#DIV/0!"},{"$error":"#DIV/0!"},{"$error":"#DIV/0!"},{"$error":"#DIV/0!"},{"$error":"#DIV/0!"},{"$error":"#DIV/0!"},{"$error":"#DIV/0!"},null,null,null,null,null,null,null,{"$f":"問題別集計③!N42","v":0},{"$f":"問題別集計③!O42","v":0},{"$f":"問題別集計③!P42","v":0},{"$f":"問題別集計③!Q42","v":0},{"$f":"問題別集計③!R42","v":0},{"$f":"問題別集計③!S42","v":0},{"$f":"問題別集計③!T42","v":0},null,null,null,null,null,null,null,{"$error":"#DIV/0!"},{"$error":"#DIV/0!"},{"$error":"#DIV/0!"},{"$error":"#DIV/0!"},{"$error":"#DIV/0!"},{"$error":"#DIV/0!"},{"$error":"#DIV/0!"},null,null,null,null,null,null,null,{"$f":"問題別集計②!N42","v":0},{"$f":"問題別集計②!O42","v":0},{"$f":"問題別集計②!P42","v":0},{"$f":"問題別集計②!Q42","v":0},{"$f":"問題別集計②!R42","v":0},{"$f":"問題別集計②!S42","v":0},{"$f":"問題別集計②!T42","v":0},null,null,null,null,null,null,null,{"$error":"#DIV/0!"},{"$error":"#DIV/0!"},{"$error":"#DIV/0!"},{"$error":"#DIV/0!"},{"$error":"#DIV/0!"},{"$error":"#DIV/0!"},{"$error":"#DIV/0!"}]
[null,null,null,7,"子どものインターネット利用の管理は行っていない","－",{"$f":"問題別集計!G43","v":0},{"$f":"問題別集計!H43","v":0},{"$f":"問題別集計!I43","v":0},{"$f":"問題別集計!J43","v":0},{"$f":"問題別集計!K43","v":0},{"$f":"問題別集計!L43","v":0},{"$f":"問題別集計!M43","v":0},{"$f":"問題別集計!N43","v":0},{"$f":"問題別集計!O43","v":0},{"$f":"問題別集計!P43","v":0},{"$f":"問題別集計!Q43","v":0},{"$f":"問題別集計!R43","v":0},{"$f":"問題別集計!S43","v":0},{"$f":"問題別集計!T43","v":0},null,null,null,null,null,null,null,{"$error":"#DIV/0!"},{"$error":"#DIV/0!"},{"$error":"#DIV/0!"},{"$error":"#DIV/0!"},{"$error":"#DIV/0!"},{"$error":"#DIV/0!"},{"$error":"#DIV/0!"},null,null,null,null,null,null,null,{"$f":"問題別集計③!N43","v":0},{"$f":"問題別集計③!O43","v":0},{"$f":"問題別集計③!P43","v":0},{"$f":"問題別集計③!Q43","v":0},{"$f":"問題別集計③!R43","v":0},{"$f":"問題別集計③!S43","v":0},{"$f":"問題別集計③!T43","v":0},null,null,null,null,null,null,null,{"$error":"#DIV/0!"},{"$error":"#DIV/0!"},{"$error":"#DIV/0!"},{"$error":"#DIV/0!"},{"$error":"#DIV/0!"},{"$error":"#DIV/0!"},{"$error":"#DIV/0!"},null,null,null,null,null,null,null,{"$f":"問題別集計②!N43","v":0},{"$f":"問題別集計②!O43","v":0},{"$f":"問題別集計②!P43","v":0},{"$f":"問題別集計②!Q43","v":0},{"$f":"問題別集計②!R43","v":0},{"$f":"問題別集計②!S43","v":0},{"$f":"問題別集計②!T43","v":0},null,null,null,null,null,null,null,{"$error":"#DIV/0!"},{"$error":"#DIV/0!"},{"$error":"#DIV/0!"},{"$error":"#DIV/0!"},{"$error":"#DIV/0!"},{"$error":"#DIV/0!"},{"$error":"#DIV/0!"}]
[null,null,null,8,"わからない","－",{"$f":"問題別集計!G44","v":0},{"$f":"問題別集計!H44","v":0},{"$f":"問題別集計!I44","v":0},{"$f":"問題別集計!J44","v":0},{"$f":"問題別集計!K44","v":0},{"$f":"問題別集計!L44","v":0},{"$f":"問題別集計!M44","v":0},{"$f":"問題別集計!N44","v":0},{"$f":"問題別集計!O44","v":0},{"$f":"問題別集計!P44","v":0},{"$f":"問題別集計!Q44","v":0},{"$f":"問題別集計!R44","v":0},{"$f":"問題別集計!S44","v":0},{"$f":"問題別集計!T44","v":0},null,null,null,null,null,null,null,{"$error":"#DIV/0!"},{"$error":"#DIV/0!"},{"$error":"#DIV/0!"},{"$error":"#DIV/0!"},{"$error":"#DIV/0!"},{"$error":"#DIV/0!"},{"$error":"#DIV/0!"},null,null,null,null,null,null,null,{"$f":"問題別集計③!N44","v":0},{"$f":"問題別集計③!O44","v":0},{"$f":"問題別集計③!P44","v":0},{"$f":"問題別集計③!Q44","v":0},{"$f":"問題別集計③!R44","v":0},{"$f":"問題別集計③!S44","v":0},{"$f":"問題別集計③!T44","v":0},null,null,null,null,null,null,null,{"$error":"#DIV/0!"},{"$error":"#DIV/0!"},{"$error":"#DIV/0!"},{"$error":"#DIV/0!"},{"$error":"#DIV/0!"},{"$error":"#DIV/0!"},{"$error":"#DIV/0!"},null,null,null,null,null,null,null,{"$f":"問題別集計②!N44","v":0},{"$f":"問題別集計②!O44","v":0},{"$f":"問題別集計②!P44","v":0},{"$f":"問題別集計②!Q44","v":0},{"$f":"問題別集計②!R44","v":0},{"$f":"問題別集計②!S44","v":0},{"$f":"問題別集計②!T44","v":0},null,null,null,null,null,null,null,{"$error":"#DIV/0!"},{"$error":"#DIV/0!"},{"$error":"#DIV/0!"},{"$error":"#DIV/0!"},{"$error":"#DIV/0!"},{"$error":"#DIV/0!"},{"$error":"#DIV/0!"}]
[null,null,null,"計",null,null,{"$f":"SUM(G40:G47)","v":0},{"$f":"SUM(H40:H47)","v":0},0,0,0,0,0,0,0,0,0,0,0,0,0,0,0,0,0,0,null,{"$error":"#DIV/0!"},{"$error":"#DIV/0!"},{"$error":"#DIV/0!"},{"$error":"#DIV/0!"},{"$error":"#DIV/0!"},{"$error":"#DIV/0!"},{"$error":"#DIV/0!"},0,0,0,0,0,0,0,0,0,0,0,0,0,0,{"$f":"SUM(AW40:AW47)","v":0},{"$f":"SUM(AX40:AX47)","v":0},{"$f":"SUM(AY40:AY47)","v":0},{"$f":"SUM(AZ40:AZ47)","v":0},{"$f":"SUM(BA40:BA47)","v":0},{"$f":"SUM(BB40:BB47)","v":0},null,{"$f":"SUM(BD40:BD47)","v":{"$error":"#DIV/0!"}},{"$f":"SUM(BE40:BE47)","v":{"$error":"#DIV/0!"}},{"$f":"SUM(BF40:BF47)","v":{"$error":"#DIV/0!"}},{"$f":"SUM(BG40:BG47)","v":{"$error":"#DIV/0!"}},{"$f":"SUM(BH40:BH47)","v":{"$error":"#DIV/0!"}},{"$f":"SUM(BI40:BI47)","v":{"$error":"#DIV/0!"}},{"$f":"SUM(BJ40:BJ47)","v":{"$error":"#DIV/0!"}},0,0,0,0,0,0,0,0,0,0,0,0,0,{"$f":"SUM(BX40:BX47)","v":0},{"$f":"SUM(BY40:BY47)","v":0},{"$f":"SUM(BZ40:BZ47)","v":0},{"$f":"SUM(CA40:CA47)","v":0},{"$f":"SUM(CB40:CB47)","v":0},{"$f":"SUM(CC40:CC47)","v":0},{"$f":"SUM(CD40:CD47)","v":0},null,{"$f":"SUM(CF40:CF47)","v":{"$error":"#DIV/0!"}},{"$f":"SUM(CG40:CG47)","v":{"$error":"#DIV/0!"}},{"$f":"SUM(CH40:CH47)","v":{"$error":"#DIV/0!"}},{"$f":"SUM(CI40:CI47)","v":{"$error":"#DIV/0!"}},{"$f":"SUM(CJ40:CJ47)","v":{"$error":"#DIV/0!"}},{"$f":"SUM(CK40:CK47)","v":{"$error":"#DIV/0!"}},{"$f":"SUM(CL40:CL47)","v":{"$error":"#DIV/0!"}}]
["DQ","4\n(5)","あなたはインターネットに夢中になっていると感じていますか？",1,"はい",1,{"$f":"問題別集計!G45","v":0},{"$f":"問題別集計!H45","v":0},{"$f":"問題別集計!I45","v":0},{"$f":"問題別集計!J45","v":0},{"$f":"問題別集計!K45","v":0},{"$f":"問題別集計!L45","v":0},{"$f":"問題別集計!M45","v":0},{"$f":"問題別集計!N45","v":0},{"$f":"問題別集計!O45","v":0},{"$f":"問題別集計!P45","v":0},{"$f":"問題別集計!Q45","v":0},{"$f":"問題別集計!R45","v":0},{"$f":"問題別集計!S45","v":0},{"$f":"問題別集計!T45","v":0},{"$f":"ROUND(G49/G51,3)*100","v":{"$error":"#DIV/0!"}},{"$error":"#DIV/0!"},{"$error":"#DIV/0!"},{"$error":"#DIV/0!"},{"$error":"#DIV/0!"},{"$error":"#DIV/0!"},{"$error":"#DIV/0!"},{"$error":"#DIV/0!"},{"$error":"#DIV/0!"},{"$error":"#DIV/0!"},{"$error":"#DIV/0!"},{"$error":"#DIV/0!"},{"$error":"#DIV/0!"},{"$error":"#DIV/0!"},{"$f":"問題別集計③!G45","v":0},{"$f":"問題別集計③!H45","v":0},{"$f":"問題別集計③!I45","v":0},{"$f":"問題別集計③!J45","v":0},{"$f":"問題別集計③!K45","v":0},{"$f":"問題別集計③!L45","v":0},{"$f":"問題別集計③!M45","v":0},{"$f":"問題別集計③!N45","v":0},{"$f":"問題別集計③!O45","v":0},{"$f":"問題別集計③!P45","v":0},{"$f":"問題別集計③!Q45","v":0},{"$f":"問題別集計③!R45","v":0},{"$f":"問題別集計③!S45","v":0},{"$f":"問題別集計③!T45","v":0},{"$f":"ROUND(AI49/AI51,3)*100","v":{"$error":"#DIV/0!"}},{"$error":"#DIV/0!"},{"$error":"#DIV/0!"},{"$error":"#DIV/0!"},{"$error":"#DIV/0!"},{"$error":"#DIV/0!"},{"$error":"#DIV/0!"},{"$error":"#DIV/0!"},{"$error":"#DIV/0!"},{"$error":"#DIV/0!"},{"$error":"#DIV/0!"},{"$error":"#DIV/0!"},{"$error":"#DIV/0!"},{"$error":"#DIV/0!"},{"$f":"問題別集計②!G45","v":0},{"$f":"問題別集計②!H45","v":0},{"$f":"問題別集計②!I45","v":0},{"$f":"問題別集計②!J45","v":0},{"$f":"問題別集計②!K45","v":0},{"$f":"問題別集計②!L45","v":0},{"$f":"問題別集計②!M45","v":0},{"$f":"問題別集計②!N45","v":0},{"$f":"問題別集計②!O45","v":0},{"$f":"問題別集計②!P45","v":0},{"$f":"問題別集計②!Q45","v":0},{"$f":"問題別集計②!R45","v":0},{"$f":"問題別集計②!S45","v":0},{"$f":"問題別集計②!T45","v":0},{"$f":"ROUND(BK49/BK51,3)*100","v":{"$error":"#DIV/0!"}},{"$error":"#DIV/0!"},{"$error":"#DIV/0!"},{"$error":"#DIV/0!"},{"$error":"#DIV/0!"},{"$error":"#DIV/0!"},{"$error":"#DIV/0!"},{"$error":"#DIV/0!"},{"$error":"#DIV/0!"},{"$error":"#DIV/0!"},{"$error":"#DIV/0!"},{"$error":"#DIV/0!"},{"$error":"#DIV/0!"},{"$error":"#DIV/0!"}]
[null,null,null,2,"いいえ","0点",{"$f":"問題別集計!G46","v":0},{"$f":"問題別集計!H46","v":0},{"$f":"問題別集計!I46","v":0},{"$f":"問題別集計!J46","v":0},{"$f":"問題別集計!K46","v":0},{"$f":"問題別集計!L46","v":0},{"$f":"問題別集計!M46","v":0},{"$f":"問題別集計!N46","v":0},{"$f":"問題別集計!O46","v":0},{"$f":"問題別集計!P46","v":0},{"$f":"問題別集計!Q46","v":0},{"$f":"問題別集計!R46","v":0},{"$f":"問題別集計!S46","v":0},{"$f":"問題別集計!T46","v":0},{"$f":"ROUND(G50/G51,3)*100","v":{"$error":"#DIV/0!"}},{"$error":"#DIV/0!"},{"$error":"#DIV/0!"},{"$error":"#DIV/0!"},{"$error":"#DIV/0!"},{"$error":"#DIV/0!"},{"$error":"#DIV/0!"},{"$error":"#DIV/0!"},{"$error":"#DIV/0!"},{"$error":"#DIV/0!"},{"$error":"#DIV/0!"},{"$error":"#DIV/0!"},{"$error":"#DIV/0!"},{"$error":"#DIV/0!"},{"$f":"問題別集計③!G46","v":0},{"$f":"問題別集計③!H46","v":0},{"$f":"問題別集計③!I46","v":0},{"$f":"問題別集計③!J46","v":0},{"$f":"問題別集計③!K46","v":0},{"$f":"問題別集計③!L46","v":0},{"$f":"問題別集計③!M46","v":0},{"$f":"問題別集計③!N46","v":0},{"$f":"問題別集計③!O46","v":0},{"$f":"問題別集計③!P46","v":0},{"$f":"問題別集計③!Q46","v":0},{"$f":"問題別集計③!R46","v":0},{"$f":"問題別集計③!S46","v":0},{"$f":"問題別集計③!T46","v":0},{"$f":"ROUND(AI50/AI51,3)*100","v":{"$error":"#DIV/0!"}},{"$error":"#DIV/0!"},{"$error":"#DIV/0!"},{"$error":"#DIV/0!"},{"$error":"#DIV/0!"},{"$error":"#DIV/0!"},{"$error":"#DIV/0!"},{"$error":"#DIV/0!"},{"$error":"#DIV/0!"},{"$error":"#DIV/0!"},{"$error":"#DIV/0!"},{"$error":"#DIV/0!"},{"$error":"#DIV/0!"},{"$error":"#DIV/0!"},{"$f":"問題別集計②!G46","v":0},{"$f":"問題別集計②!H46","v":0},{"$f":"問題別集計②!I46","v":0},{"$f":"問題別集計②!J46","v":0},{"$f":"問題別集計②!K46","v":0},{"$f":"問題別集計②!L46","v":0},{"$f":"問題別集計②!M46","v":0},{"$f":"問題別集計②!N46","v":0},{"$f":"問題別集計②!O46","v":0},{"$f":"問題別集計②!P46","v":0},{"$f":"問題別集計②!Q46","v":0},{"$f":"問題別集計②!R46","v":0},{"$f":"問題別集計②!S46","v":0},{"$f":"問題別集計②!T46","v":0},{"$f":"ROUND(BK50/BK51,3)*100","v":{"$error":"#DIV/0!"}},{"$error":"#DIV/0!"},{"$error":"#DIV/0!"},{"$error":"#DIV/0!"},{"$error":"#DIV/0!"},{"$error":"#DIV/0!"},{"$error":"#DIV/0!"},{"$error":"#DIV/0!"},{"$error":"#DIV/0!"},{"$error":"#DIV/0!"},{"$error":"#DIV/0!"},{"$error":"#DIV/0!"},{"$error":"#DIV/0!"},{"$error":"#DIV/0!"}]
[null,null,null,"計",null,null,{"$f":"SUM(G49:G50)","v":0},{"$f":"SUM(H49:H50)","v":0},0,0,0,0,0,0,0,0,0,0,0,0,{"$error":"#DIV/0!"},{"$error":"#DIV/0!"},{"$error":"#DIV/0!"},{"$error":"#DIV/0!"},{"$error":"#DIV/0!"},{"$error":"#DIV/0!"},{"$error":"#DIV/0!"},{"$error":"#DIV/0!"},{"$error":"#DIV/0!"},{"$error":"#DIV/0!"},{"$error":"#DIV/0!"},{"$error":"#DIV/0!"},{"$error":"#DIV/0!"},null,0,0,0,0,0,0,0,0,0,0,0,0,0,0,{"$f":"SUM(AW49:AW50)","v":{"$error":"#DIV/0!"}},{"$error":"#DIV/0!"},{"$error":"#DIV/0!"},{"$error":"#DIV/0!"},{"$error":"#DIV/0!"},{"$error":"#DIV/0!"},{"$error":"#DIV/0!"},{"$error":"#DIV/0!"},{"$error":"#DIV/0!"},{"$error":"#DIV/0!"},{"$error":"#DIV/0!"},{"$error":"#DIV/0!"},{"$error":"#DIV/0!"},null,0,0,0,0,0,0,0,0,0,0,0,0,0,{"$f":"SUM(BX49:BX50)","v":0},{"$error":"#DIV/0!"},{"$error":"#DIV/0!"},{"$error":"#DIV/0!"},{"$error":"#DIV/0!"},{"$error":"#DIV/0!"},{"$error":"#DIV/0!"},{"$error":"#DIV/0!"},{"$error":"#DIV/0!"},{"$error":"#DIV/0!"},{"$error":"#DIV/0!"},{"$error":"#DIV/0!"},{"$error":"#DIV/0!"},{"$error":"#DIV/0!"}]
[null,"5\n(6)","あなたは、満足を得るために、インターネットを使う時間をだんだん長くしていかなければならないと感じていますか？",1,"はい",1,{"$f":"問題別集計!G47","v":0},{"$f":"問題別集計!H47","v":0},{"$f":"問題別集計!I47","v":0},{"$f":"問題別集計!J47","v":0},{"$f":"問題別集計!K47","v":0},{"$f":"問題別集計!L47","v":0},{"$f":"問題別集計!M47","v":0},{"$f":"問題別集計!N47","v":0},{"$f":"問題別集計!O47","v":0},{"$f":"問題別集計!P47","v":0},{"$f":"問題別集計!Q47","v":0},{"$f":"問題別集計!R47","v":0},{"$f":"問題別集計!S47","v":0},{"$f":"問題別集計!T47","v":0},{"$f":"ROUND(G52/G54,3)*100","v":{"$error":"#DIV/0!"}},{"$error":"#DIV/0!"},{"$error":"#DIV/0!"},{"$error":"#DIV/0!"},{"$error":"#DIV/0!"},{"$error":"#DIV/0!"},{"$error":"#DIV/0!"},{"$error":"#DIV/0!"},{"$error":"#DIV/0!"},{"$error":"#DIV/0!"},{"$error":"#DIV/0!"},{"$error":"#DIV/0!"},{"$error":"#DIV/0!"},{"$error":"#DIV/0!"},{"$f":"問題別集計③!G47","v":0},{"$f":"問題別集計③!H47","v":0},{"$f":"問題別集計③!I47","v":0},{"$f":"問題別集計③!J47","v":0},{"$f":"問題別集計③!K47","v":0},{"$f":"問題別集計③!L47","v":0},{"$f":"問題別集計③!M47","v":0},{"$f":"問題別集計③!N47","v":0},{"$f":"問題別集計③!O47","v":0},{"$f":"問題別集計③!P47","v":0},{"$f":"問題別集計③!Q47","v":0},{"$f":"問題別集計③!R47","v":0},{"$f":"問題別集計③!S47","v":0},{"$f":"問題別集計③!T47","v":0},{"$f":"ROUND(AI52/AI54,3)*100","v":{"$error":"#DIV/0!"}},{"$error":"#DIV/0!"},{"$error":"#DIV/0!"},{"$error":"#DIV/0!"},{"$error":"#DIV/0!"},{"$error":"#DIV/0!"},{"$error":"#DIV/0!"},{"$error":"#DIV/0!"},{"$error":"#DIV/0!"},{"$error":"#DIV/0!"},{"$error":"#DIV/0!"},{"$error":"#DIV/0!"},{"$error":"#DIV/0!"},{"$error":"#DIV/0!"},{"$f":"問題別集計②!G47","v":0},{"$f":"問題別集計②!H47","v":0},{"$f":"問題別集計②!I47","v":0},{"$f":"問題別集計②!J47","v":0},{"$f":"問題別集計②!K47","v":0},{"$f":"問題別集計②!L47","v":0},{"$f":"問題別集計②!M47","v":0},{"$f":"問題別集計②!N47","v":0},{"$f":"問題別集計②!O47","v":0},{"$f":"問題別集計②!P47","v":0},{"$f":"問題別集計②!Q47","v":0},{"$f":"問題別集計②!R47","v":0},{"$f":"問題別集計②!S47","v":0},{"$f":"問題別集計②!T47","v":0},{"$f":"ROUND(BK52/BK54,3)*100","v":{"$error":"#DIV/0!"}},{"$error":"#DIV/0!"},{"$error":"#DIV/0!"},{"$error":"#DIV/0!"},{"$error":"#DIV/0!"},{"$error":"#DIV/0!"},{"$error":"#DIV/0!"},{"$error":"#DIV/0!"},{"$error":"#DIV/0!"},{"$error":"#DIV/0!"},{"$error":"#DIV/0!"},{"$error":"#DIV/0!"},{"$error":"#DIV/0!"},{"$error":"#DIV/0!"}]
[null,null,null,2,"いいえ","0点",{"$f":"問題別集計!G48","v":0},{"$f":"問題別集計!H48","v":0},{"$f":"問題別集計!I48","v":0},{"$f":"問題別集計!J48","v":0},{"$f":"問題別集計!K48","v":0},{"$f":"問題別集計!L48","v":0},{"$f":"問題別集計!M48","v":0},{"$f":"問題別集計!N48","v":0},{"$f":"問題別集計!O48","v":0},{"$f":"問題別集計!P48","v":0},{"$f":"問題別集計!Q48","v":0},{"$f":"問題別集計!R48","v":0},{"$f":"問題別集計!S48","v":0},{"$f":"問題別集計!T48","v":0},{"$f":"ROUND(G53/G54,3)*100","v":{"$error":"#DIV/0!"}},{"$error":"#DIV/0!"},{"$error":"#DIV/0!"},{"$error":"#DIV/0!"},{"$error":"#DIV/0!"},{"$error":"#DIV/0!"},{"$error":"#DIV/0!"},{"$error":"#DIV/0!"},{"$error":"#DIV/0!"},{"$error":"#DIV/0!"},{"$error":"#DIV/0!"},{"$error":"#DIV/0!"},{"$error":"#DIV/0!"},{"$error":"#DIV/0!"},{"$f":"問題別集計③!G48","v":0},{"$f":"問題別集計③!H48","v":0},{"$f":"問題別集計③!I48","v":0},{"$f":"問題別集計③!J48","v":0},{"$f":"問題別集計③!K48","v":0},{"$f":"問題別集計③!L48","v":0},{"$f":"問題別集計③!M48","v":0},{"$f":"問題別集計③!N48","v":0},{"$f":"問題別集計③!O48","v":0},{"$f":"問題別集計③!P48","v":0},{"$f":"問題別集計③!Q48","v":0},{"$f":"問題別集計③!R48","v":0},{"$f":"問題別集計③!S48","v":0},{"$f":"問題別集計③!T48","v":0},{"$f":"ROUND(AI53/AI54,3)*100","v":{"$error":"#DIV/0!"}},{"$error":"#DIV/0!"},{"$error":"#DIV/0!"},{"$error":"#DIV/0!"},{"$error":"#DIV/0!"},{"$error":"#DIV/0!"},{"$error":"#DIV/0!"},{"$error":"#DIV/0!"},{"$error":"#DIV/0!"},{"$error":"#DIV/0!"},{"$error":"#DIV/0!"},{"$error":"#DIV/0!"},{"$error":"#DIV/0!"},{"$error":"#DIV/0!"},{"$f":"問題別集計②!G48","v":0},{"$f":"問題別集計②!H48","v":0},{"$f":"問題別集計②!I48","v":0},{"$f":"問題別集計②!J48","v":0},{"$f":"問題別集計②!K48","v":0},{"$f":"問題別集計②!L48","v":0},{"$f":"問題別集計②!M48","v":0},{"$f":"問題別集計②!N48","v":0},{"$f":"問題別集計②!O48","v":0},{"$f":"問題別集計②!P48","v":0},{"$f":"問題別集計②!Q48","v":0},{"$f":"問題別集計②!R48","v":0},{"$f":"問題別集計②!S48","v":0},{"$f":"問題別集計②!T48","v":0},{"$f":"ROUND(BK53/BK54,3)*100","v":{"$error":"#DIV/0!"}},{"$error":"#DIV/0!"},{"$error":"#DIV/0!"},{"$error":"#DIV/0!"},{"$error":"#DIV/0!"},{"$error":"#DIV/0!"},{"$error":"#DIV/0!"},{"$error":"#DIV/0!"},{"$error":"#DIV/0!"},{"$error":"#DIV/0!"},{"$error":"#DIV/0!"},{"$error":"#DIV/0!"},{"$error":"#DIV/0!"},{"$error":"#DIV/0!"}]
[null,null,null,"計",null,null,{"$f":"SUM(G52:G53)","v":0},0,0,0,0,0,0,0,0,0,0,0,0,0,{"$error":"#DIV/0!"},{"$f":"SUM(V52:V53)","v":{"$error":"#DIV/0!"}},{"$f":"SUM(W52:W53)","v":{"$error":"#DIV/0!"}},{"$f":"SUM(X52:X53)","v":{"$error":"#DIV/0!"}},{"$f":"SUM(Y52:Y53)","v":{"$error":"#DIV/0!"}},{"$f":"SUM(Z52:Z53)","v":{"$error":"#DIV/0!"}},{"$f":"SUM(AA52:AA53)","v":{"$error":"#DIV/0!"}},{"$f":"SUM(AB52:AB53)","v":{"$error":"#DIV/0!"}},{"$f":"SUM(AC52:AC53)","v":{"$error":"#DIV/0!"}},{"$f":"SUM(AD52:AD53)","v":{"$error":"#DIV/0!"}},{"$f":"SUM(AE52:AE53)","v":{"$error":"#DIV/0!"}},{"$f":"SUM(AF52:AF53)","v":{"$error":"#DIV/0!"}},{"$f":"SUM(AG52:AG53)","v":{"$error":"#DIV/0!"}},{"$f":"SUM(AH52:AH53)","v":{"$error":"#DIV/0!"}},0,0,0,0,0,0,0,0,0,0,0,0,0,0,{"$f":"SUM(AW52:AW53)","v":{"$error":"#DIV/0!"}},{"$f":"SUM(AX52:AX53)","v":{"$error":"#DIV/0!"}},{"$error":"#DIV/0!"},{"$error":"#DIV/0!"},{"$error":"#DIV/0!"},{"$error":"#DIV/0!"},{"$error":"#DIV/0!"},{"$error":"#DIV/0!"},{"$error":"#DIV/0!"},{"$error":"#DIV/0!"},{"$error":"#DIV/0!"},{"$error":"#DIV/0!"},{"$error":"#DIV/0!"},{"$error":"#DIV/0!"},0,0,0,0,0,0,0,0,0,0,0,0,{"$f":"SUM(BW52:BW53)","v":0},0,{"$f":"SUM(BY52:BY53)","v":{"$error":"#DIV/0!"}},{"$f":"SUM(BZ52:BZ53)","v":{"$error":"#DIV/0!"}},{"$error":"#DIV/0!"},{"$error":"#DIV/0!"},{"$error":"#DIV/0!"},{"$error":"#DIV/0!"},{"$error":"#DIV/0!"},{"$error":"#DIV/0!"},{"$error":"#DIV/0!"},{"$error":"#DIV/0!"},{"$error":"#DIV/0!"},{"$error":"#DIV/0!"},{"$error":"#DIV/0!"},{"$error":"#DIV/0!"}]
[null,"6\n(7)","あなたは、インターネット使用時間を制限したり、時間を減らしたり、完全にやめようとしたが、うまくいかなかったことがたびたびありましたか？",1,"はい",1,{"$f":"問題別集計!G49","v":0},{"$f":"問題別集計!H49","v":0},{"$f":"問題別集計!I49","v":0},{"$f":"問題別集計!J49","v":0},{"$f":"問題別集計!K49","v":0},{"$f":"問題別集計!L49","v":0},{"$f":"問題別集計!M49","v":0},{"$f":"問題別集計!N49","v":0},{"$f":"問題別集計!O49","v":0},{"$f":"問題別集計!P49","v":0},{"$f":"問題別集計!Q49","v":0},{"$f":"問題別集計!R49","v":0},{"$f":"問題別集計!S49","v":0},{"$f":"問題別集計!T49","v":0},{"$f":"ROUND(G55/G57,3)*100","v":{"$error":"#DIV/0!"}},{"$error":"#DIV/0!"},{"$error":"#DIV/0!"},{"$error":"#DIV/0!"},{"$error":"#DIV/0!"},{"$error":"#DIV/0!"},{"$error":"#DIV/0!"},{"$error":"#DIV/0!"},{"$error":"#DIV/0!"},{"$error":"#DIV/0!"},{"$error":"#DIV/0!"},{"$error":"#DIV/0!"},{"$error":"#DIV/0!"},{"$error":"#DIV/0!"},{"$f":"問題別集計③!G49","v":0},{"$f":"問題別集計③!H49","v":0},{"$f":"問題別集計③!I49","v":0},{"$f":"問題別集計③!J49","v":0},{"$f":"問題別集計③!K49","v":0},{"$f":"問題別集計③!L49","v":0},{"$f":"問題別集計③!M49","v":0},{"$f":"問題別集計③!N49","v":0},{"$f":"問題別集計③!O49","v":0},{"$f":"問題別集計③!P49","v":0},{"$f":"問題別集計③!Q49","v":0},{"$f":"問題別集計③!R49","v":0},{"$f":"問題別集計③!S49","v":0},{"$f":"問題別集計③!T49","v":0},{"$f":"ROUND(AI55/AI57,3)*100","v":{"$error":"#DIV/0!"}},{"$error":"#DIV/0!"},{"$error":"#DIV/0!"},{"$error":"#DIV/0!"},{"$error":"#DIV/0!"},{"$error":"#DIV/0!"},{"$error":"#DIV/0!"},{"$error":"#DIV/0!"},{"$error":"#DIV/0!"},{"$error":"#DIV/0!"},{"$error":"#DIV/0!"},{"$error":"#DIV/0!"},{"$error":"#DIV/0!"},{"$error":"#DIV/0!"},{"$f":"問題別集計②!G49","v":0},{"$f":"問題別集計②!H49","v":0},{"$f":"問題別集計②!I49","v":0},{"$f":"問題別集計②!J49","v":0},{"$f":"問題別集計②!K49","v":0},{"$f":"問題別集計②!L49","v":0},{"$f":"問題別集計②!M49","v":0},{"$f":"問題別集計②!N49","v":0},{"$f":"問題別集計②!O49","v":0},{"$f":"問題別集計②!P49","v":0},{"$f":"問題別集計②!Q49","v":0},{"$f":"問題別集計②!R49","v":0},{"$f":"問題別集計②!S49","v":0},{"$f":"問題別集計②!T49","v":0},{"$f":"ROUND(BK55/BK57,3)*100","v":{"$error":"#DIV/0!"}},{"$error":"#DIV/0!"},{"$error":"#DIV/0!"},{"$error":"#DIV/0!"},{"$error":"#DIV/0!"},{"$error":"#DIV/0!"},{"$error":"#DIV/0!"},{"$error":"#DIV/0!"},{"$error":"#DIV/0!"},{"$error":"#DIV/0!"},{"$error":"#DIV/0!"},{"$error":"#DIV/0!"},{"$error":"#DIV/0!"},{"$error":"#DIV/0!"}]
[null,null,null,2,"いいえ","0点",{"$f":"問題別集計!G50","v":0},{"$f":"問題別集計!H50","v":0},{"$f":"問題別集計!I50","v":0},{"$f":"問題別集計!J50","v":0},{"$f":"問題別集計!K50","v":0},{"$f":"問題別集計!L50","v":0},{"$f":"問題別集計!M50","v":0},{"$f":"問題別集計!N50","v":0},{"$f":"問題別集計!O50","v":0},{"$f":"問題別集計!P50","v":0},{"$f":"問題別集計!Q50","v":0},{"$f":"問題別集計!R50","v":0},{"$f":"問題別集計!S50","v":0},{"$f":"問題別集計!T50","v":0},{"$f":"ROUND(G56/G57,3)*100","v":{"$error":"#DIV/0!"}},{"$error":"#DIV/0!"},{"$error":"#DIV/0!"},{"$error":"#DIV/0!"},{"$error":"#DIV/0!"},{"$error":"#DIV/0!"},{"$error":"#DIV/0!"},{"$error":"#DIV/0!"},{"$error":"#DIV/0!"},{"$error":"#DIV/0!"},{"$error":"#DIV/0!"},{"$error":"#DIV/0!"},{"$error":"#DIV/0!"},{"$error":"#DIV/0!"},{"$f":"問題別集計③!G50","v":0},{"$f":"問題別集計③!H50","v":0},{"$f":"問題別集計③!I50","v":0},{"$f":"問題別集計③!J50","v":0},{"$f":"問題別集計③!K50","v":0},{"$f":"問題別集計③!L50","v":0},{"$f":"問題別集計③!M50","v":0},{"$f":"問題別集計③!N50","v":0},{"$f":"問題別集計③!O50","v":0},{"$f":"問題別集計③!P50","v":0},{"$f":"問題別集計③!Q50","v":0},{"$f":"問題別集計③!R50","v":0},{"$f":"問題別集計③!S50","v":0},{"$f":"問題別集計③!T50","v":0},{"$f":"ROUND(AI56/AI57,3)*100","v":{"$error":"#DIV/0!"}},{"$error":"#DIV/0!"},{"$error":"#DIV/0!"},{"$error":"#DIV/0!"},{"$error":"#DIV/0!"},{"$error":"#DIV/0!"},{"$error":"#DIV/0!"},{"$error":"#DIV/0!"},{"$error":"#DIV/0!"},{"$error":"#DIV/0!"},{"$error":"#DIV/0!"},{"$error":"#DIV/0!"},{"$error":"#DIV/0!"},{"$error":"#DIV/0!"},{"$f":"問題別集計②!G50","v":0},{"$f":"問題別集計②!H50","v":0},{"$f":"問題別集計②!I50","v":0},{"$f":"問題別集計②!J50","v":0},{"$f":"問題別集計②!K50","v":0},{"$f":"問題別集計②!L50","v":0},{"$f":"問題別集計②!M50","v":0},{"$f":"問題別集計②!N50","v":0},{"$f":"問題別集計②!O50","v":0},{"$f":"問題別集計②!P50","v":0},{"$f":"問題別集計②!Q50","v":0},{"$f":"問題別集計②!R50","v":0},{"$f":"問題別集計②!S50","v":0},{"$f":"問題別集計②!T50","v":0},{"$f":"ROUND(BK56/BK57,3)*100","v":{"$error":"#DIV/0!"}},{"$error":"#DIV/0!"},{"$error":"#DIV/0!"},{"$error":"#DIV/0!"},{"$error":"#DIV/0!"},{"$error":"#DIV/0!"},{"$error":"#DIV/0!"},{"$error":"#DIV/0!"},{"$error":"#DIV/0!"},{"$error":"#DIV/0!"},{"$error":"#DIV/0!"},{"$error":"#DIV/0!"},{"$error":"#DIV/0!"},{"$error":"#DIV/0!"}]
[null,null,null,"計",null,null,{"$f":"SUM(G55:G56)","v":0},{"$f":"SUM(H55:H56)","v":0},{"$f":"SUM(I55:I56)","v":0},{"$f":"SUM(J55:J56)","v":0},{"$f":"SUM(K55:K56)","v":0},{"$f":"SUM(L55:L56)","v":0},{"$f":"SUM(M55:M56)","v":0},{"$f":"SUM(N55:N56)","v":0},{"$f":"SUM(O55:O56)","v":0},{"$f":"SUM(P55:P56)","v":0},{"$f":"SUM(Q55:Q56)","v":0},{"$f":"SUM(R55:R56)","v":0},{"$f":"SUM(S55:S56)","v":0},{"$f":"SUM(T55:T56)","v":0},{"$f":"SUM(U55:U56)","v":{"$error":"#DIV/0!"}},{"$f":"SUM(V55:V56)","v":{"$error":"#DIV/0!"}},{"$f":"SUM(W55:W56)","v":{"$error":"#DIV/0!"}},{"$f":"SUM(X55:X56)","v":{"$error":"#DIV/0!"}},{"$f":"SUM(Y55:Y56)","v":{"$error":"#DIV/0!"}},{"$f":"SUM(Z55:Z56)","v":{"$error":"#DIV/0!"}},{"$f":"SUM(AA55:AA56)","v":{"$error":"#DIV/0!"}},{"$f":"SUM(AB55:AB56)","v":{"$error":"#DIV/0!"}},{"$f":"SUM(AC55:AC56)","v":{"$error":"#DIV/0!"}},{"$f":"SUM(AD55:AD56)","v":{"$error":"#DIV/0!"}},{"$f":"SUM(AE55:AE56)","v":{"$error":"#DIV/0!"}},{"$f":"SUM(AF55:AF56)","v":{"$error":"#DIV/0!"}},{"$f":"SUM(AG55:AG56)","v":{"$error":"#DIV/0!"}},{"$f":"SUM(AH55:AH56)","v":{"$error":"#DIV/0!"}},{"$f":"SUM(AI55:AI56)","v":0},{"$f":"SUM(AJ55:AJ56)","v":0},{"$f":"SUM(AK55:AK56)","v":0},{"$f":"SUM(AL55:AL56)","v":0},{"$f":"SUM(AM55:AM56)","v":0},{"$f":"SUM(AN55:AN56)","v":0},{"$f":"SUM(AO55:AO56)","v":0},{"$f":"SUM(AP55:AP56)","v":0},{"$f":"SUM(AQ55:AQ56)","v":0},{"$f":"SUM(AR55:AR56)","v":0},{"$f":"SUM(AS55:AS56)","v":0},{"$f":"SUM(AT55:AT56)","v":0},{"$f":"SUM(AU55:AU56)","v":0},{"$f":"SUM(AV55:AV56)","v":0},{"$f":"SUM(AW55:AW56)","v":{"$error":"#DIV/0!"}},{"$f":"SUM(AX55:AX56)","v":{"$error":"#DIV/0!"}},{"$error":"#DIV/0!"},{"$error":"#DIV/0!"},{"$error":"#DIV/0!"},{"$error":"#DIV/0!"},{"$error":"#DIV/0!"},{"$error":"#DIV/0!"},{"$error":"#DIV/0!"},{"$error":"#DIV/0!"},{"$error":"#DIV/0!"},{"$error":"#DIV/0!"},{"$error":"#DIV/0!"},{"$error":"#DIV/0!"},{"$f":"SUM(BK55:BK56)","v":0},{"$f":"SUM(BL55:BL56)","v":0},{"$f":"SUM(BM55:BM56)","v":0},{"$f":"SUM(BN55:BN56)","v":0},{"$f":"SUM(BO55:BO56)","v":0},{"$f":"SUM(BP55:BP56)","v":0},{"$f":"SUM(BQ55:BQ56)","v":0},{"$f":"SUM(BR55:BR56)","v":0},{"$f":"SUM(BS55:BS56)","v":0},{"$f":"SUM(BT55:BT56)","v":0},{"$f":"SUM(BU55:BU56)","v":0},{"$f":"SUM(BV55:BV56)","v":0},{"$f":"SUM(BW55:BW56)","v":0},{"$f":"SUM(BX55:BX56)","v":0},{"$f":"SUM(BY55:BY56)","v":{"$error":"#DIV/0!"}},{"$f":"SUM(BZ55:BZ56)","v":{"$error":"#DIV/0!"}},{"$error":"#DIV/0!"},{"$error":"#DIV/0!"},{"$error":"#DIV/0!"},{"$error":"#DIV/0!"},{"$error":"#DIV/0!"},{"$error":"#DIV/0!"},{"$error":"#DIV/0!"},{"$error":"#DIV/0!"},{"$error":"#DIV/0!"},{"$error":"#DIV/0!"},{"$error":"#DIV/0!"},{"$error":"#DIV/0!"}]
[null,"7\n(8)","インターネットの使用時間を短くしたり、完全にやめようとした時、落ち着かなかったり、不機嫌や落ち込み、またはイライラなどを感じましたか？\n",1,"はい",1,{"$f":"問題別集計!G51","v":0},{"$f":"問題別集計!H51","v":0},{"$f":"問題別集計!I51","v":0},{"$f":"問題別集計!J51","v":0},{"$f":"問題別集計!K51","v":0},{"$f":"問題別集計!L51","v":0},{"$f":"問題別集計!M51","v":0},{"$f":"問題別集計!N51","v":0},{"$f":"問題別集計!O51","v":0},{"$f":"問題別集計!P51","v":0},{"$f":"問題別集計!Q51","v":0},{"$f":"問題別集計!R51","v":0},{"$f":"問題別集計!S51","v":0},{"$f":"問題別集計!T51","v":0},{"$f":"ROUND(G58/G60,3)*100","v":{"$error":"#DIV/0!"}},{"$error":"#DIV/0!"},{"$error":"#DIV/0!"},{"$error":"#DIV/0!"},{"$error":"#DIV/0!"},{"$error":"#DIV/0!"},{"$error":"#DIV/0!"},{"$error":"#DIV/0!"},{"$error":"#DIV/0!"},{"$error":"#DIV/0!"},{"$error":"#DIV/0!"},{"$error":"#DIV/0!"},{"$error":"#DIV/0!"},{"$error":"#DIV/0!"},{"$f":"問題別集計③!G51","v":0},{"$f":"問題別集計③!H51","v":0},{"$f":"問題別集計③!I51","v":0},{"$f":"問題別集計③!J51","v":0},{"$f":"問題別集計③!K51","v":0},{"$f":"問題別集計③!L51","v":0},{"$f":"問題別集計③!M51","v":0},{"$f":"問題別集計③!N51","v":0},{"$f":"問題別集計③!O51","v":0},{"$f":"問題別集計③!P51","v":0},{"$f":"問題別集計③!Q51","v":0},{"$f":"問題別集計③!R51","v":0},{"$f":"問題別集計③!S51","v":0},{"$f":"問題別集計③!T51","v":0},{"$f":"ROUND(AI58/AI60,3)*100","v":{"$error":"#DIV/0!"}},{"$error":"#DIV/0!"},{"$error":"#DIV/0!"},{"$error":"#DIV/0!"},{"$error":"#DIV/0!"},{"$error":"#DIV/0!"},{"$error":"#DIV/0!"},{"$error":"#DIV/0!"},{"$error":"#DIV/0!"},{"$error":"#DIV/0!"},{"$error":"#DIV/0!"},{"$error":"#DIV/0!"},{"$error":"#DIV/0!"},{"$error":"#DIV/0!"},{"$f":"問題別集計②!G51","v":0},{"$f":"問題別集計②!H51","v":0},{"$f":"問題別集計②!I51","v":0},{"$f":"問題別集計②!J51","v":0},{"$f":"問題別集計②!K51","v":0},{"$f":"問題別集計②!L51","v":0},{"$f":"問題別集計②!M51","v":0},{"$f":"問題別集計②!N51","v":0},{"$f":"問題別集計②!O51","v":0},{"$f":"問題別集計②!P51","v":0},{"$f":"問題別集計②!Q51","v":0},{"$f":"問題別集計②!R51","v":0},{"$f":"問題別集計②!S51","v":0},{"$f":"問題別集計②!T51","v":0},{"$f":"ROUND(BK58/BK60,3)*100","v":{"$error":"#DIV/0!"}},{"$error":"#DIV/0!"},{"$error":"#DIV/0!"},{"$error":"#DIV/0!"},{"$error":"#DIV/0!"},{"$error":"#DIV/0!"},{"$error":"#DIV/0!"},{"$error":"#DIV/0!"},{"$error":"#DIV/0!"},{"$error":"#DIV/0!"},{"$error":"#DIV/0!"},{"$error":"#DIV/0!"},{"$error":"#DIV/0!"},{"$error":"#DIV/0!"}]
[null,null,null,2,"いいえ","0点",{"$f":"問題別集計!G52","v":0},{"$f":"問題別集計!H52","v":0},{"$f":"問題別集計!I52","v":0},{"$f":"問題別集計!J52","v":0},{"$f":"問題別集計!K52","v":0},{"$f":"問題別集計!L52","v":0},{"$f":"問題別集計!M52","v":0},{"$f":"問題別集計!N52","v":0},{"$f":"問題別集計!O52","v":0},{"$f":"問題別集計!P52","v":0},{"$f":"問題別集計!Q52","v":0},{"$f":"問題別集計!R52","v":0},{"$f":"問題別集計!S52","v":0},{"$f":"問題別集計!T52","v":0},{"$f":"ROUND(G59/G60,3)*100","v":{"$error":"#DIV/0!"}},{"$error":"#DIV/0!"},{"$error":"#DIV/0!"},{"$error":"#DIV/0!"},{"$error":"#DIV/0!"},{"$error":"#DIV/0!"},{"$error":"#DIV/0!"},{"$error":"#DIV/0!"},{"$error":"#DIV/0!"},{"$error":"#DIV/0!"},{"$error":"#DIV/0!"},{"$error":"#DIV/0!"},{"$error":"#DIV/0!"},{"$error":"#DIV/0!"},{"$f":"問題別集計③!G52","v":0},{"$f":"問題別集計③!H52","v":0},{"$f":"問題別集計③!I52","v":0},{"$f":"問題別集計③!J52","v":0},{"$f":"問題別集計③!K52","v":0},{"$f":"問題別集計③!L52","v":0},{"$f":"問題別集計③!M52","v":0},{"$f":"問題別集計③!N52","v":0},{"$f":"問題別集計③!O52","v":0},{"$f":"問題別集計③!P52","v":0},{"$f":"問題別集計③!Q52","v":0},{"$f":"問題別集計③!R52","v":0},{"$f":"問題別集計③!S52","v":0},{"$f":"問題別集計③!T52","v":0},{"$f":"ROUND(AI59/AI60,3)*100","v":{"$error":"#DIV/0!"}},{"$error":"#DIV/0!"},{"$error":"#DIV/0!"},{"$error":"#DIV/0!"},{"$error":"#DIV/0!"},{"$error":"#DIV/0!"},{"$error":"#DIV/0!"},{"$error":"#DIV/0!"},{"$error":"#DIV/0!"},{"$error":"#DIV/0!"},{"$error":"#DIV/0!"},{"$error":"#DIV/0!"},{"$error":"#DIV/0!"},{"$error":"#DIV/0!"},{"$f":"問題別集計②!G52","v":0},{"$f":"問題別集計②!H52","v":0},{"$f":"問題別集計②!I52","v":0},{"$f":"問題別集計②!J52","v":0},{"$f":"問題別集計②!K52","v":0},{"$f":"問題別集計②!L52","v":0},{"$f":"問題別集計②!M52","v":0},{"$f":"問題別集計②!N52","v":0},{"$f":"問題別集計②!O52","v":0},{"$f":"問題別集計②!P52","v":0},{"$f":"問題別集計②!Q52","v":0},{"$f":"問題別集計②!R52","v":0},{"$f":"問題別集計②!S52","v":0},{"$f":"問題別集計②!T52","v":0},{"$f":"ROUND(BK59/BK60,3)*100","v":{"$error":"#DIV/0!"}},{"$error":"#DIV/0!"},{"$error":"#DIV/0!"},{"$error":"#DIV/0!"},{"$error":"#DIV/0!"},{"$error":"#DIV/0!"},{"$error":"#DIV/0!"},{"$error":"#DIV/0!"},{"$error":"#DIV/0!"},{"$error":"#DIV/0!"},{"$error":"#DIV/0!"},{"$error":"#DIV/0!"},{"$error":"#DIV/0!"},{"$error":"#DIV/0!"}]
[null,null,null,"計",null,null,{"$f":"SUM(G58:G59)","v":0},{"$f":"SUM(H58:H59)","v":0},{"$f":"SUM(I58:I59)","v":0},{"$f":"SUM(J58:J59)","v":0},{"$f":"SUM(K58:K59)","v":0},{"$f":"SUM(L58:L59)","v":0},{"$f":"SUM(M58:M59)","v":0},{"$f":"SUM(N58:N59)","v":0},{"$f":"SUM(O58:O59)","v":0},{"$f":"SUM(P58:P59)","v":0},{"$f":"SUM(Q58:Q59)","v":0},{"$f":"SUM(R58:R59)","v":0},{"$f":"SUM(S58:S59)","v":0},{"$f":"SUM(T58:T59)","v":0},{"$error":"#DIV/0!"},{"$f":"SUM(V58:V59)","v":{"$error":"#DIV/0!"}},{"$f":"SUM(W58:W59)","v":{"$error":"#DIV/0!"}},{"$f":"SUM(X58:X59)","v":{"$error":"#DIV/0!"}},{"$f":"SUM(Y58:Y59)","v":{"$error":"#DIV/0!"}},{"$f":"SUM(Z58:Z59)","v":{"$error":"#DIV/0!"}},{"$f":"SUM(AA58:AA59)","v":{"$error":"#DIV/0!"}},{"$f":"SUM(AB58:AB59)","v":{"$error":"#DIV/0!"}},{"$f":"SUM(AC58:AC59)","v":{"$error":"#DIV/0!"}},{"$f":"SUM(AD58:AD59)","v":{"$error":"#DIV/0!"}},{"$f":"SUM(AE58:AE59)","v":{"$error":"#DIV/0!"}},{"$f":"SUM(AF58:AF59)","v":{"$error":"#DIV/0!"}},{"$f":"SUM(AG58:AG59)","v":{"$error":"#DIV/0!"}},{"$f":"SUM(AH58:AH59)","v":{"$error":"#DIV/0!"}},{"$f":"SUM(AI58:AI59)","v":0},{"$f":"SUM(AJ58:AJ59)","v":0},{"$f":"SUM(AK58:AK59)","v":0},{"$f":"SUM(AL58:AL59)","v":0},{"$f":"SUM(AM58:AM59)","v":0},{"$f":"SUM(AN58:AN59)","v":0},{"$f":"SUM(AO58:AO59)","v":0},{"$f":"SUM(AP58:AP59)","v":0},{"$f":"SUM(AQ58:AQ59)","v":0},{"$f":"SUM(AR58:AR59)","v":0},{"$f":"SUM(AS58:AS59)","v":0},{"$f":"SUM(AT58:AT59)","v":0},{"$f":"SUM(AU58:AU59)","v":0},{"$f":"SUM(AV58:AV59)","v":0},{"$error":"#DIV/0!"},{"$error":"#DIV/0!"},{"$error":"#DIV/0!"},{"$error":"#DIV/0!"},{"$error":"#DIV/0!"},{"$error":"#DIV/0!"},{"$error":"#DIV/0!"},{"$error":"#DIV/0!"},{"$error":"#DIV/0!"},{"$error":"#DIV/0!"},{"$error":"#DIV/0!"},{"$error":"#DIV/0!"},{"$error":"#DIV/0!"},{"$error":"#DIV/0!"},{"$f":"SUM(BK58:BK59)","v":0},{"$f":"SUM(BL58:BL59)","v":0},{"$f":"SUM(BM58:BM59)","v":0},{"$f":"SUM(BN58:BN59)","v":0},{"$f":"SUM(BO58:BO59)","v":0},{"$f":"SUM(BP58:BP59)","v":0},{"$f":"SUM(BQ58:BQ59)","v":0},{"$f":"SUM(BR58:BR59)","v":0},{"$f":"SUM(BS58:BS59)","v":0},{"$f":"SUM(BT58:BT59)","v":0},{"$f":"SUM(BU58:BU59)","v":0},{"$f":"SUM(BV58:BV59)","v":0},{"$f":"SUM(BW58:BW59)","v":0},{"$f":"SUM(BX58:BX59)","v":0},{"$error":"#DIV/0!"},{"$error":"#DIV/0!"},{"$error":"#DIV/0!"},{"$error":"#DIV/0!"},{"$error":"#DIV/0!"},{"$error":"#DIV/0!"},{"$error":"#DIV/0!"},{"$error":"#DIV/0!"},{"$error":"#DIV/0!"},{"$error":"#DIV/0!"},{"$error":"#DIV/0!"},{"$error":"#DIV/0!"},{"$error":"#DIV/0!"},{"$error":"#DIV/0!"}]
[null,"8\n(9)","あなたは、使いはじめに意図した（※）よりも長い時間インターネットを接続した状態でいますか？",1,"はい",1,{"$f":"問題別集計!G53","v":0},{"$f":"問題別集計!H53","v":0},{"$f":"問題別集計!I53","v":0},{"$f":"問題別集計!J53","v":0},{"$f":"問題別集計!K53","v":0},{"$f":"問題別集計!L53","v":0},{"$f":"問題別集計!M53","v":0},{"$f":"問題別集計!N53","v":0},{"$f":"問題別集計!O53","v":0},{"$f":"問題別集計!P53","v":0},{"$f":"問題別集計!Q53","v":0},{"$f":"問題別集計!R53","v":0},{"$f":"問題別集計!S53","v":0},{"$f":"問題別集計!T53","v":0},{"$f":"ROUND(G61/G63,3)*100","v":{"$error":"#DIV/0!"}},{"$error":"#DIV/0!"},{"$error":"#DIV/0!"},{"$error":"#DIV/0!"},{"$error":"#DIV/0!"},{"$error":"#DIV/0!"},{"$error":"#DIV/0!"},{"$error":"#DIV/0!"},{"$error":"#DIV/0!"},{"$error":"#DIV/0!"},{"$error":"#DIV/0!"},{"$error":"#DIV/0!"},{"$error":"#DIV/0!"},{"$error":"#DIV/0!"},{"$f":"問題別集計③!G53","v":0},{"$f":"問題別集計③!H53","v":0},{"$f":"問題別集計③!I53","v":0},{"$f":"問題別集計③!J53","v":0},{"$f":"問題別集計③!K53","v":0},{"$f":"問題別集計③!L53","v":0},{"$f":"問題別集計③!M53","v":0},{"$f":"問題別集計③!N53","v":0},{"$f":"問題別集計③!O53","v":0},{"$f":"問題別集計③!P53","v":0},{"$f":"問題別集計③!Q53","v":0},{"$f":"問題別集計③!R53","v":0},{"$f":"問題別集計③!S53","v":0},{"$f":"問題別集計③!T53","v":0},{"$f":"ROUND(AI61/AI63,3)*100","v":{"$error":"#DIV/0!"}},{"$error":"#DIV/0!"},{"$error":"#DIV/0!"},{"$error":"#DIV/0!"},{"$error":"#DIV/0!"},{"$error":"#DIV/0!"},{"$error":"#DIV/0!"},{"$error":"#DIV/0!"},{"$error":"#DIV/0!"},{"$error":"#DIV/0!"},{"$error":"#DIV/0!"},{"$error":"#DIV/0!"},{"$error":"#DIV/0!"},{"$error":"#DIV/0!"},{"$f":"問題別集計②!G53","v":0},{"$f":"問題別集計②!H53","v":0},{"$f":"問題別集計②!I53","v":0},{"$f":"問題別集計②!J53","v":0},{"$f":"問題別集計②!K53","v":0},{"$f":"問題別集計②!L53","v":0},{"$f":"問題別集計②!M53","v":0},{"$f":"問題別集計②!N53","v":0},{"$f":"問題別集計②!O53","v":0},{"$f":"問題別集計②!P53","v":0},{"$f":"問題別集計②!Q53","v":0},{"$f":"問題別集計②!R53","v":0},{"$f":"問題別集計②!S53","v":0},{"$f":"問題別集計②!T53","v":0},{"$f":"ROUND(BK61/BK63,3)*100","v":{"$error":"#DIV/0!"}},{"$error":"#DIV/0!"},{"$error":"#DIV/0!"},{"$error":"#DIV/0!"},{"$error":"#DIV/0!"},{"$error":"#DIV/0!"},{"$error":"#DIV/0!"},{"$error":"#DIV/0!"},{"$error":"#DIV/0!"},{"$error":"#DIV/0!"},{"$error":"#DIV/0!"},{"$error":"#DIV/0!"},{"$error":"#DIV/0!"},{"$error":"#DIV/0!"}]
[null,null,null,2,"いいえ","0点",{"$f":"問題別集計!G54","v":0},{"$f":"問題別集計!H54","v":0},{"$f":"問題別集計!I54","v":0},{"$f":"問題別集計!J54","v":0},{"$f":"問題別集計!K54","v":0},{"$f":"問題別集計!L54","v":0},{"$f":"問題別集計!M54","v":0},{"$f":"問題別集計!N54","v":0},{"$f":"問題別集計!O54","v":0},{"$f":"問題別集計!P54","v":0},{"$f":"問題別集計!Q54","v":0},{"$f":"問題別集計!R54","v":0},{"$f":"問題別集計!S54","v":0},{"$f":"問題別集計!T54","v":0},{"$f":"ROUND(G62/G63,3)*100","v":{"$error":"#DIV/0!"}},{"$error":"#DIV/0!"},{"$error":"#DIV/0!"},{"$error":"#DIV/0!"},{"$error":"#DIV/0!"},{"$error":"#DIV/0!"},{"$error":"#DIV/0!"},{"$error":"#DIV/0!"},{"$error":"#DIV/0!"},{"$error":"#DIV/0!"},{"$error":"#DIV/0!"},{"$error":"#DIV/0!"},{"$error":"#DIV/0!"},{"$error":"#DIV/0!"},{"$f":"問題別集計③!G54","v":0},{"$f":"問題別集計③!H54","v":0},{"$f":"問題別集計③!I54","v":0},{"$f":"問題別集計③!J54","v":0},{"$f":"問題別集計③!K54","v":0},{"$f":"問題別集計③!L54","v":0},{"$f":"問題別集計③!M54","v":0},{"$f":"問題別集計③!N54","v":0},{"$f":"問題別集計③!O54","v":0},{"$f":"問題別集計③!P54","v":0},{"$f":"問題別集計③!Q54","v":0},{"$f":"問題別集計③!R54","v":0},{"$f":"問題別集計③!S54","v":0},{"$f":"問題別集計③!T54","v":0},{"$f":"ROUND(AI62/AI63,3)*100","v":{"$error":"#DIV/0!"}},{"$error":"#DIV/0!"},{"$error":"#DIV/0!"},{"$error":"#DIV/0!"},{"$error":"#DIV/0!"},{"$error":"#DIV/0!"},{"$error":"#DIV/0!"},{"$error":"#DIV/0!"},{"$error":"#DIV/0!"},{"$error":"#DIV/0!"},{"$error":"#DIV/0!"},{"$error":"#DIV/0!"},{"$error":"#DIV/0!"},{"$error":"#DIV/0!"},{"$f":"問題別集計②!G54","v":0},{"$f":"問題別集計②!H54","v":0},{"$f":"問題別集計②!I54","v":0},{"$f":"問題別集計②!J54","v":0},{"$f":"問題別集計②!K54","v":0},{"$f":"問題別集計②!L54","v":0},{"$f":"問題別集計②!M54","v":0},{"$f":"問題別集計②!N54","v":0},{"$f":"問題別集計②!O54","v":0},{"$f":"問題別集計②!P54","v":0},{"$f":"問題別集計②!Q54","v":0},{"$f":"問題別集計②!R54","v":0},{"$f":"問題別集計②!S54","v":0},{"$f":"問題別集計②!T54","v":0},{"$f":"ROUND(BK62/BK63,3)*100","v":{"$error":"#DIV/0!"}},{"$error":"#DIV/0!"},{"$error":"#DIV/0!"},{"$error":"#DIV/0!"},{"$error":"#DIV/0!"},{"$error":"#DIV/0!"},{"$error":"#DIV/0!"},{"$error":"#DIV/0!"},{"$error":"#DIV/0!"},{"$error":"#DIV/0!"},{"$error":"#DIV/0!"},{"$error":"#DIV/0!"},{"$error":"#DIV/0!"},{"$error":"#DIV/0!"}]
[null,null,null,"計",null,null,{"$f":"SUM(G61:G62)","v":0},{"$f":"SUM(H61:H62)","v":0},{"$f":"SUM(I61:I62)","v":0},{"$f":"SUM(J61:J62)","v":0},{"$f":"SUM(K61:K62)","v":0},{"$f":"SUM(L61:L62)","v":0},{"$f":"SUM(M61:M62)","v":0},{"$f":"SUM(N61:N62)","v":0},{"$f":"SUM(O61:O62)","v":0},{"$f":"SUM(P61:P62)","v":0},{"$f":"SUM(Q61:Q62)","v":0},{"$f":"SUM(R61:R62)","v":0},{"$f":"SUM(S61:S62)","v":0},{"$f":"SUM(T61:T62)","v":0},{"$error":"#DIV/0!"},{"$f":"SUM(V61:V62)","v":{"$error":"#DIV/0!"}},{"$f":"SUM(W61:W62)","v":{"$error":"#DIV/0!"}},{"$f":"SUM(X61:X62)","v":{"$error":"#DIV/0!"}},{"$f":"SUM(Y61:Y62)","v":{"$error":"#DIV/0!"}},{"$f":"SUM(Z61:Z62)","v":{"$error":"#DIV/0!"}},{"$f":"SUM(AA61:AA62)","v":{"$error":"#DIV/0!"}},{"$f":"SUM(AB61:AB62)","v":{"$error":"#DIV/0!"}},{"$f":"SUM(AC61:AC62)","v":{"$error":"#DIV/0!"}},{"$f":"SUM(AD61:AD62)","v":{"$error":"#DIV/0!"}},{"$f":"SUM(AE61:AE62)","v":{"$error":"#DIV/0!"}},{"$f":"SUM(AF61:AF62)","v":{"$error":"#DIV/0!"}},{"$f":"SUM(AG61:AG62)","v":{"$error":"#DIV/0!"}},{"$f":"SUM(AH61:AH62)","v":{"$error":"#DIV/0!"}},{"$f":"SUM(AI61:AI62)","v":0},{"$f":"SUM(AJ61:AJ62)","v":0},{"$f":"SUM(AK61:AK62)","v":0},{"$f":"SUM(AL61:AL62)","v":0},{"$f":"SUM(AM61:AM62)","v":0},{"$f":"SUM(AN61:AN62)","v":0},{"$f":"SUM(AO61:AO62)","v":0},{"$f":"SUM(AP61:AP62)","v":0},{"$f":"SUM(AQ61:AQ62)","v":0},{"$f":"SUM(AR61:AR62)","v":0},{"$f":"SUM(AS61:AS62)","v":0},{"$f":"SUM(AT61:AT62)","v":0},{"$f":"SUM(AU61:AU62)","v":0},{"$f":"SUM(AV61:AV62)","v":0},{"$error":"#DIV/0!"},{"$error":"#DIV/0!"},{"$error":"#DIV/0!"},{"$error":"#DIV/0!"},{"$error":"#DIV/0!"},{"$error":"#DIV/0!"},{"$error":"#DIV/0!"},{"$error":"#DIV/0!"},{"$error":"#DIV/0!"},{"$error":"#DIV/0!"},{"$error":"#DIV/0!"},{"$error":"#DIV/0!"},{"$error":"#DIV/0!"},{"$error":"#DIV/0!"},{"$f":"SUM(BK61:BK62)","v":0},{"$f":"SUM(BL61:BL62)","v":0},{"$f":"SUM(BM61:BM62)","v":0},{"$f":"SUM(BN61:BN62)","v":0},{"$f":"SUM(BO61:BO62)","v":0},{"$f":"SUM(BP61:BP62)","v":0},{"$f":"SUM(BQ61:BQ62)","v":0},{"$f":"SUM(BR61:BR62)","v":0},{"$f":"SUM(BS61:BS62)","v":0},{"$f":"SUM(BT61:BT62)","v":0},{"$f":"SUM(BU61:BU62)","v":0},{"$f":"SUM(BV61:BV62)","v":0},{"$f":"SUM(BW61:BW62)","v":0},{"$f":"SUM(BX61:BX62)","v":0},{"$error":"#DIV/0!"},{"$error":"#DIV/0!"},{"$error":"#DIV/0!"},{"$error":"#DIV/0!"},{"$error":"#DIV/0!"},{"$error":"#DIV/0!"},{"$error":"#DIV/0!"},{"$error":"#DIV/0!"},{"$error":"#DIV/0!"},{"$error":"#DIV/0!"},{"$error":"#DIV/0!"},{"$error":"#DIV/0!"},{"$error":"#DIV/0!"},{"$error":"#DIV/0!"}]
[null,"9\n(10)","あなたは、インターネットのために大切な人間関係、学校のことや、部活動のことを台無しにしたり、あやうくするようなことがありましたか？",1,"はい",1,{"$f":"問題別集計!G55","v":0},{"$f":"問題別集計!H55","v":0},{"$f":"問題別集計!I55","v":0},{"$f":"問題別集計!J55","v":0},{"$f":"問題別集計!K55","v":0},{"$f":"問題別集計!L55","v":0},{"$f":"問題別集計!M55","v":0},{"$f":"問題別集計!N55","v":0},{"$f":"問題別集計!O55","v":0},{"$f":"問題別集計!P55","v":0},{"$f":"問題別集計!Q55","v":0},{"$f":"問題別集計!R55","v":0},{"$f":"問題別集計!S55","v":0},{"$f":"問題別集計!T55","v":0},{"$f":"ROUND(G64/G66,3)*100","v":{"$error":"#DIV/0!"}},{"$error":"#DIV/0!"},{"$error":"#DIV/0!"},{"$error":"#DIV/0!"},{"$error":"#DIV/0!"},{"$error":"#DIV/0!"},{"$error":"#DIV/0!"},{"$error":"#DIV/0!"},{"$error":"#DIV/0!"},{"$error":"#DIV/0!"},{"$error":"#DIV/0!"},{"$error":"#DIV/0!"},{"$error":"#DIV/0!"},{"$error":"#DIV/0!"},{"$f":"問題別集計③!G55","v":0},{"$f":"問題別集計③!H55","v":0},{"$f":"問題別集計③!I55","v":0},{"$f":"問題別集計③!J55","v":0},{"$f":"問題別集計③!K55","v":0},{"$f":"問題別集計③!L55","v":0},{"$f":"問題別集計③!M55","v":0},{"$f":"問題別集計③!N55","v":0},{"$f":"問題別集計③!O55","v":0},{"$f":"問題別集計③!P55","v":0},{"$f":"問題別集計③!Q55","v":0},{"$f":"問題別集計③!R55","v":0},{"$f":"問題別集計③!S55","v":0},{"$f":"問題別集計③!T55","v":0},{"$f":"ROUND(AI64/AI66,3)*100","v":{"$error":"#DIV/0!"}},{"$error":"#DIV/0!"},{"$error":"#DIV/0!"},{"$error":"#DIV/0!"},{"$error":"#DIV/0!"},{"$error":"#DIV/0!"},{"$error":"#DIV/0!"},{"$error":"#DIV/0!"},{"$error":"#DIV/0!"},{"$error":"#DIV/0!"},{"$error":"#DIV/0!"},{"$error":"#DIV/0!"},{"$error":"#DIV/0!"},{"$error":"#DIV/0!"},{"$f":"問題別集計②!G55","v":0},{"$f":"問題別集計②!H55","v":0},{"$f":"問題別集計②!I55","v":0},{"$f":"問題別集計②!J55","v":0},{"$f":"問題別集計②!K55","v":0},{"$f":"問題別集計②!L55","v":0},{"$f":"問題別集計②!M55","v":0},{"$f":"問題別集計②!N55","v":0},{"$f":"問題別集計②!O55","v":0},{"$f":"問題別集計②!P55","v":0},{"$f":"問題別集計②!Q55","v":0},{"$f":"問題別集計②!R55","v":0},{"$f":"問題別集計②!S55","v":0},{"$f":"問題別集計②!T55","v":0},{"$f":"ROUND(BK64/BK66,3)*100","v":{"$error":"#DIV/0!"}},{"$error":"#DIV/0!"},{"$error":"#DIV/0!"},{"$error":"#DIV/0!"},{"$error":"#DIV/0!"},{"$error":"#DIV/0!"},{"$error":"#DIV/0!"},{"$error":"#DIV/0!"},{"$error":"#DIV/0!"},{"$error":"#DIV/0!"},{"$error":"#DIV/0!"},{"$error":"#DIV/0!"},{"$error":"#DIV/0!"},{"$error":"#DIV/0!"}]
[null,null,null,2,"いいえ","0点",{"$f":"問題別集計!G56","v":0},{"$f":"問題別集計!H56","v":0},{"$f":"問題別集計!I56","v":0},{"$f":"問題別集計!J56","v":0},{"$f":"問題別集計!K56","v":0},{"$f":"問題別集計!L56","v":0},{"$f":"問題別集計!M56","v":0},{"$f":"問題別集計!N56","v":0},{"$f":"問題別集計!O56","v":0},{"$f":"問題別集計!P56","v":0},{"$f":"問題別集計!Q56","v":0},{"$f":"問題別集計!R56","v":0},{"$f":"問題別集計!S56","v":0},{"$f":"問題別集計!T56","v":0},{"$f":"ROUND(G65/G66,3)*100","v":{"$error":"#DIV/0!"}},{"$error":"#DIV/0!"},{"$error":"#DIV/0!"},{"$error":"#DIV/0!"},{"$error":"#DIV/0!"},{"$error":"#DIV/0!"},{"$error":"#DIV/0!"},{"$error":"#DIV/0!"},{"$error":"#DIV/0!"},{"$error":"#DIV/0!"},{"$error":"#DIV/0!"},{"$error":"#DIV/0!"},{"$error":"#DIV/0!"},{"$error":"#DIV/0!"},{"$f":"問題別集計③!G56","v":0},{"$f":"問題別集計③!H56","v":0},{"$f":"問題別集計③!I56","v":0},{"$f":"問題別集計③!J56","v":0},{"$f":"問題別集計③!K56","v":0},{"$f":"問題別集計③!L56","v":0},{"$f":"問題別集計③!M56","v":0},{"$f":"問題別集計③!N56","v":0},{"$f":"問題別集計③!O56","v":0},{"$f":"問題別集計③!P56","v":0},{"$f":"問題別集計③!Q56","v":0},{"$f":"問題別集計③!R56","v":0},{"$f":"問題別集計③!S56","v":0},{"$f":"問題別集計③!T56","v":0},{"$f":"ROUND(AI65/AI66,3)*100","v":{"$error":"#DIV/0!"}},{"$error":"#DIV/0!"},{"$error":"#DIV/0!"},{"$error":"#DIV/0!"},{"$error":"#DIV/0!"},{"$error":"#DIV/0!"},{"$error":"#DIV/0!"},{"$error":"#DIV/0!"},{"$error":"#DIV/0!"},{"$error":"#DIV/0!"},{"$error":"#DIV/0!"},{"$error":"#DIV/0!"},{"$error":"#DIV/0!"},{"$error":"#DIV/0!"},{"$f":"問題別集計②!G56","v":0},{"$f":"問題別集計②!H56","v":0},{"$f":"問題別集計②!I56","v":0},{"$f":"問題別集計②!J56","v":0},{"$f":"問題別集計②!K56","v":0},{"$f":"問題別集計②!L56","v":0},{"$f":"問題別集計②!M56","v":0},{"$f":"問題別集計②!N56","v":0},{"$f":"問題別集計②!O56","v":0},{"$f":"問題別集計②!P56","v":0},{"$f":"問題別集計②!Q56","v":0},{"$f":"問題別集計②!R56","v":0},{"$f":"問題別集計②!S56","v":0},{"$f":"問題別集計②!T56","v":0},{"$f":"ROUND(BK65/BK66,3)*100","v":{"$error":"#DIV/0!"}},{"$error":"#DIV/0!"},{"$error":"#DIV/0!"},{"$error":"#DIV/0!"},{"$error":"#DIV/0!"},{"$error":"#DIV/0!"},{"$error":"#DIV/0!"},{"$error":"#DIV/0!"},{"$error":"#DIV/0!"},{"$error":"#DIV/0!"},{"$error":"#DIV/0!"},{"$error":"#DIV/0!"},{"$error":"#DIV/0!"},{"$error":"#DIV/0!"}]
[null,null,null,"計",null,null,{"$f":"SUM(G64:G65)","v":0},{"$f":"SUM(H64:H65)","v":0},{"$f":"SUM(I64:I65)","v":0},{"$f":"SUM(J64:J65)","v":0},{"$f":"SUM(K64:K65)","v":0},{"$f":"SUM(L64:L65)","v":0},{"$f":"SUM(M64:M65)","v":0},{"$f":"SUM(N64:N65)","v":0},{"$f":"SUM(O64:O65)","v":0},{"$f":"SUM(P64:P65)","v":0},{"$f":"SUM(Q64:Q65)","v":0},{"$f":"SUM(R64:R65)","v":0},{"$f":"SUM(S64:S65)","v":0},{"$f":"SUM(T64:T65)","v":0},{"$error":"#DIV/0!"},{"$f":"SUM(V64:V65)","v":{"$error":"#DIV/0!"}},{"$f":"SUM(W64:W65)","v":{"$error":"#DIV/0!"}},{"$f":"SUM(X64:X65)","v":{"$error":"#DIV/0!"}},{"$f":"SUM(Y64:Y65)","v":{"$error":"#DIV/0!"}},{"$f":"SUM(Z64:Z65)","v":{"$error":"#DIV/0!"}},{"$f":"SUM(AA64:AA65)","v":{"$error":"#DIV/0!"}},{"$f":"SUM(AB64:AB65)","v":{"$error":"#DIV/0!"}},{"$f":"SUM(AC64:AC65)","v":{"$error":"#DIV/0!"}},{"$f":"SUM(AD64:AD65)","v":{"$error":"#DIV/0!"}},{"$f":"SUM(AE64:AE65)","v":{"$error":"#DIV/0!"}},{"$f":"SUM(AF64:AF65)","v":{"$error":"#DIV/0!"}},{"$f":"SUM(AG64:AG65)","v":{"$error":"#DIV/0!"}},{"$f":"SUM(AH64:AH65)","v":{"$error":"#DIV/0!"}},{"$f":"SUM(AI64:AI65)","v":0},{"$f":"SUM(AJ64:AJ65)","v":0},{"$f":"SUM(AK64:AK65)","v":0},{"$f":"SUM(AL64:AL65)","v":0},{"$f":"SUM(AM64:AM65)","v":0},{"$f":"SUM(AN64:AN65)","v":0},{"$f":"SUM(AO64:AO65)","v":0},{"$f":"SUM(AP64:AP65)","v":0},{"$f":"SUM(AQ64:AQ65)","v":0},{"$f":"SUM(AR64:AR65)","v":0},{"$f":"SUM(AS64:AS65)","v":0},{"$f":"SUM(AT64:AT65)","v":0},{"$f":"SUM(AU64:AU65)","v":0},{"$f":"SUM(AV64:AV65)","v":0},{"$error":"#DIV/0!"},{"$error":"#DIV/0!"},{"$error":"#DIV/0!"},{"$error":"#DIV/0!"},{"$error":"#DIV/0!"},{"$error":"#DIV/0!"},{"$error":"#DIV/0!"},{"$error":"#DIV/0!"},{"$error":"#DIV/0!"},{"$error":"#DIV/0!"},{"$error":"#DIV/0!"},{"$error":"#DIV/0!"},{"$error":"#DIV/0!"},{"$error":"#DIV/0!"},{"$f":"SUM(BK64:BK65)","v":0},{"$f":"SUM(BL64:BL65)","v":0},{"$f":"SUM(BM64:BM65)","v":0},{"$f":"SUM(BN64:BN65)","v":0},{"$f":"SUM(BO64:BO65)","v":0},{"$f":"SUM(BP64:BP65)","v":0},{"$f":"SUM(BQ64:BQ65)","v":0},{"$f":"SUM(BR64:BR65)","v":0},{"$f":"SUM(BS64:BS65)","v":0},{"$f":"SUM(BT64:BT65)","v":0},{"$f":"SUM(BU64:BU65)","v":0},{"$f":"SUM(BV64:BV65)","v":0},{"$f":"SUM(BW64:BW65)","v":0},{"$f":"SUM(BX64:BX65)","v":0},{"$error":"#DIV/0!"},{"$error":"#DIV/0!"},{"$error":"#DIV/0!"},{"$error":"#DIV/0!"},{"$error":"#DIV/0!"},{"$error":"#DIV/0!"},{"$error":"#DIV/0!"},{"$error":"#DIV/0!"},{"$error":"#DIV/0!"},{"$error":"#DIV/0!"},{"$error":"#DIV/0!"},{"$error":"#DIV/0!"},{"$error":"#DIV/0!"},{"$error":"#DIV/0!"}]
[null,"10\n(11)","あなたは、インターネットへの熱中のしすぎをかくすために、家族、学校の先生やその他の人たちにうそをついたことがありましたか？",1,"はい",1,{"$f":"問題別集計!G57","v":0},{"$f":"問題別集計!H57","v":0},{"$f":"問題別集計!I57","v":0},{"$f":"問題別集計!J57","v":0},{"$f":"問題別集計!K57","v":0},{"$f":"問題別集計!L57","v":0},{"$f":"問題別集計!M57","v":0},{"$f":"問題別集計!N57","v":0},{"$f":"問題別集計!O57","v":0},{"$f":"問題別集計!P57","v":0},{"$f":"問題別集計!Q57","v":0},{"$f":"問題別集計!R57","v":0},{"$f":"問題別集計!S57","v":0},{"$f":"問題別集計!T57","v":0},{"$f":"ROUND(G67/G69,3)*100","v":{"$error":"#DIV/0!"}},{"$error":"#DIV/0!"},{"$error":"#DIV/0!"},{"$error":"#DIV/0!"},{"$error":"#DIV/0!"},{"$error":"#DIV/0!"},{"$error":"#DIV/0!"},{"$error":"#DIV/0!"},{"$error":"#DIV/0!"},{"$error":"#DIV/0!"},{"$error":"#DIV/0!"},{"$error":"#DIV/0!"},{"$error":"#DIV/0!"},{"$error":"#DIV/0!"},{"$f":"問題別集計③!G57","v":0},{"$f":"問題別集計③!H57","v":0},{"$f":"問題別集計③!I57","v":0},{"$f":"問題別集計③!J57","v":0},{"$f":"問題別集計③!K57","v":0},{"$f":"問題別集計③!L57","v":0},{"$f":"問題別集計③!M57","v":0},{"$f":"問題別集計③!N57","v":0},{"$f":"問題別集計③!O57","v":0},{"$f":"問題別集計③!P57","v":0},{"$f":"問題別集計③!Q57","v":0},{"$f":"問題別集計③!R57","v":0},{"$f":"問題別集計③!S57","v":0},{"$f":"問題別集計③!T57","v":0},{"$f":"ROUND(AI67/AI69,3)*100","v":{"$error":"#DIV/0!"}},{"$error":"#DIV/0!"},{"$error":"#DIV/0!"},{"$error":"#DIV/0!"},{"$error":"#DIV/0!"},{"$error":"#DIV/0!"},{"$error":"#DIV/0!"},{"$error":"#DIV/0!"},{"$error":"#DIV/0!"},{"$error":"#DIV/0!"},{"$error":"#DIV/0!"},{"$error":"#DIV/0!"},{"$error":"#DIV/0!"},{"$error":"#DIV/0!"},{"$f":"問題別集計②!G57","v":0},{"$f":"問題別集計②!H57","v":0},{"$f":"問題別集計②!I57","v":0},{"$f":"問題別集計②!J57","v":0},{"$f":"問題別集計②!K57","v":0},{"$f":"問題別集計②!L57","v":0},{"$f":"問題別集計②!M57","v":0},{"$f":"問題別集計②!N57","v":0},{"$f":"問題別集計②!O57","v":0},{"$f":"問題別集計②!P57","v":0},{"$f":"問題別集計②!Q57","v":0},{"$f":"問題別集計②!R57","v":0},{"$f":"問題別集計②!S57","v":0},{"$f":"問題別集計②!T57","v":0},{"$f":"ROUND(BK67/BK69,3)*100","v":{"$error":"#DIV/0!"}},{"$error":"#DIV/0!"},{"$error":"#DIV/0!"},{"$error":"#DIV/0!"},{"$error":"#DIV/0!"},{"$error":"#DIV/0!"},{"$error":"#DIV/0!"},{"$error":"#DIV/0!"},{"$error":"#DIV/0!"},{"$error":"#DIV/0!"},{"$error":"#DIV/0!"},{"$error":"#DIV/0!"},{"$error":"#DIV/0!"},{"$error":"#DIV/0!"}]
[null,null,null,2,"いいえ","0点",{"$f":"問題別集計!G58","v":0},{"$f":"問題別集計!H58","v":0},{"$f":"問題別集計!I58","v":0},{"$f":"問題別集計!J58","v":0},{"$f":"問題別集計!K58","v":0},{"$f":"問題別集計!L58","v":0},{"$f":"問題別集計!M58","v":0},{"$f":"問題別集計!N58","v":0},{"$f":"問題別集計!O58","v":0},{"$f":"問題別集計!P58","v":0},{"$f":"問題別集計!Q58","v":0},{"$f":"問題別集計!R58","v":0},{"$f":"問題別集計!S58","v":0},{"$f":"問題別集計!T58","v":0},{"$f":"ROUND(G68/G69,3)*100","v":{"$error":"#DIV/0!"}},{"$error":"#DIV/0!"},{"$error":"#DIV/0!"},{"$error":"#DIV/0!"},{"$error":"#DIV/0!"},{"$error":"#DIV/0!"},{"$error":"#DIV/0!"},{"$error":"#DIV/0!"},{"$error":"#DIV/0!"},{"$error":"#DIV/0!"},{"$error":"#DIV/0!"},{"$error":"#DIV/0!"},{"$error":"#DIV/0!"},{"$error":"#DIV/0!"},{"$f":"問題別集計③!G58","v":0},{"$f":"問題別集計③!H58","v":0},{"$f":"問題別集計③!I58","v":0},{"$f":"問題別集計③!J58","v":0},{"$f":"問題別集計③!K58","v":0},{"$f":"問題別集計③!L58","v":0},{"$f":"問題別集計③!M58","v":0},{"$f":"問題別集計③!N58","v":0},{"$f":"問題別集計③!O58","v":0},{"$f":"問題別集計③!P58","v":0},{"$f":"問題別集計③!Q58","v":0},{"$f":"問題別集計③!R58","v":0},{"$f":"問題別集計③!S58","v":0},{"$f":"問題別集計③!T58","v":0},{"$f":"ROUND(AI68/AI69,3)*100","v":{"$error":"#DIV/0!"}},{"$error":"#DIV/0!"},{"$error":"#DIV/0!"},{"$error":"#DIV/0!"},{"$error":"#DIV/0!"},{"$error":"#DIV/0!"},{"$error":"#DIV/0!"},{"$error":"#DIV/0!"},{"$error":"#DIV/0!"},{"$error":"#DIV/0!"},{"$error":"#DIV/0!"},{"$error":"#DIV/0!"},{"$error":"#DIV/0!"},{"$error":"#DIV/0!"},{"$f":"問題別集計②!G58","v":0},{"$f":"問題別集計②!H58","v":0},{"$f":"問題別集計②!I58","v":0},{"$f":"問題別集計②!J58","v":0},{"$f":"問題別集計②!K58","v":0},{"$f":"問題別集計②!L58","v":0},{"$f":"問題別集計②!M58","v":0},{"$f":"問題別集計②!N58","v":0},{"$f":"問題別集計②!O58","v":0},{"$f":"問題別集計②!P58","v":0},{"$f":"問題別集計②!Q58","v":0},{"$f":"問題別集計②!R58","v":0},{"$f":"問題別集計②!S58","v":0},{"$f":"問題別集計②!T58","v":0},{"$f":"ROUND(BK68/BK69,3)*100","v":{"$error":"#DIV/0!"}},{"$error":"#DIV/0!"},{"$error":"#DIV/0!"},{"$error":"#DIV/0!"},{"$error":"#DIV/0!"},{"$error":"#DIV/0!"},{"$error":"#DIV/0!"},{"$error":"#DIV/0!"},{"$error":"#DIV/0!"},{"$error":"#DIV/0!"},{"$error":"#DIV/0!"},{"$error":"#DIV/0!"},{"$error":"#DIV/0!"},{"$error":"#DIV/0!"}]
[null,null,null,"計",null,null,{"$f":"SUM(G67:G68)","v":0},{"$f":"SUM(H67:H68)","v":0},{"$f":"SUM(I67:I68)","v":0},{"$f":"SUM(J67:J68)","v":0},{"$f":"SUM(K67:K68)","v":0},{"$f":"SUM(L67:L68)","v":0},{"$f":"SUM(M67:M68)","v":0},{"$f":"SUM(N67:N68)","v":0},{"$f":"SUM(O67:O68)","v":0},{"$f":"SUM(P67:P68)","v":0},{"$f":"SUM(Q67:Q68)","v":0},{"$f":"SUM(R67:R68)","v":0},{"$f":"SUM(S67:S68)","v":0},{"$f":"SUM(T67:T68)","v":0},{"$error":"#DIV/0!"},{"$f":"SUM(V67:V68)","v":{"$error":"#DIV/0!"}},{"$f":"SUM(W67:W68)","v":{"$error":"#DIV/0!"}},{"$f":"SUM(X67:X68)","v":{"$error":"#DIV/0!"}},{"$f":"SUM(Y67:Y68)","v":{"$error":"#DIV/0!"}},{"$f":"SUM(Z67:Z68)","v":{"$error":"#DIV/0!"}},{"$f":"SUM(AA67:AA68)","v":{"$error":"#DIV/0!"}},{"$f":"SUM(AB67:AB68)","v":{"$error":"#DIV/0!"}},{"$f":"SUM(AC67:AC68)","v":{"$error":"#DIV/0!"}},{"$f":"SUM(AD67:AD68)","v":{"$error":"#DIV/0!"}},{"$f":"SUM(AE67:AE68)","v":{"$error":"#DIV/0!"}},{"$f":"SUM(AF67:AF68)","v":{"$error":"#DIV/0!"}},{"$f":"SUM(AG67:AG68)","v":{"$error":"#DIV/0!"}},{"$f":"SUM(AH67:AH68)","v":{"$error":"#DIV/0!"}},{"$f":"SUM(AI67:AI68)","v":0},{"$f":"SUM(AJ67:AJ68)","v":0},{"$f":"SUM(AK67:AK68)","v":0},{"$f":"SUM(AL67:AL68)","v":0},{"$f":"SUM(AM67:AM68)","v":0},{"$f":"SUM(AN67:AN68)","v":0},{"$f":"SUM(AO67:AO68)","v":0},{"$f":"SUM(AP67:AP68)","v":0},{"$f":"SUM(AQ67:AQ68)","v":0},{"$f":"SUM(AR67:AR68)","v":0},{"$f":"SUM(AS67:AS68)","v":0},{"$f":"SUM(AT67:AT68)","v":0},{"$f":"SUM(AU67:AU68)","v":0},{"$f":"SUM(AV67:AV68)","v":0},{"$error":"#DIV/0!"},{"$error":"#DIV/0!"},{"$error":"#DIV/0!"},{"$error":"#DIV/0!"},{"$error":"#DIV/0!"},{"$error":"#DIV/0!"},{"$error":"#DIV/0!"},{"$error":"#DIV/0!"},{"$error":"#DIV/0!"},{"$error":"#DIV/0!"},{"$error":"#DIV/0!"},{"$error":"#DIV/0!"},{"$error":"#DIV/0!"},{"$error":"#DIV/0!"},{"$f":"SUM(BK67:BK68)","v":0},{"$f":"SUM(BL67:BL68)","v":0},{"$f":"SUM(BM67:BM68)","v":0},{"$f":"SUM(BN67:BN68)","v":0},{"$f":"SUM(BO67:BO68)","v":0},{"$f":"SUM(BP67:BP68)","v":0},{"$f":"SUM(BQ67:BQ68)","v":0},{"$f":"SUM(BR67:BR68)","v":0},{"$f":"SUM(BS67:BS68)","v":0},{"$f":"SUM(BT67:BT68)","v":0},{"$f":"SUM(BU67:BU68)","v":0},{"$f":"SUM(BV67:BV68)","v":0},{"$f":"SUM(BW67:BW68)","v":0},{"$f":"SUM(BX67:BX68)","v":0},{"$error":"#DIV/0!"},{"$error":"#DIV/0!"},{"$error":"#DIV/0!"},{"$error":"#DIV/0!"},{"$error":"#DIV/0!"},{"$error":"#DIV/0!"},{"$error":"#DIV/0!"},{"$error":"#DIV/0!"},{"$error":"#DIV/0!"},{"$error":"#DIV/0!"},{"$error":"#DIV/0!"},{"$error":"#DIV/0!"},{"$error":"#DIV/0!"},{"$error":"#DIV/0!"}]
[null,"11\n(12)","あなたは、問題から逃げるために、または、絶望的な気持ち、罪悪感、不安、落ち込みなどといった いやな気持ちから逃げるために、インターネットを使いますか？",1,"はい",1,{"$f":"問題別集計!G59","v":0},{"$f":"問題別集計!H59","v":0},{"$f":"問題別集計!I59","v":0},{"$f":"問題別集計!J59","v":0},{"$f":"問題別集計!K59","v":0},{"$f":"問題別集計!L59","v":0},{"$f":"問題別集計!M59","v":0},{"$f":"問題別集計!N59","v":0},{"$f":"問題別集計!O59","v":0},{"$f":"問題別集計!P59","v":0},{"$f":"問題別集計!Q59","v":0},{"$f":"問題別集計!R59","v":0},{"$f":"問題別集計!S59","v":0},{"$f":"問題別集計!T59","v":0},{"$f":"ROUND(G70/G72,3)*100","v":{"$error":"#DIV/0!"}},{"$error":"#DIV/0!"},{"$error":"#DIV/0!"},{"$error":"#DIV/0!"},{"$error":"#DIV/0!"},{"$error":"#DIV/0!"},{"$error":"#DIV/0!"},{"$error":"#DIV/0!"},{"$error":"#DIV/0!"},{"$error":"#DIV/0!"},{"$error":"#DIV/0!"},{"$error":"#DIV/0!"},{"$error":"#DIV/0!"},{"$error":"#DIV/0!"},{"$f":"問題別集計③!G59","v":0},{"$f":"問題別集計③!H59","v":0},{"$f":"問題別集計③!I59","v":0},{"$f":"問題別集計③!J59","v":0},{"$f":"問題別集計③!K59","v":0},{"$f":"問題別集計③!L59","v":0},{"$f":"問題別集計③!M59","v":0},{"$f":"問題別集計③!N59","v":0},{"$f":"問題別集計③!O59","v":0},{"$f":"問題別集計③!P59","v":0},{"$f":"問題別集計③!Q59","v":0},{"$f":"問題別集計③!R59","v":0},{"$f":"問題別集計③!S59","v":0},{"$f":"問題別集計③!T59","v":0},{"$f":"ROUND(AI70/AI72,3)*100","v":{"$error":"#DIV/0!"}},{"$error":"#DIV/0!"},{"$error":"#DIV/0!"},{"$error":"#DIV/0!"},{"$error":"#DIV/0!"},{"$error":"#DIV/0!"},{"$error":"#DIV/0!"},{"$error":"#DIV/0!"},{"$error":"#DIV/0!"},{"$error":"#DIV/0!"},{"$error":"#DIV/0!"},{"$error":"#DIV/0!"},{"$error":"#DIV/0!"},{"$error":"#DIV/0!"},{"$f":"問題別集計②!G59","v":0},{"$f":"問題別集計②!H59","v":0},{"$f":"問題別集計②!I59","v":0},{"$f":"問題別集計②!J59","v":0},{"$f":"問題別集計②!K59","v":0},{"$f":"問題別集計②!L59","v":0},{"$f":"問題別集計②!M59","v":0},{"$f":"問題別集計②!N59","v":0},{"$f":"問題別集計②!O59","v":0},{"$f":"問題別集計②!P59","v":0},{"$f":"問題別集計②!Q59","v":0},{"$f":"問題別集計②!R59","v":0},{"$f":"問題別集計②!S59","v":0},{"$f":"問題別集計②!T59","v":0},{"$f":"ROUND(BK70/BK72,3)*100","v":{"$error":"#DIV/0!"}},{"$error":"#DIV/0!"},{"$error":"#DIV/0!"},{"$error":"#DIV/0!"},{"$error":"#DIV/0!"},{"$error":"#DIV/0!"},{"$error":"#DIV/0!"},{"$error":"#DIV/0!"},{"$error":"#DIV/0!"},{"$error":"#DIV/0!"},{"$error":"#DIV/0!"},{"$error":"#DIV/0!"},{"$error":"#DIV/0!"},{"$error":"#DIV/0!"}]
[null,null,null,2,"いいえ","0点",{"$f":"問題別集計!G60","v":0},{"$f":"問題別集計!H60","v":0},{"$f":"問題別集計!I60","v":0},{"$f":"問題別集計!J60","v":0},{"$f":"問題別集計!K60","v":0},{"$f":"問題別集計!L60","v":0},{"$f":"問題別集計!M60","v":0},{"$f":"問題別集計!N60","v":0},{"$f":"問題別集計!O60","v":0},{"$f":"問題別集計!P60","v":0},{"$f":"問題別集計!Q60","v":0},{"$f":"問題別集計!R60","v":0},{"$f":"問題別集計!S60","v":0},{"$f":"問題別集計!T60","v":0},{"$f":"ROUND(G71/G72,3)*100","v":{"$error":"#DIV/0!"}},{"$error":"#DIV/0!"},{"$error":"#DIV/0!"},{"$error":"#DIV/0!"},{"$error":"#DIV/0!"},{"$error":"#DIV/0!"},{"$error":"#DIV/0!"},{"$error":"#DIV/0!"},{"$error":"#DIV/0!"},{"$error":"#DIV/0!"},{"$error":"#DIV/0!"},{"$error":"#DIV/0!"},{"$error":"#DIV/0!"},{"$error":"#DIV/0!"},{"$f":"問題別集計③!G60","v":0},{"$f":"問題別集計③!H60","v":0},{"$f":"問題別集計③!I60","v":0},{"$f":"問題別集計③!J60","v":0},{"$f":"問題別集計③!K60","v":0},{"$f":"問題別集計③!L60","v":0},{"$f":"問題別集計③!M60","v":0},{"$f":"問題別集計③!N60","v":0},{"$f":"問題別集計③!O60","v":0},{"$f":"問題別集計③!P60","v":0},{"$f":"問題別集計③!Q60","v":0},{"$f":"問題別集計③!R60","v":0},{"$f":"問題別集計③!S60","v":0},{"$f":"問題別集計③!T60","v":0},{"$f":"ROUND(AI71/AI72,3)*100","v":{"$error":"#DIV/0!"}},{"$error":"#DIV/0!"},{"$error":"#DIV/0!"},{"$error":"#DIV/0!"},{"$error":"#DIV/0!"},{"$error":"#DIV/0!"},{"$error":"#DIV/0!"},{"$error":"#DIV/0!"},{"$error":"#DIV/0!"},{"$error":"#DIV/0!"},{"$error":"#DIV/0!"},{"$error":"#DIV/0!"},{"$error":"#DIV/0!"},{"$error":"#DIV/0!"},{"$f":"問題別集計②!G60","v":0},{"$f":"問題別集計②!H60","v":0},{"$f":"問題別集計②!I60","v":0},{"$f":"問題別集計②!J60","v":0},{"$f":"問題別集計②!K60","v":0},{"$f":"問題別集計②!L60","v":0},{"$f":"問題別集計②!M60","v":0},{"$f":"問題別集計②!N60","v":0},{"$f":"問題別集計②!O60","v":0},{"$f":"問題別集計②!P60","v":0},{"$f":"問題別集計②!Q60","v":0},{"$f":"問題別集計②!R60","v":0},{"$f":"問題別集計②!S60","v":0},{"$f":"問題別集計②!T60","v":0},{"$f":"ROUND(BK71/BK72,3)*100","v":{"$error":"#DIV/0!"}},{"$error":"#DIV/0!"},{"$error":"#DIV/0!"},{"$error":"#DIV/0!"},{"$error":"#DIV/0!"},{"$error":"#DIV/0!"},{"$error":"#DIV/0!"},{"$error":"#DIV/0!"},{"$error":"#DIV/0!"},{"$error":"#DIV/0!"},{"$error":"#DIV/0!"},{"$error":"#DIV/0!"},{"$error":"#DIV/0!"},{"$error":"#DIV/0!"}]
[null,null,null,"計",null,null,{"$f":"SUM(G70:G71)","v":0},{"$f":"SUM(H70:H71)","v":0},{"$f":"SUM(I70:I71)","v":0},{"$f":"SUM(J70:J71)","v":0},{"$f":"SUM(K70:K71)","v":0},{"$f":"SUM(L70:L71)","v":0},{"$f":"SUM(M70:M71)","v":0},{"$f":"SUM(N70:N71)","v":0},{"$f":"SUM(O70:O71)","v":0},{"$f":"SUM(P70:P71)","v":0},{"$f":"SUM(Q70:Q71)","v":0},{"$f":"SUM(R70:R71)","v":0},{"$f":"SUM(S70:S71)","v":0},{"$f":"SUM(T70:T71)","v":0},{"$error":"#DIV/0!"},{"$f":"SUM(V70:V71)","v":{"$error":"#DIV/0!"}},{"$f":"SUM(W70:W71)","v":{"$error":"#DIV/0!"}},{"$f":"SUM(X70:X71)","v":{"$error":"#DIV/0!"}},{"$f":"SUM(Y70:Y71)","v":{"$error":"#DIV/0!"}},{"$f":"SUM(Z70:Z71)","v":{"$error":"#DIV/0!"}},{"$f":"SUM(AA70:AA71)","v":{"$error":"#DIV/0!"}},{"$f":"SUM(AB70:AB71)","v":{"$error":"#DIV/0!"}},{"$f":"SUM(AC70:AC71)","v":{"$error":"#DIV/0!"}},{"$f":"SUM(AD70:AD71)","v":{"$error":"#DIV/0!"}},{"$f":"SUM(AE70:AE71)","v":{"$error":"#DIV/0!"}},{"$f":"SUM(AF70:AF71)","v":{"$error":"#DIV/0!"}},{"$f":"SUM(AG70:AG71)","v":{"$error":"#DIV/0!"}},{"$f":"SUM(AH70:AH71)","v":{"$error":"#DIV/0!"}},{"$f":"SUM(AI70:AI71)","v":0},{"$f":"SUM(AJ70:AJ71)","v":0},{"$f":"SUM(AK70:AK71)","v":0},{"$f":"SUM(AL70:AL71)","v":0},{"$f":"SUM(AM70:AM71)","v":0},{"$f":"SUM(AN70:AN71)","v":0},{"$f":"SUM(AO70:AO71)","v":0},{"$f":"SUM(AP70:AP71)","v":0},{"$f":"SUM(AQ70:AQ71)","v":0},{"$f":"SUM(AR70:AR71)","v":0},{"$f":"SUM(AS70:AS71)","v":0},{"$f":"SUM(AT70:AT71)","v":0},{"$f":"SUM(AU70:AU71)","v":0},{"$f":"SUM(AV70:AV71)","v":0},{"$error":"#DIV/0!"},{"$error":"#DIV/0!"},{"$error":"#DIV/0!"},{"$error":"#DIV/0!"},{"$error":"#DIV/0!"},{"$error":"#DIV/0!"},{"$error":"#DIV/0!"},{"$error":"#DIV/0!"},{"$error":"#DIV/0!"},{"$error":"#DIV/0!"},{"$error":"#DIV/0!"},{"$error":"#DIV/0!"},{"$error":"#DIV/0!"},{"$error":"#DIV/0!"},{"$f":"SUM(BK70:BK71)","v":0},{"$f":"SUM(BL70:BL71)","v":0},{"$f":"SUM(BM70:BM71)","v":0},{"$f":"SUM(BN70:BN71)","v":0},{"$f":"SUM(BO70:BO71)","v":0},{"$f":"SUM(BP70:BP71)","v":0},{"$f":"SUM(BQ70:BQ71)","v":0},{"$f":"SUM(BR70:BR71)","v":0},{"$f":"SUM(BS70:BS71)","v":0},{"$f":"SUM(BT70:BT71)","v":0},{"$f":"SUM(BU70:BU71)","v":0},{"$f":"SUM(BV70:BV71)","v":0},{"$f":"SUM(BW70:BW71)","v":0},{"$f":"SUM(BX70:BX71)","v":0},{"$error":"#DIV/0!"},{"$error":"#DIV/0!"},{"$error":"#DIV/0!"},{"$error":"#DIV/0!"},{"$error":"#DIV/0!"},{"$error":"#DIV/0!"},{"$error":"#DIV/0!"},{"$error":"#DIV/0!"},{"$error":"#DIV/0!"},{"$error":"#DIV/0!"},{"$error":"#DIV/0!"},{"$error":"#DIV/0!"},{"$error":"#DIV/0!"},{"$error":"#DIV/0!"}]
["Kスケール","12\n（13）","インターネットの使用で、学校の成績が落ちた。",1,"全くあてはまらない",1,{"$f":"問題別集計!G61+問題別集計!G62","v":0},{"$f":"問題別集計!H61+問題別集計!H62","v":0},{"$f":"問題別集計!I61+問題別集計!I62","v":0},{"$f":"問題別集計!J61+問題別集計!J62","v":0},{"$f":"問題別集計!K61+問題別集計!K62","v":0},{"$f":"問題別集計!L61+問題別集計!L62","v":0},{"$f":"問題別集計!M61+問題別集計!M62","v":0},{"$f":"問題別集計!N61+問題別集計!N62","v":0},{"$f":"問題別集計!O61+問題別集計!O62","v":0},{"$f":"問題別集計!P61+問題別集計!P62","v":0},{"$f":"問題別集計!Q61+問題別集計!Q62","v":0},{"$f":"問題別集計!R61+問題別集計!R62","v":0},{"$f":"問題別集計!S61+問題別集計!S62","v":0},{"$f":"問題別集計!T61+問題別集計!T62","v":0},{"$f":"ROUND(G73/G77,3)*100","v":{"$error":"#DIV/0!"}},{"$error":"#DIV/0!"},{"$error":"#DIV/0!"},{"$error":"#DIV/0!"},{"$error":"#DIV/0!"},{"$error":"#DIV/0!"},{"$error":"#DIV/0!"},{"$error":"#DIV/0!"},{"$error":"#DIV/0!"},{"$error":"#DIV/0!"},{"$error":"#DIV/0!"},{"$error":"#DIV/0!"},{"$error":"#DIV/0!"},{"$error":"#DIV/0!"},{"$f":"SUM(問題別集計③!G61:G62)","v":0},{"$f":"SUM(問題別集計③!H61:H62)","v":0},{"$f":"SUM(問題別集計③!I61:I62)","v":0},{"$f":"SUM(問題別集計③!J61:J62)","v":0},{"$f":"SUM(問題別集計③!K61:K62)","v":0},{"$f":"SUM(問題別集計③!L61:L62)","v":0},{"$f":"SUM(問題別集計③!M61:M62)","v":0},{"$f":"SUM(問題別集計③!N61:N62)","v":0},{"$f":"SUM(問題別集計③!O61:O62)","v":0},{"$f":"SUM(問題別集計③!P61:P62)","v":0},{"$f":"SUM(問題別集計③!Q61:Q62)","v":0},{"$f":"SUM(問題別集計③!R61:R62)","v":0},{"$f":"SUM(問題別集計③!S61:S62)","v":0},{"$f":"SUM(問題別集計③!T61:T62)","v":0},{"$f":"ROUND(AI73/AI77,3)*100","v":{"$error":"#DIV/0!"}},{"$error":"#DIV/0!"},{"$error":"#DIV/0!"},{"$error":"#DIV/0!"},{"$error":"#DIV/0!"},{"$error":"#DIV/0!"},{"$error":"#DIV/0!"},{"$error":"#DIV/0!"},{"$error":"#DIV/0!"},{"$error":"#DIV/0!"},{"$error":"#DIV/0!"},{"$error":"#DIV/0!"},{"$error":"#DIV/0!"},{"$error":"#DIV/0!"},{"$f":"SUM(問題別集計②!G61:G62)","v":0},{"$f":"SUM(問題別集計②!H61:H62)","v":0},{"$f":"SUM(問題別集計②!I61:I62)","v":0},{"$f":"SUM(問題別集計②!J61:J62)","v":0},{"$f":"SUM(問題別集計②!K61:K62)","v":0},{"$f":"SUM(問題別集計②!L61:L62)","v":0},{"$f":"SUM(問題別集計②!M61:M62)","v":0},{"$f":"SUM(問題別集計②!N61:N62)","v":0},{"$f":"SUM(問題別集計②!O61:O62)","v":0},{"$f":"SUM(問題別集計②!P61:P62)","v":0},{"$f":"SUM(問題別集計②!Q61:Q62)","v":0},{"$f":"SUM(問題別集計②!R61:R62)","v":0},{"$f":"SUM(問題別集計②!S61:S62)","v":0},{"$f":"SUM(問題別集計②!T61:T62)","v":0},{"$f":"ROUND(BK73/BK77,3)*100","v":{"$error":"#DIV/0!"}},{"$error":"#DIV/0!"},{"$error":"#DIV/0!"},{"$error":"#DIV/0!"},{"$error":"#DIV/0!"},{"$error":"#DIV/0!"},{"$error":"#DIV/0!"},{"$error":"#DIV/0!"},{"$error":"#DIV/0!"},{"$error":"#DIV/0!"},{"$error":"#DIV/0!"},{"$error":"#DIV/0!"},{"$error":"#DIV/0!"},{"$error":"#DIV/0!"}]
[null,null,null,2,"あてはまらない",2,null,null,null,null,null,null,null,null,null,null,null,null,null,null,{"$f":"ROUND(G74/G$72,4)*100","v":{"$error":"#DIV/0!"}},{"$f":"ROUND(H74/H$72,4)*100","v":{"$error":"#DIV/0!"}},{"$f":"ROUND(I74/I$72,4)*100","v":{"$error":"#DIV/0!"}},{"$f":"ROUND(J74/J$72,4)*100","v":{"$error":"#DIV/0!"}},{"$f":"ROUND(K74/K$72,4)*100","v":{"$error":"#DIV/0!"}},{"$f":"ROUND(L74/L$72,4)*100","v":{"$error":"#DIV/0!"}},{"$f":"ROUND(M74/M$72,4)*100","v":{"$error":"#DIV/0!"}},{"$f":"ROUND(N74/N$72,4)*100","v":{"$error":"#DIV/0!"}},{"$f":"ROUND(O74/O$72,4)*100","v":{"$error":"#DIV/0!"}},{"$f":"ROUND(P74/P$72,4)*100","v":{"$error":"#DIV/0!"}},{"$f":"ROUND(Q74/Q$72,4)*100","v":{"$error":"#DIV/0!"}},{"$f":"ROUND(R74/R$72,4)*100","v":{"$error":"#DIV/0!"}},{"$f":"ROUND(S74/S$72,4)*100","v":{"$error":"#DIV/0!"}},{"$f":"ROUND(T74/T$72,4)*100","v":{"$error":"#DIV/0!"}},null,null,null,null,null,null,null,null,null,null,null,null,null,null,{"$f":"ROUND(AI74/AI$72,4)*100","v":{"$error":"#DIV/0!"}},{"$f":"ROUND(AJ74/AJ$72,4)*100","v":{"$error":"#DIV/0!"}},{"$f":"ROUND(AK74/AK$72,4)*100","v":{"$error":"#DIV/0!"}},{"$f":"ROUND(AL74/AL$72,4)*100","v":{"$error":"#DIV/0!"}},{"$f":"ROUND(AM74/AM$72,4)*100","v":{"$error":"#DIV/0!"}},{"$f":"ROUND(AN74/AN$72,4)*100","v":{"$error":"#DIV/0!"}},{"$f":"ROUND(AO74/AO$72,4)*100","v":{"$error":"#DIV/0!"}},{"$f":"ROUND(AP74/AP$72,4)*100","v":{"$error":"#DIV/0!"}},{"$f":"ROUND(AQ74/AQ$72,4)*100","v":{"$error":"#DIV/0!"}},{"$f":"ROUND(AR74/AR$72,4)*100","v":{"$error":"#DIV/0!"}},{"$f":"ROUND(AS74/AS$72,4)*100","v":{"$error":"#DIV/0!"}},{"$f":"ROUND(AT74/AT$72,4)*100","v":{"$error":"#DIV/0!"}},{"$f":"ROUND(AU74/AU$72,4)*100","v":{"$error":"#DIV/0!"}},{"$f":"ROUND(AV74/AV$72,4)*100","v":{"$error":"#DIV/0!"}},null,null,null,null,null,null,null,null,null,null,null,null,null,null,{"$f":"ROUND(BK74/BK$72,4)*100","v":{"$error":"#DIV/0!"}},{"$f":"ROUND(BL74/BL$72,4)*100","v":{"$error":"#DIV/0!"}},{"$f":"ROUND(BM74/BM$72,4)*100","v":{"$error":"#DIV/0!"}},{"$f":"ROUND(BN74/BN$72,4)*100","v":{"$error":"#DIV/0!"}},{"$f":"ROUND(BO74/BO$72,4)*100","v":{"$error":"#DIV/0!"}},{"$f":"ROUND(BP74/BP$72,4)*100","v":{"$error":"#DIV/0!"}},{"$f":"ROUND(BQ74/BQ$72,4)*100","v":{"$error":"#DIV/0!"}},{"$f":"ROUND(BR74/BR$72,4)*100","v":{"$error":"#DIV/0!"}},{"$f":"ROUND(BS74/BS$72,4)*100","v":{"$error":"#DIV/0!"}},{"$f":"ROUND(BT74/BT$72,4)*100","v":{"$error":"#DIV/0!"}},{"$f":"ROUND(BU74/BU$72,4)*100","v":{"$error":"#DIV/0!"}},{"$f":"ROUND(BV74/BV$72,4)*100","v":{"$error":"#DIV/0!"}},{"$f":"ROUND(BW74/BW$72,4)*100","v":{"$error":"#DIV/0!"}},{"$f":"ROUND(BX74/BX$72,4)*100","v":{"$error":"#DIV/0!"}}]
[null,null,null,3,"あてはまる",3,{"$f":"問題別集計!G63+問題別集計!G64","v":0},{"$f":"問題別集計!H63+問題別集計!H64","v":0},{"$f":"問題別集計!I63+問題別集計!I64","v":0},{"$f":"問題別集計!J63+問題別集計!J64","v":0},{"$f":"問題別集計!K63+問題別集計!K64","v":0},{"$f":"問題別集計!L63+問題別集計!L64","v":0},{"$f":"問題別集計!M63+問題別集計!M64","v":0},{"$f":"問題別集計!N63+問題別集計!N64","v":0},{"$f":"問題別集計!O63+問題別集計!O64","v":0},{"$f":"問題別集計!P63+問題別集計!P64","v":0},{"$f":"問題別集計!Q63+問題別集計!Q64","v":0},{"$f":"問題別集計!R63+問題別集計!R64","v":0},{"$f":"問題別集計!S63+問題別集計!S64","v":0},{"$f":"問題別集計!T63+問題別集計!T64","v":0},{"$f":"ROUND(G75/G77,3)*100","v":{"$error":"#DIV/0!"}},{"$error":"#DIV/0!"},{"$error":"#DIV/0!"},{"$error":"#DIV/0!"},{"$error":"#DIV/0!"},{"$error":"#DIV/0!"},{"$error":"#DIV/0!"},{"$error":"#DIV/0!"},{"$error":"#DIV/0!"},{"$error":"#DIV/0!"},{"$error":"#DIV/0!"},{"$error":"#DIV/0!"},{"$error":"#DIV/0!"},{"$error":"#DIV/0!"},{"$f":"SUM(問題別集計③!G63:G64)","v":0},{"$f":"SUM(問題別集計③!H63:H64)","v":0},{"$f":"SUM(問題別集計③!I63:I64)","v":0},{"$f":"SUM(問題別集計③!J63:J64)","v":0},{"$f":"SUM(問題別集計③!K63:K64)","v":0},{"$f":"SUM(問題別集計③!L63:L64)","v":0},{"$f":"SUM(問題別集計③!M63:M64)","v":0},{"$f":"SUM(問題別集計③!N63:N64)","v":0},{"$f":"SUM(問題別集計③!O63:O64)","v":0},{"$f":"SUM(問題別集計③!P63:P64)","v":0},{"$f":"SUM(問題別集計③!Q63:Q64)","v":0},{"$f":"SUM(問題別集計③!R63:R64)","v":0},{"$f":"SUM(問題別集計③!S63:S64)","v":0},{"$f":"SUM(問題別集計③!T63:T64)","v":0},{"$f":"ROUND(AI75/AI77,3)*100","v":{"$error":"#DIV/0!"}},{"$error":"#DIV/0!"},{"$error":"#DIV/0!"},{"$error":"#DIV/0!"},{"$error":"#DIV/0!"},{"$error":"#DIV/0!"},{"$error":"#DIV/0!"},{"$error":"#DIV/0!"},{"$error":"#DIV/0!"},{"$error":"#DIV/0!"},{"$error":"#DIV/0!"},{"$error":"#DIV/0!"},{"$error":"#DIV/0!"},{"$error":"#DIV/0!"},{"$f":"SUM(問題別集計②!G63:G64)","v":0},{"$f":"SUM(問題別集計②!H63:H64)","v":0},{"$f":"SUM(問題別集計②!I63:I64)","v":0},{"$f":"SUM(問題別集計②!J63:J64)","v":0},{"$f":"SUM(問題別集計②!K63:K64)","v":0},{"$f":"SUM(問題別集計②!L63:L64)","v":0},{"$f":"SUM(問題別集計②!M63:M64)","v":0},{"$f":"SUM(問題別集計②!N63:N64)","v":0},{"$f":"SUM(問題別集計②!O63:O64)","v":0},{"$f":"SUM(問題別集計②!P63:P64)","v":0},{"$f":"SUM(問題別集計②!Q63:Q64)","v":0},{"$f":"SUM(問題別集計②!R63:R64)","v":0},{"$f":"SUM(問題別集計②!S63:S64)","v":0},{"$f":"SUM(問題別集計②!T63:T64)","v":0},{"$f":"ROUND(BK75/BK77,3)*100","v":{"$error":"#DIV/0!"}},{"$error":"#DIV/0!"},{"$error":"#DIV/0!"},{"$error":"#DIV/0!"},{"$error":"#DIV/0!"},{"$error":"#DIV/0!"},{"$error":"#DIV/0!"},{"$error":"#DIV/0!"},{"$error":"#DIV/0!"},{"$error":"#DIV/0!"},{"$error":"#DIV/0!"},{"$error":"#DIV/0!"},{"$error":"#DIV/0!"},{"$error":"#DIV/0!"}]
[null,null,null,4,"非常にあてはまる",4,null,null,null,null,null,null,null,null,null,null,null,null,null,null,{"$error":"#DIV/0!"},{"$f":"ROUND(H76/H$72,4)*100","v":{"$error":"#DIV/0!"}},{"$f":"ROUND(I76/I$72,4)*100","v":{"$error":"#DIV/0!"}},{"$f":"ROUND(J76/J$72,4)*100","v":{"$error":"#DIV/0!"}},{"$f":"ROUND(K76/K$72,4)*100","v":{"$error":"#DIV/0!"}},{"$f":"ROUND(L76/L$72,4)*100","v":{"$error":"#DIV/0!"}},{"$f":"ROUND(M76/M$72,4)*100","v":{"$error":"#DIV/0!"}},{"$f":"ROUND(N76/N$72,4)*100","v":{"$error":"#DIV/0!"}},{"$f":"ROUND(O76/O$72,4)*100","v":{"$error":"#DIV/0!"}},{"$f":"ROUND(P76/P$72,4)*100","v":{"$error":"#DIV/0!"}},{"$f":"ROUND(Q76/Q$72,4)*100","v":{"$error":"#DIV/0!"}},{"$f":"ROUND(R76/R$72,4)*100","v":{"$error":"#DIV/0!"}},{"$f":"ROUND(S76/S$72,4)*100","v":{"$error":"#DIV/0!"}},{"$f":"ROUND(T76/T$72,4)*100","v":{"$error":"#DIV/0!"}},null,null,null,null,null,null,null,null,null,null,null,null,null,null,{"$f":"ROUND(AI76/AI$72,4)*100","v":{"$error":"#DIV/0!"}},{"$f":"ROUND(AJ76/AJ$72,4)*100","v":{"$error":"#DIV/0!"}},{"$f":"ROUND(AK76/AK$72,4)*100","v":{"$error":"#DIV/0!"}},{"$f":"ROUND(AL76/AL$72,4)*100","v":{"$error":"#DIV/0!"}},{"$f":"ROUND(AM76/AM$72,4)*100","v":{"$error":"#DIV/0!"}},{"$f":"ROUND(AN76/AN$72,4)*100","v":{"$error":"#DIV/0!"}},{"$f":"ROUND(AO76/AO$72,4)*100","v":{"$error":"#DIV/0!"}},{"$f":"ROUND(AP76/AP$72,4)*100","v":{"$error":"#DIV/0!"}},{"$f":"ROUND(AQ76/AQ$72,4)*100","v":{"$error":"#DIV/0!"}},{"$f":"ROUND(AR76/AR$72,4)*100","v":{"$error":"#DIV/0!"}},{"$f":"ROUND(AS76/AS$72,4)*100","v":{"$error":"#DIV/0!"}},{"$f":"ROUND(AT76/AT$72,4)*100","v":{"$error":"#DIV/0!"}},{"$f":"ROUND(AU76/AU$72,4)*100","v":{"$error":"#DIV/0!"}},{"$f":"ROUND(AV76/AV$72,4)*100","v":{"$error":"#DIV/0!"}},null,null,null,null,null,null,null,null,null,null,null,null,null,null,{"$f":"ROUND(BK76/BK$72,4)*100","v":{"$error":"#DIV/0!"}},{"$f":"ROUND(BL76/BL$72,4)*100","v":{"$error":"#DIV/0!"}},{"$f":"ROUND(BM76/BM$72,4)*100","v":{"$error":"#DIV/0!"}},{"$f":"ROUND(BN76/BN$72,4)*100","v":{"$error":"#DIV/0!"}},{"$f":"ROUND(BO76/BO$72,4)*100","v":{"$error":"#DIV/0!"}},{"$f":"ROUND(BP76/BP$72,4)*100","v":{"$error":"#DIV/0!"}},{"$f":"ROUND(BQ76/BQ$72,4)*100","v":{"$error":"#DIV/0!"}},{"$f":"ROUND(BR76/BR$72,4)*100","v":{"$error":"#DIV/0!"}},{"$f":"ROUND(BS76/BS$72,4)*100","v":{"$error":"#DIV/0!"}},{"$f":"ROUND(BT76/BT$72,4)*100","v":{"$error":"#DIV/0!"}},{"$f":"ROUND(BU76/BU$72,4)*100","v":{"$error":"#DIV/0!"}},{"$f":"ROUND(BV76/BV$72,4)*100","v":{"$error":"#DIV/0!"}},{"$f":"ROUND(BW76/BW$72,4)*100","v":{"$error":"#DIV/0!"}},{"$f":"ROUND(BX76/BX$72,4)*100","v":{"$error":"#DIV/0!"}}]
[null,null,null,"計",null,null,{"$f":"SUM(G73:G76)","v":0},{"$f":"SUM(H73:H76)","v":0},0,0,0,0,0,0,0,0,0,0,0,0,{"$error":"#DIV/0!"},{"$error":"#DIV/0!"},{"$error":"#DIV/0!"},{"$error":"#DIV/0!"},{"$error":"#DIV/0!"},{"$error":"#DIV/0!"},{"$error":"#DIV/0!"},{"$error":"#DIV/0!"},{"$error":"#DIV/0!"},{"$error":"#DIV/0!"},{"$error":"#DIV/0!"},{"$error":"#DIV/0!"},{"$error":"#DIV/0!"},{"$error":"#DIV/0!"},0,0,0,0,0,0,{"$f":"SUM(AO73:AO76)","v":0},{"$f":"SUM(AP73:AP76)","v":0},{"$f":"SUM(AQ73:AQ76)","v":0},{"$f":"SUM(AR73:AR76)","v":0},{"$f":"SUM(AS73:AS76)","v":0},{"$f":"SUM(AT73:AT76)","v":0},{"$f":"SUM(AU73:AU76)","v":0},{"$f":"SUM(AV73:AV76)","v":0},{"$error":"#DIV/0!"},{"$error":"#DIV/0!"},{"$error":"#DIV/0!"},{"$error":"#DIV/0!"},{"$error":"#DIV/0!"},{"$error":"#DIV/0!"},{"$error":"#DIV/0!"},{"$error":"#DIV/0!"},{"$error":"#DIV/0!"},{"$error":"#DIV/0!"},{"$error":"#DIV/0!"},{"$error":"#DIV/0!"},{"$error":"#DIV/0!"},{"$error":"#DIV/0!"},0,0,0,0,0,0,{"$f":"SUM(BQ73:BQ76)","v":0},{"$f":"SUM(BR73:BR76)","v":0},{"$f":"SUM(BS73:BS76)","v":0},{"$f":"SUM(BT73:BT76)","v":0},{"$f":"SUM(BU73:BU76)","v":0},{"$f":"SUM(BV73:BV76)","v":0},{"$f":"SUM(BW73:BW76)","v":0},{"$f":"SUM(BX73:BX76)","v":0},{"$error":"#DIV/0!"},{"$error":"#DIV/0!"},{"$error":"#DIV/0!"},{"$error":"#DIV/0!"},{"$error":"#DIV/0!"},{"$error":"#DIV/0!"},{"$error":"#DIV/0!"},{"$error":"#DIV/0!"},{"$error":"#DIV/0!"},{"$error":"#DIV/0!"},{"$error":"#DIV/0!"},{"$error":"#DIV/0!"},{"$error":"#DIV/0!"},{"$error":"#DIV/0!"}]
[null,"13\n（14）","インターネットをしている間は、よりいきいきしてくる。",1,"全くあてはまらない",1,{"$f":"問題別集計!G65+問題別集計!G66","v":0},{"$f":"問題別集計!H65+問題別集計!H66","v":0},{"$f":"問題別集計!I65+問題別集計!I66","v":0},{"$f":"問題別集計!J65+問題別集計!J66","v":0},{"$f":"問題別集計!K65+問題別集計!K66","v":0},{"$f":"問題別集計!L65+問題別集計!L66","v":0},{"$f":"問題別集計!M65+問題別集計!M66","v":0},{"$f":"問題別集計!N65+問題別集計!N66","v":0},{"$f":"問題別集計!O65+問題別集計!O66","v":0},{"$f":"問題別集計!P65+問題別集計!P66","v":0},{"$f":"問題別集計!Q65+問題別集計!Q66","v":0},{"$f":"問題別集計!R65+問題別集計!R66","v":0},{"$f":"問題別集計!S65+問題別集計!S66","v":0},{"$f":"問題別集計!T65+問題別集計!T66","v":0},{"$f":"ROUND(G78/G82,3)*100","v":{"$error":"#DIV/0!"}},{"$error":"#DIV/0!"},{"$error":"#DIV/0!"},{"$error":"#DIV/0!"},{"$error":"#DIV/0!"},{"$error":"#DIV/0!"},{"$error":"#DIV/0!"},{"$error":"#DIV/0!"},{"$error":"#DIV/0!"},{"$error":"#DIV/0!"},{"$error":"#DIV/0!"},{"$error":"#DIV/0!"},{"$error":"#DIV/0!"},{"$error":"#DIV/0!"},{"$f":"SUM(問題別集計③!G65:G66)","v":0},{"$f":"SUM(問題別集計③!H65:H66)","v":0},{"$f":"SUM(問題別集計③!I65:I66)","v":0},{"$f":"SUM(問題別集計③!J65:J66)","v":0},{"$f":"SUM(問題別集計③!K65:K66)","v":0},{"$f":"SUM(問題別集計③!L65:L66)","v":0},{"$f":"SUM(問題別集計③!M65:M66)","v":0},{"$f":"SUM(問題別集計③!N65:N66)","v":0},{"$f":"SUM(問題別集計③!O65:O66)","v":0},{"$f":"SUM(問題別集計③!P65:P66)","v":0},{"$f":"SUM(問題別集計③!Q65:Q66)","v":0},{"$f":"SUM(問題別集計③!R65:R66)","v":0},{"$f":"SUM(問題別集計③!S65:S66)","v":0},{"$f":"SUM(問題別集計③!T65:T66)","v":0},{"$f":"ROUND(AI78/AI82,3)*100","v":{"$error":"#DIV/0!"}},{"$error":"#DIV/0!"},{"$error":"#DIV/0!"},{"$error":"#DIV/0!"},{"$error":"#DIV/0!"},{"$error":"#DIV/0!"},{"$error":"#DIV/0!"},{"$error":"#DIV/0!"},{"$error":"#DIV/0!"},{"$error":"#DIV/0!"},{"$error":"#DIV/0!"},{"$error":"#DIV/0!"},{"$error":"#DIV/0!"},{"$error":"#DIV/0!"},{"$f":"SUM(問題別集計②!G65:G66)","v":0},{"$f":"SUM(問題別集計②!H65:H66)","v":0},{"$f":"SUM(問題別集計②!I65:I66)","v":0},{"$f":"SUM(問題別集計②!J65:J66)","v":0},{"$f":"SUM(問題別集計②!K65:K66)","v":0},{"$f":"SUM(問題別集計②!L65:L66)","v":0},{"$f":"SUM(問題別集計②!M65:M66)","v":0},{"$f":"SUM(問題別集計②!N65:N66)","v":0},{"$f":"SUM(問題別集計②!O65:O66)","v":0},{"$f":"SUM(問題別集計②!P65:P66)","v":0},{"$f":"SUM(問題別集計②!Q65:Q66)","v":0},{"$f":"SUM(問題別集計②!R65:R66)","v":0},{"$f":"SUM(問題別集計②!S65:S66)","v":0},{"$f":"SUM(問題別集計②!T65:T66)","v":0},{"$f":"ROUND(BK78/BK82,3)*100","v":{"$error":"#DIV/0!"}},{"$error":"#DIV/0!"},{"$error":"#DIV/0!"},{"$error":"#DIV/0!"},{"$error":"#DIV/0!"},{"$error":"#DIV/0!"},{"$error":"#DIV/0!"},{"$error":"#DIV/0!"},{"$error":"#DIV/0!"},{"$error":"#DIV/0!"},{"$error":"#DIV/0!"},{"$error":"#DIV/0!"},{"$error":"#DIV/0!"},{"$error":"#DIV/0!"}]
[null,null,null,2,"あてはまらない",2,null,null,null,null,null,null,null,null,null,null,null,null,null,null,{"$f":"ROUND(G79/G$72,4)*100","v":{"$error":"#DIV/0!"}},{"$f":"ROUND(H79/H$72,4)*100","v":{"$error":"#DIV/0!"}},{"$f":"ROUND(I79/I$72,4)*100","v":{"$error":"#DIV/0!"}},{"$f":"ROUND(J79/J$72,4)*100","v":{"$error":"#DIV/0!"}},{"$f":"ROUND(K79/K$72,4)*100","v":{"$error":"#DIV/0!"}},{"$f":"ROUND(L79/L$72,4)*100","v":{"$error":"#DIV/0!"}},{"$f":"ROUND(M79/M$72,4)*100","v":{"$error":"#DIV/0!"}},{"$f":"ROUND(N79/N$72,4)*100","v":{"$error":"#DIV/0!"}},{"$f":"ROUND(O79/O$72,4)*100","v":{"$error":"#DIV/0!"}},{"$f":"ROUND(P79/P$72,4)*100","v":{"$error":"#DIV/0!"}},{"$f":"ROUND(Q79/Q$72,4)*100","v":{"$error":"#DIV/0!"}},{"$f":"ROUND(R79/R$72,4)*100","v":{"$error":"#DIV/0!"}},{"$f":"ROUND(S79/S$72,4)*100","v":{"$error":"#DIV/0!"}},{"$f":"ROUND(T79/T$72,4)*100","v":{"$error":"#DIV/0!"}},null,null,null,null,null,null,null,null,null,null,null,null,null,null,{"$f":"ROUND(AI79/AI$72,4)*100","v":{"$error":"#DIV/0!"}},{"$f":"ROUND(AJ79/AJ$72,4)*100","v":{"$error":"#DIV/0!"}},{"$f":"ROUND(AK79/AK$72,4)*100","v":{"$error":"#DIV/0!"}},{"$f":"ROUND(AL79/AL$72,4)*100","v":{"$error":"#DIV/0!"}},{"$f":"ROUND(AM79/AM$72,4)*100","v":{"$error":"#DIV/0!"}},{"$f":"ROUND(AN79/AN$72,4)*100","v":{"$error":"#DIV/0!"}},{"$f":"ROUND(AO79/AO$72,4)*100","v":{"$error":"#DIV/0!"}},{"$f":"ROUND(AP79/AP$72,4)*100","v":{"$error":"#DIV/0!"}},{"$f":"ROUND(AQ79/AQ$72,4)*100","v":{"$error":"#DIV/0!"}},{"$f":"ROUND(AR79/AR$72,4)*100","v":{"$error":"#DIV/0!"}},{"$f":"ROUND(AS79/AS$72,4)*100","v":{"$error":"#DIV/0!"}},{"$f":"ROUND(AT79/AT$72,4)*100","v":{"$error":"#DIV/0!"}},{"$f":"ROUND(AU79/AU$72,4)*100","v":{"$error":"#DIV/0!"}},{"$f":"ROUND(AV79/AV$72,4)*100","v":{"$error":"#DIV/0!"}},null,null,null,null,null,null,null,null,null,null,null,null,null,null,{"$f":"ROUND(BK79/BK$72,4)*100","v":{"$error":"#DIV/0!"}},{"$f":"ROUND(BL79/BL$72,4)*100","v":{"$error":"#DIV/0!"}},{"$f":"ROUND(BM79/BM$72,4)*100","v":{"$error":"#DIV/0!"}},{"$f":"ROUND(BN79/BN$72,4)*100","v":{"$error":"#DIV/0!"}},{"$f":"ROUND(BO79/BO$72,4)*100","v":{"$error":"#DIV/0!"}},{"$f":"ROUND(BP79/BP$72,4)*100","v":{"$error":"#DIV/0!"}},{"$f":"ROUND(BQ79/BQ$72,4)*100","v":{"$error":"#DIV/0!"}},{"$f":"ROUND(BR79/BR$72,4)*100","v":{"$error":"#DIV/0!"}},{"$f":"ROUND(BS79/BS$72,4)*100","v":{"$error":"#DIV/0!"}},{"$f":"ROUND(BT79/BT$72,4)*100","v":{"$error":"#DIV/0!"}},{"$f":"ROUND(BU79/BU$72,4)*100","v":{"$error":"#DIV/0!"}},{"$f":"ROUND(BV79/BV$72,4)*100","v":{"$error":"#DIV/0!"}},{"$f":"ROUND(BW79/BW$72,4)*100","v":{"$error":"#DIV/0!"}},{"$f":"ROUND(BX79/BX$72,4)*100","v":{"$error":"#DIV/0!"}}]
[null,null,null,3,"あてはまる",3,{"$f":"問題別集計!G67+問題別集計!G68","v":0},{"$f":"問題別集計!H67+問題別集計!H68","v":0},{"$f":"問題別集計!I67+問題別集計!I68","v":0},{"$f":"問題別集計!J67+問題別集計!J68","v":0},{"$f":"問題別集計!K67+問題別集計!K68","v":0},{"$f":"問題別集計!L67+問題別集計!L68","v":0},{"$f":"問題別集計!M67+問題別集計!M68","v":0},{"$f":"問題別集計!N67+問題別集計!N68","v":0},{"$f":"問題別集計!O67+問題別集計!O68","v":0},{"$f":"問題別集計!P67+問題別集計!P68","v":0},{"$f":"問題別集計!Q67+問題別集計!Q68","v":0},{"$f":"問題別集計!R67+問題別集計!R68","v":0},{"$f":"問題別集計!S67+問題別集計!S68","v":0},{"$f":"問題別集計!T67+問題別集計!T68","v":0},{"$f":"ROUND(G80/G82,3)*100","v":{"$error":"#DIV/0!"}},{"$error":"#DIV/0!"},{"$error":"#DIV/0!"},{"$error":"#DIV/0!"},{"$error":"#DIV/0!"},{"$error":"#DIV/0!"},{"$error":"#DIV/0!"},{"$error":"#DIV/0!"},{"$error":"#DIV/0!"},{"$error":"#DIV/0!"},{"$error":"#DIV/0!"},{"$error":"#DIV/0!"},{"$error":"#DIV/0!"},{"$error":"#DIV/0!"},{"$f":"SUM(問題別集計③!G67:G68)","v":0},{"$f":"SUM(問題別集計③!H67:H68)","v":0},{"$f":"SUM(問題別集計③!I67:I68)","v":0},{"$f":"SUM(問題別集計③!J67:J68)","v":0},{"$f":"SUM(問題別集計③!K67:K68)","v":0},{"$f":"SUM(問題別集計③!L67:L68)","v":0},{"$f":"SUM(問題別集計③!M67:M68)","v":0},{"$f":"SUM(問題別集計③!N67:N68)","v":0},{"$f":"SUM(問題別集計③!O67:O68)","v":0},{"$f":"SUM(問題別集計③!P67:P68)","v":0},{"$f":"SUM(問題別集計③!Q67:Q68)","v":0},{"$f":"SUM(問題別集計③!R67:R68)","v":0},{"$f":"SUM(問題別集計③!S67:S68)","v":0},{"$f":"SUM(問題別集計③!T67:T68)","v":0},{"$f":"ROUND(AI80/AI82,3)*100","v":{"$error":"#DIV/0!"}},{"$error":"#DIV/0!"},{"$error":"#DIV/0!"},{"$error":"#DIV/0!"},{"$error":"#DIV/0!"},{"$error":"#DIV/0!"},{"$error":"#DIV/0!"},{"$error":"#DIV/0!"},{"$error":"#DIV/0!"},{"$error":"#DIV/0!"},{"$error":"#DIV/0!"},{"$error":"#DIV/0!"},{"$error":"#DIV/0!"},{"$error":"#DIV/0!"},{"$f":"SUM(問題別集計②!G67:G68)","v":0},{"$f":"SUM(問題別集計②!H67:H68)","v":0},{"$f":"SUM(問題別集計②!I67:I68)","v":0},{"$f":"SUM(問題別集計②!J67:J68)","v":0},{"$f":"SUM(問題別集計②!K67:K68)","v":0},{"$f":"SUM(問題別集計②!L67:L68)","v":0},{"$f":"SUM(問題別集計②!M67:M68)","v":0},{"$f":"SUM(問題別集計②!N67:N68)","v":0},{"$f":"SUM(問題別集計②!O67:O68)","v":0},{"$f":"SUM(問題別集計②!P67:P68)","v":0},{"$f":"SUM(問題別集計②!Q67:Q68)","v":0},{"$f":"SUM(問題別集計②!R67:R68)","v":0},{"$f":"SUM(問題別集計②!S67:S68)","v":0},{"$f":"SUM(問題別集計②!T67:T68)","v":0},{"$f":"ROUND(BK80/BK82,3)*100","v":{"$error":"#DIV/0!"}},{"$error":"#DIV/0!"},{"$error":"#DIV/0!"},{"$error":"#DIV/0!"},{"$error":"#DIV/0!"},{"$error":"#DIV/0!"},{"$error":"#DIV/0!"},{"$error":"#DIV/0!"},{"$error":"#DIV/0!"},{"$error":"#DIV/0!"},{"$error":"#DIV/0!"},{"$error":"#DIV/0!"},{"$error":"#DIV/0!"},{"$error":"#DIV/0!"}]
[null,null,null,4,"非常にあてはまる",4,null,null,null,null,null,null,null,null,null,null,null,null,null,null,{"$f":"ROUND(G81/G$72,4)*100","v":{"$error":"#DIV/0!"}},{"$f":"ROUND(H81/H$72,4)*100","v":{"$error":"#DIV/0!"}},{"$f":"ROUND(I81/I$72,4)*100","v":{"$error":"#DIV/0!"}},{"$f":"ROUND(J81/J$72,4)*100","v":{"$error":"#DIV/0!"}},{"$f":"ROUND(K81/K$72,4)*100","v":{"$error":"#DIV/0!"}},{"$f":"ROUND(L81/L$72,4)*100","v":{"$error":"#DIV/0!"}},{"$f":"ROUND(M81/M$72,4)*100","v":{"$error":"#DIV/0!"}},{"$f":"ROUND(N81/N$72,4)*100","v":{"$error":"#DIV/0!"}},{"$f":"ROUND(O81/O$72,4)*100","v":{"$error":"#DIV/0!"}},{"$f":"ROUND(P81/P$72,4)*100","v":{"$error":"#DIV/0!"}},{"$f":"ROUND(Q81/Q$72,4)*100","v":{"$error":"#DIV/0!"}},{"$f":"ROUND(R81/R$72,4)*100","v":{"$error":"#DIV/0!"}},{"$f":"ROUND(S81/S$72,4)*100","v":{"$error":"#DIV/0!"}},{"$f":"ROUND(T81/T$72,4)*100","v":{"$error":"#DIV/0!"}},null,null,null,null,null,null,null,null,null,null,null,null,null,null,{"$f":"ROUND(AI81/AI$72,4)*100","v":{"$error":"#DIV/0!"}},{"$f":"ROUND(AJ81/AJ$72,4)*100","v":{"$error":"#DIV/0!"}},{"$f":"ROUND(AK81/AK$72,4)*100","v":{"$error":"#DIV/0!"}},{"$f":"ROUND(AL81/AL$72,4)*100","v":{"$error":"#DIV/0!"}},{"$f":"ROUND(AM81/AM$72,4)*100","v":{"$error":"#DIV/0!"}},{"$f":"ROUND(AN81/AN$72,4)*100","v":{"$error":"#DIV/0!"}},{"$f":"ROUND(AO81/AO$72,4)*100","v":{"$error":"#DIV/0!"}},{"$f":"ROUND(AP81/AP$72,4)*100","v":{"$error":"#DIV/0!"}},{"$f":"ROUND(AQ81/AQ$72,4)*100","v":{"$error":"#DIV/0!"}},{"$f":"ROUND(AR81/AR$72,4)*100","v":{"$error":"#DIV/0!"}},{"$f":"ROUND(AS81/AS$72,4)*100","v":{"$error":"#DIV/0!"}},{"$f":"ROUND(AT81/AT$72,4)*100","v":{"$error":"#DIV/0!"}},{"$f":"ROUND(AU81/AU$72,4)*100","v":{"$error":"#DIV/0!"}},{"$f":"ROUND(AV81/AV$72,4)*100","v":{"$error":"#DIV/0!"}},null,null,null,null,null,null,null,null,null,null,null,null,null,null,{"$f":"ROUND(BK81/BK$72,4)*100","v":{"$error":"#DIV/0!"}},{"$f":"ROUND(BL81/BL$72,4)*100","v":{"$error":"#DIV/0!"}},{"$f":"ROUND(BM81/BM$72,4)*100","v":{"$error":"#DIV/0!"}},{"$f":"ROUND(BN81/BN$72,4)*100","v":{"$error":"#DIV/0!"}},{"$f":"ROUND(BO81/BO$72,4)*100","v":{"$error":"#DIV/0!"}},{"$f":"ROUND(BP81/BP$72,4)*100","v":{"$error":"#DIV/0!"}},{"$f":"ROUND(BQ81/BQ$72,4)*100","v":{"$error":"#DIV/0!"}},{"$f":"ROUND(BR81/BR$72,4)*100","v":{"$error":"#DIV/0!"}},{"$f":"ROUND(BS81/BS$72,4)*100","v":{"$error":"#DIV/0!"}},{"$f":"ROUND(BT81/BT$72,4)*100","v":{"$error":"#DIV/0!"}},{"$f":"ROUND(BU81/BU$72,4)*100","v":{"$error":"#DIV/0!"}},{"$f":"ROUND(BV81/BV$72,4)*100","v":{"$error":"#DIV/0!"}},{"$f":"ROUND(BW81/BW$72,4)*100","v":{"$error":"#DIV/0!"}},{"$f":"ROUND(BX81/BX$72,4)*100","v":{"$error":"#DIV/0!"}}]
[null,null,null,"計",null,null,{"$f":"SUM(G78:G81)","v":0},{"$f":"SUM(H78:H81)","v":0},{"$f":"SUM(I78:I81)","v":0},{"$f":"SUM(J78:J81)","v":0},{"$f":"SUM(K78:K81)","v":0},{"$f":"SUM(L78:L81)","v":0},{"$f":"SUM(M78:M81)","v":0},{"$f":"SUM(N78:N81)","v":0},{"$f":"SUM(O78:O81)","v":0},{"$f":"SUM(P78:P81)","v":0},{"$f":"SUM(Q78:Q81)","v":0},{"$f":"SUM(R78:R81)","v":0},{"$f":"SUM(S78:S81)","v":0},{"$f":"SUM(T78:T81)","v":0},{"$f":"SUM(U78:U81)","v":{"$error":"#DIV/0!"}},{"$f":"SUM(V78:V81)","v":{"$error":"#DIV/0!"}},{"$f":"SUM(W78:W81)","v":{"$error":"#DIV/0!"}},{"$f":"SUM(X78:X81)","v":{"$error":"#DIV/0!"}},{"$f":"SUM(Y78:Y81)","v":{"$error":"#DIV/0!"}},{"$f":"SUM(Z78:Z81)","v":{"$error":"#DIV/0!"}},{"$error":"#DIV/0!"},{"$f":"SUM(AB78:AB81)","v":{"$error":"#DIV/0!"}},{"$f":"SUM(AC78:AC81)","v":{"$error":"#DIV/0!"}},{"$f":"SUM(AD78:AD81)","v":{"$error":"#DIV/0!"}},{"$f":"SUM(AE78:AE81)","v":{"$error":"#DIV/0!"}},{"$f":"SUM(AF78:AF81)","v":{"$error":"#DIV/0!"}},{"$f":"SUM(AG78:AG81)","v":{"$error":"#DIV/0!"}},{"$error":"#DIV/0!"},{"$f":"SUM(AI78:AI81)","v":0},{"$f":"SUM(AJ78:AJ81)","v":0},{"$f":"SUM(AK78:AK81)","v":0},{"$f":"SUM(AL78:AL81)","v":0},{"$f":"SUM(AM78:AM81)","v":0},{"$f":"SUM(AN78:AN81)","v":0},{"$f":"SUM(AO78:AO81)","v":0},{"$f":"SUM(AP78:AP81)","v":0},{"$f":"SUM(AQ78:AQ81)","v":0},{"$f":"SUM(AR78:AR81)","v":0},{"$f":"SUM(AS78:AS81)","v":0},{"$f":"SUM(AT78:AT81)","v":0},{"$f":"SUM(AU78:AU81)","v":0},{"$f":"SUM(AV78:AV81)","v":0},{"$error":"#DIV/0!"},{"$error":"#DIV/0!"},{"$error":"#DIV/0!"},{"$error":"#DIV/0!"},{"$error":"#DIV/0!"},{"$error":"#DIV/0!"},{"$error":"#DIV/0!"},{"$error":"#DIV/0!"},{"$error":"#DIV/0!"},{"$error":"#DIV/0!"},{"$error":"#DIV/0!"},{"$error":"#DIV/0!"},{"$error":"#DIV/0!"},{"$error":"#DIV/0!"},{"$f":"SUM(BK78:BK81)","v":0},{"$f":"SUM(BL78:BL81)","v":0},{"$f":"SUM(BM78:BM81)","v":0},{"$f":"SUM(BN78:BN81)","v":0},{"$f":"SUM(BO78:BO81)","v":0},{"$f":"SUM(BP78:BP81)","v":0},{"$f":"SUM(BQ78:BQ81)","v":0},{"$f":"SUM(BR78:BR81)","v":0},{"$f":"SUM(BS78:BS81)","v":0},{"$f":"SUM(BT78:BT81)","v":0},{"$f":"SUM(BU78:BU81)","v":0},{"$f":"SUM(BV78:BV81)","v":0},{"$f":"SUM(BW78:BW81)","v":0},{"$f":"SUM(BX78:BX81)","v":0},{"$error":"#DIV/0!"},{"$error":"#DIV/0!"},{"$error":"#DIV/0!"},{"$error":"#DIV/0!"},{"$error":"#DIV/0!"},{"$error":"#DIV/0!"},{"$error":"#DIV/0!"},{"$error":"#DIV/0!"},{"$error":"#DIV/0!"},{"$error":"#DIV/0!"},{"$error":"#DIV/0!"},{"$error":"#DIV/0!"},{"$error":"#DIV/0!"},{"$error":"#DIV/0!"}]
[null,"14\n（15）","インターネットができないと、どんなことが起きているのか気になってほかのことができない。",1,"全くあてはまらない",1,{"$f":"問題別集計!G69+問題別集計!G70","v":0},{"$f":"問題別集計!H69+問題別集計!H70","v":0},{"$f":"問題別集計!I69+問題別集計!I70","v":0},{"$f":"問題別集計!J69+問題別集計!J70","v":0},{"$f":"問題別集計!K69+問題別集計!K70","v":0},{"$f":"問題別集計!L69+問題別集計!L70","v":0},{"$f":"問題別集計!M69+問題別集計!M70","v":0},{"$f":"問題別集計!N69+問題別集計!N70","v":0},{"$f":"問題別集計!O69+問題別集計!O70","v":0},{"$f":"問題別集計!P69+問題別集計!P70","v":0},{"$f":"問題別集計!Q69+問題別集計!Q70","v":0},{"$f":"問題別集計!R69+問題別集計!R70","v":0},{"$f":"問題別集計!S69+問題別集計!S70","v":0},{"$f":"問題別集計!T69+問題別集計!T70","v":0},{"$f":"ROUND(G83/G87,3)*100","v":{"$error":"#DIV/0!"}},{"$error":"#DIV/0!"},{"$error":"#DIV/0!"},{"$error":"#DIV/0!"},{"$error":"#DIV/0!"},{"$error":"#DIV/0!"},{"$error":"#DIV/0!"},{"$error":"#DIV/0!"},{"$error":"#DIV/0!"},{"$error":"#DIV/0!"},{"$error":"#DIV/0!"},{"$error":"#DIV/0!"},{"$error":"#DIV/0!"},{"$error":"#DIV/0!"},{"$f":"SUM(問題別集計③!G69:G70)","v":0},{"$f":"SUM(問題別集計③!H69:H70)","v":0},{"$f":"SUM(問題別集計③!I69:I70)","v":0},{"$f":"SUM(問題別集計③!J69:J70)","v":0},{"$f":"SUM(問題別集計③!K69:K70)","v":0},{"$f":"SUM(問題別集計③!L69:L70)","v":0},{"$f":"SUM(問題別集計③!M69:M70)","v":0},{"$f":"SUM(問題別集計③!N69:N70)","v":0},{"$f":"SUM(問題別集計③!O69:O70)","v":0},{"$f":"SUM(問題別集計③!P69:P70)","v":0},{"$f":"SUM(問題別集計③!Q69:Q70)","v":0},{"$f":"SUM(問題別集計③!R69:R70)","v":0},{"$f":"SUM(問題別集計③!S69:S70)","v":0},{"$f":"SUM(問題別集計③!T69:T70)","v":0},{"$f":"ROUND(AI83/AI87,3)*100","v":{"$error":"#DIV/0!"}},{"$error":"#DIV/0!"},{"$error":"#DIV/0!"},{"$error":"#DIV/0!"},{"$error":"#DIV/0!"},{"$error":"#DIV/0!"},{"$error":"#DIV/0!"},{"$error":"#DIV/0!"},{"$error":"#DIV/0!"},{"$error":"#DIV/0!"},{"$error":"#DIV/0!"},{"$error":"#DIV/0!"},{"$error":"#DIV/0!"},{"$error":"#DIV/0!"},{"$f":"SUM(問題別集計②!G69:G70)","v":0},{"$f":"SUM(問題別集計②!H69:H70)","v":0},{"$f":"SUM(問題別集計②!I69:I70)","v":0},{"$f":"SUM(問題別集計②!J69:J70)","v":0},{"$f":"SUM(問題別集計②!K69:K70)","v":0},{"$f":"SUM(問題別集計②!L69:L70)","v":0},{"$f":"SUM(問題別集計②!M69:M70)","v":0},{"$f":"SUM(問題別集計②!N69:N70)","v":0},{"$f":"SUM(問題別集計②!O69:O70)","v":0},{"$f":"SUM(問題別集計②!P69:P70)","v":0},{"$f":"SUM(問題別集計②!Q69:Q70)","v":0},{"$f":"SUM(問題別集計②!R69:R70)","v":0},{"$f":"SUM(問題別集計②!S69:S70)","v":0},{"$f":"SUM(問題別集計②!T69:T70)","v":0},{"$f":"ROUND(BK83/BK87,3)*100","v":{"$error":"#DIV/0!"}},{"$error":"#DIV/0!"},{"$error":"#DIV/0!"},{"$error":"#DIV/0!"},{"$error":"#DIV/0!"},{"$error":"#DIV/0!"},{"$error":"#DIV/0!"},{"$error":"#DIV/0!"},{"$error":"#DIV/0!"},{"$error":"#DIV/0!"},{"$error":"#DIV/0!"},{"$error":"#DIV/0!"},{"$error":"#DIV/0!"},{"$error":"#DIV/0!"}]
[null,null,null,2,"あてはまらない",2,null,null,null,null,null,null,null,null,null,null,null,null,null,null,{"$f":"ROUND(G84/G$72,4)*100","v":{"$error":"#DIV/0!"}},{"$f":"ROUND(H84/H$72,4)*100","v":{"$error":"#DIV/0!"}},{"$f":"ROUND(I84/I$72,4)*100","v":{"$error":"#DIV/0!"}},{"$f":"ROUND(J84/J$72,4)*100","v":{"$error":"#DIV/0!"}},{"$f":"ROUND(K84/K$72,4)*100","v":{"$error":"#DIV/0!"}},{"$f":"ROUND(L84/L$72,4)*100","v":{"$error":"#DIV/0!"}},{"$f":"ROUND(M84/M$72,4)*100","v":{"$error":"#DIV/0!"}},{"$f":"ROUND(N84/N$72,4)*100","v":{"$error":"#DIV/0!"}},{"$f":"ROUND(O84/O$72,4)*100","v":{"$error":"#DIV/0!"}},{"$f":"ROUND(P84/P$72,4)*100","v":{"$error":"#DIV/0!"}},{"$f":"ROUND(Q84/Q$72,4)*100","v":{"$error":"#DIV/0!"}},{"$f":"ROUND(R84/R$72,4)*100","v":{"$error":"#DIV/0!"}},{"$f":"ROUND(S84/S$72,4)*100","v":{"$error":"#DIV/0!"}},{"$f":"ROUND(T84/T$72,4)*100","v":{"$error":"#DIV/0!"}},null,null,null,null,null,null,null,null,null,null,null,null,null,null,{"$f":"ROUND(AI84/AI$72,4)*100","v":{"$error":"#DIV/0!"}},{"$f":"ROUND(AJ84/AJ$72,4)*100","v":{"$error":"#DIV/0!"}},{"$f":"ROUND(AK84/AK$72,4)*100","v":{"$error":"#DIV/0!"}},{"$f":"ROUND(AL84/AL$72,4)*100","v":{"$error":"#DIV/0!"}},{"$f":"ROUND(AM84/AM$72,4)*100","v":{"$error":"#DIV/0!"}},{"$f":"ROUND(AN84/AN$72,4)*100","v":{"$error":"#DIV/0!"}},{"$f":"ROUND(AO84/AO$72,4)*100","v":{"$error":"#DIV/0!"}},{"$f":"ROUND(AP84/AP$72,4)*100","v":{"$error":"#DIV/0!"}},{"$f":"ROUND(AQ84/AQ$72,4)*100","v":{"$error":"#DIV/0!"}},{"$f":"ROUND(AR84/AR$72,4)*100","v":{"$error":"#DIV/0!"}},{"$f":"ROUND(AS84/AS$72,4)*100","v":{"$error":"#DIV/0!"}},{"$f":"ROUND(AT84/AT$72,4)*100","v":{"$error":"#DIV/0!"}},{"$f":"ROUND(AU84/AU$72,4)*100","v":{"$error":"#DIV/0!"}},{"$f":"ROUND(AV84/AV$72,4)*100","v":{"$error":"#DIV/0!"}},null,null,null,null,null,null,null,null,null,null,null,null,null,null,{"$f":"ROUND(BK84/BK$72,4)*100","v":{"$error":"#DIV/0!"}},{"$f":"ROUND(BL84/BL$72,4)*100","v":{"$error":"#DIV/0!"}},{"$f":"ROUND(BM84/BM$72,4)*100","v":{"$error":"#DIV/0!"}},{"$f":"ROUND(BN84/BN$72,4)*100","v":{"$error":"#DIV/0!"}},{"$f":"ROUND(BO84/BO$72,4)*100","v":{"$error":"#DIV/0!"}},{"$f":"ROUND(BP84/BP$72,4)*100","v":{"$error":"#DIV/0!"}},{"$f":"ROUND(BQ84/BQ$72,4)*100","v":{"$error":"#DIV/0!"}},{"$f":"ROUND(BR84/BR$72,4)*100","v":{"$error":"#DIV/0!"}},{"$f":"ROUND(BS84/BS$72,4)*100","v":{"$error":"#DIV/0!"}},{"$f":"ROUND(BT84/BT$72,4)*100","v":{"$error":"#DIV/0!"}},{"$f":"ROUND(BU84/BU$72,4)*100","v":{"$error":"#DIV/0!"}},{"$f":"ROUND(BV84/BV$72,4)*100","v":{"$error":"#DIV/0!"}},{"$f":"ROUND(BW84/BW$72,4)*100","v":{"$error":"#DIV/0!"}},{"$f":"ROUND(BX84/BX$72,4)*100","v":{"$error":"#DIV/0!"}}]
[null,null,null,3,"あてはまる",3,{"$f":"問題別集計!G71+問題別集計!G72","v":0},{"$f":"問題別集計!H71+問題別集計!H72","v":0},{"$f":"問題別集計!I71+問題別集計!I72","v":0},{"$f":"問題別集計!J71+問題別集計!J72","v":0},{"$f":"問題別集計!K71+問題別集計!K72","v":0},{"$f":"問題別集計!L71+問題別集計!L72","v":0},{"$f":"問題別集計!M71+問題別集計!M72","v":0},{"$f":"問題別集計!N71+問題別集計!N72","v":0},{"$f":"問題別集計!O71+問題別集計!O72","v":0},{"$f":"問題別集計!P71+問題別集計!P72","v":0},{"$f":"問題別集計!Q71+問題別集計!Q72","v":0},{"$f":"問題別集計!R71+問題別集計!R72","v":0},{"$f":"問題別集計!S71+問題別集計!S72","v":0},{"$f":"問題別集計!T71+問題別集計!T72","v":0},{"$f":"ROUND(G85/G87,3)*100","v":{"$error":"#DIV/0!"}},{"$error":"#DIV/0!"},{"$error":"#DIV/0!"},{"$error":"#DIV/0!"},{"$error":"#DIV/0!"},{"$error":"#DIV/0!"},{"$error":"#DIV/0!"},{"$error":"#DIV/0!"},{"$error":"#DIV/0!"},{"$error":"#DIV/0!"},{"$error":"#DIV/0!"},{"$error":"#DIV/0!"},{"$error":"#DIV/0!"},{"$error":"#DIV/0!"},{"$f":"SUM(問題別集計③!G71:G72)","v":0},{"$f":"SUM(問題別集計③!H71:H72)","v":0},{"$f":"SUM(問題別集計③!I71:I72)","v":0},{"$f":"SUM(問題別集計③!J71:J72)","v":0},{"$f":"SUM(問題別集計③!K71:K72)","v":0},{"$f":"SUM(問題別集計③!L71:L72)","v":0},{"$f":"SUM(問題別集計③!M71:M72)","v":0},{"$f":"SUM(問題別集計③!N71:N72)","v":0},{"$f":"SUM(問題別集計③!O71:O72)","v":0},{"$f":"SUM(問題別集計③!P71:P72)","v":0},{"$f":"SUM(問題別集計③!Q71:Q72)","v":0},{"$f":"SUM(問題別集計③!R71:R72)","v":0},{"$f":"SUM(問題別集計③!S71:S72)","v":0},{"$f":"SUM(問題別集計③!T71:T72)","v":0},{"$f":"ROUND(AI85/AI87,3)*100","v":{"$error":"#DIV/0!"}},{"$error":"#DIV/0!"},{"$error":"#DIV/0!"},{"$error":"#DIV/0!"},{"$error":"#DIV/0!"},{"$error":"#DIV/0!"},{"$error":"#DIV/0!"},{"$error":"#DIV/0!"},{"$error":"#DIV/0!"},{"$error":"#DIV/0!"},{"$error":"#DIV/0!"},{"$error":"#DIV/0!"},{"$error":"#DIV/0!"},{"$error":"#DIV/0!"},{"$f":"SUM(問題別集計②!G71:G72)","v":0},{"$f":"SUM(問題別集計②!H71:H72)","v":0},{"$f":"SUM(問題別集計②!I71:I72)","v":0},{"$f":"SUM(問題別集計②!J71:J72)","v":0},{"$f":"SUM(問題別集計②!K71:K72)","v":0},{"$f":"SUM(問題別集計②!L71:L72)","v":0},{"$f":"SUM(問題別集計②!M71:M72)","v":0},{"$f":"SUM(問題別集計②!N71:N72)","v":0},{"$f":"SUM(問題別集計②!O71:O72)","v":0},{"$f":"SUM(問題別集計②!P71:P72)","v":0},{"$f":"SUM(問題別集計②!Q71:Q72)","v":0},{"$f":"SUM(問題別集計②!R71:R72)","v":0},{"$f":"SUM(問題別集計②!S71:S72)","v":0},{"$f":"SUM(問題別集計②!T71:T72)","v":0},{"$f":"ROUND(BK85/BK87,3)*100","v":{"$error":"#DIV/0!"}},{"$error":"#DIV/0!"},{"$error":"#DIV/0!"},{"$error":"#DIV/0!"},{"$error":"#DIV/0!"},{"$error":"#DIV/0!"},{"$error":"#DIV/0!"},{"$error":"#DIV/0!"},{"$error":"#DIV/0!"},{"$error":"#DIV/0!"},{"$error":"#DIV/0!"},{"$error":"#DIV/0!"},{"$error":"#DIV/0!"},{"$error":"#DIV/0!"}]
[null,null,null,4,"非常にあてはまる",4,null,null,null,null,null,null,null,null,null,null,null,null,null,null,{"$f":"ROUND(G86/G$72,4)*100","v":{"$error":"#DIV/0!"}},{"$f":"ROUND(H86/H$72,4)*100","v":{"$error":"#DIV/0!"}},{"$f":"ROUND(I86/I$72,4)*100","v":{"$error":"#DIV/0!"}},{"$f":"ROUND(J86/J$72,4)*100","v":{"$error":"#DIV/0!"}},{"$f":"ROUND(K86/K$72,4)*100","v":{"$error":"#DIV/0!"}},{"$f":"ROUND(L86/L$72,4)*100","v":{"$error":"#DIV/0!"}},{"$f":"ROUND(M86/M$72,4)*100","v":{"$error":"#DIV/0!"}},{"$f":"ROUND(N86/N$72,4)*100","v":{"$error":"#DIV/0!"}},{"$f":"ROUND(O86/O$72,4)*100","v":{"$error":"#DIV/0!"}},{"$f":"ROUND(P86/P$72,4)*100","v":{"$error":"#DIV/0!"}},{"$f":"ROUND(Q86/Q$72,4)*100","v":{"$error":"#DIV/0!"}},{"$f":"ROUND(R86/R$72,4)*100","v":{"$error":"#DIV/0!"}},{"$f":"ROUND(S86/S$72,4)*100","v":{"$error":"#DIV/0!"}},{"$f":"ROUND(T86/T$72,4)*100","v":{"$error":"#DIV/0!"}},null,null,null,null,null,null,null,null,null,null,null,null,null,null,{"$f":"ROUND(AI86/AI$72,4)*100","v":{"$error":"#DIV/0!"}},{"$f":"ROUND(AJ86/AJ$72,4)*100","v":{"$error":"#DIV/0!"}},{"$f":"ROUND(AK86/AK$72,4)*100","v":{"$error":"#DIV/0!"}},{"$f":"ROUND(AL86/AL$72,4)*100","v":{"$error":"#DIV/0!"}},{"$f":"ROUND(AM86/AM$72,4)*100","v":{"$error":"#DIV/0!"}},{"$f":"ROUND(AN86/AN$72,4)*100","v":{"$error":"#DIV/0!"}},{"$f":"ROUND(AO86/AO$72,4)*100","v":{"$error":"#DIV/0!"}},{"$f":"ROUND(AP86/AP$72,4)*100","v":{"$error":"#DIV/0!"}},{"$f":"ROUND(AQ86/AQ$72,4)*100","v":{"$error":"#DIV/0!"}},{"$f":"ROUND(AR86/AR$72,4)*100","v":{"$error":"#DIV/0!"}},{"$f":"ROUND(AS86/AS$72,4)*100","v":{"$error":"#DIV/0!"}},{"$f":"ROUND(AT86/AT$72,4)*100","v":{"$error":"#DIV/0!"}},{"$f":"ROUND(AU86/AU$72,4)*100","v":{"$error":"#DIV/0!"}},{"$f":"ROUND(AV86/AV$72,4)*100","v":{"$error":"#DIV/0!"}},null,null,null,null,null,null,null,null,null,null,null,null,null,null,{"$f":"ROUND(BK86/BK$72,4)*100","v":{"$error":"#DIV/0!"}},{"$f":"ROUND(BL86/BL$72,4)*100","v":{"$error":"#DIV/0!"}},{"$f":"ROUND(BM86/BM$72,4)*100","v":{"$error":"#DIV/0!"}},{"$f":"ROUND(BN86/BN$72,4)*100","v":{"$error":"#DIV/0!"}},{"$f":"ROUND(BO86/BO$72,4)*100","v":{"$error":"#DIV/0!"}},{"$f":"ROUND(BP86/BP$72,4)*100","v":{"$error":"#DIV/0!"}},{"$f":"ROUND(BQ86/BQ$72,4)*100","v":{"$error":"#DIV/0!"}},{"$f":"ROUND(BR86/BR$72,4)*100","v":{"$error":"#DIV/0!"}},{"$f":"ROUND(BS86/BS$72,4)*100","v":{"$error":"#DIV/0!"}},{"$f":"ROUND(BT86/BT$72,4)*100","v":{"$error":"#DIV/0!"}},{"$f":"ROUND(BU86/BU$72,4)*100","v":{"$error":"#DIV/0!"}},{"$f":"ROUND(BV86/BV$72,4)*100","v":{"$error":"#DIV/0!"}},{"$f":"ROUND(BW86/BW$72,4)*100","v":{"$error":"#DIV/0!"}},{"$f":"ROUND(BX86/BX$72,4)*100","v":{"$error":"#DIV/0!"}}]
[null,null,null,"計",null,null,{"$f":"SUM(G83:G86)","v":0},{"$f":"SUM(H83:H86)","v":0},{"$f":"SUM(I83:I86)","v":0},{"$f":"SUM(J83:J86)","v":0},{"$f":"SUM(K83:K86)","v":0},{"$f":"SUM(L83:L86)","v":0},{"$f":"SUM(M83:M86)","v":0},{"$f":"SUM(N83:N86)","v":0},{"$f":"SUM(O83:O86)","v":0},{"$f":"SUM(P83:P86)","v":0},{"$f":"SUM(Q83:Q86)","v":0},{"$f":"SUM(R83:R86)","v":0},{"$f":"SUM(S83:S86)","v":0},{"$f":"SUM(T83:T86)","v":0},{"$f":"SUM(U83:U86)","v":{"$error":"#DIV/0!"}},{"$f":"SUM(V83:V86)","v":{"$error":"#DIV/0!"}},{"$f":"SUM(W83:W86)","v":{"$error":"#DIV/0!"}},{"$f":"SUM(X83:X86)","v":{"$error":"#DIV/0!"}},{"$f":"SUM(Y83:Y86)","v":{"$error":"#DIV/0!"}},{"$f":"SUM(Z83:Z86)","v":{"$error":"#DIV/0!"}},{"$error":"#DIV/0!"},{"$f":"SUM(AB83:AB86)","v":{"$error":"#DIV/0!"}},{"$f":"SUM(AC83:AC86)","v":{"$error":"#DIV/0!"}},{"$f":"SUM(AD83:AD86)","v":{"$error":"#DIV/0!"}},{"$f":"SUM(AE83:AE86)","v":{"$error":"#DIV/0!"}},{"$f":"SUM(AF83:AF86)","v":{"$error":"#DIV/0!"}},{"$f":"SUM(AG83:AG86)","v":{"$error":"#DIV/0!"}},{"$error":"#DIV/0!"},{"$f":"SUM(AI83:AI86)","v":0},{"$f":"SUM(AJ83:AJ86)","v":0},{"$f":"SUM(AK83:AK86)","v":0},{"$f":"SUM(AL83:AL86)","v":0},{"$f":"SUM(AM83:AM86)","v":0},{"$f":"SUM(AN83:AN86)","v":0},{"$f":"SUM(AO83:AO86)","v":0},{"$f":"SUM(AP83:AP86)","v":0},{"$f":"SUM(AQ83:AQ86)","v":0},{"$f":"SUM(AR83:AR86)","v":0},{"$f":"SUM(AS83:AS86)","v":0},{"$f":"SUM(AT83:AT86)","v":0},{"$f":"SUM(AU83:AU86)","v":0},{"$f":"SUM(AV83:AV86)","v":0},{"$error":"#DIV/0!"},{"$error":"#DIV/0!"},{"$error":"#DIV/0!"},{"$error":"#DIV/0!"},{"$error":"#DIV/0!"},{"$error":"#DIV/0!"},{"$error":"#DIV/0!"},{"$error":"#DIV/0!"},{"$error":"#DIV/0!"},{"$error":"#DIV/0!"},{"$error":"#DIV/0!"},{"$error":"#DIV/0!"},{"$error":"#DIV/0!"},{"$error":"#DIV/0!"},{"$f":"SUM(BK83:BK86)","v":0},{"$f":"SUM(BL83:BL86)","v":0},{"$f":"SUM(BM83:BM86)","v":0},{"$f":"SUM(BN83:BN86)","v":0},{"$f":"SUM(BO83:BO86)","v":0},{"$f":"SUM(BP83:BP86)","v":0},{"$f":"SUM(BQ83:BQ86)","v":0},{"$f":"SUM(BR83:BR86)","v":0},{"$f":"SUM(BS83:BS86)","v":0},{"$f":"SUM(BT83:BT86)","v":0},{"$f":"SUM(BU83:BU86)","v":0},{"$f":"SUM(BV83:BV86)","v":0},{"$f":"SUM(BW83:BW86)","v":0},{"$f":"SUM(BX83:BX86)","v":0},{"$error":"#DIV/0!"},{"$error":"#DIV/0!"},{"$error":"#DIV/0!"},{"$error":"#DIV/0!"},{"$error":"#DIV/0!"},{"$error":"#DIV/0!"},{"$error":"#DIV/0!"},{"$error":"#DIV/0!"},{"$error":"#DIV/0!"},{"$error":"#DIV/0!"},{"$error":"#DIV/0!"},{"$error":"#DIV/0!"},{"$error":"#DIV/0!"},{"$error":"#DIV/0!"}]
[null,"15\n（16）","“やめなくては”と思いながら、いつもインターネットを続けてしまう。",1,"全くあてはまらない",1,{"$f":"問題別集計!G73+問題別集計!G74","v":0},{"$f":"問題別集計!H73+問題別集計!H74","v":0},{"$f":"問題別集計!I73+問題別集計!I74","v":0},{"$f":"問題別集計!J73+問題別集計!J74","v":0},{"$f":"問題別集計!K73+問題別集計!K74","v":0},{"$f":"問題別集計!L73+問題別集計!L74","v":0},{"$f":"問題別集計!M73+問題別集計!M74","v":0},{"$f":"問題別集計!N73+問題別集計!N74","v":0},{"$f":"問題別集計!O73+問題別集計!O74","v":0},{"$f":"問題別集計!P73+問題別集計!P74","v":0},{"$f":"問題別集計!Q73+問題別集計!Q74","v":0},{"$f":"問題別集計!R73+問題別集計!R74","v":0},{"$f":"問題別集計!S73+問題別集計!S74","v":0},{"$f":"問題別集計!T73+問題別集計!T74","v":0},{"$f":"ROUND(G88/G92,3)*100","v":{"$error":"#DIV/0!"}},{"$error":"#DIV/0!"},{"$error":"#DIV/0!"},{"$error":"#DIV/0!"},{"$error":"#DIV/0!"},{"$error":"#DIV/0!"},{"$error":"#DIV/0!"},{"$error":"#DIV/0!"},{"$error":"#DIV/0!"},{"$error":"#DIV/0!"},{"$error":"#DIV/0!"},{"$error":"#DIV/0!"},{"$error":"#DIV/0!"},{"$f":"ROUND(T88/T$92,4)*100","v":{"$error":"#DIV/0!"}},{"$f":"SUM(問題別集計③!G73:G74)","v":0},{"$f":"SUM(問題別集計③!H73:H74)","v":0},{"$f":"SUM(問題別集計③!I73:I74)","v":0},{"$f":"SUM(問題別集計③!J73:J74)","v":0},{"$f":"SUM(問題別集計③!K73:K74)","v":0},{"$f":"SUM(問題別集計③!L73:L74)","v":0},{"$f":"SUM(問題別集計③!M73:M74)","v":0},{"$f":"SUM(問題別集計③!N73:N74)","v":0},{"$f":"SUM(問題別集計③!O73:O74)","v":0},{"$f":"SUM(問題別集計③!P73:P74)","v":0},{"$f":"SUM(問題別集計③!Q73:Q74)","v":0},{"$f":"SUM(問題別集計③!R73:R74)","v":0},{"$f":"SUM(問題別集計③!S73:S74)","v":0},{"$f":"SUM(問題別集計③!T73:T74)","v":0},{"$f":"ROUND(AI88/AI92,3)*100","v":{"$error":"#DIV/0!"}},{"$error":"#DIV/0!"},{"$error":"#DIV/0!"},{"$error":"#DIV/0!"},{"$error":"#DIV/0!"},{"$error":"#DIV/0!"},{"$error":"#DIV/0!"},{"$error":"#DIV/0!"},{"$error":"#DIV/0!"},{"$error":"#DIV/0!"},{"$error":"#DIV/0!"},{"$error":"#DIV/0!"},{"$error":"#DIV/0!"},{"$f":"ROUND(AV88/AV$92,4)*100","v":{"$error":"#DIV/0!"}},{"$f":"SUM(問題別集計②!G73:G74)","v":0},{"$f":"SUM(問題別集計②!H73:H74)","v":0},{"$f":"SUM(問題別集計②!I73:I74)","v":0},{"$f":"SUM(問題別集計②!J73:J74)","v":0},{"$f":"SUM(問題別集計②!K73:K74)","v":0},{"$f":"SUM(問題別集計②!L73:L74)","v":0},{"$f":"SUM(問題別集計②!M73:M74)","v":0},{"$f":"SUM(問題別集計②!N73:N74)","v":0},{"$f":"SUM(問題別集計②!O73:O74)","v":0},{"$f":"SUM(問題別集計②!P73:P74)","v":0},{"$f":"SUM(問題別集計②!Q73:Q74)","v":0},{"$f":"SUM(問題別集計②!R73:R74)","v":0},{"$f":"SUM(問題別集計②!S73:S74)","v":0},{"$f":"SUM(問題別集計②!T73:T74)","v":0},{"$f":"ROUND(BK88/BK92,3)*100","v":{"$error":"#DIV/0!"}},{"$error":"#DIV/0!"},{"$error":"#DIV/0!"},{"$error":"#DIV/0!"},{"$error":"#DIV/0!"},{"$error":"#DIV/0!"},{"$error":"#DIV/0!"},{"$error":"#DIV/0!"},{"$error":"#DIV/0!"},{"$error":"#DIV/0!"},{"$error":"#DIV/0!"},{"$error":"#DIV/0!"},{"$error":"#DIV/0!"},{"$f":"ROUND(BX88/BX$92,4)*100","v":{"$error":"#DIV/0!"}}]
[null,null,null,2,"あてはまらない",2,null,null,null,null,null,null,null,null,null,null,null,null,null,null,{"$f":"ROUND(G89/G$72,4)*100","v":{"$error":"#DIV/0!"}},{"$f":"ROUND(H89/H$72,4)*100","v":{"$error":"#DIV/0!"}},{"$f":"ROUND(I89/I$72,4)*100","v":{"$error":"#DIV/0!"}},{"$f":"ROUND(J89/J$72,4)*100","v":{"$error":"#DIV/0!"}},{"$f":"ROUND(K89/K$72,4)*100","v":{"$error":"#DIV/0!"}},{"$f":"ROUND(L89/L$72,4)*100","v":{"$error":"#DIV/0!"}},{"$f":"ROUND(M89/M$72,4)*100","v":{"$error":"#DIV/0!"}},{"$f":"ROUND(N89/N$72,4)*100","v":{"$error":"#DIV/0!"}},{"$f":"ROUND(O89/O$72,4)*100","v":{"$error":"#DIV/0!"}},{"$f":"ROUND(P89/P$72,4)*100","v":{"$error":"#DIV/0!"}},{"$f":"ROUND(Q89/Q$72,4)*100","v":{"$error":"#DIV/0!"}},{"$f":"ROUND(R89/R$72,4)*100","v":{"$error":"#DIV/0!"}},{"$f":"ROUND(S89/S$72,4)*100","v":{"$error":"#DIV/0!"}},{"$f":"ROUND(T89/T$72,4)*100","v":{"$error":"#DIV/0!"}},null,null,null,null,null,null,null,null,null,null,null,null,null,null,{"$f":"ROUND(AI89/AI$72,4)*100","v":{"$error":"#DIV/0!"}},{"$f":"ROUND(AJ89/AJ$72,4)*100","v":{"$error":"#DIV/0!"}},{"$f":"ROUND(AK89/AK$72,4)*100","v":{"$error":"#DIV/0!"}},{"$f":"ROUND(AL89/AL$72,4)*100","v":{"$error":"#DIV/0!"}},{"$f":"ROUND(AM89/AM$72,4)*100","v":{"$error":"#DIV/0!"}},{"$f":"ROUND(AN89/AN$72,4)*100","v":{"$error":"#DIV/0!"}},{"$f":"ROUND(AO89/AO$72,4)*100","v":{"$error":"#DIV/0!"}},{"$f":"ROUND(AP89/AP$72,4)*100","v":{"$error":"#DIV/0!"}},{"$f":"ROUND(AQ89/AQ$72,4)*100","v":{"$error":"#DIV/0!"}},{"$f":"ROUND(AR89/AR$72,4)*100","v":{"$error":"#DIV/0!"}},{"$f":"ROUND(AS89/AS$72,4)*100","v":{"$error":"#DIV/0!"}},{"$f":"ROUND(AT89/AT$72,4)*100","v":{"$error":"#DIV/0!"}},{"$f":"ROUND(AU89/AU$72,4)*100","v":{"$error":"#DIV/0!"}},{"$f":"ROUND(AV89/AV$72,4)*100","v":{"$error":"#DIV/0!"}},null,null,null,null,null,null,null,null,null,null,null,null,null,null,{"$f":"ROUND(BK89/BK$72,4)*100","v":{"$error":"#DIV/0!"}},{"$f":"ROUND(BL89/BL$72,4)*100","v":{"$error":"#DIV/0!"}},{"$f":"ROUND(BM89/BM$72,4)*100","v":{"$error":"#DIV/0!"}},{"$f":"ROUND(BN89/BN$72,4)*100","v":{"$error":"#DIV/0!"}},{"$f":"ROUND(BO89/BO$72,4)*100","v":{"$error":"#DIV/0!"}},{"$f":"ROUND(BP89/BP$72,4)*100","v":{"$error":"#DIV/0!"}},{"$f":"ROUND(BQ89/BQ$72,4)*100","v":{"$error":"#DIV/0!"}},{"$f":"ROUND(BR89/BR$72,4)*100","v":{"$error":"#DIV/0!"}},{"$f":"ROUND(BS89/BS$72,4)*100","v":{"$error":"#DIV/0!"}},{"$f":"ROUND(BT89/BT$72,4)*100","v":{"$error":"#DIV/0!"}},{"$f":"ROUND(BU89/BU$72,4)*100","v":{"$error":"#DIV/0!"}},{"$f":"ROUND(BV89/BV$72,4)*100","v":{"$error":"#DIV/0!"}},{"$f":"ROUND(BW89/BW$72,4)*100","v":{"$error":"#DIV/0!"}},{"$f":"ROUND(BX89/BX$72,4)*100","v":{"$error":"#DIV/0!"}}]
[null,null,null,3,"あてはまる",3,{"$f":"問題別集計!G75+問題別集計!G76","v":0},{"$f":"問題別集計!H75+問題別集計!H76","v":0},{"$f":"問題別集計!I75+問題別集計!I76","v":0},{"$f":"問題別集計!J75+問題別集計!J76","v":0},{"$f":"問題別集計!K75+問題別集計!K76","v":0},{"$f":"問題別集計!L75+問題別集計!L76","v":0},{"$f":"問題別集計!M75+問題別集計!M76","v":0},{"$f":"問題別集計!N75+問題別集計!N76","v":0},{"$f":"問題別集計!O75+問題別集計!O76","v":0},{"$f":"問題別集計!P75+問題別集計!P76","v":0},{"$f":"問題別集計!Q75+問題別集計!Q76","v":0},{"$f":"問題別集計!R75+問題別集計!R76","v":0},{"$f":"問題別集計!S75+問題別集計!S76","v":0},{"$f":"問題別集計!T75+問題別集計!T76","v":0},{"$f":"ROUND(G90/G92,3)*100","v":{"$error":"#DIV/0!"}},{"$error":"#DIV/0!"},{"$error":"#DIV/0!"},{"$error":"#DIV/0!"},{"$error":"#DIV/0!"},{"$error":"#DIV/0!"},{"$error":"#DIV/0!"},{"$error":"#DIV/0!"},{"$error":"#DIV/0!"},{"$error":"#DIV/0!"},{"$error":"#DIV/0!"},{"$error":"#DIV/0!"},{"$error":"#DIV/0!"},{"$f":"ROUND(T90/T$92,4)*100","v":{"$error":"#DIV/0!"}},{"$f":"SUM(問題別集計③!G75:G76)","v":0},{"$f":"SUM(問題別集計③!H75:H76)","v":0},{"$f":"SUM(問題別集計③!I75:I76)","v":0},{"$f":"SUM(問題別集計③!J75:J76)","v":0},{"$f":"SUM(問題別集計③!K75:K76)","v":0},{"$f":"SUM(問題別集計③!L75:L76)","v":0},{"$f":"SUM(問題別集計③!M75:M76)","v":0},{"$f":"SUM(問題別集計③!N75:N76)","v":0},{"$f":"SUM(問題別集計③!O75:O76)","v":0},{"$f":"SUM(問題別集計③!P75:P76)","v":0},{"$f":"SUM(問題別集計③!Q75:Q76)","v":0},{"$f":"SUM(問題別集計③!R75:R76)","v":0},{"$f":"SUM(問題別集計③!S75:S76)","v":0},{"$f":"SUM(問題別集計③!T75:T76)","v":0},{"$f":"ROUND(AI90/AI92,3)*100","v":{"$error":"#DIV/0!"}},{"$error":"#DIV/0!"},{"$error":"#DIV/0!"},{"$error":"#DIV/0!"},{"$error":"#DIV/0!"},{"$error":"#DIV/0!"},{"$error":"#DIV/0!"},{"$error":"#DIV/0!"},{"$error":"#DIV/0!"},{"$error":"#DIV/0!"},{"$error":"#DIV/0!"},{"$error":"#DIV/0!"},{"$error":"#DIV/0!"},{"$f":"ROUND(AV90/AV$92,4)*100","v":{"$error":"#DIV/0!"}},{"$f":"SUM(問題別集計②!G75:G76)","v":0},{"$f":"SUM(問題別集計②!H75:H76)","v":0},{"$f":"SUM(問題別集計②!I75:I76)","v":0},{"$f":"SUM(問題別集計②!J75:J76)","v":0},{"$f":"SUM(問題別集計②!K75:K76)","v":0},{"$f":"SUM(問題別集計②!L75:L76)","v":0},{"$f":"SUM(問題別集計②!M75:M76)","v":0},{"$f":"SUM(問題別集計②!N75:N76)","v":0},{"$f":"SUM(問題別集計②!O75:O76)","v":0},{"$f":"SUM(問題別集計②!P75:P76)","v":0},{"$f":"SUM(問題別集計②!Q75:Q76)","v":0},{"$f":"SUM(問題別集計②!R75:R76)","v":0},{"$f":"SUM(問題別集計②!S75:S76)","v":0},{"$f":"SUM(問題別集計②!T75:T76)","v":0},{"$f":"ROUND(BK90/BK92,3)*100","v":{"$error":"#DIV/0!"}},{"$error":"#DIV/0!"},{"$error":"#DIV/0!"},{"$error":"#DIV/0!"},{"$error":"#DIV/0!"},{"$error":"#DIV/0!"},{"$error":"#DIV/0!"},{"$error":"#DIV/0!"},{"$error":"#DIV/0!"},{"$error":"#DIV/0!"},{"$error":"#DIV/0!"},{"$error":"#DIV/0!"},{"$error":"#DIV/0!"},{"$f":"ROUND(BX90/BX$92,4)*100","v":{"$error":"#DIV/0!"}}]
[null,null,null,4,"非常にあてはまる",4,null,null,null,null,null,null,null,null,null,null,null,null,null,null,{"$f":"ROUND(G91/G$72,4)*100","v":{"$error":"#DIV/0!"}},{"$f":"ROUND(H91/H$72,4)*100","v":{"$error":"#DIV/0!"}},{"$f":"ROUND(I91/I$72,4)*100","v":{"$error":"#DIV/0!"}},{"$f":"ROUND(J91/J$72,4)*100","v":{"$error":"#DIV/0!"}},{"$f":"ROUND(K91/K$72,4)*100","v":{"$error":"#DIV/0!"}},{"$f":"ROUND(L91/L$72,4)*100","v":{"$error":"#DIV/0!"}},{"$f":"ROUND(M91/M$72,4)*100","v":{"$error":"#DIV/0!"}},{"$f":"ROUND(N91/N$72,4)*100","v":{"$error":"#DIV/0!"}},{"$f":"ROUND(O91/O$72,4)*100","v":{"$error":"#DIV/0!"}},{"$f":"ROUND(P91/P$72,4)*100","v":{"$error":"#DIV/0!"}},{"$f":"ROUND(Q91/Q$72,4)*100","v":{"$error":"#DIV/0!"}},{"$f":"ROUND(R91/R$72,4)*100","v":{"$error":"#DIV/0!"}},{"$f":"ROUND(S91/S$72,4)*100","v":{"$error":"#DIV/0!"}},{"$f":"ROUND(T91/T$72,4)*100","v":{"$error":"#DIV/0!"}},null,null,null,null,null,null,null,null,null,null,null,null,null,null,{"$f":"ROUND(AI91/AI$72,4)*100","v":{"$error":"#DIV/0!"}},{"$f":"ROUND(AJ91/AJ$72,4)*100","v":{"$error":"#DIV/0!"}},{"$f":"ROUND(AK91/AK$72,4)*100","v":{"$error":"#DIV/0!"}},{"$f":"ROUND(AL91/AL$72,4)*100","v":{"$error":"#DIV/0!"}},{"$f":"ROUND(AM91/AM$72,4)*100","v":{"$error":"#DIV/0!"}},{"$f":"ROUND(AN91/AN$72,4)*100","v":{"$error":"#DIV/0!"}},{"$f":"ROUND(AO91/AO$72,4)*100","v":{"$error":"#DIV/0!"}},{"$f":"ROUND(AP91/AP$72,4)*100","v":{"$error":"#DIV/0!"}},{"$f":"ROUND(AQ91/AQ$72,4)*100","v":{"$error":"#DIV/0!"}},{"$f":"ROUND(AR91/AR$72,4)*100","v":{"$error":"#DIV/0!"}},{"$f":"ROUND(AS91/AS$72,4)*100","v":{"$error":"#DIV/0!"}},{"$f":"ROUND(AT91/AT$72,4)*100","v":{"$error":"#DIV/0!"}},{"$f":"ROUND(AU91/AU$72,4)*100","v":{"$error":"#DIV/0!"}},{"$f":"ROUND(AV91/AV$72,4)*100","v":{"$error":"#DIV/0!"}},null,null,null,null,null,null,null,null,null,null,null,null,null,null,{"$f":"ROUND(BK91/BK$72,4)*100","v":{"$error":"#DIV/0!"}},{"$f":"ROUND(BL91/BL$72,4)*100","v":{"$error":"#DIV/0!"}},{"$f":"ROUND(BM91/BM$72,4)*100","v":{"$error":"#DIV/0!"}},{"$f":"ROUND(BN91/BN$72,4)*100","v":{"$error":"#DIV/0!"}},{"$f":"ROUND(BO91/BO$72,4)*100","v":{"$error":"#DIV/0!"}},{"$f":"ROUND(BP91/BP$72,4)*100","v":{"$error":"#DIV/0!"}},{"$f":"ROUND(BQ91/BQ$72,4)*100","v":{"$error":"#DIV/0!"}},{"$f":"ROUND(BR91/BR$72,4)*100","v":{"$error":"#DIV/0!"}},{"$f":"ROUND(BS91/BS$72,4)*100","v":{"$error":"#DIV/0!"}},{"$f":"ROUND(BT91/BT$72,4)*100","v":{"$error":"#DIV/0!"}},{"$f":"ROUND(BU91/BU$72,4)*100","v":{"$error":"#DIV/0!"}},{"$f":"ROUND(BV91/BV$72,4)*100","v":{"$error":"#DIV/0!"}},{"$f":"ROUND(BW91/BW$72,4)*100","v":{"$error":"#DIV/0!"}},{"$f":"ROUND(BX91/BX$72,4)*100","v":{"$error":"#DIV/0!"}}]
[null,null,null,"計",null,null,{"$f":"SUM(G88:G91)","v":0},{"$f":"SUM(H88:H91)","v":0},{"$f":"SUM(I88:I91)","v":0},{"$f":"SUM(J88:J91)","v":0},{"$f":"SUM(K88:K91)","v":0},{"$f":"SUM(L88:L91)","v":0},{"$f":"SUM(M88:M91)","v":0},{"$f":"SUM(N88:N91)","v":0},{"$f":"SUM(O88:O91)","v":0},{"$f":"SUM(P88:P91)","v":0},{"$f":"SUM(Q88:Q91)","v":0},{"$f":"SUM(R88:R91)","v":0},{"$f":"SUM(S88:S91)","v":0},{"$f":"SUM(T88:T91)","v":0},{"$f":"SUM(U88:U91)","v":{"$error":"#DIV/0!"}},{"$f":"SUM(V88:V91)","v":{"$error":"#DIV/0!"}},{"$f":"SUM(W88:W91)","v":{"$error":"#DIV/0!"}},{"$f":"SUM(X88:X91)","v":{"$error":"#DIV/0!"}},{"$f":"SUM(Y88:Y91)","v":{"$error":"#DIV/0!"}},{"$f":"SUM(Z88:Z91)","v":{"$error":"#DIV/0!"}},{"$error":"#DIV/0!"},{"$f":"SUM(AB88:AB91)","v":{"$error":"#DIV/0!"}},{"$f":"SUM(AC88:AC91)","v":{"$error":"#DIV/0!"}},{"$f":"SUM(AD88:AD91)","v":{"$error":"#DIV/0!"}},{"$f":"SUM(AE88:AE91)","v":{"$error":"#DIV/0!"}},{"$f":"SUM(AF88:AF91)","v":{"$error":"#DIV/0!"}},{"$f":"SUM(AG88:AG91)","v":{"$error":"#DIV/0!"}},{"$error":"#DIV/0!"},{"$f":"SUM(AI88:AI91)","v":0},{"$f":"SUM(AJ88:AJ91)","v":0},{"$f":"SUM(AK88:AK91)","v":0},{"$f":"SUM(AL88:AL91)","v":0},{"$f":"SUM(AM88:AM91)","v":0},{"$f":"SUM(AN88:AN91)","v":0},{"$f":"SUM(AO88:AO91)","v":0},{"$f":"SUM(AP88:AP91)","v":0},{"$f":"SUM(AQ88:AQ91)","v":0},{"$f":"SUM(AR88:AR91)","v":0},{"$f":"SUM(AS88:AS91)","v":0},{"$f":"SUM(AT88:AT91)","v":0},{"$f":"SUM(AU88:AU91)","v":0},{"$f":"SUM(AV88:AV91)","v":0},{"$error":"#DIV/0!"},{"$error":"#DIV/0!"},{"$error":"#DIV/0!"},{"$error":"#DIV/0!"},{"$error":"#DIV/0!"},{"$error":"#DIV/0!"},{"$error":"#DIV/0!"},{"$error":"#DIV/0!"},{"$error":"#DIV/0!"},{"$error":"#DIV/0!"},{"$error":"#DIV/0!"},{"$error":"#DIV/0!"},{"$error":"#DIV/0!"},{"$error":"#DIV/0!"},{"$f":"SUM(BK88:BK91)","v":0},{"$f":"SUM(BL88:BL91)","v":0},{"$f":"SUM(BM88:BM91)","v":0},{"$f":"SUM(BN88:BN91)","v":0},{"$f":"SUM(BO88:BO91)","v":0},{"$f":"SUM(BP88:BP91)","v":0},{"$f":"SUM(BQ88:BQ91)","v":0},{"$f":"SUM(BR88:BR91)","v":0},{"$f":"SUM(BS88:BS91)","v":0},{"$f":"SUM(BT88:BT91)","v":0},{"$f":"SUM(BU88:BU91)","v":0},{"$f":"SUM(BV88:BV91)","v":0},{"$f":"SUM(BW88:BW91)","v":0},{"$f":"SUM(BX88:BX91)","v":0},{"$error":"#DIV/0!"},{"$error":"#DIV/0!"},{"$error":"#DIV/0!"},{"$error":"#DIV/0!"},{"$error":"#DIV/0!"},{"$error":"#DIV/0!"},{"$error":"#DIV/0!"},{"$error":"#DIV/0!"},{"$error":"#DIV/0!"},{"$error":"#DIV/0!"},{"$error":"#DIV/0!"},{"$error":"#DIV/0!"},{"$error":"#DIV/0!"},{"$error":"#DIV/0!"}]
[null,"16\n（17）","インターネットをしているために疲れて授業時間に寝る。",1,"全くあてはまらない",1,{"$f":"問題別集計!G77+問題別集計!G78","v":0},{"$f":"問題別集計!H77+問題別集計!H78","v":0},{"$f":"問題別集計!I77+問題別集計!I78","v":0},{"$f":"問題別集計!J77+問題別集計!J78","v":0},{"$f":"問題別集計!K77+問題別集計!K78","v":0},{"$f":"問題別集計!L77+問題別集計!L78","v":0},{"$f":"問題別集計!M77+問題別集計!M78","v":0},{"$f":"問題別集計!N77+問題別集計!N78","v":0},{"$f":"問題別集計!O77+問題別集計!O78","v":0},{"$f":"問題別集計!P77+問題別集計!P78","v":0},{"$f":"問題別集計!Q77+問題別集計!Q78","v":0},{"$f":"問題別集計!R77+問題別集計!R78","v":0},{"$f":"問題別集計!S77+問題別集計!S78","v":0},{"$f":"問題別集計!T77+問題別集計!T78","v":0},{"$f":"ROUND(G93/G97,3)*100","v":{"$error":"#DIV/0!"}},{"$error":"#DIV/0!"},{"$error":"#DIV/0!"},{"$error":"#DIV/0!"},{"$error":"#DIV/0!"},{"$error":"#DIV/0!"},{"$error":"#DIV/0!"},{"$error":"#DIV/0!"},{"$error":"#DIV/0!"},{"$error":"#DIV/0!"},{"$error":"#DIV/0!"},{"$error":"#DIV/0!"},{"$error":"#DIV/0!"},{"$f":"ROUND(T93/T$97,4)*100","v":{"$error":"#DIV/0!"}},{"$f":"SUM(問題別集計③!G77:G78)","v":0},{"$f":"SUM(問題別集計③!H77:H78)","v":0},{"$f":"SUM(問題別集計③!I77:I78)","v":0},{"$f":"SUM(問題別集計③!J77:J78)","v":0},{"$f":"SUM(問題別集計③!K77:K78)","v":0},{"$f":"SUM(問題別集計③!L77:L78)","v":0},{"$f":"SUM(問題別集計③!M77:M78)","v":0},{"$f":"SUM(問題別集計③!N77:N78)","v":0},{"$f":"SUM(問題別集計③!O77:O78)","v":0},{"$f":"SUM(問題別集計③!P77:P78)","v":0},{"$f":"SUM(問題別集計③!Q77:Q78)","v":0},{"$f":"SUM(問題別集計③!R77:R78)","v":0},{"$f":"SUM(問題別集計③!S77:S78)","v":0},{"$f":"SUM(問題別集計③!T77:T78)","v":0},{"$f":"ROUND(AI93/AI97,3)*100","v":{"$error":"#DIV/0!"}},{"$error":"#DIV/0!"},{"$error":"#DIV/0!"},{"$error":"#DIV/0!"},{"$error":"#DIV/0!"},{"$error":"#DIV/0!"},{"$error":"#DIV/0!"},{"$error":"#DIV/0!"},{"$error":"#DIV/0!"},{"$error":"#DIV/0!"},{"$error":"#DIV/0!"},{"$error":"#DIV/0!"},{"$error":"#DIV/0!"},{"$f":"ROUND(AV93/AV$97,4)*100","v":{"$error":"#DIV/0!"}},{"$f":"SUM(問題別集計②!G77:G78)","v":0},{"$f":"SUM(問題別集計②!H77:H78)","v":0},{"$f":"SUM(問題別集計②!I77:I78)","v":0},{"$f":"SUM(問題別集計②!J77:J78)","v":0},{"$f":"SUM(問題別集計②!K77:K78)","v":0},{"$f":"SUM(問題別集計②!L77:L78)","v":0},{"$f":"SUM(問題別集計②!M77:M78)","v":0},{"$f":"SUM(問題別集計②!N77:N78)","v":0},{"$f":"SUM(問題別集計②!O77:O78)","v":0},{"$f":"SUM(問題別集計②!P77:P78)","v":0},{"$f":"SUM(問題別集計②!Q77:Q78)","v":0},{"$f":"SUM(問題別集計②!R77:R78)","v":0},{"$f":"SUM(問題別集計②!S77:S78)","v":0},{"$f":"SUM(問題別集計②!T77:T78)","v":0},{"$f":"ROUND(BK93/BK97,3)*100","v":{"$error":"#DIV/0!"}},{"$error":"#DIV/0!"},{"$error":"#DIV/0!"},{"$error":"#DIV/0!"},{"$error":"#DIV/0!"},{"$error":"#DIV/0!"},{"$error":"#DIV/0!"},{"$error":"#DIV/0!"},{"$error":"#DIV/0!"},{"$error":"#DIV/0!"},{"$error":"#DIV/0!"},{"$error":"#DIV/0!"},{"$error":"#DIV/0!"},{"$f":"ROUND(BX93/BX$97,4)*100","v":{"$error":"#DIV/0!"}}]
[null,null,null,2,"あてはまらない",2,null,null,null,null,null,null,null,null,null,null,null,null,null,null,{"$f":"ROUND(G94/G$72,4)*100","v":{"$error":"#DIV/0!"}},{"$f":"ROUND(H94/H$72,4)*100","v":{"$error":"#DIV/0!"}},{"$f":"ROUND(I94/I$72,4)*100","v":{"$error":"#DIV/0!"}},{"$f":"ROUND(J94/J$72,4)*100","v":{"$error":"#DIV/0!"}},{"$f":"ROUND(K94/K$72,4)*100","v":{"$error":"#DIV/0!"}},{"$f":"ROUND(L94/L$72,4)*100","v":{"$error":"#DIV/0!"}},{"$f":"ROUND(M94/M$72,4)*100","v":{"$error":"#DIV/0!"}},{"$f":"ROUND(N94/N$72,4)*100","v":{"$error":"#DIV/0!"}},{"$f":"ROUND(O94/O$72,4)*100","v":{"$error":"#DIV/0!"}},{"$f":"ROUND(P94/P$72,4)*100","v":{"$error":"#DIV/0!"}},{"$f":"ROUND(Q94/Q$72,4)*100","v":{"$error":"#DIV/0!"}},{"$f":"ROUND(R94/R$72,4)*100","v":{"$error":"#DIV/0!"}},{"$f":"ROUND(S94/S$72,4)*100","v":{"$error":"#DIV/0!"}},{"$f":"ROUND(T94/T$72,4)*100","v":{"$error":"#DIV/0!"}},null,null,null,null,null,null,null,null,null,null,null,null,null,null,{"$f":"ROUND(AI94/AI$72,4)*100","v":{"$error":"#DIV/0!"}},{"$f":"ROUND(AJ94/AJ$72,4)*100","v":{"$error":"#DIV/0!"}},{"$f":"ROUND(AK94/AK$72,4)*100","v":{"$error":"#DIV/0!"}},{"$f":"ROUND(AL94/AL$72,4)*100","v":{"$error":"#DIV/0!"}},{"$f":"ROUND(AM94/AM$72,4)*100","v":{"$error":"#DIV/0!"}},{"$f":"ROUND(AN94/AN$72,4)*100","v":{"$error":"#DIV/0!"}},{"$f":"ROUND(AO94/AO$72,4)*100","v":{"$error":"#DIV/0!"}},{"$f":"ROUND(AP94/AP$72,4)*100","v":{"$error":"#DIV/0!"}},{"$f":"ROUND(AQ94/AQ$72,4)*100","v":{"$error":"#DIV/0!"}},{"$f":"ROUND(AR94/AR$72,4)*100","v":{"$error":"#DIV/0!"}},{"$f":"ROUND(AS94/AS$72,4)*100","v":{"$error":"#DIV/0!"}},{"$f":"ROUND(AT94/AT$72,4)*100","v":{"$error":"#DIV/0!"}},{"$f":"ROUND(AU94/AU$72,4)*100","v":{"$error":"#DIV/0!"}},{"$f":"ROUND(AV94/AV$72,4)*100","v":{"$error":"#DIV/0!"}},null,null,null,null,null,null,null,null,null,null,null,null,null,null,{"$f":"ROUND(BK94/BK$72,4)*100","v":{"$error":"#DIV/0!"}},{"$f":"ROUND(BL94/BL$72,4)*100","v":{"$error":"#DIV/0!"}},{"$f":"ROUND(BM94/BM$72,4)*100","v":{"$error":"#DIV/0!"}},{"$f":"ROUND(BN94/BN$72,4)*100","v":{"$error":"#DIV/0!"}},{"$f":"ROUND(BO94/BO$72,4)*100","v":{"$error":"#DIV/0!"}},{"$f":"ROUND(BP94/BP$72,4)*100","v":{"$error":"#DIV/0!"}},{"$f":"ROUND(BQ94/BQ$72,4)*100","v":{"$error":"#DIV/0!"}},{"$f":"ROUND(BR94/BR$72,4)*100","v":{"$error":"#DIV/0!"}},{"$f":"ROUND(BS94/BS$72,4)*100","v":{"$error":"#DIV/0!"}},{"$f":"ROUND(BT94/BT$72,4)*100","v":{"$error":"#DIV/0!"}},{"$f":"ROUND(BU94/BU$72,4)*100","v":{"$error":"#DIV/0!"}},{"$f":"ROUND(BV94/BV$72,4)*100","v":{"$error":"#DIV/0!"}},{"$f":"ROUND(BW94/BW$72,4)*100","v":{"$error":"#DIV/0!"}},{"$f":"ROUND(BX94/BX$72,4)*100","v":{"$error":"#DIV/0!"}}]
[null,null,null,3,"あてはまる",3,{"$f":"問題別集計!G79+問題別集計!G80","v":0},{"$f":"問題別集計!H79+問題別集計!H80","v":0},{"$f":"問題別集計!I79+問題別集計!I80","v":0},{"$f":"問題別集計!J79+問題別集計!J80","v":0},{"$f":"問題別集計!K79+問題別集計!K80","v":0},{"$f":"問題別集計!L79+問題別集計!L80","v":0},{"$f":"問題別集計!M79+問題別集計!M80","v":0},{"$f":"問題別集計!N79+問題別集計!N80","v":0},{"$f":"問題別集計!O79+問題別集計!O80","v":0},{"$f":"問題別集計!P79+問題別集計!P80","v":0},{"$f":"問題別集計!Q79+問題別集計!Q80","v":0},{"$f":"問題別集計!R79+問題別集計!R80","v":0},{"$f":"問題別集計!S79+問題別集計!S80","v":0},{"$f":"問題別集計!T79+問題別集計!T80","v":0},{"$f":"ROUND(G95/G97,3)*100","v":{"$error":"#DIV/0!"}},{"$error":"#DIV/0!"},{"$error":"#DIV/0!"},{"$error":"#DIV/0!"},{"$error":"#DIV/0!"},{"$error":"#DIV/0!"},{"$error":"#DIV/0!"},{"$error":"#DIV/0!"},{"$error":"#DIV/0!"},{"$error":"#DIV/0!"},{"$error":"#DIV/0!"},{"$error":"#DIV/0!"},{"$error":"#DIV/0!"},{"$f":"ROUND(T95/T$97,4)*100","v":{"$error":"#DIV/0!"}},{"$f":"SUM(問題別集計③!G79:G80)","v":0},{"$f":"SUM(問題別集計③!H79:H80)","v":0},{"$f":"SUM(問題別集計③!I79:I80)","v":0},{"$f":"SUM(問題別集計③!J79:J80)","v":0},{"$f":"SUM(問題別集計③!K79:K80)","v":0},{"$f":"SUM(問題別集計③!L79:L80)","v":0},{"$f":"SUM(問題別集計③!M79:M80)","v":0},{"$f":"SUM(問題別集計③!N79:N80)","v":0},{"$f":"SUM(問題別集計③!O79:O80)","v":0},{"$f":"SUM(問題別集計③!P79:P80)","v":0},{"$f":"SUM(問題別集計③!Q79:Q80)","v":0},{"$f":"SUM(問題別集計③!R79:R80)","v":0},{"$f":"SUM(問題別集計③!S79:S80)","v":0},{"$f":"SUM(問題別集計③!T79:T80)","v":0},{"$f":"ROUND(AI95/AI97,3)*100","v":{"$error":"#DIV/0!"}},{"$error":"#DIV/0!"},{"$error":"#DIV/0!"},{"$error":"#DIV/0!"},{"$error":"#DIV/0!"},{"$error":"#DIV/0!"},{"$error":"#DIV/0!"},{"$error":"#DIV/0!"},{"$error":"#DIV/0!"},{"$error":"#DIV/0!"},{"$error":"#DIV/0!"},{"$error":"#DIV/0!"},{"$error":"#DIV/0!"},{"$f":"ROUND(AV95/AV$97,4)*100","v":{"$error":"#DIV/0!"}},{"$f":"SUM(問題別集計②!G79:G80)","v":0},{"$f":"SUM(問題別集計②!H79:H80)","v":0},{"$f":"SUM(問題別集計②!I79:I80)","v":0},{"$f":"SUM(問題別集計②!J79:J80)","v":0},{"$f":"SUM(問題別集計②!K79:K80)","v":0},{"$f":"SUM(問題別集計②!L79:L80)","v":0},{"$f":"SUM(問題別集計②!M79:M80)","v":0},{"$f":"SUM(問題別集計②!N79:N80)","v":0},{"$f":"SUM(問題別集計②!O79:O80)","v":0},{"$f":"SUM(問題別集計②!P79:P80)","v":0},{"$f":"SUM(問題別集計②!Q79:Q80)","v":0},{"$f":"SUM(問題別集計②!R79:R80)","v":0},{"$f":"SUM(問題別集計②!S79:S80)","v":0},{"$f":"SUM(問題別集計②!T79:T80)","v":0},{"$f":"ROUND(BK95/BK97,3)*100","v":{"$error":"#DIV/0!"}},{"$error":"#DIV/0!"},{"$error":"#DIV/0!"},{"$error":"#DIV/0!"},{"$error":"#DIV/0!"},{"$error":"#DIV/0!"},{"$error":"#DIV/0!"},{"$error":"#DIV/0!"},{"$error":"#DIV/0!"},{"$error":"#DIV/0!"},{"$error":"#DIV/0!"},{"$error":"#DIV/0!"},{"$error":"#DIV/0!"},{"$f":"ROUND(BX95/BX$97,4)*100","v":{"$error":"#DIV/0!"}}]
[null,null,null,4,"非常にあてはまる",4,null,null,null,null,null,null,null,null,null,null,null,null,null,null,{"$f":"ROUND(G96/G$72,4)*100","v":{"$error":"#DIV/0!"}},{"$f":"ROUND(H96/H$72,4)*100","v":{"$error":"#DIV/0!"}},{"$f":"ROUND(I96/I$72,4)*100","v":{"$error":"#DIV/0!"}},{"$f":"ROUND(J96/J$72,4)*100","v":{"$error":"#DIV/0!"}},{"$f":"ROUND(K96/K$72,4)*100","v":{"$error":"#DIV/0!"}},{"$f":"ROUND(L96/L$72,4)*100","v":{"$error":"#DIV/0!"}},{"$f":"ROUND(M96/M$72,4)*100","v":{"$error":"#DIV/0!"}},{"$f":"ROUND(N96/N$72,4)*100","v":{"$error":"#DIV/0!"}},{"$f":"ROUND(O96/O$72,4)*100","v":{"$error":"#DIV/0!"}},{"$f":"ROUND(P96/P$72,4)*100","v":{"$error":"#DIV/0!"}},{"$f":"ROUND(Q96/Q$72,4)*100","v":{"$error":"#DIV/0!"}},{"$f":"ROUND(R96/R$72,4)*100","v":{"$error":"#DIV/0!"}},{"$f":"ROUND(S96/S$72,4)*100","v":{"$error":"#DIV/0!"}},{"$f":"ROUND(T96/T$72,4)*100","v":{"$error":"#DIV/0!"}},null,null,null,null,null,null,null,null,null,null,null,null,null,null,{"$f":"ROUND(AI96/AI$72,4)*100","v":{"$error":"#DIV/0!"}},{"$f":"ROUND(AJ96/AJ$72,4)*100","v":{"$error":"#DIV/0!"}},{"$f":"ROUND(AK96/AK$72,4)*100","v":{"$error":"#DIV/0!"}},{"$f":"ROUND(AL96/AL$72,4)*100","v":{"$error":"#DIV/0!"}},{"$f":"ROUND(AM96/AM$72,4)*100","v":{"$error":"#DIV/0!"}},{"$f":"ROUND(AN96/AN$72,4)*100","v":{"$error":"#DIV/0!"}},{"$f":"ROUND(AO96/AO$72,4)*100","v":{"$error":"#DIV/0!"}},{"$f":"ROUND(AP96/AP$72,4)*100","v":{"$error":"#DIV/0!"}},{"$f":"ROUND(AQ96/AQ$72,4)*100","v":{"$error":"#DIV/0!"}},{"$f":"ROUND(AR96/AR$72,4)*100","v":{"$error":"#DIV/0!"}},{"$f":"ROUND(AS96/AS$72,4)*100","v":{"$error":"#DIV/0!"}},{"$f":"ROUND(AT96/AT$72,4)*100","v":{"$error":"#DIV/0!"}},{"$f":"ROUND(AU96/AU$72,4)*100","v":{"$error":"#DIV/0!"}},{"$f":"ROUND(AV96/AV$72,4)*100","v":{"$error":"#DIV/0!"}},null,null,null,null,null,null,null,null,null,null,null,null,null,null,{"$f":"ROUND(BK96/BK$72,4)*100","v":{"$error":"#DIV/0!"}},{"$f":"ROUND(BL96/BL$72,4)*100","v":{"$error":"#DIV/0!"}},{"$f":"ROUND(BM96/BM$72,4)*100","v":{"$error":"#DIV/0!"}},{"$f":"ROUND(BN96/BN$72,4)*100","v":{"$error":"#DIV/0!"}},{"$f":"ROUND(BO96/BO$72,4)*100","v":{"$error":"#DIV/0!"}},{"$f":"ROUND(BP96/BP$72,4)*100","v":{"$error":"#DIV/0!"}},{"$f":"ROUND(BQ96/BQ$72,4)*100","v":{"$error":"#DIV/0!"}},{"$f":"ROUND(BR96/BR$72,4)*100","v":{"$error":"#DIV/0!"}},{"$f":"ROUND(BS96/BS$72,4)*100","v":{"$error":"#DIV/0!"}},{"$f":"ROUND(BT96/BT$72,4)*100","v":{"$error":"#DIV/0!"}},{"$f":"ROUND(BU96/BU$72,4)*100","v":{"$error":"#DIV/0!"}},{"$f":"ROUND(BV96/BV$72,4)*100","v":{"$error":"#DIV/0!"}},{"$f":"ROUND(BW96/BW$72,4)*100","v":{"$error":"#DIV/0!"}},{"$f":"ROUND(BX96/BX$72,4)*100","v":{"$error":"#DIV/0!"}}]
[null,null,null,"計",null,null,{"$f":"SUM(G93:G96)","v":0},{"$f":"SUM(H93:H96)","v":0},{"$f":"SUM(I93:I96)","v":0},{"$f":"SUM(J93:J96)","v":0},{"$f":"SUM(K93:K96)","v":0},{"$f":"SUM(L93:L96)","v":0},{"$f":"SUM(M93:M96)","v":0},{"$f":"SUM(N93:N96)","v":0},{"$f":"SUM(O93:O96)","v":0},{"$f":"SUM(P93:P96)","v":0},{"$f":"SUM(Q93:Q96)","v":0},{"$f":"SUM(R93:R96)","v":0},{"$f":"SUM(S93:S96)","v":0},{"$f":"SUM(T93:T96)","v":0},{"$f":"SUM(U93:U96)","v":{"$error":"#DIV/0!"}},{"$f":"SUM(V93:V96)","v":{"$error":"#DIV/0!"}},{"$f":"SUM(W93:W96)","v":{"$error":"#DIV/0!"}},{"$f":"SUM(X93:X96)","v":{"$error":"#DIV/0!"}},{"$f":"SUM(Y93:Y96)","v":{"$error":"#DIV/0!"}},{"$f":"SUM(Z93:Z96)","v":{"$error":"#DIV/0!"}},{"$error":"#DIV/0!"},{"$f":"SUM(AB93:AB96)","v":{"$error":"#DIV/0!"}},{"$f":"SUM(AC93:AC96)","v":{"$error":"#DIV/0!"}},{"$f":"SUM(AD93:AD96)","v":{"$error":"#DIV/0!"}},{"$f":"SUM(AE93:AE96)","v":{"$error":"#DIV/0!"}},{"$f":"SUM(AF93:AF96)","v":{"$error":"#DIV/0!"}},{"$f":"SUM(AG93:AG96)","v":{"$error":"#DIV/0!"}},{"$error":"#DIV/0!"},{"$f":"SUM(AI93:AI96)","v":0},{"$f":"SUM(AJ93:AJ96)","v":0},{"$f":"SUM(AK93:AK96)","v":0},{"$f":"SUM(AL93:AL96)","v":0},{"$f":"SUM(AM93:AM96)","v":0},{"$f":"SUM(AN93:AN96)","v":0},{"$f":"SUM(AO93:AO96)","v":0},{"$f":"SUM(AP93:AP96)","v":0},{"$f":"SUM(AQ93:AQ96)","v":0},{"$f":"SUM(AR93:AR96)","v":0},{"$f":"SUM(AS93:AS96)","v":0},{"$f":"SUM(AT93:AT96)","v":0},{"$f":"SUM(AU93:AU96)","v":0},{"$f":"SUM(AV93:AV96)","v":0},{"$error":"#DIV/0!"},{"$error":"#DIV/0!"},{"$error":"#DIV/0!"},{"$error":"#DIV/0!"},{"$error":"#DIV/0!"},{"$error":"#DIV/0!"},{"$error":"#DIV/0!"},{"$error":"#DIV/0!"},{"$error":"#DIV/0!"},{"$error":"#DIV/0!"},{"$error":"#DIV/0!"},{"$error":"#DIV/0!"},{"$error":"#DIV/0!"},{"$error":"#DIV/0!"},{"$f":"SUM(BK93:BK96)","v":0},{"$f":"SUM(BL93:BL96)","v":0},{"$f":"SUM(BM93:BM96)","v":0},{"$f":"SUM(BN93:BN96)","v":0},{"$f":"SUM(BO93:BO96)","v":0},{"$f":"SUM(BP93:BP96)","v":0},{"$f":"SUM(BQ93:BQ96)","v":0},{"$f":"SUM(BR93:BR96)","v":0},{"$f":"SUM(BS93:BS96)","v":0},{"$f":"SUM(BT93:BT96)","v":0},{"$f":"SUM(BU93:BU96)","v":0},{"$f":"SUM(BV93:BV96)","v":0},{"$f":"SUM(BW93:BW96)","v":0},{"$f":"SUM(BX93:BX96)","v":0},{"$error":"#DIV/0!"},{"$error":"#DIV/0!"},{"$error":"#DIV/0!"},{"$error":"#DIV/0!"},{"$error":"#DIV/0!"},{"$error":"#DIV/0!"},{"$error":"#DIV/0!"},{"$error":"#DIV/0!"},{"$error":"#DIV/0!"},{"$error":"#DIV/0!"},{"$error":"#DIV/0!"},{"$error":"#DIV/0!"},{"$error":"#DIV/0!"},{"$error":"#DIV/0!"}]
[null,"17\n（18）","インターネットをしていて、計画したことがまともにできなかったことがある。",1,"全くあてはまらない",1,{"$f":"問題別集計!G81+問題別集計!G82","v":0},{"$f":"問題別集計!H81+問題別集計!H82","v":0},{"$f":"問題別集計!I81+問題別集計!I82","v":0},{"$f":"問題別集計!J81+問題別集計!J82","v":0},{"$f":"問題別集計!K81+問題別集計!K82","v":0},{"$f":"問題別集計!L81+問題別集計!L82","v":0},{"$f":"問題別集計!M81+問題別集計!M82","v":0},{"$f":"問題別集計!N81+問題別集計!N82","v":0},{"$f":"問題別集計!O81+問題別集計!O82","v":0},{"$f":"問題別集計!P81+問題別集計!P82","v":0},{"$f":"問題別集計!Q81+問題別集計!Q82","v":0},{"$f":"問題別集計!R81+問題別集計!R82","v":0},{"$f":"問題別集計!S81+問題別集計!S82","v":0},{"$f":"問題別集計!T81+問題別集計!T82","v":0},{"$f":"ROUND(G98/G102,3)*100","v":{"$error":"#DIV/0!"}},{"$error":"#DIV/0!"},{"$error":"#DIV/0!"},{"$error":"#DIV/0!"},{"$error":"#DIV/0!"},{"$error":"#DIV/0!"},{"$error":"#DIV/0!"},{"$error":"#DIV/0!"},{"$error":"#DIV/0!"},{"$error":"#DIV/0!"},{"$error":"#DIV/0!"},{"$error":"#DIV/0!"},{"$error":"#DIV/0!"},{"$f":"ROUND(T98/T$102,4)*100","v":{"$error":"#DIV/0!"}},{"$f":"SUM(問題別集計③!G81:G82)","v":0},{"$f":"SUM(問題別集計③!H81:H82)","v":0},{"$f":"SUM(問題別集計③!I81:I82)","v":0},{"$f":"SUM(問題別集計③!J81:J82)","v":0},{"$f":"SUM(問題別集計③!K81:K82)","v":0},{"$f":"SUM(問題別集計③!L81:L82)","v":0},{"$f":"SUM(問題別集計③!M81:M82)","v":0},{"$f":"SUM(問題別集計③!N81:N82)","v":0},{"$f":"SUM(問題別集計③!O81:O82)","v":0},{"$f":"SUM(問題別集計③!P81:P82)","v":0},{"$f":"SUM(問題別集計③!Q81:Q82)","v":0},{"$f":"SUM(問題別集計③!R81:R82)","v":0},{"$f":"SUM(問題別集計③!S81:S82)","v":0},{"$f":"SUM(問題別集計③!T81:T82)","v":0},{"$f":"ROUND(AI98/AI102,3)*100","v":{"$error":"#DIV/0!"}},{"$error":"#DIV/0!"},{"$error":"#DIV/0!"},{"$error":"#DIV/0!"},{"$error":"#DIV/0!"},{"$error":"#DIV/0!"},{"$error":"#DIV/0!"},{"$error":"#DIV/0!"},{"$error":"#DIV/0!"},{"$error":"#DIV/0!"},{"$error":"#DIV/0!"},{"$error":"#DIV/0!"},{"$error":"#DIV/0!"},{"$f":"ROUND(AV98/AV$102,4)*100","v":{"$error":"#DIV/0!"}},{"$f":"SUM(問題別集計②!G81:G82)","v":0},{"$f":"SUM(問題別集計②!H81:H82)","v":0},{"$f":"SUM(問題別集計②!I81:I82)","v":0},{"$f":"SUM(問題別集計②!J81:J82)","v":0},{"$f":"SUM(問題別集計②!K81:K82)","v":0},{"$f":"SUM(問題別集計②!L81:L82)","v":0},{"$f":"SUM(問題別集計②!M81:M82)","v":0},{"$f":"SUM(問題別集計②!N81:N82)","v":0},{"$f":"SUM(問題別集計②!O81:O82)","v":0},{"$f":"SUM(問題別集計②!P81:P82)","v":0},{"$f":"SUM(問題別集計②!Q81:Q82)","v":0},{"$f":"SUM(問題別集計②!R81:R82)","v":0},{"$f":"SUM(問題別集計②!S81:S82)","v":0},{"$f":"SUM(問題別集計②!T81:T82)","v":0},{"$f":"ROUND(BK98/BK102,3)*100","v":{"$error":"#DIV/0!"}},{"$error":"#DIV/0!"},{"$error":"#DIV/0!"},{"$error":"#DIV/0!"},{"$error":"#DIV/0!"},{"$error":"#DIV/0!"},{"$error":"#DIV/0!"},{"$error":"#DIV/0!"},{"$error":"#DIV/0!"},{"$error":"#DIV/0!"},{"$error":"#DIV/0!"},{"$error":"#DIV/0!"},{"$error":"#DIV/0!"},{"$f":"ROUND(BX98/BX$102,4)*100","v":{"$error":"#DIV/0!"}}]
[null,null,null,2,"あてはまらない",2,null,null,null,null,null,null,null,null,null,null,null,null,null,null,{"$f":"ROUND(G99/G$72,4)*100","v":{"$error":"#DIV/0!"}},{"$f":"ROUND(H99/H$72,4)*100","v":{"$error":"#DIV/0!"}},{"$f":"ROUND(I99/I$72,4)*100","v":{"$error":"#DIV/0!"}},{"$f":"ROUND(J99/J$72,4)*100","v":{"$error":"#DIV/0!"}},{"$f":"ROUND(K99/K$72,4)*100","v":{"$error":"#DIV/0!"}},{"$f":"ROUND(L99/L$72,4)*100","v":{"$error":"#DIV/0!"}},{"$f":"ROUND(M99/M$72,4)*100","v":{"$error":"#DIV/0!"}},{"$f":"ROUND(N99/N$72,4)*100","v":{"$error":"#DIV/0!"}},{"$f":"ROUND(O99/O$72,4)*100","v":{"$error":"#DIV/0!"}},{"$f":"ROUND(P99/P$72,4)*100","v":{"$error":"#DIV/0!"}},{"$f":"ROUND(Q99/Q$72,4)*100","v":{"$error":"#DIV/0!"}},{"$f":"ROUND(R99/R$72,4)*100","v":{"$error":"#DIV/0!"}},{"$f":"ROUND(S99/S$72,4)*100","v":{"$error":"#DIV/0!"}},{"$f":"ROUND(T99/T$72,4)*100","v":{"$error":"#DIV/0!"}},null,null,null,null,null,null,null,null,null,null,null,null,null,null,{"$f":"ROUND(AI99/AI$72,4)*100","v":{"$error":"#DIV/0!"}},{"$f":"ROUND(AJ99/AJ$72,4)*100","v":{"$error":"#DIV/0!"}},{"$f":"ROUND(AK99/AK$72,4)*100","v":{"$error":"#DIV/0!"}},{"$f":"ROUND(AL99/AL$72,4)*100","v":{"$error":"#DIV/0!"}},{"$f":"ROUND(AM99/AM$72,4)*100","v":{"$error":"#DIV/0!"}},{"$f":"ROUND(AN99/AN$72,4)*100","v":{"$error":"#DIV/0!"}},{"$f":"ROUND(AO99/AO$72,4)*100","v":{"$error":"#DIV/0!"}},{"$f":"ROUND(AP99/AP$72,4)*100","v":{"$error":"#DIV/0!"}},{"$f":"ROUND(AQ99/AQ$72,4)*100","v":{"$error":"#DIV/0!"}},{"$f":"ROUND(AR99/AR$72,4)*100","v":{"$error":"#DIV/0!"}},{"$f":"ROUND(AS99/AS$72,4)*100","v":{"$error":"#DIV/0!"}},{"$f":"ROUND(AT99/AT$72,4)*100","v":{"$error":"#DIV/0!"}},{"$f":"ROUND(AU99/AU$72,4)*100","v":{"$error":"#DIV/0!"}},{"$f":"ROUND(AV99/AV$72,4)*100","v":{"$error":"#DIV/0!"}},null,null,null,null,null,null,null,null,null,null,null,null,null,null,{"$f":"ROUND(BK99/BK$72,4)*100","v":{"$error":"#DIV/0!"}},{"$f":"ROUND(BL99/BL$72,4)*100","v":{"$error":"#DIV/0!"}},{"$f":"ROUND(BM99/BM$72,4)*100","v":{"$error":"#DIV/0!"}},{"$f":"ROUND(BN99/BN$72,4)*100","v":{"$error":"#DIV/0!"}},{"$f":"ROUND(BO99/BO$72,4)*100","v":{"$error":"#DIV/0!"}},{"$f":"ROUND(BP99/BP$72,4)*100","v":{"$error":"#DIV/0!"}},{"$f":"ROUND(BQ99/BQ$72,4)*100","v":{"$error":"#DIV/0!"}},{"$f":"ROUND(BR99/BR$72,4)*100","v":{"$error":"#DIV/0!"}},{"$f":"ROUND(BS99/BS$72,4)*100","v":{"$error":"#DIV/0!"}},{"$f":"ROUND(BT99/BT$72,4)*100","v":{"$error":"#DIV/0!"}},{"$f":"ROUND(BU99/BU$72,4)*100","v":{"$error":"#DIV/0!"}},{"$f":"ROUND(BV99/BV$72,4)*100","v":{"$error":"#DIV/0!"}},{"$f":"ROUND(BW99/BW$72,4)*100","v":{"$error":"#DIV/0!"}},{"$f":"ROUND(BX99/BX$72,4)*100","v":{"$error":"#DIV/0!"}}]
[null,null,null,3,"あてはまる",3,{"$f":"問題別集計!G83+問題別集計!G84","v":0},{"$f":"問題別集計!H83+問題別集計!H84","v":0},{"$f":"問題別集計!I83+問題別集計!I84","v":0},{"$f":"問題別集計!J83+問題別集計!J84","v":0},{"$f":"問題別集計!K83+問題別集計!K84","v":0},{"$f":"問題別集計!L83+問題別集計!L84","v":0},{"$f":"問題別集計!M83+問題別集計!M84","v":0},{"$f":"問題別集計!N83+問題別集計!N84","v":0},{"$f":"問題別集計!O83+問題別集計!O84","v":0},{"$f":"問題別集計!P83+問題別集計!P84","v":0},{"$f":"問題別集計!Q83+問題別集計!Q84","v":0},{"$f":"問題別集計!R83+問題別集計!R84","v":0},{"$f":"問題別集計!S83+問題別集計!S84","v":0},{"$f":"問題別集計!T83+問題別集計!T84","v":0},{"$f":"ROUND(G100/G102,3)*100","v":{"$error":"#DIV/0!"}},{"$error":"#DIV/0!"},{"$error":"#DIV/0!"},{"$error":"#DIV/0!"},{"$error":"#DIV/0!"},{"$error":"#DIV/0!"},{"$error":"#DIV/0!"},{"$error":"#DIV/0!"},{"$error":"#DIV/0!"},{"$error":"#DIV/0!"},{"$error":"#DIV/0!"},{"$error":"#DIV/0!"},{"$error":"#DIV/0!"},{"$f":"ROUND(T100/T$102,4)*100","v":{"$error":"#DIV/0!"}},{"$f":"SUM(問題別集計③!G83:G84)","v":0},{"$f":"SUM(問題別集計③!H83:H84)","v":0},{"$f":"SUM(問題別集計③!I83:I84)","v":0},{"$f":"SUM(問題別集計③!J83:J84)","v":0},{"$f":"SUM(問題別集計③!K83:K84)","v":0},{"$f":"SUM(問題別集計③!L83:L84)","v":0},{"$f":"SUM(問題別集計③!M83:M84)","v":0},{"$f":"SUM(問題別集計③!N83:N84)","v":0},{"$f":"SUM(問題別集計③!O83:O84)","v":0},{"$f":"SUM(問題別集計③!P83:P84)","v":0},{"$f":"SUM(問題別集計③!Q83:Q84)","v":0},{"$f":"SUM(問題別集計③!R83:R84)","v":0},{"$f":"SUM(問題別集計③!S83:S84)","v":0},{"$f":"SUM(問題別集計③!T83:T84)","v":0},{"$f":"ROUND(AI100/AI102,3)*100","v":{"$error":"#DIV/0!"}},{"$error":"#DIV/0!"},{"$error":"#DIV/0!"},{"$error":"#DIV/0!"},{"$error":"#DIV/0!"},{"$error":"#DIV/0!"},{"$error":"#DIV/0!"},{"$error":"#DIV/0!"},{"$error":"#DIV/0!"},{"$error":"#DIV/0!"},{"$error":"#DIV/0!"},{"$error":"#DIV/0!"},{"$error":"#DIV/0!"},{"$f":"ROUND(AV100/AV$102,4)*100","v":{"$error":"#DIV/0!"}},{"$f":"SUM(問題別集計②!G83:G84)","v":0},{"$f":"SUM(問題別集計②!H83:H84)","v":0},{"$f":"SUM(問題別集計②!I83:I84)","v":0},{"$f":"SUM(問題別集計②!J83:J84)","v":0},{"$f":"SUM(問題別集計②!K83:K84)","v":0},{"$f":"SUM(問題別集計②!L83:L84)","v":0},{"$f":"SUM(問題別集計②!M83:M84)","v":0},{"$f":"SUM(問題別集計②!N83:N84)","v":0},{"$f":"SUM(問題別集計②!O83:O84)","v":0},{"$f":"SUM(問題別集計②!P83:P84)","v":0},{"$f":"SUM(問題別集計②!Q83:Q84)","v":0},{"$f":"SUM(問題別集計②!R83:R84)","v":0},{"$f":"SUM(問題別集計②!S83:S84)","v":0},{"$f":"SUM(問題別集計②!T83:T84)","v":0},{"$f":"ROUND(BK100/BK102,3)*100","v":{"$error":"#DIV/0!"}},{"$error":"#DIV/0!"},{"$error":"#DIV/0!"},{"$error":"#DIV/0!"},{"$error":"#DIV/0!"},{"$error":"#DIV/0!"},{"$error":"#DIV/0!"},{"$error":"#DIV/0!"},{"$error":"#DIV/0!"},{"$error":"#DIV/0!"},{"$error":"#DIV/0!"},{"$error":"#DIV/0!"},{"$error":"#DIV/0!"},{"$f":"ROUND(BX100/BX$102,4)*100","v":{"$error":"#DIV/0!"}}]
[null,null,null,4,"非常にあてはまる",4,null,null,null,null,null,null,null,null,null,null,null,null,null,null,{"$f":"ROUND(G101/G$72,4)*100","v":{"$error":"#DIV/0!"}},{"$f":"ROUND(H101/H$72,4)*100","v":{"$error":"#DIV/0!"}},{"$f":"ROUND(I101/I$72,4)*100","v":{"$error":"#DIV/0!"}},{"$f":"ROUND(J101/J$72,4)*100","v":{"$error":"#DIV/0!"}},{"$f":"ROUND(K101/K$72,4)*100","v":{"$error":"#DIV/0!"}},{"$f":"ROUND(L101/L$72,4)*100","v":{"$error":"#DIV/0!"}},{"$f":"ROUND(M101/M$72,4)*100","v":{"$error":"#DIV/0!"}},{"$f":"ROUND(N101/N$72,4)*100","v":{"$error":"#DIV/0!"}},{"$f":"ROUND(O101/O$72,4)*100","v":{"$error":"#DIV/0!"}},{"$f":"ROUND(P101/P$72,4)*100","v":{"$error":"#DIV/0!"}},{"$f":"ROUND(Q101/Q$72,4)*100","v":{"$error":"#DIV/0!"}},{"$f":"ROUND(R101/R$72,4)*100","v":{"$error":"#DIV/0!"}},{"$f":"ROUND(S101/S$72,4)*100","v":{"$error":"#DIV/0!"}},{"$f":"ROUND(T101/T$72,4)*100","v":{"$error":"#DIV/0!"}},null,null,null,null,null,null,null,null,null,null,null,null,null,null,{"$f":"ROUND(AI101/AI$72,4)*100","v":{"$error":"#DIV/0!"}},{"$f":"ROUND(AJ101/AJ$72,4)*100","v":{"$error":"#DIV/0!"}},{"$f":"ROUND(AK101/AK$72,4)*100","v":{"$error":"#DIV/0!"}},{"$f":"ROUND(AL101/AL$72,4)*100","v":{"$error":"#DIV/0!"}},{"$f":"ROUND(AM101/AM$72,4)*100","v":{"$error":"#DIV/0!"}},{"$f":"ROUND(AN101/AN$72,4)*100","v":{"$error":"#DIV/0!"}},{"$f":"ROUND(AO101/AO$72,4)*100","v":{"$error":"#DIV/0!"}},{"$f":"ROUND(AP101/AP$72,4)*100","v":{"$error":"#DIV/0!"}},{"$f":"ROUND(AQ101/AQ$72,4)*100","v":{"$error":"#DIV/0!"}},{"$f":"ROUND(AR101/AR$72,4)*100","v":{"$error":"#DIV/0!"}},{"$f":"ROUND(AS101/AS$72,4)*100","v":{"$error":"#DIV/0!"}},{"$f":"ROUND(AT101/AT$72,4)*100","v":{"$error":"#DIV/0!"}},{"$f":"ROUND(AU101/AU$72,4)*100","v":{"$error":"#DIV/0!"}},{"$f":"ROUND(AV101/AV$72,4)*100","v":{"$error":"#DIV/0!"}},null,null,null,null,null,null,null,null,null,null,null,null,null,null,{"$f":"ROUND(BK101/BK$72,4)*100","v":{"$error":"#DIV/0!"}},{"$f":"ROUND(BL101/BL$72,4)*100","v":{"$error":"#DIV/0!"}},{"$f":"ROUND(BM101/BM$72,4)*100","v":{"$error":"#DIV/0!"}},{"$f":"ROUND(BN101/BN$72,4)*100","v":{"$error":"#DIV/0!"}},{"$f":"ROUND(BO101/BO$72,4)*100","v":{"$error":"#DIV/0!"}},{"$f":"ROUND(BP101/BP$72,4)*100","v":{"$error":"#DIV/0!"}},{"$f":"ROUND(BQ101/BQ$72,4)*100","v":{"$error":"#DIV/0!"}},{"$f":"ROUND(BR101/BR$72,4)*100","v":{"$error":"#DIV/0!"}},{"$f":"ROUND(BS101/BS$72,4)*100","v":{"$error":"#DIV/0!"}},{"$f":"ROUND(BT101/BT$72,4)*100","v":{"$error":"#DIV/0!"}},{"$f":"ROUND(BU101/BU$72,4)*100","v":{"$error":"#DIV/0!"}},{"$f":"ROUND(BV101/BV$72,4)*100","v":{"$error":"#DIV/0!"}},{"$f":"ROUND(BW101/BW$72,4)*100","v":{"$error":"#DIV/0!"}},{"$f":"ROUND(BX101/BX$72,4)*100","v":{"$error":"#DIV/0!"}}]
[null,null,null,"計",null,null,{"$f":"SUM(G98:G101)","v":0},{"$f":"SUM(H98:H101)","v":0},{"$f":"SUM(I98:I101)","v":0},{"$f":"SUM(J98:J101)","v":0},{"$f":"SUM(K98:K101)","v":0},{"$f":"SUM(L98:L101)","v":0},{"$f":"SUM(M98:M101)","v":0},{"$f":"SUM(N98:N101)","v":0},{"$f":"SUM(O98:O101)","v":0},{"$f":"SUM(P98:P101)","v":0},{"$f":"SUM(Q98:Q101)","v":0},{"$f":"SUM(R98:R101)","v":0},{"$f":"SUM(S98:S101)","v":0},{"$f":"SUM(T98:T101)","v":0},{"$f":"SUM(U98:U101)","v":{"$error":"#DIV/0!"}},{"$f":"SUM(V98:V101)","v":{"$error":"#DIV/0!"}},{"$f":"SUM(W98:W101)","v":{"$error":"#DIV/0!"}},{"$f":"SUM(X98:X101)","v":{"$error":"#DIV/0!"}},{"$f":"SUM(Y98:Y101)","v":{"$error":"#DIV/0!"}},{"$f":"SUM(Z98:Z101)","v":{"$error":"#DIV/0!"}},{"$error":"#DIV/0!"},{"$f":"SUM(AB98:AB101)","v":{"$error":"#DIV/0!"}},{"$f":"SUM(AC98:AC101)","v":{"$error":"#DIV/0!"}},{"$f":"SUM(AD98:AD101)","v":{"$error":"#DIV/0!"}},{"$f":"SUM(AE98:AE101)","v":{"$error":"#DIV/0!"}},{"$f":"SUM(AF98:AF101)","v":{"$error":"#DIV/0!"}},{"$f":"SUM(AG98:AG101)","v":{"$error":"#DIV/0!"}},{"$error":"#DIV/0!"},{"$f":"SUM(AI98:AI101)","v":0},{"$f":"SUM(AJ98:AJ101)","v":0},{"$f":"SUM(AK98:AK101)","v":0},{"$f":"SUM(AL98:AL101)","v":0},{"$f":"SUM(AM98:AM101)","v":0},{"$f":"SUM(AN98:AN101)","v":0},{"$f":"SUM(AO98:AO101)","v":0},{"$f":"SUM(AP98:AP101)","v":0},{"$f":"SUM(AQ98:AQ101)","v":0},{"$f":"SUM(AR98:AR101)","v":0},{"$f":"SUM(AS98:AS101)","v":0},{"$f":"SUM(AT98:AT101)","v":0},{"$f":"SUM(AU98:AU101)","v":0},{"$f":"SUM(AV98:AV101)","v":0},{"$error":"#DIV/0!"},{"$error":"#DIV/0!"},{"$error":"#DIV/0!"},{"$error":"#DIV/0!"},{"$error":"#DIV/0!"},{"$error":"#DIV/0!"},{"$error":"#DIV/0!"},{"$error":"#DIV/0!"},{"$error":"#DIV/0!"},{"$error":"#DIV/0!"},{"$error":"#DIV/0!"},{"$error":"#DIV/0!"},{"$error":"#DIV/0!"},{"$error":"#DIV/0!"},{"$f":"SUM(BK98:BK101)","v":0},{"$f":"SUM(BL98:BL101)","v":0},{"$f":"SUM(BM98:BM101)","v":0},{"$f":"SUM(BN98:BN101)","v":0},{"$f":"SUM(BO98:BO101)","v":0},{"$f":"SUM(BP98:BP101)","v":0},{"$f":"SUM(BQ98:BQ101)","v":0},{"$f":"SUM(BR98:BR101)","v":0},{"$f":"SUM(BS98:BS101)","v":0},{"$f":"SUM(BT98:BT101)","v":0},{"$f":"SUM(BU98:BU101)","v":0},{"$f":"SUM(BV98:BV101)","v":0},{"$f":"SUM(BW98:BW101)","v":0},{"$f":"SUM(BX98:BX101)","v":0},{"$error":"#DIV/0!"},{"$error":"#DIV/0!"},{"$error":"#DIV/0!"},{"$error":"#DIV/0!"},{"$error":"#DIV/0!"},{"$error":"#DIV/0!"},{"$error":"#DIV/0!"},{"$error":"#DIV/0!"},{"$error":"#DIV/0!"},{"$error":"#DIV/0!"},{"$error":"#DIV/0!"},{"$error":"#DIV/0!"},{"$error":"#DIV/0!"},{"$error":"#DIV/0!"}]
[null,"18\n（19）","インターネットをすると気分がよくなり、すぐに興奮する。",1,"全くあてはまらない",1,{"$f":"問題別集計!G85+問題別集計!G86","v":0},{"$f":"問題別集計!H85+問題別集計!H86","v":0},{"$f":"問題別集計!I85+問題別集計!I86","v":0},{"$f":"問題別集計!J85+問題別集計!J86","v":0},{"$f":"問題別集計!K85+問題別集計!K86","v":0},{"$f":"問題別集計!L85+問題別集計!L86","v":0},{"$f":"問題別集計!M85+問題別集計!M86","v":0},{"$f":"問題別集計!N85+問題別集計!N86","v":0},{"$f":"問題別集計!O85+問題別集計!O86","v":0},{"$f":"問題別集計!P85+問題別集計!P86","v":0},{"$f":"問題別集計!Q85+問題別集計!Q86","v":0},{"$f":"問題別集計!R85+問題別集計!R86","v":0},{"$f":"問題別集計!S85+問題別集計!S86","v":0},{"$f":"問題別集計!T85+問題別集計!T86","v":0},{"$f":"ROUND(G103/G107,3)*100","v":{"$error":"#DIV/0!"}},{"$error":"#DIV/0!"},{"$error":"#DIV/0!"},{"$error":"#DIV/0!"},{"$error":"#DIV/0!"},{"$error":"#DIV/0!"},{"$error":"#DIV/0!"},{"$error":"#DIV/0!"},{"$error":"#DIV/0!"},{"$error":"#DIV/0!"},{"$error":"#DIV/0!"},{"$error":"#DIV/0!"},{"$error":"#DIV/0!"},{"$f":"ROUND(T103/T$107,4)*100","v":{"$error":"#DIV/0!"}},{"$f":"SUM(問題別集計③!G85:G86)","v":0},{"$f":"SUM(問題別集計③!H85:H86)","v":0},{"$f":"SUM(問題別集計③!I85:I86)","v":0},{"$f":"SUM(問題別集計③!J85:J86)","v":0},{"$f":"SUM(問題別集計③!K85:K86)","v":0},{"$f":"SUM(問題別集計③!L85:L86)","v":0},{"$f":"SUM(問題別集計③!M85:M86)","v":0},{"$f":"SUM(問題別集計③!N85:N86)","v":0},{"$f":"SUM(問題別集計③!O85:O86)","v":0},{"$f":"SUM(問題別集計③!P85:P86)","v":0},{"$f":"SUM(問題別集計③!Q85:Q86)","v":0},{"$f":"SUM(問題別集計③!R85:R86)","v":0},{"$f":"SUM(問題別集計③!S85:S86)","v":0},{"$f":"SUM(問題別集計③!T85:T86)","v":0},{"$f":"ROUND(AI103/AI107,3)*100","v":{"$error":"#DIV/0!"}},{"$error":"#DIV/0!"},{"$error":"#DIV/0!"},{"$error":"#DIV/0!"},{"$error":"#DIV/0!"},{"$error":"#DIV/0!"},{"$error":"#DIV/0!"},{"$error":"#DIV/0!"},{"$error":"#DIV/0!"},{"$error":"#DIV/0!"},{"$error":"#DIV/0!"},{"$error":"#DIV/0!"},{"$error":"#DIV/0!"},{"$f":"ROUND(AV103/AV$107,4)*100","v":{"$error":"#DIV/0!"}},{"$f":"SUM(問題別集計②!G85:G86)","v":0},{"$f":"SUM(問題別集計②!H85:H86)","v":0},{"$f":"SUM(問題別集計②!I85:I86)","v":0},{"$f":"SUM(問題別集計②!J85:J86)","v":0},{"$f":"SUM(問題別集計②!K85:K86)","v":0},{"$f":"SUM(問題別集計②!L85:L86)","v":0},{"$f":"SUM(問題別集計②!M85:M86)","v":0},{"$f":"SUM(問題別集計②!N85:N86)","v":0},{"$f":"SUM(問題別集計②!O85:O86)","v":0},{"$f":"SUM(問題別集計②!P85:P86)","v":0},{"$f":"SUM(問題別集計②!Q85:Q86)","v":0},{"$f":"SUM(問題別集計②!R85:R86)","v":0},{"$f":"SUM(問題別集計②!S85:S86)","v":0},{"$f":"SUM(問題別集計②!T85:T86)","v":0},{"$f":"ROUND(BK103/BK107,3)*100","v":{"$error":"#DIV/0!"}},{"$error":"#DIV/0!"},{"$error":"#DIV/0!"},{"$error":"#DIV/0!"},{"$error":"#DIV/0!"},{"$error":"#DIV/0!"},{"$error":"#DIV/0!"},{"$error":"#DIV/0!"},{"$error":"#DIV/0!"},{"$error":"#DIV/0!"},{"$error":"#DIV/0!"},{"$error":"#DIV/0!"},{"$error":"#DIV/0!"},{"$f":"ROUND(BX103/BX$107,4)*100","v":{"$error":"#DIV/0!"}}]
[null,null,null,2,"あてはまらない",2,null,null,null,null,null,null,null,null,null,null,null,null,null,null,{"$f":"ROUND(G104/G$72,4)*100","v":{"$error":"#DIV/0!"}},{"$f":"ROUND(H104/H$72,4)*100","v":{"$error":"#DIV/0!"}},{"$f":"ROUND(I104/I$72,4)*100","v":{"$error":"#DIV/0!"}},{"$f":"ROUND(J104/J$72,4)*100","v":{"$error":"#DIV/0!"}},{"$f":"ROUND(K104/K$72,4)*100","v":{"$error":"#DIV/0!"}},{"$f":"ROUND(L104/L$72,4)*100","v":{"$error":"#DIV/0!"}},{"$f":"ROUND(M104/M$72,4)*100","v":{"$error":"#DIV/0!"}},{"$f":"ROUND(N104/N$72,4)*100","v":{"$error":"#DIV/0!"}},{"$f":"ROUND(O104/O$72,4)*100","v":{"$error":"#DIV/0!"}},{"$f":"ROUND(P104/P$72,4)*100","v":{"$error":"#DIV/0!"}},{"$f":"ROUND(Q104/Q$72,4)*100","v":{"$error":"#DIV/0!"}},{"$f":"ROUND(R104/R$72,4)*100","v":{"$error":"#DIV/0!"}},{"$f":"ROUND(S104/S$72,4)*100","v":{"$error":"#DIV/0!"}},{"$f":"ROUND(T104/T$72,4)*100","v":{"$error":"#DIV/0!"}},null,null,null,null,null,null,null,null,null,null,null,null,null,null,{"$f":"ROUND(AI104/AI$72,4)*100","v":{"$error":"#DIV/0!"}},{"$f":"ROUND(AJ104/AJ$72,4)*100","v":{"$error":"#DIV/0!"}},{"$f":"ROUND(AK104/AK$72,4)*100","v":{"$error":"#DIV/0!"}},{"$f":"ROUND(AL104/AL$72,4)*100","v":{"$error":"#DIV/0!"}},{"$f":"ROUND(AM104/AM$72,4)*100","v":{"$error":"#DIV/0!"}},{"$f":"ROUND(AN104/AN$72,4)*100","v":{"$error":"#DIV/0!"}},{"$f":"ROUND(AO104/AO$72,4)*100","v":{"$error":"#DIV/0!"}},{"$f":"ROUND(AP104/AP$72,4)*100","v":{"$error":"#DIV/0!"}},{"$f":"ROUND(AQ104/AQ$72,4)*100","v":{"$error":"#DIV/0!"}},{"$f":"ROUND(AR104/AR$72,4)*100","v":{"$error":"#DIV/0!"}},{"$f":"ROUND(AS104/AS$72,4)*100","v":{"$error":"#DIV/0!"}},{"$f":"ROUND(AT104/AT$72,4)*100","v":{"$error":"#DIV/0!"}},{"$f":"ROUND(AU104/AU$72,4)*100","v":{"$error":"#DIV/0!"}},{"$f":"ROUND(AV104/AV$72,4)*100","v":{"$error":"#DIV/0!"}},null,null,null,null,null,null,null,null,null,null,null,null,null,null,{"$f":"ROUND(BK104/BK$72,4)*100","v":{"$error":"#DIV/0!"}},{"$f":"ROUND(BL104/BL$72,4)*100","v":{"$error":"#DIV/0!"}},{"$f":"ROUND(BM104/BM$72,4)*100","v":{"$error":"#DIV/0!"}},{"$f":"ROUND(BN104/BN$72,4)*100","v":{"$error":"#DIV/0!"}},{"$f":"ROUND(BO104/BO$72,4)*100","v":{"$error":"#DIV/0!"}},{"$f":"ROUND(BP104/BP$72,4)*100","v":{"$error":"#DIV/0!"}},{"$f":"ROUND(BQ104/BQ$72,4)*100","v":{"$error":"#DIV/0!"}},{"$f":"ROUND(BR104/BR$72,4)*100","v":{"$error":"#DIV/0!"}},{"$f":"ROUND(BS104/BS$72,4)*100","v":{"$error":"#DIV/0!"}},{"$f":"ROUND(BT104/BT$72,4)*100","v":{"$error":"#DIV/0!"}},{"$f":"ROUND(BU104/BU$72,4)*100","v":{"$error":"#DIV/0!"}},{"$f":"ROUND(BV104/BV$72,4)*100","v":{"$error":"#DIV/0!"}},{"$f":"ROUND(BW104/BW$72,4)*100","v":{"$error":"#DIV/0!"}},{"$f":"ROUND(BX104/BX$72,4)*100","v":{"$error":"#DIV/0!"}}]
[null,null,null,3,"あてはまる",3,{"$f":"問題別集計!G87+問題別集計!G88","v":0},{"$f":"問題別集計!H87+問題別集計!H88","v":0},{"$f":"問題別集計!I87+問題別集計!I88","v":0},{"$f":"問題別集計!J87+問題別集計!J88","v":0},{"$f":"問題別集計!K87+問題別集計!K88","v":0},{"$f":"問題別集計!L87+問題別集計!L88","v":0},{"$f":"問題別集計!M87+問題別集計!M88","v":0},{"$f":"問題別集計!N87+問題別集計!N88","v":0},{"$f":"問題別集計!O87+問題別集計!O88","v":0},{"$f":"問題別集計!P87+問題別集計!P88","v":0},{"$f":"問題別集計!Q87+問題別集計!Q88","v":0},{"$f":"問題別集計!R87+問題別集計!R88","v":0},{"$f":"問題別集計!S87+問題別集計!S88","v":0},{"$f":"問題別集計!T87+問題別集計!T88","v":0},{"$f":"ROUND(G105/G107,3)*100","v":{"$error":"#DIV/0!"}},{"$error":"#DIV/0!"},{"$error":"#DIV/0!"},{"$error":"#DIV/0!"},{"$error":"#DIV/0!"},{"$error":"#DIV/0!"},{"$error":"#DIV/0!"},{"$error":"#DIV/0!"},{"$error":"#DIV/0!"},{"$error":"#DIV/0!"},{"$error":"#DIV/0!"},{"$error":"#DIV/0!"},{"$error":"#DIV/0!"},{"$f":"ROUND(T105/T$107,4)*100","v":{"$error":"#DIV/0!"}},{"$f":"SUM(問題別集計③!G87:G88)","v":0},{"$f":"SUM(問題別集計③!H87:H88)","v":0},{"$f":"SUM(問題別集計③!I87:I88)","v":0},{"$f":"SUM(問題別集計③!J87:J88)","v":0},{"$f":"SUM(問題別集計③!K87:K88)","v":0},{"$f":"SUM(問題別集計③!L87:L88)","v":0},{"$f":"SUM(問題別集計③!M87:M88)","v":0},{"$f":"SUM(問題別集計③!N87:N88)","v":0},{"$f":"SUM(問題別集計③!O87:O88)","v":0},{"$f":"SUM(問題別集計③!P87:P88)","v":0},{"$f":"SUM(問題別集計③!Q87:Q88)","v":0},{"$f":"SUM(問題別集計③!R87:R88)","v":0},{"$f":"SUM(問題別集計③!S87:S88)","v":0},{"$f":"SUM(問題別集計③!T87:T88)","v":0},{"$f":"ROUND(AI105/AI107,3)*100","v":{"$error":"#DIV/0!"}},{"$error":"#DIV/0!"},{"$error":"#DIV/0!"},{"$error":"#DIV/0!"},{"$error":"#DIV/0!"},{"$error":"#DIV/0!"},{"$error":"#DIV/0!"},{"$error":"#DIV/0!"},{"$error":"#DIV/0!"},{"$error":"#DIV/0!"},{"$error":"#DIV/0!"},{"$error":"#DIV/0!"},{"$error":"#DIV/0!"},{"$f":"ROUND(AV105/AV$107,4)*100","v":{"$error":"#DIV/0!"}},{"$f":"SUM(問題別集計②!G87:G88)","v":0},{"$f":"SUM(問題別集計②!H87:H88)","v":0},{"$f":"SUM(問題別集計②!I87:I88)","v":0},{"$f":"SUM(問題別集計②!J87:J88)","v":0},{"$f":"SUM(問題別集計②!K87:K88)","v":0},{"$f":"SUM(問題別集計②!L87:L88)","v":0},{"$f":"SUM(問題別集計②!M87:M88)","v":0},{"$f":"SUM(問題別集計②!N87:N88)","v":0},{"$f":"SUM(問題別集計②!O87:O88)","v":0},{"$f":"SUM(問題別集計②!P87:P88)","v":0},{"$f":"SUM(問題別集計②!Q87:Q88)","v":0},{"$f":"SUM(問題別集計②!R87:R88)","v":0},{"$f":"SUM(問題別集計②!S87:S88)","v":0},{"$f":"SUM(問題別集計②!T87:T88)","v":0},{"$f":"ROUND(BK105/BK107,3)*100","v":{"$error":"#DIV/0!"}},{"$error":"#DIV/0!"},{"$error":"#DIV/0!"},{"$error":"#DIV/0!"},{"$error":"#DIV/0!"},{"$error":"#DIV/0!"},{"$error":"#DIV/0!"},{"$error":"#DIV/0!"},{"$error":"#DIV/0!"},{"$error":"#DIV/0!"},{"$error":"#DIV/0!"},{"$error":"#DIV/0!"},{"$error":"#DIV/0!"},{"$f":"ROUND(BX105/BX$107,4)*100","v":{"$error":"#DIV/0!"}}]
[null,null,null,4,"非常にあてはまる",4,null,null,null,null,null,null,null,null,null,null,null,null,null,null,{"$f":"ROUND(G106/G$72,4)*100","v":{"$error":"#DIV/0!"}},{"$f":"ROUND(H106/H$72,4)*100","v":{"$error":"#DIV/0!"}},{"$f":"ROUND(I106/I$72,4)*100","v":{"$error":"#DIV/0!"}},{"$f":"ROUND(J106/J$72,4)*100","v":{"$error":"#DIV/0!"}},{"$f":"ROUND(K106/K$72,4)*100","v":{"$error":"#DIV/0!"}},{"$f":"ROUND(L106/L$72,4)*100","v":{"$error":"#DIV/0!"}},{"$f":"ROUND(M106/M$72,4)*100","v":{"$error":"#DIV/0!"}},{"$f":"ROUND(N106/N$72,4)*100","v":{"$error":"#DIV/0!"}},{"$f":"ROUND(O106/O$72,4)*100","v":{"$error":"#DIV/0!"}},{"$f":"ROUND(P106/P$72,4)*100","v":{"$error":"#DIV/0!"}},{"$f":"ROUND(Q106/Q$72,4)*100","v":{"$error":"#DIV/0!"}},{"$f":"ROUND(R106/R$72,4)*100","v":{"$error":"#DIV/0!"}},{"$f":"ROUND(S106/S$72,4)*100","v":{"$error":"#DIV/0!"}},{"$f":"ROUND(T106/T$72,4)*100","v":{"$error":"#DIV/0!"}},null,null,null,null,null,null,null,null,null,null,null,null,null,null,{"$f":"ROUND(AI106/AI$72,4)*100","v":{"$error":"#DIV/0!"}},{"$f":"ROUND(AJ106/AJ$72,4)*100","v":{"$error":"#DIV/0!"}},{"$f":"ROUND(AK106/AK$72,4)*100","v":{"$error":"#DIV/0!"}},{"$f":"ROUND(AL106/AL$72,4)*100","v":{"$error":"#DIV/0!"}},{"$f":"ROUND(AM106/AM$72,4)*100","v":{"$error":"#DIV/0!"}},{"$f":"ROUND(AN106/AN$72,4)*100","v":{"$error":"#DIV/0!"}},{"$f":"ROUND(AO106/AO$72,4)*100","v":{"$error":"#DIV/0!"}},{"$f":"ROUND(AP106/AP$72,4)*100","v":{"$error":"#DIV/0!"}},{"$f":"ROUND(AQ106/AQ$72,4)*100","v":{"$error":"#DIV/0!"}},{"$f":"ROUND(AR106/AR$72,4)*100","v":{"$error":"#DIV/0!"}},{"$f":"ROUND(AS106/AS$72,4)*100","v":{"$error":"#DIV/0!"}},{"$f":"ROUND(AT106/AT$72,4)*100","v":{"$error":"#DIV/0!"}},{"$f":"ROUND(AU106/AU$72,4)*100","v":{"$error":"#DIV/0!"}},{"$f":"ROUND(AV106/AV$72,4)*100","v":{"$error":"#DIV/0!"}},null,null,null,null,null,null,null,null,null,null,null,null,null,null,{"$f":"ROUND(BK106/BK$72,4)*100","v":{"$error":"#DIV/0!"}},{"$f":"ROUND(BL106/BL$72,4)*100","v":{"$error":"#DIV/0!"}},{"$f":"ROUND(BM106/BM$72,4)*100","v":{"$error":"#DIV/0!"}},{"$f":"ROUND(BN106/BN$72,4)*100","v":{"$error":"#DIV/0!"}},{"$f":"ROUND(BO106/BO$72,4)*100","v":{"$error":"#DIV/0!"}},{"$f":"ROUND(BP106/BP$72,4)*100","v":{"$error":"#DIV/0!"}},{"$f":"ROUND(BQ106/BQ$72,4)*100","v":{"$error":"#DIV/0!"}},{"$f":"ROUND(BR106/BR$72,4)*100","v":{"$error":"#DIV/0!"}},{"$f":"ROUND(BS106/BS$72,4)*100","v":{"$error":"#DIV/0!"}},{"$f":"ROUND(BT106/BT$72,4)*100","v":{"$error":"#DIV/0!"}},{"$f":"ROUND(BU106/BU$72,4)*100","v":{"$error":"#DIV/0!"}},{"$f":"ROUND(BV106/BV$72,4)*100","v":{"$error":"#DIV/0!"}},{"$f":"ROUND(BW106/BW$72,4)*100","v":{"$error":"#DIV/0!"}},{"$f":"ROUND(BX106/BX$72,4)*100","v":{"$error":"#DIV/0!"}}]
[null,null,null,"計",null,null,{"$f":"SUM(G103:G106)","v":0},{"$f":"SUM(H103:H106)","v":0},{"$f":"SUM(I103:I106)","v":0},{"$f":"SUM(J103:J106)","v":0},{"$f":"SUM(K103:K106)","v":0},{"$f":"SUM(L103:L106)","v":0},{"$f":"SUM(M103:M106)","v":0},{"$f":"SUM(N103:N106)","v":0},{"$f":"SUM(O103:O106)","v":0},{"$f":"SUM(P103:P106)","v":0},{"$f":"SUM(Q103:Q106)","v":0},{"$f":"SUM(R103:R106)","v":0},{"$f":"SUM(S103:S106)","v":0},{"$f":"SUM(T103:T106)","v":0},{"$f":"SUM(U103:U106)","v":{"$error":"#DIV/0!"}},{"$f":"SUM(V103:V106)","v":{"$error":"#DIV/0!"}},{"$f":"SUM(W103:W106)","v":{"$error":"#DIV/0!"}},{"$f":"SUM(X103:X106)","v":{"$error":"#DIV/0!"}},{"$f":"SUM(Y103:Y106)","v":{"$error":"#DIV/0!"}},{"$f":"SUM(Z103:Z106)","v":{"$error":"#DIV/0!"}},{"$error":"#DIV/0!"},{"$f":"SUM(AB103:AB106)","v":{"$error":"#DIV/0!"}},{"$f":"SUM(AC103:AC106)","v":{"$error":"#DIV/0!"}},{"$f":"SUM(AD103:AD106)","v":{"$error":"#DIV/0!"}},{"$f":"SUM(AE103:AE106)","v":{"$error":"#DIV/0!"}},{"$f":"SUM(AF103:AF106)","v":{"$error":"#DIV/0!"}},{"$f":"SUM(AG103:AG106)","v":{"$error":"#DIV/0!"}},{"$error":"#DIV/0!"},{"$f":"SUM(AI103:AI106)","v":0},{"$f":"SUM(AJ103:AJ106)","v":0},{"$f":"SUM(AK103:AK106)","v":0},{"$f":"SUM(AL103:AL106)","v":0},{"$f":"SUM(AM103:AM106)","v":0},{"$f":"SUM(AN103:AN106)","v":0},{"$f":"SUM(AO103:AO106)","v":0},{"$f":"SUM(AP103:AP106)","v":0},{"$f":"SUM(AQ103:AQ106)","v":0},{"$f":"SUM(AR103:AR106)","v":0},{"$f":"SUM(AS103:AS106)","v":0},{"$f":"SUM(AT103:AT106)","v":0},{"$f":"SUM(AU103:AU106)","v":0},{"$f":"SUM(AV103:AV106)","v":0},{"$error":"#DIV/0!"},{"$error":"#DIV/0!"},{"$error":"#DIV/0!"},{"$error":"#DIV/0!"},{"$error":"#DIV/0!"},{"$error":"#DIV/0!"},{"$error":"#DIV/0!"},{"$error":"#DIV/0!"},{"$error":"#DIV/0!"},{"$error":"#DIV/0!"},{"$error":"#DIV/0!"},{"$error":"#DIV/0!"},{"$error":"#DIV/0!"},{"$error":"#DIV/0!"},{"$f":"SUM(BK103:BK106)","v":0},{"$f":"SUM(BL103:BL106)","v":0},{"$f":"SUM(BM103:BM106)","v":0},{"$f":"SUM(BN103:BN106)","v":0},{"$f":"SUM(BO103:BO106)","v":0},{"$f":"SUM(BP103:BP106)","v":0},{"$f":"SUM(BQ103:BQ106)","v":0},{"$f":"SUM(BR103:BR106)","v":0},{"$f":"SUM(BS103:BS106)","v":0},{"$f":"SUM(BT103:BT106)","v":0},{"$f":"SUM(BU103:BU106)","v":0},{"$f":"SUM(BV103:BV106)","v":0},{"$f":"SUM(BW103:BW106)","v":0},{"$f":"SUM(BX103:BX106)","v":0},{"$error":"#DIV/0!"},{"$error":"#DIV/0!"},{"$error":"#DIV/0!"},{"$error":"#DIV/0!"},{"$error":"#DIV/0!"},{"$error":"#DIV/0!"},{"$error":"#DIV/0!"},{"$error":"#DIV/0!"},{"$error":"#DIV/0!"},{"$error":"#DIV/0!"},{"$error":"#DIV/0!"},{"$error":"#DIV/0!"},{"$error":"#DIV/0!"},{"$error":"#DIV/0!"}]
[null,"19\n（20）","インターネットをしているとき、思い通りにならないとイライラしてくる。",1,"全くあてはまらない",1,{"$f":"問題別集計!G89+問題別集計!G90","v":0},{"$f":"問題別集計!H89+問題別集計!H90","v":0},{"$f":"問題別集計!I89+問題別集計!I90","v":0},{"$f":"問題別集計!J89+問題別集計!J90","v":0},{"$f":"問題別集計!K89+問題別集計!K90","v":0},{"$f":"問題別集計!L89+問題別集計!L90","v":0},{"$f":"問題別集計!M89+問題別集計!M90","v":0},{"$f":"問題別集計!N89+問題別集計!N90","v":0},{"$f":"問題別集計!O89+問題別集計!O90","v":0},{"$f":"問題別集計!P89+問題別集計!P90","v":0},{"$f":"問題別集計!Q89+問題別集計!Q90","v":0},{"$f":"問題別集計!R89+問題別集計!R90","v":0},{"$f":"問題別集計!S89+問題別集計!S90","v":0},{"$f":"問題別集計!T89+問題別集計!T90","v":0},{"$f":"ROUND(G108/G112,3)*100","v":{"$error":"#DIV/0!"}},{"$error":"#DIV/0!"},{"$error":"#DIV/0!"},{"$error":"#DIV/0!"},{"$error":"#DIV/0!"},{"$error":"#DIV/0!"},{"$error":"#DIV/0!"},{"$error":"#DIV/0!"},{"$error":"#DIV/0!"},{"$error":"#DIV/0!"},{"$error":"#DIV/0!"},{"$error":"#DIV/0!"},{"$error":"#DIV/0!"},{"$f":"ROUND(T108/T$112,4)*100","v":{"$error":"#DIV/0!"}},{"$f":"SUM(問題別集計③!G89:G90)","v":0},{"$f":"SUM(問題別集計③!H89:H90)","v":0},{"$f":"SUM(問題別集計③!I89:I90)","v":0},{"$f":"SUM(問題別集計③!J89:J90)","v":0},{"$f":"SUM(問題別集計③!K89:K90)","v":0},{"$f":"SUM(問題別集計③!L89:L90)","v":0},{"$f":"SUM(問題別集計③!M89:M90)","v":0},{"$f":"SUM(問題別集計③!N89:N90)","v":0},{"$f":"SUM(問題別集計③!O89:O90)","v":0},{"$f":"SUM(問題別集計③!P89:P90)","v":0},{"$f":"SUM(問題別集計③!Q89:Q90)","v":0},{"$f":"SUM(問題別集計③!R89:R90)","v":0},{"$f":"SUM(問題別集計③!S89:S90)","v":0},{"$f":"SUM(問題別集計③!T89:T90)","v":0},{"$f":"ROUND(AI108/AI112,3)*100","v":{"$error":"#DIV/0!"}},{"$error":"#DIV/0!"},{"$error":"#DIV/0!"},{"$error":"#DIV/0!"},{"$error":"#DIV/0!"},{"$error":"#DIV/0!"},{"$error":"#DIV/0!"},{"$error":"#DIV/0!"},{"$error":"#DIV/0!"},{"$error":"#DIV/0!"},{"$error":"#DIV/0!"},{"$error":"#DIV/0!"},{"$error":"#DIV/0!"},{"$f":"ROUND(AV108/AV$112,4)*100","v":{"$error":"#DIV/0!"}},{"$f":"SUM(問題別集計②!G89:G90)","v":0},{"$f":"SUM(問題別集計②!H89:H90)","v":0},{"$f":"SUM(問題別集計②!I89:I90)","v":0},{"$f":"SUM(問題別集計②!J89:J90)","v":0},{"$f":"SUM(問題別集計②!K89:K90)","v":0},{"$f":"SUM(問題別集計②!L89:L90)","v":0},{"$f":"SUM(問題別集計②!M89:M90)","v":0},{"$f":"SUM(問題別集計②!N89:N90)","v":0},{"$f":"SUM(問題別集計②!O89:O90)","v":0},{"$f":"SUM(問題別集計②!P89:P90)","v":0},{"$f":"SUM(問題別集計②!Q89:Q90)","v":0},{"$f":"SUM(問題別集計②!R89:R90)","v":0},{"$f":"SUM(問題別集計②!S89:S90)","v":0},{"$f":"SUM(問題別集計②!T89:T90)","v":0},{"$f":"ROUND(BK108/BK112,3)*100","v":{"$error":"#DIV/0!"}},{"$error":"#DIV/0!"},{"$error":"#DIV/0!"},{"$error":"#DIV/0!"},{"$error":"#DIV/0!"},{"$error":"#DIV/0!"},{"$error":"#DIV/0!"},{"$error":"#DIV/0!"},{"$error":"#DIV/0!"},{"$error":"#DIV/0!"},{"$error":"#DIV/0!"},{"$error":"#DIV/0!"},{"$error":"#DIV/0!"},{"$f":"ROUND(BX108/BX$112,4)*100","v":{"$error":"#DIV/0!"}}]
[null,null,null,2,"あてはまらない",2,null,null,null,null,null,null,null,null,null,null,null,null,null,null,{"$f":"ROUND(G109/G$72,4)*100","v":{"$error":"#DIV/0!"}},{"$f":"ROUND(H109/H$72,4)*100","v":{"$error":"#DIV/0!"}},{"$f":"ROUND(I109/I$72,4)*100","v":{"$error":"#DIV/0!"}},{"$f":"ROUND(J109/J$72,4)*100","v":{"$error":"#DIV/0!"}},{"$f":"ROUND(K109/K$72,4)*100","v":{"$error":"#DIV/0!"}},{"$f":"ROUND(L109/L$72,4)*100","v":{"$error":"#DIV/0!"}},{"$f":"ROUND(M109/M$72,4)*100","v":{"$error":"#DIV/0!"}},{"$f":"ROUND(N109/N$72,4)*100","v":{"$error":"#DIV/0!"}},{"$f":"ROUND(O109/O$72,4)*100","v":{"$error":"#DIV/0!"}},{"$f":"ROUND(P109/P$72,4)*100","v":{"$error":"#DIV/0!"}},{"$f":"ROUND(Q109/Q$72,4)*100","v":{"$error":"#DIV/0!"}},{"$f":"ROUND(R109/R$72,4)*100","v":{"$error":"#DIV/0!"}},{"$f":"ROUND(S109/S$72,4)*100","v":{"$error":"#DIV/0!"}},{"$f":"ROUND(T109/T$72,4)*100","v":{"$error":"#DIV/0!"}},null,null,null,null,null,null,null,null,null,null,null,null,null,null,{"$f":"ROUND(AI109/AI$72,4)*100","v":{"$error":"#DIV/0!"}},{"$f":"ROUND(AJ109/AJ$72,4)*100","v":{"$error":"#DIV/0!"}},{"$f":"ROUND(AK109/AK$72,4)*100","v":{"$error":"#DIV/0!"}},{"$f":"ROUND(AL109/AL$72,4)*100","v":{"$error":"#DIV/0!"}},{"$f":"ROUND(AM109/AM$72,4)*100","v":{"$error":"#DIV/0!"}},{"$f":"ROUND(AN109/AN$72,4)*100","v":{"$error":"#DIV/0!"}},{"$f":"ROUND(AO109/AO$72,4)*100","v":{"$error":"#DIV/0!"}},{"$f":"ROUND(AP109/AP$72,4)*100","v":{"$error":"#DIV/0!"}},{"$f":"ROUND(AQ109/AQ$72,4)*100","v":{"$error":"#DIV/0!"}},{"$f":"ROUND(AR109/AR$72,4)*100","v":{"$error":"#DIV/0!"}},{"$f":"ROUND(AS109/AS$72,4)*100","v":{"$error":"#DIV/0!"}},{"$f":"ROUND(AT109/AT$72,4)*100","v":{"$error":"#DIV/0!"}},{"$f":"ROUND(AU109/AU$72,4)*100","v":{"$error":"#DIV/0!"}},{"$f":"ROUND(AV109/AV$72,4)*100","v":{"$error":"#DIV/0!"}},null,null,null,null,null,null,null,null,null,null,null,null,null,null,{"$f":"ROUND(BK109/BK$72,4)*100","v":{"$error":"#DIV/0!"}},{"$f":"ROUND(BL109/BL$72,4)*100","v":{"$error":"#DIV/0!"}},{"$f":"ROUND(BM109/BM$72,4)*100","v":{"$error":"#DIV/0!"}},{"$f":"ROUND(BN109/BN$72,4)*100","v":{"$error":"#DIV/0!"}},{"$f":"ROUND(BO109/BO$72,4)*100","v":{"$error":"#DIV/0!"}},{"$f":"ROUND(BP109/BP$72,4)*100","v":{"$error":"#DIV/0!"}},{"$f":"ROUND(BQ109/BQ$72,4)*100","v":{"$error":"#DIV/0!"}},{"$f":"ROUND(BR109/BR$72,4)*100","v":{"$error":"#DIV/0!"}},{"$f":"ROUND(BS109/BS$72,4)*100","v":{"$error":"#DIV/0!"}},{"$f":"ROUND(BT109/BT$72,4)*100","v":{"$error":"#DIV/0!"}},{"$f":"ROUND(BU109/BU$72,4)*100","v":{"$error":"#DIV/0!"}},{"$f":"ROUND(BV109/BV$72,4)*100","v":{"$error":"#DIV/0!"}},{"$f":"ROUND(BW109/BW$72,4)*100","v":{"$error":"#DIV/0!"}},{"$f":"ROUND(BX109/BX$72,4)*100","v":{"$error":"#DIV/0!"}}]
[null,null,null,3,"あてはまる",3,{"$f":"問題別集計!G91+問題別集計!G92","v":0},{"$f":"問題別集計!H91+問題別集計!H92","v":0},{"$f":"問題別集計!I91+問題別集計!I92","v":0},{"$f":"問題別集計!J91+問題別集計!J92","v":0},{"$f":"問題別集計!K91+問題別集計!K92","v":0},{"$f":"問題別集計!L91+問題別集計!L92","v":0},{"$f":"問題別集計!M91+問題別集計!M92","v":0},{"$f":"問題別集計!N91+問題別集計!N92","v":0},{"$f":"問題別集計!O91+問題別集計!O92","v":0},{"$f":"問題別集計!P91+問題別集計!P92","v":0},{"$f":"問題別集計!Q91+問題別集計!Q92","v":0},{"$f":"問題別集計!R91+問題別集計!R92","v":0},{"$f":"問題別集計!S91+問題別集計!S92","v":0},{"$f":"問題別集計!T91+問題別集計!T92","v":0},{"$f":"ROUND(G110/G112,3)*100","v":{"$error":"#DIV/0!"}},{"$error":"#DIV/0!"},{"$error":"#DIV/0!"},{"$error":"#DIV/0!"},{"$error":"#DIV/0!"},{"$error":"#DIV/0!"},{"$error":"#DIV/0!"},{"$error":"#DIV/0!"},{"$error":"#DIV/0!"},{"$error":"#DIV/0!"},{"$error":"#DIV/0!"},{"$error":"#DIV/0!"},{"$error":"#DIV/0!"},{"$f":"ROUND(T110/T$112,4)*100","v":{"$error":"#DIV/0!"}},{"$f":"SUM(問題別集計③!G91:G92)","v":0},{"$f":"SUM(問題別集計③!H91:H92)","v":0},{"$f":"SUM(問題別集計③!I91:I92)","v":0},{"$f":"SUM(問題別集計③!J91:J92)","v":0},{"$f":"SUM(問題別集計③!K91:K92)","v":0},{"$f":"SUM(問題別集計③!L91:L92)","v":0},{"$f":"SUM(問題別集計③!M91:M92)","v":0},{"$f":"SUM(問題別集計③!N91:N92)","v":0},{"$f":"SUM(問題別集計③!O91:O92)","v":0},{"$f":"SUM(問題別集計③!P91:P92)","v":0},{"$f":"SUM(問題別集計③!Q91:Q92)","v":0},{"$f":"SUM(問題別集計③!R91:R92)","v":0},{"$f":"SUM(問題別集計③!S91:S92)","v":0},{"$f":"SUM(問題別集計③!T91:T92)","v":0},{"$f":"ROUND(AI110/AI112,3)*100","v":{"$error":"#DIV/0!"}},{"$error":"#DIV/0!"},{"$error":"#DIV/0!"},{"$error":"#DIV/0!"},{"$error":"#DIV/0!"},{"$error":"#DIV/0!"},{"$error":"#DIV/0!"},{"$error":"#DIV/0!"},{"$error":"#DIV/0!"},{"$error":"#DIV/0!"},{"$error":"#DIV/0!"},{"$error":"#DIV/0!"},{"$error":"#DIV/0!"},{"$f":"ROUND(AV110/AV$112,4)*100","v":{"$error":"#DIV/0!"}},{"$f":"SUM(問題別集計②!G91:G92)","v":0},{"$f":"SUM(問題別集計②!H91:H92)","v":0},{"$f":"SUM(問題別集計②!I91:I92)","v":0},{"$f":"SUM(問題別集計②!J91:J92)","v":0},{"$f":"SUM(問題別集計②!K91:K92)","v":0},{"$f":"SUM(問題別集計②!L91:L92)","v":0},{"$f":"SUM(問題別集計②!M91:M92)","v":0},{"$f":"SUM(問題別集計②!N91:N92)","v":0},{"$f":"SUM(問題別集計②!O91:O92)","v":0},{"$f":"SUM(問題別集計②!P91:P92)","v":0},{"$f":"SUM(問題別集計②!Q91:Q92)","v":0},{"$f":"SUM(問題別集計②!R91:R92)","v":0},{"$f":"SUM(問題別集計②!S91:S92)","v":0},{"$f":"SUM(問題別集計②!T91:T92)","v":0},{"$f":"ROUND(BK110/BK112,3)*100","v":{"$error":"#DIV/0!"}},{"$error":"#DIV/0!"},{"$error":"#DIV/0!"},{"$error":"#DIV/0!"},{"$error":"#DIV/0!"},{"$error":"#DIV/0!"},{"$error":"#DIV/0!"},{"$error":"#DIV/0!"},{"$error":"#DIV/0!"},{"$error":"#DIV/0!"},{"$error":"#DIV/0!"},{"$error":"#DIV/0!"},{"$error":"#DIV/0!"},{"$f":"ROUND(BX110/BX$112,4)*100","v":{"$error":"#DIV/0!"}}]
[null,null,null,4,"非常にあてはまる",4,null,null,null,null,null,null,null,null,null,null,null,null,null,null,{"$f":"ROUND(G111/G$72,4)*100","v":{"$error":"#DIV/0!"}},{"$f":"ROUND(H111/H$72,4)*100","v":{"$error":"#DIV/0!"}},{"$f":"ROUND(I111/I$72,4)*100","v":{"$error":"#DIV/0!"}},{"$f":"ROUND(J111/J$72,4)*100","v":{"$error":"#DIV/0!"}},{"$f":"ROUND(K111/K$72,4)*100","v":{"$error":"#DIV/0!"}},{"$f":"ROUND(L111/L$72,4)*100","v":{"$error":"#DIV/0!"}},{"$f":"ROUND(M111/M$72,4)*100","v":{"$error":"#DIV/0!"}},{"$f":"ROUND(N111/N$72,4)*100","v":{"$error":"#DIV/0!"}},{"$f":"ROUND(O111/O$72,4)*100","v":{"$error":"#DIV/0!"}},{"$f":"ROUND(P111/P$72,4)*100","v":{"$error":"#DIV/0!"}},{"$f":"ROUND(Q111/Q$72,4)*100","v":{"$error":"#DIV/0!"}},{"$f":"ROUND(R111/R$72,4)*100","v":{"$error":"#DIV/0!"}},{"$f":"ROUND(S111/S$72,4)*100","v":{"$error":"#DIV/0!"}},{"$f":"ROUND(T111/T$72,4)*100","v":{"$error":"#DIV/0!"}},null,null,null,null,null,null,null,null,null,null,null,null,null,null,{"$f":"ROUND(AI111/AI$72,4)*100","v":{"$error":"#DIV/0!"}},{"$f":"ROUND(AJ111/AJ$72,4)*100","v":{"$error":"#DIV/0!"}},{"$f":"ROUND(AK111/AK$72,4)*100","v":{"$error":"#DIV/0!"}},{"$f":"ROUND(AL111/AL$72,4)*100","v":{"$error":"#DIV/0!"}},{"$f":"ROUND(AM111/AM$72,4)*100","v":{"$error":"#DIV/0!"}},{"$f":"ROUND(AN111/AN$72,4)*100","v":{"$error":"#DIV/0!"}},{"$f":"ROUND(AO111/AO$72,4)*100","v":{"$error":"#DIV/0!"}},{"$f":"ROUND(AP111/AP$72,4)*100","v":{"$error":"#DIV/0!"}},{"$f":"ROUND(AQ111/AQ$72,4)*100","v":{"$error":"#DIV/0!"}},{"$f":"ROUND(AR111/AR$72,4)*100","v":{"$error":"#DIV/0!"}},{"$f":"ROUND(AS111/AS$72,4)*100","v":{"$error":"#DIV/0!"}},{"$f":"ROUND(AT111/AT$72,4)*100","v":{"$error":"#DIV/0!"}},{"$f":"ROUND(AU111/AU$72,4)*100","v":{"$error":"#DIV/0!"}},{"$f":"ROUND(AV111/AV$72,4)*100","v":{"$error":"#DIV/0!"}},null,null,null,null,null,null,null,null,null,null,null,null,null,null,{"$f":"ROUND(BK111/BK$72,4)*100","v":{"$error":"#DIV/0!"}},{"$f":"ROUND(BL111/BL$72,4)*100","v":{"$error":"#DIV/0!"}},{"$f":"ROUND(BM111/BM$72,4)*100","v":{"$error":"#DIV/0!"}},{"$f":"ROUND(BN111/BN$72,4)*100","v":{"$error":"#DIV/0!"}},{"$f":"ROUND(BO111/BO$72,4)*100","v":{"$error":"#DIV/0!"}},{"$f":"ROUND(BP111/BP$72,4)*100","v":{"$error":"#DIV/0!"}},{"$f":"ROUND(BQ111/BQ$72,4)*100","v":{"$error":"#DIV/0!"}},{"$f":"ROUND(BR111/BR$72,4)*100","v":{"$error":"#DIV/0!"}},{"$f":"ROUND(BS111/BS$72,4)*100","v":{"$error":"#DIV/0!"}},{"$f":"ROUND(BT111/BT$72,4)*100","v":{"$error":"#DIV/0!"}},{"$f":"ROUND(BU111/BU$72,4)*100","v":{"$error":"#DIV/0!"}},{"$f":"ROUND(BV111/BV$72,4)*100","v":{"$error":"#DIV/0!"}},{"$f":"ROUND(BW111/BW$72,4)*100","v":{"$error":"#DIV/0!"}},{"$f":"ROUND(BX111/BX$72,4)*100","v":{"$error":"#DIV/0!"}}]
[null,null,null,"計",null,null,{"$f":"SUM(G108:G111)","v":0},{"$f":"SUM(H108:H111)","v":0},{"$f":"SUM(I108:I111)","v":0},{"$f":"SUM(J108:J111)","v":0},{"$f":"SUM(K108:K111)","v":0},{"$f":"SUM(L108:L111)","v":0},{"$f":"SUM(M108:M111)","v":0},{"$f":"SUM(N108:N111)","v":0},{"$f":"SUM(O108:O111)","v":0},{"$f":"SUM(P108:P111)","v":0},{"$f":"SUM(Q108:Q111)","v":0},{"$f":"SUM(R108:R111)","v":0},{"$f":"SUM(S108:S111)","v":0},{"$f":"SUM(T108:T111)","v":0},{"$f":"SUM(U108:U111)","v":{"$error":"#DIV/0!"}},{"$f":"SUM(V108:V111)","v":{"$error":"#DIV/0!"}},{"$f":"SUM(W108:W111)","v":{"$error":"#DIV/0!"}},{"$f":"SUM(X108:X111)","v":{"$error":"#DIV/0!"}},{"$f":"SUM(Y108:Y111)","v":{"$error":"#DIV/0!"}},{"$f":"SUM(Z108:Z111)","v":{"$error":"#DIV/0!"}},{"$error":"#DIV/0!"},{"$f":"SUM(AB108:AB111)","v":{"$error":"#DIV/0!"}},{"$f":"SUM(AC108:AC111)","v":{"$error":"#DIV/0!"}},{"$f":"SUM(AD108:AD111)","v":{"$error":"#DIV/0!"}},{"$f":"SUM(AE108:AE111)","v":{"$error":"#DIV/0!"}},{"$f":"SUM(AF108:AF111)","v":{"$error":"#DIV/0!"}},{"$f":"SUM(AG108:AG111)","v":{"$error":"#DIV/0!"}},{"$error":"#DIV/0!"},{"$f":"SUM(AI108:AI111)","v":0},{"$f":"SUM(AJ108:AJ111)","v":0},{"$f":"SUM(AK108:AK111)","v":0},{"$f":"SUM(AL108:AL111)","v":0},{"$f":"SUM(AM108:AM111)","v":0},{"$f":"SUM(AN108:AN111)","v":0},{"$f":"SUM(AO108:AO111)","v":0},{"$f":"SUM(AP108:AP111)","v":0},{"$f":"SUM(AQ108:AQ111)","v":0},{"$f":"SUM(AR108:AR111)","v":0},{"$f":"SUM(AS108:AS111)","v":0},{"$f":"SUM(AT108:AT111)","v":0},{"$f":"SUM(AU108:AU111)","v":0},{"$f":"SUM(AV108:AV111)","v":0},{"$error":"#DIV/0!"},{"$error":"#DIV/0!"},{"$error":"#DIV/0!"},{"$error":"#DIV/0!"},{"$error":"#DIV/0!"},{"$error":"#DIV/0!"},{"$error":"#DIV/0!"},{"$error":"#DIV/0!"},{"$error":"#DIV/0!"},{"$error":"#DIV/0!"},{"$error":"#DIV/0!"},{"$error":"#DIV/0!"},{"$error":"#DIV/0!"},{"$error":"#DIV/0!"},{"$f":"SUM(BK108:BK111)","v":0},{"$f":"SUM(BL108:BL111)","v":0},{"$f":"SUM(BM108:BM111)","v":0},{"$f":"SUM(BN108:BN111)","v":0},{"$f":"SUM(BO108:BO111)","v":0},{"$f":"SUM(BP108:BP111)","v":0},{"$f":"SUM(BQ108:BQ111)","v":0},{"$f":"SUM(BR108:BR111)","v":0},{"$f":"SUM(BS108:BS111)","v":0},{"$f":"SUM(BT108:BT111)","v":0},{"$f":"SUM(BU108:BU111)","v":0},{"$f":"SUM(BV108:BV111)","v":0},{"$f":"SUM(BW108:BW111)","v":0},{"$f":"SUM(BX108:BX111)","v":0},{"$error":"#DIV/0!"},{"$error":"#DIV/0!"},{"$error":"#DIV/0!"},{"$error":"#DIV/0!"},{"$error":"#DIV/0!"},{"$error":"#DIV/0!"},{"$error":"#DIV/0!"},{"$error":"#DIV/0!"},{"$error":"#DIV/0!"},{"$error":"#DIV/0!"},{"$error":"#DIV/0!"},{"$error":"#DIV/0!"},{"$error":"#DIV/0!"},{"$error":"#DIV/0!"}]
[null,"20\n（21）","インターネットの使用時間をみずから調節することができる。",1,"全くあてはまらない",4,{"$f":"問題別集計!G93+問題別集計!G94","v":0},{"$f":"問題別集計!H93+問題別集計!H94","v":0},{"$f":"問題別集計!I93+問題別集計!I94","v":0},{"$f":"問題別集計!J93+問題別集計!J94","v":0},{"$f":"問題別集計!K93+問題別集計!K94","v":0},{"$f":"問題別集計!L93+問題別集計!L94","v":0},{"$f":"問題別集計!M93+問題別集計!M94","v":0},{"$f":"問題別集計!N93+問題別集計!N94","v":0},{"$f":"問題別集計!O93+問題別集計!O94","v":0},{"$f":"問題別集計!P93+問題別集計!P94","v":0},{"$f":"問題別集計!Q93+問題別集計!Q94","v":0},{"$f":"問題別集計!R93+問題別集計!R94","v":0},{"$f":"問題別集計!S93+問題別集計!S94","v":0},{"$f":"問題別集計!T93+問題別集計!T94","v":0},{"$f":"ROUND(G113/G117,3)*100","v":{"$error":"#DIV/0!"}},{"$error":"#DIV/0!"},{"$error":"#DIV/0!"},{"$error":"#DIV/0!"},{"$error":"#DIV/0!"},{"$error":"#DIV/0!"},{"$error":"#DIV/0!"},{"$error":"#DIV/0!"},{"$error":"#DIV/0!"},{"$error":"#DIV/0!"},{"$error":"#DIV/0!"},{"$error":"#DIV/0!"},{"$error":"#DIV/0!"},{"$f":"ROUND(T113/T$117,4)*100","v":{"$error":"#DIV/0!"}},{"$f":"SUM(問題別集計③!G93:G94)","v":0},{"$f":"SUM(問題別集計③!H93:H94)","v":0},{"$f":"SUM(問題別集計③!I93:I94)","v":0},{"$f":"SUM(問題別集計③!J93:J94)","v":0},{"$f":"SUM(問題別集計③!K93:K94)","v":0},{"$f":"SUM(問題別集計③!L93:L94)","v":0},{"$f":"SUM(問題別集計③!M93:M94)","v":0},{"$f":"SUM(問題別集計③!N93:N94)","v":0},{"$f":"SUM(問題別集計③!O93:O94)","v":0},{"$f":"SUM(問題別集計③!P93:P94)","v":0},{"$f":"SUM(問題別集計③!Q93:Q94)","v":0},{"$f":"SUM(問題別集計③!R93:R94)","v":0},{"$f":"SUM(問題別集計③!S93:S94)","v":0},{"$f":"SUM(問題別集計③!T93:T94)","v":0},{"$f":"ROUND(AI113/AI117,3)*100","v":{"$error":"#DIV/0!"}},{"$error":"#DIV/0!"},{"$error":"#DIV/0!"},{"$error":"#DIV/0!"},{"$error":"#DIV/0!"},{"$error":"#DIV/0!"},{"$error":"#DIV/0!"},{"$error":"#DIV/0!"},{"$error":"#DIV/0!"},{"$error":"#DIV/0!"},{"$error":"#DIV/0!"},{"$error":"#DIV/0!"},{"$error":"#DIV/0!"},{"$f":"ROUND(AV113/AV$117,4)*100","v":{"$error":"#DIV/0!"}},{"$f":"SUM(問題別集計②!G93:G94)","v":0},{"$f":"SUM(問題別集計②!H93:H94)","v":0},{"$f":"SUM(問題別集計②!I93:I94)","v":0},{"$f":"SUM(問題別集計②!J93:J94)","v":0},{"$f":"SUM(問題別集計②!K93:K94)","v":0},{"$f":"SUM(問題別集計②!L93:L94)","v":0},{"$f":"SUM(問題別集計②!M93:M94)","v":0},{"$f":"SUM(問題別集計②!N93:N94)","v":0},{"$f":"SUM(問題別集計②!O93:O94)","v":0},{"$f":"SUM(問題別集計②!P93:P94)","v":0},{"$f":"SUM(問題別集計②!Q93:Q94)","v":0},{"$f":"SUM(問題別集計②!R93:R94)","v":0},{"$f":"SUM(問題別集計②!S93:S94)","v":0},{"$f":"SUM(問題別集計②!T93:T94)","v":0},{"$f":"ROUND(BK113/BK117,3)*100","v":{"$error":"#DIV/0!"}},{"$error":"#DIV/0!"},{"$error":"#DIV/0!"},{"$error":"#DIV/0!"},{"$error":"#DIV/0!"},{"$error":"#DIV/0!"},{"$error":"#DIV/0!"},{"$error":"#DIV/0!"},{"$error":"#DIV/0!"},{"$error":"#DIV/0!"},{"$error":"#DIV/0!"},{"$error":"#DIV/0!"},{"$error":"#DIV/0!"},{"$f":"ROUND(BX113/BX$117,4)*100","v":{"$error":"#DIV/0!"}}]
[null,null,null,2,"あてはまらない",3,null,null,null,null,null,null,null,null,null,null,null,null,null,null,{"$f":"ROUND(G114/G$72,4)*100","v":{"$error":"#DIV/0!"}},{"$f":"ROUND(H114/H$72,4)*100","v":{"$error":"#DIV/0!"}},{"$f":"ROUND(I114/I$72,4)*100","v":{"$error":"#DIV/0!"}},{"$f":"ROUND(J114/J$72,4)*100","v":{"$error":"#DIV/0!"}},{"$f":"ROUND(K114/K$72,4)*100","v":{"$error":"#DIV/0!"}},{"$f":"ROUND(L114/L$72,4)*100","v":{"$error":"#DIV/0!"}},{"$f":"ROUND(M114/M$72,4)*100","v":{"$error":"#DIV/0!"}},{"$f":"ROUND(N114/N$72,4)*100","v":{"$error":"#DIV/0!"}},{"$f":"ROUND(O114/O$72,4)*100","v":{"$error":"#DIV/0!"}},{"$f":"ROUND(P114/P$72,4)*100","v":{"$error":"#DIV/0!"}},{"$f":"ROUND(Q114/Q$72,4)*100","v":{"$error":"#DIV/0!"}},{"$f":"ROUND(R114/R$72,4)*100","v":{"$error":"#DIV/0!"}},{"$f":"ROUND(S114/S$72,4)*100","v":{"$error":"#DIV/0!"}},{"$f":"ROUND(T114/T$72,4)*100","v":{"$error":"#DIV/0!"}},null,null,null,null,null,null,null,null,null,null,null,null,null,null,{"$f":"ROUND(AI114/AI$72,4)*100","v":{"$error":"#DIV/0!"}},{"$f":"ROUND(AJ114/AJ$72,4)*100","v":{"$error":"#DIV/0!"}},{"$f":"ROUND(AK114/AK$72,4)*100","v":{"$error":"#DIV/0!"}},{"$f":"ROUND(AL114/AL$72,4)*100","v":{"$error":"#DIV/0!"}},{"$f":"ROUND(AM114/AM$72,4)*100","v":{"$error":"#DIV/0!"}},{"$f":"ROUND(AN114/AN$72,4)*100","v":{"$error":"#DIV/0!"}},{"$f":"ROUND(AO114/AO$72,4)*100","v":{"$error":"#DIV/0!"}},{"$f":"ROUND(AP114/AP$72,4)*100","v":{"$error":"#DIV/0!"}},{"$f":"ROUND(AQ114/AQ$72,4)*100","v":{"$error":"#DIV/0!"}},{"$f":"ROUND(AR114/AR$72,4)*100","v":{"$error":"#DIV/0!"}},{"$f":"ROUND(AS114/AS$72,4)*100","v":{"$error":"#DIV/0!"}},{"$f":"ROUND(AT114/AT$72,4)*100","v":{"$error":"#DIV/0!"}},{"$f":"ROUND(AU114/AU$72,4)*100","v":{"$error":"#DIV/0!"}},{"$f":"ROUND(AV114/AV$72,4)*100","v":{"$error":"#DIV/0!"}},null,null,null,null,null,null,null,null,null,null,null,null,null,null,{"$f":"ROUND(BK114/BK$72,4)*100","v":{"$error":"#DIV/0!"}},{"$f":"ROUND(BL114/BL$72,4)*100","v":{"$error":"#DIV/0!"}},{"$f":"ROUND(BM114/BM$72,4)*100","v":{"$error":"#DIV/0!"}},{"$f":"ROUND(BN114/BN$72,4)*100","v":{"$error":"#DIV/0!"}},{"$f":"ROUND(BO114/BO$72,4)*100","v":{"$error":"#DIV/0!"}},{"$f":"ROUND(BP114/BP$72,4)*100","v":{"$error":"#DIV/0!"}},{"$f":"ROUND(BQ114/BQ$72,4)*100","v":{"$error":"#DIV/0!"}},{"$f":"ROUND(BR114/BR$72,4)*100","v":{"$error":"#DIV/0!"}},{"$f":"ROUND(BS114/BS$72,4)*100","v":{"$error":"#DIV/0!"}},{"$f":"ROUND(BT114/BT$72,4)*100","v":{"$error":"#DIV/0!"}},{"$f":"ROUND(BU114/BU$72,4)*100","v":{"$error":"#DIV/0!"}},{"$f":"ROUND(BV114/BV$72,4)*100","v":{"$error":"#DIV/0!"}},{"$f":"ROUND(BW114/BW$72,4)*100","v":{"$error":"#DIV/0!"}},{"$f":"ROUND(BX114/BX$72,4)*100","v":{"$error":"#DIV/0!"}}]
[null,null,null,3,"あてはまる",2,{"$f":"問題別集計!G95+問題別集計!G96","v":0},{"$f":"問題別集計!H95+問題別集計!H96","v":0},{"$f":"問題別集計!I95+問題別集計!I96","v":0},{"$f":"問題別集計!J95+問題別集計!J96","v":0},{"$f":"問題別集計!K95+問題別集計!K96","v":0},{"$f":"問題別集計!L95+問題別集計!L96","v":0},{"$f":"問題別集計!M95+問題別集計!M96","v":0},{"$f":"問題別集計!N95+問題別集計!N96","v":0},{"$f":"問題別集計!O95+問題別集計!O96","v":0},{"$f":"問題別集計!P95+問題別集計!P96","v":0},{"$f":"問題別集計!Q95+問題別集計!Q96","v":0},{"$f":"問題別集計!R95+問題別集計!R96","v":0},{"$f":"問題別集計!S95+問題別集計!S96","v":0},{"$f":"問題別集計!T95+問題別集計!T96","v":0},{"$f":"ROUND(G115/G117,3)*100","v":{"$error":"#DIV/0!"}},{"$error":"#DIV/0!"},{"$error":"#DIV/0!"},{"$error":"#DIV/0!"},{"$error":"#DIV/0!"},{"$error":"#DIV/0!"},{"$error":"#DIV/0!"},{"$error":"#DIV/0!"},{"$error":"#DIV/0!"},{"$error":"#DIV/0!"},{"$error":"#DIV/0!"},{"$error":"#DIV/0!"},{"$error":"#DIV/0!"},{"$f":"ROUND(T115/T$117,4)*100","v":{"$error":"#DIV/0!"}},{"$f":"SUM(問題別集計③!G95:G96)","v":0},{"$f":"SUM(問題別集計③!H95:H96)","v":0},{"$f":"SUM(問題別集計③!I95:I96)","v":0},{"$f":"SUM(問題別集計③!J95:J96)","v":0},{"$f":"SUM(問題別集計③!K95:K96)","v":0},{"$f":"SUM(問題別集計③!L95:L96)","v":0},{"$f":"SUM(問題別集計③!M95:M96)","v":0},{"$f":"SUM(問題別集計③!N95:N96)","v":0},{"$f":"SUM(問題別集計③!O95:O96)","v":0},{"$f":"SUM(問題別集計③!P95:P96)","v":0},{"$f":"SUM(問題別集計③!Q95:Q96)","v":0},{"$f":"SUM(問題別集計③!R95:R96)","v":0},{"$f":"SUM(問題別集計③!S95:S96)","v":0},{"$f":"SUM(問題別集計③!T95:T96)","v":0},{"$f":"ROUND(AI115/AI117,3)*100","v":{"$error":"#DIV/0!"}},{"$error":"#DIV/0!"},{"$error":"#DIV/0!"},{"$error":"#DIV/0!"},{"$error":"#DIV/0!"},{"$error":"#DIV/0!"},{"$error":"#DIV/0!"},{"$error":"#DIV/0!"},{"$error":"#DIV/0!"},{"$error":"#DIV/0!"},{"$error":"#DIV/0!"},{"$error":"#DIV/0!"},{"$error":"#DIV/0!"},{"$f":"ROUND(AV115/AV$117,4)*100","v":{"$error":"#DIV/0!"}},{"$f":"SUM(問題別集計②!G95:G96)","v":0},{"$f":"SUM(問題別集計②!H95:H96)","v":0},{"$f":"SUM(問題別集計②!I95:I96)","v":0},{"$f":"SUM(問題別集計②!J95:J96)","v":0},{"$f":"SUM(問題別集計②!K95:K96)","v":0},{"$f":"SUM(問題別集計②!L95:L96)","v":0},{"$f":"SUM(問題別集計②!M95:M96)","v":0},{"$f":"SUM(問題別集計②!N95:N96)","v":0},{"$f":"SUM(問題別集計②!O95:O96)","v":0},{"$f":"SUM(問題別集計②!P95:P96)","v":0},{"$f":"SUM(問題別集計②!Q95:Q96)","v":0},{"$f":"SUM(問題別集計②!R95:R96)","v":0},{"$f":"SUM(問題別集計②!S95:S96)","v":0},{"$f":"SUM(問題別集計②!T95:T96)","v":0},{"$f":"ROUND(BK115/BK117,3)*100","v":{"$error":"#DIV/0!"}},{"$error":"#DIV/0!"},{"$error":"#DIV/0!"},{"$error":"#DIV/0!"},{"$error":"#DIV/0!"},{"$error":"#DIV/0!"},{"$error":"#DIV/0!"},{"$error":"#DIV/0!"},{"$error":"#DIV/0!"},{"$error":"#DIV/0!"},{"$error":"#DIV/0!"},{"$error":"#DIV/0!"},{"$error":"#DIV/0!"},{"$f":"ROUND(BX115/BX$117,4)*100","v":{"$error":"#DIV/0!"}}]
[null,null,null,4,"非常にあてはまる",1,null,null,null,null,null,null,null,null,null,null,null,null,null,null,{"$f":"ROUND(G116/G$72,4)*100","v":{"$error":"#DIV/0!"}},{"$f":"ROUND(H116/H$72,4)*100","v":{"$error":"#DIV/0!"}},{"$f":"ROUND(I116/I$72,4)*100","v":{"$error":"#DIV/0!"}},{"$f":"ROUND(J116/J$72,4)*100","v":{"$error":"#DIV/0!"}},{"$f":"ROUND(K116/K$72,4)*100","v":{"$error":"#DIV/0!"}},{"$f":"ROUND(L116/L$72,4)*100","v":{"$error":"#DIV/0!"}},{"$f":"ROUND(M116/M$72,4)*100","v":{"$error":"#DIV/0!"}},{"$f":"ROUND(N116/N$72,4)*100","v":{"$error":"#DIV/0!"}},{"$f":"ROUND(O116/O$72,4)*100","v":{"$error":"#DIV/0!"}},{"$f":"ROUND(P116/P$72,4)*100","v":{"$error":"#DIV/0!"}},{"$f":"ROUND(Q116/Q$72,4)*100","v":{"$error":"#DIV/0!"}},{"$f":"ROUND(R116/R$72,4)*100","v":{"$error":"#DIV/0!"}},{"$f":"ROUND(S116/S$72,4)*100","v":{"$error":"#DIV/0!"}},{"$f":"ROUND(T116/T$72,4)*100","v":{"$error":"#DIV/0!"}},null,null,null,null,null,null,null,null,null,null,null,null,null,null,{"$f":"ROUND(AI116/AI$72,4)*100","v":{"$error":"#DIV/0!"}},{"$f":"ROUND(AJ116/AJ$72,4)*100","v":{"$error":"#DIV/0!"}},{"$f":"ROUND(AK116/AK$72,4)*100","v":{"$error":"#DIV/0!"}},{"$f":"ROUND(AL116/AL$72,4)*100","v":{"$error":"#DIV/0!"}},{"$f":"ROUND(AM116/AM$72,4)*100","v":{"$error":"#DIV/0!"}},{"$f":"ROUND(AN116/AN$72,4)*100","v":{"$error":"#DIV/0!"}},{"$f":"ROUND(AO116/AO$72,4)*100","v":{"$error":"#DIV/0!"}},{"$f":"ROUND(AP116/AP$72,4)*100","v":{"$error":"#DIV/0!"}},{"$f":"ROUND(AQ116/AQ$72,4)*100","v":{"$error":"#DIV/0!"}},{"$f":"ROUND(AR116/AR$72,4)*100","v":{"$error":"#DIV/0!"}},{"$f":"ROUND(AS116/AS$72,4)*100","v":{"$error":"#DIV/0!"}},{"$f":"ROUND(AT116/AT$72,4)*100","v":{"$error":"#DIV/0!"}},{"$f":"ROUND(AU116/AU$72,4)*100","v":{"$error":"#DIV/0!"}},{"$f":"ROUND(AV116/AV$72,4)*100","v":{"$error":"#DIV/0!"}},null,null,null,null,null,null,null,null,null,null,null,null,null,null,{"$f":"ROUND(BK116/BK$72,4)*100","v":{"$error":"#DIV/0!"}},{"$f":"ROUND(BL116/BL$72,4)*100","v":{"$error":"#DIV/0!"}},{"$f":"ROUND(BM116/BM$72,4)*100","v":{"$error":"#DIV/0!"}},{"$f":"ROUND(BN116/BN$72,4)*100","v":{"$error":"#DIV/0!"}},{"$f":"ROUND(BO116/BO$72,4)*100","v":{"$error":"#DIV/0!"}},{"$f":"ROUND(BP116/BP$72,4)*100","v":{"$error":"#DIV/0!"}},{"$f":"ROUND(BQ116/BQ$72,4)*100","v":{"$error":"#DIV/0!"}},{"$f":"ROUND(BR116/BR$72,4)*100","v":{"$error":"#DIV/0!"}},{"$f":"ROUND(BS116/BS$72,4)*100","v":{"$error":"#DIV/0!"}},{"$f":"ROUND(BT116/BT$72,4)*100","v":{"$error":"#DIV/0!"}},{"$f":"ROUND(BU116/BU$72,4)*100","v":{"$error":"#DIV/0!"}},{"$f":"ROUND(BV116/BV$72,4)*100","v":{"$error":"#DIV/0!"}},{"$f":"ROUND(BW116/BW$72,4)*100","v":{"$error":"#DIV/0!"}},{"$f":"ROUND(BX116/BX$72,4)*100","v":{"$error":"#DIV/0!"}}]
[null,null,null,"計",null,null,{"$f":"SUM(G113:G116)","v":0},{"$f":"SUM(H113:H116)","v":0},{"$f":"SUM(I113:I116)","v":0},{"$f":"SUM(J113:J116)","v":0},{"$f":"SUM(K113:K116)","v":0},{"$f":"SUM(L113:L116)","v":0},{"$f":"SUM(M113:M116)","v":0},{"$f":"SUM(N113:N116)","v":0},{"$f":"SUM(O113:O116)","v":0},{"$f":"SUM(P113:P116)","v":0},{"$f":"SUM(Q113:Q116)","v":0},{"$f":"SUM(R113:R116)","v":0},{"$f":"SUM(S113:S116)","v":0},{"$f":"SUM(T113:T116)","v":0},{"$f":"SUM(U113:U116)","v":{"$error":"#DIV/0!"}},{"$f":"SUM(V113:V116)","v":{"$error":"#DIV/0!"}},{"$f":"SUM(W113:W116)","v":{"$error":"#DIV/0!"}},{"$f":"SUM(X113:X116)","v":{"$error":"#DIV/0!"}},{"$f":"SUM(Y113:Y116)","v":{"$error":"#DIV/0!"}},{"$f":"SUM(Z113:Z116)","v":{"$error":"#DIV/0!"}},{"$error":"#DIV/0!"},{"$f":"SUM(AB113:AB116)","v":{"$error":"#DIV/0!"}},{"$f":"SUM(AC113:AC116)","v":{"$error":"#DIV/0!"}},{"$f":"SUM(AD113:AD116)","v":{"$error":"#DIV/0!"}},{"$f":"SUM(AE113:AE116)","v":{"$error":"#DIV/0!"}},{"$f":"SUM(AF113:AF116)","v":{"$error":"#DIV/0!"}},{"$f":"SUM(AG113:AG116)","v":{"$error":"#DIV/0!"}},{"$error":"#DIV/0!"},{"$f":"SUM(AI113:AI116)","v":0},{"$f":"SUM(AJ113:AJ116)","v":0},{"$f":"SUM(AK113:AK116)","v":0},{"$f":"SUM(AL113:AL116)","v":0},{"$f":"SUM(AM113:AM116)","v":0},{"$f":"SUM(AN113:AN116)","v":0},{"$f":"SUM(AO113:AO116)","v":0},{"$f":"SUM(AP113:AP116)","v":0},{"$f":"SUM(AQ113:AQ116)","v":0},{"$f":"SUM(AR113:AR116)","v":0},{"$f":"SUM(AS113:AS116)","v":0},{"$f":"SUM(AT113:AT116)","v":0},{"$f":"SUM(AU113:AU116)","v":0},{"$f":"SUM(AV113:AV116)","v":0},{"$error":"#DIV/0!"},{"$error":"#DIV/0!"},{"$error":"#DIV/0!"},{"$error":"#DIV/0!"},{"$error":"#DIV/0!"},{"$error":"#DIV/0!"},{"$error":"#DIV/0!"},{"$error":"#DIV/0!"},{"$error":"#DIV/0!"},{"$error":"#DIV/0!"},{"$error":"#DIV/0!"},{"$error":"#DIV/0!"},{"$error":"#DIV/0!"},{"$error":"#DIV/0!"},{"$f":"SUM(BK113:BK116)","v":0},{"$f":"SUM(BL113:BL116)","v":0},{"$f":"SUM(BM113:BM116)","v":0},{"$f":"SUM(BN113:BN116)","v":0},{"$f":"SUM(BO113:BO116)","v":0},{"$f":"SUM(BP113:BP116)","v":0},{"$f":"SUM(BQ113:BQ116)","v":0},{"$f":"SUM(BR113:BR116)","v":0},{"$f":"SUM(BS113:BS116)","v":0},{"$f":"SUM(BT113:BT116)","v":0},{"$f":"SUM(BU113:BU116)","v":0},{"$f":"SUM(BV113:BV116)","v":0},{"$f":"SUM(BW113:BW116)","v":0},{"$f":"SUM(BX113:BX116)","v":0},{"$error":"#DIV/0!"},{"$error":"#DIV/0!"},{"$error":"#DIV/0!"},{"$error":"#DIV/0!"},{"$error":"#DIV/0!"},{"$error":"#DIV/0!"},{"$error":"#DIV/0!"},{"$error":"#DIV/0!"},{"$error":"#DIV/0!"},{"$error":"#DIV/0!"},{"$error":"#DIV/0!"},{"$error":"#DIV/0!"},{"$error":"#DIV/0!"},{"$error":"#DIV/0!"}]
[null,"21\n（22）","疲れるくらいインターネットをすることはない。",1,"全くあてはまらない",1,{"$f":"問題別集計!G97+問題別集計!G98","v":0},{"$f":"問題別集計!H97+問題別集計!H98","v":0},{"$f":"問題別集計!I97+問題別集計!I98","v":0},{"$f":"問題別集計!J97+問題別集計!J98","v":0},{"$f":"問題別集計!K97+問題別集計!K98","v":0},{"$f":"問題別集計!L97+問題別集計!L98","v":0},{"$f":"問題別集計!M97+問題別集計!M98","v":0},{"$f":"問題別集計!N97+問題別集計!N98","v":0},{"$f":"問題別集計!O97+問題別集計!O98","v":0},{"$f":"問題別集計!P97+問題別集計!P98","v":0},{"$f":"問題別集計!Q97+問題別集計!Q98","v":0},{"$f":"問題別集計!R97+問題別集計!R98","v":0},{"$f":"問題別集計!S97+問題別集計!S98","v":0},{"$f":"問題別集計!T97+問題別集計!T98","v":0},{"$f":"ROUND(G118/G122,3)*100","v":{"$error":"#DIV/0!"}},{"$error":"#DIV/0!"},{"$error":"#DIV/0!"},{"$error":"#DIV/0!"},{"$error":"#DIV/0!"},{"$error":"#DIV/0!"},{"$error":"#DIV/0!"},{"$error":"#DIV/0!"},{"$error":"#DIV/0!"},{"$error":"#DIV/0!"},{"$error":"#DIV/0!"},{"$error":"#DIV/0!"},{"$error":"#DIV/0!"},{"$f":"ROUND(T118/T$122,4)*100","v":{"$error":"#DIV/0!"}},{"$f":"SUM(問題別集計③!G97:G98)","v":0},{"$f":"SUM(問題別集計③!H97:H98)","v":0},{"$f":"SUM(問題別集計③!I97:I98)","v":0},{"$f":"SUM(問題別集計③!J97:J98)","v":0},{"$f":"SUM(問題別集計③!K97:K98)","v":0},{"$f":"SUM(問題別集計③!L97:L98)","v":0},{"$f":"SUM(問題別集計③!M97:M98)","v":0},{"$f":"SUM(問題別集計③!N97:N98)","v":0},{"$f":"SUM(問題別集計③!O97:O98)","v":0},{"$f":"SUM(問題別集計③!P97:P98)","v":0},{"$f":"SUM(問題別集計③!Q97:Q98)","v":0},{"$f":"SUM(問題別集計③!R97:R98)","v":0},{"$f":"SUM(問題別集計③!S97:S98)","v":0},{"$f":"SUM(問題別集計③!T97:T98)","v":0},{"$f":"ROUND(AI118/AI122,3)*100","v":{"$error":"#DIV/0!"}},{"$error":"#DIV/0!"},{"$error":"#DIV/0!"},{"$error":"#DIV/0!"},{"$error":"#DIV/0!"},{"$error":"#DIV/0!"},{"$error":"#DIV/0!"},{"$error":"#DIV/0!"},{"$error":"#DIV/0!"},{"$error":"#DIV/0!"},{"$error":"#DIV/0!"},{"$error":"#DIV/0!"},{"$error":"#DIV/0!"},{"$f":"ROUND(AV118/AV$122,4)*100","v":{"$error":"#DIV/0!"}},{"$f":"SUM(問題別集計②!G97:G98)","v":0},{"$f":"SUM(問題別集計②!H97:H98)","v":0},{"$f":"SUM(問題別集計②!I97:I98)","v":0},{"$f":"SUM(問題別集計②!J97:J98)","v":0},{"$f":"SUM(問題別集計②!K97:K98)","v":0},{"$f":"SUM(問題別集計②!L97:L98)","v":0},{"$f":"SUM(問題別集計②!M97:M98)","v":0},{"$f":"SUM(問題別集計②!N97:N98)","v":0},{"$f":"SUM(問題別集計②!O97:O98)","v":0},{"$f":"SUM(問題別集計②!P97:P98)","v":0},{"$f":"SUM(問題別集計②!Q97:Q98)","v":0},{"$f":"SUM(問題別集計②!R97:R98)","v":0},{"$f":"SUM(問題別集計②!S97:S98)","v":0},{"$f":"SUM(問題別集計②!T97:T98)","v":0},{"$f":"ROUND(BK118/BK122,3)*100","v":{"$error":"#DIV/0!"}},{"$error":"#DIV/0!"},{"$error":"#DIV/0!"},{"$error":"#DIV/0!"},{"$error":"#DIV/0!"},{"$error":"#DIV/0!"},{"$error":"#DIV/0!"},{"$error":"#DIV/0!"},{"$error":"#DIV/0!"},{"$error":"#DIV/0!"},{"$error":"#DIV/0!"},{"$error":"#DIV/0!"},{"$error":"#DIV/0!"},{"$f":"ROUND(BX118/BX$122,4)*100","v":{"$error":"#DIV/0!"}}]
[null,null,null,2,"あてはまらない",2,null,null,null,null,null,null,null,null,null,null,null,null,null,null,{"$f":"ROUND(G119/G$72,4)*100","v":{"$error":"#DIV/0!"}},{"$f":"ROUND(H119/H$72,4)*100","v":{"$error":"#DIV/0!"}},{"$f":"ROUND(I119/I$72,4)*100","v":{"$error":"#DIV/0!"}},{"$f":"ROUND(J119/J$72,4)*100","v":{"$error":"#DIV/0!"}},{"$f":"ROUND(K119/K$72,4)*100","v":{"$error":"#DIV/0!"}},{"$f":"ROUND(L119/L$72,4)*100","v":{"$error":"#DIV/0!"}},{"$f":"ROUND(M119/M$72,4)*100","v":{"$error":"#DIV/0!"}},{"$f":"ROUND(N119/N$72,4)*100","v":{"$error":"#DIV/0!"}},{"$f":"ROUND(O119/O$72,4)*100","v":{"$error":"#DIV/0!"}},{"$f":"ROUND(P119/P$72,4)*100","v":{"$error":"#DIV/0!"}},{"$f":"ROUND(Q119/Q$72,4)*100","v":{"$error":"#DIV/0!"}},{"$f":"ROUND(R119/R$72,4)*100","v":{"$error":"#DIV/0!"}},{"$f":"ROUND(S119/S$72,4)*100","v":{"$error":"#DIV/0!"}},{"$f":"ROUND(T119/T$72,4)*100","v":{"$error":"#DIV/0!"}},null,null,null,null,null,null,null,null,null,null,null,null,null,null,{"$f":"ROUND(AI119/AI$72,4)*100","v":{"$error":"#DIV/0!"}},{"$f":"ROUND(AJ119/AJ$72,4)*100","v":{"$error":"#DIV/0!"}},{"$f":"ROUND(AK119/AK$72,4)*100","v":{"$error":"#DIV/0!"}},{"$f":"ROUND(AL119/AL$72,4)*100","v":{"$error":"#DIV/0!"}},{"$f":"ROUND(AM119/AM$72,4)*100","v":{"$error":"#DIV/0!"}},{"$f":"ROUND(AN119/AN$72,4)*100","v":{"$error":"#DIV/0!"}},{"$f":"ROUND(AO119/AO$72,4)*100","v":{"$error":"#DIV/0!"}},{"$f":"ROUND(AP119/AP$72,4)*100","v":{"$error":"#DIV/0!"}},{"$f":"ROUND(AQ119/AQ$72,4)*100","v":{"$error":"#DIV/0!"}},{"$f":"ROUND(AR119/AR$72,4)*100","v":{"$error":"#DIV/0!"}},{"$f":"ROUND(AS119/AS$72,4)*100","v":{"$error":"#DIV/0!"}},{"$f":"ROUND(AT119/AT$72,4)*100","v":{"$error":"#DIV/0!"}},{"$f":"ROUND(AU119/AU$72,4)*100","v":{"$error":"#DIV/0!"}},{"$f":"ROUND(AV119/AV$72,4)*100","v":{"$error":"#DIV/0!"}},null,null,null,null,null,null,null,null,null,null,null,null,null,null,{"$f":"ROUND(BK119/BK$72,4)*100","v":{"$error":"#DIV/0!"}},{"$f":"ROUND(BL119/BL$72,4)*100","v":{"$error":"#DIV/0!"}},{"$f":"ROUND(BM119/BM$72,4)*100","v":{"$error":"#DIV/0!"}},{"$f":"ROUND(BN119/BN$72,4)*100","v":{"$error":"#DIV/0!"}},{"$f":"ROUND(BO119/BO$72,4)*100","v":{"$error":"#DIV/0!"}},{"$f":"ROUND(BP119/BP$72,4)*100","v":{"$error":"#DIV/0!"}},{"$f":"ROUND(BQ119/BQ$72,4)*100","v":{"$error":"#DIV/0!"}},{"$f":"ROUND(BR119/BR$72,4)*100","v":{"$error":"#DIV/0!"}},{"$f":"ROUND(BS119/BS$72,4)*100","v":{"$error":"#DIV/0!"}},{"$f":"ROUND(BT119/BT$72,4)*100","v":{"$error":"#DIV/0!"}},{"$f":"ROUND(BU119/BU$72,4)*100","v":{"$error":"#DIV/0!"}},{"$f":"ROUND(BV119/BV$72,4)*100","v":{"$error":"#DIV/0!"}},{"$f":"ROUND(BW119/BW$72,4)*100","v":{"$error":"#DIV/0!"}},{"$f":"ROUND(BX119/BX$72,4)*100","v":{"$error":"#DIV/0!"}}]
[null,null,null,3,"あてはまる",3,{"$f":"問題別集計!G99+問題別集計!G100","v":0},{"$f":"問題別集計!H99+問題別集計!H100","v":0},{"$f":"問題別集計!I99+問題別集計!I100","v":0},{"$f":"問題別集計!J99+問題別集計!J100","v":0},{"$f":"問題別集計!K99+問題別集計!K100","v":0},{"$f":"問題別集計!L99+問題別集計!L100","v":0},{"$f":"問題別集計!M99+問題別集計!M100","v":0},{"$f":"問題別集計!N99+問題別集計!N100","v":0},{"$f":"問題別集計!O99+問題別集計!O100","v":0},{"$f":"問題別集計!P99+問題別集計!P100","v":0},{"$f":"問題別集計!Q99+問題別集計!Q100","v":0},{"$f":"問題別集計!R99+問題別集計!R100","v":0},{"$f":"問題別集計!S99+問題別集計!S100","v":0},{"$f":"問題別集計!T99+問題別集計!T100","v":0},{"$f":"ROUND(G120/G122,3)*100","v":{"$error":"#DIV/0!"}},{"$error":"#DIV/0!"},{"$error":"#DIV/0!"},{"$error":"#DIV/0!"},{"$error":"#DIV/0!"},{"$error":"#DIV/0!"},{"$error":"#DIV/0!"},{"$error":"#DIV/0!"},{"$error":"#DIV/0!"},{"$error":"#DIV/0!"},{"$error":"#DIV/0!"},{"$error":"#DIV/0!"},{"$error":"#DIV/0!"},{"$f":"ROUND(T120/T$122,4)*100","v":{"$error":"#DIV/0!"}},{"$f":"SUM(問題別集計③!G99:G100)","v":0},{"$f":"SUM(問題別集計③!H99:H100)","v":0},{"$f":"SUM(問題別集計③!I99:I100)","v":0},{"$f":"SUM(問題別集計③!J99:J100)","v":0},{"$f":"SUM(問題別集計③!K99:K100)","v":0},{"$f":"SUM(問題別集計③!L99:L100)","v":0},{"$f":"SUM(問題別集計③!M99:M100)","v":0},{"$f":"SUM(問題別集計③!N99:N100)","v":0},{"$f":"SUM(問題別集計③!O99:O100)","v":0},{"$f":"SUM(問題別集計③!P99:P100)","v":0},{"$f":"SUM(問題別集計③!Q99:Q100)","v":0},{"$f":"SUM(問題別集計③!R99:R100)","v":0},{"$f":"SUM(問題別集計③!S99:S100)","v":0},{"$f":"SUM(問題別集計③!T99:T100)","v":0},{"$f":"ROUND(AI120/AI122,3)*100","v":{"$error":"#DIV/0!"}},{"$error":"#DIV/0!"},{"$error":"#DIV/0!"},{"$error":"#DIV/0!"},{"$error":"#DIV/0!"},{"$error":"#DIV/0!"},{"$error":"#DIV/0!"},{"$error":"#DIV/0!"},{"$error":"#DIV/0!"},{"$error":"#DIV/0!"},{"$error":"#DIV/0!"},{"$error":"#DIV/0!"},{"$error":"#DIV/0!"},{"$f":"ROUND(AV120/AV$122,4)*100","v":{"$error":"#DIV/0!"}},{"$f":"SUM(問題別集計②!G99:G100)","v":0},{"$f":"SUM(問題別集計②!H99:H100)","v":0},{"$f":"SUM(問題別集計②!I99:I100)","v":0},{"$f":"SUM(問題別集計②!J99:J100)","v":0},{"$f":"SUM(問題別集計②!K99:K100)","v":0},{"$f":"SUM(問題別集計②!L99:L100)","v":0},{"$f":"SUM(問題別集計②!M99:M100)","v":0},{"$f":"SUM(問題別集計②!N99:N100)","v":0},{"$f":"SUM(問題別集計②!O99:O100)","v":0},{"$f":"SUM(問題別集計②!P99:P100)","v":0},{"$f":"SUM(問題別集計②!Q99:Q100)","v":0},{"$f":"SUM(問題別集計②!R99:R100)","v":0},{"$f":"SUM(問題別集計②!S99:S100)","v":0},{"$f":"SUM(問題別集計②!T99:T100)","v":0},{"$f":"ROUND(BK120/BK122,3)*100","v":{"$error":"#DIV/0!"}},{"$error":"#DIV/0!"},{"$error":"#DIV/0!"},{"$error":"#DIV/0!"},{"$error":"#DIV/0!"},{"$error":"#DIV/0!"},{"$error":"#DIV/0!"},{"$error":"#DIV/0!"},{"$error":"#DIV/0!"},{"$error":"#DIV/0!"},{"$error":"#DIV/0!"},{"$error":"#DIV/0!"},{"$error":"#DIV/0!"},{"$f":"ROUND(BX120/BX$122,4)*100","v":{"$error":"#DIV/0!"}}]
[null,null,null,4,"非常にあてはまる",4,null,null,null,null,null,null,null,null,null,null,null,null,null,null,{"$f":"ROUND(G121/G$72,4)*100","v":{"$error":"#DIV/0!"}},{"$f":"ROUND(H121/H$72,4)*100","v":{"$error":"#DIV/0!"}},{"$f":"ROUND(I121/I$72,4)*100","v":{"$error":"#DIV/0!"}},{"$f":"ROUND(J121/J$72,4)*100","v":{"$error":"#DIV/0!"}},{"$f":"ROUND(K121/K$72,4)*100","v":{"$error":"#DIV/0!"}},{"$f":"ROUND(L121/L$72,4)*100","v":{"$error":"#DIV/0!"}},{"$f":"ROUND(M121/M$72,4)*100","v":{"$error":"#DIV/0!"}},{"$f":"ROUND(N121/N$72,4)*100","v":{"$error":"#DIV/0!"}},{"$f":"ROUND(O121/O$72,4)*100","v":{"$error":"#DIV/0!"}},{"$f":"ROUND(P121/P$72,4)*100","v":{"$error":"#DIV/0!"}},{"$f":"ROUND(Q121/Q$72,4)*100","v":{"$error":"#DIV/0!"}},{"$f":"ROUND(R121/R$72,4)*100","v":{"$error":"#DIV/0!"}},{"$f":"ROUND(S121/S$72,4)*100","v":{"$error":"#DIV/0!"}},{"$f":"ROUND(T121/T$72,4)*100","v":{"$error":"#DIV/0!"}},null,null,null,null,null,null,null,null,null,null,null,null,null,null,{"$f":"ROUND(AI121/AI$72,4)*100","v":{"$error":"#DIV/0!"}},{"$f":"ROUND(AJ121/AJ$72,4)*100","v":{"$error":"#DIV/0!"}},{"$f":"ROUND(AK121/AK$72,4)*100","v":{"$error":"#DIV/0!"}},{"$f":"ROUND(AL121/AL$72,4)*100","v":{"$error":"#DIV/0!"}},{"$f":"ROUND(AM121/AM$72,4)*100","v":{"$error":"#DIV/0!"}},{"$f":"ROUND(AN121/AN$72,4)*100","v":{"$error":"#DIV/0!"}},{"$f":"ROUND(AO121/AO$72,4)*100","v":{"$error":"#DIV/0!"}},{"$f":"ROUND(AP121/AP$72,4)*100","v":{"$error":"#DIV/0!"}},{"$f":"ROUND(AQ121/AQ$72,4)*100","v":{"$error":"#DIV/0!"}},{"$f":"ROUND(AR121/AR$72,4)*100","v":{"$error":"#DIV/0!"}},{"$f":"ROUND(AS121/AS$72,4)*100","v":{"$error":"#DIV/0!"}},{"$f":"ROUND(AT121/AT$72,4)*100","v":{"$error":"#DIV/0!"}},{"$f":"ROUND(AU121/AU$72,4)*100","v":{"$error":"#DIV/0!"}},{"$f":"ROUND(AV121/AV$72,4)*100","v":{"$error":"#DIV/0!"}},null,null,null,null,null,null,null,null,null,null,null,null,null,null,{"$f":"ROUND(BK121/BK$72,4)*100","v":{"$error":"#DIV/0!"}},{"$f":"ROUND(BL121/BL$72,4)*100","v":{"$error":"#DIV/0!"}},{"$f":"ROUND(BM121/BM$72,4)*100","v":{"$error":"#DIV/0!"}},{"$f":"ROUND(BN121/BN$72,4)*100","v":{"$error":"#DIV/0!"}},{"$f":"ROUND(BO121/BO$72,4)*100","v":{"$error":"#DIV/0!"}},{"$f":"ROUND(BP121/BP$72,4)*100","v":{"$error":"#DIV/0!"}},{"$f":"ROUND(BQ121/BQ$72,4)*100","v":{"$error":"#DIV/0!"}},{"$f":"ROUND(BR121/BR$72,4)*100","v":{"$error":"#DIV/0!"}},{"$f":"ROUND(BS121/BS$72,4)*100","v":{"$error":"#DIV/0!"}},{"$f":"ROUND(BT121/BT$72,4)*100","v":{"$error":"#DIV/0!"}},{"$f":"ROUND(BU121/BU$72,4)*100","v":{"$error":"#DIV/0!"}},{"$f":"ROUND(BV121/BV$72,4)*100","v":{"$error":"#DIV/0!"}},{"$f":"ROUND(BW121/BW$72,4)*100","v":{"$error":"#DIV/0!"}},{"$f":"ROUND(BX121/BX$72,4)*100","v":{"$error":"#DIV/0!"}}]
[null,null,null,"計",null,null,{"$f":"SUM(G118:G121)","v":0},{"$f":"SUM(H118:H121)","v":0},{"$f":"SUM(I118:I121)","v":0},{"$f":"SUM(J118:J121)","v":0},{"$f":"SUM(K118:K121)","v":0},{"$f":"SUM(L118:L121)","v":0},{"$f":"SUM(M118:M121)","v":0},{"$f":"SUM(N118:N121)","v":0},{"$f":"SUM(O118:O121)","v":0},{"$f":"SUM(P118:P121)","v":0},{"$f":"SUM(Q118:Q121)","v":0},{"$f":"SUM(R118:R121)","v":0},{"$f":"SUM(S118:S121)","v":0},{"$f":"SUM(T118:T121)","v":0},{"$f":"SUM(U118:U121)","v":{"$error":"#DIV/0!"}},{"$f":"SUM(V118:V121)","v":{"$error":"#DIV/0!"}},{"$f":"SUM(W118:W121)","v":{"$error":"#DIV/0!"}},{"$f":"SUM(X118:X121)","v":{"$error":"#DIV/0!"}},{"$f":"SUM(Y118:Y121)","v":{"$error":"#DIV/0!"}},{"$f":"SUM(Z118:Z121)","v":{"$error":"#DIV/0!"}},{"$error":"#DIV/0!"},{"$f":"SUM(AB118:AB121)","v":{"$error":"#DIV/0!"}},{"$f":"SUM(AC118:AC121)","v":{"$error":"#DIV/0!"}},{"$f":"SUM(AD118:AD121)","v":{"$error":"#DIV/0!"}},{"$f":"SUM(AE118:AE121)","v":{"$error":"#DIV/0!"}},{"$f":"SUM(AF118:AF121)","v":{"$error":"#DIV/0!"}},{"$f":"SUM(AG118:AG121)","v":{"$error":"#DIV/0!"}},{"$error":"#DIV/0!"},{"$f":"SUM(AI118:AI121)","v":0},{"$f":"SUM(AJ118:AJ121)","v":0},{"$f":"SUM(AK118:AK121)","v":0},{"$f":"SUM(AL118:AL121)","v":0},{"$f":"SUM(AM118:AM121)","v":0},{"$f":"SUM(AN118:AN121)","v":0},{"$f":"SUM(AO118:AO121)","v":0},{"$f":"SUM(AP118:AP121)","v":0},{"$f":"SUM(AQ118:AQ121)","v":0},{"$f":"SUM(AR118:AR121)","v":0},{"$f":"SUM(AS118:AS121)","v":0},{"$f":"SUM(AT118:AT121)","v":0},{"$f":"SUM(AU118:AU121)","v":0},{"$f":"SUM(AV118:AV121)","v":0},{"$error":"#DIV/0!"},{"$error":"#DIV/0!"},{"$error":"#DIV/0!"},{"$error":"#DIV/0!"},{"$error":"#DIV/0!"},{"$error":"#DIV/0!"},{"$error":"#DIV/0!"},{"$error":"#DIV/0!"},{"$error":"#DIV/0!"},{"$error":"#DIV/0!"},{"$error":"#DIV/0!"},{"$error":"#DIV/0!"},{"$error":"#DIV/0!"},{"$error":"#DIV/0!"},{"$f":"SUM(BK118:BK121)","v":0},{"$f":"SUM(BL118:BL121)","v":0},{"$f":"SUM(BM118:BM121)","v":0},{"$f":"SUM(BN118:BN121)","v":0},{"$f":"SUM(BO118:BO121)","v":0},{"$f":"SUM(BP118:BP121)","v":0},{"$f":"SUM(BQ118:BQ121)","v":0},{"$f":"SUM(BR118:BR121)","v":0},{"$f":"SUM(BS118:BS121)","v":0},{"$f":"SUM(BT118:BT121)","v":0},{"$f":"SUM(BU118:BU121)","v":0},{"$f":"SUM(BV118:BV121)","v":0},{"$f":"SUM(BW118:BW121)","v":0},{"$f":"SUM(BX118:BX121)","v":0},{"$error":"#DIV/0!"},{"$error":"#DIV/0!"},{"$error":"#DIV/0!"},{"$error":"#DIV/0!"},{"$error":"#DIV/0!"},{"$error":"#DIV/0!"},{"$error":"#DIV/0!"},{"$error":"#DIV/0!"},{"$error":"#DIV/0!"},{"$error":"#DIV/0!"},{"$error":"#DIV/0!"},{"$error":"#DIV/0!"},{"$error":"#DIV/0!"},{"$error":"#DIV/0!"}]
[null,"22\n（23）","インターネットができないとそわそわと落ち着かなくなり焦ってくる。",1,"全くあてはまらない",1,{"$f":"問題別集計!G101+問題別集計!G102","v":0},{"$f":"問題別集計!H101+問題別集計!H102","v":0},{"$f":"問題別集計!I101+問題別集計!I102","v":0},{"$f":"問題別集計!J101+問題別集計!J102","v":0},{"$f":"問題別集計!K101+問題別集計!K102","v":0},{"$f":"問題別集計!L101+問題別集計!L102","v":0},{"$f":"問題別集計!M101+問題別集計!M102","v":0},{"$f":"問題別集計!N101+問題別集計!N102","v":0},{"$f":"問題別集計!O101+問題別集計!O102","v":0},{"$f":"問題別集計!P101+問題別集計!P102","v":0},{"$f":"問題別集計!Q101+問題別集計!Q102","v":0},{"$f":"問題別集計!R101+問題別集計!R102","v":0},{"$f":"問題別集計!S101+問題別集計!S102","v":0},{"$f":"問題別集計!T101+問題別集計!T102","v":0},{"$f":"ROUND(G123/G127,3)*100","v":{"$error":"#DIV/0!"}},{"$error":"#DIV/0!"},{"$error":"#DIV/0!"},{"$error":"#DIV/0!"},{"$error":"#DIV/0!"},{"$error":"#DIV/0!"},{"$error":"#DIV/0!"},{"$error":"#DIV/0!"},{"$error":"#DIV/0!"},{"$error":"#DIV/0!"},{"$error":"#DIV/0!"},{"$error":"#DIV/0!"},{"$error":"#DIV/0!"},{"$f":"ROUND(T123/T$122,4)*100","v":{"$error":"#DIV/0!"}},{"$f":"SUM(問題別集計③!G101:G102)","v":0},{"$f":"SUM(問題別集計③!H101:H102)","v":0},{"$f":"SUM(問題別集計③!I101:I102)","v":0},{"$f":"SUM(問題別集計③!J101:J102)","v":0},{"$f":"SUM(問題別集計③!K101:K102)","v":0},{"$f":"SUM(問題別集計③!L101:L102)","v":0},{"$f":"SUM(問題別集計③!M101:M102)","v":0},{"$f":"SUM(問題別集計③!N101:N102)","v":0},{"$f":"SUM(問題別集計③!O101:O102)","v":0},{"$f":"SUM(問題別集計③!P101:P102)","v":0},{"$f":"SUM(問題別集計③!Q101:Q102)","v":0},{"$f":"SUM(問題別集計③!R101:R102)","v":0},{"$f":"SUM(問題別集計③!S101:S102)","v":0},{"$f":"SUM(問題別集計③!T101:T102)","v":0},{"$f":"ROUND(AI123/AI127,3)*100","v":{"$error":"#DIV/0!"}},{"$error":"#DIV/0!"},{"$error":"#DIV/0!"},{"$error":"#DIV/0!"},{"$error":"#DIV/0!"},{"$error":"#DIV/0!"},{"$error":"#DIV/0!"},{"$error":"#DIV/0!"},{"$error":"#DIV/0!"},{"$error":"#DIV/0!"},{"$error":"#DIV/0!"},{"$error":"#DIV/0!"},{"$error":"#DIV/0!"},{"$f":"ROUND(AV123/AV$122,4)*100","v":{"$error":"#DIV/0!"}},{"$f":"SUM(問題別集計②!G101:G102)","v":0},{"$f":"SUM(問題別集計②!H101:H102)","v":0},{"$f":"SUM(問題別集計②!I101:I102)","v":0},{"$f":"SUM(問題別集計②!J101:J102)","v":0},{"$f":"SUM(問題別集計②!K101:K102)","v":0},{"$f":"SUM(問題別集計②!L101:L102)","v":0},{"$f":"SUM(問題別集計②!M101:M102)","v":0},{"$f":"SUM(問題別集計②!N101:N102)","v":0},{"$f":"SUM(問題別集計②!O101:O102)","v":0},{"$f":"SUM(問題別集計②!P101:P102)","v":0},{"$f":"SUM(問題別集計②!Q101:Q102)","v":0},{"$f":"SUM(問題別集計②!R101:R102)","v":0},{"$f":"SUM(問題別集計②!S101:S102)","v":0},{"$f":"SUM(問題別集計②!T101:T102)","v":0},{"$f":"ROUND(BK123/BK127,3)*100","v":{"$error":"#DIV/0!"}},{"$error":"#DIV/0!"},{"$error":"#DIV/0!"},{"$error":"#DIV/0!"},{"$error":"#DIV/0!"},{"$error":"#DIV/0!"},{"$error":"#DIV/0!"},{"$error":"#DIV/0!"},{"$error":"#DIV/0!"},{"$error":"#DIV/0!"},{"$error":"#DIV/0!"},{"$error":"#DIV/0!"},{"$error":"#DIV/0!"},{"$f":"ROUND(BX123/BX$122,4)*100","v":{"$error":"#DIV/0!"}}]
[null,null,null,2,"あてはまらない",2,null,null,null,null,null,null,null,null,null,null,null,null,null,null,{"$f":"ROUND(G124/G$72,4)*100","v":{"$error":"#DIV/0!"}},{"$f":"ROUND(H124/H$72,4)*100","v":{"$error":"#DIV/0!"}},{"$f":"ROUND(I124/I$72,4)*100","v":{"$error":"#DIV/0!"}},{"$f":"ROUND(J124/J$72,4)*100","v":{"$error":"#DIV/0!"}},{"$f":"ROUND(K124/K$72,4)*100","v":{"$error":"#DIV/0!"}},{"$f":"ROUND(L124/L$72,4)*100","v":{"$error":"#DIV/0!"}},{"$f":"ROUND(M124/M$72,4)*100","v":{"$error":"#DIV/0!"}},{"$f":"ROUND(N124/N$72,4)*100","v":{"$error":"#DIV/0!"}},{"$f":"ROUND(O124/O$72,4)*100","v":{"$error":"#DIV/0!"}},{"$f":"ROUND(P124/P$72,4)*100","v":{"$error":"#DIV/0!"}},{"$f":"ROUND(Q124/Q$72,4)*100","v":{"$error":"#DIV/0!"}},{"$f":"ROUND(R124/R$72,4)*100","v":{"$error":"#DIV/0!"}},{"$f":"ROUND(S124/S$72,4)*100","v":{"$error":"#DIV/0!"}},{"$f":"ROUND(T124/T$72,4)*100","v":{"$error":"#DIV/0!"}},null,null,null,null,null,null,null,null,null,null,null,null,null,null,{"$f":"ROUND(AI124/AI$72,4)*100","v":{"$error":"#DIV/0!"}},{"$f":"ROUND(AJ124/AJ$72,4)*100","v":{"$error":"#DIV/0!"}},{"$f":"ROUND(AK124/AK$72,4)*100","v":{"$error":"#DIV/0!"}},{"$f":"ROUND(AL124/AL$72,4)*100","v":{"$error":"#DIV/0!"}},{"$f":"ROUND(AM124/AM$72,4)*100","v":{"$error":"#DIV/0!"}},{"$f":"ROUND(AN124/AN$72,4)*100","v":{"$error":"#DIV/0!"}},{"$f":"ROUND(AO124/AO$72,4)*100","v":{"$error":"#DIV/0!"}},{"$f":"ROUND(AP124/AP$72,4)*100","v":{"$error":"#DIV/0!"}},{"$f":"ROUND(AQ124/AQ$72,4)*100","v":{"$error":"#DIV/0!"}},{"$f":"ROUND(AR124/AR$72,4)*100","v":{"$error":"#DIV/0!"}},{"$f":"ROUND(AS124/AS$72,4)*100","v":{"$error":"#DIV/0!"}},{"$f":"ROUND(AT124/AT$72,4)*100","v":{"$error":"#DIV/0!"}},{"$f":"ROUND(AU124/AU$72,4)*100","v":{"$error":"#DIV/0!"}},{"$f":"ROUND(AV124/AV$72,4)*100","v":{"$error":"#DIV/0!"}},null,null,null,null,null,null,null,null,null,null,null,null,null,null,{"$f":"ROUND(BK124/BK$72,4)*100","v":{"$error":"#DIV/0!"}},{"$f":"ROUND(BL124/BL$72,4)*100","v":{"$error":"#DIV/0!"}},{"$f":"ROUND(BM124/BM$72,4)*100","v":{"$error":"#DIV/0!"}},{"$f":"ROUND(BN124/BN$72,4)*100","v":{"$error":"#DIV/0!"}},{"$f":"ROUND(BO124/BO$72,4)*100","v":{"$error":"#DIV/0!"}},{"$f":"ROUND(BP124/BP$72,4)*100","v":{"$error":"#DIV/0!"}},{"$f":"ROUND(BQ124/BQ$72,4)*100","v":{"$error":"#DIV/0!"}},{"$f":"ROUND(BR124/BR$72,4)*100","v":{"$error":"#DIV/0!"}},{"$f":"ROUND(BS124/BS$72,4)*100","v":{"$error":"#DIV/0!"}},{"$f":"ROUND(BT124/BT$72,4)*100","v":{"$error":"#DIV/0!"}},{"$f":"ROUND(BU124/BU$72,4)*100","v":{"$error":"#DIV/0!"}},{"$f":"ROUND(BV124/BV$72,4)*100","v":{"$error":"#DIV/0!"}},{"$f":"ROUND(BW124/BW$72,4)*100","v":{"$error":"#DIV/0!"}},{"$f":"ROUND(BX124/BX$72,4)*100","v":{"$error":"#DIV/0!"}}]
[null,null,null,3,"あてはまる",3,{"$f":"問題別集計!G103+問題別集計!G104","v":0},{"$f":"問題別集計!H103+問題別集計!H104","v":0},{"$f":"問題別集計!I103+問題別集計!I104","v":0},{"$f":"問題別集計!J103+問題別集計!J104","v":0},{"$f":"問題別集計!K103+問題別集計!K104","v":0},{"$f":"問題別集計!L103+問題別集計!L104","v":0},{"$f":"問題別集計!M103+問題別集計!M104","v":0},{"$f":"問題別集計!N103+問題別集計!N104","v":0},{"$f":"問題別集計!O103+問題別集計!O104","v":0},{"$f":"問題別集計!P103+問題別集計!P104","v":0},{"$f":"問題別集計!Q103+問題別集計!Q104","v":0},{"$f":"問題別集計!R103+問題別集計!R104","v":0},{"$f":"問題別集計!S103+問題別集計!S104","v":0},{"$f":"問題別集計!T103+問題別集計!T104","v":0},{"$f":"ROUND(G125/G127,3)*100","v":{"$error":"#DIV/0!"}},{"$error":"#DIV/0!"},{"$error":"#DIV/0!"},{"$error":"#DIV/0!"},{"$error":"#DIV/0!"},{"$error":"#DIV/0!"},{"$error":"#DIV/0!"},{"$error":"#DIV/0!"},{"$error":"#DIV/0!"},{"$error":"#DIV/0!"},{"$error":"#DIV/0!"},{"$error":"#DIV/0!"},{"$error":"#DIV/0!"},{"$f":"ROUND(T125/T$122,4)*100","v":{"$error":"#DIV/0!"}},{"$f":"SUM(問題別集計③!G103:G104)","v":0},{"$f":"SUM(問題別集計③!H103:H104)","v":0},{"$f":"SUM(問題別集計③!I103:I104)","v":0},{"$f":"SUM(問題別集計③!J103:J104)","v":0},{"$f":"SUM(問題別集計③!K103:K104)","v":0},{"$f":"SUM(問題別集計③!L103:L104)","v":0},{"$f":"SUM(問題別集計③!M103:M104)","v":0},{"$f":"SUM(問題別集計③!N103:N104)","v":0},{"$f":"SUM(問題別集計③!O103:O104)","v":0},{"$f":"SUM(問題別集計③!P103:P104)","v":0},{"$f":"SUM(問題別集計③!Q103:Q104)","v":0},{"$f":"SUM(問題別集計③!R103:R104)","v":0},{"$f":"SUM(問題別集計③!S103:S104)","v":0},{"$f":"SUM(問題別集計③!T103:T104)","v":0},{"$f":"ROUND(AI125/AI127,3)*100","v":{"$error":"#DIV/0!"}},{"$error":"#DIV/0!"},{"$error":"#DIV/0!"},{"$error":"#DIV/0!"},{"$error":"#DIV/0!"},{"$error":"#DIV/0!"},{"$error":"#DIV/0!"},{"$error":"#DIV/0!"},{"$error":"#DIV/0!"},{"$error":"#DIV/0!"},{"$error":"#DIV/0!"},{"$error":"#DIV/0!"},{"$error":"#DIV/0!"},{"$f":"ROUND(AV125/AV$122,4)*100","v":{"$error":"#DIV/0!"}},{"$f":"SUM(問題別集計②!G103:G104)","v":0},{"$f":"SUM(問題別集計②!H103:H104)","v":0},{"$f":"SUM(問題別集計②!I103:I104)","v":0},{"$f":"SUM(問題別集計②!J103:J104)","v":0},{"$f":"SUM(問題別集計②!K103:K104)","v":0},{"$f":"SUM(問題別集計②!L103:L104)","v":0},{"$f":"SUM(問題別集計②!M103:M104)","v":0},{"$f":"SUM(問題別集計②!N103:N104)","v":0},{"$f":"SUM(問題別集計②!O103:O104)","v":0},{"$f":"SUM(問題別集計②!P103:P104)","v":0},{"$f":"SUM(問題別集計②!Q103:Q104)","v":0},{"$f":"SUM(問題別集計②!R103:R104)","v":0},{"$f":"SUM(問題別集計②!S103:S104)","v":0},{"$f":"SUM(問題別集計②!T103:T104)","v":0},{"$f":"ROUND(BK125/BK127,3)*100","v":{"$error":"#DIV/0!"}},{"$error":"#DIV/0!"},{"$error":"#DIV/0!"},{"$error":"#DIV/0!"},{"$error":"#DIV/0!"},{"$error":"#DIV/0!"},{"$error":"#DIV/0!"},{"$error":"#DIV/0!"},{"$error":"#DIV/0!"},{"$error":"#DIV/0!"},{"$error":"#DIV/0!"},{"$error":"#DIV/0!"},{"$error":"#DIV/0!"},{"$f":"ROUND(BX125/BX$122,4)*100","v":{"$error":"#DIV/0!"}}]
[null,null,null,4,"非常にあてはまる",4,null,null,null,null,null,null,null,null,null,null,null,null,null,null,{"$f":"ROUND(G126/G$72,4)*100","v":{"$error":"#DIV/0!"}},{"$f":"ROUND(H126/H$72,4)*100","v":{"$error":"#DIV/0!"}},{"$f":"ROUND(I126/I$72,4)*100","v":{"$error":"#DIV/0!"}},{"$f":"ROUND(J126/J$72,4)*100","v":{"$error":"#DIV/0!"}},{"$f":"ROUND(K126/K$72,4)*100","v":{"$error":"#DIV/0!"}},{"$f":"ROUND(L126/L$72,4)*100","v":{"$error":"#DIV/0!"}},{"$f":"ROUND(M126/M$72,4)*100","v":{"$error":"#DIV/0!"}},{"$f":"ROUND(N126/N$72,4)*100","v":{"$error":"#DIV/0!"}},{"$f":"ROUND(O126/O$72,4)*100","v":{"$error":"#DIV/0!"}},{"$f":"ROUND(P126/P$72,4)*100","v":{"$error":"#DIV/0!"}},{"$f":"ROUND(Q126/Q$72,4)*100","v":{"$error":"#DIV/0!"}},{"$f":"ROUND(R126/R$72,4)*100","v":{"$error":"#DIV/0!"}},{"$f":"ROUND(S126/S$72,4)*100","v":{"$error":"#DIV/0!"}},{"$f":"ROUND(T126/T$72,4)*100","v":{"$error":"#DIV/0!"}},null,null,null,null,null,null,null,null,null,null,null,null,null,null,{"$f":"ROUND(AI126/AI$72,4)*100","v":{"$error":"#DIV/0!"}},{"$f":"ROUND(AJ126/AJ$72,4)*100","v":{"$error":"#DIV/0!"}},{"$f":"ROUND(AK126/AK$72,4)*100","v":{"$error":"#DIV/0!"}},{"$f":"ROUND(AL126/AL$72,4)*100","v":{"$error":"#DIV/0!"}},{"$f":"ROUND(AM126/AM$72,4)*100","v":{"$error":"#DIV/0!"}},{"$f":"ROUND(AN126/AN$72,4)*100","v":{"$error":"#DIV/0!"}},{"$f":"ROUND(AO126/AO$72,4)*100","v":{"$error":"#DIV/0!"}},{"$f":"ROUND(AP126/AP$72,4)*100","v":{"$error":"#DIV/0!"}},{"$f":"ROUND(AQ126/AQ$72,4)*100","v":{"$error":"#DIV/0!"}},{"$f":"ROUND(AR126/AR$72,4)*100","v":{"$error":"#DIV/0!"}},{"$f":"ROUND(AS126/AS$72,4)*100","v":{"$error":"#DIV/0!"}},{"$f":"ROUND(AT126/AT$72,4)*100","v":{"$error":"#DIV/0!"}},{"$f":"ROUND(AU126/AU$72,4)*100","v":{"$error":"#DIV/0!"}},{"$f":"ROUND(AV126/AV$72,4)*100","v":{"$error":"#DIV/0!"}},null,null,null,null,null,null,null,null,null,null,null,null,null,null,{"$f":"ROUND(BK126/BK$72,4)*100","v":{"$error":"#DIV/0!"}},{"$f":"ROUND(BL126/BL$72,4)*100","v":{"$error":"#DIV/0!"}},{"$f":"ROUND(BM126/BM$72,4)*100","v":{"$error":"#DIV/0!"}},{"$f":"ROUND(BN126/BN$72,4)*100","v":{"$error":"#DIV/0!"}},{"$f":"ROUND(BO126/BO$72,4)*100","v":{"$error":"#DIV/0!"}},{"$f":"ROUND(BP126/BP$72,4)*100","v":{"$error":"#DIV/0!"}},{"$f":"ROUND(BQ126/BQ$72,4)*100","v":{"$error":"#DIV/0!"}},{"$f":"ROUND(BR126/BR$72,4)*100","v":{"$error":"#DIV/0!"}},{"$f":"ROUND(BS126/BS$72,4)*100","v":{"$error":"#DIV/0!"}},{"$f":"ROUND(BT126/BT$72,4)*100","v":{"$error":"#DIV/0!"}},{"$f":"ROUND(BU126/BU$72,4)*100","v":{"$error":"#DIV/0!"}},{"$f":"ROUND(BV126/BV$72,4)*100","v":{"$error":"#DIV/0!"}},{"$f":"ROUND(BW126/BW$72,4)*100","v":{"$error":"#DIV/0!"}},{"$f":"ROUND(BX126/BX$72,4)*100","v":{"$error":"#DIV/0!"}}]
[null,null,null,"計",null,null,{"$f":"SUM(G123:G126)","v":0},{"$f":"SUM(H123:H126)","v":0},{"$f":"SUM(I123:I126)","v":0},{"$f":"SUM(J123:J126)","v":0},{"$f":"SUM(K123:K126)","v":0},{"$f":"SUM(L123:L126)","v":0},{"$f":"SUM(M123:M126)","v":0},{"$f":"SUM(N123:N126)","v":0},{"$f":"SUM(O123:O126)","v":0},{"$f":"SUM(P123:P126)","v":0},{"$f":"SUM(Q123:Q126)","v":0},{"$f":"SUM(R123:R126)","v":0},{"$f":"SUM(S123:S126)","v":0},{"$f":"SUM(T123:T126)","v":0},{"$f":"SUM(U123:U126)","v":{"$error":"#DIV/0!"}},{"$f":"SUM(V123:V126)","v":{"$error":"#DIV/0!"}},{"$f":"SUM(W123:W126)","v":{"$error":"#DIV/0!"}},{"$f":"SUM(X123:X126)","v":{"$error":"#DIV/0!"}},{"$f":"SUM(Y123:Y126)","v":{"$error":"#DIV/0!"}},{"$f":"SUM(Z123:Z126)","v":{"$error":"#DIV/0!"}},{"$error":"#DIV/0!"},{"$f":"SUM(AB123:AB126)","v":{"$error":"#DIV/0!"}},{"$f":"SUM(AC123:AC126)","v":{"$error":"#DIV/0!"}},{"$f":"SUM(AD123:AD126)","v":{"$error":"#DIV/0!"}},{"$f":"SUM(AE123:AE126)","v":{"$error":"#DIV/0!"}},{"$f":"SUM(AF123:AF126)","v":{"$error":"#DIV/0!"}},{"$f":"SUM(AG123:AG126)","v":{"$error":"#DIV/0!"}},{"$error":"#DIV/0!"},{"$f":"SUM(AI123:AI126)","v":0},{"$f":"SUM(AJ123:AJ126)","v":0},{"$f":"SUM(AK123:AK126)","v":0},{"$f":"SUM(AL123:AL126)","v":0},{"$f":"SUM(AM123:AM126)","v":0},{"$f":"SUM(AN123:AN126)","v":0},{"$f":"SUM(AO123:AO126)","v":0},{"$f":"SUM(AP123:AP126)","v":0},{"$f":"SUM(AQ123:AQ126)","v":0},{"$f":"SUM(AR123:AR126)","v":0},{"$f":"SUM(AS123:AS126)","v":0},{"$f":"SUM(AT123:AT126)","v":0},{"$f":"SUM(AU123:AU126)","v":0},{"$f":"SUM(AV123:AV126)","v":0},{"$error":"#DIV/0!"},{"$error":"#DIV/0!"},{"$error":"#DIV/0!"},{"$error":"#DIV/0!"},{"$error":"#DIV/0!"},{"$error":"#DIV/0!"},{"$error":"#DIV/0!"},{"$error":"#DIV/0!"},{"$error":"#DIV/0!"},{"$error":"#DIV/0!"},{"$error":"#DIV/0!"},{"$error":"#DIV/0!"},{"$error":"#DIV/0!"},{"$error":"#DIV/0!"},{"$f":"SUM(BK123:BK126)","v":0},{"$f":"SUM(BL123:BL126)","v":0},{"$f":"SUM(BM123:BM126)","v":0},{"$f":"SUM(BN123:BN126)","v":0},{"$f":"SUM(BO123:BO126)","v":0},{"$f":"SUM(BP123:BP126)","v":0},{"$f":"SUM(BQ123:BQ126)","v":0},{"$f":"SUM(BR123:BR126)","v":0},{"$f":"SUM(BS123:BS126)","v":0},{"$f":"SUM(BT123:BT126)","v":0},{"$f":"SUM(BU123:BU126)","v":0},{"$f":"SUM(BV123:BV126)","v":0},{"$f":"SUM(BW123:BW126)","v":0},{"$f":"SUM(BX123:BX126)","v":0},{"$error":"#DIV/0!"},{"$error":"#DIV/0!"},{"$error":"#DIV/0!"},{"$error":"#DIV/0!"},{"$error":"#DIV/0!"},{"$error":"#DIV/0!"},{"$error":"#DIV/0!"},{"$error":"#DIV/0!"},{"$error":"#DIV/0!"},{"$error":"#DIV/0!"},{"$error":"#DIV/0!"},{"$error":"#DIV/0!"},{"$error":"#DIV/0!"},{"$error":"#DIV/0!"}]
[null,"23\n（24）","一度インターネットを始めると、最初に心に決めたよりも長時間インターネットをしてしまう。",1,"全くあてはまらない",1,{"$f":"問題別集計!G105+問題別集計!G106","v":0},{"$f":"問題別集計!H105+問題別集計!H106","v":0},{"$f":"問題別集計!I105+問題別集計!I106","v":0},{"$f":"問題別集計!J105+問題別集計!J106","v":0},{"$f":"問題別集計!K105+問題別集計!K106","v":0},{"$f":"問題別集計!L105+問題別集計!L106","v":0},{"$f":"問題別集計!M105+問題別集計!M106","v":0},{"$f":"問題別集計!N105+問題別集計!N106","v":0},{"$f":"問題別集計!O105+問題別集計!O106","v":0},{"$f":"問題別集計!P105+問題別集計!P106","v":0},{"$f":"問題別集計!Q105+問題別集計!Q106","v":0},{"$f":"問題別集計!R105+問題別集計!R106","v":0},{"$f":"問題別集計!S105+問題別集計!S106","v":0},{"$f":"問題別集計!T105+問題別集計!T106","v":0},{"$f":"ROUND(G128/G132,3)*100","v":{"$error":"#DIV/0!"}},{"$error":"#DIV/0!"},{"$error":"#DIV/0!"},{"$error":"#DIV/0!"},{"$error":"#DIV/0!"},{"$error":"#DIV/0!"},{"$error":"#DIV/0!"},{"$error":"#DIV/0!"},{"$error":"#DIV/0!"},{"$error":"#DIV/0!"},{"$error":"#DIV/0!"},{"$error":"#DIV/0!"},{"$error":"#DIV/0!"},{"$f":"ROUND(T128/T$122,4)*100","v":{"$error":"#DIV/0!"}},{"$f":"SUM(問題別集計③!G105:G106)","v":0},{"$f":"SUM(問題別集計③!H105:H106)","v":0},{"$f":"SUM(問題別集計③!I105:I106)","v":0},{"$f":"SUM(問題別集計③!J105:J106)","v":0},{"$f":"SUM(問題別集計③!K105:K106)","v":0},{"$f":"SUM(問題別集計③!L105:L106)","v":0},{"$f":"SUM(問題別集計③!M105:M106)","v":0},{"$f":"SUM(問題別集計③!N105:N106)","v":0},{"$f":"SUM(問題別集計③!O105:O106)","v":0},{"$f":"SUM(問題別集計③!P105:P106)","v":0},{"$f":"SUM(問題別集計③!Q105:Q106)","v":0},{"$f":"SUM(問題別集計③!R105:R106)","v":0},{"$f":"SUM(問題別集計③!S105:S106)","v":0},{"$f":"SUM(問題別集計③!T105:T106)","v":0},{"$f":"ROUND(AI128/AI132,3)*100","v":{"$error":"#DIV/0!"}},{"$error":"#DIV/0!"},{"$error":"#DIV/0!"},{"$error":"#DIV/0!"},{"$error":"#DIV/0!"},{"$error":"#DIV/0!"},{"$error":"#DIV/0!"},{"$error":"#DIV/0!"},{"$error":"#DIV/0!"},{"$error":"#DIV/0!"},{"$error":"#DIV/0!"},{"$error":"#DIV/0!"},{"$error":"#DIV/0!"},{"$f":"ROUND(AV128/AV$122,4)*100","v":{"$error":"#DIV/0!"}},{"$f":"SUM(問題別集計②!G105:G106)","v":0},{"$f":"SUM(問題別集計②!H105:H106)","v":0},{"$f":"SUM(問題別集計②!I105:I106)","v":0},{"$f":"SUM(問題別集計②!J105:J106)","v":0},{"$f":"SUM(問題別集計②!K105:K106)","v":0},{"$f":"SUM(問題別集計②!L105:L106)","v":0},{"$f":"SUM(問題別集計②!M105:M106)","v":0},{"$f":"SUM(問題別集計②!N105:N106)","v":0},{"$f":"SUM(問題別集計②!O105:O106)","v":0},{"$f":"SUM(問題別集計②!P105:P106)","v":0},{"$f":"SUM(問題別集計②!Q105:Q106)","v":0},{"$f":"SUM(問題別集計②!R105:R106)","v":0},{"$f":"SUM(問題別集計②!S105:S106)","v":0},{"$f":"SUM(問題別集計②!T105:T106)","v":0},{"$f":"ROUND(BK128/BK132,3)*100","v":{"$error":"#DIV/0!"}},{"$error":"#DIV/0!"},{"$error":"#DIV/0!"},{"$error":"#DIV/0!"},{"$error":"#DIV/0!"},{"$error":"#DIV/0!"},{"$error":"#DIV/0!"},{"$error":"#DIV/0!"},{"$error":"#DIV/0!"},{"$error":"#DIV/0!"},{"$error":"#DIV/0!"},{"$error":"#DIV/0!"},{"$error":"#DIV/0!"},{"$f":"ROUND(BX128/BX$122,4)*100","v":{"$error":"#DIV/0!"}}]
[null,null,null,2,"あてはまらない",2,null,null,null,null,null,null,null,null,null,null,null,null,null,null,{"$f":"ROUND(G129/G$72,4)*100","v":{"$error":"#DIV/0!"}},{"$f":"ROUND(H129/H$72,4)*100","v":{"$error":"#DIV/0!"}},{"$f":"ROUND(I129/I$72,4)*100","v":{"$error":"#DIV/0!"}},{"$f":"ROUND(J129/J$72,4)*100","v":{"$error":"#DIV/0!"}},{"$f":"ROUND(K129/K$72,4)*100","v":{"$error":"#DIV/0!"}},{"$f":"ROUND(L129/L$72,4)*100","v":{"$error":"#DIV/0!"}},{"$f":"ROUND(M129/M$72,4)*100","v":{"$error":"#DIV/0!"}},{"$f":"ROUND(N129/N$72,4)*100","v":{"$error":"#DIV/0!"}},{"$f":"ROUND(O129/O$72,4)*100","v":{"$error":"#DIV/0!"}},{"$f":"ROUND(P129/P$72,4)*100","v":{"$error":"#DIV/0!"}},{"$f":"ROUND(Q129/Q$72,4)*100","v":{"$error":"#DIV/0!"}},{"$f":"ROUND(R129/R$72,4)*100","v":{"$error":"#DIV/0!"}},{"$f":"ROUND(S129/S$72,4)*100","v":{"$error":"#DIV/0!"}},{"$f":"ROUND(T129/T$72,4)*100","v":{"$error":"#DIV/0!"}},null,null,null,null,null,null,null,null,null,null,null,null,null,null,{"$f":"ROUND(AI129/AI$72,4)*100","v":{"$error":"#DIV/0!"}},{"$f":"ROUND(AJ129/AJ$72,4)*100","v":{"$error":"#DIV/0!"}},{"$f":"ROUND(AK129/AK$72,4)*100","v":{"$error":"#DIV/0!"}},{"$f":"ROUND(AL129/AL$72,4)*100","v":{"$error":"#DIV/0!"}},{"$f":"ROUND(AM129/AM$72,4)*100","v":{"$error":"#DIV/0!"}},{"$f":"ROUND(AN129/AN$72,4)*100","v":{"$error":"#DIV/0!"}},{"$f":"ROUND(AO129/AO$72,4)*100","v":{"$error":"#DIV/0!"}},{"$f":"ROUND(AP129/AP$72,4)*100","v":{"$error":"#DIV/0!"}},{"$f":"ROUND(AQ129/AQ$72,4)*100","v":{"$error":"#DIV/0!"}},{"$f":"ROUND(AR129/AR$72,4)*100","v":{"$error":"#DIV/0!"}},{"$f":"ROUND(AS129/AS$72,4)*100","v":{"$error":"#DIV/0!"}},{"$f":"ROUND(AT129/AT$72,4)*100","v":{"$error":"#DIV/0!"}},{"$f":"ROUND(AU129/AU$72,4)*100","v":{"$error":"#DIV/0!"}},{"$f":"ROUND(AV129/AV$72,4)*100","v":{"$error":"#DIV/0!"}},null,null,null,null,null,null,null,null,null,null,null,null,null,null,{"$f":"ROUND(BK129/BK$72,4)*100","v":{"$error":"#DIV/0!"}},{"$f":"ROUND(BL129/BL$72,4)*100","v":{"$error":"#DIV/0!"}},{"$f":"ROUND(BM129/BM$72,4)*100","v":{"$error":"#DIV/0!"}},{"$f":"ROUND(BN129/BN$72,4)*100","v":{"$error":"#DIV/0!"}},{"$f":"ROUND(BO129/BO$72,4)*100","v":{"$error":"#DIV/0!"}},{"$f":"ROUND(BP129/BP$72,4)*100","v":{"$error":"#DIV/0!"}},{"$f":"ROUND(BQ129/BQ$72,4)*100","v":{"$error":"#DIV/0!"}},{"$f":"ROUND(BR129/BR$72,4)*100","v":{"$error":"#DIV/0!"}},{"$f":"ROUND(BS129/BS$72,4)*100","v":{"$error":"#DIV/0!"}},{"$f":"ROUND(BT129/BT$72,4)*100","v":{"$error":"#DIV/0!"}},{"$f":"ROUND(BU129/BU$72,4)*100","v":{"$error":"#DIV/0!"}},{"$f":"ROUND(BV129/BV$72,4)*100","v":{"$error":"#DIV/0!"}},{"$f":"ROUND(BW129/BW$72,4)*100","v":{"$error":"#DIV/0!"}},{"$f":"ROUND(BX129/BX$72,4)*100","v":{"$error":"#DIV/0!"}}]
[null,null,null,3,"あてはまる",3,{"$f":"問題別集計!G107+問題別集計!G108","v":0},{"$f":"問題別集計!H107+問題別集計!H108","v":0},{"$f":"問題別集計!I107+問題別集計!I108","v":0},{"$f":"問題別集計!J107+問題別集計!J108","v":0},{"$f":"問題別集計!K107+問題別集計!K108","v":0},{"$f":"問題別集計!L107+問題別集計!L108","v":0},{"$f":"問題別集計!M107+問題別集計!M108","v":0},{"$f":"問題別集計!N107+問題別集計!N108","v":0},{"$f":"問題別集計!O107+問題別集計!O108","v":0},{"$f":"問題別集計!P107+問題別集計!P108","v":0},{"$f":"問題別集計!Q107+問題別集計!Q108","v":0},{"$f":"問題別集計!R107+問題別集計!R108","v":0},{"$f":"問題別集計!S107+問題別集計!S108","v":0},{"$f":"問題別集計!T107+問題別集計!T108","v":0},{"$f":"ROUND(G130/G132,3)*100","v":{"$error":"#DIV/0!"}},{"$error":"#DIV/0!"},{"$error":"#DIV/0!"},{"$error":"#DIV/0!"},{"$error":"#DIV/0!"},{"$error":"#DIV/0!"},{"$error":"#DIV/0!"},{"$error":"#DIV/0!"},{"$error":"#DIV/0!"},{"$error":"#DIV/0!"},{"$error":"#DIV/0!"},{"$error":"#DIV/0!"},{"$error":"#DIV/0!"},{"$f":"ROUND(T130/T$122,4)*100","v":{"$error":"#DIV/0!"}},{"$f":"SUM(問題別集計③!G107:G108)","v":0},{"$f":"SUM(問題別集計③!H107:H108)","v":0},{"$f":"SUM(問題別集計③!I107:I108)","v":0},{"$f":"SUM(問題別集計③!J107:J108)","v":0},{"$f":"SUM(問題別集計③!K107:K108)","v":0},{"$f":"SUM(問題別集計③!L107:L108)","v":0},{"$f":"SUM(問題別集計③!M107:M108)","v":0},{"$f":"SUM(問題別集計③!N107:N108)","v":0},{"$f":"SUM(問題別集計③!O107:O108)","v":0},{"$f":"SUM(問題別集計③!P107:P108)","v":0},{"$f":"SUM(問題別集計③!Q107:Q108)","v":0},{"$f":"SUM(問題別集計③!R107:R108)","v":0},{"$f":"SUM(問題別集計③!S107:S108)","v":0},{"$f":"SUM(問題別集計③!T107:T108)","v":0},{"$f":"ROUND(AI130/AI132,3)*100","v":{"$error":"#DIV/0!"}},{"$error":"#DIV/0!"},{"$error":"#DIV/0!"},{"$error":"#DIV/0!"},{"$error":"#DIV/0!"},{"$error":"#DIV/0!"},{"$error":"#DIV/0!"},{"$error":"#DIV/0!"},{"$error":"#DIV/0!"},{"$error":"#DIV/0!"},{"$error":"#DIV/0!"},{"$error":"#DIV/0!"},{"$error":"#DIV/0!"},{"$f":"ROUND(AV130/AV$122,4)*100","v":{"$error":"#DIV/0!"}},{"$f":"SUM(問題別集計②!G107:G108)","v":0},{"$f":"SUM(問題別集計②!H107:H108)","v":0},{"$f":"SUM(問題別集計②!I107:I108)","v":0},{"$f":"SUM(問題別集計②!J107:J108)","v":0},{"$f":"SUM(問題別集計②!K107:K108)","v":0},{"$f":"SUM(問題別集計②!L107:L108)","v":0},{"$f":"SUM(問題別集計②!M107:M108)","v":0},{"$f":"SUM(問題別集計②!N107:N108)","v":0},{"$f":"SUM(問題別集計②!O107:O108)","v":0},{"$f":"SUM(問題別集計②!P107:P108)","v":0},{"$f":"SUM(問題別集計②!Q107:Q108)","v":0},{"$f":"SUM(問題別集計②!R107:R108)","v":0},{"$f":"SUM(問題別集計②!S107:S108)","v":0},{"$f":"SUM(問題別集計②!T107:T108)","v":0},{"$f":"ROUND(BK130/BK132,3)*100","v":{"$error":"#DIV/0!"}},{"$error":"#DIV/0!"},{"$error":"#DIV/0!"},{"$error":"#DIV/0!"},{"$error":"#DIV/0!"},{"$error":"#DIV/0!"},{"$error":"#DIV/0!"},{"$error":"#DIV/0!"},{"$error":"#DIV/0!"},{"$error":"#DIV/0!"},{"$error":"#DIV/0!"},{"$error":"#DIV/0!"},{"$error":"#DIV/0!"},{"$f":"ROUND(BX130/BX$122,4)*100","v":{"$error":"#DIV/0!"}}]
[null,null,null,4,"非常にあてはまる",4,null,null,null,null,null,null,null,null,null,null,null,null,null,null,{"$f":"ROUND(G131/G$72,4)*100","v":{"$error":"#DIV/0!"}},{"$f":"ROUND(H131/H$72,4)*100","v":{"$error":"#DIV/0!"}},{"$f":"ROUND(I131/I$72,4)*100","v":{"$error":"#DIV/0!"}},{"$f":"ROUND(J131/J$72,4)*100","v":{"$error":"#DIV/0!"}},{"$f":"ROUND(K131/K$72,4)*100","v":{"$error":"#DIV/0!"}},{"$f":"ROUND(L131/L$72,4)*100","v":{"$error":"#DIV/0!"}},{"$f":"ROUND(M131/M$72,4)*100","v":{"$error":"#DIV/0!"}},{"$f":"ROUND(N131/N$72,4)*100","v":{"$error":"#DIV/0!"}},{"$f":"ROUND(O131/O$72,4)*100","v":{"$error":"#DIV/0!"}},{"$f":"ROUND(P131/P$72,4)*100","v":{"$error":"#DIV/0!"}},{"$f":"ROUND(Q131/Q$72,4)*100","v":{"$error":"#DIV/0!"}},{"$f":"ROUND(R131/R$72,4)*100","v":{"$error":"#DIV/0!"}},{"$f":"ROUND(S131/S$72,4)*100","v":{"$error":"#DIV/0!"}},{"$f":"ROUND(T131/T$72,4)*100","v":{"$error":"#DIV/0!"}},null,null,null,null,null,null,null,null,null,null,null,null,null,null,{"$f":"ROUND(AI131/AI$72,4)*100","v":{"$error":"#DIV/0!"}},{"$f":"ROUND(AJ131/AJ$72,4)*100","v":{"$error":"#DIV/0!"}},{"$f":"ROUND(AK131/AK$72,4)*100","v":{"$error":"#DIV/0!"}},{"$f":"ROUND(AL131/AL$72,4)*100","v":{"$error":"#DIV/0!"}},{"$f":"ROUND(AM131/AM$72,4)*100","v":{"$error":"#DIV/0!"}},{"$f":"ROUND(AN131/AN$72,4)*100","v":{"$error":"#DIV/0!"}},{"$f":"ROUND(AO131/AO$72,4)*100","v":{"$error":"#DIV/0!"}},{"$f":"ROUND(AP131/AP$72,4)*100","v":{"$error":"#DIV/0!"}},{"$f":"ROUND(AQ131/AQ$72,4)*100","v":{"$error":"#DIV/0!"}},{"$f":"ROUND(AR131/AR$72,4)*100","v":{"$error":"#DIV/0!"}},{"$f":"ROUND(AS131/AS$72,4)*100","v":{"$error":"#DIV/0!"}},{"$f":"ROUND(AT131/AT$72,4)*100","v":{"$error":"#DIV/0!"}},{"$f":"ROUND(AU131/AU$72,4)*100","v":{"$error":"#DIV/0!"}},{"$f":"ROUND(AV131/AV$72,4)*100","v":{"$error":"#DIV/0!"}},null,null,null,null,null,null,null,null,null,null,null,null,null,null,{"$f":"ROUND(BK131/BK$72,4)*100","v":{"$error":"#DIV/0!"}},{"$f":"ROUND(BL131/BL$72,4)*100","v":{"$error":"#DIV/0!"}},{"$f":"ROUND(BM131/BM$72,4)*100","v":{"$error":"#DIV/0!"}},{"$f":"ROUND(BN131/BN$72,4)*100","v":{"$error":"#DIV/0!"}},{"$f":"ROUND(BO131/BO$72,4)*100","v":{"$error":"#DIV/0!"}},{"$f":"ROUND(BP131/BP$72,4)*100","v":{"$error":"#DIV/0!"}},{"$f":"ROUND(BQ131/BQ$72,4)*100","v":{"$error":"#DIV/0!"}},{"$f":"ROUND(BR131/BR$72,4)*100","v":{"$error":"#DIV/0!"}},{"$f":"ROUND(BS131/BS$72,4)*100","v":{"$error":"#DIV/0!"}},{"$f":"ROUND(BT131/BT$72,4)*100","v":{"$error":"#DIV/0!"}},{"$f":"ROUND(BU131/BU$72,4)*100","v":{"$error":"#DIV/0!"}},{"$f":"ROUND(BV131/BV$72,4)*100","v":{"$error":"#DIV/0!"}},{"$f":"ROUND(BW131/BW$72,4)*100","v":{"$error":"#DIV/0!"}},{"$f":"ROUND(BX131/BX$72,4)*100","v":{"$error":"#DIV/0!"}}]
[null,null,null,"計",null,null,{"$f":"SUM(G128:G131)","v":0},{"$f":"SUM(H128:H131)","v":0},{"$f":"SUM(I128:I131)","v":0},{"$f":"SUM(J128:J131)","v":0},{"$f":"SUM(K128:K131)","v":0},{"$f":"SUM(L128:L131)","v":0},{"$f":"SUM(M128:M131)","v":0},{"$f":"SUM(N128:N131)","v":0},{"$f":"SUM(O128:O131)","v":0},{"$f":"SUM(P128:P131)","v":0},{"$f":"SUM(Q128:Q131)","v":0},{"$f":"SUM(R128:R131)","v":0},{"$f":"SUM(S128:S131)","v":0},{"$f":"SUM(T128:T131)","v":0},{"$f":"SUM(U128:U131)","v":{"$error":"#DIV/0!"}},{"$f":"SUM(V128:V131)","v":{"$error":"#DIV/0!"}},{"$f":"SUM(W128:W131)","v":{"$error":"#DIV/0!"}},{"$f":"SUM(X128:X131)","v":{"$error":"#DIV/0!"}},{"$f":"SUM(Y128:Y131)","v":{"$error":"#DIV/0!"}},{"$f":"SUM(Z128:Z131)","v":{"$error":"#DIV/0!"}},{"$error":"#DIV/0!"},{"$f":"SUM(AB128:AB131)","v":{"$error":"#DIV/0!"}},{"$f":"SUM(AC128:AC131)","v":{"$error":"#DIV/0!"}},{"$f":"SUM(AD128:AD131)","v":{"$error":"#DIV/0!"}},{"$f":"SUM(AE128:AE131)","v":{"$error":"#DIV/0!"}},{"$f":"SUM(AF128:AF131)","v":{"$error":"#DIV/0!"}},{"$f":"SUM(AG128:AG131)","v":{"$error":"#DIV/0!"}},{"$error":"#DIV/0!"},{"$f":"SUM(AI128:AI131)","v":0},{"$f":"SUM(AJ128:AJ131)","v":0},{"$f":"SUM(AK128:AK131)","v":0},{"$f":"SUM(AL128:AL131)","v":0},{"$f":"SUM(AM128:AM131)","v":0},{"$f":"SUM(AN128:AN131)","v":0},{"$f":"SUM(AO128:AO131)","v":0},{"$f":"SUM(AP128:AP131)","v":0},{"$f":"SUM(AQ128:AQ131)","v":0},{"$f":"SUM(AR128:AR131)","v":0},{"$f":"SUM(AS128:AS131)","v":0},{"$f":"SUM(AT128:AT131)","v":0},{"$f":"SUM(AU128:AU131)","v":0},{"$f":"SUM(AV128:AV131)","v":0},{"$error":"#DIV/0!"},{"$error":"#DIV/0!"},{"$error":"#DIV/0!"},{"$error":"#DIV/0!"},{"$error":"#DIV/0!"},{"$error":"#DIV/0!"},{"$error":"#DIV/0!"},{"$error":"#DIV/0!"},{"$error":"#DIV/0!"},{"$error":"#DIV/0!"},{"$error":"#DIV/0!"},{"$error":"#DIV/0!"},{"$error":"#DIV/0!"},{"$error":"#DIV/0!"},{"$f":"SUM(BK128:BK131)","v":0},{"$f":"SUM(BL128:BL131)","v":0},{"$f":"SUM(BM128:BM131)","v":0},{"$f":"SUM(BN128:BN131)","v":0},{"$f":"SUM(BO128:BO131)","v":0},{"$f":"SUM(BP128:BP131)","v":0},{"$f":"SUM(BQ128:BQ131)","v":0},{"$f":"SUM(BR128:BR131)","v":0},{"$f":"SUM(BS128:BS131)","v":0},{"$f":"SUM(BT128:BT131)","v":0},{"$f":"SUM(BU128:BU131)","v":0},{"$f":"SUM(BV128:BV131)","v":0},{"$f":"SUM(BW128:BW131)","v":0},{"$f":"SUM(BX128:BX131)","v":0},{"$error":"#DIV/0!"},{"$error":"#DIV/0!"},{"$error":"#DIV/0!"},{"$error":"#DIV/0!"},{"$error":"#DIV/0!"},{"$error":"#DIV/0!"},{"$error":"#DIV/0!"},{"$error":"#DIV/0!"},{"$error":"#DIV/0!"},{"$error":"#DIV/0!"},{"$error":"#DIV/0!"},{"$error":"#DIV/0!"},{"$error":"#DIV/0!"},{"$error":"#DIV/0!"}]
[null,"24\n（25）","インターネットをしたとしても、計画したことはきちんとおこなう。",1,"全くあてはまらない",4,{"$f":"問題別集計!G109+問題別集計!G110","v":0},{"$f":"問題別集計!H109+問題別集計!H110","v":0},{"$f":"問題別集計!I109+問題別集計!I110","v":0},{"$f":"問題別集計!J109+問題別集計!J110","v":0},{"$f":"問題別集計!K109+問題別集計!K110","v":0},{"$f":"問題別集計!L109+問題別集計!L110","v":0},{"$f":"問題別集計!M109+問題別集計!M110","v":0},{"$f":"問題別集計!N109+問題別集計!N110","v":0},{"$f":"問題別集計!O109+問題別集計!O110","v":0},{"$f":"問題別集計!P109+問題別集計!P110","v":0},{"$f":"問題別集計!Q109+問題別集計!Q110","v":0},{"$f":"問題別集計!R109+問題別集計!R110","v":0},{"$f":"問題別集計!S109+問題別集計!S110","v":0},{"$f":"問題別集計!T109+問題別集計!T110","v":0},{"$f":"ROUND(G133/G137,3)*100","v":{"$error":"#DIV/0!"}},{"$error":"#DIV/0!"},{"$error":"#DIV/0!"},{"$error":"#DIV/0!"},{"$error":"#DIV/0!"},{"$error":"#DIV/0!"},{"$error":"#DIV/0!"},{"$error":"#DIV/0!"},{"$error":"#DIV/0!"},{"$error":"#DIV/0!"},{"$error":"#DIV/0!"},{"$error":"#DIV/0!"},{"$error":"#DIV/0!"},{"$f":"ROUND(T133/T$122,4)*100","v":{"$error":"#DIV/0!"}},{"$f":"SUM(問題別集計③!G109:G110)","v":0},{"$f":"SUM(問題別集計③!H109:H110)","v":0},{"$f":"SUM(問題別集計③!I109:I110)","v":0},{"$f":"SUM(問題別集計③!J109:J110)","v":0},{"$f":"SUM(問題別集計③!K109:K110)","v":0},{"$f":"SUM(問題別集計③!L109:L110)","v":0},{"$f":"SUM(問題別集計③!M109:M110)","v":0},{"$f":"SUM(問題別集計③!N109:N110)","v":0},{"$f":"SUM(問題別集計③!O109:O110)","v":0},{"$f":"SUM(問題別集計③!P109:P110)","v":0},{"$f":"SUM(問題別集計③!Q109:Q110)","v":0},{"$f":"SUM(問題別集計③!R109:R110)","v":0},{"$f":"SUM(問題別集計③!S109:S110)","v":0},{"$f":"SUM(問題別集計③!T109:T110)","v":0},{"$f":"ROUND(AI133/AI137,3)*100","v":{"$error":"#DIV/0!"}},{"$error":"#DIV/0!"},{"$error":"#DIV/0!"},{"$error":"#DIV/0!"},{"$error":"#DIV/0!"},{"$error":"#DIV/0!"},{"$error":"#DIV/0!"},{"$error":"#DIV/0!"},{"$error":"#DIV/0!"},{"$error":"#DIV/0!"},{"$error":"#DIV/0!"},{"$error":"#DIV/0!"},{"$error":"#DIV/0!"},{"$f":"ROUND(AV133/AV$122,4)*100","v":{"$error":"#DIV/0!"}},{"$f":"SUM(問題別集計②!G109:G110)","v":0},{"$f":"SUM(問題別集計②!H109:H110)","v":0},{"$f":"SUM(問題別集計②!I109:I110)","v":0},{"$f":"SUM(問題別集計②!J109:J110)","v":0},{"$f":"SUM(問題別集計②!K109:K110)","v":0},{"$f":"SUM(問題別集計②!L109:L110)","v":0},{"$f":"SUM(問題別集計②!M109:M110)","v":0},{"$f":"SUM(問題別集計②!N109:N110)","v":0},{"$f":"SUM(問題別集計②!O109:O110)","v":0},{"$f":"SUM(問題別集計②!P109:P110)","v":0},{"$f":"SUM(問題別集計②!Q109:Q110)","v":0},{"$f":"SUM(問題別集計②!R109:R110)","v":0},{"$f":"SUM(問題別集計②!S109:S110)","v":0},{"$f":"SUM(問題別集計②!T109:T110)","v":0},{"$f":"ROUND(BK133/BK137,3)*100","v":{"$error":"#DIV/0!"}},{"$error":"#DIV/0!"},{"$error":"#DIV/0!"},{"$error":"#DIV/0!"},{"$error":"#DIV/0!"},{"$error":"#DIV/0!"},{"$error":"#DIV/0!"},{"$error":"#DIV/0!"},{"$error":"#DIV/0!"},{"$error":"#DIV/0!"},{"$error":"#DIV/0!"},{"$error":"#DIV/0!"},{"$error":"#DIV/0!"},{"$f":"ROUND(BX133/BX$122,4)*100","v":{"$error":"#DIV/0!"}}]
[null,null,null,2,"あてはまらない",3,null,null,null,null,null,null,null,null,null,null,null,null,null,null,{"$f":"ROUND(G134/G$72,4)*100","v":{"$error":"#DIV/0!"}},{"$f":"ROUND(H134/H$72,4)*100","v":{"$error":"#DIV/0!"}},{"$f":"ROUND(I134/I$72,4)*100","v":{"$error":"#DIV/0!"}},{"$f":"ROUND(J134/J$72,4)*100","v":{"$error":"#DIV/0!"}},{"$f":"ROUND(K134/K$72,4)*100","v":{"$error":"#DIV/0!"}},{"$f":"ROUND(L134/L$72,4)*100","v":{"$error":"#DIV/0!"}},{"$f":"ROUND(M134/M$72,4)*100","v":{"$error":"#DIV/0!"}},{"$f":"ROUND(N134/N$72,4)*100","v":{"$error":"#DIV/0!"}},{"$f":"ROUND(O134/O$72,4)*100","v":{"$error":"#DIV/0!"}},{"$f":"ROUND(P134/P$72,4)*100","v":{"$error":"#DIV/0!"}},{"$f":"ROUND(Q134/Q$72,4)*100","v":{"$error":"#DIV/0!"}},{"$f":"ROUND(R134/R$72,4)*100","v":{"$error":"#DIV/0!"}},{"$f":"ROUND(S134/S$72,4)*100","v":{"$error":"#DIV/0!"}},{"$f":"ROUND(T134/T$72,4)*100","v":{"$error":"#DIV/0!"}},null,null,null,null,null,null,null,null,null,null,null,null,null,null,{"$f":"ROUND(AI134/AI$72,4)*100","v":{"$error":"#DIV/0!"}},{"$f":"ROUND(AJ134/AJ$72,4)*100","v":{"$error":"#DIV/0!"}},{"$f":"ROUND(AK134/AK$72,4)*100","v":{"$error":"#DIV/0!"}},{"$f":"ROUND(AL134/AL$72,4)*100","v":{"$error":"#DIV/0!"}},{"$f":"ROUND(AM134/AM$72,4)*100","v":{"$error":"#DIV/0!"}},{"$f":"ROUND(AN134/AN$72,4)*100","v":{"$error":"#DIV/0!"}},{"$f":"ROUND(AO134/AO$72,4)*100","v":{"$error":"#DIV/0!"}},{"$f":"ROUND(AP134/AP$72,4)*100","v":{"$error":"#DIV/0!"}},{"$f":"ROUND(AQ134/AQ$72,4)*100","v":{"$error":"#DIV/0!"}},{"$f":"ROUND(AR134/AR$72,4)*100","v":{"$error":"#DIV/0!"}},{"$f":"ROUND(AS134/AS$72,4)*100","v":{"$error":"#DIV/0!"}},{"$f":"ROUND(AT134/AT$72,4)*100","v":{"$error":"#DIV/0!"}},{"$f":"ROUND(AU134/AU$72,4)*100","v":{"$error":"#DIV/0!"}},{"$f":"ROUND(AV134/AV$72,4)*100","v":{"$error":"#DIV/0!"}},null,null,null,null,null,null,null,null,null,null,null,null,null,null,{"$f":"ROUND(BK134/BK$72,4)*100","v":{"$error":"#DIV/0!"}},{"$f":"ROUND(BL134/BL$72,4)*100","v":{"$error":"#DIV/0!"}},{"$f":"ROUND(BM134/BM$72,4)*100","v":{"$error":"#DIV/0!"}},{"$f":"ROUND(BN134/BN$72,4)*100","v":{"$error":"#DIV/0!"}},{"$f":"ROUND(BO134/BO$72,4)*100","v":{"$error":"#DIV/0!"}},{"$f":"ROUND(BP134/BP$72,4)*100","v":{"$error":"#DIV/0!"}},{"$f":"ROUND(BQ134/BQ$72,4)*100","v":{"$error":"#DIV/0!"}},{"$f":"ROUND(BR134/BR$72,4)*100","v":{"$error":"#DIV/0!"}},{"$f":"ROUND(BS134/BS$72,4)*100","v":{"$error":"#DIV/0!"}},{"$f":"ROUND(BT134/BT$72,4)*100","v":{"$error":"#DIV/0!"}},{"$f":"ROUND(BU134/BU$72,4)*100","v":{"$error":"#DIV/0!"}},{"$f":"ROUND(BV134/BV$72,4)*100","v":{"$error":"#DIV/0!"}},{"$f":"ROUND(BW134/BW$72,4)*100","v":{"$error":"#DIV/0!"}},{"$f":"ROUND(BX134/BX$72,4)*100","v":{"$error":"#DIV/0!"}}]
[null,null,null,3,"あてはまる",2,{"$f":"問題別集計!G111+問題別集計!G112","v":0},{"$f":"問題別集計!H111+問題別集計!H112","v":0},{"$f":"問題別集計!I111+問題別集計!I112","v":0},{"$f":"問題別集計!J111+問題別集計!J112","v":0},{"$f":"問題別集計!K111+問題別集計!K112","v":0},{"$f":"問題別集計!L111+問題別集計!L112","v":0},{"$f":"問題別集計!M111+問題別集計!M112","v":0},{"$f":"問題別集計!N111+問題別集計!N112","v":0},{"$f":"問題別集計!O111+問題別集計!O112","v":0},{"$f":"問題別集計!P111+問題別集計!P112","v":0},{"$f":"問題別集計!Q111+問題別集計!Q112","v":0},{"$f":"問題別集計!R111+問題別集計!R112","v":0},{"$f":"問題別集計!S111+問題別集計!S112","v":0},{"$f":"問題別集計!T111+問題別集計!T112","v":0},{"$f":"ROUND(G135/G137,3)*100","v":{"$error":"#DIV/0!"}},{"$error":"#DIV/0!"},{"$error":"#DIV/0!"},{"$error":"#DIV/0!"},{"$error":"#DIV/0!"},{"$error":"#DIV/0!"},{"$error":"#DIV/0!"},{"$error":"#DIV/0!"},{"$error":"#DIV/0!"},{"$error":"#DIV/0!"},{"$error":"#DIV/0!"},{"$error":"#DIV/0!"},{"$error":"#DIV/0!"},{"$f":"ROUND(T135/T$122,4)*100","v":{"$error":"#DIV/0!"}},{"$f":"SUM(問題別集計③!G111:G112)","v":0},{"$f":"SUM(問題別集計③!H111:H112)","v":0},{"$f":"SUM(問題別集計③!I111:I112)","v":0},{"$f":"SUM(問題別集計③!J111:J112)","v":0},{"$f":"SUM(問題別集計③!K111:K112)","v":0},{"$f":"SUM(問題別集計③!L111:L112)","v":0},{"$f":"SUM(問題別集計③!M111:M112)","v":0},{"$f":"SUM(問題別集計③!N111:N112)","v":0},{"$f":"SUM(問題別集計③!O111:O112)","v":0},{"$f":"SUM(問題別集計③!P111:P112)","v":0},{"$f":"SUM(問題別集計③!Q111:Q112)","v":0},{"$f":"SUM(問題別集計③!R111:R112)","v":0},{"$f":"SUM(問題別集計③!S111:S112)","v":0},{"$f":"SUM(問題別集計③!T111:T112)","v":0},{"$f":"ROUND(AI135/AI137,3)*100","v":{"$error":"#DIV/0!"}},{"$error":"#DIV/0!"},{"$error":"#DIV/0!"},{"$error":"#DIV/0!"},{"$error":"#DIV/0!"},{"$error":"#DIV/0!"},{"$error":"#DIV/0!"},{"$error":"#DIV/0!"},{"$error":"#DIV/0!"},{"$error":"#DIV/0!"},{"$error":"#DIV/0!"},{"$error":"#DIV/0!"},{"$error":"#DIV/0!"},{"$f":"ROUND(AV135/AV$122,4)*100","v":{"$error":"#DIV/0!"}},{"$f":"SUM(問題別集計②!G111:G112)","v":0},{"$f":"SUM(問題別集計②!H111:H112)","v":0},{"$f":"SUM(問題別集計②!I111:I112)","v":0},{"$f":"SUM(問題別集計②!J111:J112)","v":0},{"$f":"SUM(問題別集計②!K111:K112)","v":0},{"$f":"SUM(問題別集計②!L111:L112)","v":0},{"$f":"SUM(問題別集計②!M111:M112)","v":0},{"$f":"SUM(問題別集計②!N111:N112)","v":0},{"$f":"SUM(問題別集計②!O111:O112)","v":0},{"$f":"SUM(問題別集計②!P111:P112)","v":0},{"$f":"SUM(問題別集計②!Q111:Q112)","v":0},{"$f":"SUM(問題別集計②!R111:R112)","v":0},{"$f":"SUM(問題別集計②!S111:S112)","v":0},{"$f":"SUM(問題別集計②!T111:T112)","v":0},{"$f":"ROUND(BK135/BK137,3)*100","v":{"$error":"#DIV/0!"}},{"$error":"#DIV/0!"},{"$error":"#DIV/0!"},{"$error":"#DIV/0!"},{"$error":"#DIV/0!"},{"$error":"#DIV/0!"},{"$error":"#DIV/0!"},{"$error":"#DIV/0!"},{"$error":"#DIV/0!"},{"$error":"#DIV/0!"},{"$error":"#DIV/0!"},{"$error":"#DIV/0!"},{"$error":"#DIV/0!"},{"$f":"ROUND(BX135/BX$122,4)*100","v":{"$error":"#DIV/0!"}}]
[null,null,null,4,"非常にあてはまる",1,null,null,null,null,null,null,null,null,null,null,null,null,null,null,{"$f":"ROUND(G136/G$72,4)*100","v":{"$error":"#DIV/0!"}},{"$f":"ROUND(H136/H$72,4)*100","v":{"$error":"#DIV/0!"}},{"$f":"ROUND(I136/I$72,4)*100","v":{"$error":"#DIV/0!"}},{"$f":"ROUND(J136/J$72,4)*100","v":{"$error":"#DIV/0!"}},{"$f":"ROUND(K136/K$72,4)*100","v":{"$error":"#DIV/0!"}},{"$f":"ROUND(L136/L$72,4)*100","v":{"$error":"#DIV/0!"}},{"$f":"ROUND(M136/M$72,4)*100","v":{"$error":"#DIV/0!"}},{"$f":"ROUND(N136/N$72,4)*100","v":{"$error":"#DIV/0!"}},{"$f":"ROUND(O136/O$72,4)*100","v":{"$error":"#DIV/0!"}},{"$f":"ROUND(P136/P$72,4)*100","v":{"$error":"#DIV/0!"}},{"$f":"ROUND(Q136/Q$72,4)*100","v":{"$error":"#DIV/0!"}},{"$f":"ROUND(R136/R$72,4)*100","v":{"$error":"#DIV/0!"}},{"$f":"ROUND(S136/S$72,4)*100","v":{"$error":"#DIV/0!"}},{"$f":"ROUND(T136/T$72,4)*100","v":{"$error":"#DIV/0!"}},null,null,null,null,null,null,null,null,null,null,null,null,null,null,{"$f":"ROUND(AI136/AI$72,4)*100","v":{"$error":"#DIV/0!"}},{"$f":"ROUND(AJ136/AJ$72,4)*100","v":{"$error":"#DIV/0!"}},{"$f":"ROUND(AK136/AK$72,4)*100","v":{"$error":"#DIV/0!"}},{"$f":"ROUND(AL136/AL$72,4)*100","v":{"$error":"#DIV/0!"}},{"$f":"ROUND(AM136/AM$72,4)*100","v":{"$error":"#DIV/0!"}},{"$f":"ROUND(AN136/AN$72,4)*100","v":{"$error":"#DIV/0!"}},{"$f":"ROUND(AO136/AO$72,4)*100","v":{"$error":"#DIV/0!"}},{"$f":"ROUND(AP136/AP$72,4)*100","v":{"$error":"#DIV/0!"}},{"$f":"ROUND(AQ136/AQ$72,4)*100","v":{"$error":"#DIV/0!"}},{"$f":"ROUND(AR136/AR$72,4)*100","v":{"$error":"#DIV/0!"}},{"$f":"ROUND(AS136/AS$72,4)*100","v":{"$error":"#DIV/0!"}},{"$f":"ROUND(AT136/AT$72,4)*100","v":{"$error":"#DIV/0!"}},{"$f":"ROUND(AU136/AU$72,4)*100","v":{"$error":"#DIV/0!"}},{"$f":"ROUND(AV136/AV$72,4)*100","v":{"$error":"#DIV/0!"}},null,null,null,null,null,null,null,null,null,null,null,null,null,null,{"$f":"ROUND(BK136/BK$72,4)*100","v":{"$error":"#DIV/0!"}},{"$f":"ROUND(BL136/BL$72,4)*100","v":{"$error":"#DIV/0!"}},{"$f":"ROUND(BM136/BM$72,4)*100","v":{"$error":"#DIV/0!"}},{"$f":"ROUND(BN136/BN$72,4)*100","v":{"$error":"#DIV/0!"}},{"$f":"ROUND(BO136/BO$72,4)*100","v":{"$error":"#DIV/0!"}},{"$f":"ROUND(BP136/BP$72,4)*100","v":{"$error":"#DIV/0!"}},{"$f":"ROUND(BQ136/BQ$72,4)*100","v":{"$error":"#DIV/0!"}},{"$f":"ROUND(BR136/BR$72,4)*100","v":{"$error":"#DIV/0!"}},{"$f":"ROUND(BS136/BS$72,4)*100","v":{"$error":"#DIV/0!"}},{"$f":"ROUND(BT136/BT$72,4)*100","v":{"$error":"#DIV/0!"}},{"$f":"ROUND(BU136/BU$72,4)*100","v":{"$error":"#DIV/0!"}},{"$f":"ROUND(BV136/BV$72,4)*100","v":{"$error":"#DIV/0!"}},{"$f":"ROUND(BW136/BW$72,4)*100","v":{"$error":"#DIV/0!"}},{"$f":"ROUND(BX136/BX$72,4)*100","v":{"$error":"#DIV/0!"}}]
[null,null,null,"計",null,null,{"$f":"SUM(G133:G136)","v":0},{"$f":"SUM(H133:H136)","v":0},{"$f":"SUM(I133:I136)","v":0},{"$f":"SUM(J133:J136)","v":0},{"$f":"SUM(K133:K136)","v":0},{"$f":"SUM(L133:L136)","v":0},{"$f":"SUM(M133:M136)","v":0},{"$f":"SUM(N133:N136)","v":0},{"$f":"SUM(O133:O136)","v":0},{"$f":"SUM(P133:P136)","v":0},{"$f":"SUM(Q133:Q136)","v":0},{"$f":"SUM(R133:R136)","v":0},{"$f":"SUM(S133:S136)","v":0},{"$f":"SUM(T133:T136)","v":0},{"$f":"SUM(U133:U136)","v":{"$error":"#DIV/0!"}},{"$f":"SUM(V133:V136)","v":{"$error":"#DIV/0!"}},{"$f":"SUM(W133:W136)","v":{"$error":"#DIV/0!"}},{"$f":"SUM(X133:X136)","v":{"$error":"#DIV/0!"}},{"$f":"SUM(Y133:Y136)","v":{"$error":"#DIV/0!"}},{"$f":"SUM(Z133:Z136)","v":{"$error":"#DIV/0!"}},{"$error":"#DIV/0!"},{"$f":"SUM(AB133:AB136)","v":{"$error":"#DIV/0!"}},{"$f":"SUM(AC133:AC136)","v":{"$error":"#DIV/0!"}},{"$f":"SUM(AD133:AD136)","v":{"$error":"#DIV/0!"}},{"$f":"SUM(AE133:AE136)","v":{"$error":"#DIV/0!"}},{"$f":"SUM(AF133:AF136)","v":{"$error":"#DIV/0!"}},{"$f":"SUM(AG133:AG136)","v":{"$error":"#DIV/0!"}},{"$error":"#DIV/0!"},{"$f":"SUM(AI133:AI136)","v":0},{"$f":"SUM(AJ133:AJ136)","v":0},{"$f":"SUM(AK133:AK136)","v":0},{"$f":"SUM(AL133:AL136)","v":0},{"$f":"SUM(AM133:AM136)","v":0},{"$f":"SUM(AN133:AN136)","v":0},{"$f":"SUM(AO133:AO136)","v":0},{"$f":"SUM(AP133:AP136)","v":0},{"$f":"SUM(AQ133:AQ136)","v":0},{"$f":"SUM(AR133:AR136)","v":0},{"$f":"SUM(AS133:AS136)","v":0},{"$f":"SUM(AT133:AT136)","v":0},{"$f":"SUM(AU133:AU136)","v":0},{"$f":"SUM(AV133:AV136)","v":0},{"$error":"#DIV/0!"},{"$error":"#DIV/0!"},{"$error":"#DIV/0!"},{"$error":"#DIV/0!"},{"$error":"#DIV/0!"},{"$error":"#DIV/0!"},{"$error":"#DIV/0!"},{"$error":"#DIV/0!"},{"$error":"#DIV/0!"},{"$error":"#DIV/0!"},{"$error":"#DIV/0!"},{"$error":"#DIV/0!"},{"$error":"#DIV/0!"},{"$error":"#DIV/0!"},{"$f":"SUM(BK133:BK136)","v":0},{"$f":"SUM(BL133:BL136)","v":0},{"$f":"SUM(BM133:BM136)","v":0},{"$f":"SUM(BN133:BN136)","v":0},{"$f":"SUM(BO133:BO136)","v":0},{"$f":"SUM(BP133:BP136)","v":0},{"$f":"SUM(BQ133:BQ136)","v":0},{"$f":"SUM(BR133:BR136)","v":0},{"$f":"SUM(BS133:BS136)","v":0},{"$f":"SUM(BT133:BT136)","v":0},{"$f":"SUM(BU133:BU136)","v":0},{"$f":"SUM(BV133:BV136)","v":0},{"$f":"SUM(BW133:BW136)","v":0},{"$f":"SUM(BX133:BX136)","v":0},{"$error":"#DIV/0!"},{"$error":"#DIV/0!"},{"$error":"#DIV/0!"},{"$error":"#DIV/0!"},{"$error":"#DIV/0!"},{"$error":"#DIV/0!"},{"$error":"#DIV/0!"},{"$error":"#DIV/0!"},{"$error":"#DIV/0!"},{"$error":"#DIV/0!"},{"$error":"#DIV/0!"},{"$error":"#DIV/0!"},{"$error":"#DIV/0!"},{"$error":"#DIV/0!"}]
[null,"25\n（26）","インターネットができなくても、不安ではない。",1,"全くあてはまらない",4,{"$f":"問題別集計!G113+問題別集計!G114","v":0},{"$f":"問題別集計!H113+問題別集計!H114","v":0},{"$f":"問題別集計!I113+問題別集計!I114","v":0},{"$f":"問題別集計!J113+問題別集計!J114","v":0},{"$f":"問題別集計!K113+問題別集計!K114","v":0},{"$f":"問題別集計!L113+問題別集計!L114","v":0},{"$f":"問題別集計!M113+問題別集計!M114","v":0},{"$f":"問題別集計!N113+問題別集計!N114","v":0},{"$f":"問題別集計!O113+問題別集計!O114","v":0},{"$f":"問題別集計!P113+問題別集計!P114","v":0},{"$f":"問題別集計!Q113+問題別集計!Q114","v":0},{"$f":"問題別集計!R113+問題別集計!R114","v":0},{"$f":"問題別集計!S113+問題別集計!S114","v":0},{"$f":"問題別集計!T113+問題別集計!T114","v":0},{"$f":"ROUND(G138/G142,3)*100","v":{"$error":"#DIV/0!"}},{"$error":"#DIV/0!"},{"$error":"#DIV/0!"},{"$error":"#DIV/0!"},{"$error":"#DIV/0!"},{"$error":"#DIV/0!"},{"$error":"#DIV/0!"},{"$error":"#DIV/0!"},{"$error":"#DIV/0!"},{"$error":"#DIV/0!"},{"$error":"#DIV/0!"},{"$error":"#DIV/0!"},{"$error":"#DIV/0!"},{"$f":"ROUND(T138/T$122,4)*100","v":{"$error":"#DIV/0!"}},{"$f":"SUM(問題別集計③!G113:G114)","v":0},{"$f":"SUM(問題別集計③!H113:H114)","v":0},{"$f":"SUM(問題別集計③!I113:I114)","v":0},{"$f":"SUM(問題別集計③!J113:J114)","v":0},{"$f":"SUM(問題別集計③!K113:K114)","v":0},{"$f":"SUM(問題別集計③!L113:L114)","v":0},{"$f":"SUM(問題別集計③!M113:M114)","v":0},{"$f":"SUM(問題別集計③!N113:N114)","v":0},{"$f":"SUM(問題別集計③!O113:O114)","v":0},{"$f":"SUM(問題別集計③!P113:P114)","v":0},{"$f":"SUM(問題別集計③!Q113:Q114)","v":0},{"$f":"SUM(問題別集計③!R113:R114)","v":0},{"$f":"SUM(問題別集計③!S113:S114)","v":0},{"$f":"SUM(問題別集計③!T113:T114)","v":0},{"$f":"ROUND(AI138/AI142,3)*100","v":{"$error":"#DIV/0!"}},{"$error":"#DIV/0!"},{"$error":"#DIV/0!"},{"$error":"#DIV/0!"},{"$error":"#DIV/0!"},{"$error":"#DIV/0!"},{"$error":"#DIV/0!"},{"$error":"#DIV/0!"},{"$error":"#DIV/0!"},{"$error":"#DIV/0!"},{"$error":"#DIV/0!"},{"$error":"#DIV/0!"},{"$error":"#DIV/0!"},{"$f":"ROUND(AV138/AV$122,4)*100","v":{"$error":"#DIV/0!"}},{"$f":"SUM(問題別集計②!G113:G114)","v":0},{"$f":"SUM(問題別集計②!H113:H114)","v":0},{"$f":"SUM(問題別集計②!I113:I114)","v":0},{"$f":"SUM(問題別集計②!J113:J114)","v":0},{"$f":"SUM(問題別集計②!K113:K114)","v":0},{"$f":"SUM(問題別集計②!L113:L114)","v":0},{"$f":"SUM(問題別集計②!M113:M114)","v":0},{"$f":"SUM(問題別集計②!N113:N114)","v":0},{"$f":"SUM(問題別集計②!O113:O114)","v":0},{"$f":"SUM(問題別集計②!P113:P114)","v":0},{"$f":"SUM(問題別集計②!Q113:Q114)","v":0},{"$f":"SUM(問題別集計②!R113:R114)","v":0},{"$f":"SUM(問題別集計②!S113:S114)","v":0},{"$f":"SUM(問題別集計②!T113:T114)","v":0},{"$f":"ROUND(BK138/BK142,3)*100","v":{"$error":"#DIV/0!"}},{"$error":"#DIV/0!"},{"$error":"#DIV/0!"},{"$error":"#DIV/0!"},{"$error":"#DIV/0!"},{"$error":"#DIV/0!"},{"$error":"#DIV/0!"},{"$error":"#DIV/0!"},{"$error":"#DIV/0!"},{"$error":"#DIV/0!"},{"$error":"#DIV/0!"},{"$error":"#DIV/0!"},{"$error":"#DIV/0!"},{"$f":"ROUND(BX138/BX$122,4)*100","v":{"$error":"#DIV/0!"}}]
[null,null,null,2,"あてはまらない",3,null,null,null,null,null,null,null,null,null,null,null,null,null,null,{"$f":"ROUND(G139/G$72,4)*100","v":{"$error":"#DIV/0!"}},{"$f":"ROUND(H139/H$72,4)*100","v":{"$error":"#DIV/0!"}},{"$f":"ROUND(I139/I$72,4)*100","v":{"$error":"#DIV/0!"}},{"$f":"ROUND(J139/J$72,4)*100","v":{"$error":"#DIV/0!"}},{"$f":"ROUND(K139/K$72,4)*100","v":{"$error":"#DIV/0!"}},{"$f":"ROUND(L139/L$72,4)*100","v":{"$error":"#DIV/0!"}},{"$f":"ROUND(M139/M$72,4)*100","v":{"$error":"#DIV/0!"}},{"$f":"ROUND(N139/N$72,4)*100","v":{"$error":"#DIV/0!"}},{"$f":"ROUND(O139/O$72,4)*100","v":{"$error":"#DIV/0!"}},{"$f":"ROUND(P139/P$72,4)*100","v":{"$error":"#DIV/0!"}},{"$f":"ROUND(Q139/Q$72,4)*100","v":{"$error":"#DIV/0!"}},{"$f":"ROUND(R139/R$72,4)*100","v":{"$error":"#DIV/0!"}},{"$f":"ROUND(S139/S$72,4)*100","v":{"$error":"#DIV/0!"}},{"$f":"ROUND(T139/T$72,4)*100","v":{"$error":"#DIV/0!"}},null,null,null,null,null,null,null,null,null,null,null,null,null,null,{"$f":"ROUND(AI139/AI$72,4)*100","v":{"$error":"#DIV/0!"}},{"$f":"ROUND(AJ139/AJ$72,4)*100","v":{"$error":"#DIV/0!"}},{"$f":"ROUND(AK139/AK$72,4)*100","v":{"$error":"#DIV/0!"}},{"$f":"ROUND(AL139/AL$72,4)*100","v":{"$error":"#DIV/0!"}},{"$f":"ROUND(AM139/AM$72,4)*100","v":{"$error":"#DIV/0!"}},{"$f":"ROUND(AN139/AN$72,4)*100","v":{"$error":"#DIV/0!"}},{"$f":"ROUND(AO139/AO$72,4)*100","v":{"$error":"#DIV/0!"}},{"$f":"ROUND(AP139/AP$72,4)*100","v":{"$error":"#DIV/0!"}},{"$f":"ROUND(AQ139/AQ$72,4)*100","v":{"$error":"#DIV/0!"}},{"$f":"ROUND(AR139/AR$72,4)*100","v":{"$error":"#DIV/0!"}},{"$f":"ROUND(AS139/AS$72,4)*100","v":{"$error":"#DIV/0!"}},{"$f":"ROUND(AT139/AT$72,4)*100","v":{"$error":"#DIV/0!"}},{"$f":"ROUND(AU139/AU$72,4)*100","v":{"$error":"#DIV/0!"}},{"$f":"ROUND(AV139/AV$72,4)*100","v":{"$error":"#DIV/0!"}},null,null,null,null,null,null,null,null,null,null,null,null,null,null,{"$f":"ROUND(BK139/BK$72,4)*100","v":{"$error":"#DIV/0!"}},{"$f":"ROUND(BL139/BL$72,4)*100","v":{"$error":"#DIV/0!"}},{"$f":"ROUND(BM139/BM$72,4)*100","v":{"$error":"#DIV/0!"}},{"$f":"ROUND(BN139/BN$72,4)*100","v":{"$error":"#DIV/0!"}},{"$f":"ROUND(BO139/BO$72,4)*100","v":{"$error":"#DIV/0!"}},{"$f":"ROUND(BP139/BP$72,4)*100","v":{"$error":"#DIV/0!"}},{"$f":"ROUND(BQ139/BQ$72,4)*100","v":{"$error":"#DIV/0!"}},{"$f":"ROUND(BR139/BR$72,4)*100","v":{"$error":"#DIV/0!"}},{"$f":"ROUND(BS139/BS$72,4)*100","v":{"$error":"#DIV/0!"}},{"$f":"ROUND(BT139/BT$72,4)*100","v":{"$error":"#DIV/0!"}},{"$f":"ROUND(BU139/BU$72,4)*100","v":{"$error":"#DIV/0!"}},{"$f":"ROUND(BV139/BV$72,4)*100","v":{"$error":"#DIV/0!"}},{"$f":"ROUND(BW139/BW$72,4)*100","v":{"$error":"#DIV/0!"}},{"$f":"ROUND(BX139/BX$72,4)*100","v":{"$error":"#DIV/0!"}}]
[null,null,null,3,"あてはまる",2,{"$f":"問題別集計!G115+問題別集計!G116","v":0},{"$f":"問題別集計!H115+問題別集計!H116","v":0},{"$f":"問題別集計!I115+問題別集計!I116","v":0},{"$f":"問題別集計!J115+問題別集計!J116","v":0},{"$f":"問題別集計!K115+問題別集計!K116","v":0},{"$f":"問題別集計!L115+問題別集計!L116","v":0},{"$f":"問題別集計!M115+問題別集計!M116","v":0},{"$f":"問題別集計!N115+問題別集計!N116","v":0},{"$f":"問題別集計!O115+問題別集計!O116","v":0},{"$f":"問題別集計!P115+問題別集計!P116","v":0},{"$f":"問題別集計!Q115+問題別集計!Q116","v":0},{"$f":"問題別集計!R115+問題別集計!R116","v":0},{"$f":"問題別集計!S115+問題別集計!S116","v":0},{"$f":"問題別集計!T115+問題別集計!T116","v":0},{"$f":"ROUND(G140/G142,3)*100","v":{"$error":"#DIV/0!"}},{"$error":"#DIV/0!"},{"$error":"#DIV/0!"},{"$error":"#DIV/0!"},{"$error":"#DIV/0!"},{"$error":"#DIV/0!"},{"$error":"#DIV/0!"},{"$error":"#DIV/0!"},{"$error":"#DIV/0!"},{"$error":"#DIV/0!"},{"$error":"#DIV/0!"},{"$error":"#DIV/0!"},{"$error":"#DIV/0!"},{"$f":"ROUND(T140/T$122,4)*100","v":{"$error":"#DIV/0!"}},{"$f":"SUM(問題別集計③!G115:G116)","v":0},{"$f":"SUM(問題別集計③!H115:H116)","v":0},{"$f":"SUM(問題別集計③!I115:I116)","v":0},{"$f":"SUM(問題別集計③!J115:J116)","v":0},{"$f":"SUM(問題別集計③!K115:K116)","v":0},{"$f":"SUM(問題別集計③!L115:L116)","v":0},{"$f":"SUM(問題別集計③!M115:M116)","v":0},{"$f":"SUM(問題別集計③!N115:N116)","v":0},{"$f":"SUM(問題別集計③!O115:O116)","v":0},{"$f":"SUM(問題別集計③!P115:P116)","v":0},{"$f":"SUM(問題別集計③!Q115:Q116)","v":0},{"$f":"SUM(問題別集計③!R115:R116)","v":0},{"$f":"SUM(問題別集計③!S115:S116)","v":0},{"$f":"SUM(問題別集計③!T115:T116)","v":0},{"$f":"ROUND(AI140/AI142,3)*100","v":{"$error":"#DIV/0!"}},{"$error":"#DIV/0!"},{"$error":"#DIV/0!"},{"$error":"#DIV/0!"},{"$error":"#DIV/0!"},{"$error":"#DIV/0!"},{"$error":"#DIV/0!"},{"$error":"#DIV/0!"},{"$error":"#DIV/0!"},{"$error":"#DIV/0!"},{"$error":"#DIV/0!"},{"$error":"#DIV/0!"},{"$error":"#DIV/0!"},{"$f":"ROUND(AV140/AV$122,4)*100","v":{"$error":"#DIV/0!"}},{"$f":"SUM(問題別集計②!G115:G116)","v":0},{"$f":"SUM(問題別集計②!H115:H116)","v":0},{"$f":"SUM(問題別集計②!I115:I116)","v":0},{"$f":"SUM(問題別集計②!J115:J116)","v":0},{"$f":"SUM(問題別集計②!K115:K116)","v":0},{"$f":"SUM(問題別集計②!L115:L116)","v":0},{"$f":"SUM(問題別集計②!M115:M116)","v":0},{"$f":"SUM(問題別集計②!N115:N116)","v":0},{"$f":"SUM(問題別集計②!O115:O116)","v":0},{"$f":"SUM(問題別集計②!P115:P116)","v":0},{"$f":"SUM(問題別集計②!Q115:Q116)","v":0},{"$f":"SUM(問題別集計②!R115:R116)","v":0},{"$f":"SUM(問題別集計②!S115:S116)","v":0},{"$f":"SUM(問題別集計②!T115:T116)","v":0},{"$f":"ROUND(BK140/BK142,3)*100","v":{"$error":"#DIV/0!"}},{"$error":"#DIV/0!"},{"$error":"#DIV/0!"},{"$error":"#DIV/0!"},{"$error":"#DIV/0!"},{"$error":"#DIV/0!"},{"$error":"#DIV/0!"},{"$error":"#DIV/0!"},{"$error":"#DIV/0!"},{"$error":"#DIV/0!"},{"$error":"#DIV/0!"},{"$error":"#DIV/0!"},{"$error":"#DIV/0!"},{"$f":"ROUND(BX140/BX$122,4)*100","v":{"$error":"#DIV/0!"}}]
[null,null,null,4,"非常にあてはまる",1,null,null,null,null,null,null,null,null,null,null,null,null,null,null,{"$f":"ROUND(G141/G$72,4)*100","v":{"$error":"#DIV/0!"}},{"$f":"ROUND(H141/H$72,4)*100","v":{"$error":"#DIV/0!"}},{"$f":"ROUND(I141/I$72,4)*100","v":{"$error":"#DIV/0!"}},{"$f":"ROUND(J141/J$72,4)*100","v":{"$error":"#DIV/0!"}},{"$f":"ROUND(K141/K$72,4)*100","v":{"$error":"#DIV/0!"}},{"$f":"ROUND(L141/L$72,4)*100","v":{"$error":"#DIV/0!"}},{"$f":"ROUND(M141/M$72,4)*100","v":{"$error":"#DIV/0!"}},{"$f":"ROUND(N141/N$72,4)*100","v":{"$error":"#DIV/0!"}},{"$f":"ROUND(O141/O$72,4)*100","v":{"$error":"#DIV/0!"}},{"$f":"ROUND(P141/P$72,4)*100","v":{"$error":"#DIV/0!"}},{"$f":"ROUND(Q141/Q$72,4)*100","v":{"$error":"#DIV/0!"}},{"$f":"ROUND(R141/R$72,4)*100","v":{"$error":"#DIV/0!"}},{"$f":"ROUND(S141/S$72,4)*100","v":{"$error":"#DIV/0!"}},{"$f":"ROUND(T141/T$72,4)*100","v":{"$error":"#DIV/0!"}},null,null,null,null,null,null,null,null,null,null,null,null,null,null,{"$f":"ROUND(AI141/AI$72,4)*100","v":{"$error":"#DIV/0!"}},{"$f":"ROUND(AJ141/AJ$72,4)*100","v":{"$error":"#DIV/0!"}},{"$f":"ROUND(AK141/AK$72,4)*100","v":{"$error":"#DIV/0!"}},{"$f":"ROUND(AL141/AL$72,4)*100","v":{"$error":"#DIV/0!"}},{"$f":"ROUND(AM141/AM$72,4)*100","v":{"$error":"#DIV/0!"}},{"$f":"ROUND(AN141/AN$72,4)*100","v":{"$error":"#DIV/0!"}},{"$f":"ROUND(AO141/AO$72,4)*100","v":{"$error":"#DIV/0!"}},{"$f":"ROUND(AP141/AP$72,4)*100","v":{"$error":"#DIV/0!"}},{"$f":"ROUND(AQ141/AQ$72,4)*100","v":{"$error":"#DIV/0!"}},{"$f":"ROUND(AR141/AR$72,4)*100","v":{"$error":"#DIV/0!"}},{"$f":"ROUND(AS141/AS$72,4)*100","v":{"$error":"#DIV/0!"}},{"$f":"ROUND(AT141/AT$72,4)*100","v":{"$error":"#DIV/0!"}},{"$f":"ROUND(AU141/AU$72,4)*100","v":{"$error":"#DIV/0!"}},{"$f":"ROUND(AV141/AV$72,4)*100","v":{"$error":"#DIV/0!"}},null,null,null,null,null,null,null,null,null,null,null,null,null,null,{"$f":"ROUND(BK141/BK$72,4)*100","v":{"$error":"#DIV/0!"}},{"$f":"ROUND(BL141/BL$72,4)*100","v":{"$error":"#DIV/0!"}},{"$f":"ROUND(BM141/BM$72,4)*100","v":{"$error":"#DIV/0!"}},{"$f":"ROUND(BN141/BN$72,4)*100","v":{"$error":"#DIV/0!"}},{"$f":"ROUND(BO141/BO$72,4)*100","v":{"$error":"#DIV/0!"}},{"$f":"ROUND(BP141/BP$72,4)*100","v":{"$error":"#DIV/0!"}},{"$f":"ROUND(BQ141/BQ$72,4)*100","v":{"$error":"#DIV/0!"}},{"$f":"ROUND(BR141/BR$72,4)*100","v":{"$error":"#DIV/0!"}},{"$f":"ROUND(BS141/BS$72,4)*100","v":{"$error":"#DIV/0!"}},{"$f":"ROUND(BT141/BT$72,4)*100","v":{"$error":"#DIV/0!"}},{"$f":"ROUND(BU141/BU$72,4)*100","v":{"$error":"#DIV/0!"}},{"$f":"ROUND(BV141/BV$72,4)*100","v":{"$error":"#DIV/0!"}},{"$f":"ROUND(BW141/BW$72,4)*100","v":{"$error":"#DIV/0!"}},{"$f":"ROUND(BX141/BX$72,4)*100","v":{"$error":"#DIV/0!"}}]
[null,null,null,"計",null,null,{"$f":"SUM(G138:G141)","v":0},{"$f":"SUM(H138:H141)","v":0},{"$f":"SUM(I138:I141)","v":0},{"$f":"SUM(J138:J141)","v":0},{"$f":"SUM(K138:K141)","v":0},{"$f":"SUM(L138:L141)","v":0},{"$f":"SUM(M138:M141)","v":0},{"$f":"SUM(N138:N141)","v":0},{"$f":"SUM(O138:O141)","v":0},{"$f":"SUM(P138:P141)","v":0},{"$f":"SUM(Q138:Q141)","v":0},{"$f":"SUM(R138:R141)","v":0},{"$f":"SUM(S138:S141)","v":0},{"$f":"SUM(T138:T141)","v":0},{"$f":"SUM(U138:U141)","v":{"$error":"#DIV/0!"}},{"$f":"SUM(V138:V141)","v":{"$error":"#DIV/0!"}},{"$f":"SUM(W138:W141)","v":{"$error":"#DIV/0!"}},{"$f":"SUM(X138:X141)","v":{"$error":"#DIV/0!"}},{"$f":"SUM(Y138:Y141)","v":{"$error":"#DIV/0!"}},{"$f":"SUM(Z138:Z141)","v":{"$error":"#DIV/0!"}},{"$error":"#DIV/0!"},{"$f":"SUM(AB138:AB141)","v":{"$error":"#DIV/0!"}},{"$f":"SUM(AC138:AC141)","v":{"$error":"#DIV/0!"}},{"$f":"SUM(AD138:AD141)","v":{"$error":"#DIV/0!"}},{"$f":"SUM(AE138:AE141)","v":{"$error":"#DIV/0!"}},{"$f":"SUM(AF138:AF141)","v":{"$error":"#DIV/0!"}},{"$f":"SUM(AG138:AG141)","v":{"$error":"#DIV/0!"}},{"$error":"#DIV/0!"},{"$f":"SUM(AI138:AI141)","v":0},{"$f":"SUM(AJ138:AJ141)","v":0},{"$f":"SUM(AK138:AK141)","v":0},{"$f":"SUM(AL138:AL141)","v":0},{"$f":"SUM(AM138:AM141)","v":0},{"$f":"SUM(AN138:AN141)","v":0},{"$f":"SUM(AO138:AO141)","v":0},{"$f":"SUM(AP138:AP141)","v":0},{"$f":"SUM(AQ138:AQ141)","v":0},{"$f":"SUM(AR138:AR141)","v":0},{"$f":"SUM(AS138:AS141)","v":0},{"$f":"SUM(AT138:AT141)","v":0},{"$f":"SUM(AU138:AU141)","v":0},{"$f":"SUM(AV138:AV141)","v":0},{"$error":"#DIV/0!"},{"$error":"#DIV/0!"},{"$error":"#DIV/0!"},{"$error":"#DIV/0!"},{"$error":"#DIV/0!"},{"$error":"#DIV/0!"},{"$error":"#DIV/0!"},{"$error":"#DIV/0!"},{"$error":"#DIV/0!"},{"$error":"#DIV/0!"},{"$error":"#DIV/0!"},{"$error":"#DIV/0!"},{"$error":"#DIV/0!"},{"$error":"#DIV/0!"},{"$f":"SUM(BK138:BK141)","v":0},{"$f":"SUM(BL138:BL141)","v":0},{"$f":"SUM(BM138:BM141)","v":0},{"$f":"SUM(BN138:BN141)","v":0},{"$f":"SUM(BO138:BO141)","v":0},{"$f":"SUM(BP138:BP141)","v":0},{"$f":"SUM(BQ138:BQ141)","v":0},{"$f":"SUM(BR138:BR141)","v":0},{"$f":"SUM(BS138:BS141)","v":0},{"$f":"SUM(BT138:BT141)","v":0},{"$f":"SUM(BU138:BU141)","v":0},{"$f":"SUM(BV138:BV141)","v":0},{"$f":"SUM(BW138:BW141)","v":0},{"$f":"SUM(BX138:BX141)","v":0},{"$error":"#DIV/0!"},{"$error":"#DIV/0!"},{"$error":"#DIV/0!"},{"$error":"#DIV/0!"},{"$error":"#DIV/0!"},{"$error":"#DIV/0!"},{"$error":"#DIV/0!"},{"$error":"#DIV/0!"},{"$error":"#DIV/0!"},{"$error":"#DIV/0!"},{"$error":"#DIV/0!"},{"$error":"#DIV/0!"},{"$error":"#DIV/0!"},{"$error":"#DIV/0!"}]
[null,"26\n（27）","インターネットの使用を減らさなければならないといつも考えている。",1,"全くあてはまらない",1,{"$f":"問題別集計!G117+問題別集計!G118","v":0},{"$f":"問題別集計!H117+問題別集計!H118","v":0},{"$f":"問題別集計!I117+問題別集計!I118","v":0},{"$f":"問題別集計!J117+問題別集計!J118","v":0},{"$f":"問題別集計!K117+問題別集計!K118","v":0},{"$f":"問題別集計!L117+問題別集計!L118","v":0},{"$f":"問題別集計!M117+問題別集計!M118","v":0},{"$f":"問題別集計!N117+問題別集計!N118","v":0},{"$f":"問題別集計!O117+問題別集計!O118","v":0},{"$f":"問題別集計!P117+問題別集計!P118","v":0},{"$f":"問題別集計!Q117+問題別集計!Q118","v":0},{"$f":"問題別集計!R117+問題別集計!R118","v":0},{"$f":"問題別集計!S117+問題別集計!S118","v":0},{"$f":"問題別集計!T117+問題別集計!T118","v":0},{"$f":"ROUND(G143/G147,3)*100","v":{"$error":"#DIV/0!"}},{"$error":"#DIV/0!"},{"$error":"#DIV/0!"},{"$error":"#DIV/0!"},{"$error":"#DIV/0!"},{"$error":"#DIV/0!"},{"$error":"#DIV/0!"},{"$error":"#DIV/0!"},{"$error":"#DIV/0!"},{"$error":"#DIV/0!"},{"$error":"#DIV/0!"},{"$error":"#DIV/0!"},{"$error":"#DIV/0!"},{"$f":"ROUND(T143/T$122,4)*100","v":{"$error":"#DIV/0!"}},{"$f":"SUM(問題別集計③!G117:G118)","v":0},{"$f":"SUM(問題別集計③!H117:H118)","v":0},{"$f":"SUM(問題別集計③!I117:I118)","v":0},{"$f":"SUM(問題別集計③!J117:J118)","v":0},{"$f":"SUM(問題別集計③!K117:K118)","v":0},{"$f":"SUM(問題別集計③!L117:L118)","v":0},{"$f":"SUM(問題別集計③!M117:M118)","v":0},{"$f":"SUM(問題別集計③!N117:N118)","v":0},{"$f":"SUM(問題別集計③!O117:O118)","v":0},{"$f":"SUM(問題別集計③!P117:P118)","v":0},{"$f":"SUM(問題別集計③!Q117:Q118)","v":0},{"$f":"SUM(問題別集計③!R117:R118)","v":0},{"$f":"SUM(問題別集計③!S117:S118)","v":0},{"$f":"SUM(問題別集計③!T117:T118)","v":0},{"$f":"ROUND(AI143/AI147,3)*100","v":{"$error":"#DIV/0!"}},{"$error":"#DIV/0!"},{"$error":"#DIV/0!"},{"$error":"#DIV/0!"},{"$error":"#DIV/0!"},{"$error":"#DIV/0!"},{"$error":"#DIV/0!"},{"$error":"#DIV/0!"},{"$error":"#DIV/0!"},{"$error":"#DIV/0!"},{"$error":"#DIV/0!"},{"$error":"#DIV/0!"},{"$error":"#DIV/0!"},{"$f":"ROUND(AV143/AV$122,4)*100","v":{"$error":"#DIV/0!"}},{"$f":"SUM(問題別集計②!G117:G118)","v":0},{"$f":"SUM(問題別集計②!H117:H118)","v":0},{"$f":"SUM(問題別集計②!I117:I118)","v":0},{"$f":"SUM(問題別集計②!J117:J118)","v":0},{"$f":"SUM(問題別集計②!K117:K118)","v":0},{"$f":"SUM(問題別集計②!L117:L118)","v":0},{"$f":"SUM(問題別集計②!M117:M118)","v":0},{"$f":"SUM(問題別集計②!N117:N118)","v":0},{"$f":"SUM(問題別集計②!O117:O118)","v":0},{"$f":"SUM(問題別集計②!P117:P118)","v":0},{"$f":"SUM(問題別集計②!Q117:Q118)","v":0},{"$f":"SUM(問題別集計②!R117:R118)","v":0},{"$f":"SUM(問題別集計②!S117:S118)","v":0},{"$f":"SUM(問題別集計②!T117:T118)","v":0},{"$f":"ROUND(BK143/BK147,3)*100","v":{"$error":"#DIV/0!"}},{"$error":"#DIV/0!"},{"$error":"#DIV/0!"},{"$error":"#DIV/0!"},{"$error":"#DIV/0!"},{"$error":"#DIV/0!"},{"$error":"#DIV/0!"},{"$error":"#DIV/0!"},{"$error":"#DIV/0!"},{"$error":"#DIV/0!"},{"$error":"#DIV/0!"},{"$error":"#DIV/0!"},{"$error":"#DIV/0!"},{"$f":"ROUND(BX143/BX$122,4)*100","v":{"$error":"#DIV/0!"}}]
[null,null,null,2,"あてはまらない",2,null,null,null,null,null,null,null,null,null,null,null,null,null,null,{"$f":"ROUND(G144/G$72,4)*100","v":{"$error":"#DIV/0!"}},{"$f":"ROUND(H144/H$72,4)*100","v":{"$error":"#DIV/0!"}},{"$f":"ROUND(I144/I$72,4)*100","v":{"$error":"#DIV/0!"}},{"$f":"ROUND(J144/J$72,4)*100","v":{"$error":"#DIV/0!"}},{"$f":"ROUND(K144/K$72,4)*100","v":{"$error":"#DIV/0!"}},{"$f":"ROUND(L144/L$72,4)*100","v":{"$error":"#DIV/0!"}},{"$f":"ROUND(M144/M$72,4)*100","v":{"$error":"#DIV/0!"}},{"$f":"ROUND(N144/N$72,4)*100","v":{"$error":"#DIV/0!"}},{"$f":"ROUND(O144/O$72,4)*100","v":{"$error":"#DIV/0!"}},{"$f":"ROUND(P144/P$72,4)*100","v":{"$error":"#DIV/0!"}},{"$f":"ROUND(Q144/Q$72,4)*100","v":{"$error":"#DIV/0!"}},{"$f":"ROUND(R144/R$72,4)*100","v":{"$error":"#DIV/0!"}},{"$f":"ROUND(S144/S$72,4)*100","v":{"$error":"#DIV/0!"}},{"$f":"ROUND(T144/T$72,4)*100","v":{"$error":"#DIV/0!"}},null,null,null,null,null,null,null,null,null,null,null,null,null,null,{"$f":"ROUND(AI144/AI$72,4)*100","v":{"$error":"#DIV/0!"}},{"$f":"ROUND(AJ144/AJ$72,4)*100","v":{"$error":"#DIV/0!"}},{"$f":"ROUND(AK144/AK$72,4)*100","v":{"$error":"#DIV/0!"}},{"$f":"ROUND(AL144/AL$72,4)*100","v":{"$error":"#DIV/0!"}},{"$f":"ROUND(AM144/AM$72,4)*100","v":{"$error":"#DIV/0!"}},{"$f":"ROUND(AN144/AN$72,4)*100","v":{"$error":"#DIV/0!"}},{"$f":"ROUND(AO144/AO$72,4)*100","v":{"$error":"#DIV/0!"}},{"$f":"ROUND(AP144/AP$72,4)*100","v":{"$error":"#DIV/0!"}},{"$f":"ROUND(AQ144/AQ$72,4)*100","v":{"$error":"#DIV/0!"}},{"$f":"ROUND(AR144/AR$72,4)*100","v":{"$error":"#DIV/0!"}},{"$f":"ROUND(AS144/AS$72,4)*100","v":{"$error":"#DIV/0!"}},{"$f":"ROUND(AT144/AT$72,4)*100","v":{"$error":"#DIV/0!"}},{"$f":"ROUND(AU144/AU$72,4)*100","v":{"$error":"#DIV/0!"}},{"$f":"ROUND(AV144/AV$72,4)*100","v":{"$error":"#DIV/0!"}},null,null,null,null,null,null,null,null,null,null,null,null,null,null,{"$f":"ROUND(BK144/BK$72,4)*100","v":{"$error":"#DIV/0!"}},{"$f":"ROUND(BL144/BL$72,4)*100","v":{"$error":"#DIV/0!"}},{"$f":"ROUND(BM144/BM$72,4)*100","v":{"$error":"#DIV/0!"}},{"$f":"ROUND(BN144/BN$72,4)*100","v":{"$error":"#DIV/0!"}},{"$f":"ROUND(BO144/BO$72,4)*100","v":{"$error":"#DIV/0!"}},{"$f":"ROUND(BP144/BP$72,4)*100","v":{"$error":"#DIV/0!"}},{"$f":"ROUND(BQ144/BQ$72,4)*100","v":{"$error":"#DIV/0!"}},{"$f":"ROUND(BR144/BR$72,4)*100","v":{"$error":"#DIV/0!"}},{"$f":"ROUND(BS144/BS$72,4)*100","v":{"$error":"#DIV/0!"}},{"$f":"ROUND(BT144/BT$72,4)*100","v":{"$error":"#DIV/0!"}},{"$f":"ROUND(BU144/BU$72,4)*100","v":{"$error":"#DIV/0!"}},{"$f":"ROUND(BV144/BV$72,4)*100","v":{"$error":"#DIV/0!"}},{"$f":"ROUND(BW144/BW$72,4)*100","v":{"$error":"#DIV/0!"}},{"$f":"ROUND(BX144/BX$72,4)*100","v":{"$error":"#DIV/0!"}}]
[null,null,null,3,"あてはまる",3,{"$f":"問題別集計!G119+問題別集計!G120","v":0},{"$f":"問題別集計!H119+問題別集計!H120","v":0},{"$f":"問題別集計!I119+問題別集計!I120","v":0},{"$f":"問題別集計!J119+問題別集計!J120","v":0},{"$f":"問題別集計!K119+問題別集計!K120","v":0},{"$f":"問題別集計!L119+問題別集計!L120","v":0},{"$f":"問題別集計!M119+問題別集計!M120","v":0},{"$f":"問題別集計!N119+問題別集計!N120","v":0},{"$f":"問題別集計!O119+問題別集計!O120","v":0},{"$f":"問題別集計!P119+問題別集計!P120","v":0},{"$f":"問題別集計!Q119+問題別集計!Q120","v":0},{"$f":"問題別集計!R119+問題別集計!R120","v":0},{"$f":"問題別集計!S119+問題別集計!S120","v":0},{"$f":"問題別集計!T119+問題別集計!T120","v":0},{"$f":"ROUND(G145/G147,3)*100","v":{"$error":"#DIV/0!"}},{"$error":"#DIV/0!"},{"$error":"#DIV/0!"},{"$error":"#DIV/0!"},{"$error":"#DIV/0!"},{"$error":"#DIV/0!"},{"$error":"#DIV/0!"},{"$error":"#DIV/0!"},{"$error":"#DIV/0!"},{"$error":"#DIV/0!"},{"$error":"#DIV/0!"},{"$error":"#DIV/0!"},{"$error":"#DIV/0!"},{"$f":"ROUND(T145/T$122,4)*100","v":{"$error":"#DIV/0!"}},{"$f":"SUM(問題別集計③!G119:G120)","v":0},{"$f":"SUM(問題別集計③!H119:H120)","v":0},{"$f":"SUM(問題別集計③!I119:I120)","v":0},{"$f":"SUM(問題別集計③!J119:J120)","v":0},{"$f":"SUM(問題別集計③!K119:K120)","v":0},{"$f":"SUM(問題別集計③!L119:L120)","v":0},{"$f":"SUM(問題別集計③!M119:M120)","v":0},{"$f":"SUM(問題別集計③!N119:N120)","v":0},{"$f":"SUM(問題別集計③!O119:O120)","v":0},{"$f":"SUM(問題別集計③!P119:P120)","v":0},{"$f":"SUM(問題別集計③!Q119:Q120)","v":0},{"$f":"SUM(問題別集計③!R119:R120)","v":0},{"$f":"SUM(問題別集計③!S119:S120)","v":0},{"$f":"SUM(問題別集計③!T119:T120)","v":0},{"$f":"ROUND(AI145/AI147,3)*100","v":{"$error":"#DIV/0!"}},{"$error":"#DIV/0!"},{"$error":"#DIV/0!"},{"$error":"#DIV/0!"},{"$error":"#DIV/0!"},{"$error":"#DIV/0!"},{"$error":"#DIV/0!"},{"$error":"#DIV/0!"},{"$error":"#DIV/0!"},{"$error":"#DIV/0!"},{"$error":"#DIV/0!"},{"$error":"#DIV/0!"},{"$error":"#DIV/0!"},{"$f":"ROUND(AV145/AV$122,4)*100","v":{"$error":"#DIV/0!"}},{"$f":"SUM(問題別集計②!G119:G120)","v":0},{"$f":"SUM(問題別集計②!H119:H120)","v":0},{"$f":"SUM(問題別集計②!I119:I120)","v":0},{"$f":"SUM(問題別集計②!J119:J120)","v":0},{"$f":"SUM(問題別集計②!K119:K120)","v":0},{"$f":"SUM(問題別集計②!L119:L120)","v":0},{"$f":"SUM(問題別集計②!M119:M120)","v":0},{"$f":"SUM(問題別集計②!N119:N120)","v":0},{"$f":"SUM(問題別集計②!O119:O120)","v":0},{"$f":"SUM(問題別集計②!P119:P120)","v":0},{"$f":"SUM(問題別集計②!Q119:Q120)","v":0},{"$f":"SUM(問題別集計②!R119:R120)","v":0},{"$f":"SUM(問題別集計②!S119:S120)","v":0},{"$f":"SUM(問題別集計②!T119:T120)","v":0},{"$f":"ROUND(BK145/BK147,3)*100","v":{"$error":"#DIV/0!"}},{"$error":"#DIV/0!"},{"$error":"#DIV/0!"},{"$error":"#DIV/0!"},{"$error":"#DIV/0!"},{"$error":"#DIV/0!"},{"$error":"#DIV/0!"},{"$error":"#DIV/0!"},{"$error":"#DIV/0!"},{"$error":"#DIV/0!"},{"$error":"#DIV/0!"},{"$error":"#DIV/0!"},{"$error":"#DIV/0!"},{"$f":"ROUND(BX145/BX$122,4)*100","v":{"$error":"#DIV/0!"}}]
[null,null,null,4,"非常にあてはまる",4,null,null,null,null,null,null,null,null,null,null,null,null,null,null,{"$f":"ROUND(G146/G$72,4)*100","v":{"$error":"#DIV/0!"}},{"$f":"ROUND(H146/H$72,4)*100","v":{"$error":"#DIV/0!"}},{"$f":"ROUND(I146/I$72,4)*100","v":{"$error":"#DIV/0!"}},{"$f":"ROUND(J146/J$72,4)*100","v":{"$error":"#DIV/0!"}},{"$f":"ROUND(K146/K$72,4)*100","v":{"$error":"#DIV/0!"}},{"$f":"ROUND(L146/L$72,4)*100","v":{"$error":"#DIV/0!"}},{"$f":"ROUND(M146/M$72,4)*100","v":{"$error":"#DIV/0!"}},{"$f":"ROUND(N146/N$72,4)*100","v":{"$error":"#DIV/0!"}},{"$f":"ROUND(O146/O$72,4)*100","v":{"$error":"#DIV/0!"}},{"$f":"ROUND(P146/P$72,4)*100","v":{"$error":"#DIV/0!"}},{"$f":"ROUND(Q146/Q$72,4)*100","v":{"$error":"#DIV/0!"}},{"$f":"ROUND(R146/R$72,4)*100","v":{"$error":"#DIV/0!"}},{"$f":"ROUND(S146/S$72,4)*100","v":{"$error":"#DIV/0!"}},{"$f":"ROUND(T146/T$72,4)*100","v":{"$error":"#DIV/0!"}},null,null,null,null,null,null,null,null,null,null,null,null,null,null,{"$f":"ROUND(AI146/AI$72,4)*100","v":{"$error":"#DIV/0!"}},{"$f":"ROUND(AJ146/AJ$72,4)*100","v":{"$error":"#DIV/0!"}},{"$f":"ROUND(AK146/AK$72,4)*100","v":{"$error":"#DIV/0!"}},{"$f":"ROUND(AL146/AL$72,4)*100","v":{"$error":"#DIV/0!"}},{"$f":"ROUND(AM146/AM$72,4)*100","v":{"$error":"#DIV/0!"}},{"$f":"ROUND(AN146/AN$72,4)*100","v":{"$error":"#DIV/0!"}},{"$f":"ROUND(AO146/AO$72,4)*100","v":{"$error":"#DIV/0!"}},{"$f":"ROUND(AP146/AP$72,4)*100","v":{"$error":"#DIV/0!"}},{"$f":"ROUND(AQ146/AQ$72,4)*100","v":{"$error":"#DIV/0!"}},{"$f":"ROUND(AR146/AR$72,4)*100","v":{"$error":"#DIV/0!"}},{"$f":"ROUND(AS146/AS$72,4)*100","v":{"$error":"#DIV/0!"}},{"$f":"ROUND(AT146/AT$72,4)*100","v":{"$error":"#DIV/0!"}},{"$f":"ROUND(AU146/AU$72,4)*100","v":{"$error":"#DIV/0!"}},{"$f":"ROUND(AV146/AV$72,4)*100","v":{"$error":"#DIV/0!"}},null,null,null,null,null,null,null,null,null,null,null,null,null,null,{"$f":"ROUND(BK146/BK$72,4)*100","v":{"$error":"#DIV/0!"}},{"$f":"ROUND(BL146/BL$72,4)*100","v":{"$error":"#DIV/0!"}},{"$f":"ROUND(BM146/BM$72,4)*100","v":{"$error":"#DIV/0!"}},{"$f":"ROUND(BN146/BN$72,4)*100","v":{"$error":"#DIV/0!"}},{"$f":"ROUND(BO146/BO$72,4)*100","v":{"$error":"#DIV/0!"}},{"$f":"ROUND(BP146/BP$72,4)*100","v":{"$error":"#DIV/0!"}},{"$f":"ROUND(BQ146/BQ$72,4)*100","v":{"$error":"#DIV/0!"}},{"$f":"ROUND(BR146/BR$72,4)*100","v":{"$error":"#DIV/0!"}},{"$f":"ROUND(BS146/BS$72,4)*100","v":{"$error":"#DIV/0!"}},{"$f":"ROUND(BT146/BT$72,4)*100","v":{"$error":"#DIV/0!"}},{"$f":"ROUND(BU146/BU$72,4)*100","v":{"$error":"#DIV/0!"}},{"$f":"ROUND(BV146/BV$72,4)*100","v":{"$error":"#DIV/0!"}},{"$f":"ROUND(BW146/BW$72,4)*100","v":{"$error":"#DIV/0!"}},{"$f":"ROUND(BX146/BX$72,4)*100","v":{"$error":"#DIV/0!"}}]
[null,null,null,"計",null,null,{"$f":"SUM(G143:G146)","v":0},{"$f":"SUM(H143:H146)","v":0},{"$f":"SUM(I143:I146)","v":0},{"$f":"SUM(J143:J146)","v":0},{"$f":"SUM(K143:K146)","v":0},{"$f":"SUM(L143:L146)","v":0},{"$f":"SUM(M143:M146)","v":0},{"$f":"SUM(N143:N146)","v":0},{"$f":"SUM(O143:O146)","v":0},{"$f":"SUM(P143:P146)","v":0},{"$f":"SUM(Q143:Q146)","v":0},{"$f":"SUM(R143:R146)","v":0},{"$f":"SUM(S143:S146)","v":0},{"$f":"SUM(T143:T146)","v":0},{"$f":"SUM(U143:U146)","v":{"$error":"#DIV/0!"}},{"$f":"SUM(V143:V146)","v":{"$error":"#DIV/0!"}},{"$f":"SUM(W143:W146)","v":{"$error":"#DIV/0!"}},{"$f":"SUM(X143:X146)","v":{"$error":"#DIV/0!"}},{"$f":"SUM(Y143:Y146)","v":{"$error":"#DIV/0!"}},{"$f":"SUM(Z143:Z146)","v":{"$error":"#DIV/0!"}},{"$error":"#DIV/0!"},{"$f":"SUM(AB143:AB146)","v":{"$error":"#DIV/0!"}},{"$f":"SUM(AC143:AC146)","v":{"$error":"#DIV/0!"}},{"$f":"SUM(AD143:AD146)","v":{"$error":"#DIV/0!"}},{"$f":"SUM(AE143:AE146)","v":{"$error":"#DIV/0!"}},{"$f":"SUM(AF143:AF146)","v":{"$error":"#DIV/0!"}},{"$f":"SUM(AG143:AG146)","v":{"$error":"#DIV/0!"}},{"$error":"#DIV/0!"},{"$f":"SUM(AI143:AI146)","v":0},{"$f":"SUM(AJ143:AJ146)","v":0},{"$f":"SUM(AK143:AK146)","v":0},{"$f":"SUM(AL143:AL146)","v":0},{"$f":"SUM(AM143:AM146)","v":0},{"$f":"SUM(AN143:AN146)","v":0},{"$f":"SUM(AO143:AO146)","v":0},{"$f":"SUM(AP143:AP146)","v":0},{"$f":"SUM(AQ143:AQ146)","v":0},{"$f":"SUM(AR143:AR146)","v":0},{"$f":"SUM(AS143:AS146)","v":0},{"$f":"SUM(AT143:AT146)","v":0},{"$f":"SUM(AU143:AU146)","v":0},{"$f":"SUM(AV143:AV146)","v":0},{"$error":"#DIV/0!"},{"$error":"#DIV/0!"},{"$error":"#DIV/0!"},{"$error":"#DIV/0!"},{"$error":"#DIV/0!"},{"$error":"#DIV/0!"},{"$error":"#DIV/0!"},{"$error":"#DIV/0!"},{"$error":"#DIV/0!"},{"$error":"#DIV/0!"},{"$error":"#DIV/0!"},{"$error":"#DIV/0!"},{"$error":"#DIV/0!"},{"$error":"#DIV/0!"},{"$f":"SUM(BK143:BK146)","v":0},{"$f":"SUM(BL143:BL146)","v":0},{"$f":"SUM(BM143:BM146)","v":0},{"$f":"SUM(BN143:BN146)","v":0},{"$f":"SUM(BO143:BO146)","v":0},{"$f":"SUM(BP143:BP146)","v":0},{"$f":"SUM(BQ143:BQ146)","v":0},{"$f":"SUM(BR143:BR146)","v":0},{"$f":"SUM(BS143:BS146)","v":0},{"$f":"SUM(BT143:BT146)","v":0},{"$f":"SUM(BU143:BU146)","v":0},{"$f":"SUM(BV143:BV146)","v":0},{"$f":"SUM(BW143:BW146)","v":0},{"$f":"SUM(BX143:BX146)","v":0},{"$error":"#DIV/0!"},{"$error":"#DIV/0!"},{"$error":"#DIV/0!"},{"$error":"#DIV/0!"},{"$error":"#DIV/0!"},{"$error":"#DIV/0!"},{"$error":"#DIV/0!"},{"$error":"#DIV/0!"},{"$error":"#DIV/0!"},{"$error":"#DIV/0!"},{"$error":"#DIV/0!"},{"$error":"#DIV/0!"},{"$error":"#DIV/0!"},{"$error":"#DIV/0!"}]
["ＩＡＴ","27\n(28)","気がつくと思っていたより、長い時間インターネットをしていることがありますか？",1,"全くない",1,{"$f":"問題別集計!G121+問題別集計!G122","v":0},{"$f":"問題別集計!H121+問題別集計!H122","v":0},{"$f":"問題別集計!I121+問題別集計!I122","v":0},{"$f":"問題別集計!J121+問題別集計!J122","v":0},{"$f":"問題別集計!K121+問題別集計!K122","v":0},{"$f":"問題別集計!L121+問題別集計!L122","v":0},{"$f":"問題別集計!M121+問題別集計!M122","v":0},{"$f":"問題別集計!N121+問題別集計!N122","v":0},{"$f":"問題別集計!O121+問題別集計!O122","v":0},{"$f":"問題別集計!P121+問題別集計!P122","v":0},{"$f":"問題別集計!Q121+問題別集計!Q122","v":0},{"$f":"問題別集計!R121+問題別集計!R122","v":0},{"$f":"問題別集計!S121+問題別集計!S122","v":0},{"$f":"問題別集計!T121+問題別集計!T122","v":0},{"$f":"ROUND(G148/G153,3)*100","v":{"$error":"#DIV/0!"}},{"$error":"#DIV/0!"},{"$error":"#DIV/0!"},{"$error":"#DIV/0!"},{"$error":"#DIV/0!"},{"$error":"#DIV/0!"},{"$error":"#DIV/0!"},{"$error":"#DIV/0!"},{"$error":"#DIV/0!"},{"$error":"#DIV/0!"},{"$error":"#DIV/0!"},{"$error":"#DIV/0!"},{"$error":"#DIV/0!"},{"$error":"#DIV/0!"},{"$f":"SUM(問題別集計③!G121:G122)","v":0},{"$f":"SUM(問題別集計③!H121:H122)","v":0},{"$f":"SUM(問題別集計③!I121:I122)","v":0},{"$f":"SUM(問題別集計③!J121:J122)","v":0},{"$f":"SUM(問題別集計③!K121:K122)","v":0},{"$f":"SUM(問題別集計③!L121:L122)","v":0},{"$f":"SUM(問題別集計③!M121:M122)","v":0},{"$f":"SUM(問題別集計③!N121:N122)","v":0},{"$f":"SUM(問題別集計③!O121:O122)","v":0},{"$f":"SUM(問題別集計③!P121:P122)","v":0},{"$f":"SUM(問題別集計③!Q121:Q122)","v":0},{"$f":"SUM(問題別集計③!R121:R122)","v":0},{"$f":"SUM(問題別集計③!S121:S122)","v":0},{"$f":"SUM(問題別集計③!T121:T122)","v":0},{"$f":"ROUND(AI148/AI153,3)*100","v":{"$error":"#DIV/0!"}},{"$error":"#DIV/0!"},{"$error":"#DIV/0!"},{"$error":"#DIV/0!"},{"$error":"#DIV/0!"},{"$error":"#DIV/0!"},{"$error":"#DIV/0!"},{"$error":"#DIV/0!"},{"$error":"#DIV/0!"},{"$error":"#DIV/0!"},{"$error":"#DIV/0!"},{"$error":"#DIV/0!"},{"$error":"#DIV/0!"},{"$error":"#DIV/0!"},{"$f":"SUM(問題別集計②!G121:G122)","v":0},{"$f":"SUM(問題別集計②!H121:H122)","v":0},{"$f":"SUM(問題別集計②!I121:I122)","v":0},{"$f":"SUM(問題別集計②!J121:J122)","v":0},{"$f":"SUM(問題別集計②!K121:K122)","v":0},{"$f":"SUM(問題別集計②!L121:L122)","v":0},{"$f":"SUM(問題別集計②!M121:M122)","v":0},{"$f":"SUM(問題別集計②!N121:N122)","v":0},{"$f":"SUM(問題別集計②!O121:O122)","v":0},{"$f":"SUM(問題別集計②!P121:P122)","v":0},{"$f":"SUM(問題別集計②!Q121:Q122)","v":0},{"$f":"SUM(問題別集計②!R121:R122)","v":0},{"$f":"SUM(問題別集計②!S121:S122)","v":0},{"$f":"SUM(問題別集計②!T121:T122)","v":0},{"$f":"ROUND(BK148/BK153,3)*100","v":{"$error":"#DIV/0!"}},{"$error":"#DIV/0!"},{"$error":"#DIV/0!"},{"$error":"#DIV/0!"},{"$error":"#DIV/0!"},{"$error":"#DIV/0!"},{"$error":"#DIV/0!"},{"$error":"#DIV/0!"},{"$error":"#DIV/0!"},{"$error":"#DIV/0!"},{"$error":"#DIV/0!"},{"$error":"#DIV/0!"},{"$error":"#DIV/0!"},{"$error":"#DIV/0!"}]
[null,null,null,2,"まれにある",2,null,null,null,null,null,null,null,null,null,null,null,null,null,null,{"$f":"ROUND(G149/G$72,4)*100","v":{"$error":"#DIV/0!"}},{"$f":"ROUND(H149/H$72,4)*100","v":{"$error":"#DIV/0!"}},{"$f":"ROUND(I149/I$72,4)*100","v":{"$error":"#DIV/0!"}},{"$f":"ROUND(J149/J$72,4)*100","v":{"$error":"#DIV/0!"}},{"$f":"ROUND(K149/K$72,4)*100","v":{"$error":"#DIV/0!"}},{"$f":"ROUND(L149/L$72,4)*100","v":{"$error":"#DIV/0!"}},{"$f":"ROUND(M149/M$72,4)*100","v":{"$error":"#DIV/0!"}},{"$f":"ROUND(N149/N$72,4)*100","v":{"$error":"#DIV/0!"}},{"$f":"ROUND(O149/O$72,4)*100","v":{"$error":"#DIV/0!"}},{"$f":"ROUND(P149/P$72,4)*100","v":{"$error":"#DIV/0!"}},{"$f":"ROUND(Q149/Q$72,4)*100","v":{"$error":"#DIV/0!"}},{"$f":"ROUND(R149/R$72,4)*100","v":{"$error":"#DIV/0!"}},{"$f":"ROUND(S149/S$72,4)*100","v":{"$error":"#DIV/0!"}},{"$f":"ROUND(T149/T$72,4)*100","v":{"$error":"#DIV/0!"}},null,null,null,null,null,null,null,null,null,null,null,null,null,null,{"$f":"ROUND(AI149/AI$72,4)*100","v":{"$error":"#DIV/0!"}},{"$f":"ROUND(AJ149/AJ$72,4)*100","v":{"$error":"#DIV/0!"}},{"$f":"ROUND(AK149/AK$72,4)*100","v":{"$error":"#DIV/0!"}},{"$f":"ROUND(AL149/AL$72,4)*100","v":{"$error":"#DIV/0!"}},{"$f":"ROUND(AM149/AM$72,4)*100","v":{"$error":"#DIV/0!"}},{"$f":"ROUND(AN149/AN$72,4)*100","v":{"$error":"#DIV/0!"}},{"$f":"ROUND(AO149/AO$72,4)*100","v":{"$error":"#DIV/0!"}},{"$f":"ROUND(AP149/AP$72,4)*100","v":{"$error":"#DIV/0!"}},{"$f":"ROUND(AQ149/AQ$72,4)*100","v":{"$error":"#DIV/0!"}},{"$f":"ROUND(AR149/AR$72,4)*100","v":{"$error":"#DIV/0!"}},{"$f":"ROUND(AS149/AS$72,4)*100","v":{"$error":"#DIV/0!"}},{"$f":"ROUND(AT149/AT$72,4)*100","v":{"$error":"#DIV/0!"}},{"$f":"ROUND(AU149/AU$72,4)*100","v":{"$error":"#DIV/0!"}},{"$f":"ROUND(AV149/AV$72,4)*100","v":{"$error":"#DIV/0!"}},null,null,null,null,null,null,null,null,null,null,null,null,null,null,{"$f":"ROUND(BK149/BK$72,4)*100","v":{"$error":"#DIV/0!"}},{"$f":"ROUND(BL149/BL$72,4)*100","v":{"$error":"#DIV/0!"}},{"$f":"ROUND(BM149/BM$72,4)*100","v":{"$error":"#DIV/0!"}},{"$f":"ROUND(BN149/BN$72,4)*100","v":{"$error":"#DIV/0!"}},{"$f":"ROUND(BO149/BO$72,4)*100","v":{"$error":"#DIV/0!"}},{"$f":"ROUND(BP149/BP$72,4)*100","v":{"$error":"#DIV/0!"}},{"$f":"ROUND(BQ149/BQ$72,4)*100","v":{"$error":"#DIV/0!"}},{"$f":"ROUND(BR149/BR$72,4)*100","v":{"$error":"#DIV/0!"}},{"$f":"ROUND(BS149/BS$72,4)*100","v":{"$error":"#DIV/0!"}},{"$f":"ROUND(BT149/BT$72,4)*100","v":{"$error":"#DIV/0!"}},{"$f":"ROUND(BU149/BU$72,4)*100","v":{"$error":"#DIV/0!"}},{"$f":"ROUND(BV149/BV$72,4)*100","v":{"$error":"#DIV/0!"}},{"$f":"ROUND(BW149/BW$72,4)*100","v":{"$error":"#DIV/0!"}},{"$f":"ROUND(BX149/BX$72,4)*100","v":{"$error":"#DIV/0!"}}]
[null,null,null,3,"時々ある",3,{"$f":"問題別集計!G123+問題別集計!G124+問題別集計!G125","v":0},{"$f":"問題別集計!H123+問題別集計!H124+問題別集計!H125","v":0},{"$f":"問題別集計!I123+問題別集計!I124+問題別集計!I125","v":0},{"$f":"問題別集計!J123+問題別集計!J124+問題別集計!J125","v":0},{"$f":"問題別集計!K123+問題別集計!K124+問題別集計!K125","v":0},{"$f":"問題別集計!L123+問題別集計!L124+問題別集計!L125","v":0},{"$f":"問題別集計!M123+問題別集計!M124+問題別集計!M125","v":0},{"$f":"問題別集計!N123+問題別集計!N124+問題別集計!N125","v":0},{"$f":"問題別集計!O123+問題別集計!O124+問題別集計!O125","v":0},{"$f":"問題別集計!P123+問題別集計!P124+問題別集計!P125","v":0},{"$f":"問題別集計!Q123+問題別集計!Q124+問題別集計!Q125","v":0},{"$f":"問題別集計!R123+問題別集計!R124+問題別集計!R125","v":0},{"$f":"問題別集計!S123+問題別集計!S124+問題別集計!S125","v":0},{"$f":"問題別集計!T123+問題別集計!T124+問題別集計!T125","v":0},{"$f":"ROUND(G150/G153,3)*100","v":{"$error":"#DIV/0!"}},{"$error":"#DIV/0!"},{"$error":"#DIV/0!"},{"$error":"#DIV/0!"},{"$error":"#DIV/0!"},{"$error":"#DIV/0!"},{"$error":"#DIV/0!"},{"$error":"#DIV/0!"},{"$error":"#DIV/0!"},{"$error":"#DIV/0!"},{"$error":"#DIV/0!"},{"$error":"#DIV/0!"},{"$error":"#DIV/0!"},{"$error":"#DIV/0!"},{"$f":"SUM(問題別集計③!G123:G125)","v":0},{"$f":"SUM(問題別集計③!H123:H125)","v":0},{"$f":"SUM(問題別集計③!I123:I125)","v":0},{"$f":"SUM(問題別集計③!J123:J125)","v":0},{"$f":"SUM(問題別集計③!K123:K125)","v":0},{"$f":"SUM(問題別集計③!L123:L125)","v":0},{"$f":"SUM(問題別集計③!M123:M125)","v":0},{"$f":"SUM(問題別集計③!N123:N125)","v":0},{"$f":"SUM(問題別集計③!O123:O125)","v":0},{"$f":"SUM(問題別集計③!P123:P125)","v":0},{"$f":"SUM(問題別集計③!Q123:Q125)","v":0},{"$f":"SUM(問題別集計③!R123:R125)","v":0},{"$f":"SUM(問題別集計③!S123:S125)","v":0},{"$f":"SUM(問題別集計③!T123:T125)","v":0},{"$f":"ROUND(AI150/AI153,3)*100","v":{"$error":"#DIV/0!"}},{"$error":"#DIV/0!"},{"$error":"#DIV/0!"},{"$error":"#DIV/0!"},{"$error":"#DIV/0!"},{"$error":"#DIV/0!"},{"$error":"#DIV/0!"},{"$error":"#DIV/0!"},{"$error":"#DIV/0!"},{"$error":"#DIV/0!"},{"$error":"#DIV/0!"},{"$error":"#DIV/0!"},{"$error":"#DIV/0!"},{"$error":"#DIV/0!"},{"$f":"SUM(問題別集計②!G123:G125)","v":0},{"$f":"SUM(問題別集計②!H123:H125)","v":0},{"$f":"SUM(問題別集計②!I123:I125)","v":0},{"$f":"SUM(問題別集計②!J123:J125)","v":0},{"$f":"SUM(問題別集計②!K123:K125)","v":0},{"$f":"SUM(問題別集計②!L123:L125)","v":0},{"$f":"SUM(問題別集計②!M123:M125)","v":0},{"$f":"SUM(問題別集計②!N123:N125)","v":0},{"$f":"SUM(問題別集計②!O123:O125)","v":0},{"$f":"SUM(問題別集計②!P123:P125)","v":0},{"$f":"SUM(問題別集計②!Q123:Q125)","v":0},{"$f":"SUM(問題別集計②!R123:R125)","v":0},{"$f":"SUM(問題別集計②!S123:S125)","v":0},{"$f":"SUM(問題別集計②!T123:T125)","v":0},{"$f":"ROUND(BK150/BK153,3)*100","v":{"$error":"#DIV/0!"}},{"$error":"#DIV/0!"},{"$error":"#DIV/0!"},{"$error":"#DIV/0!"},{"$error":"#DIV/0!"},{"$error":"#DIV/0!"},{"$error":"#DIV/0!"},{"$error":"#DIV/0!"},{"$error":"#DIV/0!"},{"$error":"#DIV/0!"},{"$error":"#DIV/0!"},{"$error":"#DIV/0!"},{"$error":"#DIV/0!"},{"$error":"#DIV/0!"}]
[null,null,null,4,"よくある",4]
[null,null,null,5,"いつもある",5]
[null,null,null,"計",null,null,{"$f":"SUM(G148:G152)","v":0},{"$f":"SUM(H148:H152)","v":0},0,0,0,0,0,0,0,0,0,0,0,0,{"$error":"#DIV/0!"},{"$error":"#DIV/0!"},{"$error":"#DIV/0!"},{"$error":"#DIV/0!"},{"$error":"#DIV/0!"},{"$error":"#DIV/0!"},{"$f":"SUM(AA148:AA152)","v":{"$error":"#DIV/0!"}},{"$error":"#DIV/0!"},{"$error":"#DIV/0!"},{"$error":"#DIV/0!"},{"$error":"#DIV/0!"},{"$error":"#DIV/0!"},{"$error":"#DIV/0!"},{"$f":"SUM(AH148:AH152)","v":{"$error":"#DIV/0!"}},0,0,0,0,0,0,0,0,0,0,0,0,0,0,{"$f":"SUM(AW148:AW152)","v":{"$error":"#DIV/0!"}},{"$error":"#DIV/0!"},{"$error":"#DIV/0!"},{"$error":"#DIV/0!"},{"$error":"#DIV/0!"},{"$error":"#DIV/0!"},{"$f":"SUM(BC148:BC152)","v":{"$error":"#DIV/0!"}},{"$f":"SUM(BD148:BD152)","v":{"$error":"#DIV/0!"}},{"$error":"#DIV/0!"},{"$error":"#DIV/0!"},{"$error":"#DIV/0!"},{"$error":"#DIV/0!"},{"$error":"#DIV/0!"},{"$f":"SUM(BJ148:BJ152)","v":{"$error":"#DIV/0!"}},0,0,0,0,0,0,0,0,0,0,0,0,0,{"$f":"SUM(BX148:BX152)","v":0},{"$error":"#DIV/0!"},{"$error":"#DIV/0!"},{"$error":"#DIV/0!"},{"$error":"#DIV/0!"},{"$error":"#DIV/0!"},{"$error":"#DIV/0!"},{"$f":"SUM(CE148:CE152)","v":{"$error":"#DIV/0!"}},{"$f":"SUM(CF148:CF152)","v":{"$error":"#DIV/0!"}},{"$error":"#DIV/0!"},{"$error":"#DIV/0!"},{"$error":"#DIV/0!"},{"$error":"#DIV/0!"},{"$error":"#DIV/0!"},{"$f":"SUM(CL148:CL152)","v":{"$error":"#DIV/0!"}}]
[null,"28\n(29)","インターネットをする時間を増やすために、家庭での仕事や役割をおろそかにすることがありますか？",1,"全くない",1,{"$f":"SUM(問題別集計!G126:G127)","v":0},{"$f":"SUM(問題別集計!H126:H127)","v":0},{"$f":"SUM(問題別集計!I126:I127)","v":0},{"$f":"SUM(問題別集計!J126:J127)","v":0},{"$f":"SUM(問題別集計!K126:K127)","v":0},{"$f":"SUM(問題別集計!L126:L127)","v":0},{"$f":"SUM(問題別集計!M126:M127)","v":0},{"$f":"SUM(問題別集計!N126:N127)","v":0},{"$f":"SUM(問題別集計!O126:O127)","v":0},{"$f":"SUM(問題別集計!P126:P127)","v":0},{"$f":"SUM(問題別集計!Q126:Q127)","v":0},{"$f":"SUM(問題別集計!R126:R127)","v":0},{"$f":"SUM(問題別集計!S126:S127)","v":0},{"$f":"SUM(問題別集計!T126:T127)","v":0},{"$f":"ROUND(G154/G159,3)*100","v":{"$error":"#DIV/0!"}},{"$error":"#DIV/0!"},{"$error":"#DIV/0!"},{"$error":"#DIV/0!"},{"$error":"#DIV/0!"},{"$error":"#DIV/0!"},{"$error":"#DIV/0!"},{"$error":"#DIV/0!"},{"$error":"#DIV/0!"},{"$error":"#DIV/0!"},{"$error":"#DIV/0!"},{"$error":"#DIV/0!"},{"$error":"#DIV/0!"},{"$error":"#DIV/0!"},{"$f":"SUM(問題別集計③!G126:G127)","v":0},{"$f":"SUM(問題別集計③!H126:H127)","v":0},{"$f":"SUM(問題別集計③!I126:I127)","v":0},{"$f":"SUM(問題別集計③!J126:J127)","v":0},{"$f":"SUM(問題別集計③!K126:K127)","v":0},{"$f":"SUM(問題別集計③!L126:L127)","v":0},{"$f":"SUM(問題別集計③!M126:M127)","v":0},{"$f":"SUM(問題別集計③!N126:N127)","v":0},{"$f":"SUM(問題別集計③!O126:O127)","v":0},{"$f":"SUM(問題別集計③!P126:P127)","v":0},{"$f":"SUM(問題別集計③!Q126:Q127)","v":0},{"$f":"SUM(問題別集計③!R126:R127)","v":0},{"$f":"SUM(問題別集計③!S126:S127)","v":0},{"$f":"SUM(問題別集計③!T126:T127)","v":0},{"$f":"ROUND(AI154/AI159,3)*100","v":{"$error":"#DIV/0!"}},{"$error":"#DIV/0!"},{"$error":"#DIV/0!"},{"$error":"#DIV/0!"},{"$error":"#DIV/0!"},{"$error":"#DIV/0!"},{"$error":"#DIV/0!"},{"$error":"#DIV/0!"},{"$error":"#DIV/0!"},{"$error":"#DIV/0!"},{"$error":"#DIV/0!"},{"$error":"#DIV/0!"},{"$error":"#DIV/0!"},{"$error":"#DIV/0!"},{"$f":"SUM(問題別集計②!G126:G127)","v":0},{"$f":"SUM(問題別集計②!H126:H127)","v":0},{"$f":"SUM(問題別集計②!I126:I127)","v":0},{"$f":"SUM(問題別集計②!J126:J127)","v":0},{"$f":"SUM(問題別集計②!K126:K127)","v":0},{"$f":"SUM(問題別集計②!L126:L127)","v":0},{"$f":"SUM(問題別集計②!M126:M127)","v":0},{"$f":"SUM(問題別集計②!N126:N127)","v":0},{"$f":"SUM(問題別集計②!O126:O127)","v":0},{"$f":"SUM(問題別集計②!P126:P127)","v":0},{"$f":"SUM(問題別集計②!Q126:Q127)","v":0},{"$f":"SUM(問題別集計②!R126:R127)","v":0},{"$f":"SUM(問題別集計②!S126:S127)","v":0},{"$f":"SUM(問題別集計②!T126:T127)","v":0},{"$f":"ROUND(BK154/BK159,3)*100","v":{"$error":"#DIV/0!"}},{"$error":"#DIV/0!"},{"$error":"#DIV/0!"},{"$error":"#DIV/0!"},{"$error":"#DIV/0!"},{"$error":"#DIV/0!"},{"$error":"#DIV/0!"},{"$error":"#DIV/0!"},{"$error":"#DIV/0!"},{"$error":"#DIV/0!"},{"$error":"#DIV/0!"},{"$error":"#DIV/0!"},{"$error":"#DIV/0!"},{"$error":"#DIV/0!"}]
[null,null,null,2,"まれにある",2,null,null,null,null,null,null,null,null,null,null,null,null,null,null,{"$f":"ROUND(G155/G$72,4)*100","v":{"$error":"#DIV/0!"}},{"$f":"ROUND(H155/H$72,4)*100","v":{"$error":"#DIV/0!"}},{"$f":"ROUND(I155/I$72,4)*100","v":{"$error":"#DIV/0!"}},{"$f":"ROUND(J155/J$72,4)*100","v":{"$error":"#DIV/0!"}},{"$f":"ROUND(K155/K$72,4)*100","v":{"$error":"#DIV/0!"}},{"$f":"ROUND(L155/L$72,4)*100","v":{"$error":"#DIV/0!"}},{"$f":"ROUND(M155/M$72,4)*100","v":{"$error":"#DIV/0!"}},{"$f":"ROUND(N155/N$72,4)*100","v":{"$error":"#DIV/0!"}},{"$f":"ROUND(O155/O$72,4)*100","v":{"$error":"#DIV/0!"}},{"$f":"ROUND(P155/P$72,4)*100","v":{"$error":"#DIV/0!"}},{"$f":"ROUND(Q155/Q$72,4)*100","v":{"$error":"#DIV/0!"}},{"$f":"ROUND(R155/R$72,4)*100","v":{"$error":"#DIV/0!"}},{"$f":"ROUND(S155/S$72,4)*100","v":{"$error":"#DIV/0!"}},{"$f":"ROUND(T155/T$72,4)*100","v":{"$error":"#DIV/0!"}},null,null,null,null,null,null,null,null,null,null,null,null,null,null,{"$f":"ROUND(AI155/AI$72,4)*100","v":{"$error":"#DIV/0!"}},{"$f":"ROUND(AJ155/AJ$72,4)*100","v":{"$error":"#DIV/0!"}},{"$f":"ROUND(AK155/AK$72,4)*100","v":{"$error":"#DIV/0!"}},{"$f":"ROUND(AL155/AL$72,4)*100","v":{"$error":"#DIV/0!"}},{"$f":"ROUND(AM155/AM$72,4)*100","v":{"$error":"#DIV/0!"}},{"$f":"ROUND(AN155/AN$72,4)*100","v":{"$error":"#DIV/0!"}},{"$f":"ROUND(AO155/AO$72,4)*100","v":{"$error":"#DIV/0!"}},{"$f":"ROUND(AP155/AP$72,4)*100","v":{"$error":"#DIV/0!"}},{"$f":"ROUND(AQ155/AQ$72,4)*100","v":{"$error":"#DIV/0!"}},{"$f":"ROUND(AR155/AR$72,4)*100","v":{"$error":"#DIV/0!"}},{"$f":"ROUND(AS155/AS$72,4)*100","v":{"$error":"#DIV/0!"}},{"$f":"ROUND(AT155/AT$72,4)*100","v":{"$error":"#DIV/0!"}},{"$f":"ROUND(AU155/AU$72,4)*100","v":{"$error":"#DIV/0!"}},{"$f":"ROUND(AV155/AV$72,4)*100","v":{"$error":"#DIV/0!"}},null,null,null,null,null,null,null,null,null,null,null,null,null,null,{"$f":"ROUND(BK155/BK$72,4)*100","v":{"$error":"#DIV/0!"}},{"$f":"ROUND(BL155/BL$72,4)*100","v":{"$error":"#DIV/0!"}},{"$f":"ROUND(BM155/BM$72,4)*100","v":{"$error":"#DIV/0!"}},{"$f":"ROUND(BN155/BN$72,4)*100","v":{"$error":"#DIV/0!"}},{"$f":"ROUND(BO155/BO$72,4)*100","v":{"$error":"#DIV/0!"}},{"$f":"ROUND(BP155/BP$72,4)*100","v":{"$error":"#DIV/0!"}},{"$f":"ROUND(BQ155/BQ$72,4)*100","v":{"$error":"#DIV/0!"}},{"$f":"ROUND(BR155/BR$72,4)*100","v":{"$error":"#DIV/0!"}},{"$f":"ROUND(BS155/BS$72,4)*100","v":{"$error":"#DIV/0!"}},{"$f":"ROUND(BT155/BT$72,4)*100","v":{"$error":"#DIV/0!"}},{"$f":"ROUND(BU155/BU$72,4)*100","v":{"$error":"#DIV/0!"}},{"$f":"ROUND(BV155/BV$72,4)*100","v":{"$error":"#DIV/0!"}},{"$f":"ROUND(BW155/BW$72,4)*100","v":{"$error":"#DIV/0!"}},{"$f":"ROUND(BX155/BX$72,4)*100","v":{"$error":"#DIV/0!"}}]
[null,null,null,3,"時々ある",3,{"$f":"SUM(問題別集計!G128:G130)","v":0},{"$f":"SUM(問題別集計!H128:H130)","v":0},{"$f":"SUM(問題別集計!I128:I130)","v":0},{"$f":"SUM(問題別集計!J128:J130)","v":0},{"$f":"SUM(問題別集計!K128:K130)","v":0},{"$f":"SUM(問題別集計!L128:L130)","v":0},{"$f":"SUM(問題別集計!M128:M130)","v":0},{"$f":"SUM(問題別集計!N128:N130)","v":0},{"$f":"SUM(問題別集計!O128:O130)","v":0},{"$f":"SUM(問題別集計!P128:P130)","v":0},{"$f":"SUM(問題別集計!Q128:Q130)","v":0},{"$f":"SUM(問題別集計!R128:R130)","v":0},{"$f":"SUM(問題別集計!S128:S130)","v":0},{"$f":"SUM(問題別集計!T128:T130)","v":0},{"$f":"ROUND(G156/G159,3)*100","v":{"$error":"#DIV/0!"}},{"$error":"#DIV/0!"},{"$error":"#DIV/0!"},{"$error":"#DIV/0!"},{"$error":"#DIV/0!"},{"$error":"#DIV/0!"},{"$error":"#DIV/0!"},{"$error":"#DIV/0!"},{"$error":"#DIV/0!"},{"$error":"#DIV/0!"},{"$error":"#DIV/0!"},{"$error":"#DIV/0!"},{"$error":"#DIV/0!"},{"$error":"#DIV/0!"},{"$f":"SUM(問題別集計③!G128:G130)","v":0},{"$f":"SUM(問題別集計③!H128:H130)","v":0},{"$f":"SUM(問題別集計③!I128:I130)","v":0},{"$f":"SUM(問題別集計③!J128:J130)","v":0},{"$f":"SUM(問題別集計③!K128:K130)","v":0},{"$f":"SUM(問題別集計③!L128:L130)","v":0},{"$f":"SUM(問題別集計③!M128:M130)","v":0},{"$f":"SUM(問題別集計③!N128:N130)","v":0},{"$f":"SUM(問題別集計③!O128:O130)","v":0},{"$f":"SUM(問題別集計③!P128:P130)","v":0},{"$f":"SUM(問題別集計③!Q128:Q130)","v":0},{"$f":"SUM(問題別集計③!R128:R130)","v":0},{"$f":"SUM(問題別集計③!S128:S130)","v":0},{"$f":"SUM(問題別集計③!T128:T130)","v":0},{"$f":"ROUND(AI156/AI159,3)*100","v":{"$error":"#DIV/0!"}},{"$error":"#DIV/0!"},{"$error":"#DIV/0!"},{"$error":"#DIV/0!"},{"$error":"#DIV/0!"},{"$error":"#DIV/0!"},{"$error":"#DIV/0!"},{"$error":"#DIV/0!"},{"$error":"#DIV/0!"},{"$error":"#DIV/0!"},{"$error":"#DIV/0!"},{"$error":"#DIV/0!"},{"$error":"#DIV/0!"},{"$error":"#DIV/0!"},{"$f":"SUM(問題別集計②!G128:G130)","v":0},{"$f":"SUM(問題別集計②!H128:H130)","v":0},{"$f":"SUM(問題別集計②!I128:I130)","v":0},{"$f":"SUM(問題別集計②!J128:J130)","v":0},{"$f":"SUM(問題別集計②!K128:K130)","v":0},{"$f":"SUM(問題別集計②!L128:L130)","v":0},{"$f":"SUM(問題別集計②!M128:M130)","v":0},{"$f":"SUM(問題別集計②!N128:N130)","v":0},{"$f":"SUM(問題別集計②!O128:O130)","v":0},{"$f":"SUM(問題別集計②!P128:P130)","v":0},{"$f":"SUM(問題別集計②!Q128:Q130)","v":0},{"$f":"SUM(問題別集計②!R128:R130)","v":0},{"$f":"SUM(問題別集計②!S128:S130)","v":0},{"$f":"SUM(問題別集計②!T128:T130)","v":0},{"$f":"ROUND(BK156/BK159,3)*100","v":{"$error":"#DIV/0!"}},{"$error":"#DIV/0!"},{"$error":"#DIV/0!"},{"$error":"#DIV/0!"},{"$error":"#DIV/0!"},{"$error":"#DIV/0!"},{"$error":"#DIV/0!"},{"$error":"#DIV/0!"},{"$error":"#DIV/0!"},{"$error":"#DIV/0!"},{"$error":"#DIV/0!"},{"$error":"#DIV/0!"},{"$error":"#DIV/0!"},{"$error":"#DIV/0!"}]
[null,null,null,4,"よくある",4]
[null,null,null,5,"いつもある",5]
[null,null,null,"計",null,null,{"$f":"SUM(G154:G158)","v":0},{"$f":"SUM(H154:H158)","v":0},{"$f":"SUM(I154:I158)","v":0},{"$f":"SUM(J154:J158)","v":0},{"$f":"SUM(K154:K158)","v":0},{"$f":"SUM(L154:L158)","v":0},{"$f":"SUM(M154:M158)","v":0},{"$f":"SUM(N154:N158)","v":0},{"$f":"SUM(O154:O158)","v":0},{"$f":"SUM(P154:P158)","v":0},{"$f":"SUM(Q154:Q158)","v":0},{"$f":"SUM(R154:R158)","v":0},{"$f":"SUM(S154:S158)","v":0},{"$f":"SUM(T154:T158)","v":0},{"$f":"SUM(U154:U158)","v":{"$error":"#DIV/0!"}},{"$f":"SUM(V154:V158)","v":{"$error":"#DIV/0!"}},{"$f":"SUM(W154:W158)","v":{"$error":"#DIV/0!"}},{"$f":"SUM(X154:X158)","v":{"$error":"#DIV/0!"}},{"$f":"SUM(Y154:Y158)","v":{"$error":"#DIV/0!"}},{"$f":"SUM(Z154:Z158)","v":{"$error":"#DIV/0!"}},{"$f":"SUM(AA154:AA158)","v":{"$error":"#DIV/0!"}},{"$f":"SUM(AB154:AB158)","v":{"$error":"#DIV/0!"}},{"$f":"SUM(AC154:AC158)","v":{"$error":"#DIV/0!"}},{"$f":"SUM(AD154:AD158)","v":{"$error":"#DIV/0!"}},{"$f":"SUM(AE154:AE158)","v":{"$error":"#DIV/0!"}},{"$f":"SUM(AF154:AF158)","v":{"$error":"#DIV/0!"}},{"$f":"SUM(AG154:AG158)","v":{"$error":"#DIV/0!"}},{"$f":"SUM(AH154:AH158)","v":{"$error":"#DIV/0!"}},{"$f":"SUM(AI154:AI158)","v":0},{"$f":"SUM(AJ154:AJ158)","v":0},{"$f":"SUM(AK154:AK158)","v":0},{"$f":"SUM(AL154:AL158)","v":0},{"$f":"SUM(AM154:AM158)","v":0},{"$f":"SUM(AN154:AN158)","v":0},{"$f":"SUM(AO154:AO158)","v":0},{"$f":"SUM(AP154:AP158)","v":0},{"$f":"SUM(AQ154:AQ158)","v":0},{"$f":"SUM(AR154:AR158)","v":0},{"$f":"SUM(AS154:AS158)","v":0},{"$f":"SUM(AT154:AT158)","v":0},{"$f":"SUM(AU154:AU158)","v":0},{"$f":"SUM(AV154:AV158)","v":0},{"$error":"#DIV/0!"},{"$error":"#DIV/0!"},{"$error":"#DIV/0!"},{"$error":"#DIV/0!"},{"$error":"#DIV/0!"},{"$error":"#DIV/0!"},{"$f":"SUM(BC154:BC158)","v":{"$error":"#DIV/0!"}},{"$f":"SUM(BD154:BD158)","v":{"$error":"#DIV/0!"}},{"$error":"#DIV/0!"},{"$error":"#DIV/0!"},{"$error":"#DIV/0!"},{"$error":"#DIV/0!"},{"$error":"#DIV/0!"},{"$f":"SUM(BJ154:BJ158)","v":{"$error":"#DIV/0!"}},{"$f":"SUM(BK154:BK158)","v":0},{"$f":"SUM(BL154:BL158)","v":0},{"$f":"SUM(BM154:BM158)","v":0},{"$f":"SUM(BN154:BN158)","v":0},{"$f":"SUM(BO154:BO158)","v":0},{"$f":"SUM(BP154:BP158)","v":0},{"$f":"SUM(BQ154:BQ158)","v":0},{"$f":"SUM(BR154:BR158)","v":0},{"$f":"SUM(BS154:BS158)","v":0},{"$f":"SUM(BT154:BT158)","v":0},{"$f":"SUM(BU154:BU158)","v":0},{"$f":"SUM(BV154:BV158)","v":0},{"$f":"SUM(BW154:BW158)","v":0},{"$f":"SUM(BX154:BX158)","v":0},{"$error":"#DIV/0!"},{"$error":"#DIV/0!"},{"$error":"#DIV/0!"},{"$error":"#DIV/0!"},{"$error":"#DIV/0!"},{"$error":"#DIV/0!"},{"$f":"SUM(CE154:CE158)","v":{"$error":"#DIV/0!"}},{"$f":"SUM(CF154:CF158)","v":{"$error":"#DIV/0!"}},{"$error":"#DIV/0!"},{"$error":"#DIV/0!"},{"$error":"#DIV/0!"},{"$error":"#DIV/0!"},{"$error":"#DIV/0!"},{"$f":"SUM(CL154:CL158)","v":{"$error":"#DIV/0!"}}]
[null,"29\n(30)","友人と過ごすよりも、インターネットを選ぶことがありますか？",1,"全くない",1,{"$f":"SUM(問題別集計!G131:G132)","v":0},{"$f":"SUM(問題別集計!H131:H132)","v":0},{"$f":"SUM(問題別集計!I131:I132)","v":0},{"$f":"SUM(問題別集計!J131:J132)","v":0},{"$f":"SUM(問題別集計!K131:K132)","v":0},{"$f":"SUM(問題別集計!L131:L132)","v":0},{"$f":"SUM(問題別集計!M131:M132)","v":0},{"$f":"SUM(問題別集計!N131:N132)","v":0},{"$f":"SUM(問題別集計!O131:O132)","v":0},{"$f":"SUM(問題別集計!P131:P132)","v":0},{"$f":"SUM(問題別集計!Q131:Q132)","v":0},{"$f":"SUM(問題別集計!R131:R132)","v":0},{"$f":"SUM(問題別集計!S131:S132)","v":0},{"$f":"SUM(問題別集計!T131:T132)","v":0},{"$f":"ROUND(G160/G165,3)*100","v":{"$error":"#DIV/0!"}},{"$error":"#DIV/0!"},{"$error":"#DIV/0!"},{"$error":"#DIV/0!"},{"$error":"#DIV/0!"},{"$error":"#DIV/0!"},{"$error":"#DIV/0!"},{"$error":"#DIV/0!"},{"$error":"#DIV/0!"},{"$error":"#DIV/0!"},{"$error":"#DIV/0!"},{"$error":"#DIV/0!"},{"$error":"#DIV/0!"},{"$error":"#DIV/0!"},{"$f":"SUM(問題別集計③!G131:G132)","v":0},{"$f":"SUM(問題別集計③!H131:H132)","v":0},{"$f":"SUM(問題別集計③!I131:I132)","v":0},{"$f":"SUM(問題別集計③!J131:J132)","v":0},{"$f":"SUM(問題別集計③!K131:K132)","v":0},{"$f":"SUM(問題別集計③!L131:L132)","v":0},{"$f":"SUM(問題別集計③!M131:M132)","v":0},{"$f":"SUM(問題別集計③!N131:N132)","v":0},{"$f":"SUM(問題別集計③!O131:O132)","v":0},{"$f":"SUM(問題別集計③!P131:P132)","v":0},{"$f":"SUM(問題別集計③!Q131:Q132)","v":0},{"$f":"SUM(問題別集計③!R131:R132)","v":0},{"$f":"SUM(問題別集計③!S131:S132)","v":0},{"$f":"SUM(問題別集計③!T131:T132)","v":0},{"$f":"ROUND(AI160/AI165,3)*100","v":{"$error":"#DIV/0!"}},{"$error":"#DIV/0!"},{"$error":"#DIV/0!"},{"$error":"#DIV/0!"},{"$error":"#DIV/0!"},{"$error":"#DIV/0!"},{"$error":"#DIV/0!"},{"$error":"#DIV/0!"},{"$error":"#DIV/0!"},{"$error":"#DIV/0!"},{"$error":"#DIV/0!"},{"$error":"#DIV/0!"},{"$error":"#DIV/0!"},{"$error":"#DIV/0!"},{"$f":"SUM(問題別集計②!G131:G132)","v":0},{"$f":"SUM(問題別集計②!H131:H132)","v":0},{"$f":"SUM(問題別集計②!I131:I132)","v":0},{"$f":"SUM(問題別集計②!J131:J132)","v":0},{"$f":"SUM(問題別集計②!K131:K132)","v":0},{"$f":"SUM(問題別集計②!L131:L132)","v":0},{"$f":"SUM(問題別集計②!M131:M132)","v":0},{"$f":"SUM(問題別集計②!N131:N132)","v":0},{"$f":"SUM(問題別集計②!O131:O132)","v":0},{"$f":"SUM(問題別集計②!P131:P132)","v":0},{"$f":"SUM(問題別集計②!Q131:Q132)","v":0},{"$f":"SUM(問題別集計②!R131:R132)","v":0},{"$f":"SUM(問題別集計②!S131:S132)","v":0},{"$f":"SUM(問題別集計②!T131:T132)","v":0},{"$f":"ROUND(BK160/BK165,3)*100","v":{"$error":"#DIV/0!"}},{"$error":"#DIV/0!"},{"$error":"#DIV/0!"},{"$error":"#DIV/0!"},{"$error":"#DIV/0!"},{"$error":"#DIV/0!"},{"$error":"#DIV/0!"},{"$error":"#DIV/0!"},{"$error":"#DIV/0!"},{"$error":"#DIV/0!"},{"$error":"#DIV/0!"},{"$error":"#DIV/0!"},{"$error":"#DIV/0!"},{"$error":"#DIV/0!"}]
[null,null,null,2,"まれにある",2,null,null,null,null,null,null,null,null,null,null,null,null,null,null,{"$f":"ROUND(G161/G$72,4)*100","v":{"$error":"#DIV/0!"}},{"$f":"ROUND(H161/H$72,4)*100","v":{"$error":"#DIV/0!"}},{"$f":"ROUND(I161/I$72,4)*100","v":{"$error":"#DIV/0!"}},{"$f":"ROUND(J161/J$72,4)*100","v":{"$error":"#DIV/0!"}},{"$f":"ROUND(K161/K$72,4)*100","v":{"$error":"#DIV/0!"}},{"$f":"ROUND(L161/L$72,4)*100","v":{"$error":"#DIV/0!"}},{"$f":"ROUND(M161/M$72,4)*100","v":{"$error":"#DIV/0!"}},{"$f":"ROUND(N161/N$72,4)*100","v":{"$error":"#DIV/0!"}},{"$f":"ROUND(O161/O$72,4)*100","v":{"$error":"#DIV/0!"}},{"$f":"ROUND(P161/P$72,4)*100","v":{"$error":"#DIV/0!"}},{"$f":"ROUND(Q161/Q$72,4)*100","v":{"$error":"#DIV/0!"}},{"$f":"ROUND(R161/R$72,4)*100","v":{"$error":"#DIV/0!"}},{"$f":"ROUND(S161/S$72,4)*100","v":{"$error":"#DIV/0!"}},{"$f":"ROUND(T161/T$72,4)*100","v":{"$error":"#DIV/0!"}},null,null,null,null,null,null,null,null,null,null,null,null,null,null,{"$f":"ROUND(AI161/AI$72,4)*100","v":{"$error":"#DIV/0!"}},{"$f":"ROUND(AJ161/AJ$72,4)*100","v":{"$error":"#DIV/0!"}},{"$f":"ROUND(AK161/AK$72,4)*100","v":{"$error":"#DIV/0!"}},{"$f":"ROUND(AL161/AL$72,4)*100","v":{"$error":"#DIV/0!"}},{"$f":"ROUND(AM161/AM$72,4)*100","v":{"$error":"#DIV/0!"}},{"$f":"ROUND(AN161/AN$72,4)*100","v":{"$error":"#DIV/0!"}},{"$f":"ROUND(AO161/AO$72,4)*100","v":{"$error":"#DIV/0!"}},{"$f":"ROUND(AP161/AP$72,4)*100","v":{"$error":"#DIV/0!"}},{"$f":"ROUND(AQ161/AQ$72,4)*100","v":{"$error":"#DIV/0!"}},{"$f":"ROUND(AR161/AR$72,4)*100","v":{"$error":"#DIV/0!"}},{"$f":"ROUND(AS161/AS$72,4)*100","v":{"$error":"#DIV/0!"}},{"$f":"ROUND(AT161/AT$72,4)*100","v":{"$error":"#DIV/0!"}},{"$f":"ROUND(AU161/AU$72,4)*100","v":{"$error":"#DIV/0!"}},{"$f":"ROUND(AV161/AV$72,4)*100","v":{"$error":"#DIV/0!"}},null,null,null,null,null,null,null,null,null,null,null,null,null,null,{"$f":"ROUND(BK161/BK$72,4)*100","v":{"$error":"#DIV/0!"}},{"$f":"ROUND(BL161/BL$72,4)*100","v":{"$error":"#DIV/0!"}},{"$f":"ROUND(BM161/BM$72,4)*100","v":{"$error":"#DIV/0!"}},{"$f":"ROUND(BN161/BN$72,4)*100","v":{"$error":"#DIV/0!"}},{"$f":"ROUND(BO161/BO$72,4)*100","v":{"$error":"#DIV/0!"}},{"$f":"ROUND(BP161/BP$72,4)*100","v":{"$error":"#DIV/0!"}},{"$f":"ROUND(BQ161/BQ$72,4)*100","v":{"$error":"#DIV/0!"}},{"$f":"ROUND(BR161/BR$72,4)*100","v":{"$error":"#DIV/0!"}},{"$f":"ROUND(BS161/BS$72,4)*100","v":{"$error":"#DIV/0!"}},{"$f":"ROUND(BT161/BT$72,4)*100","v":{"$error":"#DIV/0!"}},{"$f":"ROUND(BU161/BU$72,4)*100","v":{"$error":"#DIV/0!"}},{"$f":"ROUND(BV161/BV$72,4)*100","v":{"$error":"#DIV/0!"}},{"$f":"ROUND(BW161/BW$72,4)*100","v":{"$error":"#DIV/0!"}},{"$f":"ROUND(BX161/BX$72,4)*100","v":{"$error":"#DIV/0!"}}]
[null,null,null,3,"時々ある",3,{"$f":"SUM(問題別集計!G133:G135)","v":0},{"$f":"SUM(問題別集計!H133:H135)","v":0},{"$f":"SUM(問題別集計!I133:I135)","v":0},{"$f":"SUM(問題別集計!J133:J135)","v":0},{"$f":"SUM(問題別集計!K133:K135)","v":0},{"$f":"SUM(問題別集計!L133:L135)","v":0},{"$f":"SUM(問題別集計!M133:M135)","v":0},{"$f":"SUM(問題別集計!N133:N135)","v":0},{"$f":"SUM(問題別集計!O133:O135)","v":0},{"$f":"SUM(問題別集計!P133:P135)","v":0},{"$f":"SUM(問題別集計!Q133:Q135)","v":0},{"$f":"SUM(問題別集計!R133:R135)","v":0},{"$f":"SUM(問題別集計!S133:S135)","v":0},{"$f":"SUM(問題別集計!T133:T135)","v":0},{"$f":"ROUND(G162/G165,3)*100","v":{"$error":"#DIV/0!"}},{"$error":"#DIV/0!"},{"$error":"#DIV/0!"},{"$error":"#DIV/0!"},{"$error":"#DIV/0!"},{"$error":"#DIV/0!"},{"$error":"#DIV/0!"},{"$error":"#DIV/0!"},{"$error":"#DIV/0!"},{"$error":"#DIV/0!"},{"$error":"#DIV/0!"},{"$error":"#DIV/0!"},{"$error":"#DIV/0!"},{"$error":"#DIV/0!"},{"$f":"SUM(問題別集計③!G133:G135)","v":0},{"$f":"SUM(問題別集計③!H133:H135)","v":0},{"$f":"SUM(問題別集計③!I133:I135)","v":0},{"$f":"SUM(問題別集計③!J133:J135)","v":0},{"$f":"SUM(問題別集計③!K133:K135)","v":0},{"$f":"SUM(問題別集計③!L133:L135)","v":0},{"$f":"SUM(問題別集計③!M133:M135)","v":0},{"$f":"SUM(問題別集計③!N133:N135)","v":0},{"$f":"SUM(問題別集計③!O133:O135)","v":0},{"$f":"SUM(問題別集計③!P133:P135)","v":0},{"$f":"SUM(問題別集計③!Q133:Q135)","v":0},{"$f":"SUM(問題別集計③!R133:R135)","v":0},{"$f":"SUM(問題別集計③!S133:S135)","v":0},{"$f":"SUM(問題別集計③!T133:T135)","v":0},{"$f":"ROUND(AI162/AI165,3)*100","v":{"$error":"#DIV/0!"}},{"$error":"#DIV/0!"},{"$error":"#DIV/0!"},{"$error":"#DIV/0!"},{"$error":"#DIV/0!"},{"$error":"#DIV/0!"},{"$error":"#DIV/0!"},{"$error":"#DIV/0!"},{"$error":"#DIV/0!"},{"$error":"#DIV/0!"},{"$error":"#DIV/0!"},{"$error":"#DIV/0!"},{"$error":"#DIV/0!"},{"$error":"#DIV/0!"},{"$f":"SUM(問題別集計②!G133:G135)","v":0},{"$f":"SUM(問題別集計②!H133:H135)","v":0},{"$f":"SUM(問題別集計②!I133:I135)","v":0},{"$f":"SUM(問題別集計②!J133:J135)","v":0},{"$f":"SUM(問題別集計②!K133:K135)","v":0},{"$f":"SUM(問題別集計②!L133:L135)","v":0},{"$f":"SUM(問題別集計②!M133:M135)","v":0},{"$f":"SUM(問題別集計②!N133:N135)","v":0},{"$f":"SUM(問題別集計②!O133:O135)","v":0},{"$f":"SUM(問題別集計②!P133:P135)","v":0},{"$f":"SUM(問題別集計②!Q133:Q135)","v":0},{"$f":"SUM(問題別集計②!R133:R135)","v":0},{"$f":"SUM(問題別集計②!S133:S135)","v":0},{"$f":"SUM(問題別集計②!T133:T135)","v":0},{"$f":"ROUND(BK162/BK165,3)*100","v":{"$error":"#DIV/0!"}},{"$error":"#DIV/0!"},{"$error":"#DIV/0!"},{"$error":"#DIV/0!"},{"$error":"#DIV/0!"},{"$error":"#DIV/0!"},{"$error":"#DIV/0!"},{"$error":"#DIV/0!"},{"$error":"#DIV/0!"},{"$error":"#DIV/0!"},{"$error":"#DIV/0!"},{"$error":"#DIV/0!"},{"$error":"#DIV/0!"},{"$error":"#DIV/0!"}]
[null,null,null,4,"よくある",4]
[null,null,null,5,"いつもある",5]
[null,null,null,"計",null,null,{"$f":"SUM(G160:G164)","v":0},{"$f":"SUM(H160:H164)","v":0},{"$f":"SUM(I160:I164)","v":0},{"$f":"SUM(J160:J164)","v":0},{"$f":"SUM(K160:K164)","v":0},{"$f":"SUM(L160:L164)","v":0},{"$f":"SUM(M160:M164)","v":0},{"$f":"SUM(N160:N164)","v":0},{"$f":"SUM(O160:O164)","v":0},{"$f":"SUM(P160:P164)","v":0},{"$f":"SUM(Q160:Q164)","v":0},{"$f":"SUM(R160:R164)","v":0},{"$f":"SUM(S160:S164)","v":0},{"$f":"SUM(T160:T164)","v":0},{"$f":"SUM(U160:U164)","v":{"$error":"#DIV/0!"}},{"$f":"SUM(V160:V164)","v":{"$error":"#DIV/0!"}},{"$f":"SUM(W160:W164)","v":{"$error":"#DIV/0!"}},{"$f":"SUM(X160:X164)","v":{"$error":"#DIV/0!"}},{"$f":"SUM(Y160:Y164)","v":{"$error":"#DIV/0!"}},{"$f":"SUM(Z160:Z164)","v":{"$error":"#DIV/0!"}},{"$f":"SUM(AA160:AA164)","v":{"$error":"#DIV/0!"}},{"$f":"SUM(AB160:AB164)","v":{"$error":"#DIV/0!"}},{"$f":"SUM(AC160:AC164)","v":{"$error":"#DIV/0!"}},{"$f":"SUM(AD160:AD164)","v":{"$error":"#DIV/0!"}},{"$f":"SUM(AE160:AE164)","v":{"$error":"#DIV/0!"}},{"$f":"SUM(AF160:AF164)","v":{"$error":"#DIV/0!"}},{"$f":"SUM(AG160:AG164)","v":{"$error":"#DIV/0!"}},{"$f":"SUM(AH160:AH164)","v":{"$error":"#DIV/0!"}},{"$f":"SUM(AI160:AI164)","v":0},{"$f":"SUM(AJ160:AJ164)","v":0},{"$f":"SUM(AK160:AK164)","v":0},{"$f":"SUM(AL160:AL164)","v":0},{"$f":"SUM(AM160:AM164)","v":0},{"$f":"SUM(AN160:AN164)","v":0},{"$f":"SUM(AO160:AO164)","v":0},{"$f":"SUM(AP160:AP164)","v":0},{"$f":"SUM(AQ160:AQ164)","v":0},{"$f":"SUM(AR160:AR164)","v":0},{"$f":"SUM(AS160:AS164)","v":0},{"$f":"SUM(AT160:AT164)","v":0},{"$f":"SUM(AU160:AU164)","v":0},{"$f":"SUM(AV160:AV164)","v":0},{"$error":"#DIV/0!"},{"$error":"#DIV/0!"},{"$error":"#DIV/0!"},{"$error":"#DIV/0!"},{"$error":"#DIV/0!"},{"$error":"#DIV/0!"},{"$f":"SUM(BC160:BC164)","v":{"$error":"#DIV/0!"}},{"$f":"SUM(BD160:BD164)","v":{"$error":"#DIV/0!"}},{"$error":"#DIV/0!"},{"$error":"#DIV/0!"},{"$error":"#DIV/0!"},{"$error":"#DIV/0!"},{"$error":"#DIV/0!"},{"$f":"SUM(BJ160:BJ164)","v":{"$error":"#DIV/0!"}},{"$f":"SUM(BK160:BK164)","v":0},{"$f":"SUM(BL160:BL164)","v":0},{"$f":"SUM(BM160:BM164)","v":0},{"$f":"SUM(BN160:BN164)","v":0},{"$f":"SUM(BO160:BO164)","v":0},{"$f":"SUM(BP160:BP164)","v":0},{"$f":"SUM(BQ160:BQ164)","v":0},{"$f":"SUM(BR160:BR164)","v":0},{"$f":"SUM(BS160:BS164)","v":0},{"$f":"SUM(BT160:BT164)","v":0},{"$f":"SUM(BU160:BU164)","v":0},{"$f":"SUM(BV160:BV164)","v":0},{"$f":"SUM(BW160:BW164)","v":0},{"$f":"SUM(BX160:BX164)","v":0},{"$error":"#DIV/0!"},{"$error":"#DIV/0!"},{"$error":"#DIV/0!"},{"$error":"#DIV/0!"},{"$error":"#DIV/0!"},{"$error":"#DIV/0!"},{"$f":"SUM(CE160:CE164)","v":{"$error":"#DIV/0!"}},{"$f":"SUM(CF160:CF164)","v":{"$error":"#DIV/0!"}},{"$error":"#DIV/0!"},{"$error":"#DIV/0!"},{"$error":"#DIV/0!"},{"$error":"#DIV/0!"},{"$error":"#DIV/0!"},{"$f":"SUM(CL160:CL164)","v":{"$error":"#DIV/0!"}}]
[null,"30\n(31)","インターネットで新しい仲間を作ることがありますか？",1,"全くない",1,{"$f":"SUM(問題別集計!G136:G137)","v":0},{"$f":"SUM(問題別集計!H136:H137)","v":0},{"$f":"SUM(問題別集計!I136:I137)","v":0},{"$f":"SUM(問題別集計!J136:J137)","v":0},{"$f":"SUM(問題別集計!K136:K137)","v":0},{"$f":"SUM(問題別集計!L136:L137)","v":0},{"$f":"SUM(問題別集計!M136:M137)","v":0},{"$f":"SUM(問題別集計!N136:N137)","v":0},{"$f":"SUM(問題別集計!O136:O137)","v":0},{"$f":"SUM(問題別集計!P136:P137)","v":0},{"$f":"SUM(問題別集計!Q136:Q137)","v":0},{"$f":"SUM(問題別集計!R136:R137)","v":0},{"$f":"SUM(問題別集計!S136:S137)","v":0},{"$f":"SUM(問題別集計!T136:T137)","v":0},{"$f":"ROUND(G166/G171,3)*100","v":{"$error":"#DIV/0!"}},{"$error":"#DIV/0!"},{"$error":"#DIV/0!"},{"$error":"#DIV/0!"},{"$error":"#DIV/0!"},{"$error":"#DIV/0!"},{"$error":"#DIV/0!"},{"$error":"#DIV/0!"},{"$error":"#DIV/0!"},{"$error":"#DIV/0!"},{"$error":"#DIV/0!"},{"$error":"#DIV/0!"},{"$error":"#DIV/0!"},{"$error":"#DIV/0!"},{"$f":"SUM(問題別集計③!G136:G137)","v":0},{"$f":"SUM(問題別集計③!H136:H137)","v":0},{"$f":"SUM(問題別集計③!I136:I137)","v":0},{"$f":"SUM(問題別集計③!J136:J137)","v":0},{"$f":"SUM(問題別集計③!K136:K137)","v":0},{"$f":"SUM(問題別集計③!L136:L137)","v":0},{"$f":"SUM(問題別集計③!M136:M137)","v":0},{"$f":"SUM(問題別集計③!N136:N137)","v":0},{"$f":"SUM(問題別集計③!O136:O137)","v":0},{"$f":"SUM(問題別集計③!P136:P137)","v":0},{"$f":"SUM(問題別集計③!Q136:Q137)","v":0},{"$f":"SUM(問題別集計③!R136:R137)","v":0},{"$f":"SUM(問題別集計③!S136:S137)","v":0},{"$f":"SUM(問題別集計③!T136:T137)","v":0},{"$f":"ROUND(AI166/AI171,3)*100","v":{"$error":"#DIV/0!"}},{"$error":"#DIV/0!"},{"$error":"#DIV/0!"},{"$error":"#DIV/0!"},{"$error":"#DIV/0!"},{"$error":"#DIV/0!"},{"$error":"#DIV/0!"},{"$error":"#DIV/0!"},{"$error":"#DIV/0!"},{"$error":"#DIV/0!"},{"$error":"#DIV/0!"},{"$error":"#DIV/0!"},{"$error":"#DIV/0!"},{"$error":"#DIV/0!"},{"$f":"SUM(問題別集計②!G136:G137)","v":0},{"$f":"SUM(問題別集計②!H136:H137)","v":0},{"$f":"SUM(問題別集計②!I136:I137)","v":0},{"$f":"SUM(問題別集計②!J136:J137)","v":0},{"$f":"SUM(問題別集計②!K136:K137)","v":0},{"$f":"SUM(問題別集計②!L136:L137)","v":0},{"$f":"SUM(問題別集計②!M136:M137)","v":0},{"$f":"SUM(問題別集計②!N136:N137)","v":0},{"$f":"SUM(問題別集計②!O136:O137)","v":0},{"$f":"SUM(問題別集計②!P136:P137)","v":0},{"$f":"SUM(問題別集計②!Q136:Q137)","v":0},{"$f":"SUM(問題別集計②!R136:R137)","v":0},{"$f":"SUM(問題別集計②!S136:S137)","v":0},{"$f":"SUM(問題別集計②!T136:T137)","v":0},{"$f":"ROUND(BK166/BK171,3)*100","v":{"$error":"#DIV/0!"}},{"$error":"#DIV/0!"},{"$error":"#DIV/0!"},{"$error":"#DIV/0!"},{"$error":"#DIV/0!"},{"$error":"#DIV/0!"},{"$error":"#DIV/0!"},{"$error":"#DIV/0!"},{"$error":"#DIV/0!"},{"$error":"#DIV/0!"},{"$error":"#DIV/0!"},{"$error":"#DIV/0!"},{"$error":"#DIV/0!"},{"$error":"#DIV/0!"}]
[null,null,null,2,"まれにある",2,null,null,null,null,null,null,null,null,null,null,null,null,null,null,{"$f":"ROUND(G167/G$72,4)*100","v":{"$error":"#DIV/0!"}},{"$f":"ROUND(H167/H$72,4)*100","v":{"$error":"#DIV/0!"}},{"$f":"ROUND(I167/I$72,4)*100","v":{"$error":"#DIV/0!"}},{"$f":"ROUND(J167/J$72,4)*100","v":{"$error":"#DIV/0!"}},{"$f":"ROUND(K167/K$72,4)*100","v":{"$error":"#DIV/0!"}},{"$f":"ROUND(L167/L$72,4)*100","v":{"$error":"#DIV/0!"}},{"$f":"ROUND(M167/M$72,4)*100","v":{"$error":"#DIV/0!"}},{"$f":"ROUND(N167/N$72,4)*100","v":{"$error":"#DIV/0!"}},{"$f":"ROUND(O167/O$72,4)*100","v":{"$error":"#DIV/0!"}},{"$f":"ROUND(P167/P$72,4)*100","v":{"$error":"#DIV/0!"}},{"$f":"ROUND(Q167/Q$72,4)*100","v":{"$error":"#DIV/0!"}},{"$f":"ROUND(R167/R$72,4)*100","v":{"$error":"#DIV/0!"}},{"$f":"ROUND(S167/S$72,4)*100","v":{"$error":"#DIV/0!"}},{"$f":"ROUND(T167/T$72,4)*100","v":{"$error":"#DIV/0!"}},null,null,null,null,null,null,null,null,null,null,null,null,null,null,{"$f":"ROUND(AI167/AI$72,4)*100","v":{"$error":"#DIV/0!"}},{"$f":"ROUND(AJ167/AJ$72,4)*100","v":{"$error":"#DIV/0!"}},{"$f":"ROUND(AK167/AK$72,4)*100","v":{"$error":"#DIV/0!"}},{"$f":"ROUND(AL167/AL$72,4)*100","v":{"$error":"#DIV/0!"}},{"$f":"ROUND(AM167/AM$72,4)*100","v":{"$error":"#DIV/0!"}},{"$f":"ROUND(AN167/AN$72,4)*100","v":{"$error":"#DIV/0!"}},{"$f":"ROUND(AO167/AO$72,4)*100","v":{"$error":"#DIV/0!"}},{"$f":"ROUND(AP167/AP$72,4)*100","v":{"$error":"#DIV/0!"}},{"$f":"ROUND(AQ167/AQ$72,4)*100","v":{"$error":"#DIV/0!"}},{"$f":"ROUND(AR167/AR$72,4)*100","v":{"$error":"#DIV/0!"}},{"$f":"ROUND(AS167/AS$72,4)*100","v":{"$error":"#DIV/0!"}},{"$f":"ROUND(AT167/AT$72,4)*100","v":{"$error":"#DIV/0!"}},{"$f":"ROUND(AU167/AU$72,4)*100","v":{"$error":"#DIV/0!"}},{"$f":"ROUND(AV167/AV$72,4)*100","v":{"$error":"#DIV/0!"}},null,null,null,null,null,null,null,null,null,null,null,null,null,null,{"$f":"ROUND(BK167/BK$72,4)*100","v":{"$error":"#DIV/0!"}},{"$f":"ROUND(BL167/BL$72,4)*100","v":{"$error":"#DIV/0!"}},{"$f":"ROUND(BM167/BM$72,4)*100","v":{"$error":"#DIV/0!"}},{"$f":"ROUND(BN167/BN$72,4)*100","v":{"$error":"#DIV/0!"}},{"$f":"ROUND(BO167/BO$72,4)*100","v":{"$error":"#DIV/0!"}},{"$f":"ROUND(BP167/BP$72,4)*100","v":{"$error":"#DIV/0!"}},{"$f":"ROUND(BQ167/BQ$72,4)*100","v":{"$error":"#DIV/0!"}},{"$f":"ROUND(BR167/BR$72,4)*100","v":{"$error":"#DIV/0!"}},{"$f":"ROUND(BS167/BS$72,4)*100","v":{"$error":"#DIV/0!"}},{"$f":"ROUND(BT167/BT$72,4)*100","v":{"$error":"#DIV/0!"}},{"$f":"ROUND(BU167/BU$72,4)*100","v":{"$error":"#DIV/0!"}},{"$f":"ROUND(BV167/BV$72,4)*100","v":{"$error":"#DIV/0!"}},{"$f":"ROUND(BW167/BW$72,4)*100","v":{"$error":"#DIV/0!"}},{"$f":"ROUND(BX167/BX$72,4)*100","v":{"$error":"#DIV/0!"}}]
[null,null,null,3,"時々ある",3,{"$f":"SUM(問題別集計!G138:G140)","v":0},{"$f":"SUM(問題別集計!H138:H140)","v":0},{"$f":"SUM(問題別集計!I138:I140)","v":0},{"$f":"SUM(問題別集計!J138:J140)","v":0},{"$f":"SUM(問題別集計!K138:K140)","v":0},{"$f":"SUM(問題別集計!L138:L140)","v":0},{"$f":"SUM(問題別集計!M138:M140)","v":0},{"$f":"SUM(問題別集計!N138:N140)","v":0},{"$f":"SUM(問題別集計!O138:O140)","v":0},{"$f":"SUM(問題別集計!P138:P140)","v":0},{"$f":"SUM(問題別集計!Q138:Q140)","v":0},{"$f":"SUM(問題別集計!R138:R140)","v":0},{"$f":"SUM(問題別集計!S138:S140)","v":0},{"$f":"SUM(問題別集計!T138:T140)","v":0},{"$f":"ROUND(G168/G171,3)*100","v":{"$error":"#DIV/0!"}},{"$error":"#DIV/0!"},{"$error":"#DIV/0!"},{"$error":"#DIV/0!"},{"$error":"#DIV/0!"},{"$error":"#DIV/0!"},{"$error":"#DIV/0!"},{"$error":"#DIV/0!"},{"$error":"#DIV/0!"},{"$error":"#DIV/0!"},{"$error":"#DIV/0!"},{"$error":"#DIV/0!"},{"$error":"#DIV/0!"},{"$error":"#DIV/0!"},{"$f":"SUM(問題別集計③!G138:G140)","v":0},{"$f":"SUM(問題別集計③!H138:H140)","v":0},{"$f":"SUM(問題別集計③!I138:I140)","v":0},{"$f":"SUM(問題別集計③!J138:J140)","v":0},{"$f":"SUM(問題別集計③!K138:K140)","v":0},{"$f":"SUM(問題別集計③!L138:L140)","v":0},{"$f":"SUM(問題別集計③!M138:M140)","v":0},{"$f":"SUM(問題別集計③!N138:N140)","v":0},{"$f":"SUM(問題別集計③!O138:O140)","v":0},{"$f":"SUM(問題別集計③!P138:P140)","v":0},{"$f":"SUM(問題別集計③!Q138:Q140)","v":0},{"$f":"SUM(問題別集計③!R138:R140)","v":0},{"$f":"SUM(問題別集計③!S138:S140)","v":0},{"$f":"SUM(問題別集計③!T138:T140)","v":0},{"$f":"ROUND(AI168/AI171,3)*100","v":{"$error":"#DIV/0!"}},{"$error":"#DIV/0!"},{"$error":"#DIV/0!"},{"$error":"#DIV/0!"},{"$error":"#DIV/0!"},{"$error":"#DIV/0!"},{"$error":"#DIV/0!"},{"$error":"#DIV/0!"},{"$error":"#DIV/0!"},{"$error":"#DIV/0!"},{"$error":"#DIV/0!"},{"$error":"#DIV/0!"},{"$error":"#DIV/0!"},{"$error":"#DIV/0!"},{"$f":"SUM(問題別集計②!G138:G140)","v":0},{"$f":"SUM(問題別集計②!H138:H140)","v":0},{"$f":"SUM(問題別集計②!I138:I140)","v":0},{"$f":"SUM(問題別集計②!J138:J140)","v":0},{"$f":"SUM(問題別集計②!K138:K140)","v":0},{"$f":"SUM(問題別集計②!L138:L140)","v":0},{"$f":"SUM(問題別集計②!M138:M140)","v":0},{"$f":"SUM(問題別集計②!N138:N140)","v":0},{"$f":"SUM(問題別集計②!O138:O140)","v":0},{"$f":"SUM(問題別集計②!P138:P140)","v":0},{"$f":"SUM(問題別集計②!Q138:Q140)","v":0},{"$f":"SUM(問題別集計②!R138:R140)","v":0},{"$f":"SUM(問題別集計②!S138:S140)","v":0},{"$f":"SUM(問題別集計②!T138:T140)","v":0},{"$f":"ROUND(BK168/BK171,3)*100","v":{"$error":"#DIV/0!"}},{"$error":"#DIV/0!"},{"$error":"#DIV/0!"},{"$error":"#DIV/0!"},{"$error":"#DIV/0!"},{"$error":"#DIV/0!"},{"$error":"#DIV/0!"},{"$error":"#DIV/0!"},{"$error":"#DIV/0!"},{"$error":"#DIV/0!"},{"$error":"#DIV/0!"},{"$error":"#DIV/0!"},{"$error":"#DIV/0!"},{"$error":"#DIV/0!"}]
[null,null,null,4,"よくある",4]
[null,null,null,5,"いつもある",5]
[null,null,null,"計",null,null,{"$f":"SUM(G166:G170)","v":0},{"$f":"SUM(H166:H170)","v":0},{"$f":"SUM(I166:I170)","v":0},{"$f":"SUM(J166:J170)","v":0},{"$f":"SUM(K166:K170)","v":0},{"$f":"SUM(L166:L170)","v":0},{"$f":"SUM(M166:M170)","v":0},{"$f":"SUM(N166:N170)","v":0},{"$f":"SUM(O166:O170)","v":0},{"$f":"SUM(P166:P170)","v":0},{"$f":"SUM(Q166:Q170)","v":0},{"$f":"SUM(R166:R170)","v":0},{"$f":"SUM(S166:S170)","v":0},{"$f":"SUM(T166:T170)","v":0},{"$f":"SUM(U166:U170)","v":{"$error":"#DIV/0!"}},{"$f":"SUM(V166:V170)","v":{"$error":"#DIV/0!"}},{"$f":"SUM(W166:W170)","v":{"$error":"#DIV/0!"}},{"$f":"SUM(X166:X170)","v":{"$error":"#DIV/0!"}},{"$f":"SUM(Y166:Y170)","v":{"$error":"#DIV/0!"}},{"$f":"SUM(Z166:Z170)","v":{"$error":"#DIV/0!"}},{"$f":"SUM(AA166:AA170)","v":{"$error":"#DIV/0!"}},{"$f":"SUM(AB166:AB170)","v":{"$error":"#DIV/0!"}},{"$f":"SUM(AC166:AC170)","v":{"$error":"#DIV/0!"}},{"$f":"SUM(AD166:AD170)","v":{"$error":"#DIV/0!"}},{"$f":"SUM(AE166:AE170)","v":{"$error":"#DIV/0!"}},{"$f":"SUM(AF166:AF170)","v":{"$error":"#DIV/0!"}},{"$f":"SUM(AG166:AG170)","v":{"$error":"#DIV/0!"}},{"$f":"SUM(AH166:AH170)","v":{"$error":"#DIV/0!"}},{"$f":"SUM(AI166:AI170)","v":0},{"$f":"SUM(AJ166:AJ170)","v":0},{"$f":"SUM(AK166:AK170)","v":0},{"$f":"SUM(AL166:AL170)","v":0},{"$f":"SUM(AM166:AM170)","v":0},{"$f":"SUM(AN166:AN170)","v":0},{"$f":"SUM(AO166:AO170)","v":0},{"$f":"SUM(AP166:AP170)","v":0},{"$f":"SUM(AQ166:AQ170)","v":0},{"$f":"SUM(AR166:AR170)","v":0},{"$f":"SUM(AS166:AS170)","v":0},{"$f":"SUM(AT166:AT170)","v":0},{"$f":"SUM(AU166:AU170)","v":0},{"$f":"SUM(AV166:AV170)","v":0},{"$error":"#DIV/0!"},{"$error":"#DIV/0!"},{"$error":"#DIV/0!"},{"$error":"#DIV/0!"},{"$error":"#DIV/0!"},{"$error":"#DIV/0!"},{"$f":"SUM(BC166:BC170)","v":{"$error":"#DIV/0!"}},{"$f":"SUM(BD166:BD170)","v":{"$error":"#DIV/0!"}},{"$error":"#DIV/0!"},{"$error":"#DIV/0!"},{"$error":"#DIV/0!"},{"$error":"#DIV/0!"},{"$error":"#DIV/0!"},{"$f":"SUM(BJ166:BJ170)","v":{"$error":"#DIV/0!"}},{"$f":"SUM(BK166:BK170)","v":0},{"$f":"SUM(BL166:BL170)","v":0},{"$f":"SUM(BM166:BM170)","v":0},{"$f":"SUM(BN166:BN170)","v":0},{"$f":"SUM(BO166:BO170)","v":0},{"$f":"SUM(BP166:BP170)","v":0},{"$f":"SUM(BQ166:BQ170)","v":0},{"$f":"SUM(BR166:BR170)","v":0},{"$f":"SUM(BS166:BS170)","v":0},{"$f":"SUM(BT166:BT170)","v":0},{"$f":"SUM(BU166:BU170)","v":0},{"$f":"SUM(BV166:BV170)","v":0},{"$f":"SUM(BW166:BW170)","v":0},{"$f":"SUM(BX166:BX170)","v":0},{"$error":"#DIV/0!"},{"$error":"#DIV/0!"},{"$error":"#DIV/0!"},{"$error":"#DIV/0!"},{"$error":"#DIV/0!"},{"$error":"#DIV/0!"},{"$f":"SUM(CE166:CE170)","v":{"$error":"#DIV/0!"}},{"$f":"SUM(CF166:CF170)","v":{"$error":"#DIV/0!"}},{"$error":"#DIV/0!"},{"$error":"#DIV/0!"},{"$error":"#DIV/0!"},{"$error":"#DIV/0!"},{"$error":"#DIV/0!"},{"$f":"SUM(CL166:CL170)","v":{"$error":"#DIV/0!"}}]
[null,"31\n(32)","インターネットをしている時間が長いと周りの人から文句を言われたことがありますか？",1,"全くない",1,{"$f":"SUM(問題別集計!G141:G142)","v":0},{"$f":"SUM(問題別集計!H141:H142)","v":0},{"$f":"SUM(問題別集計!I141:I142)","v":0},{"$f":"SUM(問題別集計!J141:J142)","v":0},{"$f":"SUM(問題別集計!K141:K142)","v":0},{"$f":"SUM(問題別集計!L141:L142)","v":0},{"$f":"SUM(問題別集計!M141:M142)","v":0},{"$f":"SUM(問題別集計!N141:N142)","v":0},{"$f":"SUM(問題別集計!O141:O142)","v":0},{"$f":"SUM(問題別集計!P141:P142)","v":0},{"$f":"SUM(問題別集計!Q141:Q142)","v":0},{"$f":"SUM(問題別集計!R141:R142)","v":0},{"$f":"SUM(問題別集計!S141:S142)","v":0},{"$f":"SUM(問題別集計!T141:T142)","v":0},{"$f":"ROUND(G172/G177,3)*100","v":{"$error":"#DIV/0!"}},{"$error":"#DIV/0!"},{"$error":"#DIV/0!"},{"$error":"#DIV/0!"},{"$error":"#DIV/0!"},{"$error":"#DIV/0!"},{"$error":"#DIV/0!"},{"$error":"#DIV/0!"},{"$error":"#DIV/0!"},{"$error":"#DIV/0!"},{"$error":"#DIV/0!"},{"$error":"#DIV/0!"},{"$error":"#DIV/0!"},{"$error":"#DIV/0!"},{"$f":"SUM(問題別集計③!G141:G142)","v":0},{"$f":"SUM(問題別集計③!H141:H142)","v":0},{"$f":"SUM(問題別集計③!I141:I142)","v":0},{"$f":"SUM(問題別集計③!J141:J142)","v":0},{"$f":"SUM(問題別集計③!K141:K142)","v":0},{"$f":"SUM(問題別集計③!L141:L142)","v":0},{"$f":"SUM(問題別集計③!M141:M142)","v":0},{"$f":"SUM(問題別集計③!N141:N142)","v":0},{"$f":"SUM(問題別集計③!O141:O142)","v":0},{"$f":"SUM(問題別集計③!P141:P142)","v":0},{"$f":"SUM(問題別集計③!Q141:Q142)","v":0},{"$f":"SUM(問題別集計③!R141:R142)","v":0},{"$f":"SUM(問題別集計③!S141:S142)","v":0},{"$f":"SUM(問題別集計③!T141:T142)","v":0},{"$f":"ROUND(AI172/AI177,3)*100","v":{"$error":"#DIV/0!"}},{"$error":"#DIV/0!"},{"$error":"#DIV/0!"},{"$error":"#DIV/0!"},{"$error":"#DIV/0!"},{"$error":"#DIV/0!"},{"$error":"#DIV/0!"},{"$error":"#DIV/0!"},{"$error":"#DIV/0!"},{"$error":"#DIV/0!"},{"$error":"#DIV/0!"},{"$error":"#DIV/0!"},{"$error":"#DIV/0!"},{"$error":"#DIV/0!"},{"$f":"SUM(問題別集計②!G141:G142)","v":0},{"$f":"SUM(問題別集計②!H141:H142)","v":0},{"$f":"SUM(問題別集計②!I141:I142)","v":0},{"$f":"SUM(問題別集計②!J141:J142)","v":0},{"$f":"SUM(問題別集計②!K141:K142)","v":0},{"$f":"SUM(問題別集計②!L141:L142)","v":0},{"$f":"SUM(問題別集計②!M141:M142)","v":0},{"$f":"SUM(問題別集計②!N141:N142)","v":0},{"$f":"SUM(問題別集計②!O141:O142)","v":0},{"$f":"SUM(問題別集計②!P141:P142)","v":0},{"$f":"SUM(問題別集計②!Q141:Q142)","v":0},{"$f":"SUM(問題別集計②!R141:R142)","v":0},{"$f":"SUM(問題別集計②!S141:S142)","v":0},{"$f":"SUM(問題別集計②!T141:T142)","v":0},{"$f":"ROUND(BK172/BK177,3)*100","v":{"$error":"#DIV/0!"}},{"$error":"#DIV/0!"},{"$error":"#DIV/0!"},{"$error":"#DIV/0!"},{"$error":"#DIV/0!"},{"$error":"#DIV/0!"},{"$error":"#DIV/0!"},{"$error":"#DIV/0!"},{"$error":"#DIV/0!"},{"$error":"#DIV/0!"},{"$error":"#DIV/0!"},{"$error":"#DIV/0!"},{"$error":"#DIV/0!"},{"$error":"#DIV/0!"}]
[null,null,null,2,"まれにある",2,null,null,null,null,null,null,null,null,null,null,null,null,null,null,{"$f":"ROUND(G173/G$72,4)*100","v":{"$error":"#DIV/0!"}},{"$f":"ROUND(H173/H$72,4)*100","v":{"$error":"#DIV/0!"}},{"$f":"ROUND(I173/I$72,4)*100","v":{"$error":"#DIV/0!"}},{"$f":"ROUND(J173/J$72,4)*100","v":{"$error":"#DIV/0!"}},{"$f":"ROUND(K173/K$72,4)*100","v":{"$error":"#DIV/0!"}},{"$f":"ROUND(L173/L$72,4)*100","v":{"$error":"#DIV/0!"}},{"$f":"ROUND(M173/M$72,4)*100","v":{"$error":"#DIV/0!"}},{"$f":"ROUND(N173/N$72,4)*100","v":{"$error":"#DIV/0!"}},{"$f":"ROUND(O173/O$72,4)*100","v":{"$error":"#DIV/0!"}},{"$f":"ROUND(P173/P$72,4)*100","v":{"$error":"#DIV/0!"}},{"$f":"ROUND(Q173/Q$72,4)*100","v":{"$error":"#DIV/0!"}},{"$f":"ROUND(R173/R$72,4)*100","v":{"$error":"#DIV/0!"}},{"$f":"ROUND(S173/S$72,4)*100","v":{"$error":"#DIV/0!"}},{"$f":"ROUND(T173/T$72,4)*100","v":{"$error":"#DIV/0!"}},null,null,null,null,null,null,null,null,null,null,null,null,null,null,{"$f":"ROUND(AI173/AI$72,4)*100","v":{"$error":"#DIV/0!"}},{"$f":"ROUND(AJ173/AJ$72,4)*100","v":{"$error":"#DIV/0!"}},{"$f":"ROUND(AK173/AK$72,4)*100","v":{"$error":"#DIV/0!"}},{"$f":"ROUND(AL173/AL$72,4)*100","v":{"$error":"#DIV/0!"}},{"$f":"ROUND(AM173/AM$72,4)*100","v":{"$error":"#DIV/0!"}},{"$f":"ROUND(AN173/AN$72,4)*100","v":{"$error":"#DIV/0!"}},{"$f":"ROUND(AO173/AO$72,4)*100","v":{"$error":"#DIV/0!"}},{"$f":"ROUND(AP173/AP$72,4)*100","v":{"$error":"#DIV/0!"}},{"$f":"ROUND(AQ173/AQ$72,4)*100","v":{"$error":"#DIV/0!"}},{"$f":"ROUND(AR173/AR$72,4)*100","v":{"$error":"#DIV/0!"}},{"$f":"ROUND(AS173/AS$72,4)*100","v":{"$error":"#DIV/0!"}},{"$f":"ROUND(AT173/AT$72,4)*100","v":{"$error":"#DIV/0!"}},{"$f":"ROUND(AU173/AU$72,4)*100","v":{"$error":"#DIV/0!"}},{"$f":"ROUND(AV173/AV$72,4)*100","v":{"$error":"#DIV/0!"}},null,null,null,null,null,null,null,null,null,null,null,null,null,null,{"$f":"ROUND(BK173/BK$72,4)*100","v":{"$error":"#DIV/0!"}},{"$f":"ROUND(BL173/BL$72,4)*100","v":{"$error":"#DIV/0!"}},{"$f":"ROUND(BM173/BM$72,4)*100","v":{"$error":"#DIV/0!"}},{"$f":"ROUND(BN173/BN$72,4)*100","v":{"$error":"#DIV/0!"}},{"$f":"ROUND(BO173/BO$72,4)*100","v":{"$error":"#DIV/0!"}},{"$f":"ROUND(BP173/BP$72,4)*100","v":{"$error":"#DIV/0!"}},{"$f":"ROUND(BQ173/BQ$72,4)*100","v":{"$error":"#DIV/0!"}},{"$f":"ROUND(BR173/BR$72,4)*100","v":{"$error":"#DIV/0!"}},{"$f":"ROUND(BS173/BS$72,4)*100","v":{"$error":"#DIV/0!"}},{"$f":"ROUND(BT173/BT$72,4)*100","v":{"$error":"#DIV/0!"}},{"$f":"ROUND(BU173/BU$72,4)*100","v":{"$error":"#DIV/0!"}},{"$f":"ROUND(BV173/BV$72,4)*100","v":{"$error":"#DIV/0!"}},{"$f":"ROUND(BW173/BW$72,4)*100","v":{"$error":"#DIV/0!"}},{"$f":"ROUND(BX173/BX$72,4)*100","v":{"$error":"#DIV/0!"}}]
[null,null,null,3,"時々ある",3,{"$f":"SUM(問題別集計!G143:G145)","v":0},{"$f":"SUM(問題別集計!H143:H145)","v":0},{"$f":"SUM(問題別集計!I143:I145)","v":0},{"$f":"SUM(問題別集計!J143:J145)","v":0},{"$f":"SUM(問題別集計!K143:K145)","v":0},{"$f":"SUM(問題別集計!L143:L145)","v":0},{"$f":"SUM(問題別集計!M143:M145)","v":0},{"$f":"SUM(問題別集計!N143:N145)","v":0},{"$f":"SUM(問題別集計!O143:O145)","v":0},{"$f":"SUM(問題別集計!P143:P145)","v":0},{"$f":"SUM(問題別集計!Q143:Q145)","v":0},{"$f":"SUM(問題別集計!R143:R145)","v":0},{"$f":"SUM(問題別集計!S143:S145)","v":0},{"$f":"SUM(問題別集計!T143:T145)","v":0},{"$f":"ROUND(G174/G177,3)*100","v":{"$error":"#DIV/0!"}},{"$error":"#DIV/0!"},{"$error":"#DIV/0!"},{"$error":"#DIV/0!"},{"$error":"#DIV/0!"},{"$error":"#DIV/0!"},{"$error":"#DIV/0!"},{"$error":"#DIV/0!"},{"$error":"#DIV/0!"},{"$error":"#DIV/0!"},{"$error":"#DIV/0!"},{"$error":"#DIV/0!"},{"$error":"#DIV/0!"},{"$error":"#DIV/0!"},{"$f":"SUM(問題別集計③!G143:G145)","v":0},{"$f":"SUM(問題別集計③!H143:H145)","v":0},{"$f":"SUM(問題別集計③!I143:I145)","v":0},{"$f":"SUM(問題別集計③!J143:J145)","v":0},{"$f":"SUM(問題別集計③!K143:K145)","v":0},{"$f":"SUM(問題別集計③!L143:L145)","v":0},{"$f":"SUM(問題別集計③!M143:M145)","v":0},{"$f":"SUM(問題別集計③!N143:N145)","v":0},{"$f":"SUM(問題別集計③!O143:O145)","v":0},{"$f":"SUM(問題別集計③!P143:P145)","v":0},{"$f":"SUM(問題別集計③!Q143:Q145)","v":0},{"$f":"SUM(問題別集計③!R143:R145)","v":0},{"$f":"SUM(問題別集計③!S143:S145)","v":0},{"$f":"SUM(問題別集計③!T143:T145)","v":0},{"$f":"ROUND(AI174/AI177,3)*100","v":{"$error":"#DIV/0!"}},{"$error":"#DIV/0!"},{"$error":"#DIV/0!"},{"$error":"#DIV/0!"},{"$error":"#DIV/0!"},{"$error":"#DIV/0!"},{"$error":"#DIV/0!"},{"$error":"#DIV/0!"},{"$error":"#DIV/0!"},{"$error":"#DIV/0!"},{"$error":"#DIV/0!"},{"$error":"#DIV/0!"},{"$error":"#DIV/0!"},{"$error":"#DIV/0!"},{"$f":"SUM(問題別集計②!G143:G145)","v":0},{"$f":"SUM(問題別集計②!H143:H145)","v":0},{"$f":"SUM(問題別集計②!I143:I145)","v":0},{"$f":"SUM(問題別集計②!J143:J145)","v":0},{"$f":"SUM(問題別集計②!K143:K145)","v":0},{"$f":"SUM(問題別集計②!L143:L145)","v":0},{"$f":"SUM(問題別集計②!M143:M145)","v":0},{"$f":"SUM(問題別集計②!N143:N145)","v":0},{"$f":"SUM(問題別集計②!O143:O145)","v":0},{"$f":"SUM(問題別集計②!P143:P145)","v":0},{"$f":"SUM(問題別集計②!Q143:Q145)","v":0},{"$f":"SUM(問題別集計②!R143:R145)","v":0},{"$f":"SUM(問題別集計②!S143:S145)","v":0},{"$f":"SUM(問題別集計②!T143:T145)","v":0},{"$f":"ROUND(BK174/BK177,3)*100","v":{"$error":"#DIV/0!"}},{"$error":"#DIV/0!"},{"$error":"#DIV/0!"},{"$error":"#DIV/0!"},{"$error":"#DIV/0!"},{"$error":"#DIV/0!"},{"$error":"#DIV/0!"},{"$error":"#DIV/0!"},{"$error":"#DIV/0!"},{"$error":"#DIV/0!"},{"$error":"#DIV/0!"},{"$error":"#DIV/0!"},{"$error":"#DIV/0!"},{"$error":"#DIV/0!"}]
[null,null,null,4,"よくある",4]
[null,null,null,5,"いつもある",5]
[null,null,null,"計",null,null,{"$f":"SUM(G172:G176)","v":0},{"$f":"SUM(H172:H176)","v":0},{"$f":"SUM(I172:I176)","v":0},{"$f":"SUM(J172:J176)","v":0},{"$f":"SUM(K172:K176)","v":0},{"$f":"SUM(L172:L176)","v":0},{"$f":"SUM(M172:M176)","v":0},{"$f":"SUM(N172:N176)","v":0},{"$f":"SUM(O172:O176)","v":0},{"$f":"SUM(P172:P176)","v":0},{"$f":"SUM(Q172:Q176)","v":0},{"$f":"SUM(R172:R176)","v":0},{"$f":"SUM(S172:S176)","v":0},{"$f":"SUM(T172:T176)","v":0},{"$f":"SUM(U172:U176)","v":{"$error":"#DIV/0!"}},{"$f":"SUM(V172:V176)","v":{"$error":"#DIV/0!"}},{"$f":"SUM(W172:W176)","v":{"$error":"#DIV/0!"}},{"$f":"SUM(X172:X176)","v":{"$error":"#DIV/0!"}},{"$f":"SUM(Y172:Y176)","v":{"$error":"#DIV/0!"}},{"$f":"SUM(Z172:Z176)","v":{"$error":"#DIV/0!"}},{"$f":"SUM(AA172:AA176)","v":{"$error":"#DIV/0!"}},{"$f":"SUM(AB172:AB176)","v":{"$error":"#DIV/0!"}},{"$f":"SUM(AC172:AC176)","v":{"$error":"#DIV/0!"}},{"$f":"SUM(AD172:AD176)","v":{"$error":"#DIV/0!"}},{"$f":"SUM(AE172:AE176)","v":{"$error":"#DIV/0!"}},{"$f":"SUM(AF172:AF176)","v":{"$error":"#DIV/0!"}},{"$f":"SUM(AG172:AG176)","v":{"$error":"#DIV/0!"}},{"$f":"SUM(AH172:AH176)","v":{"$error":"#DIV/0!"}},{"$f":"SUM(AI172:AI176)","v":0},{"$f":"SUM(AJ172:AJ176)","v":0},{"$f":"SUM(AK172:AK176)","v":0},{"$f":"SUM(AL172:AL176)","v":0},{"$f":"SUM(AM172:AM176)","v":0},{"$f":"SUM(AN172:AN176)","v":0},{"$f":"SUM(AO172:AO176)","v":0},{"$f":"SUM(AP172:AP176)","v":0},{"$f":"SUM(AQ172:AQ176)","v":0},{"$f":"SUM(AR172:AR176)","v":0},{"$f":"SUM(AS172:AS176)","v":0},{"$f":"SUM(AT172:AT176)","v":0},{"$f":"SUM(AU172:AU176)","v":0},{"$f":"SUM(AV172:AV176)","v":0},{"$error":"#DIV/0!"},{"$error":"#DIV/0!"},{"$error":"#DIV/0!"},{"$error":"#DIV/0!"},{"$error":"#DIV/0!"},{"$error":"#DIV/0!"},{"$f":"SUM(BC172:BC176)","v":{"$error":"#DIV/0!"}},{"$f":"SUM(BD172:BD176)","v":{"$error":"#DIV/0!"}},{"$error":"#DIV/0!"},{"$error":"#DIV/0!"},{"$error":"#DIV/0!"},{"$error":"#DIV/0!"},{"$error":"#DIV/0!"},{"$f":"SUM(BJ172:BJ176)","v":{"$error":"#DIV/0!"}},{"$f":"SUM(BK172:BK176)","v":0},{"$f":"SUM(BL172:BL176)","v":0},{"$f":"SUM(BM172:BM176)","v":0},{"$f":"SUM(BN172:BN176)","v":0},{"$f":"SUM(BO172:BO176)","v":0},{"$f":"SUM(BP172:BP176)","v":0},{"$f":"SUM(BQ172:BQ176)","v":0},{"$f":"SUM(BR172:BR176)","v":0},{"$f":"SUM(BS172:BS176)","v":0},{"$f":"SUM(BT172:BT176)","v":0},{"$f":"SUM(BU172:BU176)","v":0},{"$f":"SUM(BV172:BV176)","v":0},{"$f":"SUM(BW172:BW176)","v":0},{"$f":"SUM(BX172:BX176)","v":0},{"$error":"#DIV/0!"},{"$error":"#DIV/0!"},{"$error":"#DIV/0!"},{"$error":"#DIV/0!"},{"$error":"#DIV/0!"},{"$error":"#DIV/0!"},{"$f":"SUM(CE172:CE176)","v":{"$error":"#DIV/0!"}},{"$f":"SUM(CF172:CF176)","v":{"$error":"#DIV/0!"}},{"$error":"#DIV/0!"},{"$error":"#DIV/0!"},{"$error":"#DIV/0!"},{"$error":"#DIV/0!"},{"$error":"#DIV/0!"},{"$f":"SUM(CL172:CL176)","v":{"$error":"#DIV/0!"}}]
[null,"32\n(33)","インターネットをしている時間が長くて、学校の成績や学業に支障をきたす（※）ことがありますか？\n※「支障をきたす」＝「悪い影響がある」",1,"全くない",1,{"$f":"SUM(問題別集計!G146:G147)","v":0},{"$f":"SUM(問題別集計!H146:H147)","v":0},{"$f":"SUM(問題別集計!I146:I147)","v":0},{"$f":"SUM(問題別集計!J146:J147)","v":0},{"$f":"SUM(問題別集計!K146:K147)","v":0},{"$f":"SUM(問題別集計!L146:L147)","v":0},{"$f":"SUM(問題別集計!M146:M147)","v":0},{"$f":"SUM(問題別集計!N146:N147)","v":0},{"$f":"SUM(問題別集計!O146:O147)","v":0},{"$f":"SUM(問題別集計!P146:P147)","v":0},{"$f":"SUM(問題別集計!Q146:Q147)","v":0},{"$f":"SUM(問題別集計!R146:R147)","v":0},{"$f":"SUM(問題別集計!S146:S147)","v":0},{"$f":"SUM(問題別集計!T146:T147)","v":0},{"$f":"ROUND(G178/G183,3)*100","v":{"$error":"#DIV/0!"}},{"$error":"#DIV/0!"},{"$error":"#DIV/0!"},{"$error":"#DIV/0!"},{"$error":"#DIV/0!"},{"$error":"#DIV/0!"},{"$error":"#DIV/0!"},{"$error":"#DIV/0!"},{"$error":"#DIV/0!"},{"$error":"#DIV/0!"},{"$error":"#DIV/0!"},{"$error":"#DIV/0!"},{"$error":"#DIV/0!"},{"$error":"#DIV/0!"},{"$f":"SUM(問題別集計③!G146:G147)","v":0},{"$f":"SUM(問題別集計③!H146:H147)","v":0},{"$f":"SUM(問題別集計③!I146:I147)","v":0},{"$f":"SUM(問題別集計③!J146:J147)","v":0},{"$f":"SUM(問題別集計③!K146:K147)","v":0},{"$f":"SUM(問題別集計③!L146:L147)","v":0},{"$f":"SUM(問題別集計③!M146:M147)","v":0},{"$f":"SUM(問題別集計③!N146:N147)","v":0},{"$f":"SUM(問題別集計③!O146:O147)","v":0},{"$f":"SUM(問題別集計③!P146:P147)","v":0},{"$f":"SUM(問題別集計③!Q146:Q147)","v":0},{"$f":"SUM(問題別集計③!R146:R147)","v":0},{"$f":"SUM(問題別集計③!S146:S147)","v":0},{"$f":"SUM(問題別集計③!T146:T147)","v":0},{"$f":"ROUND(AI178/AI183,3)*100","v":{"$error":"#DIV/0!"}},{"$error":"#DIV/0!"},{"$error":"#DIV/0!"},{"$error":"#DIV/0!"},{"$error":"#DIV/0!"},{"$error":"#DIV/0!"},{"$error":"#DIV/0!"},{"$error":"#DIV/0!"},{"$error":"#DIV/0!"},{"$error":"#DIV/0!"},{"$error":"#DIV/0!"},{"$error":"#DIV/0!"},{"$error":"#DIV/0!"},{"$error":"#DIV/0!"},{"$f":"SUM(問題別集計②!G146:G147)","v":0},{"$f":"SUM(問題別集計②!H146:H147)","v":0},{"$f":"SUM(問題別集計②!I146:I147)","v":0},{"$f":"SUM(問題別集計②!J146:J147)","v":0},{"$f":"SUM(問題別集計②!K146:K147)","v":0},{"$f":"SUM(問題別集計②!L146:L147)","v":0},{"$f":"SUM(問題別集計②!M146:M147)","v":0},{"$f":"SUM(問題別集計②!N146:N147)","v":0},{"$f":"SUM(問題別集計②!O146:O147)","v":0},{"$f":"SUM(問題別集計②!P146:P147)","v":0},{"$f":"SUM(問題別集計②!Q146:Q147)","v":0},{"$f":"SUM(問題別集計②!R146:R147)","v":0},{"$f":"SUM(問題別集計②!S146:S147)","v":0},{"$f":"SUM(問題別集計②!T146:T147)","v":0},{"$f":"ROUND(BK178/BK183,3)*100","v":{"$error":"#DIV/0!"}},{"$error":"#DIV/0!"},{"$error":"#DIV/0!"},{"$error":"#DIV/0!"},{"$error":"#DIV/0!"},{"$error":"#DIV/0!"},{"$error":"#DIV/0!"},{"$error":"#DIV/0!"},{"$error":"#DIV/0!"},{"$error":"#DIV/0!"},{"$error":"#DIV/0!"},{"$error":"#DIV/0!"},{"$error":"#DIV/0!"},{"$error":"#DIV/0!"}]
[null,null,null,2,"まれにある",2,null,null,null,null,null,null,null,null,null,null,null,null,null,null,{"$f":"ROUND(G179/G$72,4)*100","v":{"$error":"#DIV/0!"}},{"$f":"ROUND(H179/H$72,4)*100","v":{"$error":"#DIV/0!"}},{"$f":"ROUND(I179/I$72,4)*100","v":{"$error":"#DIV/0!"}},{"$f":"ROUND(J179/J$72,4)*100","v":{"$error":"#DIV/0!"}},{"$f":"ROUND(K179/K$72,4)*100","v":{"$error":"#DIV/0!"}},{"$f":"ROUND(L179/L$72,4)*100","v":{"$error":"#DIV/0!"}},{"$f":"ROUND(M179/M$72,4)*100","v":{"$error":"#DIV/0!"}},{"$f":"ROUND(N179/N$72,4)*100","v":{"$error":"#DIV/0!"}},{"$f":"ROUND(O179/O$72,4)*100","v":{"$error":"#DIV/0!"}},{"$f":"ROUND(P179/P$72,4)*100","v":{"$error":"#DIV/0!"}},{"$f":"ROUND(Q179/Q$72,4)*100","v":{"$error":"#DIV/0!"}},{"$f":"ROUND(R179/R$72,4)*100","v":{"$error":"#DIV/0!"}},{"$f":"ROUND(S179/S$72,4)*100","v":{"$error":"#DIV/0!"}},{"$f":"ROUND(T179/T$72,4)*100","v":{"$error":"#DIV/0!"}},null,null,null,null,null,null,null,null,null,null,null,null,null,null,{"$f":"ROUND(AI179/AI$72,4)*100","v":{"$error":"#DIV/0!"}},{"$f":"ROUND(AJ179/AJ$72,4)*100","v":{"$error":"#DIV/0!"}},{"$f":"ROUND(AK179/AK$72,4)*100","v":{"$error":"#DIV/0!"}},{"$f":"ROUND(AL179/AL$72,4)*100","v":{"$error":"#DIV/0!"}},{"$f":"ROUND(AM179/AM$72,4)*100","v":{"$error":"#DIV/0!"}},{"$f":"ROUND(AN179/AN$72,4)*100","v":{"$error":"#DIV/0!"}},{"$f":"ROUND(AO179/AO$72,4)*100","v":{"$error":"#DIV/0!"}},{"$f":"ROUND(AP179/AP$72,4)*100","v":{"$error":"#DIV/0!"}},{"$f":"ROUND(AQ179/AQ$72,4)*100","v":{"$error":"#DIV/0!"}},{"$f":"ROUND(AR179/AR$72,4)*100","v":{"$error":"#DIV/0!"}},{"$f":"ROUND(AS179/AS$72,4)*100","v":{"$error":"#DIV/0!"}},{"$f":"ROUND(AT179/AT$72,4)*100","v":{"$error":"#DIV/0!"}},{"$f":"ROUND(AU179/AU$72,4)*100","v":{"$error":"#DIV/0!"}},{"$f":"ROUND(AV179/AV$72,4)*100","v":{"$error":"#DIV/0!"}},null,null,null,null,null,null,null,null,null,null,null,null,null,null,{"$f":"ROUND(BK179/BK$72,4)*100","v":{"$error":"#DIV/0!"}},{"$f":"ROUND(BL179/BL$72,4)*100","v":{"$error":"#DIV/0!"}},{"$f":"ROUND(BM179/BM$72,4)*100","v":{"$error":"#DIV/0!"}},{"$f":"ROUND(BN179/BN$72,4)*100","v":{"$error":"#DIV/0!"}},{"$f":"ROUND(BO179/BO$72,4)*100","v":{"$error":"#DIV/0!"}},{"$f":"ROUND(BP179/BP$72,4)*100","v":{"$error":"#DIV/0!"}},{"$f":"ROUND(BQ179/BQ$72,4)*100","v":{"$error":"#DIV/0!"}},{"$f":"ROUND(BR179/BR$72,4)*100","v":{"$error":"#DIV/0!"}},{"$f":"ROUND(BS179/BS$72,4)*100","v":{"$error":"#DIV/0!"}},{"$f":"ROUND(BT179/BT$72,4)*100","v":{"$error":"#DIV/0!"}},{"$f":"ROUND(BU179/BU$72,4)*100","v":{"$error":"#DIV/0!"}},{"$f":"ROUND(BV179/BV$72,4)*100","v":{"$error":"#DIV/0!"}},{"$f":"ROUND(BW179/BW$72,4)*100","v":{"$error":"#DIV/0!"}},{"$f":"ROUND(BX179/BX$72,4)*100","v":{"$error":"#DIV/0!"}}]
[null,null,null,3,"時々ある",3,{"$f":"SUM(問題別集計!G148:G150)","v":0},{"$f":"SUM(問題別集計!H148:H150)","v":0},{"$f":"SUM(問題別集計!I148:I150)","v":0},{"$f":"SUM(問題別集計!J148:J150)","v":0},{"$f":"SUM(問題別集計!K148:K150)","v":0},{"$f":"SUM(問題別集計!L148:L150)","v":0},{"$f":"SUM(問題別集計!M148:M150)","v":0},{"$f":"SUM(問題別集計!N148:N150)","v":0},{"$f":"SUM(問題別集計!O148:O150)","v":0},{"$f":"SUM(問題別集計!P148:P150)","v":0},{"$f":"SUM(問題別集計!Q148:Q150)","v":0},{"$f":"SUM(問題別集計!R148:R150)","v":0},{"$f":"SUM(問題別集計!S148:S150)","v":0},{"$f":"SUM(問題別集計!T148:T150)","v":0},{"$f":"ROUND(G180/G183,3)*100","v":{"$error":"#DIV/0!"}},{"$error":"#DIV/0!"},{"$error":"#DIV/0!"},{"$error":"#DIV/0!"},{"$error":"#DIV/0!"},{"$error":"#DIV/0!"},{"$error":"#DIV/0!"},{"$error":"#DIV/0!"},{"$error":"#DIV/0!"},{"$error":"#DIV/0!"},{"$error":"#DIV/0!"},{"$error":"#DIV/0!"},{"$error":"#DIV/0!"},{"$error":"#DIV/0!"},{"$f":"SUM(問題別集計③!G148:G150)","v":0},{"$f":"SUM(問題別集計③!H148:H150)","v":0},{"$f":"SUM(問題別集計③!I148:I150)","v":0},{"$f":"SUM(問題別集計③!J148:J150)","v":0},{"$f":"SUM(問題別集計③!K148:K150)","v":0},{"$f":"SUM(問題別集計③!L148:L150)","v":0},{"$f":"SUM(問題別集計③!M148:M150)","v":0},{"$f":"SUM(問題別集計③!N148:N150)","v":0},{"$f":"SUM(問題別集計③!O148:O150)","v":0},{"$f":"SUM(問題別集計③!P148:P150)","v":0},{"$f":"SUM(問題別集計③!Q148:Q150)","v":0},{"$f":"SUM(問題別集計③!R148:R150)","v":0},{"$f":"SUM(問題別集計③!S148:S150)","v":0},{"$f":"SUM(問題別集計③!T148:T150)","v":0},{"$f":"ROUND(AI180/AI183,3)*100","v":{"$error":"#DIV/0!"}},{"$error":"#DIV/0!"},{"$error":"#DIV/0!"},{"$error":"#DIV/0!"},{"$error":"#DIV/0!"},{"$error":"#DIV/0!"},{"$error":"#DIV/0!"},{"$error":"#DIV/0!"},{"$error":"#DIV/0!"},{"$error":"#DIV/0!"},{"$error":"#DIV/0!"},{"$error":"#DIV/0!"},{"$error":"#DIV/0!"},{"$error":"#DIV/0!"},{"$f":"SUM(問題別集計②!G148:G150)","v":0},{"$f":"SUM(問題別集計②!H148:H150)","v":0},{"$f":"SUM(問題別集計②!I148:I150)","v":0},{"$f":"SUM(問題別集計②!J148:J150)","v":0},{"$f":"SUM(問題別集計②!K148:K150)","v":0},{"$f":"SUM(問題別集計②!L148:L150)","v":0},{"$f":"SUM(問題別集計②!M148:M150)","v":0},{"$f":"SUM(問題別集計②!N148:N150)","v":0},{"$f":"SUM(問題別集計②!O148:O150)","v":0},{"$f":"SUM(問題別集計②!P148:P150)","v":0},{"$f":"SUM(問題別集計②!Q148:Q150)","v":0},{"$f":"SUM(問題別集計②!R148:R150)","v":0},{"$f":"SUM(問題別集計②!S148:S150)","v":0},{"$f":"SUM(問題別集計②!T148:T150)","v":0},{"$f":"ROUND(BK180/BK183,3)*100","v":{"$error":"#DIV/0!"}},{"$error":"#DIV/0!"},{"$error":"#DIV/0!"},{"$error":"#DIV/0!"},{"$error":"#DIV/0!"},{"$error":"#DIV/0!"},{"$error":"#DIV/0!"},{"$error":"#DIV/0!"},{"$error":"#DIV/0!"},{"$error":"#DIV/0!"},{"$error":"#DIV/0!"},{"$error":"#DIV/0!"},{"$error":"#DIV/0!"},{"$error":"#DIV/0!"}]
[null,null,null,4,"よくある",4]
[null,null,null,5,"いつもある",5]
[null,null,null,"計",null,null,{"$f":"SUM(G178:G182)","v":0},{"$f":"SUM(H178:H182)","v":0},{"$f":"SUM(I178:I182)","v":0},{"$f":"SUM(J178:J182)","v":0},{"$f":"SUM(K178:K182)","v":0},{"$f":"SUM(L178:L182)","v":0},{"$f":"SUM(M178:M182)","v":0},{"$f":"SUM(N178:N182)","v":0},{"$f":"SUM(O178:O182)","v":0},{"$f":"SUM(P178:P182)","v":0},{"$f":"SUM(Q178:Q182)","v":0},{"$f":"SUM(R178:R182)","v":0},{"$f":"SUM(S178:S182)","v":0},{"$f":"SUM(T178:T182)","v":0},{"$f":"SUM(U178:U182)","v":{"$error":"#DIV/0!"}},{"$f":"SUM(V178:V182)","v":{"$error":"#DIV/0!"}},{"$f":"SUM(W178:W182)","v":{"$error":"#DIV/0!"}},{"$f":"SUM(X178:X182)","v":{"$error":"#DIV/0!"}},{"$f":"SUM(Y178:Y182)","v":{"$error":"#DIV/0!"}},{"$f":"SUM(Z178:Z182)","v":{"$error":"#DIV/0!"}},{"$f":"SUM(AA178:AA182)","v":{"$error":"#DIV/0!"}},{"$f":"SUM(AB178:AB182)","v":{"$error":"#DIV/0!"}},{"$f":"SUM(AC178:AC182)","v":{"$error":"#DIV/0!"}},{"$f":"SUM(AD178:AD182)","v":{"$error":"#DIV/0!"}},{"$f":"SUM(AE178:AE182)","v":{"$error":"#DIV/0!"}},{"$f":"SUM(AF178:AF182)","v":{"$error":"#DIV/0!"}},{"$f":"SUM(AG178:AG182)","v":{"$error":"#DIV/0!"}},{"$f":"SUM(AH178:AH182)","v":{"$error":"#DIV/0!"}},{"$f":"SUM(AI178:AI182)","v":0},{"$f":"SUM(AJ178:AJ182)","v":0},{"$f":"SUM(AK178:AK182)","v":0},{"$f":"SUM(AL178:AL182)","v":0},{"$f":"SUM(AM178:AM182)","v":0},{"$f":"SUM(AN178:AN182)","v":0},{"$f":"SUM(AO178:AO182)","v":0},{"$f":"SUM(AP178:AP182)","v":0},{"$f":"SUM(AQ178:AQ182)","v":0},{"$f":"SUM(AR178:AR182)","v":0},{"$f":"SUM(AS178:AS182)","v":0},{"$f":"SUM(AT178:AT182)","v":0},{"$f":"SUM(AU178:AU182)","v":0},{"$f":"SUM(AV178:AV182)","v":0},{"$error":"#DIV/0!"},{"$error":"#DIV/0!"},{"$error":"#DIV/0!"},{"$error":"#DIV/0!"},{"$error":"#DIV/0!"},{"$error":"#DIV/0!"},{"$f":"SUM(BC178:BC182)","v":{"$error":"#DIV/0!"}},{"$f":"SUM(BD178:BD182)","v":{"$error":"#DIV/0!"}},{"$error":"#DIV/0!"},{"$error":"#DIV/0!"},{"$error":"#DIV/0!"},{"$error":"#DIV/0!"},{"$error":"#DIV/0!"},{"$f":"SUM(BJ178:BJ182)","v":{"$error":"#DIV/0!"}},{"$f":"SUM(BK178:BK182)","v":0},{"$f":"SUM(BL178:BL182)","v":0},{"$f":"SUM(BM178:BM182)","v":0},{"$f":"SUM(BN178:BN182)","v":0},{"$f":"SUM(BO178:BO182)","v":0},{"$f":"SUM(BP178:BP182)","v":0},{"$f":"SUM(BQ178:BQ182)","v":0},{"$f":"SUM(BR178:BR182)","v":0},{"$f":"SUM(BS178:BS182)","v":0},{"$f":"SUM(BT178:BT182)","v":0},{"$f":"SUM(BU178:BU182)","v":0},{"$f":"SUM(BV178:BV182)","v":0},{"$f":"SUM(BW178:BW182)","v":0},{"$f":"SUM(BX178:BX182)","v":0},{"$error":"#DIV/0!"},{"$error":"#DIV/0!"},{"$error":"#DIV/0!"},{"$error":"#DIV/0!"},{"$error":"#DIV/0!"},{"$error":"#DIV/0!"},{"$f":"SUM(CE178:CE182)","v":{"$error":"#DIV/0!"}},{"$f":"SUM(CF178:CF182)","v":{"$error":"#DIV/0!"}},{"$error":"#DIV/0!"},{"$error":"#DIV/0!"},{"$error":"#DIV/0!"},{"$error":"#DIV/0!"},{"$error":"#DIV/0!"},{"$f":"SUM(CL178:CL182)","v":{"$error":"#DIV/0!"}}]
[null,"33\n(34)","他にやらなければならないことがあっても、まず先に電子メールをチェックすることがありますか？",1,"全くない",1,{"$f":"SUM(問題別集計!G151:G152)","v":0},{"$f":"SUM(問題別集計!H151:H152)","v":0},{"$f":"SUM(問題別集計!I151:I152)","v":0},{"$f":"SUM(問題別集計!J151:J152)","v":0},{"$f":"SUM(問題別集計!K151:K152)","v":0},{"$f":"SUM(問題別集計!L151:L152)","v":0},{"$f":"SUM(問題別集計!M151:M152)","v":0},{"$f":"SUM(問題別集計!N151:N152)","v":0},{"$f":"SUM(問題別集計!O151:O152)","v":0},{"$f":"SUM(問題別集計!P151:P152)","v":0},{"$f":"SUM(問題別集計!Q151:Q152)","v":0},{"$f":"SUM(問題別集計!R151:R152)","v":0},{"$f":"SUM(問題別集計!S151:S152)","v":0},{"$f":"SUM(問題別集計!T151:T152)","v":0},{"$f":"ROUND(G184/G189,3)*100","v":{"$error":"#DIV/0!"}},{"$error":"#DIV/0!"},{"$error":"#DIV/0!"},{"$error":"#DIV/0!"},{"$error":"#DIV/0!"},{"$error":"#DIV/0!"},{"$error":"#DIV/0!"},{"$error":"#DIV/0!"},{"$error":"#DIV/0!"},{"$error":"#DIV/0!"},{"$error":"#DIV/0!"},{"$error":"#DIV/0!"},{"$error":"#DIV/0!"},{"$error":"#DIV/0!"},{"$f":"SUM(問題別集計③!G151:G152)","v":0},{"$f":"SUM(問題別集計③!H151:H152)","v":0},{"$f":"SUM(問題別集計③!I151:I152)","v":0},{"$f":"SUM(問題別集計③!J151:J152)","v":0},{"$f":"SUM(問題別集計③!K151:K152)","v":0},{"$f":"SUM(問題別集計③!L151:L152)","v":0},{"$f":"SUM(問題別集計③!M151:M152)","v":0},{"$f":"SUM(問題別集計③!N151:N152)","v":0},{"$f":"SUM(問題別集計③!O151:O152)","v":0},{"$f":"SUM(問題別集計③!P151:P152)","v":0},{"$f":"SUM(問題別集計③!Q151:Q152)","v":0},{"$f":"SUM(問題別集計③!R151:R152)","v":0},{"$f":"SUM(問題別集計③!S151:S152)","v":0},{"$f":"SUM(問題別集計③!T151:T152)","v":0},{"$f":"ROUND(AI184/AI189,3)*100","v":{"$error":"#DIV/0!"}},{"$error":"#DIV/0!"},{"$error":"#DIV/0!"},{"$error":"#DIV/0!"},{"$error":"#DIV/0!"},{"$error":"#DIV/0!"},{"$error":"#DIV/0!"},{"$error":"#DIV/0!"},{"$error":"#DIV/0!"},{"$error":"#DIV/0!"},{"$error":"#DIV/0!"},{"$error":"#DIV/0!"},{"$error":"#DIV/0!"},{"$error":"#DIV/0!"},{"$f":"SUM(問題別集計②!G151:G152)","v":0},{"$f":"SUM(問題別集計②!H151:H152)","v":0},{"$f":"SUM(問題別集計②!I151:I152)","v":0},{"$f":"SUM(問題別集計②!J151:J152)","v":0},{"$f":"SUM(問題別集計②!K151:K152)","v":0},{"$f":"SUM(問題別集計②!L151:L152)","v":0},{"$f":"SUM(問題別集計②!M151:M152)","v":0},{"$f":"SUM(問題別集計②!N151:N152)","v":0},{"$f":"SUM(問題別集計②!O151:O152)","v":0},{"$f":"SUM(問題別集計②!P151:P152)","v":0},{"$f":"SUM(問題別集計②!Q151:Q152)","v":0},{"$f":"SUM(問題別集計②!R151:R152)","v":0},{"$f":"SUM(問題別集計②!S151:S152)","v":0},{"$f":"SUM(問題別集計②!T151:T152)","v":0},{"$f":"ROUND(BK184/BK189,3)*100","v":{"$error":"#DIV/0!"}},{"$error":"#DIV/0!"},{"$error":"#DIV/0!"},{"$error":"#DIV/0!"},{"$error":"#DIV/0!"},{"$error":"#DIV/0!"},{"$error":"#DIV/0!"},{"$error":"#DIV/0!"},{"$error":"#DIV/0!"},{"$error":"#DIV/0!"},{"$error":"#DIV/0!"},{"$error":"#DIV/0!"},{"$error":"#DIV/0!"},{"$error":"#DIV/0!"}]
[null,null,null,2,"まれにある",2,null,null,null,null,null,null,null,null,null,null,null,null,null,null,{"$f":"ROUND(G185/G$72,4)*100","v":{"$error":"#DIV/0!"}},{"$f":"ROUND(H185/H$72,4)*100","v":{"$error":"#DIV/0!"}},{"$f":"ROUND(I185/I$72,4)*100","v":{"$error":"#DIV/0!"}},{"$f":"ROUND(J185/J$72,4)*100","v":{"$error":"#DIV/0!"}},{"$f":"ROUND(K185/K$72,4)*100","v":{"$error":"#DIV/0!"}},{"$f":"ROUND(L185/L$72,4)*100","v":{"$error":"#DIV/0!"}},{"$f":"ROUND(M185/M$72,4)*100","v":{"$error":"#DIV/0!"}},{"$f":"ROUND(N185/N$72,4)*100","v":{"$error":"#DIV/0!"}},{"$f":"ROUND(O185/O$72,4)*100","v":{"$error":"#DIV/0!"}},{"$f":"ROUND(P185/P$72,4)*100","v":{"$error":"#DIV/0!"}},{"$f":"ROUND(Q185/Q$72,4)*100","v":{"$error":"#DIV/0!"}},{"$f":"ROUND(R185/R$72,4)*100","v":{"$error":"#DIV/0!"}},{"$f":"ROUND(S185/S$72,4)*100","v":{"$error":"#DIV/0!"}},{"$f":"ROUND(T185/T$72,4)*100","v":{"$error":"#DIV/0!"}},null,null,null,null,null,null,null,null,null,null,null,null,null,null,{"$f":"ROUND(AI185/AI$72,4)*100","v":{"$error":"#DIV/0!"}},{"$f":"ROUND(AJ185/AJ$72,4)*100","v":{"$error":"#DIV/0!"}},{"$f":"ROUND(AK185/AK$72,4)*100","v":{"$error":"#DIV/0!"}},{"$f":"ROUND(AL185/AL$72,4)*100","v":{"$error":"#DIV/0!"}},{"$f":"ROUND(AM185/AM$72,4)*100","v":{"$error":"#DIV/0!"}},{"$f":"ROUND(AN185/AN$72,4)*100","v":{"$error":"#DIV/0!"}},{"$f":"ROUND(AO185/AO$72,4)*100","v":{"$error":"#DIV/0!"}},{"$f":"ROUND(AP185/AP$72,4)*100","v":{"$error":"#DIV/0!"}},{"$f":"ROUND(AQ185/AQ$72,4)*100","v":{"$error":"#DIV/0!"}},{"$f":"ROUND(AR185/AR$72,4)*100","v":{"$error":"#DIV/0!"}},{"$f":"ROUND(AS185/AS$72,4)*100","v":{"$error":"#DIV/0!"}},{"$f":"ROUND(AT185/AT$72,4)*100","v":{"$error":"#DIV/0!"}},{"$f":"ROUND(AU185/AU$72,4)*100","v":{"$error":"#DIV/0!"}},{"$f":"ROUND(AV185/AV$72,4)*100","v":{"$error":"#DIV/0!"}},null,null,null,null,null,null,null,null,null,null,null,null,null,null,{"$f":"ROUND(BK185/BK$72,4)*100","v":{"$error":"#DIV/0!"}},{"$f":"ROUND(BL185/BL$72,4)*100","v":{"$error":"#DIV/0!"}},{"$f":"ROUND(BM185/BM$72,4)*100","v":{"$error":"#DIV/0!"}},{"$f":"ROUND(BN185/BN$72,4)*100","v":{"$error":"#DIV/0!"}},{"$f":"ROUND(BO185/BO$72,4)*100","v":{"$error":"#DIV/0!"}},{"$f":"ROUND(BP185/BP$72,4)*100","v":{"$error":"#DIV/0!"}},{"$f":"ROUND(BQ185/BQ$72,4)*100","v":{"$error":"#DIV/0!"}},{"$f":"ROUND(BR185/BR$72,4)*100","v":{"$error":"#DIV/0!"}},{"$f":"ROUND(BS185/BS$72,4)*100","v":{"$error":"#DIV/0!"}},{"$f":"ROUND(BT185/BT$72,4)*100","v":{"$error":"#DIV/0!"}},{"$f":"ROUND(BU185/BU$72,4)*100","v":{"$error":"#DIV/0!"}},{"$f":"ROUND(BV185/BV$72,4)*100","v":{"$error":"#DIV/0!"}},{"$f":"ROUND(BW185/BW$72,4)*100","v":{"$error":"#DIV/0!"}},{"$f":"ROUND(BX185/BX$72,4)*100","v":{"$error":"#DIV/0!"}}]
[null,null,null,3,"時々ある",3,{"$f":"SUM(問題別集計!G153:G155)","v":0},{"$f":"SUM(問題別集計!H153:H155)","v":0},{"$f":"SUM(問題別集計!I153:I155)","v":0},{"$f":"SUM(問題別集計!J153:J155)","v":0},{"$f":"SUM(問題別集計!K153:K155)","v":0},{"$f":"SUM(問題別集計!L153:L155)","v":0},{"$f":"SUM(問題別集計!M153:M155)","v":0},{"$f":"SUM(問題別集計!N153:N155)","v":0},{"$f":"SUM(問題別集計!O153:O155)","v":0},{"$f":"SUM(問題別集計!P153:P155)","v":0},{"$f":"SUM(問題別集計!Q153:Q155)","v":0},{"$f":"SUM(問題別集計!R153:R155)","v":0},{"$f":"SUM(問題別集計!S153:S155)","v":0},{"$f":"SUM(問題別集計!T153:T155)","v":0},{"$f":"ROUND(G186/G189,3)*100","v":{"$error":"#DIV/0!"}},{"$error":"#DIV/0!"},{"$error":"#DIV/0!"},{"$error":"#DIV/0!"},{"$error":"#DIV/0!"},{"$error":"#DIV/0!"},{"$error":"#DIV/0!"},{"$error":"#DIV/0!"},{"$error":"#DIV/0!"},{"$error":"#DIV/0!"},{"$error":"#DIV/0!"},{"$error":"#DIV/0!"},{"$error":"#DIV/0!"},{"$error":"#DIV/0!"},{"$f":"SUM(問題別集計③!G153:G155)","v":0},{"$f":"SUM(問題別集計③!H153:H155)","v":0},{"$f":"SUM(問題別集計③!I153:I155)","v":0},{"$f":"SUM(問題別集計③!J153:J155)","v":0},{"$f":"SUM(問題別集計③!K153:K155)","v":0},{"$f":"SUM(問題別集計③!L153:L155)","v":0},{"$f":"SUM(問題別集計③!M153:M155)","v":0},{"$f":"SUM(問題別集計③!N153:N155)","v":0},{"$f":"SUM(問題別集計③!O153:O155)","v":0},{"$f":"SUM(問題別集計③!P153:P155)","v":0},{"$f":"SUM(問題別集計③!Q153:Q155)","v":0},{"$f":"SUM(問題別集計③!R153:R155)","v":0},{"$f":"SUM(問題別集計③!S153:S155)","v":0},{"$f":"SUM(問題別集計③!T153:T155)","v":0},{"$f":"ROUND(AI186/AI189,3)*100","v":{"$error":"#DIV/0!"}},{"$error":"#DIV/0!"},{"$error":"#DIV/0!"},{"$error":"#DIV/0!"},{"$error":"#DIV/0!"},{"$error":"#DIV/0!"},{"$error":"#DIV/0!"},{"$error":"#DIV/0!"},{"$error":"#DIV/0!"},{"$error":"#DIV/0!"},{"$error":"#DIV/0!"},{"$error":"#DIV/0!"},{"$error":"#DIV/0!"},{"$error":"#DIV/0!"},{"$f":"SUM(問題別集計②!G153:G155)","v":0},{"$f":"SUM(問題別集計②!H153:H155)","v":0},{"$f":"SUM(問題別集計②!I153:I155)","v":0},{"$f":"SUM(問題別集計②!J153:J155)","v":0},{"$f":"SUM(問題別集計②!K153:K155)","v":0},{"$f":"SUM(問題別集計②!L153:L155)","v":0},{"$f":"SUM(問題別集計②!M153:M155)","v":0},{"$f":"SUM(問題別集計②!N153:N155)","v":0},{"$f":"SUM(問題別集計②!O153:O155)","v":0},{"$f":"SUM(問題別集計②!P153:P155)","v":0},{"$f":"SUM(問題別集計②!Q153:Q155)","v":0},{"$f":"SUM(問題別集計②!R153:R155)","v":0},{"$f":"SUM(問題別集計②!S153:S155)","v":0},{"$f":"SUM(問題別集計②!T153:T155)","v":0},{"$f":"ROUND(BK186/BK189,3)*100","v":{"$error":"#DIV/0!"}},{"$error":"#DIV/0!"},{"$error":"#DIV/0!"},{"$error":"#DIV/0!"},{"$error":"#DIV/0!"},{"$error":"#DIV/0!"},{"$error":"#DIV/0!"},{"$error":"#DIV/0!"},{"$error":"#DIV/0!"},{"$error":"#DIV/0!"},{"$error":"#DIV/0!"},{"$error":"#DIV/0!"},{"$error":"#DIV/0!"},{"$error":"#DIV/0!"}]
[null,null,null,4,"よくある",4]
[null,null,null,5,"いつもある",5]
[null,null,null,"計",null,null,{"$f":"SUM(G184:G188)","v":0},{"$f":"SUM(H184:H188)","v":0},{"$f":"SUM(I184:I188)","v":0},{"$f":"SUM(J184:J188)","v":0},{"$f":"SUM(K184:K188)","v":0},{"$f":"SUM(L184:L188)","v":0},{"$f":"SUM(M184:M188)","v":0},{"$f":"SUM(N184:N188)","v":0},{"$f":"SUM(O184:O188)","v":0},{"$f":"SUM(P184:P188)","v":0},{"$f":"SUM(Q184:Q188)","v":0},{"$f":"SUM(R184:R188)","v":0},{"$f":"SUM(S184:S188)","v":0},{"$f":"SUM(T184:T188)","v":0},{"$f":"SUM(U184:U188)","v":{"$error":"#DIV/0!"}},{"$f":"SUM(V184:V188)","v":{"$error":"#DIV/0!"}},{"$f":"SUM(W184:W188)","v":{"$error":"#DIV/0!"}},{"$f":"SUM(X184:X188)","v":{"$error":"#DIV/0!"}},{"$f":"SUM(Y184:Y188)","v":{"$error":"#DIV/0!"}},{"$f":"SUM(Z184:Z188)","v":{"$error":"#DIV/0!"}},{"$f":"SUM(AA184:AA188)","v":{"$error":"#DIV/0!"}},{"$f":"SUM(AB184:AB188)","v":{"$error":"#DIV/0!"}},{"$f":"SUM(AC184:AC188)","v":{"$error":"#DIV/0!"}},{"$f":"SUM(AD184:AD188)","v":{"$error":"#DIV/0!"}},{"$f":"SUM(AE184:AE188)","v":{"$error":"#DIV/0!"}},{"$f":"SUM(AF184:AF188)","v":{"$error":"#DIV/0!"}},{"$f":"SUM(AG184:AG188)","v":{"$error":"#DIV/0!"}},{"$f":"SUM(AH184:AH188)","v":{"$error":"#DIV/0!"}},{"$f":"SUM(AI184:AI188)","v":0},{"$f":"SUM(AJ184:AJ188)","v":0},{"$f":"SUM(AK184:AK188)","v":0},{"$f":"SUM(AL184:AL188)","v":0},{"$f":"SUM(AM184:AM188)","v":0},{"$f":"SUM(AN184:AN188)","v":0},{"$f":"SUM(AO184:AO188)","v":0},{"$f":"SUM(AP184:AP188)","v":0},{"$f":"SUM(AQ184:AQ188)","v":0},{"$f":"SUM(AR184:AR188)","v":0},{"$f":"SUM(AS184:AS188)","v":0},{"$f":"SUM(AT184:AT188)","v":0},{"$f":"SUM(AU184:AU188)","v":0},{"$f":"SUM(AV184:AV188)","v":0},{"$error":"#DIV/0!"},{"$error":"#DIV/0!"},{"$error":"#DIV/0!"},{"$error":"#DIV/0!"},{"$error":"#DIV/0!"},{"$error":"#DIV/0!"},{"$f":"SUM(BC184:BC188)","v":{"$error":"#DIV/0!"}},{"$f":"SUM(BD184:BD188)","v":{"$error":"#DIV/0!"}},{"$error":"#DIV/0!"},{"$error":"#DIV/0!"},{"$error":"#DIV/0!"},{"$error":"#DIV/0!"},{"$error":"#DIV/0!"},{"$f":"SUM(BJ184:BJ188)","v":{"$error":"#DIV/0!"}},{"$f":"SUM(BK184:BK188)","v":0},{"$f":"SUM(BL184:BL188)","v":0},{"$f":"SUM(BM184:BM188)","v":0},{"$f":"SUM(BN184:BN188)","v":0},{"$f":"SUM(BO184:BO188)","v":0},{"$f":"SUM(BP184:BP188)","v":0},{"$f":"SUM(BQ184:BQ188)","v":0},{"$f":"SUM(BR184:BR188)","v":0},{"$f":"SUM(BS184:BS188)","v":0},{"$f":"SUM(BT184:BT188)","v":0},{"$f":"SUM(BU184:BU188)","v":0},{"$f":"SUM(BV184:BV188)","v":0},{"$f":"SUM(BW184:BW188)","v":0},{"$f":"SUM(BX184:BX188)","v":0},{"$error":"#DIV/0!"},{"$error":"#DIV/0!"},{"$error":"#DIV/0!"},{"$error":"#DIV/0!"},{"$error":"#DIV/0!"},{"$error":"#DIV/0!"},{"$f":"SUM(CE184:CE188)","v":{"$error":"#DIV/0!"}},{"$f":"SUM(CF184:CF188)","v":{"$error":"#DIV/0!"}},{"$error":"#DIV/0!"},{"$error":"#DIV/0!"},{"$error":"#DIV/0!"},{"$error":"#DIV/0!"},{"$error":"#DIV/0!"},{"$f":"SUM(CL184:CL188)","v":{"$error":"#DIV/0!"}}]
[null,"34\n(35)","インターネットのために、勉強の能率（※）や成果が下がったことがありますか？※「能率」＝「効率」",1,"全くない",1,{"$f":"SUM(問題別集計!G156:G157)","v":0},{"$f":"SUM(問題別集計!H156:H157)","v":0},{"$f":"SUM(問題別集計!I156:I157)","v":0},{"$f":"SUM(問題別集計!J156:J157)","v":0},{"$f":"SUM(問題別集計!K156:K157)","v":0},{"$f":"SUM(問題別集計!L156:L157)","v":0},{"$f":"SUM(問題別集計!M156:M157)","v":0},{"$f":"SUM(問題別集計!N156:N157)","v":0},{"$f":"SUM(問題別集計!O156:O157)","v":0},{"$f":"SUM(問題別集計!P156:P157)","v":0},{"$f":"SUM(問題別集計!Q156:Q157)","v":0},{"$f":"SUM(問題別集計!R156:R157)","v":0},{"$f":"SUM(問題別集計!S156:S157)","v":0},{"$f":"SUM(問題別集計!T156:T157)","v":0},{"$f":"ROUND(G190/G195,3)*100","v":{"$error":"#DIV/0!"}},{"$error":"#DIV/0!"},{"$error":"#DIV/0!"},{"$error":"#DIV/0!"},{"$error":"#DIV/0!"},{"$error":"#DIV/0!"},{"$error":"#DIV/0!"},{"$error":"#DIV/0!"},{"$error":"#DIV/0!"},{"$error":"#DIV/0!"},{"$error":"#DIV/0!"},{"$error":"#DIV/0!"},{"$error":"#DIV/0!"},{"$error":"#DIV/0!"},{"$f":"SUM(問題別集計③!G156:G157)","v":0},{"$f":"SUM(問題別集計③!H156:H157)","v":0},{"$f":"SUM(問題別集計③!I156:I157)","v":0},{"$f":"SUM(問題別集計③!J156:J157)","v":0},{"$f":"SUM(問題別集計③!K156:K157)","v":0},{"$f":"SUM(問題別集計③!L156:L157)","v":0},{"$f":"SUM(問題別集計③!M156:M157)","v":0},{"$f":"SUM(問題別集計③!N156:N157)","v":0},{"$f":"SUM(問題別集計③!O156:O157)","v":0},{"$f":"SUM(問題別集計③!P156:P157)","v":0},{"$f":"SUM(問題別集計③!Q156:Q157)","v":0},{"$f":"SUM(問題別集計③!R156:R157)","v":0},{"$f":"SUM(問題別集計③!S156:S157)","v":0},{"$f":"SUM(問題別集計③!T156:T157)","v":0},{"$f":"ROUND(AI190/AI195,3)*100","v":{"$error":"#DIV/0!"}},{"$error":"#DIV/0!"},{"$error":"#DIV/0!"},{"$error":"#DIV/0!"},{"$error":"#DIV/0!"},{"$error":"#DIV/0!"},{"$error":"#DIV/0!"},{"$error":"#DIV/0!"},{"$error":"#DIV/0!"},{"$error":"#DIV/0!"},{"$error":"#DIV/0!"},{"$error":"#DIV/0!"},{"$error":"#DIV/0!"},{"$error":"#DIV/0!"},{"$f":"SUM(問題別集計②!G156:G157)","v":0},{"$f":"SUM(問題別集計②!H156:H157)","v":0},{"$f":"SUM(問題別集計②!I156:I157)","v":0},{"$f":"SUM(問題別集計②!J156:J157)","v":0},{"$f":"SUM(問題別集計②!K156:K157)","v":0},{"$f":"SUM(問題別集計②!L156:L157)","v":0},{"$f":"SUM(問題別集計②!M156:M157)","v":0},{"$f":"SUM(問題別集計②!N156:N157)","v":0},{"$f":"SUM(問題別集計②!O156:O157)","v":0},{"$f":"SUM(問題別集計②!P156:P157)","v":0},{"$f":"SUM(問題別集計②!Q156:Q157)","v":0},{"$f":"SUM(問題別集計②!R156:R157)","v":0},{"$f":"SUM(問題別集計②!S156:S157)","v":0},{"$f":"SUM(問題別集計②!T156:T157)","v":0},{"$f":"ROUND(BK190/BK195,3)*100","v":{"$error":"#DIV/0!"}},{"$error":"#DIV/0!"},{"$error":"#DIV/0!"},{"$error":"#DIV/0!"},{"$error":"#DIV/0!"},{"$error":"#DIV/0!"},{"$error":"#DIV/0!"},{"$error":"#DIV/0!"},{"$error":"#DIV/0!"},{"$error":"#DIV/0!"},{"$error":"#DIV/0!"},{"$error":"#DIV/0!"},{"$error":"#DIV/0!"},{"$error":"#DIV/0!"}]
[null,null,null,2,"まれにある",2,null,null,null,null,null,null,null,null,null,null,null,null,null,null,{"$f":"ROUND(G191/G$72,4)*100","v":{"$error":"#DIV/0!"}},{"$f":"ROUND(H191/H$72,4)*100","v":{"$error":"#DIV/0!"}},{"$f":"ROUND(I191/I$72,4)*100","v":{"$error":"#DIV/0!"}},{"$f":"ROUND(J191/J$72,4)*100","v":{"$error":"#DIV/0!"}},{"$f":"ROUND(K191/K$72,4)*100","v":{"$error":"#DIV/0!"}},{"$f":"ROUND(L191/L$72,4)*100","v":{"$error":"#DIV/0!"}},{"$f":"ROUND(M191/M$72,4)*100","v":{"$error":"#DIV/0!"}},{"$f":"ROUND(N191/N$72,4)*100","v":{"$error":"#DIV/0!"}},{"$f":"ROUND(O191/O$72,4)*100","v":{"$error":"#DIV/0!"}},{"$f":"ROUND(P191/P$72,4)*100","v":{"$error":"#DIV/0!"}},{"$f":"ROUND(Q191/Q$72,4)*100","v":{"$error":"#DIV/0!"}},{"$f":"ROUND(R191/R$72,4)*100","v":{"$error":"#DIV/0!"}},{"$f":"ROUND(S191/S$72,4)*100","v":{"$error":"#DIV/0!"}},{"$f":"ROUND(T191/T$72,4)*100","v":{"$error":"#DIV/0!"}},null,null,null,null,null,null,null,null,null,null,null,null,null,null,{"$f":"ROUND(AI191/AI$72,4)*100","v":{"$error":"#DIV/0!"}},{"$f":"ROUND(AJ191/AJ$72,4)*100","v":{"$error":"#DIV/0!"}},{"$f":"ROUND(AK191/AK$72,4)*100","v":{"$error":"#DIV/0!"}},{"$f":"ROUND(AL191/AL$72,4)*100","v":{"$error":"#DIV/0!"}},{"$f":"ROUND(AM191/AM$72,4)*100","v":{"$error":"#DIV/0!"}},{"$f":"ROUND(AN191/AN$72,4)*100","v":{"$error":"#DIV/0!"}},{"$f":"ROUND(AO191/AO$72,4)*100","v":{"$error":"#DIV/0!"}},{"$f":"ROUND(AP191/AP$72,4)*100","v":{"$error":"#DIV/0!"}},{"$f":"ROUND(AQ191/AQ$72,4)*100","v":{"$error":"#DIV/0!"}},{"$f":"ROUND(AR191/AR$72,4)*100","v":{"$error":"#DIV/0!"}},{"$f":"ROUND(AS191/AS$72,4)*100","v":{"$error":"#DIV/0!"}},{"$f":"ROUND(AT191/AT$72,4)*100","v":{"$error":"#DIV/0!"}},{"$f":"ROUND(AU191/AU$72,4)*100","v":{"$error":"#DIV/0!"}},{"$f":"ROUND(AV191/AV$72,4)*100","v":{"$error":"#DIV/0!"}},null,null,null,null,null,null,null,null,null,null,null,null,null,null,{"$f":"ROUND(BK191/BK$72,4)*100","v":{"$error":"#DIV/0!"}},{"$f":"ROUND(BL191/BL$72,4)*100","v":{"$error":"#DIV/0!"}},{"$f":"ROUND(BM191/BM$72,4)*100","v":{"$error":"#DIV/0!"}},{"$f":"ROUND(BN191/BN$72,4)*100","v":{"$error":"#DIV/0!"}},{"$f":"ROUND(BO191/BO$72,4)*100","v":{"$error":"#DIV/0!"}},{"$f":"ROUND(BP191/BP$72,4)*100","v":{"$error":"#DIV/0!"}},{"$f":"ROUND(BQ191/BQ$72,4)*100","v":{"$error":"#DIV/0!"}},{"$f":"ROUND(BR191/BR$72,4)*100","v":{"$error":"#DIV/0!"}},{"$f":"ROUND(BS191/BS$72,4)*100","v":{"$error":"#DIV/0!"}},{"$f":"ROUND(BT191/BT$72,4)*100","v":{"$error":"#DIV/0!"}},{"$f":"ROUND(BU191/BU$72,4)*100","v":{"$error":"#DIV/0!"}},{"$f":"ROUND(BV191/BV$72,4)*100","v":{"$error":"#DIV/0!"}},{"$f":"ROUND(BW191/BW$72,4)*100","v":{"$error":"#DIV/0!"}},{"$f":"ROUND(BX191/BX$72,4)*100","v":{"$error":"#DIV/0!"}}]
[null,null,null,3,"時々ある",3,{"$f":"SUM(問題別集計!G158:G160)","v":0},{"$f":"SUM(問題別集計!H158:H160)","v":0},{"$f":"SUM(問題別集計!I158:I160)","v":0},{"$f":"SUM(問題別集計!J158:J160)","v":0},{"$f":"SUM(問題別集計!K158:K160)","v":0},{"$f":"SUM(問題別集計!L158:L160)","v":0},{"$f":"SUM(問題別集計!M158:M160)","v":0},{"$f":"SUM(問題別集計!N158:N160)","v":0},{"$f":"SUM(問題別集計!O158:O160)","v":0},{"$f":"SUM(問題別集計!P158:P160)","v":0},{"$f":"SUM(問題別集計!Q158:Q160)","v":0},{"$f":"SUM(問題別集計!R158:R160)","v":0},{"$f":"SUM(問題別集計!S158:S160)","v":0},{"$f":"SUM(問題別集計!T158:T160)","v":0},{"$f":"ROUND(G192/G195,3)*100","v":{"$error":"#DIV/0!"}},{"$error":"#DIV/0!"},{"$error":"#DIV/0!"},{"$error":"#DIV/0!"},{"$error":"#DIV/0!"},{"$error":"#DIV/0!"},{"$error":"#DIV/0!"},{"$error":"#DIV/0!"},{"$error":"#DIV/0!"},{"$error":"#DIV/0!"},{"$error":"#DIV/0!"},{"$error":"#DIV/0!"},{"$error":"#DIV/0!"},{"$error":"#DIV/0!"},{"$f":"SUM(問題別集計③!G158:G160)","v":0},{"$f":"SUM(問題別集計③!H158:H160)","v":0},{"$f":"SUM(問題別集計③!I158:I160)","v":0},{"$f":"SUM(問題別集計③!J158:J160)","v":0},{"$f":"SUM(問題別集計③!K158:K160)","v":0},{"$f":"SUM(問題別集計③!L158:L160)","v":0},{"$f":"SUM(問題別集計③!M158:M160)","v":0},{"$f":"SUM(問題別集計③!N158:N160)","v":0},{"$f":"SUM(問題別集計③!O158:O160)","v":0},{"$f":"SUM(問題別集計③!P158:P160)","v":0},{"$f":"SUM(問題別集計③!Q158:Q160)","v":0},{"$f":"SUM(問題別集計③!R158:R160)","v":0},{"$f":"SUM(問題別集計③!S158:S160)","v":0},{"$f":"SUM(問題別集計③!T158:T160)","v":0},{"$f":"ROUND(AI192/AI195,3)*100","v":{"$error":"#DIV/0!"}},{"$error":"#DIV/0!"},{"$error":"#DIV/0!"},{"$error":"#DIV/0!"},{"$error":"#DIV/0!"},{"$error":"#DIV/0!"},{"$error":"#DIV/0!"},{"$error":"#DIV/0!"},{"$error":"#DIV/0!"},{"$error":"#DIV/0!"},{"$error":"#DIV/0!"},{"$error":"#DIV/0!"},{"$error":"#DIV/0!"},{"$error":"#DIV/0!"},{"$f":"SUM(問題別集計②!G158:G160)","v":0},{"$f":"SUM(問題別集計②!H158:H160)","v":0},{"$f":"SUM(問題別集計②!I158:I160)","v":0},{"$f":"SUM(問題別集計②!J158:J160)","v":0},{"$f":"SUM(問題別集計②!K158:K160)","v":0},{"$f":"SUM(問題別集計②!L158:L160)","v":0},{"$f":"SUM(問題別集計②!M158:M160)","v":0},{"$f":"SUM(問題別集計②!N158:N160)","v":0},{"$f":"SUM(問題別集計②!O158:O160)","v":0},{"$f":"SUM(問題別集計②!P158:P160)","v":0},{"$f":"SUM(問題別集計②!Q158:Q160)","v":0},{"$f":"SUM(問題別集計②!R158:R160)","v":0},{"$f":"SUM(問題別集計②!S158:S160)","v":0},{"$f":"SUM(問題別集計②!T158:T160)","v":0},{"$f":"ROUND(BK192/BK195,3)*100","v":{"$error":"#DIV/0!"}},{"$error":"#DIV/0!"},{"$error":"#DIV/0!"},{"$error":"#DIV/0!"},{"$error":"#DIV/0!"},{"$error":"#DIV/0!"},{"$error":"#DIV/0!"},{"$error":"#DIV/0!"},{"$error":"#DIV/0!"},{"$error":"#DIV/0!"},{"$error":"#DIV/0!"},{"$error":"#DIV/0!"},{"$error":"#DIV/0!"},{"$error":"#DIV/0!"}]
[null,null,null,4,"よくある",4]
[null,null,null,5,"いつもある",5]
[null,null,null,"計",null,null,{"$f":"SUM(G190:G194)","v":0},{"$f":"SUM(H190:H194)","v":0},{"$f":"SUM(I190:I194)","v":0},{"$f":"SUM(J190:J194)","v":0},{"$f":"SUM(K190:K194)","v":0},{"$f":"SUM(L190:L194)","v":0},{"$f":"SUM(M190:M194)","v":0},{"$f":"SUM(N190:N194)","v":0},{"$f":"SUM(O190:O194)","v":0},{"$f":"SUM(P190:P194)","v":0},{"$f":"SUM(Q190:Q194)","v":0},{"$f":"SUM(R190:R194)","v":0},{"$f":"SUM(S190:S194)","v":0},{"$f":"SUM(T190:T194)","v":0},{"$f":"SUM(U190:U194)","v":{"$error":"#DIV/0!"}},{"$f":"SUM(V190:V194)","v":{"$error":"#DIV/0!"}},{"$f":"SUM(W190:W194)","v":{"$error":"#DIV/0!"}},{"$f":"SUM(X190:X194)","v":{"$error":"#DIV/0!"}},{"$f":"SUM(Y190:Y194)","v":{"$error":"#DIV/0!"}},{"$f":"SUM(Z190:Z194)","v":{"$error":"#DIV/0!"}},{"$f":"SUM(AA190:AA194)","v":{"$error":"#DIV/0!"}},{"$f":"SUM(AB190:AB194)","v":{"$error":"#DIV/0!"}},{"$f":"SUM(AC190:AC194)","v":{"$error":"#DIV/0!"}},{"$f":"SUM(AD190:AD194)","v":{"$error":"#DIV/0!"}},{"$f":"SUM(AE190:AE194)","v":{"$error":"#DIV/0!"}},{"$f":"SUM(AF190:AF194)","v":{"$error":"#DIV/0!"}},{"$f":"SUM(AG190:AG194)","v":{"$error":"#DIV/0!"}},{"$f":"SUM(AH190:AH194)","v":{"$error":"#DIV/0!"}},{"$f":"SUM(AI190:AI194)","v":0},{"$f":"SUM(AJ190:AJ194)","v":0},{"$f":"SUM(AK190:AK194)","v":0},{"$f":"SUM(AL190:AL194)","v":0},{"$f":"SUM(AM190:AM194)","v":0},{"$f":"SUM(AN190:AN194)","v":0},{"$f":"SUM(AO190:AO194)","v":0},{"$f":"SUM(AP190:AP194)","v":0},{"$f":"SUM(AQ190:AQ194)","v":0},{"$f":"SUM(AR190:AR194)","v":0},{"$f":"SUM(AS190:AS194)","v":0},{"$f":"SUM(AT190:AT194)","v":0},{"$f":"SUM(AU190:AU194)","v":0},{"$f":"SUM(AV190:AV194)","v":0},{"$error":"#DIV/0!"},{"$error":"#DIV/0!"},{"$error":"#DIV/0!"},{"$error":"#DIV/0!"},{"$error":"#DIV/0!"},{"$error":"#DIV/0!"},{"$f":"SUM(BC190:BC194)","v":{"$error":"#DIV/0!"}},{"$f":"SUM(BD190:BD194)","v":{"$error":"#DIV/0!"}},{"$error":"#DIV/0!"},{"$error":"#DIV/0!"},{"$error":"#DIV/0!"},{"$error":"#DIV/0!"},{"$error":"#DIV/0!"},{"$f":"SUM(BJ190:BJ194)","v":{"$error":"#DIV/0!"}},{"$f":"SUM(BK190:BK194)","v":0},{"$f":"SUM(BL190:BL194)","v":0},{"$f":"SUM(BM190:BM194)","v":0},{"$f":"SUM(BN190:BN194)","v":0},{"$f":"SUM(BO190:BO194)","v":0},{"$f":"SUM(BP190:BP194)","v":0},{"$f":"SUM(BQ190:BQ194)","v":0},{"$f":"SUM(BR190:BR194)","v":0},{"$f":"SUM(BS190:BS194)","v":0},{"$f":"SUM(BT190:BT194)","v":0},{"$f":"SUM(BU190:BU194)","v":0},{"$f":"SUM(BV190:BV194)","v":0},{"$f":"SUM(BW190:BW194)","v":0},{"$f":"SUM(BX190:BX194)","v":0},{"$error":"#DIV/0!"},{"$error":"#DIV/0!"},{"$error":"#DIV/0!"},{"$error":"#DIV/0!"},{"$error":"#DIV/0!"},{"$error":"#DIV/0!"},{"$f":"SUM(CE190:CE194)","v":{"$error":"#DIV/0!"}},{"$f":"SUM(CF190:CF194)","v":{"$error":"#DIV/0!"}},{"$error":"#DIV/0!"},{"$error":"#DIV/0!"},{"$error":"#DIV/0!"},{"$error":"#DIV/0!"},{"$error":"#DIV/0!"},{"$f":"SUM(CL190:CL194)","v":{"$error":"#DIV/0!"}}]
[null,"35\n(36)","人にインターネットで何をしているのか聞かれたとき防御的になったり（※）、隠そうとしたことがどれくらいありますか？　※「防御的になったり」＝「自分のことを守ろうとしたり」",1,"全くない",1,{"$f":"SUM(問題別集計!G161:G162)","v":0},{"$f":"SUM(問題別集計!H161:H162)","v":0},{"$f":"SUM(問題別集計!I161:I162)","v":0},{"$f":"SUM(問題別集計!J161:J162)","v":0},{"$f":"SUM(問題別集計!K161:K162)","v":0},{"$f":"SUM(問題別集計!L161:L162)","v":0},{"$f":"SUM(問題別集計!M161:M162)","v":0},{"$f":"SUM(問題別集計!N161:N162)","v":0},{"$f":"SUM(問題別集計!O161:O162)","v":0},{"$f":"SUM(問題別集計!P161:P162)","v":0},{"$f":"SUM(問題別集計!Q161:Q162)","v":0},{"$f":"SUM(問題別集計!R161:R162)","v":0},{"$f":"SUM(問題別集計!S161:S162)","v":0},{"$f":"SUM(問題別集計!T161:T162)","v":0},{"$f":"ROUND(G196/G201,3)*100","v":{"$error":"#DIV/0!"}},{"$error":"#DIV/0!"},{"$error":"#DIV/0!"},{"$error":"#DIV/0!"},{"$error":"#DIV/0!"},{"$error":"#DIV/0!"},{"$error":"#DIV/0!"},{"$error":"#DIV/0!"},{"$error":"#DIV/0!"},{"$error":"#DIV/0!"},{"$error":"#DIV/0!"},{"$error":"#DIV/0!"},{"$error":"#DIV/0!"},{"$error":"#DIV/0!"},{"$f":"SUM(問題別集計③!G161:G162)","v":0},{"$f":"SUM(問題別集計③!H161:H162)","v":0},{"$f":"SUM(問題別集計③!I161:I162)","v":0},{"$f":"SUM(問題別集計③!J161:J162)","v":0},{"$f":"SUM(問題別集計③!K161:K162)","v":0},{"$f":"SUM(問題別集計③!L161:L162)","v":0},{"$f":"SUM(問題別集計③!M161:M162)","v":0},{"$f":"SUM(問題別集計③!N161:N162)","v":0},{"$f":"SUM(問題別集計③!O161:O162)","v":0},{"$f":"SUM(問題別集計③!P161:P162)","v":0},{"$f":"SUM(問題別集計③!Q161:Q162)","v":0},{"$f":"SUM(問題別集計③!R161:R162)","v":0},{"$f":"SUM(問題別集計③!S161:S162)","v":0},{"$f":"SUM(問題別集計③!T161:T162)","v":0},{"$f":"ROUND(AI196/AI201,3)*100","v":{"$error":"#DIV/0!"}},{"$error":"#DIV/0!"},{"$error":"#DIV/0!"},{"$error":"#DIV/0!"},{"$error":"#DIV/0!"},{"$error":"#DIV/0!"},{"$error":"#DIV/0!"},{"$error":"#DIV/0!"},{"$error":"#DIV/0!"},{"$error":"#DIV/0!"},{"$error":"#DIV/0!"},{"$error":"#DIV/0!"},{"$error":"#DIV/0!"},{"$error":"#DIV/0!"},{"$f":"SUM(問題別集計②!G161:G162)","v":0},{"$f":"SUM(問題別集計②!H161:H162)","v":0},{"$f":"SUM(問題別集計②!I161:I162)","v":0},{"$f":"SUM(問題別集計②!J161:J162)","v":0},{"$f":"SUM(問題別集計②!K161:K162)","v":0},{"$f":"SUM(問題別集計②!L161:L162)","v":0},{"$f":"SUM(問題別集計②!M161:M162)","v":0},{"$f":"SUM(問題別集計②!N161:N162)","v":0},{"$f":"SUM(問題別集計②!O161:O162)","v":0},{"$f":"SUM(問題別集計②!P161:P162)","v":0},{"$f":"SUM(問題別集計②!Q161:Q162)","v":0},{"$f":"SUM(問題別集計②!R161:R162)","v":0},{"$f":"SUM(問題別集計②!S161:S162)","v":0},{"$f":"SUM(問題別集計②!T161:T162)","v":0},{"$f":"ROUND(BK196/BK201,3)*100","v":{"$error":"#DIV/0!"}},{"$error":"#DIV/0!"},{"$error":"#DIV/0!"},{"$error":"#DIV/0!"},{"$error":"#DIV/0!"},{"$error":"#DIV/0!"},{"$error":"#DIV/0!"},{"$error":"#DIV/0!"},{"$error":"#DIV/0!"},{"$error":"#DIV/0!"},{"$error":"#DIV/0!"},{"$error":"#DIV/0!"},{"$error":"#DIV/0!"},{"$error":"#DIV/0!"}]
[null,null,null,2,"まれにある",2,null,null,null,null,null,null,null,null,null,null,null,null,null,null,{"$f":"ROUND(G197/G$72,4)*100","v":{"$error":"#DIV/0!"}},{"$f":"ROUND(H197/H$72,4)*100","v":{"$error":"#DIV/0!"}},{"$f":"ROUND(I197/I$72,4)*100","v":{"$error":"#DIV/0!"}},{"$f":"ROUND(J197/J$72,4)*100","v":{"$error":"#DIV/0!"}},{"$f":"ROUND(K197/K$72,4)*100","v":{"$error":"#DIV/0!"}},{"$f":"ROUND(L197/L$72,4)*100","v":{"$error":"#DIV/0!"}},{"$f":"ROUND(M197/M$72,4)*100","v":{"$error":"#DIV/0!"}},{"$f":"ROUND(N197/N$72,4)*100","v":{"$error":"#DIV/0!"}},{"$f":"ROUND(O197/O$72,4)*100","v":{"$error":"#DIV/0!"}},{"$f":"ROUND(P197/P$72,4)*100","v":{"$error":"#DIV/0!"}},{"$f":"ROUND(Q197/Q$72,4)*100","v":{"$error":"#DIV/0!"}},{"$f":"ROUND(R197/R$72,4)*100","v":{"$error":"#DIV/0!"}},{"$f":"ROUND(S197/S$72,4)*100","v":{"$error":"#DIV/0!"}},{"$f":"ROUND(T197/T$72,4)*100","v":{"$error":"#DIV/0!"}},null,null,null,null,null,null,null,null,null,null,null,null,null,null,{"$f":"ROUND(AI197/AI$72,4)*100","v":{"$error":"#DIV/0!"}},{"$f":"ROUND(AJ197/AJ$72,4)*100","v":{"$error":"#DIV/0!"}},{"$f":"ROUND(AK197/AK$72,4)*100","v":{"$error":"#DIV/0!"}},{"$f":"ROUND(AL197/AL$72,4)*100","v":{"$error":"#DIV/0!"}},{"$f":"ROUND(AM197/AM$72,4)*100","v":{"$error":"#DIV/0!"}},{"$f":"ROUND(AN197/AN$72,4)*100","v":{"$error":"#DIV/0!"}},{"$f":"ROUND(AO197/AO$72,4)*100","v":{"$error":"#DIV/0!"}},{"$f":"ROUND(AP197/AP$72,4)*100","v":{"$error":"#DIV/0!"}},{"$f":"ROUND(AQ197/AQ$72,4)*100","v":{"$error":"#DIV/0!"}},{"$f":"ROUND(AR197/AR$72,4)*100","v":{"$error":"#DIV/0!"}},{"$f":"ROUND(AS197/AS$72,4)*100","v":{"$error":"#DIV/0!"}},{"$f":"ROUND(AT197/AT$72,4)*100","v":{"$error":"#DIV/0!"}},{"$f":"ROUND(AU197/AU$72,4)*100","v":{"$error":"#DIV/0!"}},{"$f":"ROUND(AV197/AV$72,4)*100","v":{"$error":"#DIV/0!"}},null,null,null,null,null,null,null,null,null,null,null,null,null,null,{"$f":"ROUND(BK197/BK$72,4)*100","v":{"$error":"#DIV/0!"}},{"$f":"ROUND(BL197/BL$72,4)*100","v":{"$error":"#DIV/0!"}},{"$f":"ROUND(BM197/BM$72,4)*100","v":{"$error":"#DIV/0!"}},{"$f":"ROUND(BN197/BN$72,4)*100","v":{"$error":"#DIV/0!"}},{"$f":"ROUND(BO197/BO$72,4)*100","v":{"$error":"#DIV/0!"}},{"$f":"ROUND(BP197/BP$72,4)*100","v":{"$error":"#DIV/0!"}},{"$f":"ROUND(BQ197/BQ$72,4)*100","v":{"$error":"#DIV/0!"}},{"$f":"ROUND(BR197/BR$72,4)*100","v":{"$error":"#DIV/0!"}},{"$f":"ROUND(BS197/BS$72,4)*100","v":{"$error":"#DIV/0!"}},{"$f":"ROUND(BT197/BT$72,4)*100","v":{"$error":"#DIV/0!"}},{"$f":"ROUND(BU197/BU$72,4)*100","v":{"$error":"#DIV/0!"}},{"$f":"ROUND(BV197/BV$72,4)*100","v":{"$error":"#DIV/0!"}},{"$f":"ROUND(BW197/BW$72,4)*100","v":{"$error":"#DIV/0!"}},{"$f":"ROUND(BX197/BX$72,4)*100","v":{"$error":"#DIV/0!"}}]
[null,null,null,3,"時々ある",3,{"$f":"SUM(問題別集計!G163:G165)","v":0},{"$f":"SUM(問題別集計!H163:H165)","v":0},{"$f":"SUM(問題別集計!I163:I165)","v":0},{"$f":"SUM(問題別集計!J163:J165)","v":0},{"$f":"SUM(問題別集計!K163:K165)","v":0},{"$f":"SUM(問題別集計!L163:L165)","v":0},{"$f":"SUM(問題別集計!M163:M165)","v":0},{"$f":"SUM(問題別集計!N163:N165)","v":0},{"$f":"SUM(問題別集計!O163:O165)","v":0},{"$f":"SUM(問題別集計!P163:P165)","v":0},{"$f":"SUM(問題別集計!Q163:Q165)","v":0},{"$f":"SUM(問題別集計!R163:R165)","v":0},{"$f":"SUM(問題別集計!S163:S165)","v":0},{"$f":"SUM(問題別集計!T163:T165)","v":0},{"$f":"ROUND(G198/G201,3)*100","v":{"$error":"#DIV/0!"}},{"$error":"#DIV/0!"},{"$error":"#DIV/0!"},{"$error":"#DIV/0!"},{"$error":"#DIV/0!"},{"$error":"#DIV/0!"},{"$error":"#DIV/0!"},{"$error":"#DIV/0!"},{"$error":"#DIV/0!"},{"$error":"#DIV/0!"},{"$error":"#DIV/0!"},{"$error":"#DIV/0!"},{"$error":"#DIV/0!"},{"$error":"#DIV/0!"},{"$f":"SUM(問題別集計③!G163:G165)","v":0},{"$f":"SUM(問題別集計③!H163:H165)","v":0},{"$f":"SUM(問題別集計③!I163:I165)","v":0},{"$f":"SUM(問題別集計③!J163:J165)","v":0},{"$f":"SUM(問題別集計③!K163:K165)","v":0},{"$f":"SUM(問題別集計③!L163:L165)","v":0},{"$f":"SUM(問題別集計③!M163:M165)","v":0},{"$f":"SUM(問題別集計③!N163:N165)","v":0},{"$f":"SUM(問題別集計③!O163:O165)","v":0},{"$f":"SUM(問題別集計③!P163:P165)","v":0},{"$f":"SUM(問題別集計③!Q163:Q165)","v":0},{"$f":"SUM(問題別集計③!R163:R165)","v":0},{"$f":"SUM(問題別集計③!S163:S165)","v":0},{"$f":"SUM(問題別集計③!T163:T165)","v":0},{"$f":"ROUND(AI198/AI201,3)*100","v":{"$error":"#DIV/0!"}},{"$error":"#DIV/0!"},{"$error":"#DIV/0!"},{"$error":"#DIV/0!"},{"$error":"#DIV/0!"},{"$error":"#DIV/0!"},{"$error":"#DIV/0!"},{"$error":"#DIV/0!"},{"$error":"#DIV/0!"},{"$error":"#DIV/0!"},{"$error":"#DIV/0!"},{"$error":"#DIV/0!"},{"$error":"#DIV/0!"},{"$error":"#DIV/0!"},{"$f":"SUM(問題別集計②!G163:G165)","v":0},{"$f":"SUM(問題別集計②!H163:H165)","v":0},{"$f":"SUM(問題別集計②!I163:I165)","v":0},{"$f":"SUM(問題別集計②!J163:J165)","v":0},{"$f":"SUM(問題別集計②!K163:K165)","v":0},{"$f":"SUM(問題別集計②!L163:L165)","v":0},{"$f":"SUM(問題別集計②!M163:M165)","v":0},{"$f":"SUM(問題別集計②!N163:N165)","v":0},{"$f":"SUM(問題別集計②!O163:O165)","v":0},{"$f":"SUM(問題別集計②!P163:P165)","v":0},{"$f":"SUM(問題別集計②!Q163:Q165)","v":0},{"$f":"SUM(問題別集計②!R163:R165)","v":0},{"$f":"SUM(問題別集計②!S163:S165)","v":0},{"$f":"SUM(問題別集計②!T163:T165)","v":0},{"$f":"ROUND(BK198/BK201,3)*100","v":{"$error":"#DIV/0!"}},{"$error":"#DIV/0!"},{"$error":"#DIV/0!"},{"$error":"#DIV/0!"},{"$error":"#DIV/0!"},{"$error":"#DIV/0!"},{"$error":"#DIV/0!"},{"$error":"#DIV/0!"},{"$error":"#DIV/0!"},{"$error":"#DIV/0!"},{"$error":"#DIV/0!"},{"$error":"#DIV/0!"},{"$error":"#DIV/0!"},{"$error":"#DIV/0!"}]
[null,null,null,4,"よくある",4]
[null,null,null,5,"いつもある",5]
[null,null,null,"計",null,null,{"$f":"SUM(G196:G200)","v":0},{"$f":"SUM(H196:H200)","v":0},{"$f":"SUM(I196:I200)","v":0},{"$f":"SUM(J196:J200)","v":0},{"$f":"SUM(K196:K200)","v":0},{"$f":"SUM(L196:L200)","v":0},{"$f":"SUM(M196:M200)","v":0},{"$f":"SUM(N196:N200)","v":0},{"$f":"SUM(O196:O200)","v":0},{"$f":"SUM(P196:P200)","v":0},{"$f":"SUM(Q196:Q200)","v":0},{"$f":"SUM(R196:R200)","v":0},{"$f":"SUM(S196:S200)","v":0},{"$f":"SUM(T196:T200)","v":0},{"$f":"SUM(U196:U200)","v":{"$error":"#DIV/0!"}},{"$f":"SUM(V196:V200)","v":{"$error":"#DIV/0!"}},{"$f":"SUM(W196:W200)","v":{"$error":"#DIV/0!"}},{"$f":"SUM(X196:X200)","v":{"$error":"#DIV/0!"}},{"$f":"SUM(Y196:Y200)","v":{"$error":"#DIV/0!"}},{"$f":"SUM(Z196:Z200)","v":{"$error":"#DIV/0!"}},{"$f":"SUM(AA196:AA200)","v":{"$error":"#DIV/0!"}},{"$f":"SUM(AB196:AB200)","v":{"$error":"#DIV/0!"}},{"$f":"SUM(AC196:AC200)","v":{"$error":"#DIV/0!"}},{"$f":"SUM(AD196:AD200)","v":{"$error":"#DIV/0!"}},{"$f":"SUM(AE196:AE200)","v":{"$error":"#DIV/0!"}},{"$f":"SUM(AF196:AF200)","v":{"$error":"#DIV/0!"}},{"$f":"SUM(AG196:AG200)","v":{"$error":"#DIV/0!"}},{"$f":"SUM(AH196:AH200)","v":{"$error":"#DIV/0!"}},{"$f":"SUM(AI196:AI200)","v":0},{"$f":"SUM(AJ196:AJ200)","v":0},{"$f":"SUM(AK196:AK200)","v":0},{"$f":"SUM(AL196:AL200)","v":0},{"$f":"SUM(AM196:AM200)","v":0},{"$f":"SUM(AN196:AN200)","v":0},{"$f":"SUM(AO196:AO200)","v":0},{"$f":"SUM(AP196:AP200)","v":0},{"$f":"SUM(AQ196:AQ200)","v":0},{"$f":"SUM(AR196:AR200)","v":0},{"$f":"SUM(AS196:AS200)","v":0},{"$f":"SUM(AT196:AT200)","v":0},{"$f":"SUM(AU196:AU200)","v":0},{"$f":"SUM(AV196:AV200)","v":0},{"$error":"#DIV/0!"},{"$error":"#DIV/0!"},{"$error":"#DIV/0!"},{"$error":"#DIV/0!"},{"$error":"#DIV/0!"},{"$error":"#DIV/0!"},{"$f":"SUM(BC196:BC200)","v":{"$error":"#DIV/0!"}},{"$f":"SUM(BD196:BD200)","v":{"$error":"#DIV/0!"}},{"$error":"#DIV/0!"},{"$error":"#DIV/0!"},{"$error":"#DIV/0!"},{"$error":"#DIV/0!"},{"$error":"#DIV/0!"},{"$f":"SUM(BJ196:BJ200)","v":{"$error":"#DIV/0!"}},{"$f":"SUM(BK196:BK200)","v":0},{"$f":"SUM(BL196:BL200)","v":0},{"$f":"SUM(BM196:BM200)","v":0},{"$f":"SUM(BN196:BN200)","v":0},{"$f":"SUM(BO196:BO200)","v":0},{"$f":"SUM(BP196:BP200)","v":0},{"$f":"SUM(BQ196:BQ200)","v":0},{"$f":"SUM(BR196:BR200)","v":0},{"$f":"SUM(BS196:BS200)","v":0},{"$f":"SUM(BT196:BT200)","v":0},{"$f":"SUM(BU196:BU200)","v":0},{"$f":"SUM(BV196:BV200)","v":0},{"$f":"SUM(BW196:BW200)","v":0},{"$f":"SUM(BX196:BX200)","v":0},{"$error":"#DIV/0!"},{"$error":"#DIV/0!"},{"$error":"#DIV/0!"},{"$error":"#DIV/0!"},{"$error":"#DIV/0!"},{"$error":"#DIV/0!"},{"$f":"SUM(CE196:CE200)","v":{"$error":"#DIV/0!"}},{"$f":"SUM(CF196:CF200)","v":{"$error":"#DIV/0!"}},{"$error":"#DIV/0!"},{"$error":"#DIV/0!"},{"$error":"#DIV/0!"},{"$error":"#DIV/0!"},{"$error":"#DIV/0!"},{"$f":"SUM(CL196:CL200)","v":{"$error":"#DIV/0!"}}]
[null,"36\n(37)","日々の生活の心配事から心をそらすためにインターネットで心を静めることがありますか？",1,"全くない",1,{"$f":"SUM(問題別集計!G166:G167)","v":0},{"$f":"SUM(問題別集計!H166:H167)","v":0},{"$f":"SUM(問題別集計!I166:I167)","v":0},{"$f":"SUM(問題別集計!J166:J167)","v":0},{"$f":"SUM(問題別集計!K166:K167)","v":0},{"$f":"SUM(問題別集計!L166:L167)","v":0},{"$f":"SUM(問題別集計!M166:M167)","v":0},{"$f":"SUM(問題別集計!N166:N167)","v":0},{"$f":"SUM(問題別集計!O166:O167)","v":0},{"$f":"SUM(問題別集計!P166:P167)","v":0},{"$f":"SUM(問題別集計!Q166:Q167)","v":0},{"$f":"SUM(問題別集計!R166:R167)","v":0},{"$f":"SUM(問題別集計!S166:S167)","v":0},{"$f":"SUM(問題別集計!T166:T167)","v":0},{"$f":"ROUND(G202/G207,3)*100","v":{"$error":"#DIV/0!"}},{"$error":"#DIV/0!"},{"$error":"#DIV/0!"},{"$error":"#DIV/0!"},{"$error":"#DIV/0!"},{"$error":"#DIV/0!"},{"$error":"#DIV/0!"},{"$error":"#DIV/0!"},{"$error":"#DIV/0!"},{"$error":"#DIV/0!"},{"$error":"#DIV/0!"},{"$error":"#DIV/0!"},{"$error":"#DIV/0!"},{"$error":"#DIV/0!"},{"$f":"SUM(問題別集計③!G166:G167)","v":0},{"$f":"SUM(問題別集計③!H166:H167)","v":0},{"$f":"SUM(問題別集計③!I166:I167)","v":0},{"$f":"SUM(問題別集計③!J166:J167)","v":0},{"$f":"SUM(問題別集計③!K166:K167)","v":0},{"$f":"SUM(問題別集計③!L166:L167)","v":0},{"$f":"SUM(問題別集計③!M166:M167)","v":0},{"$f":"SUM(問題別集計③!N166:N167)","v":0},{"$f":"SUM(問題別集計③!O166:O167)","v":0},{"$f":"SUM(問題別集計③!P166:P167)","v":0},{"$f":"SUM(問題別集計③!Q166:Q167)","v":0},{"$f":"SUM(問題別集計③!R166:R167)","v":0},{"$f":"SUM(問題別集計③!S166:S167)","v":0},{"$f":"SUM(問題別集計③!T166:T167)","v":0},{"$f":"ROUND(AI202/AI207,3)*100","v":{"$error":"#DIV/0!"}},{"$error":"#DIV/0!"},{"$error":"#DIV/0!"},{"$error":"#DIV/0!"},{"$error":"#DIV/0!"},{"$error":"#DIV/0!"},{"$error":"#DIV/0!"},{"$error":"#DIV/0!"},{"$error":"#DIV/0!"},{"$error":"#DIV/0!"},{"$error":"#DIV/0!"},{"$error":"#DIV/0!"},{"$error":"#DIV/0!"},{"$error":"#DIV/0!"},{"$f":"SUM(問題別集計②!G166:G167)","v":0},{"$f":"SUM(問題別集計②!H166:H167)","v":0},{"$f":"SUM(問題別集計②!I166:I167)","v":0},{"$f":"SUM(問題別集計②!J166:J167)","v":0},{"$f":"SUM(問題別集計②!K166:K167)","v":0},{"$f":"SUM(問題別集計②!L166:L167)","v":0},{"$f":"SUM(問題別集計②!M166:M167)","v":0},{"$f":"SUM(問題別集計②!N166:N167)","v":0},{"$f":"SUM(問題別集計②!O166:O167)","v":0},{"$f":"SUM(問題別集計②!P166:P167)","v":0},{"$f":"SUM(問題別集計②!Q166:Q167)","v":0},{"$f":"SUM(問題別集計②!R166:R167)","v":0},{"$f":"SUM(問題別集計②!S166:S167)","v":0},{"$f":"SUM(問題別集計②!T166:T167)","v":0},{"$f":"ROUND(BK202/BK207,3)*100","v":{"$error":"#DIV/0!"}},{"$error":"#DIV/0!"},{"$error":"#DIV/0!"},{"$error":"#DIV/0!"},{"$error":"#DIV/0!"},{"$error":"#DIV/0!"},{"$error":"#DIV/0!"},{"$error":"#DIV/0!"},{"$error":"#DIV/0!"},{"$error":"#DIV/0!"},{"$error":"#DIV/0!"},{"$error":"#DIV/0!"},{"$error":"#DIV/0!"},{"$error":"#DIV/0!"}]
[null,null,null,2,"まれにある",2,null,null,null,null,null,null,null,null,null,null,null,null,null,null,{"$f":"ROUND(G203/G$72,4)*100","v":{"$error":"#DIV/0!"}},{"$f":"ROUND(H203/H$72,4)*100","v":{"$error":"#DIV/0!"}},{"$f":"ROUND(I203/I$72,4)*100","v":{"$error":"#DIV/0!"}},{"$f":"ROUND(J203/J$72,4)*100","v":{"$error":"#DIV/0!"}},{"$f":"ROUND(K203/K$72,4)*100","v":{"$error":"#DIV/0!"}},{"$f":"ROUND(L203/L$72,4)*100","v":{"$error":"#DIV/0!"}},{"$f":"ROUND(M203/M$72,4)*100","v":{"$error":"#DIV/0!"}},{"$f":"ROUND(N203/N$72,4)*100","v":{"$error":"#DIV/0!"}},{"$f":"ROUND(O203/O$72,4)*100","v":{"$error":"#DIV/0!"}},{"$f":"ROUND(P203/P$72,4)*100","v":{"$error":"#DIV/0!"}},{"$f":"ROUND(Q203/Q$72,4)*100","v":{"$error":"#DIV/0!"}},{"$f":"ROUND(R203/R$72,4)*100","v":{"$error":"#DIV/0!"}},{"$f":"ROUND(S203/S$72,4)*100","v":{"$error":"#DIV/0!"}},{"$f":"ROUND(T203/T$72,4)*100","v":{"$error":"#DIV/0!"}},null,null,null,null,null,null,null,null,null,null,null,null,null,null,{"$f":"ROUND(AI203/AI$72,4)*100","v":{"$error":"#DIV/0!"}},{"$f":"ROUND(AJ203/AJ$72,4)*100","v":{"$error":"#DIV/0!"}},{"$f":"ROUND(AK203/AK$72,4)*100","v":{"$error":"#DIV/0!"}},{"$f":"ROUND(AL203/AL$72,4)*100","v":{"$error":"#DIV/0!"}},{"$f":"ROUND(AM203/AM$72,4)*100","v":{"$error":"#DIV/0!"}},{"$f":"ROUND(AN203/AN$72,4)*100","v":{"$error":"#DIV/0!"}},{"$f":"ROUND(AO203/AO$72,4)*100","v":{"$error":"#DIV/0!"}},{"$f":"ROUND(AP203/AP$72,4)*100","v":{"$error":"#DIV/0!"}},{"$f":"ROUND(AQ203/AQ$72,4)*100","v":{"$error":"#DIV/0!"}},{"$f":"ROUND(AR203/AR$72,4)*100","v":{"$error":"#DIV/0!"}},{"$f":"ROUND(AS203/AS$72,4)*100","v":{"$error":"#DIV/0!"}},{"$f":"ROUND(AT203/AT$72,4)*100","v":{"$error":"#DIV/0!"}},{"$f":"ROUND(AU203/AU$72,4)*100","v":{"$error":"#DIV/0!"}},{"$f":"ROUND(AV203/AV$72,4)*100","v":{"$error":"#DIV/0!"}},null,null,null,null,null,null,null,null,null,null,null,null,null,null,{"$f":"ROUND(BK203/BK$72,4)*100","v":{"$error":"#DIV/0!"}},{"$f":"ROUND(BL203/BL$72,4)*100","v":{"$error":"#DIV/0!"}},{"$f":"ROUND(BM203/BM$72,4)*100","v":{"$error":"#DIV/0!"}},{"$f":"ROUND(BN203/BN$72,4)*100","v":{"$error":"#DIV/0!"}},{"$f":"ROUND(BO203/BO$72,4)*100","v":{"$error":"#DIV/0!"}},{"$f":"ROUND(BP203/BP$72,4)*100","v":{"$error":"#DIV/0!"}},{"$f":"ROUND(BQ203/BQ$72,4)*100","v":{"$error":"#DIV/0!"}},{"$f":"ROUND(BR203/BR$72,4)*100","v":{"$error":"#DIV/0!"}},{"$f":"ROUND(BS203/BS$72,4)*100","v":{"$error":"#DIV/0!"}},{"$f":"ROUND(BT203/BT$72,4)*100","v":{"$error":"#DIV/0!"}},{"$f":"ROUND(BU203/BU$72,4)*100","v":{"$error":"#DIV/0!"}},{"$f":"ROUND(BV203/BV$72,4)*100","v":{"$error":"#DIV/0!"}},{"$f":"ROUND(BW203/BW$72,4)*100","v":{"$error":"#DIV/0!"}},{"$f":"ROUND(BX203/BX$72,4)*100","v":{"$error":"#DIV/0!"}}]
[null,null,null,3,"時々ある",3,{"$f":"SUM(問題別集計!G168:G170)","v":0},{"$f":"SUM(問題別集計!H168:H170)","v":0},{"$f":"SUM(問題別集計!I168:I170)","v":0},{"$f":"SUM(問題別集計!J168:J170)","v":0},{"$f":"SUM(問題別集計!K168:K170)","v":0},{"$f":"SUM(問題別集計!L168:L170)","v":0},{"$f":"SUM(問題別集計!M168:M170)","v":0},{"$f":"SUM(問題別集計!N168:N170)","v":0},{"$f":"SUM(問題別集計!O168:O170)","v":0},{"$f":"SUM(問題別集計!P168:P170)","v":0},{"$f":"SUM(問題別集計!Q168:Q170)","v":0},{"$f":"SUM(問題別集計!R168:R170)","v":0},{"$f":"SUM(問題別集計!S168:S170)","v":0},{"$f":"SUM(問題別集計!T168:T170)","v":0},{"$f":"ROUND(G204/G207,3)*100","v":{"$error":"#DIV/0!"}},{"$error":"#DIV/0!"},{"$error":"#DIV/0!"},{"$error":"#DIV/0!"},{"$error":"#DIV/0!"},{"$error":"#DIV/0!"},{"$error":"#DIV/0!"},{"$error":"#DIV/0!"},{"$error":"#DIV/0!"},{"$error":"#DIV/0!"},{"$error":"#DIV/0!"},{"$error":"#DIV/0!"},{"$error":"#DIV/0!"},{"$error":"#DIV/0!"},{"$f":"SUM(問題別集計③!G168:G170)","v":0},{"$f":"SUM(問題別集計③!H168:H170)","v":0},{"$f":"SUM(問題別集計③!I168:I170)","v":0},{"$f":"SUM(問題別集計③!J168:J170)","v":0},{"$f":"SUM(問題別集計③!K168:K170)","v":0},{"$f":"SUM(問題別集計③!L168:L170)","v":0},{"$f":"SUM(問題別集計③!M168:M170)","v":0},{"$f":"SUM(問題別集計③!N168:N170)","v":0},{"$f":"SUM(問題別集計③!O168:O170)","v":0},{"$f":"SUM(問題別集計③!P168:P170)","v":0},{"$f":"SUM(問題別集計③!Q168:Q170)","v":0},{"$f":"SUM(問題別集計③!R168:R170)","v":0},{"$f":"SUM(問題別集計③!S168:S170)","v":0},{"$f":"SUM(問題別集計③!T168:T170)","v":0},{"$f":"ROUND(AI204/AI207,3)*100","v":{"$error":"#DIV/0!"}},{"$error":"#DIV/0!"},{"$error":"#DIV/0!"},{"$error":"#DIV/0!"},{"$error":"#DIV/0!"},{"$error":"#DIV/0!"},{"$error":"#DIV/0!"},{"$error":"#DIV/0!"},{"$error":"#DIV/0!"},{"$error":"#DIV/0!"},{"$error":"#DIV/0!"},{"$error":"#DIV/0!"},{"$error":"#DIV/0!"},{"$error":"#DIV/0!"},{"$f":"SUM(問題別集計②!G168:G170)","v":0},{"$f":"SUM(問題別集計②!H168:H170)","v":0},{"$f":"SUM(問題別集計②!I168:I170)","v":0},{"$f":"SUM(問題別集計②!J168:J170)","v":0},{"$f":"SUM(問題別集計②!K168:K170)","v":0},{"$f":"SUM(問題別集計②!L168:L170)","v":0},{"$f":"SUM(問題別集計②!M168:M170)","v":0},{"$f":"SUM(問題別集計②!N168:N170)","v":0},{"$f":"SUM(問題別集計②!O168:O170)","v":0},{"$f":"SUM(問題別集計②!P168:P170)","v":0},{"$f":"SUM(問題別集計②!Q168:Q170)","v":0},{"$f":"SUM(問題別集計②!R168:R170)","v":0},{"$f":"SUM(問題別集計②!S168:S170)","v":0},{"$f":"SUM(問題別集計②!T168:T170)","v":0},{"$f":"ROUND(BK204/BK207,3)*100","v":{"$error":"#DIV/0!"}},{"$error":"#DIV/0!"},{"$error":"#DIV/0!"},{"$error":"#DIV/0!"},{"$error":"#DIV/0!"},{"$error":"#DIV/0!"},{"$error":"#DIV/0!"},{"$error":"#DIV/0!"},{"$error":"#DIV/0!"},{"$error":"#DIV/0!"},{"$error":"#DIV/0!"},{"$error":"#DIV/0!"},{"$error":"#DIV/0!"},{"$error":"#DIV/0!"}]
[null,null,null,4,"よくある",4]
[null,null,null,5,"いつもある",5]
[null,null,null,"計",null,null,{"$f":"SUM(G202:G206)","v":0},{"$f":"SUM(H202:H206)","v":0},{"$f":"SUM(I202:I206)","v":0},{"$f":"SUM(J202:J206)","v":0},{"$f":"SUM(K202:K206)","v":0},{"$f":"SUM(L202:L206)","v":0},{"$f":"SUM(M202:M206)","v":0},{"$f":"SUM(N202:N206)","v":0},{"$f":"SUM(O202:O206)","v":0},{"$f":"SUM(P202:P206)","v":0},{"$f":"SUM(Q202:Q206)","v":0},{"$f":"SUM(R202:R206)","v":0},{"$f":"SUM(S202:S206)","v":0},{"$f":"SUM(T202:T206)","v":0},{"$f":"SUM(U202:U206)","v":{"$error":"#DIV/0!"}},{"$f":"SUM(V202:V206)","v":{"$error":"#DIV/0!"}},{"$f":"SUM(W202:W206)","v":{"$error":"#DIV/0!"}},{"$f":"SUM(X202:X206)","v":{"$error":"#DIV/0!"}},{"$f":"SUM(Y202:Y206)","v":{"$error":"#DIV/0!"}},{"$f":"SUM(Z202:Z206)","v":{"$error":"#DIV/0!"}},{"$f":"SUM(AA202:AA206)","v":{"$error":"#DIV/0!"}},{"$f":"SUM(AB202:AB206)","v":{"$error":"#DIV/0!"}},{"$f":"SUM(AC202:AC206)","v":{"$error":"#DIV/0!"}},{"$f":"SUM(AD202:AD206)","v":{"$error":"#DIV/0!"}},{"$f":"SUM(AE202:AE206)","v":{"$error":"#DIV/0!"}},{"$f":"SUM(AF202:AF206)","v":{"$error":"#DIV/0!"}},{"$f":"SUM(AG202:AG206)","v":{"$error":"#DIV/0!"}},{"$f":"SUM(AH202:AH206)","v":{"$error":"#DIV/0!"}},{"$f":"SUM(AI202:AI206)","v":0},{"$f":"SUM(AJ202:AJ206)","v":0},{"$f":"SUM(AK202:AK206)","v":0},{"$f":"SUM(AL202:AL206)","v":0},{"$f":"SUM(AM202:AM206)","v":0},{"$f":"SUM(AN202:AN206)","v":0},{"$f":"SUM(AO202:AO206)","v":0},{"$f":"SUM(AP202:AP206)","v":0},{"$f":"SUM(AQ202:AQ206)","v":0},{"$f":"SUM(AR202:AR206)","v":0},{"$f":"SUM(AS202:AS206)","v":0},{"$f":"SUM(AT202:AT206)","v":0},{"$f":"SUM(AU202:AU206)","v":0},{"$f":"SUM(AV202:AV206)","v":0},{"$error":"#DIV/0!"},{"$error":"#DIV/0!"},{"$error":"#DIV/0!"},{"$error":"#DIV/0!"},{"$error":"#DIV/0!"},{"$error":"#DIV/0!"},{"$f":"SUM(BC202:BC206)","v":{"$error":"#DIV/0!"}},{"$f":"SUM(BD202:BD206)","v":{"$error":"#DIV/0!"}},{"$error":"#DIV/0!"},{"$error":"#DIV/0!"},{"$error":"#DIV/0!"},{"$error":"#DIV/0!"},{"$error":"#DIV/0!"},{"$f":"SUM(BJ202:BJ206)","v":{"$error":"#DIV/0!"}},{"$f":"SUM(BK202:BK206)","v":0},{"$f":"SUM(BL202:BL206)","v":0},{"$f":"SUM(BM202:BM206)","v":0},{"$f":"SUM(BN202:BN206)","v":0},{"$f":"SUM(BO202:BO206)","v":0},{"$f":"SUM(BP202:BP206)","v":0},{"$f":"SUM(BQ202:BQ206)","v":0},{"$f":"SUM(BR202:BR206)","v":0},{"$f":"SUM(BS202:BS206)","v":0},{"$f":"SUM(BT202:BT206)","v":0},{"$f":"SUM(BU202:BU206)","v":0},{"$f":"SUM(BV202:BV206)","v":0},{"$f":"SUM(BW202:BW206)","v":0},{"$f":"SUM(BX202:BX206)","v":0},{"$error":"#DIV/0!"},{"$error":"#DIV/0!"},{"$error":"#DIV/0!"},{"$error":"#DIV/0!"},{"$error":"#DIV/0!"},{"$error":"#DIV/0!"},{"$f":"SUM(CE202:CE206)","v":{"$error":"#DIV/0!"}},{"$f":"SUM(CF202:CF206)","v":{"$error":"#DIV/0!"}},{"$error":"#DIV/0!"},{"$error":"#DIV/0!"},{"$error":"#DIV/0!"},{"$error":"#DIV/0!"},{"$error":"#DIV/0!"},{"$f":"SUM(CL202:CL206)","v":{"$error":"#DIV/0!"}}]
[null,"37\n(38)","次にインターネットをするときのことを考えている自分に気がつくことがありますか？",1,"全くない",1,{"$f":"SUM(問題別集計!G171:G172)","v":0},{"$f":"SUM(問題別集計!H171:H172)","v":0},{"$f":"SUM(問題別集計!I171:I172)","v":0},{"$f":"SUM(問題別集計!J171:J172)","v":0},{"$f":"SUM(問題別集計!K171:K172)","v":0},{"$f":"SUM(問題別集計!L171:L172)","v":0},{"$f":"SUM(問題別集計!M171:M172)","v":0},{"$f":"SUM(問題別集計!N171:N172)","v":0},{"$f":"SUM(問題別集計!O171:O172)","v":0},{"$f":"SUM(問題別集計!P171:P172)","v":0},{"$f":"SUM(問題別集計!Q171:Q172)","v":0},{"$f":"SUM(問題別集計!R171:R172)","v":0},{"$f":"SUM(問題別集計!S171:S172)","v":0},{"$f":"SUM(問題別集計!T171:T172)","v":0},{"$f":"ROUND(G208/G213,3)*100","v":{"$error":"#DIV/0!"}},{"$error":"#DIV/0!"},{"$error":"#DIV/0!"},{"$error":"#DIV/0!"},{"$error":"#DIV/0!"},{"$error":"#DIV/0!"},{"$error":"#DIV/0!"},{"$error":"#DIV/0!"},{"$error":"#DIV/0!"},{"$error":"#DIV/0!"},{"$error":"#DIV/0!"},{"$error":"#DIV/0!"},{"$error":"#DIV/0!"},{"$error":"#DIV/0!"},{"$f":"SUM(問題別集計③!G171:G172)","v":0},{"$f":"SUM(問題別集計③!H171:H172)","v":0},{"$f":"SUM(問題別集計③!I171:I172)","v":0},{"$f":"SUM(問題別集計③!J171:J172)","v":0},{"$f":"SUM(問題別集計③!K171:K172)","v":0},{"$f":"SUM(問題別集計③!L171:L172)","v":0},{"$f":"SUM(問題別集計③!M171:M172)","v":0},{"$f":"SUM(問題別集計③!N171:N172)","v":0},{"$f":"SUM(問題別集計③!O171:O172)","v":0},{"$f":"SUM(問題別集計③!P171:P172)","v":0},{"$f":"SUM(問題別集計③!Q171:Q172)","v":0},{"$f":"SUM(問題別集計③!R171:R172)","v":0},{"$f":"SUM(問題別集計③!S171:S172)","v":0},{"$f":"SUM(問題別集計③!T171:T172)","v":0},{"$f":"ROUND(AI208/AI213,3)*100","v":{"$error":"#DIV/0!"}},{"$error":"#DIV/0!"},{"$error":"#DIV/0!"},{"$error":"#DIV/0!"},{"$error":"#DIV/0!"},{"$error":"#DIV/0!"},{"$error":"#DIV/0!"},{"$error":"#DIV/0!"},{"$error":"#DIV/0!"},{"$error":"#DIV/0!"},{"$error":"#DIV/0!"},{"$error":"#DIV/0!"},{"$error":"#DIV/0!"},{"$error":"#DIV/0!"},{"$f":"SUM(問題別集計②!G171:G172)","v":0},{"$f":"SUM(問題別集計②!H171:H172)","v":0},{"$f":"SUM(問題別集計②!I171:I172)","v":0},{"$f":"SUM(問題別集計②!J171:J172)","v":0},{"$f":"SUM(問題別集計②!K171:K172)","v":0},{"$f":"SUM(問題別集計②!L171:L172)","v":0},{"$f":"SUM(問題別集計②!M171:M172)","v":0},{"$f":"SUM(問題別集計②!N171:N172)","v":0},{"$f":"SUM(問題別集計②!O171:O172)","v":0},{"$f":"SUM(問題別集計②!P171:P172)","v":0},{"$f":"SUM(問題別集計②!Q171:Q172)","v":0},{"$f":"SUM(問題別集計②!R171:R172)","v":0},{"$f":"SUM(問題別集計②!S171:S172)","v":0},{"$f":"SUM(問題別集計②!T171:T172)","v":0},{"$f":"ROUND(BK208/BK213,3)*100","v":{"$error":"#DIV/0!"}},{"$error":"#DIV/0!"},{"$error":"#DIV/0!"},{"$error":"#DIV/0!"},{"$error":"#DIV/0!"},{"$error":"#DIV/0!"},{"$error":"#DIV/0!"},{"$error":"#DIV/0!"},{"$error":"#DIV/0!"},{"$error":"#DIV/0!"},{"$error":"#DIV/0!"},{"$error":"#DIV/0!"},{"$error":"#DIV/0!"},{"$error":"#DIV/0!"}]
[null,null,null,2,"まれにある",2,null,null,null,null,null,null,null,null,null,null,null,null,null,null,{"$f":"ROUND(G209/G$72,4)*100","v":{"$error":"#DIV/0!"}},{"$f":"ROUND(H209/H$72,4)*100","v":{"$error":"#DIV/0!"}},{"$f":"ROUND(I209/I$72,4)*100","v":{"$error":"#DIV/0!"}},{"$f":"ROUND(J209/J$72,4)*100","v":{"$error":"#DIV/0!"}},{"$f":"ROUND(K209/K$72,4)*100","v":{"$error":"#DIV/0!"}},{"$f":"ROUND(L209/L$72,4)*100","v":{"$error":"#DIV/0!"}},{"$f":"ROUND(M209/M$72,4)*100","v":{"$error":"#DIV/0!"}},{"$f":"ROUND(N209/N$72,4)*100","v":{"$error":"#DIV/0!"}},{"$f":"ROUND(O209/O$72,4)*100","v":{"$error":"#DIV/0!"}},{"$f":"ROUND(P209/P$72,4)*100","v":{"$error":"#DIV/0!"}},{"$f":"ROUND(Q209/Q$72,4)*100","v":{"$error":"#DIV/0!"}},{"$f":"ROUND(R209/R$72,4)*100","v":{"$error":"#DIV/0!"}},{"$f":"ROUND(S209/S$72,4)*100","v":{"$error":"#DIV/0!"}},{"$f":"ROUND(T209/T$72,4)*100","v":{"$error":"#DIV/0!"}},null,null,null,null,null,null,null,null,null,null,null,null,null,null,{"$f":"ROUND(AI209/AI$72,4)*100","v":{"$error":"#DIV/0!"}},{"$f":"ROUND(AJ209/AJ$72,4)*100","v":{"$error":"#DIV/0!"}},{"$f":"ROUND(AK209/AK$72,4)*100","v":{"$error":"#DIV/0!"}},{"$f":"ROUND(AL209/AL$72,4)*100","v":{"$error":"#DIV/0!"}},{"$f":"ROUND(AM209/AM$72,4)*100","v":{"$error":"#DIV/0!"}},{"$f":"ROUND(AN209/AN$72,4)*100","v":{"$error":"#DIV/0!"}},{"$f":"ROUND(AO209/AO$72,4)*100","v":{"$error":"#DIV/0!"}},{"$f":"ROUND(AP209/AP$72,4)*100","v":{"$error":"#DIV/0!"}},{"$f":"ROUND(AQ209/AQ$72,4)*100","v":{"$error":"#DIV/0!"}},{"$f":"ROUND(AR209/AR$72,4)*100","v":{"$error":"#DIV/0!"}},{"$f":"ROUND(AS209/AS$72,4)*100","v":{"$error":"#DIV/0!"}},{"$f":"ROUND(AT209/AT$72,4)*100","v":{"$error":"#DIV/0!"}},{"$f":"ROUND(AU209/AU$72,4)*100","v":{"$error":"#DIV/0!"}},{"$f":"ROUND(AV209/AV$72,4)*100","v":{"$error":"#DIV/0!"}},null,null,null,null,null,null,null,null,null,null,null,null,null,null,{"$f":"ROUND(BK209/BK$72,4)*100","v":{"$error":"#DIV/0!"}},{"$f":"ROUND(BL209/BL$72,4)*100","v":{"$error":"#DIV/0!"}},{"$f":"ROUND(BM209/BM$72,4)*100","v":{"$error":"#DIV/0!"}},{"$f":"ROUND(BN209/BN$72,4)*100","v":{"$error":"#DIV/0!"}},{"$f":"ROUND(BO209/BO$72,4)*100","v":{"$error":"#DIV/0!"}},{"$f":"ROUND(BP209/BP$72,4)*100","v":{"$error":"#DIV/0!"}},{"$f":"ROUND(BQ209/BQ$72,4)*100","v":{"$error":"#DIV/0!"}},{"$f":"ROUND(BR209/BR$72,4)*100","v":{"$error":"#DIV/0!"}},{"$f":"ROUND(BS209/BS$72,4)*100","v":{"$error":"#DIV/0!"}},{"$f":"ROUND(BT209/BT$72,4)*100","v":{"$error":"#DIV/0!"}},{"$f":"ROUND(BU209/BU$72,4)*100","v":{"$error":"#DIV/0!"}},{"$f":"ROUND(BV209/BV$72,4)*100","v":{"$error":"#DIV/0!"}},{"$f":"ROUND(BW209/BW$72,4)*100","v":{"$error":"#DIV/0!"}},{"$f":"ROUND(BX209/BX$72,4)*100","v":{"$error":"#DIV/0!"}}]
[null,null,null,3,"時々ある",3,{"$f":"SUM(問題別集計!G173:G175)","v":0},{"$f":"SUM(問題別集計!H173:H175)","v":0},{"$f":"SUM(問題別集計!I173:I175)","v":0},{"$f":"SUM(問題別集計!J173:J175)","v":0},{"$f":"SUM(問題別集計!K173:K175)","v":0},{"$f":"SUM(問題別集計!L173:L175)","v":0},{"$f":"SUM(問題別集計!M173:M175)","v":0},{"$f":"SUM(問題別集計!N173:N175)","v":0},{"$f":"SUM(問題別集計!O173:O175)","v":0},{"$f":"SUM(問題別集計!P173:P175)","v":0},{"$f":"SUM(問題別集計!Q173:Q175)","v":0},{"$f":"SUM(問題別集計!R173:R175)","v":0},{"$f":"SUM(問題別集計!S173:S175)","v":0},{"$f":"SUM(問題別集計!T173:T175)","v":0},{"$f":"ROUND(G210/G213,3)*100","v":{"$error":"#DIV/0!"}},{"$error":"#DIV/0!"},{"$error":"#DIV/0!"},{"$error":"#DIV/0!"},{"$error":"#DIV/0!"},{"$error":"#DIV/0!"},{"$error":"#DIV/0!"},{"$error":"#DIV/0!"},{"$error":"#DIV/0!"},{"$error":"#DIV/0!"},{"$error":"#DIV/0!"},{"$error":"#DIV/0!"},{"$error":"#DIV/0!"},{"$error":"#DIV/0!"},{"$f":"SUM(問題別集計③!G173:G175)","v":0},{"$f":"SUM(問題別集計③!H173:H175)","v":0},{"$f":"SUM(問題別集計③!I173:I175)","v":0},{"$f":"SUM(問題別集計③!J173:J175)","v":0},{"$f":"SUM(問題別集計③!K173:K175)","v":0},{"$f":"SUM(問題別集計③!L173:L175)","v":0},{"$f":"SUM(問題別集計③!M173:M175)","v":0},{"$f":"SUM(問題別集計③!N173:N175)","v":0},{"$f":"SUM(問題別集計③!O173:O175)","v":0},{"$f":"SUM(問題別集計③!P173:P175)","v":0},{"$f":"SUM(問題別集計③!Q173:Q175)","v":0},{"$f":"SUM(問題別集計③!R173:R175)","v":0},{"$f":"SUM(問題別集計③!S173:S175)","v":0},{"$f":"SUM(問題別集計③!T173:T175)","v":0},{"$f":"ROUND(AI210/AI213,3)*100","v":{"$error":"#DIV/0!"}},{"$error":"#DIV/0!"},{"$error":"#DIV/0!"},{"$error":"#DIV/0!"},{"$error":"#DIV/0!"},{"$error":"#DIV/0!"},{"$error":"#DIV/0!"},{"$error":"#DIV/0!"},{"$error":"#DIV/0!"},{"$error":"#DIV/0!"},{"$error":"#DIV/0!"},{"$error":"#DIV/0!"},{"$error":"#DIV/0!"},{"$error":"#DIV/0!"},{"$f":"SUM(問題別集計②!G173:G175)","v":0},{"$f":"SUM(問題別集計②!H173:H175)","v":0},{"$f":"SUM(問題別集計②!I173:I175)","v":0},{"$f":"SUM(問題別集計②!J173:J175)","v":0},{"$f":"SUM(問題別集計②!K173:K175)","v":0},{"$f":"SUM(問題別集計②!L173:L175)","v":0},{"$f":"SUM(問題別集計②!M173:M175)","v":0},{"$f":"SUM(問題別集計②!N173:N175)","v":0},{"$f":"SUM(問題別集計②!O173:O175)","v":0},{"$f":"SUM(問題別集計②!P173:P175)","v":0},{"$f":"SUM(問題別集計②!Q173:Q175)","v":0},{"$f":"SUM(問題別集計②!R173:R175)","v":0},{"$f":"SUM(問題別集計②!S173:S175)","v":0},{"$f":"SUM(問題別集計②!T173:T175)","v":0},{"$f":"ROUND(BK210/BK213,3)*100","v":{"$error":"#DIV/0!"}},{"$error":"#DIV/0!"},{"$error":"#DIV/0!"},{"$error":"#DIV/0!"},{"$error":"#DIV/0!"},{"$error":"#DIV/0!"},{"$error":"#DIV/0!"},{"$error":"#DIV/0!"},{"$error":"#DIV/0!"},{"$error":"#DIV/0!"},{"$error":"#DIV/0!"},{"$error":"#DIV/0!"},{"$error":"#DIV/0!"},{"$error":"#DIV/0!"}]
[null,null,null,4,"よくある",4]
[null,null,null,5,"いつもある",5]
[null,null,null,"計",null,null,{"$f":"SUM(G208:G212)","v":0},{"$f":"SUM(H208:H212)","v":0},{"$f":"SUM(I208:I212)","v":0},{"$f":"SUM(J208:J212)","v":0},{"$f":"SUM(K208:K212)","v":0},{"$f":"SUM(L208:L212)","v":0},{"$f":"SUM(M208:M212)","v":0},{"$f":"SUM(N208:N212)","v":0},{"$f":"SUM(O208:O212)","v":0},{"$f":"SUM(P208:P212)","v":0},{"$f":"SUM(Q208:Q212)","v":0},{"$f":"SUM(R208:R212)","v":0},{"$f":"SUM(S208:S212)","v":0},{"$f":"SUM(T208:T212)","v":0},{"$f":"SUM(U208:U212)","v":{"$error":"#DIV/0!"}},{"$f":"SUM(V208:V212)","v":{"$error":"#DIV/0!"}},{"$f":"SUM(W208:W212)","v":{"$error":"#DIV/0!"}},{"$f":"SUM(X208:X212)","v":{"$error":"#DIV/0!"}},{"$f":"SUM(Y208:Y212)","v":{"$error":"#DIV/0!"}},{"$f":"SUM(Z208:Z212)","v":{"$error":"#DIV/0!"}},{"$f":"SUM(AA208:AA212)","v":{"$error":"#DIV/0!"}},{"$f":"SUM(AB208:AB212)","v":{"$error":"#DIV/0!"}},{"$f":"SUM(AC208:AC212)","v":{"$error":"#DIV/0!"}},{"$f":"SUM(AD208:AD212)","v":{"$error":"#DIV/0!"}},{"$f":"SUM(AE208:AE212)","v":{"$error":"#DIV/0!"}},{"$f":"SUM(AF208:AF212)","v":{"$error":"#DIV/0!"}},{"$f":"SUM(AG208:AG212)","v":{"$error":"#DIV/0!"}},{"$f":"SUM(AH208:AH212)","v":{"$error":"#DIV/0!"}},{"$f":"SUM(AI208:AI212)","v":0},{"$f":"SUM(AJ208:AJ212)","v":0},{"$f":"SUM(AK208:AK212)","v":0},{"$f":"SUM(AL208:AL212)","v":0},{"$f":"SUM(AM208:AM212)","v":0},{"$f":"SUM(AN208:AN212)","v":0},{"$f":"SUM(AO208:AO212)","v":0},{"$f":"SUM(AP208:AP212)","v":0},{"$f":"SUM(AQ208:AQ212)","v":0},{"$f":"SUM(AR208:AR212)","v":0},{"$f":"SUM(AS208:AS212)","v":0},{"$f":"SUM(AT208:AT212)","v":0},{"$f":"SUM(AU208:AU212)","v":0},{"$f":"SUM(AV208:AV212)","v":0},{"$error":"#DIV/0!"},{"$error":"#DIV/0!"},{"$error":"#DIV/0!"},{"$error":"#DIV/0!"},{"$error":"#DIV/0!"},{"$error":"#DIV/0!"},{"$f":"SUM(BC208:BC212)","v":{"$error":"#DIV/0!"}},{"$f":"SUM(BD208:BD212)","v":{"$error":"#DIV/0!"}},{"$error":"#DIV/0!"},{"$error":"#DIV/0!"},{"$error":"#DIV/0!"},{"$error":"#DIV/0!"},{"$error":"#DIV/0!"},{"$f":"SUM(BJ208:BJ212)","v":{"$error":"#DIV/0!"}},{"$f":"SUM(BK208:BK212)","v":0},{"$f":"SUM(BL208:BL212)","v":0},{"$f":"SUM(BM208:BM212)","v":0},{"$f":"SUM(BN208:BN212)","v":0},{"$f":"SUM(BO208:BO212)","v":0},{"$f":"SUM(BP208:BP212)","v":0},{"$f":"SUM(BQ208:BQ212)","v":0},{"$f":"SUM(BR208:BR212)","v":0},{"$f":"SUM(BS208:BS212)","v":0},{"$f":"SUM(BT208:BT212)","v":0},{"$f":"SUM(BU208:BU212)","v":0},{"$f":"SUM(BV208:BV212)","v":0},{"$f":"SUM(BW208:BW212)","v":0},{"$f":"SUM(BX208:BX212)","v":0},{"$error":"#DIV/0!"},{"$error":"#DIV/0!"},{"$error":"#DIV/0!"},{"$error":"#DIV/0!"},{"$error":"#DIV/0!"},{"$error":"#DIV/0!"},{"$f":"SUM(CE208:CE212)","v":{"$error":"#DIV/0!"}},{"$f":"SUM(CF208:CF212)","v":{"$error":"#DIV/0!"}},{"$error":"#DIV/0!"},{"$error":"#DIV/0!"},{"$error":"#DIV/0!"},{"$error":"#DIV/0!"},{"$error":"#DIV/0!"},{"$f":"SUM(CL208:CL212)","v":{"$error":"#DIV/0!"}}]
[null,"38\n(39)","インターネットの無い生活は、退屈でむなしく、つまらないものだろうと恐ろしく思うことがありますか？",1,"全くない",1,{"$f":"SUM(問題別集計!G176:G177)","v":0},{"$f":"SUM(問題別集計!H176:H177)","v":0},{"$f":"SUM(問題別集計!I176:I177)","v":0},{"$f":"SUM(問題別集計!J176:J177)","v":0},{"$f":"SUM(問題別集計!K176:K177)","v":0},{"$f":"SUM(問題別集計!L176:L177)","v":0},{"$f":"SUM(問題別集計!M176:M177)","v":0},{"$f":"SUM(問題別集計!N176:N177)","v":0},{"$f":"SUM(問題別集計!O176:O177)","v":0},{"$f":"SUM(問題別集計!P176:P177)","v":0},{"$f":"SUM(問題別集計!Q176:Q177)","v":0},{"$f":"SUM(問題別集計!R176:R177)","v":0},{"$f":"SUM(問題別集計!S176:S177)","v":0},{"$f":"SUM(問題別集計!T176:T177)","v":0},{"$f":"ROUND(G214/G219,3)*100","v":{"$error":"#DIV/0!"}},{"$error":"#DIV/0!"},{"$error":"#DIV/0!"},{"$error":"#DIV/0!"},{"$error":"#DIV/0!"},{"$error":"#DIV/0!"},{"$error":"#DIV/0!"},{"$error":"#DIV/0!"},{"$error":"#DIV/0!"},{"$error":"#DIV/0!"},{"$error":"#DIV/0!"},{"$error":"#DIV/0!"},{"$error":"#DIV/0!"},{"$error":"#DIV/0!"},{"$f":"SUM(問題別集計③!G176:G177)","v":0},{"$f":"SUM(問題別集計③!H176:H177)","v":0},{"$f":"SUM(問題別集計③!I176:I177)","v":0},{"$f":"SUM(問題別集計③!J176:J177)","v":0},{"$f":"SUM(問題別集計③!K176:K177)","v":0},{"$f":"SUM(問題別集計③!L176:L177)","v":0},{"$f":"SUM(問題別集計③!M176:M177)","v":0},{"$f":"SUM(問題別集計③!N176:N177)","v":0},{"$f":"SUM(問題別集計③!O176:O177)","v":0},{"$f":"SUM(問題別集計③!P176:P177)","v":0},{"$f":"SUM(問題別集計③!Q176:Q177)","v":0},{"$f":"SUM(問題別集計③!R176:R177)","v":0},{"$f":"SUM(問題別集計③!S176:S177)","v":0},{"$f":"SUM(問題別集計③!T176:T177)","v":0},{"$f":"ROUND(AI214/AI219,3)*100","v":{"$error":"#DIV/0!"}},{"$error":"#DIV/0!"},{"$error":"#DIV/0!"},{"$error":"#DIV/0!"},{"$error":"#DIV/0!"},{"$error":"#DIV/0!"},{"$error":"#DIV/0!"},{"$error":"#DIV/0!"},{"$error":"#DIV/0!"},{"$error":"#DIV/0!"},{"$error":"#DIV/0!"},{"$error":"#DIV/0!"},{"$error":"#DIV/0!"},{"$error":"#DIV/0!"},{"$f":"SUM(問題別集計②!G176:G177)","v":0},{"$f":"SUM(問題別集計②!H176:H177)","v":0},{"$f":"SUM(問題別集計②!I176:I177)","v":0},{"$f":"SUM(問題別集計②!J176:J177)","v":0},{"$f":"SUM(問題別集計②!K176:K177)","v":0},{"$f":"SUM(問題別集計②!L176:L177)","v":0},{"$f":"SUM(問題別集計②!M176:M177)","v":0},{"$f":"SUM(問題別集計②!N176:N177)","v":0},{"$f":"SUM(問題別集計②!O176:O177)","v":0},{"$f":"SUM(問題別集計②!P176:P177)","v":0},{"$f":"SUM(問題別集計②!Q176:Q177)","v":0},{"$f":"SUM(問題別集計②!R176:R177)","v":0},{"$f":"SUM(問題別集計②!S176:S177)","v":0},{"$f":"SUM(問題別集計②!T176:T177)","v":0},{"$f":"ROUND(BK214/BK219,3)*100","v":{"$error":"#DIV/0!"}},{"$error":"#DIV/0!"},{"$error":"#DIV/0!"},{"$error":"#DIV/0!"},{"$error":"#DIV/0!"},{"$error":"#DIV/0!"},{"$error":"#DIV/0!"},{"$error":"#DIV/0!"},{"$error":"#DIV/0!"},{"$error":"#DIV/0!"},{"$error":"#DIV/0!"},{"$error":"#DIV/0!"},{"$error":"#DIV/0!"},{"$error":"#DIV/0!"}]
[null,null,null,2,"まれにある",2,null,null,null,null,null,null,null,null,null,null,null,null,null,null,{"$f":"ROUND(G215/G$72,4)*100","v":{"$error":"#DIV/0!"}},{"$f":"ROUND(H215/H$72,4)*100","v":{"$error":"#DIV/0!"}},{"$f":"ROUND(I215/I$72,4)*100","v":{"$error":"#DIV/0!"}},{"$f":"ROUND(J215/J$72,4)*100","v":{"$error":"#DIV/0!"}},{"$f":"ROUND(K215/K$72,4)*100","v":{"$error":"#DIV/0!"}},{"$f":"ROUND(L215/L$72,4)*100","v":{"$error":"#DIV/0!"}},{"$f":"ROUND(M215/M$72,4)*100","v":{"$error":"#DIV/0!"}},{"$f":"ROUND(N215/N$72,4)*100","v":{"$error":"#DIV/0!"}},{"$f":"ROUND(O215/O$72,4)*100","v":{"$error":"#DIV/0!"}},{"$f":"ROUND(P215/P$72,4)*100","v":{"$error":"#DIV/0!"}},{"$f":"ROUND(Q215/Q$72,4)*100","v":{"$error":"#DIV/0!"}},{"$f":"ROUND(R215/R$72,4)*100","v":{"$error":"#DIV/0!"}},{"$f":"ROUND(S215/S$72,4)*100","v":{"$error":"#DIV/0!"}},{"$f":"ROUND(T215/T$72,4)*100","v":{"$error":"#DIV/0!"}},null,null,null,null,null,null,null,null,null,null,null,null,null,null,{"$f":"ROUND(AI215/AI$72,4)*100","v":{"$error":"#DIV/0!"}},{"$f":"ROUND(AJ215/AJ$72,4)*100","v":{"$error":"#DIV/0!"}},{"$f":"ROUND(AK215/AK$72,4)*100","v":{"$error":"#DIV/0!"}},{"$f":"ROUND(AL215/AL$72,4)*100","v":{"$error":"#DIV/0!"}},{"$f":"ROUND(AM215/AM$72,4)*100","v":{"$error":"#DIV/0!"}},{"$f":"ROUND(AN215/AN$72,4)*100","v":{"$error":"#DIV/0!"}},{"$f":"ROUND(AO215/AO$72,4)*100","v":{"$error":"#DIV/0!"}},{"$f":"ROUND(AP215/AP$72,4)*100","v":{"$error":"#DIV/0!"}},{"$f":"ROUND(AQ215/AQ$72,4)*100","v":{"$error":"#DIV/0!"}},{"$f":"ROUND(AR215/AR$72,4)*100","v":{"$error":"#DIV/0!"}},{"$f":"ROUND(AS215/AS$72,4)*100","v":{"$error":"#DIV/0!"}},{"$f":"ROUND(AT215/AT$72,4)*100","v":{"$error":"#DIV/0!"}},{"$f":"ROUND(AU215/AU$72,4)*100","v":{"$error":"#DIV/0!"}},{"$f":"ROUND(AV215/AV$72,4)*100","v":{"$error":"#DIV/0!"}},null,null,null,null,null,null,null,null,null,null,null,null,null,null,{"$f":"ROUND(BK215/BK$72,4)*100","v":{"$error":"#DIV/0!"}},{"$f":"ROUND(BL215/BL$72,4)*100","v":{"$error":"#DIV/0!"}},{"$f":"ROUND(BM215/BM$72,4)*100","v":{"$error":"#DIV/0!"}},{"$f":"ROUND(BN215/BN$72,4)*100","v":{"$error":"#DIV/0!"}},{"$f":"ROUND(BO215/BO$72,4)*100","v":{"$error":"#DIV/0!"}},{"$f":"ROUND(BP215/BP$72,4)*100","v":{"$error":"#DIV/0!"}},{"$f":"ROUND(BQ215/BQ$72,4)*100","v":{"$error":"#DIV/0!"}},{"$f":"ROUND(BR215/BR$72,4)*100","v":{"$error":"#DIV/0!"}},{"$f":"ROUND(BS215/BS$72,4)*100","v":{"$error":"#DIV/0!"}},{"$f":"ROUND(BT215/BT$72,4)*100","v":{"$error":"#DIV/0!"}},{"$f":"ROUND(BU215/BU$72,4)*100","v":{"$error":"#DIV/0!"}},{"$f":"ROUND(BV215/BV$72,4)*100","v":{"$error":"#DIV/0!"}},{"$f":"ROUND(BW215/BW$72,4)*100","v":{"$error":"#DIV/0!"}},{"$f":"ROUND(BX215/BX$72,4)*100","v":{"$error":"#DIV/0!"}}]
[null,null,null,3,"時々ある",3,{"$f":"SUM(問題別集計!G178:G180)","v":0},{"$f":"SUM(問題別集計!H178:H180)","v":0},{"$f":"SUM(問題別集計!I178:I180)","v":0},{"$f":"SUM(問題別集計!J178:J180)","v":0},{"$f":"SUM(問題別集計!K178:K180)","v":0},{"$f":"SUM(問題別集計!L178:L180)","v":0},{"$f":"SUM(問題別集計!M178:M180)","v":0},{"$f":"SUM(問題別集計!N178:N180)","v":0},{"$f":"SUM(問題別集計!O178:O180)","v":0},{"$f":"SUM(問題別集計!P178:P180)","v":0},{"$f":"SUM(問題別集計!Q178:Q180)","v":0},{"$f":"SUM(問題別集計!R178:R180)","v":0},{"$f":"SUM(問題別集計!S178:S180)","v":0},{"$f":"SUM(問題別集計!T178:T180)","v":0},{"$f":"ROUND(G216/G219,3)*100","v":{"$error":"#DIV/0!"}},{"$error":"#DIV/0!"},{"$error":"#DIV/0!"},{"$error":"#DIV/0!"},{"$error":"#DIV/0!"},{"$error":"#DIV/0!"},{"$error":"#DIV/0!"},{"$error":"#DIV/0!"},{"$error":"#DIV/0!"},{"$error":"#DIV/0!"},{"$error":"#DIV/0!"},{"$error":"#DIV/0!"},{"$error":"#DIV/0!"},{"$error":"#DIV/0!"},{"$f":"SUM(問題別集計③!G178:G180)","v":0},{"$f":"SUM(問題別集計③!H178:H180)","v":0},{"$f":"SUM(問題別集計③!I178:I180)","v":0},{"$f":"SUM(問題別集計③!J178:J180)","v":0},{"$f":"SUM(問題別集計③!K178:K180)","v":0},{"$f":"SUM(問題別集計③!L178:L180)","v":0},{"$f":"SUM(問題別集計③!M178:M180)","v":0},{"$f":"SUM(問題別集計③!N178:N180)","v":0},{"$f":"SUM(問題別集計③!O178:O180)","v":0},{"$f":"SUM(問題別集計③!P178:P180)","v":0},{"$f":"SUM(問題別集計③!Q178:Q180)","v":0},{"$f":"SUM(問題別集計③!R178:R180)","v":0},{"$f":"SUM(問題別集計③!S178:S180)","v":0},{"$f":"SUM(問題別集計③!T178:T180)","v":0},{"$f":"ROUND(AI216/AI219,3)*100","v":{"$error":"#DIV/0!"}},{"$error":"#DIV/0!"},{"$error":"#DIV/0!"},{"$error":"#DIV/0!"},{"$error":"#DIV/0!"},{"$error":"#DIV/0!"},{"$error":"#DIV/0!"},{"$error":"#DIV/0!"},{"$error":"#DIV/0!"},{"$error":"#DIV/0!"},{"$error":"#DIV/0!"},{"$error":"#DIV/0!"},{"$error":"#DIV/0!"},{"$error":"#DIV/0!"},{"$f":"SUM(問題別集計②!G178:G180)","v":0},{"$f":"SUM(問題別集計②!H178:H180)","v":0},{"$f":"SUM(問題別集計②!I178:I180)","v":0},{"$f":"SUM(問題別集計②!J178:J180)","v":0},{"$f":"SUM(問題別集計②!K178:K180)","v":0},{"$f":"SUM(問題別集計②!L178:L180)","v":0},{"$f":"SUM(問題別集計②!M178:M180)","v":0},{"$f":"SUM(問題別集計②!N178:N180)","v":0},{"$f":"SUM(問題別集計②!O178:O180)","v":0},{"$f":"SUM(問題別集計②!P178:P180)","v":0},{"$f":"SUM(問題別集計②!Q178:Q180)","v":0},{"$f":"SUM(問題別集計②!R178:R180)","v":0},{"$f":"SUM(問題別集計②!S178:S180)","v":0},{"$f":"SUM(問題別集計②!T178:T180)","v":0},{"$f":"ROUND(BK216/BK219,3)*100","v":{"$error":"#DIV/0!"}},{"$error":"#DIV/0!"},{"$error":"#DIV/0!"},{"$error":"#DIV/0!"},{"$error":"#DIV/0!"},{"$error":"#DIV/0!"},{"$error":"#DIV/0!"},{"$error":"#DIV/0!"},{"$error":"#DIV/0!"},{"$error":"#DIV/0!"},{"$error":"#DIV/0!"},{"$error":"#DIV/0!"},{"$error":"#DIV/0!"},{"$error":"#DIV/0!"}]
[null,null,null,4,"よくある",4]
[null,null,null,5,"いつもある",5]
[null,null,null,"計",null,null,{"$f":"SUM(G214:G218)","v":0},{"$f":"SUM(H214:H218)","v":0},{"$f":"SUM(I214:I218)","v":0},{"$f":"SUM(J214:J218)","v":0},{"$f":"SUM(K214:K218)","v":0},{"$f":"SUM(L214:L218)","v":0},{"$f":"SUM(M214:M218)","v":0},{"$f":"SUM(N214:N218)","v":0},{"$f":"SUM(O214:O218)","v":0},{"$f":"SUM(P214:P218)","v":0},{"$f":"SUM(Q214:Q218)","v":0},{"$f":"SUM(R214:R218)","v":0},{"$f":"SUM(S214:S218)","v":0},{"$f":"SUM(T214:T218)","v":0},{"$f":"SUM(U214:U218)","v":{"$error":"#DIV/0!"}},{"$f":"SUM(V214:V218)","v":{"$error":"#DIV/0!"}},{"$f":"SUM(W214:W218)","v":{"$error":"#DIV/0!"}},{"$f":"SUM(X214:X218)","v":{"$error":"#DIV/0!"}},{"$f":"SUM(Y214:Y218)","v":{"$error":"#DIV/0!"}},{"$f":"SUM(Z214:Z218)","v":{"$error":"#DIV/0!"}},{"$f":"SUM(AA214:AA218)","v":{"$error":"#DIV/0!"}},{"$f":"SUM(AB214:AB218)","v":{"$error":"#DIV/0!"}},{"$f":"SUM(AC214:AC218)","v":{"$error":"#DIV/0!"}},{"$f":"SUM(AD214:AD218)","v":{"$error":"#DIV/0!"}},{"$f":"SUM(AE214:AE218)","v":{"$error":"#DIV/0!"}},{"$f":"SUM(AF214:AF218)","v":{"$error":"#DIV/0!"}},{"$f":"SUM(AG214:AG218)","v":{"$error":"#DIV/0!"}},{"$f":"SUM(AH214:AH218)","v":{"$error":"#DIV/0!"}},{"$f":"SUM(AI214:AI218)","v":0},{"$f":"SUM(AJ214:AJ218)","v":0},{"$f":"SUM(AK214:AK218)","v":0},{"$f":"SUM(AL214:AL218)","v":0},{"$f":"SUM(AM214:AM218)","v":0},{"$f":"SUM(AN214:AN218)","v":0},{"$f":"SUM(AO214:AO218)","v":0},{"$f":"SUM(AP214:AP218)","v":0},{"$f":"SUM(AQ214:AQ218)","v":0},{"$f":"SUM(AR214:AR218)","v":0},{"$f":"SUM(AS214:AS218)","v":0},{"$f":"SUM(AT214:AT218)","v":0},{"$f":"SUM(AU214:AU218)","v":0},{"$f":"SUM(AV214:AV218)","v":0},{"$error":"#DIV/0!"},{"$error":"#DIV/0!"},{"$error":"#DIV/0!"},{"$error":"#DIV/0!"},{"$error":"#DIV/0!"},{"$error":"#DIV/0!"},{"$f":"SUM(BC214:BC218)","v":{"$error":"#DIV/0!"}},{"$f":"SUM(BD214:BD218)","v":{"$error":"#DIV/0!"}},{"$error":"#DIV/0!"},{"$error":"#DIV/0!"},{"$error":"#DIV/0!"},{"$error":"#DIV/0!"},{"$error":"#DIV/0!"},{"$f":"SUM(BJ214:BJ218)","v":{"$error":"#DIV/0!"}},{"$f":"SUM(BK214:BK218)","v":0},{"$f":"SUM(BL214:BL218)","v":0},{"$f":"SUM(BM214:BM218)","v":0},{"$f":"SUM(BN214:BN218)","v":0},{"$f":"SUM(BO214:BO218)","v":0},{"$f":"SUM(BP214:BP218)","v":0},{"$f":"SUM(BQ214:BQ218)","v":0},{"$f":"SUM(BR214:BR218)","v":0},{"$f":"SUM(BS214:BS218)","v":0},{"$f":"SUM(BT214:BT218)","v":0},{"$f":"SUM(BU214:BU218)","v":0},{"$f":"SUM(BV214:BV218)","v":0},{"$f":"SUM(BW214:BW218)","v":0},{"$f":"SUM(BX214:BX218)","v":0},{"$error":"#DIV/0!"},{"$error":"#DIV/0!"},{"$error":"#DIV/0!"},{"$error":"#DIV/0!"},{"$error":"#DIV/0!"},{"$error":"#DIV/0!"},{"$f":"SUM(CE214:CE218)","v":{"$error":"#DIV/0!"}},{"$f":"SUM(CF214:CF218)","v":{"$error":"#DIV/0!"}},{"$error":"#DIV/0!"},{"$error":"#DIV/0!"},{"$error":"#DIV/0!"},{"$error":"#DIV/0!"},{"$error":"#DIV/0!"},{"$f":"SUM(CL214:CL218)","v":{"$error":"#DIV/0!"}}]
[null,"39\n(40)","インターネットをしている最中に誰かに邪魔をされると、いらいらしたり、怒ったり、大声を出したりすることがありますか？",1,"全くない",1,{"$f":"SUM(問題別集計!G181:G182)","v":0},{"$f":"SUM(問題別集計!H181:H182)","v":0},{"$f":"SUM(問題別集計!I181:I182)","v":0},{"$f":"SUM(問題別集計!J181:J182)","v":0},{"$f":"SUM(問題別集計!K181:K182)","v":0},{"$f":"SUM(問題別集計!L181:L182)","v":0},{"$f":"SUM(問題別集計!M181:M182)","v":0},{"$f":"SUM(問題別集計!N181:N182)","v":0},{"$f":"SUM(問題別集計!O181:O182)","v":0},{"$f":"SUM(問題別集計!P181:P182)","v":0},{"$f":"SUM(問題別集計!Q181:Q182)","v":0},{"$f":"SUM(問題別集計!R181:R182)","v":0},{"$f":"SUM(問題別集計!S181:S182)","v":0},{"$f":"SUM(問題別集計!T181:T182)","v":0},{"$f":"ROUND(G220/G225,3)*100","v":{"$error":"#DIV/0!"}},{"$error":"#DIV/0!"},{"$error":"#DIV/0!"},{"$error":"#DIV/0!"},{"$error":"#DIV/0!"},{"$error":"#DIV/0!"},{"$error":"#DIV/0!"},{"$error":"#DIV/0!"},{"$error":"#DIV/0!"},{"$error":"#DIV/0!"},{"$error":"#DIV/0!"},{"$error":"#DIV/0!"},{"$error":"#DIV/0!"},{"$error":"#DIV/0!"},{"$f":"SUM(問題別集計③!G181:G182)","v":0},{"$f":"SUM(問題別集計③!H181:H182)","v":0},{"$f":"SUM(問題別集計③!I181:I182)","v":0},{"$f":"SUM(問題別集計③!J181:J182)","v":0},{"$f":"SUM(問題別集計③!K181:K182)","v":0},{"$f":"SUM(問題別集計③!L181:L182)","v":0},{"$f":"SUM(問題別集計③!M181:M182)","v":0},{"$f":"SUM(問題別集計③!N181:N182)","v":0},{"$f":"SUM(問題別集計③!O181:O182)","v":0},{"$f":"SUM(問題別集計③!P181:P182)","v":0},{"$f":"SUM(問題別集計③!Q181:Q182)","v":0},{"$f":"SUM(問題別集計③!R181:R182)","v":0},{"$f":"SUM(問題別集計③!S181:S182)","v":0},{"$f":"SUM(問題別集計③!T181:T182)","v":0},{"$f":"ROUND(AI220/AI225,3)*100","v":{"$error":"#DIV/0!"}},{"$error":"#DIV/0!"},{"$error":"#DIV/0!"},{"$error":"#DIV/0!"},{"$error":"#DIV/0!"},{"$error":"#DIV/0!"},{"$error":"#DIV/0!"},{"$error":"#DIV/0!"},{"$error":"#DIV/0!"},{"$error":"#DIV/0!"},{"$error":"#DIV/0!"},{"$error":"#DIV/0!"},{"$error":"#DIV/0!"},{"$error":"#DIV/0!"},{"$f":"SUM(問題別集計②!G181:G182)","v":0},{"$f":"SUM(問題別集計②!H181:H182)","v":0},{"$f":"SUM(問題別集計②!I181:I182)","v":0},{"$f":"SUM(問題別集計②!J181:J182)","v":0},{"$f":"SUM(問題別集計②!K181:K182)","v":0},{"$f":"SUM(問題別集計②!L181:L182)","v":0},{"$f":"SUM(問題別集計②!M181:M182)","v":0},{"$f":"SUM(問題別集計②!N181:N182)","v":0},{"$f":"SUM(問題別集計②!O181:O182)","v":0},{"$f":"SUM(問題別集計②!P181:P182)","v":0},{"$f":"SUM(問題別集計②!Q181:Q182)","v":0},{"$f":"SUM(問題別集計②!R181:R182)","v":0},{"$f":"SUM(問題別集計②!S181:S182)","v":0},{"$f":"SUM(問題別集計②!T181:T182)","v":0},{"$f":"ROUND(BK220/BK225,3)*100","v":{"$error":"#DIV/0!"}},{"$error":"#DIV/0!"},{"$error":"#DIV/0!"},{"$error":"#DIV/0!"},{"$error":"#DIV/0!"},{"$error":"#DIV/0!"},{"$error":"#DIV/0!"},{"$error":"#DIV/0!"},{"$error":"#DIV/0!"},{"$error":"#DIV/0!"},{"$error":"#DIV/0!"},{"$error":"#DIV/0!"},{"$error":"#DIV/0!"},{"$error":"#DIV/0!"}]
[null,null,null,2,"まれにある",2,null,null,null,null,null,null,null,null,null,null,null,null,null,null,{"$f":"ROUND(G221/G$72,4)*100","v":{"$error":"#DIV/0!"}},{"$f":"ROUND(H221/H$72,4)*100","v":{"$error":"#DIV/0!"}},{"$f":"ROUND(I221/I$72,4)*100","v":{"$error":"#DIV/0!"}},{"$f":"ROUND(J221/J$72,4)*100","v":{"$error":"#DIV/0!"}},{"$f":"ROUND(K221/K$72,4)*100","v":{"$error":"#DIV/0!"}},{"$f":"ROUND(L221/L$72,4)*100","v":{"$error":"#DIV/0!"}},{"$f":"ROUND(M221/M$72,4)*100","v":{"$error":"#DIV/0!"}},{"$f":"ROUND(N221/N$72,4)*100","v":{"$error":"#DIV/0!"}},{"$f":"ROUND(O221/O$72,4)*100","v":{"$error":"#DIV/0!"}},{"$f":"ROUND(P221/P$72,4)*100","v":{"$error":"#DIV/0!"}},{"$f":"ROUND(Q221/Q$72,4)*100","v":{"$error":"#DIV/0!"}},{"$f":"ROUND(R221/R$72,4)*100","v":{"$error":"#DIV/0!"}},{"$f":"ROUND(S221/S$72,4)*100","v":{"$error":"#DIV/0!"}},{"$f":"ROUND(T221/T$72,4)*100","v":{"$error":"#DIV/0!"}},null,null,null,null,null,null,null,null,null,null,null,null,null,null,{"$f":"ROUND(AI221/AI$72,4)*100","v":{"$error":"#DIV/0!"}},{"$f":"ROUND(AJ221/AJ$72,4)*100","v":{"$error":"#DIV/0!"}},{"$f":"ROUND(AK221/AK$72,4)*100","v":{"$error":"#DIV/0!"}},{"$f":"ROUND(AL221/AL$72,4)*100","v":{"$error":"#DIV/0!"}},{"$f":"ROUND(AM221/AM$72,4)*100","v":{"$error":"#DIV/0!"}},{"$f":"ROUND(AN221/AN$72,4)*100","v":{"$error":"#DIV/0!"}},{"$f":"ROUND(AO221/AO$72,4)*100","v":{"$error":"#DIV/0!"}},{"$f":"ROUND(AP221/AP$72,4)*100","v":{"$error":"#DIV/0!"}},{"$f":"ROUND(AQ221/AQ$72,4)*100","v":{"$error":"#DIV/0!"}},{"$f":"ROUND(AR221/AR$72,4)*100","v":{"$error":"#DIV/0!"}},{"$f":"ROUND(AS221/AS$72,4)*100","v":{"$error":"#DIV/0!"}},{"$f":"ROUND(AT221/AT$72,4)*100","v":{"$error":"#DIV/0!"}},{"$f":"ROUND(AU221/AU$72,4)*100","v":{"$error":"#DIV/0!"}},{"$f":"ROUND(AV221/AV$72,4)*100","v":{"$error":"#DIV/0!"}},null,null,null,null,null,null,null,null,null,null,null,null,null,null,{"$f":"ROUND(BK221/BK$72,4)*100","v":{"$error":"#DIV/0!"}},{"$f":"ROUND(BL221/BL$72,4)*100","v":{"$error":"#DIV/0!"}},{"$f":"ROUND(BM221/BM$72,4)*100","v":{"$error":"#DIV/0!"}},{"$f":"ROUND(BN221/BN$72,4)*100","v":{"$error":"#DIV/0!"}},{"$f":"ROUND(BO221/BO$72,4)*100","v":{"$error":"#DIV/0!"}},{"$f":"ROUND(BP221/BP$72,4)*100","v":{"$error":"#DIV/0!"}},{"$f":"ROUND(BQ221/BQ$72,4)*100","v":{"$error":"#DIV/0!"}},{"$f":"ROUND(BR221/BR$72,4)*100","v":{"$error":"#DIV/0!"}},{"$f":"ROUND(BS221/BS$72,4)*100","v":{"$error":"#DIV/0!"}},{"$f":"ROUND(BT221/BT$72,4)*100","v":{"$error":"#DIV/0!"}},{"$f":"ROUND(BU221/BU$72,4)*100","v":{"$error":"#DIV/0!"}},{"$f":"ROUND(BV221/BV$72,4)*100","v":{"$error":"#DIV/0!"}},{"$f":"ROUND(BW221/BW$72,4)*100","v":{"$error":"#DIV/0!"}},{"$f":"ROUND(BX221/BX$72,4)*100","v":{"$error":"#DIV/0!"}}]
[null,null,null,3,"時々ある",3,{"$f":"SUM(問題別集計!G183:G185)","v":0},{"$f":"SUM(問題別集計!H183:H185)","v":0},{"$f":"SUM(問題別集計!I183:I185)","v":0},{"$f":"SUM(問題別集計!J183:J185)","v":0},{"$f":"SUM(問題別集計!K183:K185)","v":0},{"$f":"SUM(問題別集計!L183:L185)","v":0},{"$f":"SUM(問題別集計!M183:M185)","v":0},{"$f":"SUM(問題別集計!N183:N185)","v":0},{"$f":"SUM(問題別集計!O183:O185)","v":0},{"$f":"SUM(問題別集計!P183:P185)","v":0},{"$f":"SUM(問題別集計!Q183:Q185)","v":0},{"$f":"SUM(問題別集計!R183:R185)","v":0},{"$f":"SUM(問題別集計!S183:S185)","v":0},{"$f":"SUM(問題別集計!T183:T185)","v":0},{"$f":"ROUND(G222/G225,3)*100","v":{"$error":"#DIV/0!"}},{"$error":"#DIV/0!"},{"$error":"#DIV/0!"},{"$error":"#DIV/0!"},{"$error":"#DIV/0!"},{"$error":"#DIV/0!"},{"$error":"#DIV/0!"},{"$error":"#DIV/0!"},{"$error":"#DIV/0!"},{"$error":"#DIV/0!"},{"$error":"#DIV/0!"},{"$error":"#DIV/0!"},{"$error":"#DIV/0!"},{"$error":"#DIV/0!"},{"$f":"SUM(問題別集計③!G183:G185)","v":0},{"$f":"SUM(問題別集計③!H183:H185)","v":0},{"$f":"SUM(問題別集計③!I183:I185)","v":0},{"$f":"SUM(問題別集計③!J183:J185)","v":0},{"$f":"SUM(問題別集計③!K183:K185)","v":0},{"$f":"SUM(問題別集計③!L183:L185)","v":0},{"$f":"SUM(問題別集計③!M183:M185)","v":0},{"$f":"SUM(問題別集計③!N183:N185)","v":0},{"$f":"SUM(問題別集計③!O183:O185)","v":0},{"$f":"SUM(問題別集計③!P183:P185)","v":0},{"$f":"SUM(問題別集計③!Q183:Q185)","v":0},{"$f":"SUM(問題別集計③!R183:R185)","v":0},{"$f":"SUM(問題別集計③!S183:S185)","v":0},{"$f":"SUM(問題別集計③!T183:T185)","v":0},{"$f":"ROUND(AI222/AI225,3)*100","v":{"$error":"#DIV/0!"}},{"$error":"#DIV/0!"},{"$error":"#DIV/0!"},{"$error":"#DIV/0!"},{"$error":"#DIV/0!"},{"$error":"#DIV/0!"},{"$error":"#DIV/0!"},{"$error":"#DIV/0!"},{"$error":"#DIV/0!"},{"$error":"#DIV/0!"},{"$error":"#DIV/0!"},{"$error":"#DIV/0!"},{"$error":"#DIV/0!"},{"$error":"#DIV/0!"},{"$f":"SUM(問題別集計②!G183:G185)","v":0},{"$f":"SUM(問題別集計②!H183:H185)","v":0},{"$f":"SUM(問題別集計②!I183:I185)","v":0},{"$f":"SUM(問題別集計②!J183:J185)","v":0},{"$f":"SUM(問題別集計②!K183:K185)","v":0},{"$f":"SUM(問題別集計②!L183:L185)","v":0},{"$f":"SUM(問題別集計②!M183:M185)","v":0},{"$f":"SUM(問題別集計②!N183:N185)","v":0},{"$f":"SUM(問題別集計②!O183:O185)","v":0},{"$f":"SUM(問題別集計②!P183:P185)","v":0},{"$f":"SUM(問題別集計②!Q183:Q185)","v":0},{"$f":"SUM(問題別集計②!R183:R185)","v":0},{"$f":"SUM(問題別集計②!S183:S185)","v":0},{"$f":"SUM(問題別集計②!T183:T185)","v":0},{"$f":"ROUND(BK222/BK225,3)*100","v":{"$error":"#DIV/0!"}},{"$error":"#DIV/0!"},{"$error":"#DIV/0!"},{"$error":"#DIV/0!"},{"$error":"#DIV/0!"},{"$error":"#DIV/0!"},{"$error":"#DIV/0!"},{"$error":"#DIV/0!"},{"$error":"#DIV/0!"},{"$error":"#DIV/0!"},{"$error":"#DIV/0!"},{"$error":"#DIV/0!"},{"$error":"#DIV/0!"},{"$error":"#DIV/0!"}]
[null,null,null,4,"よくある",4]
[null,null,null,5,"いつもある",5]
[null,null,null,"計",null,null,{"$f":"SUM(G220:G224)","v":0},{"$f":"SUM(H220:H224)","v":0},{"$f":"SUM(I220:I224)","v":0},{"$f":"SUM(J220:J224)","v":0},{"$f":"SUM(K220:K224)","v":0},{"$f":"SUM(L220:L224)","v":0},{"$f":"SUM(M220:M224)","v":0},{"$f":"SUM(N220:N224)","v":0},{"$f":"SUM(O220:O224)","v":0},{"$f":"SUM(P220:P224)","v":0},{"$f":"SUM(Q220:Q224)","v":0},{"$f":"SUM(R220:R224)","v":0},{"$f":"SUM(S220:S224)","v":0},{"$f":"SUM(T220:T224)","v":0},{"$f":"SUM(U220:U224)","v":{"$error":"#DIV/0!"}},{"$f":"SUM(V220:V224)","v":{"$error":"#DIV/0!"}},{"$f":"SUM(W220:W224)","v":{"$error":"#DIV/0!"}},{"$f":"SUM(X220:X224)","v":{"$error":"#DIV/0!"}},{"$f":"SUM(Y220:Y224)","v":{"$error":"#DIV/0!"}},{"$f":"SUM(Z220:Z224)","v":{"$error":"#DIV/0!"}},{"$f":"SUM(AA220:AA224)","v":{"$error":"#DIV/0!"}},{"$f":"SUM(AB220:AB224)","v":{"$error":"#DIV/0!"}},{"$f":"SUM(AC220:AC224)","v":{"$error":"#DIV/0!"}},{"$f":"SUM(AD220:AD224)","v":{"$error":"#DIV/0!"}},{"$f":"SUM(AE220:AE224)","v":{"$error":"#DIV/0!"}},{"$f":"SUM(AF220:AF224)","v":{"$error":"#DIV/0!"}},{"$f":"SUM(AG220:AG224)","v":{"$error":"#DIV/0!"}},{"$f":"SUM(AH220:AH224)","v":{"$error":"#DIV/0!"}},{"$f":"SUM(AI220:AI224)","v":0},{"$f":"SUM(AJ220:AJ224)","v":0},{"$f":"SUM(AK220:AK224)","v":0},{"$f":"SUM(AL220:AL224)","v":0},{"$f":"SUM(AM220:AM224)","v":0},{"$f":"SUM(AN220:AN224)","v":0},{"$f":"SUM(AO220:AO224)","v":0},{"$f":"SUM(AP220:AP224)","v":0},{"$f":"SUM(AQ220:AQ224)","v":0},{"$f":"SUM(AR220:AR224)","v":0},{"$f":"SUM(AS220:AS224)","v":0},{"$f":"SUM(AT220:AT224)","v":0},{"$f":"SUM(AU220:AU224)","v":0},{"$f":"SUM(AV220:AV224)","v":0},{"$error":"#DIV/0!"},{"$error":"#DIV/0!"},{"$error":"#DIV/0!"},{"$error":"#DIV/0!"},{"$error":"#DIV/0!"},{"$error":"#DIV/0!"},{"$f":"SUM(BC220:BC224)","v":{"$error":"#DIV/0!"}},{"$f":"SUM(BD220:BD224)","v":{"$error":"#DIV/0!"}},{"$error":"#DIV/0!"},{"$error":"#DIV/0!"},{"$error":"#DIV/0!"},{"$error":"#DIV/0!"},{"$error":"#DIV/0!"},{"$f":"SUM(BJ220:BJ224)","v":{"$error":"#DIV/0!"}},{"$f":"SUM(BK220:BK224)","v":0},{"$f":"SUM(BL220:BL224)","v":0},{"$f":"SUM(BM220:BM224)","v":0},{"$f":"SUM(BN220:BN224)","v":0},{"$f":"SUM(BO220:BO224)","v":0},{"$f":"SUM(BP220:BP224)","v":0},{"$f":"SUM(BQ220:BQ224)","v":0},{"$f":"SUM(BR220:BR224)","v":0},{"$f":"SUM(BS220:BS224)","v":0},{"$f":"SUM(BT220:BT224)","v":0},{"$f":"SUM(BU220:BU224)","v":0},{"$f":"SUM(BV220:BV224)","v":0},{"$f":"SUM(BW220:BW224)","v":0},{"$f":"SUM(BX220:BX224)","v":0},{"$error":"#DIV/0!"},{"$error":"#DIV/0!"},{"$error":"#DIV/0!"},{"$error":"#DIV/0!"},{"$error":"#DIV/0!"},{"$error":"#DIV/0!"},{"$f":"SUM(CE220:CE224)","v":{"$error":"#DIV/0!"}},{"$f":"SUM(CF220:CF224)","v":{"$error":"#DIV/0!"}},{"$error":"#DIV/0!"},{"$error":"#DIV/0!"},{"$error":"#DIV/0!"},{"$error":"#DIV/0!"},{"$error":"#DIV/0!"},{"$f":"SUM(CL220:CL224)","v":{"$error":"#DIV/0!"}}]
[null,"40\n(41)","睡眠時間をけずって、深夜までインターネットをすることがありますか？",1,"全くない",1,{"$f":"SUM(問題別集計!G186:G187)","v":0},{"$f":"SUM(問題別集計!H186:H187)","v":0},{"$f":"SUM(問題別集計!I186:I187)","v":0},{"$f":"SUM(問題別集計!J186:J187)","v":0},{"$f":"SUM(問題別集計!K186:K187)","v":0},{"$f":"SUM(問題別集計!L186:L187)","v":0},{"$f":"SUM(問題別集計!M186:M187)","v":0},{"$f":"SUM(問題別集計!N186:N187)","v":0},{"$f":"SUM(問題別集計!O186:O187)","v":0},{"$f":"SUM(問題別集計!P186:P187)","v":0},{"$f":"SUM(問題別集計!Q186:Q187)","v":0},{"$f":"SUM(問題別集計!R186:R187)","v":0},{"$f":"SUM(問題別集計!S186:S187)","v":0},{"$f":"SUM(問題別集計!T186:T187)","v":0},{"$f":"ROUND(G226/G231,3)*100","v":{"$error":"#DIV/0!"}},{"$error":"#DIV/0!"},{"$error":"#DIV/0!"},{"$error":"#DIV/0!"},{"$error":"#DIV/0!"},{"$error":"#DIV/0!"},{"$error":"#DIV/0!"},{"$error":"#DIV/0!"},{"$error":"#DIV/0!"},{"$error":"#DIV/0!"},{"$error":"#DIV/0!"},{"$error":"#DIV/0!"},{"$error":"#DIV/0!"},{"$error":"#DIV/0!"},{"$f":"SUM(問題別集計③!G186:G187)","v":0},{"$f":"SUM(問題別集計③!H186:H187)","v":0},{"$f":"SUM(問題別集計③!I186:I187)","v":0},{"$f":"SUM(問題別集計③!J186:J187)","v":0},{"$f":"SUM(問題別集計③!K186:K187)","v":0},{"$f":"SUM(問題別集計③!L186:L187)","v":0},{"$f":"SUM(問題別集計③!M186:M187)","v":0},{"$f":"SUM(問題別集計③!N186:N187)","v":0},{"$f":"SUM(問題別集計③!O186:O187)","v":0},{"$f":"SUM(問題別集計③!P186:P187)","v":0},{"$f":"SUM(問題別集計③!Q186:Q187)","v":0},{"$f":"SUM(問題別集計③!R186:R187)","v":0},{"$f":"SUM(問題別集計③!S186:S187)","v":0},{"$f":"SUM(問題別集計③!T186:T187)","v":0},{"$f":"ROUND(AI226/AI231,3)*100","v":{"$error":"#DIV/0!"}},{"$error":"#DIV/0!"},{"$error":"#DIV/0!"},{"$error":"#DIV/0!"},{"$error":"#DIV/0!"},{"$error":"#DIV/0!"},{"$error":"#DIV/0!"},{"$error":"#DIV/0!"},{"$error":"#DIV/0!"},{"$error":"#DIV/0!"},{"$error":"#DIV/0!"},{"$error":"#DIV/0!"},{"$error":"#DIV/0!"},{"$error":"#DIV/0!"},{"$f":"SUM(問題別集計②!G186:G187)","v":0},{"$f":"SUM(問題別集計②!H186:H187)","v":0},{"$f":"SUM(問題別集計②!I186:I187)","v":0},{"$f":"SUM(問題別集計②!J186:J187)","v":0},{"$f":"SUM(問題別集計②!K186:K187)","v":0},{"$f":"SUM(問題別集計②!L186:L187)","v":0},{"$f":"SUM(問題別集計②!M186:M187)","v":0},{"$f":"SUM(問題別集計②!N186:N187)","v":0},{"$f":"SUM(問題別集計②!O186:O187)","v":0},{"$f":"SUM(問題別集計②!P186:P187)","v":0},{"$f":"SUM(問題別集計②!Q186:Q187)","v":0},{"$f":"SUM(問題別集計②!R186:R187)","v":0},{"$f":"SUM(問題別集計②!S186:S187)","v":0},{"$f":"SUM(問題別集計②!T186:T187)","v":0},{"$f":"ROUND(BK226/BK231,3)*100","v":{"$error":"#DIV/0!"}},{"$error":"#DIV/0!"},{"$error":"#DIV/0!"},{"$error":"#DIV/0!"},{"$error":"#DIV/0!"},{"$error":"#DIV/0!"},{"$error":"#DIV/0!"},{"$error":"#DIV/0!"},{"$error":"#DIV/0!"},{"$error":"#DIV/0!"},{"$error":"#DIV/0!"},{"$error":"#DIV/0!"},{"$error":"#DIV/0!"},{"$error":"#DIV/0!"}]
[null,null,null,2,"まれにある",2,null,null,null,null,null,null,null,null,null,null,null,null,null,null,{"$f":"ROUND(G227/G$72,4)*100","v":{"$error":"#DIV/0!"}},{"$f":"ROUND(H227/H$72,4)*100","v":{"$error":"#DIV/0!"}},{"$f":"ROUND(I227/I$72,4)*100","v":{"$error":"#DIV/0!"}},{"$f":"ROUND(J227/J$72,4)*100","v":{"$error":"#DIV/0!"}},{"$f":"ROUND(K227/K$72,4)*100","v":{"$error":"#DIV/0!"}},{"$f":"ROUND(L227/L$72,4)*100","v":{"$error":"#DIV/0!"}},{"$f":"ROUND(M227/M$72,4)*100","v":{"$error":"#DIV/0!"}},{"$f":"ROUND(N227/N$72,4)*100","v":{"$error":"#DIV/0!"}},{"$f":"ROUND(O227/O$72,4)*100","v":{"$error":"#DIV/0!"}},{"$f":"ROUND(P227/P$72,4)*100","v":{"$error":"#DIV/0!"}},{"$f":"ROUND(Q227/Q$72,4)*100","v":{"$error":"#DIV/0!"}},{"$f":"ROUND(R227/R$72,4)*100","v":{"$error":"#DIV/0!"}},{"$f":"ROUND(S227/S$72,4)*100","v":{"$error":"#DIV/0!"}},{"$f":"ROUND(T227/T$72,4)*100","v":{"$error":"#DIV/0!"}},null,null,null,null,null,null,null,null,null,null,null,null,null,null,{"$f":"ROUND(AI227/AI$72,4)*100","v":{"$error":"#DIV/0!"}},{"$f":"ROUND(AJ227/AJ$72,4)*100","v":{"$error":"#DIV/0!"}},{"$f":"ROUND(AK227/AK$72,4)*100","v":{"$error":"#DIV/0!"}},{"$f":"ROUND(AL227/AL$72,4)*100","v":{"$error":"#DIV/0!"}},{"$f":"ROUND(AM227/AM$72,4)*100","v":{"$error":"#DIV/0!"}},{"$f":"ROUND(AN227/AN$72,4)*100","v":{"$error":"#DIV/0!"}},{"$f":"ROUND(AO227/AO$72,4)*100","v":{"$error":"#DIV/0!"}},{"$f":"ROUND(AP227/AP$72,4)*100","v":{"$error":"#DIV/0!"}},{"$f":"ROUND(AQ227/AQ$72,4)*100","v":{"$error":"#DIV/0!"}},{"$f":"ROUND(AR227/AR$72,4)*100","v":{"$error":"#DIV/0!"}},{"$f":"ROUND(AS227/AS$72,4)*100","v":{"$error":"#DIV/0!"}},{"$f":"ROUND(AT227/AT$72,4)*100","v":{"$error":"#DIV/0!"}},{"$f":"ROUND(AU227/AU$72,4)*100","v":{"$error":"#DIV/0!"}},{"$f":"ROUND(AV227/AV$72,4)*100","v":{"$error":"#DIV/0!"}},null,null,null,null,null,null,null,null,null,null,null,null,null,null,{"$f":"ROUND(BK227/BK$72,4)*100","v":{"$error":"#DIV/0!"}},{"$f":"ROUND(BL227/BL$72,4)*100","v":{"$error":"#DIV/0!"}},{"$f":"ROUND(BM227/BM$72,4)*100","v":{"$error":"#DIV/0!"}},{"$f":"ROUND(BN227/BN$72,4)*100","v":{"$error":"#DIV/0!"}},{"$f":"ROUND(BO227/BO$72,4)*100","v":{"$error":"#DIV/0!"}},{"$f":"ROUND(BP227/BP$72,4)*100","v":{"$error":"#DIV/0!"}},{"$f":"ROUND(BQ227/BQ$72,4)*100","v":{"$error":"#DIV/0!"}},{"$f":"ROUND(BR227/BR$72,4)*100","v":{"$error":"#DIV/0!"}},{"$f":"ROUND(BS227/BS$72,4)*100","v":{"$error":"#DIV/0!"}},{"$f":"ROUND(BT227/BT$72,4)*100","v":{"$error":"#DIV/0!"}},{"$f":"ROUND(BU227/BU$72,4)*100","v":{"$error":"#DIV/0!"}},{"$f":"ROUND(BV227/BV$72,4)*100","v":{"$error":"#DIV/0!"}},{"$f":"ROUND(BW227/BW$72,4)*100","v":{"$error":"#DIV/0!"}},{"$f":"ROUND(BX227/BX$72,4)*100","v":{"$error":"#DIV/0!"}}]
[null,null,null,3,"時々ある",3,{"$f":"SUM(問題別集計!G188:G190)","v":0},{"$f":"SUM(問題別集計!H188:H190)","v":0},{"$f":"SUM(問題別集計!I188:I190)","v":0},{"$f":"SUM(問題別集計!J188:J190)","v":0},{"$f":"SUM(問題別集計!K188:K190)","v":0},{"$f":"SUM(問題別集計!L188:L190)","v":0},{"$f":"SUM(問題別集計!M188:M190)","v":0},{"$f":"SUM(問題別集計!N188:N190)","v":0},{"$f":"SUM(問題別集計!O188:O190)","v":0},{"$f":"SUM(問題別集計!P188:P190)","v":0},{"$f":"SUM(問題別集計!Q188:Q190)","v":0},{"$f":"SUM(問題別集計!R188:R190)","v":0},{"$f":"SUM(問題別集計!S188:S190)","v":0},{"$f":"SUM(問題別集計!T188:T190)","v":0},{"$f":"ROUND(G228/G231,3)*100","v":{"$error":"#DIV/0!"}},{"$error":"#DIV/0!"},{"$error":"#DIV/0!"},{"$error":"#DIV/0!"},{"$error":"#DIV/0!"},{"$error":"#DIV/0!"},{"$error":"#DIV/0!"},{"$error":"#DIV/0!"},{"$error":"#DIV/0!"},{"$error":"#DIV/0!"},{"$error":"#DIV/0!"},{"$error":"#DIV/0!"},{"$error":"#DIV/0!"},{"$error":"#DIV/0!"},{"$f":"SUM(問題別集計③!G188:G190)","v":0},{"$f":"SUM(問題別集計③!H188:H190)","v":0},{"$f":"SUM(問題別集計③!I188:I190)","v":0},{"$f":"SUM(問題別集計③!J188:J190)","v":0},{"$f":"SUM(問題別集計③!K188:K190)","v":0},{"$f":"SUM(問題別集計③!L188:L190)","v":0},{"$f":"SUM(問題別集計③!M188:M190)","v":0},{"$f":"SUM(問題別集計③!N188:N190)","v":0},{"$f":"SUM(問題別集計③!O188:O190)","v":0},{"$f":"SUM(問題別集計③!P188:P190)","v":0},{"$f":"SUM(問題別集計③!Q188:Q190)","v":0},{"$f":"SUM(問題別集計③!R188:R190)","v":0},{"$f":"SUM(問題別集計③!S188:S190)","v":0},{"$f":"SUM(問題別集計③!T188:T190)","v":0},{"$f":"ROUND(AI228/AI231,3)*100","v":{"$error":"#DIV/0!"}},{"$error":"#DIV/0!"},{"$error":"#DIV/0!"},{"$error":"#DIV/0!"},{"$error":"#DIV/0!"},{"$error":"#DIV/0!"},{"$error":"#DIV/0!"},{"$error":"#DIV/0!"},{"$error":"#DIV/0!"},{"$error":"#DIV/0!"},{"$error":"#DIV/0!"},{"$error":"#DIV/0!"},{"$error":"#DIV/0!"},{"$error":"#DIV/0!"},{"$f":"SUM(問題別集計②!G188:G190)","v":0},{"$f":"SUM(問題別集計②!H188:H190)","v":0},{"$f":"SUM(問題別集計②!I188:I190)","v":0},{"$f":"SUM(問題別集計②!J188:J190)","v":0},{"$f":"SUM(問題別集計②!K188:K190)","v":0},{"$f":"SUM(問題別集計②!L188:L190)","v":0},{"$f":"SUM(問題別集計②!M188:M190)","v":0},{"$f":"SUM(問題別集計②!N188:N190)","v":0},{"$f":"SUM(問題別集計②!O188:O190)","v":0},{"$f":"SUM(問題別集計②!P188:P190)","v":0},{"$f":"SUM(問題別集計②!Q188:Q190)","v":0},{"$f":"SUM(問題別集計②!R188:R190)","v":0},{"$f":"SUM(問題別集計②!S188:S190)","v":0},{"$f":"SUM(問題別集計②!T188:T190)","v":0},{"$f":"ROUND(BK228/BK231,3)*100","v":{"$error":"#DIV/0!"}},{"$error":"#DIV/0!"},{"$error":"#DIV/0!"},{"$error":"#DIV/0!"},{"$error":"#DIV/0!"},{"$error":"#DIV/0!"},{"$error":"#DIV/0!"},{"$error":"#DIV/0!"},{"$error":"#DIV/0!"},{"$error":"#DIV/0!"},{"$error":"#DIV/0!"},{"$error":"#DIV/0!"},{"$error":"#DIV/0!"},{"$error":"#DIV/0!"}]
[null,null,null,4,"よくある",4]
[null,null,null,5,"いつもある",5]
[null,null,null,"計",null,null,{"$f":"SUM(G226:G230)","v":0},{"$f":"SUM(H226:H230)","v":0},{"$f":"SUM(I226:I230)","v":0},{"$f":"SUM(J226:J230)","v":0},{"$f":"SUM(K226:K230)","v":0},{"$f":"SUM(L226:L230)","v":0},{"$f":"SUM(M226:M230)","v":0},{"$f":"SUM(N226:N230)","v":0},{"$f":"SUM(O226:O230)","v":0},{"$f":"SUM(P226:P230)","v":0},{"$f":"SUM(Q226:Q230)","v":0},{"$f":"SUM(R226:R230)","v":0},{"$f":"SUM(S226:S230)","v":0},{"$f":"SUM(T226:T230)","v":0},{"$f":"SUM(U226:U230)","v":{"$error":"#DIV/0!"}},{"$f":"SUM(V226:V230)","v":{"$error":"#DIV/0!"}},{"$f":"SUM(W226:W230)","v":{"$error":"#DIV/0!"}},{"$f":"SUM(X226:X230)","v":{"$error":"#DIV/0!"}},{"$f":"SUM(Y226:Y230)","v":{"$error":"#DIV/0!"}},{"$f":"SUM(Z226:Z230)","v":{"$error":"#DIV/0!"}},{"$f":"SUM(AA226:AA230)","v":{"$error":"#DIV/0!"}},{"$f":"SUM(AB226:AB230)","v":{"$error":"#DIV/0!"}},{"$f":"SUM(AC226:AC230)","v":{"$error":"#DIV/0!"}},{"$f":"SUM(AD226:AD230)","v":{"$error":"#DIV/0!"}},{"$f":"SUM(AE226:AE230)","v":{"$error":"#DIV/0!"}},{"$f":"SUM(AF226:AF230)","v":{"$error":"#DIV/0!"}},{"$f":"SUM(AG226:AG230)","v":{"$error":"#DIV/0!"}},{"$f":"SUM(AH226:AH230)","v":{"$error":"#DIV/0!"}},{"$f":"SUM(AI226:AI230)","v":0},{"$f":"SUM(AJ226:AJ230)","v":0},{"$f":"SUM(AK226:AK230)","v":0},{"$f":"SUM(AL226:AL230)","v":0},{"$f":"SUM(AM226:AM230)","v":0},{"$f":"SUM(AN226:AN230)","v":0},{"$f":"SUM(AO226:AO230)","v":0},{"$f":"SUM(AP226:AP230)","v":0},{"$f":"SUM(AQ226:AQ230)","v":0},{"$f":"SUM(AR226:AR230)","v":0},{"$f":"SUM(AS226:AS230)","v":0},{"$f":"SUM(AT226:AT230)","v":0},{"$f":"SUM(AU226:AU230)","v":0},{"$f":"SUM(AV226:AV230)","v":0},{"$error":"#DIV/0!"},{"$error":"#DIV/0!"},{"$error":"#DIV/0!"},{"$error":"#DIV/0!"},{"$error":"#DIV/0!"},{"$error":"#DIV/0!"},{"$f":"SUM(BC226:BC230)","v":{"$error":"#DIV/0!"}},{"$f":"SUM(BD226:BD230)","v":{"$error":"#DIV/0!"}},{"$error":"#DIV/0!"},{"$error":"#DIV/0!"},{"$error":"#DIV/0!"},{"$error":"#DIV/0!"},{"$error":"#DIV/0!"},{"$f":"SUM(BJ226:BJ230)","v":{"$error":"#DIV/0!"}},{"$f":"SUM(BK226:BK230)","v":0},{"$f":"SUM(BL226:BL230)","v":0},{"$f":"SUM(BM226:BM230)","v":0},{"$f":"SUM(BN226:BN230)","v":0},{"$f":"SUM(BO226:BO230)","v":0},{"$f":"SUM(BP226:BP230)","v":0},{"$f":"SUM(BQ226:BQ230)","v":0},{"$f":"SUM(BR226:BR230)","v":0},{"$f":"SUM(BS226:BS230)","v":0},{"$f":"SUM(BT226:BT230)","v":0},{"$f":"SUM(BU226:BU230)","v":0},{"$f":"SUM(BV226:BV230)","v":0},{"$f":"SUM(BW226:BW230)","v":0},{"$f":"SUM(BX226:BX230)","v":0},{"$error":"#DIV/0!"},{"$error":"#DIV/0!"},{"$error":"#DIV/0!"},{"$error":"#DIV/0!"},{"$error":"#DIV/0!"},{"$error":"#DIV/0!"},{"$f":"SUM(CE226:CE230)","v":{"$error":"#DIV/0!"}},{"$f":"SUM(CF226:CF230)","v":{"$error":"#DIV/0!"}},{"$error":"#DIV/0!"},{"$error":"#DIV/0!"},{"$error":"#DIV/0!"},{"$error":"#DIV/0!"},{"$error":"#DIV/0!"},{"$f":"SUM(CL226:CL230)","v":{"$error":"#DIV/0!"}}]
[null,"41\n(42)","インターネットをしていないときでもインターネットのことばかり考えていたり、インターネットをしているところを空想したりすることがありますか？",1,"全くない",1,{"$f":"SUM(問題別集計!G191:G192)","v":0},{"$f":"SUM(問題別集計!H191:H192)","v":0},{"$f":"SUM(問題別集計!I191:I192)","v":0},{"$f":"SUM(問題別集計!J191:J192)","v":0},{"$f":"SUM(問題別集計!K191:K192)","v":0},{"$f":"SUM(問題別集計!L191:L192)","v":0},{"$f":"SUM(問題別集計!M191:M192)","v":0},{"$f":"SUM(問題別集計!N191:N192)","v":0},{"$f":"SUM(問題別集計!O191:O192)","v":0},{"$f":"SUM(問題別集計!P191:P192)","v":0},{"$f":"SUM(問題別集計!Q191:Q192)","v":0},{"$f":"SUM(問題別集計!R191:R192)","v":0},{"$f":"SUM(問題別集計!S191:S192)","v":0},{"$f":"SUM(問題別集計!T191:T192)","v":0},{"$f":"ROUND(G232/G237,3)*100","v":{"$error":"#DIV/0!"}},{"$error":"#DIV/0!"},{"$error":"#DIV/0!"},{"$error":"#DIV/0!"},{"$error":"#DIV/0!"},{"$error":"#DIV/0!"},{"$error":"#DIV/0!"},{"$error":"#DIV/0!"},{"$error":"#DIV/0!"},{"$error":"#DIV/0!"},{"$error":"#DIV/0!"},{"$error":"#DIV/0!"},{"$error":"#DIV/0!"},{"$error":"#DIV/0!"},{"$f":"SUM(問題別集計③!G191:G192)","v":0},{"$f":"SUM(問題別集計③!H191:H192)","v":0},{"$f":"SUM(問題別集計③!I191:I192)","v":0},{"$f":"SUM(問題別集計③!J191:J192)","v":0},{"$f":"SUM(問題別集計③!K191:K192)","v":0},{"$f":"SUM(問題別集計③!L191:L192)","v":0},{"$f":"SUM(問題別集計③!M191:M192)","v":0},{"$f":"SUM(問題別集計③!N191:N192)","v":0},{"$f":"SUM(問題別集計③!O191:O192)","v":0},{"$f":"SUM(問題別集計③!P191:P192)","v":0},{"$f":"SUM(問題別集計③!Q191:Q192)","v":0},{"$f":"SUM(問題別集計③!R191:R192)","v":0},{"$f":"SUM(問題別集計③!S191:S192)","v":0},{"$f":"SUM(問題別集計③!T191:T192)","v":0},{"$f":"ROUND(AI232/AI237,3)*100","v":{"$error":"#DIV/0!"}},{"$error":"#DIV/0!"},{"$error":"#DIV/0!"},{"$error":"#DIV/0!"},{"$error":"#DIV/0!"},{"$error":"#DIV/0!"},{"$error":"#DIV/0!"},{"$error":"#DIV/0!"},{"$error":"#DIV/0!"},{"$error":"#DIV/0!"},{"$error":"#DIV/0!"},{"$error":"#DIV/0!"},{"$error":"#DIV/0!"},{"$error":"#DIV/0!"},{"$f":"SUM(問題別集計②!G191:G192)","v":0},{"$f":"SUM(問題別集計②!H191:H192)","v":0},{"$f":"SUM(問題別集計②!I191:I192)","v":0},{"$f":"SUM(問題別集計②!J191:J192)","v":0},{"$f":"SUM(問題別集計②!K191:K192)","v":0},{"$f":"SUM(問題別集計②!L191:L192)","v":0},{"$f":"SUM(問題別集計②!M191:M192)","v":0},{"$f":"SUM(問題別集計②!N191:N192)","v":0},{"$f":"SUM(問題別集計②!O191:O192)","v":0},{"$f":"SUM(問題別集計②!P191:P192)","v":0},{"$f":"SUM(問題別集計②!Q191:Q192)","v":0},{"$f":"SUM(問題別集計②!R191:R192)","v":0},{"$f":"SUM(問題別集計②!S191:S192)","v":0},{"$f":"SUM(問題別集計②!T191:T192)","v":0},{"$f":"ROUND(BK232/BK237,3)*100","v":{"$error":"#DIV/0!"}},{"$error":"#DIV/0!"},{"$error":"#DIV/0!"},{"$error":"#DIV/0!"},{"$error":"#DIV/0!"},{"$error":"#DIV/0!"},{"$error":"#DIV/0!"},{"$error":"#DIV/0!"},{"$error":"#DIV/0!"},{"$error":"#DIV/0!"},{"$error":"#DIV/0!"},{"$error":"#DIV/0!"},{"$error":"#DIV/0!"},{"$error":"#DIV/0!"}]
[null,null,null,2,"まれにある",2,null,null,null,null,null,null,null,null,null,null,null,null,null,null,{"$f":"ROUND(G233/G$72,4)*100","v":{"$error":"#DIV/0!"}},{"$f":"ROUND(H233/H$72,4)*100","v":{"$error":"#DIV/0!"}},{"$f":"ROUND(I233/I$72,4)*100","v":{"$error":"#DIV/0!"}},{"$f":"ROUND(J233/J$72,4)*100","v":{"$error":"#DIV/0!"}},{"$f":"ROUND(K233/K$72,4)*100","v":{"$error":"#DIV/0!"}},{"$f":"ROUND(L233/L$72,4)*100","v":{"$error":"#DIV/0!"}},{"$f":"ROUND(M233/M$72,4)*100","v":{"$error":"#DIV/0!"}},{"$f":"ROUND(N233/N$72,4)*100","v":{"$error":"#DIV/0!"}},{"$f":"ROUND(O233/O$72,4)*100","v":{"$error":"#DIV/0!"}},{"$f":"ROUND(P233/P$72,4)*100","v":{"$error":"#DIV/0!"}},{"$f":"ROUND(Q233/Q$72,4)*100","v":{"$error":"#DIV/0!"}},{"$f":"ROUND(R233/R$72,4)*100","v":{"$error":"#DIV/0!"}},{"$f":"ROUND(S233/S$72,4)*100","v":{"$error":"#DIV/0!"}},{"$f":"ROUND(T233/T$72,4)*100","v":{"$error":"#DIV/0!"}},null,null,null,null,null,null,null,null,null,null,null,null,null,null,{"$f":"ROUND(AI233/AI$72,4)*100","v":{"$error":"#DIV/0!"}},{"$f":"ROUND(AJ233/AJ$72,4)*100","v":{"$error":"#DIV/0!"}},{"$f":"ROUND(AK233/AK$72,4)*100","v":{"$error":"#DIV/0!"}},{"$f":"ROUND(AL233/AL$72,4)*100","v":{"$error":"#DIV/0!"}},{"$f":"ROUND(AM233/AM$72,4)*100","v":{"$error":"#DIV/0!"}},{"$f":"ROUND(AN233/AN$72,4)*100","v":{"$error":"#DIV/0!"}},{"$f":"ROUND(AO233/AO$72,4)*100","v":{"$error":"#DIV/0!"}},{"$f":"ROUND(AP233/AP$72,4)*100","v":{"$error":"#DIV/0!"}},{"$f":"ROUND(AQ233/AQ$72,4)*100","v":{"$error":"#DIV/0!"}},{"$f":"ROUND(AR233/AR$72,4)*100","v":{"$error":"#DIV/0!"}},{"$f":"ROUND(AS233/AS$72,4)*100","v":{"$error":"#DIV/0!"}},{"$f":"ROUND(AT233/AT$72,4)*100","v":{"$error":"#DIV/0!"}},{"$f":"ROUND(AU233/AU$72,4)*100","v":{"$error":"#DIV/0!"}},{"$f":"ROUND(AV233/AV$72,4)*100","v":{"$error":"#DIV/0!"}},null,null,null,null,null,null,null,null,null,null,null,null,null,null,{"$f":"ROUND(BK233/BK$72,4)*100","v":{"$error":"#DIV/0!"}},{"$f":"ROUND(BL233/BL$72,4)*100","v":{"$error":"#DIV/0!"}},{"$f":"ROUND(BM233/BM$72,4)*100","v":{"$error":"#DIV/0!"}},{"$f":"ROUND(BN233/BN$72,4)*100","v":{"$error":"#DIV/0!"}},{"$f":"ROUND(BO233/BO$72,4)*100","v":{"$error":"#DIV/0!"}},{"$f":"ROUND(BP233/BP$72,4)*100","v":{"$error":"#DIV/0!"}},{"$f":"ROUND(BQ233/BQ$72,4)*100","v":{"$error":"#DIV/0!"}},{"$f":"ROUND(BR233/BR$72,4)*100","v":{"$error":"#DIV/0!"}},{"$f":"ROUND(BS233/BS$72,4)*100","v":{"$error":"#DIV/0!"}},{"$f":"ROUND(BT233/BT$72,4)*100","v":{"$error":"#DIV/0!"}},{"$f":"ROUND(BU233/BU$72,4)*100","v":{"$error":"#DIV/0!"}},{"$f":"ROUND(BV233/BV$72,4)*100","v":{"$error":"#DIV/0!"}},{"$f":"ROUND(BW233/BW$72,4)*100","v":{"$error":"#DIV/0!"}},{"$f":"ROUND(BX233/BX$72,4)*100","v":{"$error":"#DIV/0!"}}]
[null,null,null,3,"時々ある",3,{"$f":"SUM(問題別集計!G193:G195)","v":0},{"$f":"SUM(問題別集計!H193:H195)","v":0},{"$f":"SUM(問題別集計!I193:I195)","v":0},{"$f":"SUM(問題別集計!J193:J195)","v":0},{"$f":"SUM(問題別集計!K193:K195)","v":0},{"$f":"SUM(問題別集計!L193:L195)","v":0},{"$f":"SUM(問題別集計!M193:M195)","v":0},{"$f":"SUM(問題別集計!N193:N195)","v":0},{"$f":"SUM(問題別集計!O193:O195)","v":0},{"$f":"SUM(問題別集計!P193:P195)","v":0},{"$f":"SUM(問題別集計!Q193:Q195)","v":0},{"$f":"SUM(問題別集計!R193:R195)","v":0},{"$f":"SUM(問題別集計!S193:S195)","v":0},{"$f":"SUM(問題別集計!T193:T195)","v":0},{"$f":"ROUND(G234/G237,3)*100","v":{"$error":"#DIV/0!"}},{"$error":"#DIV/0!"},{"$error":"#DIV/0!"},{"$error":"#DIV/0!"},{"$error":"#DIV/0!"},{"$error":"#DIV/0!"},{"$error":"#DIV/0!"},{"$error":"#DIV/0!"},{"$error":"#DIV/0!"},{"$error":"#DIV/0!"},{"$error":"#DIV/0!"},{"$error":"#DIV/0!"},{"$error":"#DIV/0!"},{"$error":"#DIV/0!"},{"$f":"SUM(問題別集計③!G193:G195)","v":0},{"$f":"SUM(問題別集計③!H193:H195)","v":0},{"$f":"SUM(問題別集計③!I193:I195)","v":0},{"$f":"SUM(問題別集計③!J193:J195)","v":0},{"$f":"SUM(問題別集計③!K193:K195)","v":0},{"$f":"SUM(問題別集計③!L193:L195)","v":0},{"$f":"SUM(問題別集計③!M193:M195)","v":0},{"$f":"SUM(問題別集計③!N193:N195)","v":0},{"$f":"SUM(問題別集計③!O193:O195)","v":0},{"$f":"SUM(問題別集計③!P193:P195)","v":0},{"$f":"SUM(問題別集計③!Q193:Q195)","v":0},{"$f":"SUM(問題別集計③!R193:R195)","v":0},{"$f":"SUM(問題別集計③!S193:S195)","v":0},{"$f":"SUM(問題別集計③!T193:T195)","v":0},{"$f":"ROUND(AI234/AI237,3)*100","v":{"$error":"#DIV/0!"}},{"$error":"#DIV/0!"},{"$error":"#DIV/0!"},{"$error":"#DIV/0!"},{"$error":"#DIV/0!"},{"$error":"#DIV/0!"},{"$error":"#DIV/0!"},{"$error":"#DIV/0!"},{"$error":"#DIV/0!"},{"$error":"#DIV/0!"},{"$error":"#DIV/0!"},{"$error":"#DIV/0!"},{"$error":"#DIV/0!"},{"$error":"#DIV/0!"},{"$f":"SUM(問題別集計②!G193:G195)","v":0},{"$f":"SUM(問題別集計②!H193:H195)","v":0},{"$f":"SUM(問題別集計②!I193:I195)","v":0},{"$f":"SUM(問題別集計②!J193:J195)","v":0},{"$f":"SUM(問題別集計②!K193:K195)","v":0},{"$f":"SUM(問題別集計②!L193:L195)","v":0},{"$f":"SUM(問題別集計②!M193:M195)","v":0},{"$f":"SUM(問題別集計②!N193:N195)","v":0},{"$f":"SUM(問題別集計②!O193:O195)","v":0},{"$f":"SUM(問題別集計②!P193:P195)","v":0},{"$f":"SUM(問題別集計②!Q193:Q195)","v":0},{"$f":"SUM(問題別集計②!R193:R195)","v":0},{"$f":"SUM(問題別集計②!S193:S195)","v":0},{"$f":"SUM(問題別集計②!T193:T195)","v":0},{"$f":"ROUND(BK234/BK237,3)*100","v":{"$error":"#DIV/0!"}},{"$error":"#DIV/0!"},{"$error":"#DIV/0!"},{"$error":"#DIV/0!"},{"$error":"#DIV/0!"},{"$error":"#DIV/0!"},{"$error":"#DIV/0!"},{"$error":"#DIV/0!"},{"$error":"#DIV/0!"},{"$error":"#DIV/0!"},{"$error":"#DIV/0!"},{"$error":"#DIV/0!"},{"$error":"#DIV/0!"},{"$error":"#DIV/0!"}]
[null,null,null,4,"よくある",4]
[null,null,null,5,"いつもある",5]
[null,null,null,"計",null,null,{"$f":"SUM(G232:G236)","v":0},{"$f":"SUM(H232:H236)","v":0},{"$f":"SUM(I232:I236)","v":0},{"$f":"SUM(J232:J236)","v":0},{"$f":"SUM(K232:K236)","v":0},{"$f":"SUM(L232:L236)","v":0},{"$f":"SUM(M232:M236)","v":0},{"$f":"SUM(N232:N236)","v":0},{"$f":"SUM(O232:O236)","v":0},{"$f":"SUM(P232:P236)","v":0},{"$f":"SUM(Q232:Q236)","v":0},{"$f":"SUM(R232:R236)","v":0},{"$f":"SUM(S232:S236)","v":0},{"$f":"SUM(T232:T236)","v":0},{"$f":"SUM(U232:U236)","v":{"$error":"#DIV/0!"}},{"$f":"SUM(V232:V236)","v":{"$error":"#DIV/0!"}},{"$f":"SUM(W232:W236)","v":{"$error":"#DIV/0!"}},{"$f":"SUM(X232:X236)","v":{"$error":"#DIV/0!"}},{"$f":"SUM(Y232:Y236)","v":{"$error":"#DIV/0!"}},{"$f":"SUM(Z232:Z236)","v":{"$error":"#DIV/0!"}},{"$f":"SUM(AA232:AA236)","v":{"$error":"#DIV/0!"}},{"$f":"SUM(AB232:AB236)","v":{"$error":"#DIV/0!"}},{"$f":"SUM(AC232:AC236)","v":{"$error":"#DIV/0!"}},{"$f":"SUM(AD232:AD236)","v":{"$error":"#DIV/0!"}},{"$f":"SUM(AE232:AE236)","v":{"$error":"#DIV/0!"}},{"$f":"SUM(AF232:AF236)","v":{"$error":"#DIV/0!"}},{"$f":"SUM(AG232:AG236)","v":{"$error":"#DIV/0!"}},{"$f":"SUM(AH232:AH236)","v":{"$error":"#DIV/0!"}},{"$f":"SUM(AI232:AI236)","v":0},{"$f":"SUM(AJ232:AJ236)","v":0},{"$f":"SUM(AK232:AK236)","v":0},{"$f":"SUM(AL232:AL236)","v":0},{"$f":"SUM(AM232:AM236)","v":0},{"$f":"SUM(AN232:AN236)","v":0},{"$f":"SUM(AO232:AO236)","v":0},{"$f":"SUM(AP232:AP236)","v":0},{"$f":"SUM(AQ232:AQ236)","v":0},{"$f":"SUM(AR232:AR236)","v":0},{"$f":"SUM(AS232:AS236)","v":0},{"$f":"SUM(AT232:AT236)","v":0},{"$f":"SUM(AU232:AU236)","v":0},{"$f":"SUM(AV232:AV236)","v":0},{"$error":"#DIV/0!"},{"$error":"#DIV/0!"},{"$error":"#DIV/0!"},{"$error":"#DIV/0!"},{"$error":"#DIV/0!"},{"$error":"#DIV/0!"},{"$f":"SUM(BC232:BC236)","v":{"$error":"#DIV/0!"}},{"$f":"SUM(BD232:BD236)","v":{"$error":"#DIV/0!"}},{"$error":"#DIV/0!"},{"$error":"#DIV/0!"},{"$error":"#DIV/0!"},{"$error":"#DIV/0!"},{"$error":"#DIV/0!"},{"$f":"SUM(BJ232:BJ236)","v":{"$error":"#DIV/0!"}},{"$f":"SUM(BK232:BK236)","v":0},{"$f":"SUM(BL232:BL236)","v":0},{"$f":"SUM(BM232:BM236)","v":0},{"$f":"SUM(BN232:BN236)","v":0},{"$f":"SUM(BO232:BO236)","v":0},{"$f":"SUM(BP232:BP236)","v":0},{"$f":"SUM(BQ232:BQ236)","v":0},{"$f":"SUM(BR232:BR236)","v":0},{"$f":"SUM(BS232:BS236)","v":0},{"$f":"SUM(BT232:BT236)","v":0},{"$f":"SUM(BU232:BU236)","v":0},{"$f":"SUM(BV232:BV236)","v":0},{"$f":"SUM(BW232:BW236)","v":0},{"$f":"SUM(BX232:BX236)","v":0},{"$error":"#DIV/0!"},{"$error":"#DIV/0!"},{"$error":"#DIV/0!"},{"$error":"#DIV/0!"},{"$error":"#DIV/0!"},{"$error":"#DIV/0!"},{"$f":"SUM(CE232:CE236)","v":{"$error":"#DIV/0!"}},{"$f":"SUM(CF232:CF236)","v":{"$error":"#DIV/0!"}},{"$error":"#DIV/0!"},{"$error":"#DIV/0!"},{"$error":"#DIV/0!"},{"$error":"#DIV/0!"},{"$error":"#DIV/0!"},{"$f":"SUM(CL232:CL236)","v":{"$error":"#DIV/0!"}}]
[null,"42\n(43)","インターネットをしているとき「あと数分だけ」と言っている自分に気がつくことがありますか？",1,"全くない",1,{"$f":"SUM(問題別集計!G196:G197)","v":0},{"$f":"SUM(問題別集計!H196:H197)","v":0},{"$f":"SUM(問題別集計!I196:I197)","v":0},{"$f":"SUM(問題別集計!J196:J197)","v":0},{"$f":"SUM(問題別集計!K196:K197)","v":0},{"$f":"SUM(問題別集計!L196:L197)","v":0},{"$f":"SUM(問題別集計!M196:M197)","v":0},{"$f":"SUM(問題別集計!N196:N197)","v":0},{"$f":"SUM(問題別集計!O196:O197)","v":0},{"$f":"SUM(問題別集計!P196:P197)","v":0},{"$f":"SUM(問題別集計!Q196:Q197)","v":0},{"$f":"SUM(問題別集計!R196:R197)","v":0},{"$f":"SUM(問題別集計!S196:S197)","v":0},{"$f":"SUM(問題別集計!T196:T197)","v":0},{"$f":"ROUND(G238/G243,3)*100","v":{"$error":"#DIV/0!"}},{"$error":"#DIV/0!"},{"$error":"#DIV/0!"},{"$error":"#DIV/0!"},{"$error":"#DIV/0!"},{"$error":"#DIV/0!"},{"$error":"#DIV/0!"},{"$error":"#DIV/0!"},{"$error":"#DIV/0!"},{"$error":"#DIV/0!"},{"$error":"#DIV/0!"},{"$error":"#DIV/0!"},{"$error":"#DIV/0!"},{"$error":"#DIV/0!"},{"$f":"SUM(問題別集計③!G196:G197)","v":0},{"$f":"SUM(問題別集計③!H196:H197)","v":0},{"$f":"SUM(問題別集計③!I196:I197)","v":0},{"$f":"SUM(問題別集計③!J196:J197)","v":0},{"$f":"SUM(問題別集計③!K196:K197)","v":0},{"$f":"SUM(問題別集計③!L196:L197)","v":0},{"$f":"SUM(問題別集計③!M196:M197)","v":0},{"$f":"SUM(問題別集計③!N196:N197)","v":0},{"$f":"SUM(問題別集計③!O196:O197)","v":0},{"$f":"SUM(問題別集計③!P196:P197)","v":0},{"$f":"SUM(問題別集計③!Q196:Q197)","v":0},{"$f":"SUM(問題別集計③!R196:R197)","v":0},{"$f":"SUM(問題別集計③!S196:S197)","v":0},{"$f":"SUM(問題別集計③!T196:T197)","v":0},{"$f":"ROUND(AI238/AI243,3)*100","v":{"$error":"#DIV/0!"}},{"$error":"#DIV/0!"},{"$error":"#DIV/0!"},{"$error":"#DIV/0!"},{"$error":"#DIV/0!"},{"$error":"#DIV/0!"},{"$error":"#DIV/0!"},{"$error":"#DIV/0!"},{"$error":"#DIV/0!"},{"$error":"#DIV/0!"},{"$error":"#DIV/0!"},{"$error":"#DIV/0!"},{"$error":"#DIV/0!"},{"$error":"#DIV/0!"},{"$f":"SUM(問題別集計②!G196:G197)","v":0},{"$f":"SUM(問題別集計②!H196:H197)","v":0},{"$f":"SUM(問題別集計②!I196:I197)","v":0},{"$f":"SUM(問題別集計②!J196:J197)","v":0},{"$f":"SUM(問題別集計②!K196:K197)","v":0},{"$f":"SUM(問題別集計②!L196:L197)","v":0},{"$f":"SUM(問題別集計②!M196:M197)","v":0},{"$f":"SUM(問題別集計②!N196:N197)","v":0},{"$f":"SUM(問題別集計②!O196:O197)","v":0},{"$f":"SUM(問題別集計②!P196:P197)","v":0},{"$f":"SUM(問題別集計②!Q196:Q197)","v":0},{"$f":"SUM(問題別集計②!R196:R197)","v":0},{"$f":"SUM(問題別集計②!S196:S197)","v":0},{"$f":"SUM(問題別集計②!T196:T197)","v":0},{"$f":"ROUND(BK238/BK243,3)*100","v":{"$error":"#DIV/0!"}},{"$error":"#DIV/0!"},{"$error":"#DIV/0!"},{"$error":"#DIV/0!"},{"$error":"#DIV/0!"},{"$error":"#DIV/0!"},{"$error":"#DIV/0!"},{"$error":"#DIV/0!"},{"$error":"#DIV/0!"},{"$error":"#DIV/0!"},{"$error":"#DIV/0!"},{"$error":"#DIV/0!"},{"$error":"#DIV/0!"},{"$error":"#DIV/0!"}]
[null,null,null,2,"まれにある",2,null,null,null,null,null,null,null,null,null,null,null,null,null,null,{"$f":"ROUND(G239/G$72,4)*100","v":{"$error":"#DIV/0!"}},{"$f":"ROUND(H239/H$72,4)*100","v":{"$error":"#DIV/0!"}},{"$f":"ROUND(I239/I$72,4)*100","v":{"$error":"#DIV/0!"}},{"$f":"ROUND(J239/J$72,4)*100","v":{"$error":"#DIV/0!"}},{"$f":"ROUND(K239/K$72,4)*100","v":{"$error":"#DIV/0!"}},{"$f":"ROUND(L239/L$72,4)*100","v":{"$error":"#DIV/0!"}},{"$f":"ROUND(M239/M$72,4)*100","v":{"$error":"#DIV/0!"}},{"$f":"ROUND(N239/N$72,4)*100","v":{"$error":"#DIV/0!"}},{"$f":"ROUND(O239/O$72,4)*100","v":{"$error":"#DIV/0!"}},{"$f":"ROUND(P239/P$72,4)*100","v":{"$error":"#DIV/0!"}},{"$f":"ROUND(Q239/Q$72,4)*100","v":{"$error":"#DIV/0!"}},{"$f":"ROUND(R239/R$72,4)*100","v":{"$error":"#DIV/0!"}},{"$f":"ROUND(S239/S$72,4)*100","v":{"$error":"#DIV/0!"}},{"$f":"ROUND(T239/T$72,4)*100","v":{"$error":"#DIV/0!"}},null,null,null,null,null,null,null,null,null,null,null,null,null,null,{"$f":"ROUND(AI239/AI$72,4)*100","v":{"$error":"#DIV/0!"}},{"$f":"ROUND(AJ239/AJ$72,4)*100","v":{"$error":"#DIV/0!"}},{"$f":"ROUND(AK239/AK$72,4)*100","v":{"$error":"#DIV/0!"}},{"$f":"ROUND(AL239/AL$72,4)*100","v":{"$error":"#DIV/0!"}},{"$f":"ROUND(AM239/AM$72,4)*100","v":{"$error":"#DIV/0!"}},{"$f":"ROUND(AN239/AN$72,4)*100","v":{"$error":"#DIV/0!"}},{"$f":"ROUND(AO239/AO$72,4)*100","v":{"$error":"#DIV/0!"}},{"$f":"ROUND(AP239/AP$72,4)*100","v":{"$error":"#DIV/0!"}},{"$f":"ROUND(AQ239/AQ$72,4)*100","v":{"$error":"#DIV/0!"}},{"$f":"ROUND(AR239/AR$72,4)*100","v":{"$error":"#DIV/0!"}},{"$f":"ROUND(AS239/AS$72,4)*100","v":{"$error":"#DIV/0!"}},{"$f":"ROUND(AT239/AT$72,4)*100","v":{"$error":"#DIV/0!"}},{"$f":"ROUND(AU239/AU$72,4)*100","v":{"$error":"#DIV/0!"}},{"$f":"ROUND(AV239/AV$72,4)*100","v":{"$error":"#DIV/0!"}},null,null,null,null,null,null,null,null,null,null,null,null,null,null,{"$f":"ROUND(BK239/BK$72,4)*100","v":{"$error":"#DIV/0!"}},{"$f":"ROUND(BL239/BL$72,4)*100","v":{"$error":"#DIV/0!"}},{"$f":"ROUND(BM239/BM$72,4)*100","v":{"$error":"#DIV/0!"}},{"$f":"ROUND(BN239/BN$72,4)*100","v":{"$error":"#DIV/0!"}},{"$f":"ROUND(BO239/BO$72,4)*100","v":{"$error":"#DIV/0!"}},{"$f":"ROUND(BP239/BP$72,4)*100","v":{"$error":"#DIV/0!"}},{"$f":"ROUND(BQ239/BQ$72,4)*100","v":{"$error":"#DIV/0!"}},{"$f":"ROUND(BR239/BR$72,4)*100","v":{"$error":"#DIV/0!"}},{"$f":"ROUND(BS239/BS$72,4)*100","v":{"$error":"#DIV/0!"}},{"$f":"ROUND(BT239/BT$72,4)*100","v":{"$error":"#DIV/0!"}},{"$f":"ROUND(BU239/BU$72,4)*100","v":{"$error":"#DIV/0!"}},{"$f":"ROUND(BV239/BV$72,4)*100","v":{"$error":"#DIV/0!"}},{"$f":"ROUND(BW239/BW$72,4)*100","v":{"$error":"#DIV/0!"}},{"$f":"ROUND(BX239/BX$72,4)*100","v":{"$error":"#DIV/0!"}}]
[null,null,null,3,"時々ある",3,{"$f":"SUM(問題別集計!G198:G200)","v":0},{"$f":"SUM(問題別集計!H198:H200)","v":0},{"$f":"SUM(問題別集計!I198:I200)","v":0},{"$f":"SUM(問題別集計!J198:J200)","v":0},{"$f":"SUM(問題別集計!K198:K200)","v":0},{"$f":"SUM(問題別集計!L198:L200)","v":0},{"$f":"SUM(問題別集計!M198:M200)","v":0},{"$f":"SUM(問題別集計!N198:N200)","v":0},{"$f":"SUM(問題別集計!O198:O200)","v":0},{"$f":"SUM(問題別集計!P198:P200)","v":0},{"$f":"SUM(問題別集計!Q198:Q200)","v":0},{"$f":"SUM(問題別集計!R198:R200)","v":0},{"$f":"SUM(問題別集計!S198:S200)","v":0},{"$f":"SUM(問題別集計!T198:T200)","v":0},{"$f":"ROUND(G240/G243,3)*100","v":{"$error":"#DIV/0!"}},{"$error":"#DIV/0!"},{"$error":"#DIV/0!"},{"$error":"#DIV/0!"},{"$error":"#DIV/0!"},{"$error":"#DIV/0!"},{"$error":"#DIV/0!"},{"$error":"#DIV/0!"},{"$error":"#DIV/0!"},{"$error":"#DIV/0!"},{"$error":"#DIV/0!"},{"$error":"#DIV/0!"},{"$error":"#DIV/0!"},{"$error":"#DIV/0!"},{"$f":"SUM(問題別集計③!G198:G200)","v":0},{"$f":"SUM(問題別集計③!H198:H200)","v":0},{"$f":"SUM(問題別集計③!I198:I200)","v":0},{"$f":"SUM(問題別集計③!J198:J200)","v":0},{"$f":"SUM(問題別集計③!K198:K200)","v":0},{"$f":"SUM(問題別集計③!L198:L200)","v":0},{"$f":"SUM(問題別集計③!M198:M200)","v":0},{"$f":"SUM(問題別集計③!N198:N200)","v":0},{"$f":"SUM(問題別集計③!O198:O200)","v":0},{"$f":"SUM(問題別集計③!P198:P200)","v":0},{"$f":"SUM(問題別集計③!Q198:Q200)","v":0},{"$f":"SUM(問題別集計③!R198:R200)","v":0},{"$f":"SUM(問題別集計③!S198:S200)","v":0},{"$f":"SUM(問題別集計③!T198:T200)","v":0},{"$f":"ROUND(AI240/AI243,3)*100","v":{"$error":"#DIV/0!"}},{"$error":"#DIV/0!"},{"$error":"#DIV/0!"},{"$error":"#DIV/0!"},{"$error":"#DIV/0!"},{"$error":"#DIV/0!"},{"$error":"#DIV/0!"},{"$error":"#DIV/0!"},{"$error":"#DIV/0!"},{"$error":"#DIV/0!"},{"$error":"#DIV/0!"},{"$error":"#DIV/0!"},{"$error":"#DIV/0!"},{"$error":"#DIV/0!"},{"$f":"SUM(問題別集計②!G198:G200)","v":0},{"$f":"SUM(問題別集計②!H198:H200)","v":0},{"$f":"SUM(問題別集計②!I198:I200)","v":0},{"$f":"SUM(問題別集計②!J198:J200)","v":0},{"$f":"SUM(問題別集計②!K198:K200)","v":0},{"$f":"SUM(問題別集計②!L198:L200)","v":0},{"$f":"SUM(問題別集計②!M198:M200)","v":0},{"$f":"SUM(問題別集計②!N198:N200)","v":0},{"$f":"SUM(問題別集計②!O198:O200)","v":0},{"$f":"SUM(問題別集計②!P198:P200)","v":0},{"$f":"SUM(問題別集計②!Q198:Q200)","v":0},{"$f":"SUM(問題別集計②!R198:R200)","v":0},{"$f":"SUM(問題別集計②!S198:S200)","v":0},{"$f":"SUM(問題別集計②!T198:T200)","v":0},{"$f":"ROUND(BK240/BK243,3)*100","v":{"$error":"#DIV/0!"}},{"$error":"#DIV/0!"},{"$error":"#DIV/0!"},{"$error":"#DIV/0!"},{"$error":"#DIV/0!"},{"$error":"#DIV/0!"},{"$error":"#DIV/0!"},{"$error":"#DIV/0!"},{"$error":"#DIV/0!"},{"$error":"#DIV/0!"},{"$error":"#DIV/0!"},{"$error":"#DIV/0!"},{"$error":"#DIV/0!"},{"$error":"#DIV/0!"}]
[null,null,null,4,"よくある",4]
[null,null,null,5,"いつもある",5]
[null,null,null,"計",null,null,{"$f":"SUM(G238:G242)","v":0},{"$f":"SUM(H238:H242)","v":0},{"$f":"SUM(I238:I242)","v":0},{"$f":"SUM(J238:J242)","v":0},{"$f":"SUM(K238:K242)","v":0},{"$f":"SUM(L238:L242)","v":0},{"$f":"SUM(M238:M242)","v":0},{"$f":"SUM(N238:N242)","v":0},{"$f":"SUM(O238:O242)","v":0},{"$f":"SUM(P238:P242)","v":0},{"$f":"SUM(Q238:Q242)","v":0},{"$f":"SUM(R238:R242)","v":0},{"$f":"SUM(S238:S242)","v":0},{"$f":"SUM(T238:T242)","v":0},{"$f":"SUM(U238:U242)","v":{"$error":"#DIV/0!"}},{"$f":"SUM(V238:V242)","v":{"$error":"#DIV/0!"}},{"$f":"SUM(W238:W242)","v":{"$error":"#DIV/0!"}},{"$f":"SUM(X238:X242)","v":{"$error":"#DIV/0!"}},{"$f":"SUM(Y238:Y242)","v":{"$error":"#DIV/0!"}},{"$f":"SUM(Z238:Z242)","v":{"$error":"#DIV/0!"}},{"$f":"SUM(AA238:AA242)","v":{"$error":"#DIV/0!"}},{"$f":"SUM(AB238:AB242)","v":{"$error":"#DIV/0!"}},{"$f":"SUM(AC238:AC242)","v":{"$error":"#DIV/0!"}},{"$f":"SUM(AD238:AD242)","v":{"$error":"#DIV/0!"}},{"$f":"SUM(AE238:AE242)","v":{"$error":"#DIV/0!"}},{"$f":"SUM(AF238:AF242)","v":{"$error":"#DIV/0!"}},{"$f":"SUM(AG238:AG242)","v":{"$error":"#DIV/0!"}},{"$f":"SUM(AH238:AH242)","v":{"$error":"#DIV/0!"}},{"$f":"SUM(AI238:AI242)","v":0},{"$f":"SUM(AJ238:AJ242)","v":0},{"$f":"SUM(AK238:AK242)","v":0},{"$f":"SUM(AL238:AL242)","v":0},{"$f":"SUM(AM238:AM242)","v":0},{"$f":"SUM(AN238:AN242)","v":0},{"$f":"SUM(AO238:AO242)","v":0},{"$f":"SUM(AP238:AP242)","v":0},{"$f":"SUM(AQ238:AQ242)","v":0},{"$f":"SUM(AR238:AR242)","v":0},{"$f":"SUM(AS238:AS242)","v":0},{"$f":"SUM(AT238:AT242)","v":0},{"$f":"SUM(AU238:AU242)","v":0},{"$f":"SUM(AV238:AV242)","v":0},{"$error":"#DIV/0!"},{"$error":"#DIV/0!"},{"$error":"#DIV/0!"},{"$error":"#DIV/0!"},{"$error":"#DIV/0!"},{"$error":"#DIV/0!"},{"$f":"SUM(BC238:BC242)","v":{"$error":"#DIV/0!"}},{"$f":"SUM(BD238:BD242)","v":{"$error":"#DIV/0!"}},{"$error":"#DIV/0!"},{"$error":"#DIV/0!"},{"$error":"#DIV/0!"},{"$error":"#DIV/0!"},{"$error":"#DIV/0!"},{"$f":"SUM(BJ238:BJ242)","v":{"$error":"#DIV/0!"}},{"$f":"SUM(BK238:BK242)","v":0},{"$f":"SUM(BL238:BL242)","v":0},{"$f":"SUM(BM238:BM242)","v":0},{"$f":"SUM(BN238:BN242)","v":0},{"$f":"SUM(BO238:BO242)","v":0},{"$f":"SUM(BP238:BP242)","v":0},{"$f":"SUM(BQ238:BQ242)","v":0},{"$f":"SUM(BR238:BR242)","v":0},{"$f":"SUM(BS238:BS242)","v":0},{"$f":"SUM(BT238:BT242)","v":0},{"$f":"SUM(BU238:BU242)","v":0},{"$f":"SUM(BV238:BV242)","v":0},{"$f":"SUM(BW238:BW242)","v":0},{"$f":"SUM(BX238:BX242)","v":0},{"$error":"#DIV/0!"},{"$error":"#DIV/0!"},{"$error":"#DIV/0!"},{"$error":"#DIV/0!"},{"$error":"#DIV/0!"},{"$error":"#DIV/0!"},{"$f":"SUM(CE238:CE242)","v":{"$error":"#DIV/0!"}},{"$f":"SUM(CF238:CF242)","v":{"$error":"#DIV/0!"}},{"$error":"#DIV/0!"},{"$error":"#DIV/0!"},{"$error":"#DIV/0!"},{"$error":"#DIV/0!"},{"$error":"#DIV/0!"},{"$f":"SUM(CL238:CL242)","v":{"$error":"#DIV/0!"}}]
[null,"43\n(44)","インターネットをする時間を減らそうとしても、できないことがありますか？",1,"全くない",1,{"$f":"SUM(問題別集計!G201:G202)","v":0},{"$f":"SUM(問題別集計!H201:H202)","v":0},{"$f":"SUM(問題別集計!I201:I202)","v":0},{"$f":"SUM(問題別集計!J201:J202)","v":0},{"$f":"SUM(問題別集計!K201:K202)","v":0},{"$f":"SUM(問題別集計!L201:L202)","v":0},{"$f":"SUM(問題別集計!M201:M202)","v":0},{"$f":"SUM(問題別集計!N201:N202)","v":0},{"$f":"SUM(問題別集計!O201:O202)","v":0},{"$f":"SUM(問題別集計!P201:P202)","v":0},{"$f":"SUM(問題別集計!Q201:Q202)","v":0},{"$f":"SUM(問題別集計!R201:R202)","v":0},{"$f":"SUM(問題別集計!S201:S202)","v":0},{"$f":"SUM(問題別集計!T201:T202)","v":0},{"$f":"ROUND(G244/G249,3)*100","v":{"$error":"#DIV/0!"}},{"$error":"#DIV/0!"},{"$error":"#DIV/0!"},{"$error":"#DIV/0!"},{"$error":"#DIV/0!"},{"$error":"#DIV/0!"},{"$error":"#DIV/0!"},{"$error":"#DIV/0!"},{"$error":"#DIV/0!"},{"$error":"#DIV/0!"},{"$error":"#DIV/0!"},{"$error":"#DIV/0!"},{"$error":"#DIV/0!"},{"$error":"#DIV/0!"},{"$f":"SUM(問題別集計③!G201:G202)","v":0},{"$f":"SUM(問題別集計③!H201:H202)","v":0},{"$f":"SUM(問題別集計③!I201:I202)","v":0},{"$f":"SUM(問題別集計③!J201:J202)","v":0},{"$f":"SUM(問題別集計③!K201:K202)","v":0},{"$f":"SUM(問題別集計③!L201:L202)","v":0},{"$f":"SUM(問題別集計③!M201:M202)","v":0},{"$f":"SUM(問題別集計③!N201:N202)","v":0},{"$f":"SUM(問題別集計③!O201:O202)","v":0},{"$f":"SUM(問題別集計③!P201:P202)","v":0},{"$f":"SUM(問題別集計③!Q201:Q202)","v":0},{"$f":"SUM(問題別集計③!R201:R202)","v":0},{"$f":"SUM(問題別集計③!S201:S202)","v":0},{"$f":"SUM(問題別集計③!T201:T202)","v":0},{"$f":"ROUND(AI244/AI249,3)*100","v":{"$error":"#DIV/0!"}},{"$error":"#DIV/0!"},{"$error":"#DIV/0!"},{"$error":"#DIV/0!"},{"$error":"#DIV/0!"},{"$error":"#DIV/0!"},{"$error":"#DIV/0!"},{"$error":"#DIV/0!"},{"$error":"#DIV/0!"},{"$error":"#DIV/0!"},{"$error":"#DIV/0!"},{"$error":"#DIV/0!"},{"$error":"#DIV/0!"},{"$error":"#DIV/0!"},{"$f":"SUM(問題別集計②!G201:G202)","v":0},{"$f":"SUM(問題別集計②!H201:H202)","v":0},{"$f":"SUM(問題別集計②!I201:I202)","v":0},{"$f":"SUM(問題別集計②!J201:J202)","v":0},{"$f":"SUM(問題別集計②!K201:K202)","v":0},{"$f":"SUM(問題別集計②!L201:L202)","v":0},{"$f":"SUM(問題別集計②!M201:M202)","v":0},{"$f":"SUM(問題別集計②!N201:N202)","v":0},{"$f":"SUM(問題別集計②!O201:O202)","v":0},{"$f":"SUM(問題別集計②!P201:P202)","v":0},{"$f":"SUM(問題別集計②!Q201:Q202)","v":0},{"$f":"SUM(問題別集計②!R201:R202)","v":0},{"$f":"SUM(問題別集計②!S201:S202)","v":0},{"$f":"SUM(問題別集計②!T201:T202)","v":0},{"$f":"ROUND(BK244/BK249,3)*100","v":{"$error":"#DIV/0!"}},{"$error":"#DIV/0!"},{"$error":"#DIV/0!"},{"$error":"#DIV/0!"},{"$error":"#DIV/0!"},{"$error":"#DIV/0!"},{"$error":"#DIV/0!"},{"$error":"#DIV/0!"},{"$error":"#DIV/0!"},{"$error":"#DIV/0!"},{"$error":"#DIV/0!"},{"$error":"#DIV/0!"},{"$error":"#DIV/0!"},{"$error":"#DIV/0!"}]
[null,null,null,2,"まれにある",2,null,null,null,null,null,null,null,null,null,null,null,null,null,null,{"$f":"ROUND(G245/G$72,4)*100","v":{"$error":"#DIV/0!"}},{"$f":"ROUND(H245/H$72,4)*100","v":{"$error":"#DIV/0!"}},{"$f":"ROUND(I245/I$72,4)*100","v":{"$error":"#DIV/0!"}},{"$f":"ROUND(J245/J$72,4)*100","v":{"$error":"#DIV/0!"}},{"$f":"ROUND(K245/K$72,4)*100","v":{"$error":"#DIV/0!"}},{"$f":"ROUND(L245/L$72,4)*100","v":{"$error":"#DIV/0!"}},{"$f":"ROUND(M245/M$72,4)*100","v":{"$error":"#DIV/0!"}},{"$f":"ROUND(N245/N$72,4)*100","v":{"$error":"#DIV/0!"}},{"$f":"ROUND(O245/O$72,4)*100","v":{"$error":"#DIV/0!"}},{"$f":"ROUND(P245/P$72,4)*100","v":{"$error":"#DIV/0!"}},{"$f":"ROUND(Q245/Q$72,4)*100","v":{"$error":"#DIV/0!"}},{"$f":"ROUND(R245/R$72,4)*100","v":{"$error":"#DIV/0!"}},{"$f":"ROUND(S245/S$72,4)*100","v":{"$error":"#DIV/0!"}},{"$f":"ROUND(T245/T$72,4)*100","v":{"$error":"#DIV/0!"}},null,null,null,null,null,null,null,null,null,null,null,null,null,null,{"$f":"ROUND(AI245/AI$72,4)*100","v":{"$error":"#DIV/0!"}},{"$f":"ROUND(AJ245/AJ$72,4)*100","v":{"$error":"#DIV/0!"}},{"$f":"ROUND(AK245/AK$72,4)*100","v":{"$error":"#DIV/0!"}},{"$f":"ROUND(AL245/AL$72,4)*100","v":{"$error":"#DIV/0!"}},{"$f":"ROUND(AM245/AM$72,4)*100","v":{"$error":"#DIV/0!"}},{"$f":"ROUND(AN245/AN$72,4)*100","v":{"$error":"#DIV/0!"}},{"$f":"ROUND(AO245/AO$72,4)*100","v":{"$error":"#DIV/0!"}},{"$f":"ROUND(AP245/AP$72,4)*100","v":{"$error":"#DIV/0!"}},{"$f":"ROUND(AQ245/AQ$72,4)*100","v":{"$error":"#DIV/0!"}},{"$f":"ROUND(AR245/AR$72,4)*100","v":{"$error":"#DIV/0!"}},{"$f":"ROUND(AS245/AS$72,4)*100","v":{"$error":"#DIV/0!"}},{"$f":"ROUND(AT245/AT$72,4)*100","v":{"$error":"#DIV/0!"}},{"$f":"ROUND(AU245/AU$72,4)*100","v":{"$error":"#DIV/0!"}},{"$f":"ROUND(AV245/AV$72,4)*100","v":{"$error":"#DIV/0!"}},null,null,null,null,null,null,null,null,null,null,null,null,null,null,{"$f":"ROUND(BK245/BK$72,4)*100","v":{"$error":"#DIV/0!"}},{"$f":"ROUND(BL245/BL$72,4)*100","v":{"$error":"#DIV/0!"}},{"$f":"ROUND(BM245/BM$72,4)*100","v":{"$error":"#DIV/0!"}},{"$f":"ROUND(BN245/BN$72,4)*100","v":{"$error":"#DIV/0!"}},{"$f":"ROUND(BO245/BO$72,4)*100","v":{"$error":"#DIV/0!"}},{"$f":"ROUND(BP245/BP$72,4)*100","v":{"$error":"#DIV/0!"}},{"$f":"ROUND(BQ245/BQ$72,4)*100","v":{"$error":"#DIV/0!"}},{"$f":"ROUND(BR245/BR$72,4)*100","v":{"$error":"#DIV/0!"}},{"$f":"ROUND(BS245/BS$72,4)*100","v":{"$error":"#DIV/0!"}},{"$f":"ROUND(BT245/BT$72,4)*100","v":{"$error":"#DIV/0!"}},{"$f":"ROUND(BU245/BU$72,4)*100","v":{"$error":"#DIV/0!"}},{"$f":"ROUND(BV245/BV$72,4)*100","v":{"$error":"#DIV/0!"}},{"$f":"ROUND(BW245/BW$72,4)*100","v":{"$error":"#DIV/0!"}},{"$f":"ROUND(BX245/BX$72,4)*100","v":{"$error":"#DIV/0!"}}]
[null,null,null,3,"時々ある",3,{"$f":"SUM(問題別集計!G203:G205)","v":0},{"$f":"SUM(問題別集計!H203:H205)","v":0},{"$f":"SUM(問題別集計!I203:I205)","v":0},{"$f":"SUM(問題別集計!J203:J205)","v":0},{"$f":"SUM(問題別集計!K203:K205)","v":0},{"$f":"SUM(問題別集計!L203:L205)","v":0},{"$f":"SUM(問題別集計!M203:M205)","v":0},{"$f":"SUM(問題別集計!N203:N205)","v":0},{"$f":"SUM(問題別集計!O203:O205)","v":0},{"$f":"SUM(問題別集計!P203:P205)","v":0},{"$f":"SUM(問題別集計!Q203:Q205)","v":0},{"$f":"SUM(問題別集計!R203:R205)","v":0},{"$f":"SUM(問題別集計!S203:S205)","v":0},{"$f":"SUM(問題別集計!T203:T205)","v":0},{"$f":"ROUND(G246/G249,3)*100","v":{"$error":"#DIV/0!"}},{"$error":"#DIV/0!"},{"$error":"#DIV/0!"},{"$error":"#DIV/0!"},{"$error":"#DIV/0!"},{"$error":"#DIV/0!"},{"$error":"#DIV/0!"},{"$error":"#DIV/0!"},{"$error":"#DIV/0!"},{"$error":"#DIV/0!"},{"$error":"#DIV/0!"},{"$error":"#DIV/0!"},{"$error":"#DIV/0!"},{"$error":"#DIV/0!"},{"$f":"SUM(問題別集計③!G203:G205)","v":0},{"$f":"SUM(問題別集計③!H203:H205)","v":0},{"$f":"SUM(問題別集計③!I203:I205)","v":0},{"$f":"SUM(問題別集計③!J203:J205)","v":0},{"$f":"SUM(問題別集計③!K203:K205)","v":0},{"$f":"SUM(問題別集計③!L203:L205)","v":0},{"$f":"SUM(問題別集計③!M203:M205)","v":0},{"$f":"SUM(問題別集計③!N203:N205)","v":0},{"$f":"SUM(問題別集計③!O203:O205)","v":0},{"$f":"SUM(問題別集計③!P203:P205)","v":0},{"$f":"SUM(問題別集計③!Q203:Q205)","v":0},{"$f":"SUM(問題別集計③!R203:R205)","v":0},{"$f":"SUM(問題別集計③!S203:S205)","v":0},{"$f":"SUM(問題別集計③!T203:T205)","v":0},{"$f":"ROUND(AI246/AI249,3)*100","v":{"$error":"#DIV/0!"}},{"$error":"#DIV/0!"},{"$error":"#DIV/0!"},{"$error":"#DIV/0!"},{"$error":"#DIV/0!"},{"$error":"#DIV/0!"},{"$error":"#DIV/0!"},{"$error":"#DIV/0!"},{"$error":"#DIV/0!"},{"$error":"#DIV/0!"},{"$error":"#DIV/0!"},{"$error":"#DIV/0!"},{"$error":"#DIV/0!"},{"$error":"#DIV/0!"},{"$f":"SUM(問題別集計②!G203:G205)","v":0},{"$f":"SUM(問題別集計②!H203:H205)","v":0},{"$f":"SUM(問題別集計②!I203:I205)","v":0},{"$f":"SUM(問題別集計②!J203:J205)","v":0},{"$f":"SUM(問題別集計②!K203:K205)","v":0},{"$f":"SUM(問題別集計②!L203:L205)","v":0},{"$f":"SUM(問題別集計②!M203:M205)","v":0},{"$f":"SUM(問題別集計②!N203:N205)","v":0},{"$f":"SUM(問題別集計②!O203:O205)","v":0},{"$f":"SUM(問題別集計②!P203:P205)","v":0},{"$f":"SUM(問題別集計②!Q203:Q205)","v":0},{"$f":"SUM(問題別集計②!R203:R205)","v":0},{"$f":"SUM(問題別集計②!S203:S205)","v":0},{"$f":"SUM(問題別集計②!T203:T205)","v":0},{"$f":"ROUND(BK246/BK249,3)*100","v":{"$error":"#DIV/0!"}},{"$error":"#DIV/0!"},{"$error":"#DIV/0!"},{"$error":"#DIV/0!"},{"$error":"#DIV/0!"},{"$error":"#DIV/0!"},{"$error":"#DIV/0!"},{"$error":"#DIV/0!"},{"$error":"#DIV/0!"},{"$error":"#DIV/0!"},{"$error":"#DIV/0!"},{"$error":"#DIV/0!"},{"$error":"#DIV/0!"},{"$error":"#DIV/0!"}]
[null,null,null,4,"よくある",4]
[null,null,null,5,"いつもある",5]
[null,null,null,"計",null,null,{"$f":"SUM(G244:G248)","v":0},{"$f":"SUM(H244:H248)","v":0},{"$f":"SUM(I244:I248)","v":0},{"$f":"SUM(J244:J248)","v":0},{"$f":"SUM(K244:K248)","v":0},{"$f":"SUM(L244:L248)","v":0},{"$f":"SUM(M244:M248)","v":0},{"$f":"SUM(N244:N248)","v":0},{"$f":"SUM(O244:O248)","v":0},{"$f":"SUM(P244:P248)","v":0},{"$f":"SUM(Q244:Q248)","v":0},{"$f":"SUM(R244:R248)","v":0},{"$f":"SUM(S244:S248)","v":0},{"$f":"SUM(T244:T248)","v":0},{"$f":"SUM(U244:U248)","v":{"$error":"#DIV/0!"}},{"$f":"SUM(V244:V248)","v":{"$error":"#DIV/0!"}},{"$f":"SUM(W244:W248)","v":{"$error":"#DIV/0!"}},{"$f":"SUM(X244:X248)","v":{"$error":"#DIV/0!"}},{"$f":"SUM(Y244:Y248)","v":{"$error":"#DIV/0!"}},{"$f":"SUM(Z244:Z248)","v":{"$error":"#DIV/0!"}},{"$f":"SUM(AA244:AA248)","v":{"$error":"#DIV/0!"}},{"$f":"SUM(AB244:AB248)","v":{"$error":"#DIV/0!"}},{"$f":"SUM(AC244:AC248)","v":{"$error":"#DIV/0!"}},{"$f":"SUM(AD244:AD248)","v":{"$error":"#DIV/0!"}},{"$f":"SUM(AE244:AE248)","v":{"$error":"#DIV/0!"}},{"$f":"SUM(AF244:AF248)","v":{"$error":"#DIV/0!"}},{"$f":"SUM(AG244:AG248)","v":{"$error":"#DIV/0!"}},{"$f":"SUM(AH244:AH248)","v":{"$error":"#DIV/0!"}},{"$f":"SUM(AI244:AI248)","v":0},{"$f":"SUM(AJ244:AJ248)","v":0},{"$f":"SUM(AK244:AK248)","v":0},{"$f":"SUM(AL244:AL248)","v":0},{"$f":"SUM(AM244:AM248)","v":0},{"$f":"SUM(AN244:AN248)","v":0},{"$f":"SUM(AO244:AO248)","v":0},{"$f":"SUM(AP244:AP248)","v":0},{"$f":"SUM(AQ244:AQ248)","v":0},{"$f":"SUM(AR244:AR248)","v":0},{"$f":"SUM(AS244:AS248)","v":0},{"$f":"SUM(AT244:AT248)","v":0},{"$f":"SUM(AU244:AU248)","v":0},{"$f":"SUM(AV244:AV248)","v":0},{"$error":"#DIV/0!"},{"$error":"#DIV/0!"},{"$error":"#DIV/0!"},{"$error":"#DIV/0!"},{"$error":"#DIV/0!"},{"$error":"#DIV/0!"},{"$f":"SUM(BC244:BC248)","v":{"$error":"#DIV/0!"}},{"$f":"SUM(BD244:BD248)","v":{"$error":"#DIV/0!"}},{"$error":"#DIV/0!"},{"$error":"#DIV/0!"},{"$error":"#DIV/0!"},{"$error":"#DIV/0!"},{"$error":"#DIV/0!"},{"$f":"SUM(BJ244:BJ248)","v":{"$error":"#DIV/0!"}},{"$f":"SUM(BK244:BK248)","v":0},{"$f":"SUM(BL244:BL248)","v":0},{"$f":"SUM(BM244:BM248)","v":0},{"$f":"SUM(BN244:BN248)","v":0},{"$f":"SUM(BO244:BO248)","v":0},{"$f":"SUM(BP244:BP248)","v":0},{"$f":"SUM(BQ244:BQ248)","v":0},{"$f":"SUM(BR244:BR248)","v":0},{"$f":"SUM(BS244:BS248)","v":0},{"$f":"SUM(BT244:BT248)","v":0},{"$f":"SUM(BU244:BU248)","v":0},{"$f":"SUM(BV244:BV248)","v":0},{"$f":"SUM(BW244:BW248)","v":0},{"$f":"SUM(BX244:BX248)","v":0},{"$error":"#DIV/0!"},{"$error":"#DIV/0!"},{"$error":"#DIV/0!"},{"$error":"#DIV/0!"},{"$error":"#DIV/0!"},{"$error":"#DIV/0!"},{"$f":"SUM(CE244:CE248)","v":{"$error":"#DIV/0!"}},{"$f":"SUM(CF244:CF248)","v":{"$error":"#DIV/0!"}},{"$error":"#DIV/0!"},{"$error":"#DIV/0!"},{"$error":"#DIV/0!"},{"$error":"#DIV/0!"},{"$error":"#DIV/0!"},{"$f":"SUM(CL244:CL248)","v":{"$error":"#DIV/0!"}}]
[null,"44\n(45)","インターネットをしていた時間の長さを隠そうとすることがありますか？",1,"全くない",1,{"$f":"SUM(問題別集計!G206:G207)","v":0},{"$f":"SUM(問題別集計!H206:H207)","v":0},{"$f":"SUM(問題別集計!I206:I207)","v":0},{"$f":"SUM(問題別集計!J206:J207)","v":0},{"$f":"SUM(問題別集計!K206:K207)","v":0},{"$f":"SUM(問題別集計!L206:L207)","v":0},{"$f":"SUM(問題別集計!M206:M207)","v":0},{"$f":"SUM(問題別集計!N206:N207)","v":0},{"$f":"SUM(問題別集計!O206:O207)","v":0},{"$f":"SUM(問題別集計!P206:P207)","v":0},{"$f":"SUM(問題別集計!Q206:Q207)","v":0},{"$f":"SUM(問題別集計!R206:R207)","v":0},{"$f":"SUM(問題別集計!S206:S207)","v":0},{"$f":"SUM(問題別集計!T206:T207)","v":0},{"$f":"ROUND(G250/G255,3)*100","v":{"$error":"#DIV/0!"}},{"$error":"#DIV/0!"},{"$error":"#DIV/0!"},{"$error":"#DIV/0!"},{"$error":"#DIV/0!"},{"$error":"#DIV/0!"},{"$error":"#DIV/0!"},{"$error":"#DIV/0!"},{"$error":"#DIV/0!"},{"$error":"#DIV/0!"},{"$error":"#DIV/0!"},{"$error":"#DIV/0!"},{"$error":"#DIV/0!"},{"$error":"#DIV/0!"},{"$f":"SUM(問題別集計③!G206:G207)","v":0},{"$f":"SUM(問題別集計③!H206:H207)","v":0},{"$f":"SUM(問題別集計③!I206:I207)","v":0},{"$f":"SUM(問題別集計③!J206:J207)","v":0},{"$f":"SUM(問題別集計③!K206:K207)","v":0},{"$f":"SUM(問題別集計③!L206:L207)","v":0},{"$f":"SUM(問題別集計③!M206:M207)","v":0},{"$f":"SUM(問題別集計③!N206:N207)","v":0},{"$f":"SUM(問題別集計③!O206:O207)","v":0},{"$f":"SUM(問題別集計③!P206:P207)","v":0},{"$f":"SUM(問題別集計③!Q206:Q207)","v":0},{"$f":"SUM(問題別集計③!R206:R207)","v":0},{"$f":"SUM(問題別集計③!S206:S207)","v":0},{"$f":"SUM(問題別集計③!T206:T207)","v":0},{"$f":"ROUND(AI250/AI255,3)*100","v":{"$error":"#DIV/0!"}},{"$error":"#DIV/0!"},{"$error":"#DIV/0!"},{"$error":"#DIV/0!"},{"$error":"#DIV/0!"},{"$error":"#DIV/0!"},{"$error":"#DIV/0!"},{"$error":"#DIV/0!"},{"$error":"#DIV/0!"},{"$error":"#DIV/0!"},{"$error":"#DIV/0!"},{"$error":"#DIV/0!"},{"$error":"#DIV/0!"},{"$error":"#DIV/0!"},{"$f":"SUM(問題別集計②!G206:G207)","v":0},{"$f":"SUM(問題別集計②!H206:H207)","v":0},{"$f":"SUM(問題別集計②!I206:I207)","v":0},{"$f":"SUM(問題別集計②!J206:J207)","v":0},{"$f":"SUM(問題別集計②!K206:K207)","v":0},{"$f":"SUM(問題別集計②!L206:L207)","v":0},{"$f":"SUM(問題別集計②!M206:M207)","v":0},{"$f":"SUM(問題別集計②!N206:N207)","v":0},{"$f":"SUM(問題別集計②!O206:O207)","v":0},{"$f":"SUM(問題別集計②!P206:P207)","v":0},{"$f":"SUM(問題別集計②!Q206:Q207)","v":0},{"$f":"SUM(問題別集計②!R206:R207)","v":0},{"$f":"SUM(問題別集計②!S206:S207)","v":0},{"$f":"SUM(問題別集計②!T206:T207)","v":0},{"$f":"ROUND(BK250/BK255,3)*100","v":{"$error":"#DIV/0!"}},{"$error":"#DIV/0!"},{"$error":"#DIV/0!"},{"$error":"#DIV/0!"},{"$error":"#DIV/0!"},{"$error":"#DIV/0!"},{"$error":"#DIV/0!"},{"$error":"#DIV/0!"},{"$error":"#DIV/0!"},{"$error":"#DIV/0!"},{"$error":"#DIV/0!"},{"$error":"#DIV/0!"},{"$error":"#DIV/0!"},{"$error":"#DIV/0!"}]
[null,null,null,2,"まれにある",2,null,null,null,null,null,null,null,null,null,null,null,null,null,null,{"$f":"ROUND(G251/G$72,4)*100","v":{"$error":"#DIV/0!"}},{"$f":"ROUND(H251/H$72,4)*100","v":{"$error":"#DIV/0!"}},{"$f":"ROUND(I251/I$72,4)*100","v":{"$error":"#DIV/0!"}},{"$f":"ROUND(J251/J$72,4)*100","v":{"$error":"#DIV/0!"}},{"$f":"ROUND(K251/K$72,4)*100","v":{"$error":"#DIV/0!"}},{"$f":"ROUND(L251/L$72,4)*100","v":{"$error":"#DIV/0!"}},{"$f":"ROUND(M251/M$72,4)*100","v":{"$error":"#DIV/0!"}},{"$f":"ROUND(N251/N$72,4)*100","v":{"$error":"#DIV/0!"}},{"$f":"ROUND(O251/O$72,4)*100","v":{"$error":"#DIV/0!"}},{"$f":"ROUND(P251/P$72,4)*100","v":{"$error":"#DIV/0!"}},{"$f":"ROUND(Q251/Q$72,4)*100","v":{"$error":"#DIV/0!"}},{"$f":"ROUND(R251/R$72,4)*100","v":{"$error":"#DIV/0!"}},{"$f":"ROUND(S251/S$72,4)*100","v":{"$error":"#DIV/0!"}},{"$f":"ROUND(T251/T$72,4)*100","v":{"$error":"#DIV/0!"}},null,null,null,null,null,null,null,null,null,null,null,null,null,null,{"$f":"ROUND(AI251/AI$72,4)*100","v":{"$error":"#DIV/0!"}},{"$f":"ROUND(AJ251/AJ$72,4)*100","v":{"$error":"#DIV/0!"}},{"$f":"ROUND(AK251/AK$72,4)*100","v":{"$error":"#DIV/0!"}},{"$f":"ROUND(AL251/AL$72,4)*100","v":{"$error":"#DIV/0!"}},{"$f":"ROUND(AM251/AM$72,4)*100","v":{"$error":"#DIV/0!"}},{"$f":"ROUND(AN251/AN$72,4)*100","v":{"$error":"#DIV/0!"}},{"$f":"ROUND(AO251/AO$72,4)*100","v":{"$error":"#DIV/0!"}},{"$f":"ROUND(AP251/AP$72,4)*100","v":{"$error":"#DIV/0!"}},{"$f":"ROUND(AQ251/AQ$72,4)*100","v":{"$error":"#DIV/0!"}},{"$f":"ROUND(AR251/AR$72,4)*100","v":{"$error":"#DIV/0!"}},{"$f":"ROUND(AS251/AS$72,4)*100","v":{"$error":"#DIV/0!"}},{"$f":"ROUND(AT251/AT$72,4)*100","v":{"$error":"#DIV/0!"}},{"$f":"ROUND(AU251/AU$72,4)*100","v":{"$error":"#DIV/0!"}},{"$f":"ROUND(AV251/AV$72,4)*100","v":{"$error":"#DIV/0!"}},null,null,null,null,null,null,null,null,null,null,null,null,null,null,{"$f":"ROUND(BK251/BK$72,4)*100","v":{"$error":"#DIV/0!"}},{"$f":"ROUND(BL251/BL$72,4)*100","v":{"$error":"#DIV/0!"}},{"$f":"ROUND(BM251/BM$72,4)*100","v":{"$error":"#DIV/0!"}},{"$f":"ROUND(BN251/BN$72,4)*100","v":{"$error":"#DIV/0!"}},{"$f":"ROUND(BO251/BO$72,4)*100","v":{"$error":"#DIV/0!"}},{"$f":"ROUND(BP251/BP$72,4)*100","v":{"$error":"#DIV/0!"}},{"$f":"ROUND(BQ251/BQ$72,4)*100","v":{"$error":"#DIV/0!"}},{"$f":"ROUND(BR251/BR$72,4)*100","v":{"$error":"#DIV/0!"}},{"$f":"ROUND(BS251/BS$72,4)*100","v":{"$error":"#DIV/0!"}},{"$f":"ROUND(BT251/BT$72,4)*100","v":{"$error":"#DIV/0!"}},{"$f":"ROUND(BU251/BU$72,4)*100","v":{"$error":"#DIV/0!"}},{"$f":"ROUND(BV251/BV$72,4)*100","v":{"$error":"#DIV/0!"}},{"$f":"ROUND(BW251/BW$72,4)*100","v":{"$error":"#DIV/0!"}},{"$f":"ROUND(BX251/BX$72,4)*100","v":{"$error":"#DIV/0!"}}]
[null,null,null,3,"時々ある",3,{"$f":"SUM(問題別集計!G208:G210)","v":0},{"$f":"SUM(問題別集計!H208:H210)","v":0},{"$f":"SUM(問題別集計!I208:I210)","v":0},{"$f":"SUM(問題別集計!J208:J210)","v":0},{"$f":"SUM(問題別集計!K208:K210)","v":0},{"$f":"SUM(問題別集計!L208:L210)","v":0},{"$f":"SUM(問題別集計!M208:M210)","v":0},{"$f":"SUM(問題別集計!N208:N210)","v":0},{"$f":"SUM(問題別集計!O208:O210)","v":0},{"$f":"SUM(問題別集計!P208:P210)","v":0},{"$f":"SUM(問題別集計!Q208:Q210)","v":0},{"$f":"SUM(問題別集計!R208:R210)","v":0},{"$f":"SUM(問題別集計!S208:S210)","v":0},{"$f":"SUM(問題別集計!T208:T210)","v":0},{"$f":"ROUND(G252/G255,3)*100","v":{"$error":"#DIV/0!"}},{"$error":"#DIV/0!"},{"$error":"#DIV/0!"},{"$error":"#DIV/0!"},{"$error":"#DIV/0!"},{"$error":"#DIV/0!"},{"$error":"#DIV/0!"},{"$error":"#DIV/0!"},{"$error":"#DIV/0!"},{"$error":"#DIV/0!"},{"$error":"#DIV/0!"},{"$error":"#DIV/0!"},{"$error":"#DIV/0!"},{"$error":"#DIV/0!"},{"$f":"SUM(問題別集計③!G208:G210)","v":0},{"$f":"SUM(問題別集計③!H208:H210)","v":0},{"$f":"SUM(問題別集計③!I208:I210)","v":0},{"$f":"SUM(問題別集計③!J208:J210)","v":0},{"$f":"SUM(問題別集計③!K208:K210)","v":0},{"$f":"SUM(問題別集計③!L208:L210)","v":0},{"$f":"SUM(問題別集計③!M208:M210)","v":0},{"$f":"SUM(問題別集計③!N208:N210)","v":0},{"$f":"SUM(問題別集計③!O208:O210)","v":0},{"$f":"SUM(問題別集計③!P208:P210)","v":0},{"$f":"SUM(問題別集計③!Q208:Q210)","v":0},{"$f":"SUM(問題別集計③!R208:R210)","v":0},{"$f":"SUM(問題別集計③!S208:S210)","v":0},{"$f":"SUM(問題別集計③!T208:T210)","v":0},{"$f":"ROUND(AI252/AI255,3)*100","v":{"$error":"#DIV/0!"}},{"$error":"#DIV/0!"},{"$error":"#DIV/0!"},{"$error":"#DIV/0!"},{"$error":"#DIV/0!"},{"$error":"#DIV/0!"},{"$error":"#DIV/0!"},{"$error":"#DIV/0!"},{"$error":"#DIV/0!"},{"$error":"#DIV/0!"},{"$error":"#DIV/0!"},{"$error":"#DIV/0!"},{"$error":"#DIV/0!"},{"$error":"#DIV/0!"},{"$f":"SUM(問題別集計②!G208:G210)","v":0},{"$f":"SUM(問題別集計②!H208:H210)","v":0},{"$f":"SUM(問題別集計②!I208:I210)","v":0},{"$f":"SUM(問題別集計②!J208:J210)","v":0},{"$f":"SUM(問題別集計②!K208:K210)","v":0},{"$f":"SUM(問題別集計②!L208:L210)","v":0},{"$f":"SUM(問題別集計②!M208:M210)","v":0},{"$f":"SUM(問題別集計②!N208:N210)","v":0},{"$f":"SUM(問題別集計②!O208:O210)","v":0},{"$f":"SUM(問題別集計②!P208:P210)","v":0},{"$f":"SUM(問題別集計②!Q208:Q210)","v":0},{"$f":"SUM(問題別集計②!R208:R210)","v":0},{"$f":"SUM(問題別集計②!S208:S210)","v":0},{"$f":"SUM(問題別集計②!T208:T210)","v":0},{"$f":"ROUND(BK252/BK255,3)*100","v":{"$error":"#DIV/0!"}},{"$error":"#DIV/0!"},{"$error":"#DIV/0!"},{"$error":"#DIV/0!"},{"$error":"#DIV/0!"},{"$error":"#DIV/0!"},{"$error":"#DIV/0!"},{"$error":"#DIV/0!"},{"$error":"#DIV/0!"},{"$error":"#DIV/0!"},{"$error":"#DIV/0!"},{"$error":"#DIV/0!"},{"$error":"#DIV/0!"},{"$error":"#DIV/0!"}]
[null,null,null,4,"よくある",4]
[null,null,null,5,"いつもある",5]
[null,null,null,"計",null,null,{"$f":"SUM(G250:G254)","v":0},{"$f":"SUM(H250:H254)","v":0},{"$f":"SUM(I250:I254)","v":0},{"$f":"SUM(J250:J254)","v":0},{"$f":"SUM(K250:K254)","v":0},{"$f":"SUM(L250:L254)","v":0},{"$f":"SUM(M250:M254)","v":0},{"$f":"SUM(N250:N254)","v":0},{"$f":"SUM(O250:O254)","v":0},{"$f":"SUM(P250:P254)","v":0},{"$f":"SUM(Q250:Q254)","v":0},{"$f":"SUM(R250:R254)","v":0},{"$f":"SUM(S250:S254)","v":0},{"$f":"SUM(T250:T254)","v":0},{"$f":"SUM(U250:U254)","v":{"$error":"#DIV/0!"}},{"$f":"SUM(V250:V254)","v":{"$error":"#DIV/0!"}},{"$f":"SUM(W250:W254)","v":{"$error":"#DIV/0!"}},{"$f":"SUM(X250:X254)","v":{"$error":"#DIV/0!"}},{"$f":"SUM(Y250:Y254)","v":{"$error":"#DIV/0!"}},{"$f":"SUM(Z250:Z254)","v":{"$error":"#DIV/0!"}},{"$f":"SUM(AA250:AA254)","v":{"$error":"#DIV/0!"}},{"$f":"SUM(AB250:AB254)","v":{"$error":"#DIV/0!"}},{"$f":"SUM(AC250:AC254)","v":{"$error":"#DIV/0!"}},{"$f":"SUM(AD250:AD254)","v":{"$error":"#DIV/0!"}},{"$f":"SUM(AE250:AE254)","v":{"$error":"#DIV/0!"}},{"$f":"SUM(AF250:AF254)","v":{"$error":"#DIV/0!"}},{"$f":"SUM(AG250:AG254)","v":{"$error":"#DIV/0!"}},{"$f":"SUM(AH250:AH254)","v":{"$error":"#DIV/0!"}},{"$f":"SUM(AI250:AI254)","v":0},{"$f":"SUM(AJ250:AJ254)","v":0},{"$f":"SUM(AK250:AK254)","v":0},{"$f":"SUM(AL250:AL254)","v":0},{"$f":"SUM(AM250:AM254)","v":0},{"$f":"SUM(AN250:AN254)","v":0},{"$f":"SUM(AO250:AO254)","v":0},{"$f":"SUM(AP250:AP254)","v":0},{"$f":"SUM(AQ250:AQ254)","v":0},{"$f":"SUM(AR250:AR254)","v":0},{"$f":"SUM(AS250:AS254)","v":0},{"$f":"SUM(AT250:AT254)","v":0},{"$f":"SUM(AU250:AU254)","v":0},{"$f":"SUM(AV250:AV254)","v":0},{"$error":"#DIV/0!"},{"$error":"#DIV/0!"},{"$error":"#DIV/0!"},{"$error":"#DIV/0!"},{"$error":"#DIV/0!"},{"$error":"#DIV/0!"},{"$f":"SUM(BC250:BC254)","v":{"$error":"#DIV/0!"}},{"$f":"SUM(BD250:BD254)","v":{"$error":"#DIV/0!"}},{"$error":"#DIV/0!"},{"$error":"#DIV/0!"},{"$error":"#DIV/0!"},{"$error":"#DIV/0!"},{"$error":"#DIV/0!"},{"$f":"SUM(BJ250:BJ254)","v":{"$error":"#DIV/0!"}},{"$f":"SUM(BK250:BK254)","v":0},{"$f":"SUM(BL250:BL254)","v":0},{"$f":"SUM(BM250:BM254)","v":0},{"$f":"SUM(BN250:BN254)","v":0},{"$f":"SUM(BO250:BO254)","v":0},{"$f":"SUM(BP250:BP254)","v":0},{"$f":"SUM(BQ250:BQ254)","v":0},{"$f":"SUM(BR250:BR254)","v":0},{"$f":"SUM(BS250:BS254)","v":0},{"$f":"SUM(BT250:BT254)","v":0},{"$f":"SUM(BU250:BU254)","v":0},{"$f":"SUM(BV250:BV254)","v":0},{"$f":"SUM(BW250:BW254)","v":0},{"$f":"SUM(BX250:BX254)","v":0},{"$error":"#DIV/0!"},{"$error":"#DIV/0!"},{"$error":"#DIV/0!"},{"$error":"#DIV/0!"},{"$error":"#DIV/0!"},{"$error":"#DIV/0!"},{"$f":"SUM(CE250:CE254)","v":{"$error":"#DIV/0!"}},{"$f":"SUM(CF250:CF254)","v":{"$error":"#DIV/0!"}},{"$error":"#DIV/0!"},{"$error":"#DIV/0!"},{"$error":"#DIV/0!"},{"$error":"#DIV/0!"},{"$error":"#DIV/0!"},{"$f":"SUM(CL250:CL254)","v":{"$error":"#DIV/0!"}}]
[null,"45\n(46)","誰かと外出するより、インターネットを選ぶことがありますか？",1,"全くない",1,{"$f":"SUM(問題別集計!G211:G212)","v":0},{"$f":"SUM(問題別集計!H211:H212)","v":0},{"$f":"SUM(問題別集計!I211:I212)","v":0},{"$f":"SUM(問題別集計!J211:J212)","v":0},{"$f":"SUM(問題別集計!K211:K212)","v":0},{"$f":"SUM(問題別集計!L211:L212)","v":0},{"$f":"SUM(問題別集計!M211:M212)","v":0},{"$f":"SUM(問題別集計!N211:N212)","v":0},{"$f":"SUM(問題別集計!O211:O212)","v":0},{"$f":"SUM(問題別集計!P211:P212)","v":0},{"$f":"SUM(問題別集計!Q211:Q212)","v":0},{"$f":"SUM(問題別集計!R211:R212)","v":0},{"$f":"SUM(問題別集計!S211:S212)","v":0},{"$f":"SUM(問題別集計!T211:T212)","v":0},{"$f":"ROUND(G256/G261,3)*100","v":{"$error":"#DIV/0!"}},{"$error":"#DIV/0!"},{"$error":"#DIV/0!"},{"$error":"#DIV/0!"},{"$error":"#DIV/0!"},{"$error":"#DIV/0!"},{"$error":"#DIV/0!"},{"$error":"#DIV/0!"},{"$error":"#DIV/0!"},{"$error":"#DIV/0!"},{"$error":"#DIV/0!"},{"$error":"#DIV/0!"},{"$error":"#DIV/0!"},{"$error":"#DIV/0!"},{"$f":"SUM(問題別集計③!G211:G212)","v":0},{"$f":"SUM(問題別集計③!H211:H212)","v":0},{"$f":"SUM(問題別集計③!I211:I212)","v":0},{"$f":"SUM(問題別集計③!J211:J212)","v":0},{"$f":"SUM(問題別集計③!K211:K212)","v":0},{"$f":"SUM(問題別集計③!L211:L212)","v":0},{"$f":"SUM(問題別集計③!M211:M212)","v":0},{"$f":"SUM(問題別集計③!N211:N212)","v":0},{"$f":"SUM(問題別集計③!O211:O212)","v":0},{"$f":"SUM(問題別集計③!P211:P212)","v":0},{"$f":"SUM(問題別集計③!Q211:Q212)","v":0},{"$f":"SUM(問題別集計③!R211:R212)","v":0},{"$f":"SUM(問題別集計③!S211:S212)","v":0},{"$f":"SUM(問題別集計③!T211:T212)","v":0},{"$f":"ROUND(AI256/AI261,3)*100","v":{"$error":"#DIV/0!"}},{"$error":"#DIV/0!"},{"$error":"#DIV/0!"},{"$error":"#DIV/0!"},{"$error":"#DIV/0!"},{"$error":"#DIV/0!"},{"$error":"#DIV/0!"},{"$error":"#DIV/0!"},{"$error":"#DIV/0!"},{"$error":"#DIV/0!"},{"$error":"#DIV/0!"},{"$error":"#DIV/0!"},{"$error":"#DIV/0!"},{"$error":"#DIV/0!"},{"$f":"SUM(問題別集計②!G211:G212)","v":0},{"$f":"SUM(問題別集計②!H211:H212)","v":0},{"$f":"SUM(問題別集計②!I211:I212)","v":0},{"$f":"SUM(問題別集計②!J211:J212)","v":0},{"$f":"SUM(問題別集計②!K211:K212)","v":0},{"$f":"SUM(問題別集計②!L211:L212)","v":0},{"$f":"SUM(問題別集計②!M211:M212)","v":0},{"$f":"SUM(問題別集計②!N211:N212)","v":0},{"$f":"SUM(問題別集計②!O211:O212)","v":0},{"$f":"SUM(問題別集計②!P211:P212)","v":0},{"$f":"SUM(問題別集計②!Q211:Q212)","v":0},{"$f":"SUM(問題別集計②!R211:R212)","v":0},{"$f":"SUM(問題別集計②!S211:S212)","v":0},{"$f":"SUM(問題別集計②!T211:T212)","v":0},{"$f":"ROUND(BK256/BK261,3)*100","v":{"$error":"#DIV/0!"}},{"$error":"#DIV/0!"},{"$error":"#DIV/0!"},{"$error":"#DIV/0!"},{"$error":"#DIV/0!"},{"$error":"#DIV/0!"},{"$error":"#DIV/0!"},{"$error":"#DIV/0!"},{"$error":"#DIV/0!"},{"$error":"#DIV/0!"},{"$error":"#DIV/0!"},{"$error":"#DIV/0!"},{"$error":"#DIV/0!"},{"$error":"#DIV/0!"}]
[null,null,null,2,"まれにある",2,null,null,null,null,null,null,null,null,null,null,null,null,null,null,{"$f":"ROUND(G257/G$72,4)*100","v":{"$error":"#DIV/0!"}},{"$f":"ROUND(H257/H$72,4)*100","v":{"$error":"#DIV/0!"}},{"$f":"ROUND(I257/I$72,4)*100","v":{"$error":"#DIV/0!"}},{"$f":"ROUND(J257/J$72,4)*100","v":{"$error":"#DIV/0!"}},{"$f":"ROUND(K257/K$72,4)*100","v":{"$error":"#DIV/0!"}},{"$f":"ROUND(L257/L$72,4)*100","v":{"$error":"#DIV/0!"}},{"$f":"ROUND(M257/M$72,4)*100","v":{"$error":"#DIV/0!"}},{"$f":"ROUND(N257/N$72,4)*100","v":{"$error":"#DIV/0!"}},{"$f":"ROUND(O257/O$72,4)*100","v":{"$error":"#DIV/0!"}},{"$f":"ROUND(P257/P$72,4)*100","v":{"$error":"#DIV/0!"}},{"$f":"ROUND(Q257/Q$72,4)*100","v":{"$error":"#DIV/0!"}},{"$f":"ROUND(R257/R$72,4)*100","v":{"$error":"#DIV/0!"}},{"$f":"ROUND(S257/S$72,4)*100","v":{"$error":"#DIV/0!"}},{"$f":"ROUND(T257/T$72,4)*100","v":{"$error":"#DIV/0!"}},null,null,null,null,null,null,null,null,null,null,null,null,null,null,{"$f":"ROUND(AI257/AI$72,4)*100","v":{"$error":"#DIV/0!"}},{"$f":"ROUND(AJ257/AJ$72,4)*100","v":{"$error":"#DIV/0!"}},{"$f":"ROUND(AK257/AK$72,4)*100","v":{"$error":"#DIV/0!"}},{"$f":"ROUND(AL257/AL$72,4)*100","v":{"$error":"#DIV/0!"}},{"$f":"ROUND(AM257/AM$72,4)*100","v":{"$error":"#DIV/0!"}},{"$f":"ROUND(AN257/AN$72,4)*100","v":{"$error":"#DIV/0!"}},{"$f":"ROUND(AO257/AO$72,4)*100","v":{"$error":"#DIV/0!"}},{"$f":"ROUND(AP257/AP$72,4)*100","v":{"$error":"#DIV/0!"}},{"$f":"ROUND(AQ257/AQ$72,4)*100","v":{"$error":"#DIV/0!"}},{"$f":"ROUND(AR257/AR$72,4)*100","v":{"$error":"#DIV/0!"}},{"$f":"ROUND(AS257/AS$72,4)*100","v":{"$error":"#DIV/0!"}},{"$f":"ROUND(AT257/AT$72,4)*100","v":{"$error":"#DIV/0!"}},{"$f":"ROUND(AU257/AU$72,4)*100","v":{"$error":"#DIV/0!"}},{"$f":"ROUND(AV257/AV$72,4)*100","v":{"$error":"#DIV/0!"}},null,null,null,null,null,null,null,null,null,null,null,null,null,null,{"$f":"ROUND(BK257/BK$72,4)*100","v":{"$error":"#DIV/0!"}},{"$f":"ROUND(BL257/BL$72,4)*100","v":{"$error":"#DIV/0!"}},{"$f":"ROUND(BM257/BM$72,4)*100","v":{"$error":"#DIV/0!"}},{"$f":"ROUND(BN257/BN$72,4)*100","v":{"$error":"#DIV/0!"}},{"$f":"ROUND(BO257/BO$72,4)*100","v":{"$error":"#DIV/0!"}},{"$f":"ROUND(BP257/BP$72,4)*100","v":{"$error":"#DIV/0!"}},{"$f":"ROUND(BQ257/BQ$72,4)*100","v":{"$error":"#DIV/0!"}},{"$f":"ROUND(BR257/BR$72,4)*100","v":{"$error":"#DIV/0!"}},{"$f":"ROUND(BS257/BS$72,4)*100","v":{"$error":"#DIV/0!"}},{"$f":"ROUND(BT257/BT$72,4)*100","v":{"$error":"#DIV/0!"}},{"$f":"ROUND(BU257/BU$72,4)*100","v":{"$error":"#DIV/0!"}},{"$f":"ROUND(BV257/BV$72,4)*100","v":{"$error":"#DIV/0!"}},{"$f":"ROUND(BW257/BW$72,4)*100","v":{"$error":"#DIV/0!"}},{"$f":"ROUND(BX257/BX$72,4)*100","v":{"$error":"#DIV/0!"}}]
[null,null,null,3,"時々ある",3,{"$f":"SUM(問題別集計!G213:G215)","v":0},{"$f":"SUM(問題別集計!H213:H215)","v":0},{"$f":"SUM(問題別集計!I213:I215)","v":0},{"$f":"SUM(問題別集計!J213:J215)","v":0},{"$f":"SUM(問題別集計!K213:K215)","v":0},{"$f":"SUM(問題別集計!L213:L215)","v":0},{"$f":"SUM(問題別集計!M213:M215)","v":0},{"$f":"SUM(問題別集計!N213:N215)","v":0},{"$f":"SUM(問題別集計!O213:O215)","v":0},{"$f":"SUM(問題別集計!P213:P215)","v":0},{"$f":"SUM(問題別集計!Q213:Q215)","v":0},{"$f":"SUM(問題別集計!R213:R215)","v":0},{"$f":"SUM(問題別集計!S213:S215)","v":0},{"$f":"SUM(問題別集計!T213:T215)","v":0},{"$f":"ROUND(G258/G261,3)*100","v":{"$error":"#DIV/0!"}},{"$error":"#DIV/0!"},{"$error":"#DIV/0!"},{"$error":"#DIV/0!"},{"$error":"#DIV/0!"},{"$error":"#DIV/0!"},{"$error":"#DIV/0!"},{"$error":"#DIV/0!"},{"$error":"#DIV/0!"},{"$error":"#DIV/0!"},{"$error":"#DIV/0!"},{"$error":"#DIV/0!"},{"$error":"#DIV/0!"},{"$error":"#DIV/0!"},{"$f":"SUM(問題別集計③!G213:G215)","v":0},{"$f":"SUM(問題別集計③!H213:H215)","v":0},{"$f":"SUM(問題別集計③!I213:I215)","v":0},{"$f":"SUM(問題別集計③!J213:J215)","v":0},{"$f":"SUM(問題別集計③!K213:K215)","v":0},{"$f":"SUM(問題別集計③!L213:L215)","v":0},{"$f":"SUM(問題別集計③!M213:M215)","v":0},{"$f":"SUM(問題別集計③!N213:N215)","v":0},{"$f":"SUM(問題別集計③!O213:O215)","v":0},{"$f":"SUM(問題別集計③!P213:P215)","v":0},{"$f":"SUM(問題別集計③!Q213:Q215)","v":0},{"$f":"SUM(問題別集計③!R213:R215)","v":0},{"$f":"SUM(問題別集計③!S213:S215)","v":0},{"$f":"SUM(問題別集計③!T213:T215)","v":0},{"$f":"ROUND(AI258/AI261,3)*100","v":{"$error":"#DIV/0!"}},{"$error":"#DIV/0!"},{"$error":"#DIV/0!"},{"$error":"#DIV/0!"},{"$error":"#DIV/0!"},{"$error":"#DIV/0!"},{"$error":"#DIV/0!"},{"$error":"#DIV/0!"},{"$error":"#DIV/0!"},{"$error":"#DIV/0!"},{"$error":"#DIV/0!"},{"$error":"#DIV/0!"},{"$error":"#DIV/0!"},{"$error":"#DIV/0!"},{"$f":"SUM(問題別集計②!G213:G215)","v":0},{"$f":"SUM(問題別集計②!H213:H215)","v":0},{"$f":"SUM(問題別集計②!I213:I215)","v":0},{"$f":"SUM(問題別集計②!J213:J215)","v":0},{"$f":"SUM(問題別集計②!K213:K215)","v":0},{"$f":"SUM(問題別集計②!L213:L215)","v":0},{"$f":"SUM(問題別集計②!M213:M215)","v":0},{"$f":"SUM(問題別集計②!N213:N215)","v":0},{"$f":"SUM(問題別集計②!O213:O215)","v":0},{"$f":"SUM(問題別集計②!P213:P215)","v":0},{"$f":"SUM(問題別集計②!Q213:Q215)","v":0},{"$f":"SUM(問題別集計②!R213:R215)","v":0},{"$f":"SUM(問題別集計②!S213:S215)","v":0},{"$f":"SUM(問題別集計②!T213:T215)","v":0},{"$f":"ROUND(BK258/BK261,3)*100","v":{"$error":"#DIV/0!"}},{"$error":"#DIV/0!"},{"$error":"#DIV/0!"},{"$error":"#DIV/0!"},{"$error":"#DIV/0!"},{"$error":"#DIV/0!"},{"$error":"#DIV/0!"},{"$error":"#DIV/0!"},{"$error":"#DIV/0!"},{"$error":"#DIV/0!"},{"$error":"#DIV/0!"},{"$error":"#DIV/0!"},{"$error":"#DIV/0!"},{"$error":"#DIV/0!"}]
[null,null,null,4,"よくある",4]
[null,null,null,5,"いつもある",5]
[null,null,null,"計",null,null,{"$f":"SUM(G256:G260)","v":0},{"$f":"SUM(H256:H260)","v":0},{"$f":"SUM(I256:I260)","v":0},{"$f":"SUM(J256:J260)","v":0},{"$f":"SUM(K256:K260)","v":0},{"$f":"SUM(L256:L260)","v":0},{"$f":"SUM(M256:M260)","v":0},{"$f":"SUM(N256:N260)","v":0},{"$f":"SUM(O256:O260)","v":0},{"$f":"SUM(P256:P260)","v":0},{"$f":"SUM(Q256:Q260)","v":0},{"$f":"SUM(R256:R260)","v":0},{"$f":"SUM(S256:S260)","v":0},{"$f":"SUM(T256:T260)","v":0},{"$f":"SUM(U256:U260)","v":{"$error":"#DIV/0!"}},{"$f":"SUM(V256:V260)","v":{"$error":"#DIV/0!"}},{"$f":"SUM(W256:W260)","v":{"$error":"#DIV/0!"}},{"$f":"SUM(X256:X260)","v":{"$error":"#DIV/0!"}},{"$f":"SUM(Y256:Y260)","v":{"$error":"#DIV/0!"}},{"$f":"SUM(Z256:Z260)","v":{"$error":"#DIV/0!"}},{"$f":"SUM(AA256:AA260)","v":{"$error":"#DIV/0!"}},{"$f":"SUM(AB256:AB260)","v":{"$error":"#DIV/0!"}},{"$f":"SUM(AC256:AC260)","v":{"$error":"#DIV/0!"}},{"$f":"SUM(AD256:AD260)","v":{"$error":"#DIV/0!"}},{"$f":"SUM(AE256:AE260)","v":{"$error":"#DIV/0!"}},{"$f":"SUM(AF256:AF260)","v":{"$error":"#DIV/0!"}},{"$f":"SUM(AG256:AG260)","v":{"$error":"#DIV/0!"}},{"$f":"SUM(AH256:AH260)","v":{"$error":"#DIV/0!"}},{"$f":"SUM(AI256:AI260)","v":0},{"$f":"SUM(AJ256:AJ260)","v":0},{"$f":"SUM(AK256:AK260)","v":0},{"$f":"SUM(AL256:AL260)","v":0},{"$f":"SUM(AM256:AM260)","v":0},{"$f":"SUM(AN256:AN260)","v":0},{"$f":"SUM(AO256:AO260)","v":0},{"$f":"SUM(AP256:AP260)","v":0},{"$f":"SUM(AQ256:AQ260)","v":0},{"$f":"SUM(AR256:AR260)","v":0},{"$f":"SUM(AS256:AS260)","v":0},{"$f":"SUM(AT256:AT260)","v":0},{"$f":"SUM(AU256:AU260)","v":0},{"$f":"SUM(AV256:AV260)","v":0},{"$error":"#DIV/0!"},{"$error":"#DIV/0!"},{"$error":"#DIV/0!"},{"$error":"#DIV/0!"},{"$error":"#DIV/0!"},{"$error":"#DIV/0!"},{"$f":"SUM(BC256:BC260)","v":{"$error":"#DIV/0!"}},{"$f":"SUM(BD256:BD260)","v":{"$error":"#DIV/0!"}},{"$error":"#DIV/0!"},{"$error":"#DIV/0!"},{"$error":"#DIV/0!"},{"$error":"#DIV/0!"},{"$error":"#DIV/0!"},{"$f":"SUM(BJ256:BJ260)","v":{"$error":"#DIV/0!"}},{"$f":"SUM(BK256:BK260)","v":0},{"$f":"SUM(BL256:BL260)","v":0},{"$f":"SUM(BM256:BM260)","v":0},{"$f":"SUM(BN256:BN260)","v":0},{"$f":"SUM(BO256:BO260)","v":0},{"$f":"SUM(BP256:BP260)","v":0},{"$f":"SUM(BQ256:BQ260)","v":0},{"$f":"SUM(BR256:BR260)","v":0},{"$f":"SUM(BS256:BS260)","v":0},{"$f":"SUM(BT256:BT260)","v":0},{"$f":"SUM(BU256:BU260)","v":0},{"$f":"SUM(BV256:BV260)","v":0},{"$f":"SUM(BW256:BW260)","v":0},{"$f":"SUM(BX256:BX260)","v":0},{"$error":"#DIV/0!"},{"$error":"#DIV/0!"},{"$error":"#DIV/0!"},{"$error":"#DIV/0!"},{"$error":"#DIV/0!"},{"$error":"#DIV/0!"},{"$f":"SUM(CE256:CE260)","v":{"$error":"#DIV/0!"}},{"$f":"SUM(CF256:CF260)","v":{"$error":"#DIV/0!"}},{"$error":"#DIV/0!"},{"$error":"#DIV/0!"},{"$error":"#DIV/0!"},{"$error":"#DIV/0!"},{"$error":"#DIV/0!"},{"$f":"SUM(CL256:CL260)","v":{"$error":"#DIV/0!"}}]
[null,"46\n(47)","インターネットをしていないと憂うつになったり、いらいらしたりしても、再開すると嫌な気持ちが消えてしまうことがありますか？",1,"全くない",1,{"$f":"SUM(問題別集計!G216:G217)","v":0},{"$f":"SUM(問題別集計!H216:H217)","v":0},{"$f":"SUM(問題別集計!I216:I217)","v":0},{"$f":"SUM(問題別集計!J216:J217)","v":0},{"$f":"SUM(問題別集計!K216:K217)","v":0},{"$f":"SUM(問題別集計!L216:L217)","v":0},{"$f":"SUM(問題別集計!M216:M217)","v":0},{"$f":"SUM(問題別集計!N216:N217)","v":0},{"$f":"SUM(問題別集計!O216:O217)","v":0},{"$f":"SUM(問題別集計!P216:P217)","v":0},{"$f":"SUM(問題別集計!Q216:Q217)","v":0},{"$f":"SUM(問題別集計!R216:R217)","v":0},{"$f":"SUM(問題別集計!S216:S217)","v":0},{"$f":"SUM(問題別集計!T216:T217)","v":0},{"$f":"ROUND(G262/G$267,4)*100","v":{"$error":"#DIV/0!"}},{"$f":"ROUND(H262/H$267,4)*100","v":{"$error":"#DIV/0!"}},{"$error":"#DIV/0!"},{"$error":"#DIV/0!"},{"$error":"#DIV/0!"},{"$error":"#DIV/0!"},{"$error":"#DIV/0!"},{"$error":"#DIV/0!"},{"$error":"#DIV/0!"},{"$error":"#DIV/0!"},{"$error":"#DIV/0!"},{"$error":"#DIV/0!"},{"$error":"#DIV/0!"},{"$error":"#DIV/0!"},{"$f":"SUM(問題別集計③!G216:G217)","v":0},{"$f":"SUM(問題別集計③!H216:H217)","v":0},{"$f":"SUM(問題別集計③!I216:I217)","v":0},{"$f":"SUM(問題別集計③!J216:J217)","v":0},{"$f":"SUM(問題別集計③!K216:K217)","v":0},{"$f":"SUM(問題別集計③!L216:L217)","v":0},{"$f":"SUM(問題別集計③!M216:M217)","v":0},{"$f":"SUM(問題別集計③!N216:N217)","v":0},{"$f":"SUM(問題別集計③!O216:O217)","v":0},{"$f":"SUM(問題別集計③!P216:P217)","v":0},{"$f":"SUM(問題別集計③!Q216:Q217)","v":0},{"$f":"SUM(問題別集計③!R216:R217)","v":0},{"$f":"SUM(問題別集計③!S216:S217)","v":0},{"$f":"SUM(問題別集計③!T216:T217)","v":0},{"$f":"ROUND(AI262/AI$267,4)*100","v":{"$error":"#DIV/0!"}},{"$f":"ROUND(AJ262/AJ$267,4)*100","v":{"$error":"#DIV/0!"}},{"$f":"ROUND(AK262/AK$267,4)*100","v":{"$error":"#DIV/0!"}},{"$f":"ROUND(AL262/AL$267,4)*100","v":{"$error":"#DIV/0!"}},{"$f":"ROUND(AM262/AM$267,4)*100","v":{"$error":"#DIV/0!"}},{"$f":"ROUND(AN262/AN$267,4)*100","v":{"$error":"#DIV/0!"}},{"$f":"ROUND(AO262/AO$267,4)*100","v":{"$error":"#DIV/0!"}},{"$f":"ROUND(AP262/AP$267,4)*100","v":{"$error":"#DIV/0!"}},{"$f":"ROUND(AQ262/AQ$267,4)*100","v":{"$error":"#DIV/0!"}},{"$f":"ROUND(AR262/AR$267,4)*100","v":{"$error":"#DIV/0!"}},{"$f":"ROUND(AS262/AS$267,4)*100","v":{"$error":"#DIV/0!"}},{"$f":"ROUND(AT262/AT$267,4)*100","v":{"$error":"#DIV/0!"}},{"$f":"ROUND(AU262/AU$267,4)*100","v":{"$error":"#DIV/0!"}},{"$f":"ROUND(AV262/AV$267,4)*100","v":{"$error":"#DIV/0!"}},{"$f":"SUM(問題別集計②!G216:G217)","v":0},{"$f":"SUM(問題別集計②!H216:H217)","v":0},{"$f":"SUM(問題別集計②!I216:I217)","v":0},{"$f":"SUM(問題別集計②!J216:J217)","v":0},{"$f":"SUM(問題別集計②!K216:K217)","v":0},{"$f":"SUM(問題別集計②!L216:L217)","v":0},{"$f":"SUM(問題別集計②!M216:M217)","v":0},{"$f":"SUM(問題別集計②!N216:N217)","v":0},{"$f":"SUM(問題別集計②!O216:O217)","v":0},{"$f":"SUM(問題別集計②!P216:P217)","v":0},{"$f":"SUM(問題別集計②!Q216:Q217)","v":0},{"$f":"SUM(問題別集計②!R216:R217)","v":0},{"$f":"SUM(問題別集計②!S216:S217)","v":0},{"$f":"SUM(問題別集計②!T216:T217)","v":0},{"$f":"ROUND(BK262/BK$267,4)*100","v":{"$error":"#DIV/0!"}},{"$f":"ROUND(BL262/BL$267,4)*100","v":{"$error":"#DIV/0!"}},{"$f":"ROUND(BM262/BM$267,4)*100","v":{"$error":"#DIV/0!"}},{"$f":"ROUND(BN262/BN$267,4)*100","v":{"$error":"#DIV/0!"}},{"$f":"ROUND(BO262/BO$267,4)*100","v":{"$error":"#DIV/0!"}},{"$f":"ROUND(BP262/BP$267,4)*100","v":{"$error":"#DIV/0!"}},{"$f":"ROUND(BQ262/BQ$267,4)*100","v":{"$error":"#DIV/0!"}},{"$f":"ROUND(BR262/BR$267,4)*100","v":{"$error":"#DIV/0!"}},{"$f":"ROUND(BS262/BS$267,4)*100","v":{"$error":"#DIV/0!"}},{"$f":"ROUND(BT262/BT$267,4)*100","v":{"$error":"#DIV/0!"}},{"$f":"ROUND(BU262/BU$267,4)*100","v":{"$error":"#DIV/0!"}},{"$f":"ROUND(BV262/BV$267,4)*100","v":{"$error":"#DIV/0!"}},{"$f":"ROUND(BW262/BW$267,4)*100","v":{"$error":"#DIV/0!"}},{"$f":"ROUND(BX262/BX$267,4)*100","v":{"$error":"#DIV/0!"}}]
[null,null,null,2,"まれにある",2,null,null,null,null,null,null,null,null,null,null,null,null,null,null,{"$f":"ROUND(G263/G$72,4)*100","v":{"$error":"#DIV/0!"}},{"$f":"ROUND(H263/H$72,4)*100","v":{"$error":"#DIV/0!"}},{"$f":"ROUND(I263/I$72,4)*100","v":{"$error":"#DIV/0!"}},{"$f":"ROUND(J263/J$72,4)*100","v":{"$error":"#DIV/0!"}},{"$f":"ROUND(K263/K$72,4)*100","v":{"$error":"#DIV/0!"}},{"$f":"ROUND(L263/L$72,4)*100","v":{"$error":"#DIV/0!"}},{"$f":"ROUND(M263/M$72,4)*100","v":{"$error":"#DIV/0!"}},{"$f":"ROUND(N263/N$72,4)*100","v":{"$error":"#DIV/0!"}},{"$f":"ROUND(O263/O$72,4)*100","v":{"$error":"#DIV/0!"}},{"$f":"ROUND(P263/P$72,4)*100","v":{"$error":"#DIV/0!"}},{"$f":"ROUND(Q263/Q$72,4)*100","v":{"$error":"#DIV/0!"}},{"$f":"ROUND(R263/R$72,4)*100","v":{"$error":"#DIV/0!"}},{"$f":"ROUND(S263/S$72,4)*100","v":{"$error":"#DIV/0!"}},{"$f":"ROUND(T263/T$72,4)*100","v":{"$error":"#DIV/0!"}},null,null,null,null,null,null,null,null,null,null,null,null,null,null,{"$f":"ROUND(AI263/AI$72,4)*100","v":{"$error":"#DIV/0!"}},{"$f":"ROUND(AJ263/AJ$72,4)*100","v":{"$error":"#DIV/0!"}},{"$f":"ROUND(AK263/AK$72,4)*100","v":{"$error":"#DIV/0!"}},{"$f":"ROUND(AL263/AL$72,4)*100","v":{"$error":"#DIV/0!"}},{"$f":"ROUND(AM263/AM$72,4)*100","v":{"$error":"#DIV/0!"}},{"$f":"ROUND(AN263/AN$72,4)*100","v":{"$error":"#DIV/0!"}},{"$f":"ROUND(AO263/AO$72,4)*100","v":{"$error":"#DIV/0!"}},{"$f":"ROUND(AP263/AP$72,4)*100","v":{"$error":"#DIV/0!"}},{"$f":"ROUND(AQ263/AQ$72,4)*100","v":{"$error":"#DIV/0!"}},{"$f":"ROUND(AR263/AR$72,4)*100","v":{"$error":"#DIV/0!"}},{"$f":"ROUND(AS263/AS$72,4)*100","v":{"$error":"#DIV/0!"}},{"$f":"ROUND(AT263/AT$72,4)*100","v":{"$error":"#DIV/0!"}},{"$f":"ROUND(AU263/AU$72,4)*100","v":{"$error":"#DIV/0!"}},{"$f":"ROUND(AV263/AV$72,4)*100","v":{"$error":"#DIV/0!"}},null,null,null,null,null,null,null,null,null,null,null,null,null,null,{"$f":"ROUND(BK263/BK$72,4)*100","v":{"$error":"#DIV/0!"}},{"$f":"ROUND(BL263/BL$72,4)*100","v":{"$error":"#DIV/0!"}},{"$f":"ROUND(BM263/BM$72,4)*100","v":{"$error":"#DIV/0!"}},{"$f":"ROUND(BN263/BN$72,4)*100","v":{"$error":"#DIV/0!"}},{"$f":"ROUND(BO263/BO$72,4)*100","v":{"$error":"#DIV/0!"}},{"$f":"ROUND(BP263/BP$72,4)*100","v":{"$error":"#DIV/0!"}},{"$f":"ROUND(BQ263/BQ$72,4)*100","v":{"$error":"#DIV/0!"}},{"$f":"ROUND(BR263/BR$72,4)*100","v":{"$error":"#DIV/0!"}},{"$f":"ROUND(BS263/BS$72,4)*100","v":{"$error":"#DIV/0!"}},{"$f":"ROUND(BT263/BT$72,4)*100","v":{"$error":"#DIV/0!"}},{"$f":"ROUND(BU263/BU$72,4)*100","v":{"$error":"#DIV/0!"}},{"$f":"ROUND(BV263/BV$72,4)*100","v":{"$error":"#DIV/0!"}},{"$f":"ROUND(BW263/BW$72,4)*100","v":{"$error":"#DIV/0!"}},{"$f":"ROUND(BX263/BX$72,4)*100","v":{"$error":"#DIV/0!"}}]
[null,null,null,3,"時々ある",3,{"$f":"SUM(問題別集計!G218:G220)","v":0},{"$f":"SUM(問題別集計!H218:H220)","v":0},{"$f":"SUM(問題別集計!I218:I220)","v":0},{"$f":"SUM(問題別集計!J218:J220)","v":0},{"$f":"SUM(問題別集計!K218:K220)","v":0},{"$f":"SUM(問題別集計!L218:L220)","v":0},{"$f":"SUM(問題別集計!M218:M220)","v":0},{"$f":"SUM(問題別集計!N218:N220)","v":0},{"$f":"SUM(問題別集計!O218:O220)","v":0},{"$f":"SUM(問題別集計!P218:P220)","v":0},{"$f":"SUM(問題別集計!Q218:Q220)","v":0},{"$f":"SUM(問題別集計!R218:R220)","v":0},{"$f":"SUM(問題別集計!S218:S220)","v":0},{"$f":"SUM(問題別集計!T218:T220)","v":0},{"$f":"ROUND(G264/G$267,4)*100","v":{"$error":"#DIV/0!"}},{"$f":"ROUND(H264/H$267,4)*100","v":{"$error":"#DIV/0!"}},{"$error":"#DIV/0!"},{"$error":"#DIV/0!"},{"$error":"#DIV/0!"},{"$error":"#DIV/0!"},{"$error":"#DIV/0!"},{"$error":"#DIV/0!"},{"$error":"#DIV/0!"},{"$error":"#DIV/0!"},{"$error":"#DIV/0!"},{"$error":"#DIV/0!"},{"$error":"#DIV/0!"},{"$error":"#DIV/0!"},{"$f":"SUM(問題別集計③!G218:G220)","v":0},{"$f":"SUM(問題別集計③!H218:H220)","v":0},{"$f":"SUM(問題別集計③!I218:I220)","v":0},{"$f":"SUM(問題別集計③!J218:J220)","v":0},{"$f":"SUM(問題別集計③!K218:K220)","v":0},{"$f":"SUM(問題別集計③!L218:L220)","v":0},{"$f":"SUM(問題別集計③!M218:M220)","v":0},{"$f":"SUM(問題別集計③!N218:N220)","v":0},{"$f":"SUM(問題別集計③!O218:O220)","v":0},{"$f":"SUM(問題別集計③!P218:P220)","v":0},{"$f":"SUM(問題別集計③!Q218:Q220)","v":0},{"$f":"SUM(問題別集計③!R218:R220)","v":0},{"$f":"SUM(問題別集計③!S218:S220)","v":0},{"$f":"SUM(問題別集計③!T218:T220)","v":0},{"$f":"ROUND(AI264/AI$267,4)*100","v":{"$error":"#DIV/0!"}},{"$f":"ROUND(AJ264/AJ$267,4)*100","v":{"$error":"#DIV/0!"}},{"$f":"ROUND(AK264/AK$267,4)*100","v":{"$error":"#DIV/0!"}},{"$f":"ROUND(AL264/AL$267,4)*100","v":{"$error":"#DIV/0!"}},{"$f":"ROUND(AM264/AM$267,4)*100","v":{"$error":"#DIV/0!"}},{"$f":"ROUND(AN264/AN$267,4)*100","v":{"$error":"#DIV/0!"}},{"$f":"ROUND(AO264/AO$267,4)*100","v":{"$error":"#DIV/0!"}},{"$f":"ROUND(AP264/AP$267,4)*100","v":{"$error":"#DIV/0!"}},{"$f":"ROUND(AQ264/AQ$267,4)*100","v":{"$error":"#DIV/0!"}},{"$f":"ROUND(AR264/AR$267,4)*100","v":{"$error":"#DIV/0!"}},{"$f":"ROUND(AS264/AS$267,4)*100","v":{"$error":"#DIV/0!"}},{"$f":"ROUND(AT264/AT$267,4)*100","v":{"$error":"#DIV/0!"}},{"$f":"ROUND(AU264/AU$267,4)*100","v":{"$error":"#DIV/0!"}},{"$f":"ROUND(AV264/AV$267,4)*100","v":{"$error":"#DIV/0!"}},{"$f":"SUM(問題別集計②!G218:G220)","v":0},{"$f":"SUM(問題別集計②!H218:H220)","v":0},{"$f":"SUM(問題別集計②!I218:I220)","v":0},{"$f":"SUM(問題別集計②!J218:J220)","v":0},{"$f":"SUM(問題別集計②!K218:K220)","v":0},{"$f":"SUM(問題別集計②!L218:L220)","v":0},{"$f":"SUM(問題別集計②!M218:M220)","v":0},{"$f":"SUM(問題別集計②!N218:N220)","v":0},{"$f":"SUM(問題別集計②!O218:O220)","v":0},{"$f":"SUM(問題別集計②!P218:P220)","v":0},{"$f":"SUM(問題別集計②!Q218:Q220)","v":0},{"$f":"SUM(問題別集計②!R218:R220)","v":0},{"$f":"SUM(問題別集計②!S218:S220)","v":0},{"$f":"SUM(問題別集計②!T218:T220)","v":0},{"$f":"ROUND(BK264/BK$267,4)*100","v":{"$error":"#DIV/0!"}},{"$f":"ROUND(BL264/BL$267,4)*100","v":{"$error":"#DIV/0!"}},{"$f":"ROUND(BM264/BM$267,4)*100","v":{"$error":"#DIV/0!"}},{"$f":"ROUND(BN264/BN$267,4)*100","v":{"$error":"#DIV/0!"}},{"$f":"ROUND(BO264/BO$267,4)*100","v":{"$error":"#DIV/0!"}},{"$f":"ROUND(BP264/BP$267,4)*100","v":{"$error":"#DIV/0!"}},{"$f":"ROUND(BQ264/BQ$267,4)*100","v":{"$error":"#DIV/0!"}},{"$f":"ROUND(BR264/BR$267,4)*100","v":{"$error":"#DIV/0!"}},{"$f":"ROUND(BS264/BS$267,4)*100","v":{"$error":"#DIV/0!"}},{"$f":"ROUND(BT264/BT$267,4)*100","v":{"$error":"#DIV/0!"}},{"$f":"ROUND(BU264/BU$267,4)*100","v":{"$error":"#DIV/0!"}},{"$f":"ROUND(BV264/BV$267,4)*100","v":{"$error":"#DIV/0!"}},{"$f":"ROUND(BW264/BW$267,4)*100","v":{"$error":"#DIV/0!"}},{"$f":"ROUND(BX264/BX$267,4)*100","v":{"$error":"#DIV/0!"}}]
[null,null,null,4,"よくある",4]
[null,null,null,5,"いつもある",5]
[null,null,null,"計",null,null,{"$f":"SUM(G262:G266)","v":0},{"$f":"SUM(H262:H266)","v":0},{"$f":"SUM(I262:I266)","v":0},{"$f":"SUM(J262:J266)","v":0},{"$f":"SUM(K262:K266)","v":0},{"$f":"SUM(L262:L266)","v":0},{"$f":"SUM(M262:M266)","v":0},{"$f":"SUM(N262:N266)","v":0},{"$f":"SUM(O262:O266)","v":0},{"$f":"SUM(P262:P266)","v":0},{"$f":"SUM(Q262:Q266)","v":0},{"$f":"SUM(R262:R266)","v":0},{"$f":"SUM(S262:S266)","v":0},{"$f":"SUM(T262:T266)","v":0},{"$f":"SUM(U262:U266)","v":{"$error":"#DIV/0!"}},{"$f":"SUM(V262:V266)","v":{"$error":"#DIV/0!"}},{"$f":"SUM(W262:W266)","v":{"$error":"#DIV/0!"}},{"$f":"SUM(X262:X266)","v":{"$error":"#DIV/0!"}},{"$f":"SUM(Y262:Y266)","v":{"$error":"#DIV/0!"}},{"$f":"SUM(Z262:Z266)","v":{"$error":"#DIV/0!"}},{"$f":"SUM(AA262:AA266)","v":{"$error":"#DIV/0!"}},{"$f":"SUM(AB262:AB266)","v":{"$error":"#DIV/0!"}},{"$f":"SUM(AC262:AC266)","v":{"$error":"#DIV/0!"}},{"$f":"SUM(AD262:AD266)","v":{"$error":"#DIV/0!"}},{"$f":"SUM(AE262:AE266)","v":{"$error":"#DIV/0!"}},{"$f":"SUM(AF262:AF266)","v":{"$error":"#DIV/0!"}},{"$f":"SUM(AG262:AG266)","v":{"$error":"#DIV/0!"}},{"$f":"SUM(AH262:AH266)","v":{"$error":"#DIV/0!"}},{"$f":"SUM(AI262:AI266)","v":0},{"$f":"SUM(AJ262:AJ266)","v":0},{"$f":"SUM(AK262:AK266)","v":0},{"$f":"SUM(AL262:AL266)","v":0},{"$f":"SUM(AM262:AM266)","v":0},{"$f":"SUM(AN262:AN266)","v":0},{"$f":"SUM(AO262:AO266)","v":0},{"$f":"SUM(AP262:AP266)","v":0},{"$f":"SUM(AQ262:AQ266)","v":0},{"$f":"SUM(AR262:AR266)","v":0},{"$f":"SUM(AS262:AS266)","v":0},{"$f":"SUM(AT262:AT266)","v":0},{"$f":"SUM(AU262:AU266)","v":0},{"$f":"SUM(AV262:AV266)","v":0},{"$error":"#DIV/0!"},{"$error":"#DIV/0!"},{"$error":"#DIV/0!"},{"$error":"#DIV/0!"},{"$error":"#DIV/0!"},{"$error":"#DIV/0!"},{"$f":"SUM(BC262:BC266)","v":{"$error":"#DIV/0!"}},{"$f":"SUM(BD262:BD266)","v":{"$error":"#DIV/0!"}},{"$error":"#DIV/0!"},{"$error":"#DIV/0!"},{"$error":"#DIV/0!"},{"$error":"#DIV/0!"},{"$error":"#DIV/0!"},{"$f":"SUM(BJ262:BJ266)","v":{"$error":"#DIV/0!"}},{"$f":"SUM(BK262:BK266)","v":0},{"$f":"SUM(BL262:BL266)","v":0},{"$f":"SUM(BM262:BM266)","v":0},{"$f":"SUM(BN262:BN266)","v":0},{"$f":"SUM(BO262:BO266)","v":0},{"$f":"SUM(BP262:BP266)","v":0},{"$f":"SUM(BQ262:BQ266)","v":0},{"$f":"SUM(BR262:BR266)","v":0},{"$f":"SUM(BS262:BS266)","v":0},{"$f":"SUM(BT262:BT266)","v":0},{"$f":"SUM(BU262:BU266)","v":0},{"$f":"SUM(BV262:BV266)","v":0},{"$f":"SUM(BW262:BW266)","v":0},{"$f":"SUM(BX262:BX266)","v":0},{"$error":"#DIV/0!"},{"$error":"#DIV/0!"},{"$error":"#DIV/0!"},{"$error":"#DIV/0!"},{"$error":"#DIV/0!"},{"$error":"#DIV/0!"},{"$f":"SUM(CE262:CE266)","v":{"$error":"#DIV/0!"}},{"$f":"SUM(CF262:CF266)","v":{"$error":"#DIV/0!"}},{"$error":"#DIV/0!"},{"$error":"#DIV/0!"},{"$error":"#DIV/0!"},{"$error":"#DIV/0!"},{"$error":"#DIV/0!"},{"$f":"SUM(CL262:CL266)","v":{"$error":"#DIV/0!"}}]
["質問・アンケート","47\n(48)","インターネットのために、過去12か月間に以下のようなことが起きましたか？あてはまるものをすべて選んでください。（複数回答可）",1,"学校や職場の遅刻","－",{"$f":"問題別集計!G221","v":0},{"$f":"問題別集計!H221","v":0},{"$f":"問題別集計!I221","v":0},{"$f":"問題別集計!J221","v":0},{"$f":"問題別集計!K221","v":0},{"$f":"問題別集計!L221","v":0},{"$f":"問題別集計!M221","v":0},{"$f":"問題別集計!N221","v":0},{"$f":"問題別集計!O221","v":0},{"$f":"問題別集計!P221","v":0},{"$f":"問題別集計!Q221","v":0},{"$f":"問題別集計!R221","v":0},{"$f":"問題別集計!S221","v":0},{"$f":"問題別集計!T221","v":0},{"$f":"ROUND(G268/G$15,3)*100","v":{"$error":"#DIV/0!"}},{"$error":"#DIV/0!"},{"$error":"#DIV/0!"},{"$error":"#DIV/0!"},{"$error":"#DIV/0!"},{"$error":"#DIV/0!"},{"$error":"#DIV/0!"},{"$f":"ROUND(N268/N$51,3)*100","v":{"$error":"#DIV/0!"}},{"$error":"#DIV/0!"},{"$error":"#DIV/0!"},{"$error":"#DIV/0!"},{"$error":"#DIV/0!"},{"$error":"#DIV/0!"},{"$error":"#DIV/0!"},{"$f":"問題別集計③!G221","v":0},{"$f":"問題別集計③!H221","v":0},{"$f":"問題別集計③!I221","v":0},{"$f":"問題別集計③!J221","v":0},{"$f":"問題別集計③!K221","v":0},{"$f":"問題別集計③!L221","v":0},{"$f":"問題別集計③!M221","v":0},{"$f":"問題別集計③!N221","v":0},{"$f":"問題別集計③!O221","v":0},{"$f":"問題別集計③!P221","v":0},{"$f":"問題別集計③!Q221","v":0},{"$f":"問題別集計③!R221","v":0},{"$f":"問題別集計③!S221","v":0},{"$f":"問題別集計③!T221","v":0},{"$f":"ROUND(AI268/AI$15,3)*100","v":{"$error":"#DIV/0!"}},{"$error":"#DIV/0!"},{"$error":"#DIV/0!"},{"$error":"#DIV/0!"},{"$error":"#DIV/0!"},{"$error":"#DIV/0!"},{"$error":"#DIV/0!"},{"$f":"ROUND(AP268/AP$51,3)*100","v":{"$error":"#DIV/0!"}},{"$error":"#DIV/0!"},{"$error":"#DIV/0!"},{"$error":"#DIV/0!"},{"$error":"#DIV/0!"},{"$error":"#DIV/0!"},{"$error":"#DIV/0!"},{"$f":"問題別集計②!G221","v":0},{"$f":"問題別集計②!H221","v":0},{"$f":"問題別集計②!I221","v":0},{"$f":"問題別集計②!J221","v":0},{"$f":"問題別集計②!K221","v":0},{"$f":"問題別集計②!L221","v":0},{"$f":"問題別集計②!M221","v":0},{"$f":"問題別集計②!N221","v":0},{"$f":"問題別集計②!O221","v":0},{"$f":"問題別集計②!P221","v":0},{"$f":"問題別集計②!Q221","v":0},{"$f":"問題別集計②!R221","v":0},{"$f":"問題別集計②!S221","v":0},{"$f":"問題別集計②!T221","v":0},{"$f":"ROUND(BK268/BK$15,3)*100","v":{"$error":"#DIV/0!"}},{"$error":"#DIV/0!"},{"$error":"#DIV/0!"},{"$error":"#DIV/0!"},{"$error":"#DIV/0!"},{"$error":"#DIV/0!"},{"$error":"#DIV/0!"},{"$f":"ROUND(BR268/BR$51,3)*100","v":{"$error":"#DIV/0!"}},{"$error":"#DIV/0!"},{"$error":"#DIV/0!"},{"$error":"#DIV/0!"},{"$error":"#DIV/0!"},{"$error":"#DIV/0!"},{"$error":"#DIV/0!"}]
[null,null,null,2,"欠席や欠勤","－",{"$f":"問題別集計!G222","v":0},{"$f":"問題別集計!H222","v":0},{"$f":"問題別集計!I222","v":0},{"$f":"問題別集計!J222","v":0},{"$f":"問題別集計!K222","v":0},{"$f":"問題別集計!L222","v":0},{"$f":"問題別集計!M222","v":0},{"$f":"問題別集計!N222","v":0},{"$f":"問題別集計!O222","v":0},{"$f":"問題別集計!P222","v":0},{"$f":"問題別集計!Q222","v":0},{"$f":"問題別集計!R222","v":0},{"$f":"問題別集計!S222","v":0},{"$f":"問題別集計!T222","v":0},{"$f":"ROUND(G269/G$15,3)*100","v":{"$error":"#DIV/0!"}},{"$f":"ROUND(H269/H$15,3)*100","v":{"$error":"#DIV/0!"}},{"$f":"ROUND(I269/I$15,3)*100","v":{"$error":"#DIV/0!"}},{"$f":"ROUND(J269/J$15,3)*100","v":{"$error":"#DIV/0!"}},{"$f":"ROUND(K269/K$15,3)*100","v":{"$error":"#DIV/0!"}},{"$f":"ROUND(L269/L$15,3)*100","v":{"$error":"#DIV/0!"}},{"$f":"ROUND(M269/M$15,3)*100","v":{"$error":"#DIV/0!"}},{"$f":"ROUND(N269/N$51,3)*100","v":{"$error":"#DIV/0!"}},{"$f":"ROUND(O269/O$51,3)*100","v":{"$error":"#DIV/0!"}},{"$f":"ROUND(P269/P$51,3)*100","v":{"$error":"#DIV/0!"}},{"$f":"ROUND(Q269/Q$51,3)*100","v":{"$error":"#DIV/0!"}},{"$f":"ROUND(R269/R$51,3)*100","v":{"$error":"#DIV/0!"}},{"$f":"ROUND(S269/S$51,3)*100","v":{"$error":"#DIV/0!"}},{"$f":"ROUND(T269/T$51,3)*100","v":{"$error":"#DIV/0!"}},{"$f":"問題別集計③!G222","v":0},{"$f":"問題別集計③!H222","v":0},{"$f":"問題別集計③!I222","v":0},{"$f":"問題別集計③!J222","v":0},{"$f":"問題別集計③!K222","v":0},{"$f":"問題別集計③!L222","v":0},{"$f":"問題別集計③!M222","v":0},{"$f":"問題別集計③!N222","v":0},{"$f":"問題別集計③!O222","v":0},{"$f":"問題別集計③!P222","v":0},{"$f":"問題別集計③!Q222","v":0},{"$f":"問題別集計③!R222","v":0},{"$f":"問題別集計③!S222","v":0},{"$f":"問題別集計③!T222","v":0},{"$f":"ROUND(AI269/AI$15,3)*100","v":{"$error":"#DIV/0!"}},{"$f":"ROUND(AJ269/AJ$15,3)*100","v":{"$error":"#DIV/0!"}},{"$f":"ROUND(AK269/AK$15,3)*100","v":{"$error":"#DIV/0!"}},{"$f":"ROUND(AL269/AL$15,3)*100","v":{"$error":"#DIV/0!"}},{"$f":"ROUND(AM269/AM$15,3)*100","v":{"$error":"#DIV/0!"}},{"$f":"ROUND(AN269/AN$15,3)*100","v":{"$error":"#DIV/0!"}},{"$f":"ROUND(AO269/AO$15,3)*100","v":{"$error":"#DIV/0!"}},{"$f":"ROUND(AP269/AP$51,3)*100","v":{"$error":"#DIV/0!"}},{"$f":"ROUND(AQ269/AQ$51,3)*100","v":{"$error":"#DIV/0!"}},{"$f":"ROUND(AR269/AR$51,3)*100","v":{"$error":"#DIV/0!"}},{"$f":"ROUND(AS269/AS$51,3)*100","v":{"$error":"#DIV/0!"}},{"$f":"ROUND(AT269/AT$51,3)*100","v":{"$error":"#DIV/0!"}},{"$f":"ROUND(AU269/AU$51,3)*100","v":{"$error":"#DIV/0!"}},{"$f":"ROUND(AV269/AV$51,3)*100","v":{"$error":"#DIV/0!"}},{"$f":"問題別集計②!G222","v":0},{"$f":"問題別集計②!H222","v":0},{"$f":"問題別集計②!I222","v":0},{"$f":"問題別集計②!J222","v":0},{"$f":"問題別集計②!K222","v":0},{"$f":"問題別集計②!L222","v":0},{"$f":"問題別集計②!M222","v":0},{"$f":"問題別集計②!N222","v":0},{"$f":"問題別集計②!O222","v":0},{"$f":"問題別集計②!P222","v":0},{"$f":"問題別集計②!Q222","v":0},{"$f":"問題別集計②!R222","v":0},{"$f":"問題別集計②!S222","v":0},{"$f":"問題別集計②!T222","v":0},{"$f":"ROUND(BK269/BK$15,3)*100","v":{"$error":"#DIV/0!"}},{"$f":"ROUND(BL269/BL$15,3)*100","v":{"$error":"#DIV/0!"}},{"$f":"ROUND(BM269/BM$15,3)*100","v":{"$error":"#DIV/0!"}},{"$f":"ROUND(BN269/BN$15,3)*100","v":{"$error":"#DIV/0!"}},{"$f":"ROUND(BO269/BO$15,3)*100","v":{"$error":"#DIV/0!"}},{"$f":"ROUND(BP269/BP$15,3)*100","v":{"$error":"#DIV/0!"}},{"$f":"ROUND(BQ269/BQ$15,3)*100","v":{"$error":"#DIV/0!"}},{"$f":"ROUND(BR269/BR$51,3)*100","v":{"$error":"#DIV/0!"}},{"$f":"ROUND(BS269/BS$51,3)*100","v":{"$error":"#DIV/0!"}},{"$f":"ROUND(BT269/BT$51,3)*100","v":{"$error":"#DIV/0!"}},{"$f":"ROUND(BU269/BU$51,3)*100","v":{"$error":"#DIV/0!"}},{"$f":"ROUND(BV269/BV$51,3)*100","v":{"$error":"#DIV/0!"}},{"$f":"ROUND(BW269/BW$51,3)*100","v":{"$error":"#DIV/0!"}},{"$f":"ROUND(BX269/BX$51,3)*100","v":{"$error":"#DIV/0!"}}]
[null,null,null,3,"学校成績の低下や仕事のパフォーマンスの低下","－",{"$f":"問題別集計!G223","v":0},{"$f":"問題別集計!H223","v":0},{"$f":"問題別集計!I223","v":0},{"$f":"問題別集計!J223","v":0},{"$f":"問題別集計!K223","v":0},{"$f":"問題別集計!L223","v":0},{"$f":"問題別集計!M223","v":0},{"$f":"問題別集計!N223","v":0},{"$f":"問題別集計!O223","v":0},{"$f":"問題別集計!P223","v":0},{"$f":"問題別集計!Q223","v":0},{"$f":"問題別集計!R223","v":0},{"$f":"問題別集計!S223","v":0},{"$f":"問題別集計!T223","v":0},{"$error":"#DIV/0!"},{"$error":"#DIV/0!"},{"$error":"#DIV/0!"},{"$error":"#DIV/0!"},{"$error":"#DIV/0!"},{"$error":"#DIV/0!"},{"$error":"#DIV/0!"},{"$error":"#DIV/0!"},{"$error":"#DIV/0!"},{"$error":"#DIV/0!"},{"$error":"#DIV/0!"},{"$error":"#DIV/0!"},{"$error":"#DIV/0!"},{"$error":"#DIV/0!"},{"$f":"問題別集計③!G223","v":0},{"$f":"問題別集計③!H223","v":0},{"$f":"問題別集計③!I223","v":0},{"$f":"問題別集計③!J223","v":0},{"$f":"問題別集計③!K223","v":0},{"$f":"問題別集計③!L223","v":0},{"$f":"問題別集計③!M223","v":0},{"$f":"問題別集計③!N223","v":0},{"$f":"問題別集計③!O223","v":0},{"$f":"問題別集計③!P223","v":0},{"$f":"問題別集計③!Q223","v":0},{"$f":"問題別集計③!R223","v":0},{"$f":"問題別集計③!S223","v":0},{"$f":"問題別集計③!T223","v":0},{"$error":"#DIV/0!"},{"$error":"#DIV/0!"},{"$error":"#DIV/0!"},{"$error":"#DIV/0!"},{"$error":"#DIV/0!"},{"$error":"#DIV/0!"},{"$error":"#DIV/0!"},{"$error":"#DIV/0!"},{"$error":"#DIV/0!"},{"$error":"#DIV/0!"},{"$error":"#DIV/0!"},{"$error":"#DIV/0!"},{"$error":"#DIV/0!"},{"$error":"#DIV/0!"},{"$f":"問題別集計②!G223","v":0},{"$f":"問題別集計②!H223","v":0},{"$f":"問題別集計②!I223","v":0},{"$f":"問題別集計②!J223","v":0},{"$f":"問題別集計②!K223","v":0},{"$f":"問題別集計②!L223","v":0},{"$f":"問題別集計②!M223","v":0},{"$f":"問題別集計②!N223","v":0},{"$f":"問題別集計②!O223","v":0},{"$f":"問題別集計②!P223","v":0},{"$f":"問題別集計②!Q223","v":0},{"$f":"問題別集計②!R223","v":0},{"$f":"問題別集計②!S223","v":0},{"$f":"問題別集計②!T223","v":0},{"$error":"#DIV/0!"},{"$error":"#DIV/0!"},{"$error":"#DIV/0!"},{"$error":"#DIV/0!"},{"$error":"#DIV/0!"},{"$error":"#DIV/0!"},{"$error":"#DIV/0!"},{"$error":"#DIV/0!"},{"$error":"#DIV/0!"},{"$error":"#DIV/0!"},{"$error":"#DIV/0!"},{"$error":"#DIV/0!"},{"$error":"#DIV/0!"},{"$error":"#DIV/0!"}]
[null,null,null,4,"転校","－",{"$f":"問題別集計!G224","v":0},{"$f":"問題別集計!H224","v":0},{"$f":"問題別集計!I224","v":0},{"$f":"問題別集計!J224","v":0},{"$f":"問題別集計!K224","v":0},{"$f":"問題別集計!L224","v":0},{"$f":"問題別集計!M224","v":0},{"$f":"問題別集計!N224","v":0},{"$f":"問題別集計!O224","v":0},{"$f":"問題別集計!P224","v":0},{"$f":"問題別集計!Q224","v":0},{"$f":"問題別集計!R224","v":0},{"$f":"問題別集計!S224","v":0},{"$f":"問題別集計!T224","v":0},{"$error":"#DIV/0!"},{"$error":"#DIV/0!"},{"$error":"#DIV/0!"},{"$error":"#DIV/0!"},{"$error":"#DIV/0!"},{"$error":"#DIV/0!"},{"$error":"#DIV/0!"},{"$error":"#DIV/0!"},{"$error":"#DIV/0!"},{"$error":"#DIV/0!"},{"$error":"#DIV/0!"},{"$error":"#DIV/0!"},{"$error":"#DIV/0!"},{"$error":"#DIV/0!"},{"$f":"問題別集計③!G224","v":0},{"$f":"問題別集計③!H224","v":0},{"$f":"問題別集計③!I224","v":0},{"$f":"問題別集計③!J224","v":0},{"$f":"問題別集計③!K224","v":0},{"$f":"問題別集計③!L224","v":0},{"$f":"問題別集計③!M224","v":0},{"$f":"問題別集計③!N224","v":0},{"$f":"問題別集計③!O224","v":0},{"$f":"問題別集計③!P224","v":0},{"$f":"問題別集計③!Q224","v":0},{"$f":"問題別集計③!R224","v":0},{"$f":"問題別集計③!S224","v":0},{"$f":"問題別集計③!T224","v":0},{"$error":"#DIV/0!"},{"$error":"#DIV/0!"},{"$error":"#DIV/0!"},{"$error":"#DIV/0!"},{"$error":"#DIV/0!"},{"$error":"#DIV/0!"},{"$error":"#DIV/0!"},{"$error":"#DIV/0!"},{"$error":"#DIV/0!"},{"$error":"#DIV/0!"},{"$error":"#DIV/0!"},{"$error":"#DIV/0!"},{"$error":"#DIV/0!"},{"$error":"#DIV/0!"},{"$f":"問題別集計②!G224","v":0},{"$f":"問題別集計②!H224","v":0},{"$f":"問題別集計②!I224","v":0},{"$f":"問題別集計②!J224","v":0},{"$f":"問題別集計②!K224","v":0},{"$f":"問題別集計②!L224","v":0},{"$f":"問題別集計②!M224","v":0},{"$f":"問題別集計②!N224","v":0},{"$f":"問題別集計②!O224","v":0},{"$f":"問題別集計②!P224","v":0},{"$f":"問題別集計②!Q224","v":0},{"$f":"問題別集計②!R224","v":0},{"$f":"問題別集計②!S224","v":0},{"$f":"問題別集計②!T224","v":0},{"$error":"#DIV/0!"},{"$error":"#DIV/0!"},{"$error":"#DIV/0!"},{"$error":"#DIV/0!"},{"$error":"#DIV/0!"},{"$error":"#DIV/0!"},{"$error":"#DIV/0!"},{"$error":"#DIV/0!"},{"$error":"#DIV/0!"},{"$error":"#DIV/0!"},{"$error":"#DIV/0!"},{"$error":"#DIV/0!"},{"$error":"#DIV/0!"},{"$error":"#DIV/0!"}]
[null,null,null,5,"退学または退職","－",{"$f":"問題別集計!G225","v":0},{"$f":"問題別集計!H225","v":0},{"$f":"問題別集計!I225","v":0},{"$f":"問題別集計!J225","v":0},{"$f":"問題別集計!K225","v":0},{"$f":"問題別集計!L225","v":0},{"$f":"問題別集計!M225","v":0},{"$f":"問題別集計!N225","v":0},{"$f":"問題別集計!O225","v":0},{"$f":"問題別集計!P225","v":0},{"$f":"問題別集計!Q225","v":0},{"$f":"問題別集計!R225","v":0},{"$f":"問題別集計!S225","v":0},{"$f":"問題別集計!T225","v":0},{"$error":"#DIV/0!"},{"$error":"#DIV/0!"},{"$error":"#DIV/0!"},{"$error":"#DIV/0!"},{"$error":"#DIV/0!"},{"$error":"#DIV/0!"},{"$error":"#DIV/0!"},{"$error":"#DIV/0!"},{"$error":"#DIV/0!"},{"$error":"#DIV/0!"},{"$error":"#DIV/0!"},{"$error":"#DIV/0!"},{"$error":"#DIV/0!"},{"$error":"#DIV/0!"},{"$f":"問題別集計③!G225","v":0},{"$f":"問題別集計③!H225","v":0},{"$f":"問題別集計③!I225","v":0},{"$f":"問題別集計③!J225","v":0},{"$f":"問題別集計③!K225","v":0},{"$f":"問題別集計③!L225","v":0},{"$f":"問題別集計③!M225","v":0},{"$f":"問題別集計③!N225","v":0},{"$f":"問題別集計③!O225","v":0},{"$f":"問題別集計③!P225","v":0},{"$f":"問題別集計③!Q225","v":0},{"$f":"問題別集計③!R225","v":0},{"$f":"問題別集計③!S225","v":0},{"$f":"問題別集計③!T225","v":0},{"$error":"#DIV/0!"},{"$error":"#DIV/0!"},{"$error":"#DIV/0!"},{"$error":"#DIV/0!"},{"$error":"#DIV/0!"},{"$error":"#DIV/0!"},{"$error":"#DIV/0!"},{"$error":"#DIV/0!"},{"$error":"#DIV/0!"},{"$error":"#DIV/0!"},{"$error":"#DIV/0!"},{"$error":"#DIV/0!"},{"$error":"#DIV/0!"},{"$error":"#DIV/0!"},{"$f":"問題別集計②!G225","v":0},{"$f":"問題別集計②!H225","v":0},{"$f":"問題別集計②!I225","v":0},{"$f":"問題別集計②!J225","v":0},{"$f":"問題別集計②!K225","v":0},{"$f":"問題別集計②!L225","v":0},{"$f":"問題別集計②!M225","v":0},{"$f":"問題別集計②!N225","v":0},{"$f":"問題別集計②!O225","v":0},{"$f":"問題別集計②!P225","v":0},{"$f":"問題別集計②!Q225","v":0},{"$f":"問題別集計②!R225","v":0},{"$f":"問題別集計②!S225","v":0},{"$f":"問題別集計②!T225","v":0},{"$error":"#DIV/0!"},{"$error":"#DIV/0!"},{"$error":"#DIV/0!"},{"$error":"#DIV/0!"},{"$error":"#DIV/0!"},{"$error":"#DIV/0!"},{"$error":"#DIV/0!"},{"$error":"#DIV/0!"},{"$error":"#DIV/0!"},{"$error":"#DIV/0!"},{"$error":"#DIV/0!"},{"$error":"#DIV/0!"},{"$error":"#DIV/0!"},{"$error":"#DIV/0!"}]
[null,null,null,6,"現実の友人が減った","－",{"$f":"問題別集計!G226","v":0},{"$f":"問題別集計!H226","v":0},{"$f":"問題別集計!I226","v":0},{"$f":"問題別集計!J226","v":0},{"$f":"問題別集計!K226","v":0},{"$f":"問題別集計!L226","v":0},{"$f":"問題別集計!M226","v":0},{"$f":"問題別集計!N226","v":0},{"$f":"問題別集計!O226","v":0},{"$f":"問題別集計!P226","v":0},{"$f":"問題別集計!Q226","v":0},{"$f":"問題別集計!R226","v":0},{"$f":"問題別集計!S226","v":0},{"$f":"問題別集計!T226","v":0},{"$error":"#DIV/0!"},{"$error":"#DIV/0!"},{"$error":"#DIV/0!"},{"$error":"#DIV/0!"},{"$error":"#DIV/0!"},{"$error":"#DIV/0!"},{"$error":"#DIV/0!"},{"$error":"#DIV/0!"},{"$error":"#DIV/0!"},{"$error":"#DIV/0!"},{"$error":"#DIV/0!"},{"$error":"#DIV/0!"},{"$error":"#DIV/0!"},{"$error":"#DIV/0!"},{"$f":"問題別集計③!G226","v":0},{"$f":"問題別集計③!H226","v":0},{"$f":"問題別集計③!I226","v":0},{"$f":"問題別集計③!J226","v":0},{"$f":"問題別集計③!K226","v":0},{"$f":"問題別集計③!L226","v":0},{"$f":"問題別集計③!M226","v":0},{"$f":"問題別集計③!N226","v":0},{"$f":"問題別集計③!O226","v":0},{"$f":"問題別集計③!P226","v":0},{"$f":"問題別集計③!Q226","v":0},{"$f":"問題別集計③!R226","v":0},{"$f":"問題別集計③!S226","v":0},{"$f":"問題別集計③!T226","v":0},{"$error":"#DIV/0!"},{"$error":"#DIV/0!"},{"$error":"#DIV/0!"},{"$error":"#DIV/0!"},{"$error":"#DIV/0!"},{"$error":"#DIV/0!"},{"$error":"#DIV/0!"},{"$error":"#DIV/0!"},{"$error":"#DIV/0!"},{"$error":"#DIV/0!"},{"$error":"#DIV/0!"},{"$error":"#DIV/0!"},{"$error":"#DIV/0!"},{"$error":"#DIV/0!"},{"$f":"問題別集計②!G226","v":0},{"$f":"問題別集計②!H226","v":0},{"$f":"問題別集計②!I226","v":0},{"$f":"問題別集計②!J226","v":0},{"$f":"問題別集計②!K226","v":0},{"$f":"問題別集計②!L226","v":0},{"$f":"問題別集計②!M226","v":0},{"$f":"問題別集計②!N226","v":0},{"$f":"問題別集計②!O226","v":0},{"$f":"問題別集計②!P226","v":0},{"$f":"問題別集計②!Q226","v":0},{"$f":"問題別集計②!R226","v":0},{"$f":"問題別集計②!S226","v":0},{"$f":"問題別集計②!T226","v":0},{"$error":"#DIV/0!"},{"$error":"#DIV/0!"},{"$error":"#DIV/0!"},{"$error":"#DIV/0!"},{"$error":"#DIV/0!"},{"$error":"#DIV/0!"},{"$error":"#DIV/0!"},{"$error":"#DIV/0!"},{"$error":"#DIV/0!"},{"$error":"#DIV/0!"},{"$error":"#DIV/0!"},{"$error":"#DIV/0!"},{"$error":"#DIV/0!"},{"$error":"#DIV/0!"}]
[null,null,null,7,"家族との関係が悪くなった","－",{"$f":"問題別集計!G227","v":0},{"$f":"問題別集計!H227","v":0},{"$f":"問題別集計!I227","v":0},{"$f":"問題別集計!J227","v":0},{"$f":"問題別集計!K227","v":0},{"$f":"問題別集計!L227","v":0},{"$f":"問題別集計!M227","v":0},{"$f":"問題別集計!N227","v":0},{"$f":"問題別集計!O227","v":0},{"$f":"問題別集計!P227","v":0},{"$f":"問題別集計!Q227","v":0},{"$f":"問題別集計!R227","v":0},{"$f":"問題別集計!S227","v":0},{"$f":"問題別集計!T227","v":0},{"$error":"#DIV/0!"},{"$error":"#DIV/0!"},{"$error":"#DIV/0!"},{"$error":"#DIV/0!"},{"$error":"#DIV/0!"},{"$error":"#DIV/0!"},{"$error":"#DIV/0!"},{"$error":"#DIV/0!"},{"$error":"#DIV/0!"},{"$error":"#DIV/0!"},{"$error":"#DIV/0!"},{"$error":"#DIV/0!"},{"$error":"#DIV/0!"},{"$error":"#DIV/0!"},{"$f":"問題別集計③!G227","v":0},{"$f":"問題別集計③!H227","v":0},{"$f":"問題別集計③!I227","v":0},{"$f":"問題別集計③!J227","v":0},{"$f":"問題別集計③!K227","v":0},{"$f":"問題別集計③!L227","v":0},{"$f":"問題別集計③!M227","v":0},{"$f":"問題別集計③!N227","v":0},{"$f":"問題別集計③!O227","v":0},{"$f":"問題別集計③!P227","v":0},{"$f":"問題別集計③!Q227","v":0},{"$f":"問題別集計③!R227","v":0},{"$f":"問題別集計③!S227","v":0},{"$f":"問題別集計③!T227","v":0},{"$error":"#DIV/0!"},{"$error":"#DIV/0!"},{"$error":"#DIV/0!"},{"$error":"#DIV/0!"},{"$error":"#DIV/0!"},{"$error":"#DIV/0!"},{"$error":"#DIV/0!"},{"$error":"#DIV/0!"},{"$error":"#DIV/0!"},{"$error":"#DIV/0!"},{"$error":"#DIV/0!"},{"$error":"#DIV/0!"},{"$error":"#DIV/0!"},{"$error":"#DIV/0!"},{"$f":"問題別集計②!G227","v":0},{"$f":"問題別集計②!H227","v":0},{"$f":"問題別集計②!I227","v":0},{"$f":"問題別集計②!J227","v":0},{"$f":"問題別集計②!K227","v":0},{"$f":"問題別集計②!L227","v":0},{"$f":"問題別集計②!M227","v":0},{"$f":"問題別集計②!N227","v":0},{"$f":"問題別集計②!O227","v":0},{"$f":"問題別集計②!P227","v":0},{"$f":"問題別集計②!Q227","v":0},{"$f":"問題別集計②!R227","v":0},{"$f":"問題別集計②!S227","v":0},{"$f":"問題別集計②!T227","v":0},{"$error":"#DIV/0!"},{"$error":"#DIV/0!"},{"$error":"#DIV/0!"},{"$error":"#DIV/0!"},{"$error":"#DIV/0!"},{"$error":"#DIV/0!"},{"$error":"#DIV/0!"},{"$error":"#DIV/0!"},{"$error":"#DIV/0!"},{"$error":"#DIV/0!"},{"$error":"#DIV/0!"},{"$error":"#DIV/0!"},{"$error":"#DIV/0!"},{"$error":"#DIV/0!"}]
[null,null,null,8,"家で、物に当たったり、こわしたりした","－",{"$f":"問題別集計!G228","v":0},{"$f":"問題別集計!H228","v":0},{"$f":"問題別集計!I228","v":0},{"$f":"問題別集計!J228","v":0},{"$f":"問題別集計!K228","v":0},{"$f":"問題別集計!L228","v":0},{"$f":"問題別集計!M228","v":0},{"$f":"問題別集計!N228","v":0},{"$f":"問題別集計!O228","v":0},{"$f":"問題別集計!P228","v":0},{"$f":"問題別集計!Q228","v":0},{"$f":"問題別集計!R228","v":0},{"$f":"問題別集計!S228","v":0},{"$f":"問題別集計!T228","v":0},{"$error":"#DIV/0!"},{"$error":"#DIV/0!"},{"$error":"#DIV/0!"},{"$error":"#DIV/0!"},{"$error":"#DIV/0!"},{"$error":"#DIV/0!"},{"$error":"#DIV/0!"},{"$error":"#DIV/0!"},{"$error":"#DIV/0!"},{"$error":"#DIV/0!"},{"$error":"#DIV/0!"},{"$error":"#DIV/0!"},{"$error":"#DIV/0!"},{"$error":"#DIV/0!"},{"$f":"問題別集計③!G228","v":0},{"$f":"問題別集計③!H228","v":0},{"$f":"問題別集計③!I228","v":0},{"$f":"問題別集計③!J228","v":0},{"$f":"問題別集計③!K228","v":0},{"$f":"問題別集計③!L228","v":0},{"$f":"問題別集計③!M228","v":0},{"$f":"問題別集計③!N228","v":0},{"$f":"問題別集計③!O228","v":0},{"$f":"問題別集計③!P228","v":0},{"$f":"問題別集計③!Q228","v":0},{"$f":"問題別集計③!R228","v":0},{"$f":"問題別集計③!S228","v":0},{"$f":"問題別集計③!T228","v":0},{"$error":"#DIV/0!"},{"$error":"#DIV/0!"},{"$error":"#DIV/0!"},{"$error":"#DIV/0!"},{"$error":"#DIV/0!"},{"$error":"#DIV/0!"},{"$error":"#DIV/0!"},{"$error":"#DIV/0!"},{"$error":"#DIV/0!"},{"$error":"#DIV/0!"},{"$error":"#DIV/0!"},{"$error":"#DIV/0!"},{"$error":"#DIV/0!"},{"$error":"#DIV/0!"},{"$f":"問題別集計②!G228","v":0},{"$f":"問題別集計②!H228","v":0},{"$f":"問題別集計②!I228","v":0},{"$f":"問題別集計②!J228","v":0},{"$f":"問題別集計②!K228","v":0},{"$f":"問題別集計②!L228","v":0},{"$f":"問題別集計②!M228","v":0},{"$f":"問題別集計②!N228","v":0},{"$f":"問題別集計②!O228","v":0},{"$f":"問題別集計②!P228","v":0},{"$f":"問題別集計②!Q228","v":0},{"$f":"問題別集計②!R228","v":0},{"$f":"問題別集計②!S228","v":0},{"$f":"問題別集計②!T228","v":0},{"$error":"#DIV/0!"},{"$error":"#DIV/0!"},{"$error":"#DIV/0!"},{"$error":"#DIV/0!"},{"$error":"#DIV/0!"},{"$error":"#DIV/0!"},{"$error":"#DIV/0!"},{"$error":"#DIV/0!"},{"$error":"#DIV/0!"},{"$error":"#DIV/0!"},{"$error":"#DIV/0!"},{"$error":"#DIV/0!"},{"$error":"#DIV/0!"},{"$error":"#DIV/0!"}]
[null,null,null,9,"家族に暴力をふるった","－",{"$f":"問題別集計!G229","v":0},{"$f":"問題別集計!H229","v":0},{"$f":"問題別集計!I229","v":0},{"$f":"問題別集計!J229","v":0},{"$f":"問題別集計!K229","v":0},{"$f":"問題別集計!L229","v":0},{"$f":"問題別集計!M229","v":0},{"$f":"問題別集計!N229","v":0},{"$f":"問題別集計!O229","v":0},{"$f":"問題別集計!P229","v":0},{"$f":"問題別集計!Q229","v":0},{"$f":"問題別集計!R229","v":0},{"$f":"問題別集計!S229","v":0},{"$f":"問題別集計!T229","v":0},{"$error":"#DIV/0!"},{"$error":"#DIV/0!"},{"$error":"#DIV/0!"},{"$error":"#DIV/0!"},{"$error":"#DIV/0!"},{"$error":"#DIV/0!"},{"$error":"#DIV/0!"},{"$error":"#DIV/0!"},{"$error":"#DIV/0!"},{"$error":"#DIV/0!"},{"$error":"#DIV/0!"},{"$error":"#DIV/0!"},{"$error":"#DIV/0!"},{"$error":"#DIV/0!"},{"$f":"問題別集計③!G229","v":0},{"$f":"問題別集計③!H229","v":0},{"$f":"問題別集計③!I229","v":0},{"$f":"問題別集計③!J229","v":0},{"$f":"問題別集計③!K229","v":0},{"$f":"問題別集計③!L229","v":0},{"$f":"問題別集計③!M229","v":0},{"$f":"問題別集計③!N229","v":0},{"$f":"問題別集計③!O229","v":0},{"$f":"問題別集計③!P229","v":0},{"$f":"問題別集計③!Q229","v":0},{"$f":"問題別集計③!R229","v":0},{"$f":"問題別集計③!S229","v":0},{"$f":"問題別集計③!T229","v":0},{"$error":"#DIV/0!"},{"$error":"#DIV/0!"},{"$error":"#DIV/0!"},{"$error":"#DIV/0!"},{"$error":"#DIV/0!"},{"$error":"#DIV/0!"},{"$error":"#DIV/0!"},{"$error":"#DIV/0!"},{"$error":"#DIV/0!"},{"$error":"#DIV/0!"},{"$error":"#DIV/0!"},{"$error":"#DIV/0!"},{"$error":"#DIV/0!"},{"$error":"#DIV/0!"},{"$f":"問題別集計②!G229","v":0},{"$f":"問題別集計②!H229","v":0},{"$f":"問題別集計②!I229","v":0},{"$f":"問題別集計②!J229","v":0},{"$f":"問題別集計②!K229","v":0},{"$f":"問題別集計②!L229","v":0},{"$f":"問題別集計②!M229","v":0},{"$f":"問題別集計②!N229","v":0},{"$f":"問題別集計②!O229","v":0},{"$f":"問題別集計②!P229","v":0},{"$f":"問題別集計②!Q229","v":0},{"$f":"問題別集計②!R229","v":0},{"$f":"問題別集計②!S229","v":0},{"$f":"問題別集計②!T229","v":0},{"$error":"#DIV/0!"},{"$error":"#DIV/0!"},{"$error":"#DIV/0!"},{"$error":"#DIV/0!"},{"$error":"#DIV/0!"},{"$error":"#DIV/0!"},{"$error":"#DIV/0!"},{"$error":"#DIV/0!"},{"$error":"#DIV/0!"},{"$error":"#DIV/0!"},{"$error":"#DIV/0!"},{"$error":"#DIV/0!"},{"$error":"#DIV/0!"},{"$error":"#DIV/0!"}]
[null,null,null,10,"朝起きられなかった","－",{"$f":"問題別集計!G230","v":0},{"$f":"問題別集計!H230","v":0},{"$f":"問題別集計!I230","v":0},{"$f":"問題別集計!J230","v":0},{"$f":"問題別集計!K230","v":0},{"$f":"問題別集計!L230","v":0},{"$f":"問題別集計!M230","v":0},{"$f":"問題別集計!N230","v":0},{"$f":"問題別集計!O230","v":0},{"$f":"問題別集計!P230","v":0},{"$f":"問題別集計!Q230","v":0},{"$f":"問題別集計!R230","v":0},{"$f":"問題別集計!S230","v":0},{"$f":"問題別集計!T230","v":0},{"$error":"#DIV/0!"},{"$error":"#DIV/0!"},{"$error":"#DIV/0!"},{"$error":"#DIV/0!"},{"$error":"#DIV/0!"},{"$error":"#DIV/0!"},{"$error":"#DIV/0!"},{"$error":"#DIV/0!"},{"$error":"#DIV/0!"},{"$error":"#DIV/0!"},{"$error":"#DIV/0!"},{"$error":"#DIV/0!"},{"$error":"#DIV/0!"},{"$error":"#DIV/0!"},{"$f":"問題別集計③!G230","v":0},{"$f":"問題別集計③!H230","v":0},{"$f":"問題別集計③!I230","v":0},{"$f":"問題別集計③!J230","v":0},{"$f":"問題別集計③!K230","v":0},{"$f":"問題別集計③!L230","v":0},{"$f":"問題別集計③!M230","v":0},{"$f":"問題別集計③!N230","v":0},{"$f":"問題別集計③!O230","v":0},{"$f":"問題別集計③!P230","v":0},{"$f":"問題別集計③!Q230","v":0},{"$f":"問題別集計③!R230","v":0},{"$f":"問題別集計③!S230","v":0},{"$f":"問題別集計③!T230","v":0},{"$error":"#DIV/0!"},{"$error":"#DIV/0!"},{"$error":"#DIV/0!"},{"$error":"#DIV/0!"},{"$error":"#DIV/0!"},{"$error":"#DIV/0!"},{"$error":"#DIV/0!"},{"$error":"#DIV/0!"},{"$error":"#DIV/0!"},{"$error":"#DIV/0!"},{"$error":"#DIV/0!"},{"$error":"#DIV/0!"},{"$error":"#DIV/0!"},{"$error":"#DIV/0!"},{"$f":"問題別集計②!G230","v":0},{"$f":"問題別集計②!H230","v":0},{"$f":"問題別集計②!I230","v":0},{"$f":"問題別集計②!J230","v":0},{"$f":"問題別集計②!K230","v":0},{"$f":"問題別集計②!L230","v":0},{"$f":"問題別集計②!M230","v":0},{"$f":"問題別集計②!N230","v":0},{"$f":"問題別集計②!O230","v":0},{"$f":"問題別集計②!P230","v":0},{"$f":"問題別集計②!Q230","v":0},{"$f":"問題別集計②!R230","v":0},{"$f":"問題別集計②!S230","v":0},{"$f":"問題別集計②!T230","v":0},{"$error":"#DIV/0!"},{"$error":"#DIV/0!"},{"$error":"#DIV/0!"},{"$error":"#DIV/0!"},{"$error":"#DIV/0!"},{"$error":"#DIV/0!"},{"$error":"#DIV/0!"},{"$error":"#DIV/0!"},{"$error":"#DIV/0!"},{"$error":"#DIV/0!"},{"$error":"#DIV/0!"},{"$error":"#DIV/0!"},{"$error":"#DIV/0!"},{"$error":"#DIV/0!"}]
[null,null,null,11,"昼夜逆転またはその傾向","－",{"$f":"問題別集計!G231","v":0},{"$f":"問題別集計!H231","v":0},{"$f":"問題別集計!I231","v":0},{"$f":"問題別集計!J231","v":0},{"$f":"問題別集計!K231","v":0},{"$f":"問題別集計!L231","v":0},{"$f":"問題別集計!M231","v":0},{"$f":"問題別集計!N231","v":0},{"$f":"問題別集計!O231","v":0},{"$f":"問題別集計!P231","v":0},{"$f":"問題別集計!Q231","v":0},{"$f":"問題別集計!R231","v":0},{"$f":"問題別集計!S231","v":0},{"$f":"問題別集計!T231","v":0},{"$error":"#DIV/0!"},{"$error":"#DIV/0!"},{"$error":"#DIV/0!"},{"$error":"#DIV/0!"},{"$error":"#DIV/0!"},{"$error":"#DIV/0!"},{"$error":"#DIV/0!"},{"$error":"#DIV/0!"},{"$error":"#DIV/0!"},{"$error":"#DIV/0!"},{"$error":"#DIV/0!"},{"$error":"#DIV/0!"},{"$error":"#DIV/0!"},{"$error":"#DIV/0!"},{"$f":"問題別集計③!G231","v":0},{"$f":"問題別集計③!H231","v":0},{"$f":"問題別集計③!I231","v":0},{"$f":"問題別集計③!J231","v":0},{"$f":"問題別集計③!K231","v":0},{"$f":"問題別集計③!L231","v":0},{"$f":"問題別集計③!M231","v":0},{"$f":"問題別集計③!N231","v":0},{"$f":"問題別集計③!O231","v":0},{"$f":"問題別集計③!P231","v":0},{"$f":"問題別集計③!Q231","v":0},{"$f":"問題別集計③!R231","v":0},{"$f":"問題別集計③!S231","v":0},{"$f":"問題別集計③!T231","v":0},{"$error":"#DIV/0!"},{"$error":"#DIV/0!"},{"$error":"#DIV/0!"},{"$error":"#DIV/0!"},{"$error":"#DIV/0!"},{"$error":"#DIV/0!"},{"$error":"#DIV/0!"},{"$error":"#DIV/0!"},{"$error":"#DIV/0!"},{"$error":"#DIV/0!"},{"$error":"#DIV/0!"},{"$error":"#DIV/0!"},{"$error":"#DIV/0!"},{"$error":"#DIV/0!"},{"$f":"問題別集計②!G231","v":0},{"$f":"問題別集計②!H231","v":0},{"$f":"問題別集計②!I231","v":0},{"$f":"問題別集計②!J231","v":0},{"$f":"問題別集計②!K231","v":0},{"$f":"問題別集計②!L231","v":0},{"$f":"問題別集計②!M231","v":0},{"$f":"問題別集計②!N231","v":0},{"$f":"問題別集計②!O231","v":0},{"$f":"問題別集計②!P231","v":0},{"$f":"問題別集計②!Q231","v":0},{"$f":"問題別集計②!R231","v":0},{"$f":"問題別集計②!S231","v":0},{"$f":"問題別集計②!T231","v":0},{"$error":"#DIV/0!"},{"$error":"#DIV/0!"},{"$error":"#DIV/0!"},{"$error":"#DIV/0!"},{"$error":"#DIV/0!"},{"$error":"#DIV/0!"},{"$error":"#DIV/0!"},{"$error":"#DIV/0!"},{"$error":"#DIV/0!"},{"$error":"#DIV/0!"},{"$error":"#DIV/0!"},{"$error":"#DIV/0!"},{"$error":"#DIV/0!"},{"$error":"#DIV/0!"}]
[null,null,null,12,"家に引きこもっていた","－",{"$f":"問題別集計!G232","v":0},{"$f":"問題別集計!H232","v":0},{"$f":"問題別集計!I232","v":0},{"$f":"問題別集計!J232","v":0},{"$f":"問題別集計!K232","v":0},{"$f":"問題別集計!L232","v":0},{"$f":"問題別集計!M232","v":0},{"$f":"問題別集計!N232","v":0},{"$f":"問題別集計!O232","v":0},{"$f":"問題別集計!P232","v":0},{"$f":"問題別集計!Q232","v":0},{"$f":"問題別集計!R232","v":0},{"$f":"問題別集計!S232","v":0},{"$f":"問題別集計!T232","v":0},{"$error":"#DIV/0!"},{"$error":"#DIV/0!"},{"$error":"#DIV/0!"},{"$error":"#DIV/0!"},{"$error":"#DIV/0!"},{"$error":"#DIV/0!"},{"$error":"#DIV/0!"},{"$error":"#DIV/0!"},{"$error":"#DIV/0!"},{"$error":"#DIV/0!"},{"$error":"#DIV/0!"},{"$error":"#DIV/0!"},{"$error":"#DIV/0!"},{"$error":"#DIV/0!"},{"$f":"問題別集計③!G232","v":0},{"$f":"問題別集計③!H232","v":0},{"$f":"問題別集計③!I232","v":0},{"$f":"問題別集計③!J232","v":0},{"$f":"問題別集計③!K232","v":0},{"$f":"問題別集計③!L232","v":0},{"$f":"問題別集計③!M232","v":0},{"$f":"問題別集計③!N232","v":0},{"$f":"問題別集計③!O232","v":0},{"$f":"問題別集計③!P232","v":0},{"$f":"問題別集計③!Q232","v":0},{"$f":"問題別集計③!R232","v":0},{"$f":"問題別集計③!S232","v":0},{"$f":"問題別集計③!T232","v":0},{"$error":"#DIV/0!"},{"$error":"#DIV/0!"},{"$error":"#DIV/0!"},{"$error":"#DIV/0!"},{"$error":"#DIV/0!"},{"$error":"#DIV/0!"},{"$error":"#DIV/0!"},{"$error":"#DIV/0!"},{"$error":"#DIV/0!"},{"$error":"#DIV/0!"},{"$error":"#DIV/0!"},{"$error":"#DIV/0!"},{"$error":"#DIV/0!"},{"$error":"#DIV/0!"},{"$f":"問題別集計②!G232","v":0},{"$f":"問題別集計②!H232","v":0},{"$f":"問題別集計②!I232","v":0},{"$f":"問題別集計②!J232","v":0},{"$f":"問題別集計②!K232","v":0},{"$f":"問題別集計②!L232","v":0},{"$f":"問題別集計②!M232","v":0},{"$f":"問題別集計②!N232","v":0},{"$f":"問題別集計②!O232","v":0},{"$f":"問題別集計②!P232","v":0},{"$f":"問題別集計②!Q232","v":0},{"$f":"問題別集計②!R232","v":0},{"$f":"問題別集計②!S232","v":0},{"$f":"問題別集計②!T232","v":0},{"$error":"#DIV/0!"},{"$error":"#DIV/0!"},{"$error":"#DIV/0!"},{"$error":"#DIV/0!"},{"$error":"#DIV/0!"},{"$error":"#DIV/0!"},{"$error":"#DIV/0!"},{"$error":"#DIV/0!"},{"$error":"#DIV/0!"},{"$error":"#DIV/0!"},{"$error":"#DIV/0!"},{"$error":"#DIV/0!"},{"$error":"#DIV/0!"},{"$error":"#DIV/0!"}]
[null,null,null,13,"ゲーム課金が多く、家族やほかの人に注意された","－",{"$f":"問題別集計!G233","v":0},{"$f":"問題別集計!H233","v":0},{"$f":"問題別集計!I233","v":0},{"$f":"問題別集計!J233","v":0},{"$f":"問題別集計!K233","v":0},{"$f":"問題別集計!L233","v":0},{"$f":"問題別集計!M233","v":0},{"$f":"問題別集計!N233","v":0},{"$f":"問題別集計!O233","v":0},{"$f":"問題別集計!P233","v":0},{"$f":"問題別集計!Q233","v":0},{"$f":"問題別集計!R233","v":0},{"$f":"問題別集計!S233","v":0},{"$f":"問題別集計!T233","v":0},{"$error":"#DIV/0!"},{"$error":"#DIV/0!"},{"$error":"#DIV/0!"},{"$error":"#DIV/0!"},{"$error":"#DIV/0!"},{"$error":"#DIV/0!"},{"$error":"#DIV/0!"},{"$error":"#DIV/0!"},{"$error":"#DIV/0!"},{"$error":"#DIV/0!"},{"$error":"#DIV/0!"},{"$error":"#DIV/0!"},{"$error":"#DIV/0!"},{"$error":"#DIV/0!"},{"$f":"問題別集計③!G233","v":0},{"$f":"問題別集計③!H233","v":0},{"$f":"問題別集計③!I233","v":0},{"$f":"問題別集計③!J233","v":0},{"$f":"問題別集計③!K233","v":0},{"$f":"問題別集計③!L233","v":0},{"$f":"問題別集計③!M233","v":0},{"$f":"問題別集計③!N233","v":0},{"$f":"問題別集計③!O233","v":0},{"$f":"問題別集計③!P233","v":0},{"$f":"問題別集計③!Q233","v":0},{"$f":"問題別集計③!R233","v":0},{"$f":"問題別集計③!S233","v":0},{"$f":"問題別集計③!T233","v":0},{"$error":"#DIV/0!"},{"$error":"#DIV/0!"},{"$error":"#DIV/0!"},{"$error":"#DIV/0!"},{"$error":"#DIV/0!"},{"$error":"#DIV/0!"},{"$error":"#DIV/0!"},{"$error":"#DIV/0!"},{"$error":"#DIV/0!"},{"$error":"#DIV/0!"},{"$error":"#DIV/0!"},{"$error":"#DIV/0!"},{"$error":"#DIV/0!"},{"$error":"#DIV/0!"},{"$f":"問題別集計②!G233","v":0},{"$f":"問題別集計②!H233","v":0},{"$f":"問題別集計②!I233","v":0},{"$f":"問題別集計②!J233","v":0},{"$f":"問題別集計②!K233","v":0},{"$f":"問題別集計②!L233","v":0},{"$f":"問題別集計②!M233","v":0},{"$f":"問題別集計②!N233","v":0},{"$f":"問題別集計②!O233","v":0},{"$f":"問題別集計②!P233","v":0},{"$f":"問題別集計②!Q233","v":0},{"$f":"問題別集計②!R233","v":0},{"$f":"問題別集計②!S233","v":0},{"$f":"問題別集計②!T233","v":0},{"$error":"#DIV/0!"},{"$error":"#DIV/0!"},{"$error":"#DIV/0!"},{"$error":"#DIV/0!"},{"$error":"#DIV/0!"},{"$error":"#DIV/0!"},{"$error":"#DIV/0!"},{"$error":"#DIV/0!"},{"$error":"#DIV/0!"},{"$error":"#DIV/0!"},{"$error":"#DIV/0!"},{"$error":"#DIV/0!"},{"$error":"#DIV/0!"},{"$error":"#DIV/0!"}]
[null,null,null,14,"家族に内緒で、家のお金を使ったり、家族のカードを使った","－",{"$f":"問題別集計!G234","v":0},{"$f":"問題別集計!H234","v":0},{"$f":"問題別集計!I234","v":0},{"$f":"問題別集計!J234","v":0},{"$f":"問題別集計!K234","v":0},{"$f":"問題別集計!L234","v":0},{"$f":"問題別集計!M234","v":0},{"$f":"問題別集計!N234","v":0},{"$f":"問題別集計!O234","v":0},{"$f":"問題別集計!P234","v":0},{"$f":"問題別集計!Q234","v":0},{"$f":"問題別集計!R234","v":0},{"$f":"問題別集計!S234","v":0},{"$f":"問題別集計!T234","v":0},{"$error":"#DIV/0!"},{"$error":"#DIV/0!"},{"$error":"#DIV/0!"},{"$error":"#DIV/0!"},{"$error":"#DIV/0!"},{"$error":"#DIV/0!"},{"$error":"#DIV/0!"},{"$error":"#DIV/0!"},{"$error":"#DIV/0!"},{"$error":"#DIV/0!"},{"$error":"#DIV/0!"},{"$error":"#DIV/0!"},{"$error":"#DIV/0!"},{"$error":"#DIV/0!"},{"$f":"問題別集計③!G234","v":0},{"$f":"問題別集計③!H234","v":0},{"$f":"問題別集計③!I234","v":0},{"$f":"問題別集計③!J234","v":0},{"$f":"問題別集計③!K234","v":0},{"$f":"問題別集計③!L234","v":0},{"$f":"問題別集計③!M234","v":0},{"$f":"問題別集計③!N234","v":0},{"$f":"問題別集計③!O234","v":0},{"$f":"問題別集計③!P234","v":0},{"$f":"問題別集計③!Q234","v":0},{"$f":"問題別集計③!R234","v":0},{"$f":"問題別集計③!S234","v":0},{"$f":"問題別集計③!T234","v":0},{"$error":"#DIV/0!"},{"$error":"#DIV/0!"},{"$error":"#DIV/0!"},{"$error":"#DIV/0!"},{"$error":"#DIV/0!"},{"$error":"#DIV/0!"},{"$error":"#DIV/0!"},{"$error":"#DIV/0!"},{"$error":"#DIV/0!"},{"$error":"#DIV/0!"},{"$error":"#DIV/0!"},{"$error":"#DIV/0!"},{"$error":"#DIV/0!"},{"$error":"#DIV/0!"},{"$f":"問題別集計②!G234","v":0},{"$f":"問題別集計②!H234","v":0},{"$f":"問題別集計②!I234","v":0},{"$f":"問題別集計②!J234","v":0},{"$f":"問題別集計②!K234","v":0},{"$f":"問題別集計②!L234","v":0},{"$f":"問題別集計②!M234","v":0},{"$f":"問題別集計②!N234","v":0},{"$f":"問題別集計②!O234","v":0},{"$f":"問題別集計②!P234","v":0},{"$f":"問題別集計②!Q234","v":0},{"$f":"問題別集計②!R234","v":0},{"$f":"問題別集計②!S234","v":0},{"$f":"問題別集計②!T234","v":0},{"$error":"#DIV/0!"},{"$error":"#DIV/0!"},{"$error":"#DIV/0!"},{"$error":"#DIV/0!"},{"$error":"#DIV/0!"},{"$error":"#DIV/0!"},{"$error":"#DIV/0!"},{"$error":"#DIV/0!"},{"$error":"#DIV/0!"},{"$error":"#DIV/0!"},{"$error":"#DIV/0!"},{"$error":"#DIV/0!"},{"$error":"#DIV/0!"},{"$error":"#DIV/0!"}]
[null,null,null,15,"食事を定期的に摂らなかった","－",{"$f":"問題別集計!G235","v":0},{"$f":"問題別集計!H235","v":0},{"$f":"問題別集計!I235","v":0},{"$f":"問題別集計!J235","v":0},{"$f":"問題別集計!K235","v":0},{"$f":"問題別集計!L235","v":0},{"$f":"問題別集計!M235","v":0},{"$f":"問題別集計!N235","v":0},{"$f":"問題別集計!O235","v":0},{"$f":"問題別集計!P235","v":0},{"$f":"問題別集計!Q235","v":0},{"$f":"問題別集計!R235","v":0},{"$f":"問題別集計!S235","v":0},{"$f":"問題別集計!T235","v":0},{"$error":"#DIV/0!"},{"$error":"#DIV/0!"},{"$error":"#DIV/0!"},{"$error":"#DIV/0!"},{"$error":"#DIV/0!"},{"$error":"#DIV/0!"},{"$error":"#DIV/0!"},{"$error":"#DIV/0!"},{"$error":"#DIV/0!"},{"$error":"#DIV/0!"},{"$error":"#DIV/0!"},{"$error":"#DIV/0!"},{"$error":"#DIV/0!"},{"$error":"#DIV/0!"},{"$f":"問題別集計③!G235","v":0},{"$f":"問題別集計③!H235","v":0},{"$f":"問題別集計③!I235","v":0},{"$f":"問題別集計③!J235","v":0},{"$f":"問題別集計③!K235","v":0},{"$f":"問題別集計③!L235","v":0},{"$f":"問題別集計③!M235","v":0},{"$f":"問題別集計③!N235","v":0},{"$f":"問題別集計③!O235","v":0},{"$f":"問題別集計③!P235","v":0},{"$f":"問題別集計③!Q235","v":0},{"$f":"問題別集計③!R235","v":0},{"$f":"問題別集計③!S235","v":0},{"$f":"問題別集計③!T235","v":0},{"$error":"#DIV/0!"},{"$error":"#DIV/0!"},{"$error":"#DIV/0!"},{"$error":"#DIV/0!"},{"$error":"#DIV/0!"},{"$error":"#DIV/0!"},{"$error":"#DIV/0!"},{"$error":"#DIV/0!"},{"$error":"#DIV/0!"},{"$error":"#DIV/0!"},{"$error":"#DIV/0!"},{"$error":"#DIV/0!"},{"$error":"#DIV/0!"},{"$error":"#DIV/0!"},{"$f":"問題別集計②!G235","v":0},{"$f":"問題別集計②!H235","v":0},{"$f":"問題別集計②!I235","v":0},{"$f":"問題別集計②!J235","v":0},{"$f":"問題別集計②!K235","v":0},{"$f":"問題別集計②!L235","v":0},{"$f":"問題別集計②!M235","v":0},{"$f":"問題別集計②!N235","v":0},{"$f":"問題別集計②!O235","v":0},{"$f":"問題別集計②!P235","v":0},{"$f":"問題別集計②!Q235","v":0},{"$f":"問題別集計②!R235","v":0},{"$f":"問題別集計②!S235","v":0},{"$f":"問題別集計②!T235","v":0},{"$error":"#DIV/0!"},{"$error":"#DIV/0!"},{"$error":"#DIV/0!"},{"$error":"#DIV/0!"},{"$error":"#DIV/0!"},{"$error":"#DIV/0!"},{"$error":"#DIV/0!"},{"$error":"#DIV/0!"},{"$error":"#DIV/0!"},{"$error":"#DIV/0!"},{"$error":"#DIV/0!"},{"$error":"#DIV/0!"},{"$error":"#DIV/0!"},{"$error":"#DIV/0!"}]
[null,null,null,16,"その他","－",{"$f":"問題別集計!G236","v":0},{"$f":"問題別集計!H236","v":0},{"$f":"問題別集計!I236","v":0},{"$f":"問題別集計!J236","v":0},{"$f":"問題別集計!K236","v":0},{"$f":"問題別集計!L236","v":0},{"$f":"問題別集計!M236","v":0},{"$f":"問題別集計!N236","v":0},{"$f":"問題別集計!O236","v":0},{"$f":"問題別集計!P236","v":0},{"$f":"問題別集計!Q236","v":0},{"$f":"問題別集計!R236","v":0},{"$f":"問題別集計!S236","v":0},{"$f":"問題別集計!T236","v":0},{"$error":"#DIV/0!"},{"$error":"#DIV/0!"},{"$error":"#DIV/0!"},{"$error":"#DIV/0!"},{"$error":"#DIV/0!"},{"$error":"#DIV/0!"},{"$error":"#DIV/0!"},{"$error":"#DIV/0!"},{"$error":"#DIV/0!"},{"$error":"#DIV/0!"},{"$error":"#DIV/0!"},{"$error":"#DIV/0!"},{"$error":"#DIV/0!"},{"$error":"#DIV/0!"},{"$f":"問題別集計③!G236","v":0},{"$f":"問題別集計③!H236","v":0},{"$f":"問題別集計③!I236","v":0},{"$f":"問題別集計③!J236","v":0},{"$f":"問題別集計③!K236","v":0},{"$f":"問題別集計③!L236","v":0},{"$f":"問題別集計③!M236","v":0},{"$f":"問題別集計③!N236","v":0},{"$f":"問題別集計③!O236","v":0},{"$f":"問題別集計③!P236","v":0},{"$f":"問題別集計③!Q236","v":0},{"$f":"問題別集計③!R236","v":0},{"$f":"問題別集計③!S236","v":0},{"$f":"問題別集計③!T236","v":0},{"$error":"#DIV/0!"},{"$error":"#DIV/0!"},{"$error":"#DIV/0!"},{"$error":"#DIV/0!"},{"$error":"#DIV/0!"},{"$error":"#DIV/0!"},{"$error":"#DIV/0!"},{"$error":"#DIV/0!"},{"$error":"#DIV/0!"},{"$error":"#DIV/0!"},{"$error":"#DIV/0!"},{"$error":"#DIV/0!"},{"$error":"#DIV/0!"},{"$error":"#DIV/0!"},{"$f":"問題別集計②!G236","v":0},{"$f":"問題別集計②!H236","v":0},{"$f":"問題別集計②!I236","v":0},{"$f":"問題別集計②!J236","v":0},{"$f":"問題別集計②!K236","v":0},{"$f":"問題別集計②!L236","v":0},{"$f":"問題別集計②!M236","v":0},{"$f":"問題別集計②!N236","v":0},{"$f":"問題別集計②!O236","v":0},{"$f":"問題別集計②!P236","v":0},{"$f":"問題別集計②!Q236","v":0},{"$f":"問題別集計②!R236","v":0},{"$f":"問題別集計②!S236","v":0},{"$f":"問題別集計②!T236","v":0},{"$error":"#DIV/0!"},{"$error":"#DIV/0!"},{"$error":"#DIV/0!"},{"$error":"#DIV/0!"},{"$error":"#DIV/0!"},{"$error":"#DIV/0!"},{"$error":"#DIV/0!"},{"$error":"#DIV/0!"},{"$error":"#DIV/0!"},{"$error":"#DIV/0!"},{"$error":"#DIV/0!"},{"$error":"#DIV/0!"},{"$error":"#DIV/0!"},{"$error":"#DIV/0!"}]
[null,null,null,"計",null,null,{"$f":"SUM(G268:G283)","v":0},{"$f":"SUM(H268:H283)","v":0},0,0,0,0,0,0,0,0,0,0,0,0,{"$error":"#DIV/0!"},{"$error":"#DIV/0!"},{"$error":"#DIV/0!"},{"$error":"#DIV/0!"},{"$error":"#DIV/0!"},{"$error":"#DIV/0!"},{"$f":"SUM(AA268:AA283)","v":{"$error":"#DIV/0!"}},{"$error":"#DIV/0!"},{"$error":"#DIV/0!"},{"$error":"#DIV/0!"},{"$error":"#DIV/0!"},{"$error":"#DIV/0!"},{"$error":"#DIV/0!"},{"$f":"SUM(AH268:AH283)","v":{"$error":"#DIV/0!"}},0,0,0,0,0,0,0,0,0,0,0,0,0,0,{"$f":"SUM(AW268:AW283)","v":{"$error":"#DIV/0!"}},{"$f":"SUM(AX268:AX283)","v":{"$error":"#DIV/0!"}},{"$f":"SUM(AY268:AY283)","v":{"$error":"#DIV/0!"}},{"$f":"SUM(AZ268:AZ283)","v":{"$error":"#DIV/0!"}},{"$f":"SUM(BA268:BA283)","v":{"$error":"#DIV/0!"}},{"$f":"SUM(BB268:BB283)","v":{"$error":"#DIV/0!"}},{"$f":"SUM(BC268:BC283)","v":{"$error":"#DIV/0!"}},{"$f":"SUM(BD268:BD283)","v":{"$error":"#DIV/0!"}},{"$f":"SUM(BE268:BE283)","v":{"$error":"#DIV/0!"}},{"$f":"SUM(BF268:BF283)","v":{"$error":"#DIV/0!"}},{"$f":"SUM(BG268:BG283)","v":{"$error":"#DIV/0!"}},{"$f":"SUM(BH268:BH283)","v":{"$error":"#DIV/0!"}},{"$f":"SUM(BI268:BI283)","v":{"$error":"#DIV/0!"}},{"$f":"SUM(BJ268:BJ283)","v":{"$error":"#DIV/0!"}},0,0,0,0,0,0,0,0,0,0,0,0,0,{"$f":"SUM(BX268:BX283)","v":0},{"$f":"SUM(BY268:BY283)","v":{"$error":"#DIV/0!"}},{"$f":"SUM(BZ268:BZ283)","v":{"$error":"#DIV/0!"}},{"$f":"SUM(CA268:CA283)","v":{"$error":"#DIV/0!"}},{"$f":"SUM(CB268:CB283)","v":{"$error":"#DIV/0!"}},{"$f":"SUM(CC268:CC283)","v":{"$error":"#DIV/0!"}},{"$f":"SUM(CD268:CD283)","v":{"$error":"#DIV/0!"}},{"$f":"SUM(CE268:CE283)","v":{"$error":"#DIV/0!"}},{"$f":"SUM(CF268:CF283)","v":{"$error":"#DIV/0!"}},{"$f":"SUM(CG268:CG283)","v":{"$error":"#DIV/0!"}},{"$f":"SUM(CH268:CH283)","v":{"$error":"#DIV/0!"}},{"$f":"SUM(CI268:CI283)","v":{"$error":"#DIV/0!"}},{"$f":"SUM(CJ268:CJ283)","v":{"$error":"#DIV/0!"}},{"$f":"SUM(CK268:CK283)","v":{"$error":"#DIV/0!"}},{"$f":"SUM(CL268:CL283)","v":{"$error":"#DIV/0!"}}]
[null,"48\n（49)","前の質問で掲げたトラブルについて、すでに解決している場合、どのようにして解決しましたか？",1,"自由記述","－",{"$f":"問題別集計!G237","v":0},{"$f":"問題別集計!H237","v":0},{"$f":"問題別集計!I237","v":0},{"$f":"問題別集計!J237","v":0},{"$f":"問題別集計!K237","v":0},{"$f":"問題別集計!L237","v":0},{"$f":"問題別集計!M237","v":0},{"$f":"問題別集計!N237","v":0},{"$f":"問題別集計!O237","v":0},{"$f":"問題別集計!P237","v":0},{"$f":"問題別集計!Q237","v":0},{"$f":"問題別集計!R237","v":0},{"$f":"問題別集計!S237","v":0},{"$f":"問題別集計!T237","v":0},null,null,null,null,null,null,null,null,null,null,null,null,null,null,{"$f":"問題別集計③!G237","v":0},{"$f":"問題別集計③!H237","v":0},{"$f":"問題別集計③!I237","v":0},{"$f":"問題別集計③!J237","v":0},{"$f":"問題別集計③!K237","v":0},{"$f":"問題別集計③!L237","v":0},{"$f":"問題別集計③!M237","v":0},{"$f":"問題別集計③!N237","v":0},{"$f":"問題別集計③!O237","v":0},{"$f":"問題別集計③!P237","v":0},{"$f":"問題別集計③!Q237","v":0},{"$f":"問題別集計③!R237","v":0},{"$f":"問題別集計③!S237","v":0},{"$f":"問題別集計③!T237","v":0},null,null,null,null,null,null,null,null,null,null,null,null,null,null,{"$f":"問題別集計②!G237","v":0},{"$f":"問題別集計②!H237","v":0},{"$f":"問題別集計②!I237","v":0},{"$f":"問題別集計②!J237","v":0},{"$f":"問題別集計②!K237","v":0},{"$f":"問題別集計②!L237","v":0},{"$f":"問題別集計②!M237","v":0},{"$f":"問題別集計②!N237","v":0},{"$f":"問題別集計②!O237","v":0},{"$f":"問題別集計②!P237","v":0},{"$f":"問題別集計②!Q237","v":0},{"$f":"問題別集計②!R237","v":0},{"$f":"問題別集計②!S237","v":0},{"$f":"問題別集計②!T237","v":0}]

{"sheet":"問題別集計③","index":3,"n_rows":237,"n_cols":204,"rows_kept":237,"cut":false,"hidden":false,"merged":[[220,0,236,0],[220,1,235,1],[220,2,235,2],[205,1,209,1],[205,2,209,2],[210,1,214,1],[210,2,214,2],[215,1,219,1],[215,2,219,2],[120,0,219,0],[120,1,124,1],[120,2,124,2],[125,1,129,1],[125,2,129,2],[130,1,134,1],[130,2,134,2],[135,1,139,1],[135,2,139,2],[190,1,194,1],[190,2,194,2],[195,1,199,1],[195,2,199,2],[200,1,204,1],[200,2,204,2],[175,1,179,1],[175,2,179,2],[180,1,184,1],[180,2,184,2],[185,1,189,1],[185,2,189,2],[160,1,164,1],[160,2,164,2],[165,1,169,1],[165,2,169,2],[170,1,174,1],[170,2,174,2],[140,2,144,2],[145,1,149,1],[145,2,149,2],[150,1,154,1],[150,2,154,2],[155,1,159,1],[155,2,159,2],[140,1,144,1],[108,1,111,1],[108,2,111,2],[112,1,115,1],[112,2,115,2],[116,1,119,1],[116,2,119,2],[96,1,99,1],[96,2,99,2],[100,1,103,1],[100,2,103,2],[104,1,107,1],[104,2,107,2],[56,1,57,1],[56,2,57,2],[58,1,59,1],[58,2,59,2],[60,0,119,0],[60,1,63,1],[60,2,63,2],[64,1,67,1],[64,2,67,2],[68,1,71,1],[44,0,59,0],[84,1,87,1],[84,2,87,2],[88,1,91,1],[88,2,91,2],[92,1,95,1],[92,2,95,2],[68,2,71,2],[72,1,75,1],[72,2,75,2],[76,1,79,1],[76,2,79,2],[80,1,83,1],[80,2,83,2],[50,1,51,1],[50,2,51,2],[52,1,53,1],[52,2,53,2],[54,1,55,1],[54,2,55,2],[26,2,35,2],[36,1,43,1],[36,2,43,2],[44,1,45,1],[44,2,45,2],[46,1,47,1],[46,2,47,2],[48,1,49,1],[48,2,49,2],[5,192,5,194],[5,195,5,197],[5,198,5,200],[5,201,5,203],[7,0,43,0],[7,1,13,1],[7,2,13,2],[14,1,25,1],[14,2,25,2],[26,1,35,1],[5,174,5,176],[5,177,5,179],[5,180,5,182],[5,183,5,185],[5,186,5,188],[5,189,5,191],[5,156,5,158],[5,159,5,161],[5,162,5,164],[5,165,5,167],[5,168,5,170],[5,171,5,173],[5,138,5,140],[5,141,5,143],[5,144,5,146],[5,147,5,149],[5,150,5,152],[5,153,5,155],[5,120,5,122],[5,123,5,125],[5,126,5,128],[5,129,5,131],[5,132,5,134],[5,135,5,137],[5,102,5,104],[5,105,5,107],[5,108,5,110],[5,111,5,113],[5,114,5,116],[5,117,5,119],[5,84,5,86],[5,87,5,89],[5,90,5,92],[5,93,5,95],[5,96,5,98],[5,99,5,101],[4,144,4,167],[4,168,4,182],[4,183,4,203],[3,84,3,143],[3,144,3,203],[4,1,6,2],[4,3,6,5],[4,20,4,31],[4,32,4,40],[4,41,4,51],[4,52,4,63],[4,64,4,72],[4,73,4,83],[5,20,5,27],[5,28,5,30],[5,31,6,31],[5,32,5,36],[5,37,5,39],[5,40,6,40],[4,84,4,107],[4,108,4,122],[4,123,4,143],[5,64,5,68],[5,69,5,71],[3,0,6,0],[3,1,3,5],[3,6,4,12],[3,13,4,19],[3,20,3,51],[3,52,3,83],[5,6,5,8],[5,9,5,12],[5,13,5,15],[5,16,5,19],[5,72,6,72],[5,73,5,79],[5,80,5,82],[5,83,6,83],[5,41,5,47],[5,48,5,50],[5,51,6,51],[5,52,5,59],[5,60,5,62],[5,63,6,63]]}
[null,null,"集計単位"]
[null,null,"高リスク"]
[1,2,3,4,5,6,7,8,9,10,11,12,13,14,15,16,17,18,19,20,21,22,23,24,25,26,27,28,29,30,31,32,33,34,35,36,37,38,39,40,41,42,43,44,45,46,47,48,49,50,51,52,53,54,55,56,57,58,59,60,61,62,63,64,65,66,67,68,69,70,71,72,73,74,75,76,77,78,79,80,81,82,83,84,85,86,87,88,89,90,91,92,93,94,95,96,97,98,99,100,101,102,103,104,105,106,107,108,109,110,111,112,113,114,115,116,117,118,119,120,121,122,123,124,125,126,127,128,129,130,131,132,133,134,135,136,137,138,139,140,141,142,143,144,145,146,147,148,149,150,151,152,153,154,155,156,157,158,159,160,161,162,163,164,165,166,167,168,169,170,171,172,173,174,175,176,177,178,179,180,181,182,183,184,185,186,187,188,189,190,191,192,193,194,195,196,197,198,199,200,201,202,203,204]
["種類",null,null,null,null,null,"児童・生徒",null,null,null,null,null,null,"保護者",null,null,null,null,null,null,"児童・生徒",null,null,null,null,null,null,null,null,null,null,null,null,null,null,null,null,null,null,null,null,null,null,null,null,null,null,null,null,null,null,null,"保護者",null,null,null,null,null,null,null,null,null,null,null,null,null,null,null,null,null,null,null,null,null,null,null,null,null,null,null,null,null,null,null,"児童・生徒",null,null,null,null,null,null,null,null,null,null,null,null,null,null,null,null,null,null,null,null,null,null,null,null,null,null,null,null,null,null,null,null,null,null,null,null,null,null,null,null,null,null,null,null,null,null,null,null,null,null,null,null,null,null,null,null,null,null,null,"保護者"]
[null,"問題文",null,"選択項目",null,null,null,null,null,null,null,null,null,null,null,null,null,null,null,null,"小学校相当年齢",null,null,null,null,null,null,null,null,null,null,null,"中学生相当年齢",null,null,null,null,null,null,null,null,"高校生相当年齢以上",null,null,null,null,null,null,null,null,null,null,"小学校相当年齢",null,null,null,null,null,null,null,null,null,null,null,"中学生相当年齢",null,null,null,null,null,null,null,null,"高校生相当年齢以上",null,null,null,null,null,null,null,null,null,null,"小学校相当年齢",null,null,null,null,null,null,null,null,null,null,null,null,null,null,null,null,null,null,null,null,null,null,null,"中学校相当年齢",null,null,null,null,null,null,null,null,null,null,null,null,null,null,"高校生相当年齢以上",null,null,null,null,null,null,null,null,null,null,null,null,null,null,null,null,null,null,null,null,"小学校相当年齢",null,null,null,null,null,null,null,null,null,null,null,null,null,null,null,null,null,null,null,null,null,null,null,"中学校相当年齢",null,null,null,null,null,null,null,null,null,null,null,null,null,null,"高校生相当年齢以上"]
[null,null,null,null,null,null,"学年別",null,null,"性別",null,null,null,"学年別",null,null,"性別",null,null,null,"学年別",null,null,null,null,null,null,null,"性別",null,null,"計","学年別",null,null,null,null,"性別",null,null,"計","学年別",null,null,null,null,null,null,"性別",null,null,"計","学年別",null,null,null,null,null,null,null,"性別",null,null,"計","学年別",null,null,null,null,"性別",null,null,"計","学年別",null,null,null,null,null,null,"性別",null,null,"計","１年",null,null,"２年",null,null,"３年",null,null,"４年",null,null,"５年",null,null,"６年",null,null,"－",null,null,"フリー",null,null,"１年",null,null,"２年",null,null,"３年",null,null,"－",null,null,"フリー",null,null,"１年",null,null,"２年",null,null,"３年",null,null,"４年",null,null,"その他",null,null,"－",null,null,"フリー",null,null,"１年",null,null,"２年",null,null,"３年",null,null,"４年",null,null,"５年",null,null,"６年",null,null,"－",null,null,"フリー",null,null,"１年",null,null,"２年",null,null,"３年",null,null,"－",null,null,"フリー",null,null,"１年",null,null,"２年",null,null,"３年",null,null,"４年",null,null,"その他",null,null,"－",null,null,"フリー"]
[null,null,null,null,null,null,"小","中","高","男","女","ー","計","小","中","高","男","女","ー","計","１年","２年","３年","４年","５年","６年","－","フリー","男","女","－",null,"１年","２年","３年","－","フリー","男","女","－",null,"１年","２年","３年","４年","その他","－","フリー","男","女","－",null,"１年","２年","３年","４年","５年","６年","－","フリー","男","女","－",null,"１年","２年","３年","－","フリー","男","女","－",null,"１年","２年","３年","４年","その他","－","フリー","男","女","－",null,"男","女","－","男","女","－","男","女","－","男","女","－","男","女","－","男","女","－","男","女","－","男","女","－","男","女","－","男","女","－","男","女","－","男","女","－","男","女","－","男","女","－","男","女","－","男","女","－","男","女","－","男","女","－","男","女","－","男","女","－","男","女","－","男","女","－","男","女","－","男","女","－","男","女","－","男","女","－","男","女","－","男","女","－","男","女","－","男","女","－","男","女","－","男","女","－","男","女","－","男","女","－","男","女","－","男","女","－","男","女","－","男","女","－","男","女","－","男","女","－"]
["基本項目","1\n（1）","あなたは、平日（土日をのぞいて）１日に平均して、だいたい、どのくらいの時間、インターネットを使いますか？",1,"１時間未満","－",{"$f":"AF8","v":0},{"$f":"AO8","v":0},{"$f":"AZ8","v":0},{"$f":"AC8+AL8+AW8","v":0},{"$f":"AD8+AM8+AX8","v":0},{"$f":"AE8+AN8+AY8","v":0},{"$f":"SUM(J8:L8)","v":0},{"$f":"BL8","v":0},{"$f":"BU8","v":0},{"$f":"CF8","v":0},{"$f":"SUM(BI8,BR8,CC8)","v":0},{"$f":"SUM(BJ8,BS8,CD8)","v":0},0,{"$f":"SUM(Q8:S8)","v":0},{"$f":"CG8+CH8+CI8","v":0},{"$f":"CJ8+CK8+CL8","v":0},{"$f":"CM8+CN8+CO8","v":0},{"$f":"CP8+CQ8+CR8","v":0},{"$f":"CS8+CT8+CU8","v":0},{"$f":"CV8+CW8+CX8","v":0},{"$f":"CY8+CZ8+DA8","v":0},{"$f":"DB8+DC8+DD8","v":0},{"$f":"CG8+CJ8+CM8+CP8+CS8+CV8+CY8+DB8","v":0},{"$f":"CH8+CK8+CN8+CQ8+CT8+CW8+CZ8+DC8","v":0},{"$f":"CI8+CL8+CO8+CR8+CU8+CX8+DA8+DD8","v":0},{"$f":"AC8+AD8+AE8","v":0},{"$f":"DE8+DF8+DG8","v":0},{"$f":"DH8+DI8+DJ8","v":0},{"$f":"DK8+DL8+DM8","v":0},{"$f":"DN8+DO8+DP8","v":0},{"$f":"DQ8+DR8+DS8","v":0},{"$f":"DE8+DH8+DK8+DN8+DQ8","v":0},{"$f":"DF8+DI8+DL8+DO8+DR8","v":0},{"$f":"DG8+DJ8+DM8+DP8+DS8","v":0},{"$f":"SUM(AL8:AN8)","v":0},{"$f":"DT8+DU8+DV8","v":0},{"$f":"DW8+DX8+DY8","v":0},{"$f":"DZ8+EA8+EB8","v":0},{"$f":"EC8+ED8+EE8","v":0},{"$f":"EF8+EG8+EH8","v":0},{"$f":"EI8+EJ8+EK8","v":0},{"$f":"EL8+EM8+EN8","v":0},{"$f":"DT8+DW8+DZ8+EC8+EF8+EI8+EL8","v":0},{"$f":"DU8+DX8+EA8+ED8+EG8+EJ8+EM8","v":0},{"$f":"DV8+DY8+EB8+EE8+EH8+EK8+EN8","v":0},{"$f":"SUM(AW8:AY8)","v":0},{"$f":"SUM(EO8:EQ8)","v":0},{"$f":"SUM(ER8:ET8)","v":0},{"$f":"SUM(EU8:EW8)","v":0},{"$f":"SUM(EX8:EZ8)","v":0},{"$f":"SUM(FA8:FC8)","v":0},{"$f":"SUM(FD8:FF8)","v":0},{"$f":"SUM(FG8:FI8)","v":0},{"$f":"SUM(FJ8:FL8)","v":0},{"$f":"SUM(EO8,ER8,EU8,EX8,FA8,FD8,FG8,FJ8)","v":0},{"$f":"SUM(EP8,ES8,EV8,EY8,FB8,FE8,FH8,FK8)","v":0},{"$f":"SUM(EQ8,ET8,EW8,EZ8,FC8,FF8,FI8,FL8)","v":0},{"$f":"SUM(EO8:FL8)","v":0},{"$f":"SUM(FM8:FO8)","v":0},{"$f":"SUM(FP8:FR8)","v":0},{"$f":"SUM(FS8:FU8)","v":0},{"$f":"SUM(FV8:FX8)","v":0},{"$f":"SUM(FY8:GA8)","v":0},{"$f":"SUM(FM8,FP8,FS8,FV8,FY8)","v":0},{"$f":"SUM(FN8,FQ8,FT8,FW8,FZ8)","v":0},{"$f":"SUM(FO8,FR8,FU8,FX8,GA8)","v":0},{"$f":"SUM(FM8:GA8)","v":0},{"$f":"SUM(GB8:GD8)","v":0},{"$f":"SUM(GE8:GG8)","v":0},{"$f":"SUM(GH8:GJ8)","v":0},{"$f":"SUM(GK8:GM8)","v":0},{"$f":"SUM(GN8:GP8)","v":0},{"$f":"SUM(GQ8:GS8)","v":0},{"$f":"SUM(GT8:GV8)","v":0},{"$f":"SUM(GB8,GE8,GH8,GK8,GN8,GQ8,GT8)","v":0},{"$f":"SUM(GC8,GF8,GI8,GL8,GO8,GR8,GU8)","v":0},{"$f":"SUM(GD8,GG8,GJ8,GM8,GP8,GS8,GV8)","v":0},{"$f":"SUM(GB8:GV8)","v":0}]
[null,null,null,2,"１時間以上２時間未満","－",{"$f":"AF9","v":0},{"$f":"AO9","v":0},{"$f":"AZ9","v":0},{"$f":"AC9+AL9+AW9","v":0},0,0,{"$f":"SUM(J9:L9)","v":0},{"$f":"BL9","v":0},{"$f":"BU9","v":0},{"$f":"CF9","v":0},{"$f":"SUM(BI9,BR9,CC9)","v":0},0,0,{"$f":"SUM(Q9:S9)","v":0},{"$f":"CG9+CH9+CI9","v":0},{"$f":"CJ9+CK9+CL9","v":0},{"$f":"CM9+CN9+CO9","v":0},{"$f":"CP9+CQ9+CR9","v":0},{"$f":"CS9+CT9+CU9","v":0},{"$f":"CV9+CW9+CX9","v":0},{"$f":"CY9+CZ9+DA9","v":0},{"$f":"DB9+DC9+DD9","v":0},{"$f":"CG9+CJ9+CM9+CP9+CS9+CV9+CY9+DB9","v":0},0,0,{"$f":"AC9+AD9+AE9","v":0},{"$f":"DE9+DF9+DG9","v":0},{"$f":"DH9+DI9+DJ9","v":0},{"$f":"DK9+DL9+DM9","v":0},{"$f":"DN9+DO9+DP9","v":0},{"$f":"DQ9+DR9+DS9","v":0},{"$f":"DE9+DH9+DK9+DN9+DQ9","v":0},0,0,{"$f":"SUM(AL9:AN9)","v":0},{"$f":"DT9+DU9+DV9","v":0},{"$f":"DW9+DX9+DY9","v":0},{"$f":"DZ9+EA9+EB9","v":0},{"$f":"EC9+ED9+EE9","v":0},{"$f":"EF9+EG9+EH9","v":0},{"$f":"EI9+EJ9+EK9","v":0},{"$f":"EL9+EM9+EN9","v":0},{"$f":"DT9+DW9+DZ9+EC9+EF9+EI9+EL9","v":0},0,0,{"$f":"SUM(AW9:AY9)","v":0},{"$f":"SUM(EO9:EQ9)","v":0},{"$f":"SUM(ER9:ET9)","v":0},{"$f":"SUM(EU9:EW9)","v":0},{"$f":"SUM(EX9:EZ9)","v":0},{"$f":"SUM(FA9:FC9)","v":0},{"$f":"SUM(FD9:FF9)","v":0},{"$f":"SUM(FG9:FI9)","v":0},{"$f":"SUM(FJ9:FL9)","v":0},{"$f":"SUM(EO9,ER9,EU9,EX9,FA9,FD9,FG9,FJ9)","v":0},0,0,{"$f":"SUM(EO9:FL9)","v":0},{"$f":"SUM(FM9:FO9)","v":0},{"$f":"SUM(FP9:FR9)","v":0},{"$f":"SUM(FS9:FU9)","v":0},{"$f":"SUM(FV9:FX9)","v":0},{"$f":"SUM(FY9:GA9)","v":0},{"$f":"SUM(FM9,FP9,FS9,FV9,FY9)","v":0},0,0,{"$f":"SUM(FM9:GA9)","v":0},{"$f":"SUM(GB9:GD9)","v":0},{"$f":"SUM(GE9:GG9)","v":0},{"$f":"SUM(GH9:GJ9)","v":0},{"$f":"SUM(GK9:GM9)","v":0},{"$f":"SUM(GN9:GP9)","v":0},{"$f":"SUM(GQ9:GS9)","v":0},{"$f":"SUM(GT9:GV9)","v":0},{"$f":"SUM(GB9,GE9,GH9,GK9,GN9,GQ9,GT9)","v":0},0,0,{"$f":"SUM(GB9:GV9)","v":0}]
[null,null,null,3,"２時間以上３時間未満","－",0,0,0,0,0,0,0,0,0,0,0,0,0,0,0,0,0,0,0,0,0,0,0,0,0,0,0,0,0,0,0,0,0,0,0,0,0,0,0,0,0,0,0,0,0,0,0,0,0,0,0,0,0,0,0,0,0,0,0,0,0,0,0,0,0,0,0,0,0,0,0,0,0,0,0,0,0,0]
[null,null,null,4,"３時間以上４時間未満","－",0,0,0,0,0,0,0,0,0,0,0,0,0,0,0,0,0,0,0,0,0,0,0,0,0,0,0,0,0,0,0,0,0,0,0,0,0,0,0,0,0,0,0,0,0,0,0,0,0,0,0,0,0,0,0,0,0,0,0,0,0,0,0,0,0,0,0,0,0,0,0,0,0,0,0,0,0,0]
[null,null,null,5,"４時間以上５時間未満","－",0,0,0,0,0,0,0,0,0,0,0,0,0,0,0,0,0,0,0,0,0,0,0,0,0,0,0,0,0,0,0,0,0,0,0,0,0,0,0,0,0,0,0,0,0,0,0,0,0,0,0,0,0,0,0,0,0,0,0,0,0,0,0,0,0,0,0,0,0,0,0,0,0,0,0,0,0,0]
[null,null,null,6,"５時間以上６時間未満","－",0,0,0,0,0,0,0,0,0,0,0,0,0,0,0,0,0,0,0,0,0,0,0,0,0,0,0,0,0,0,0,0,0,0,0,0,0,0,0,0,0,0,0,0,0,0,0,0,0,0,0,0,0,0,0,0,0,0,0,0,0,0,0,0,0,0,0,0,0,0,0,0,0,0,0,0,0,0]
[null,null,null,7,"６時間以上","－",0,0,0,0,0,0,0,0,0,0,0,0,0,0,0,0,0,0,0,0,0,0,0,0,0,0,0,0,0,0,0,0,0,0,0,0,0,0,0,0,0,0,0,0,0,0,0,0,0,0,0,0,0,0,0,0,0,0,0,0,0,0,0,0,0,0,0,0,0,0,0,0,0,0,0,0,0,0]
[null,"2\n（2）","あなたはインターネットを使って何をしていますか？あてはまるものを、すべて選んでください。（複数回答可）",1,"コミュニケーション（メール・メッセンジャー・SNSなど）","－",0,0,0,0,0,0,0,0,0,0,0,0,0,0,0,0,0,0,0,0,0,0,0,0,0,0,0,0,0,0,0,0,0,0,0,0,0,0,0,0,0,0,0,0,0,0,0,0,0,0,0,0,0,0,0,0,0,0,0,0,0,0,0,0,0,0,0,0,0,0,0,0,0,0,0,0,0,0]
[null,null,null,2,"ニュース","－",0,0,0,0,0,0,0,0,0,0,0,0,0,0,0,0,0,0,0,0,0,0,0,0,0,0,0,0,0,0,0,0,0,0,0,0,0,0,0,0,0,0,0,0,0,0,0,0,0,0,0,0,0,0,0,0,0,0,0,0,0,0,0,0,0,0,0,0,0,0,0,0,0,0,0,0,0,0]
[null,null,null,3,"情報検索","－",0,0,0,0,0,0,0,0,0,0,0,0,0,0,0,0,0,0,0,0,0,0,0,0,0,0,0,0,0,0,0,0,0,0,0,0,0,0,0,0,0,0,0,0,0,0,0,0,0,0,0,0,0,0,0,0,0,0,0,0,0,0,0,0,0,0,0,0,0,0,0,0,0,0,0,0,0,0]
[null,null,null,4,"地図・ナビゲーション","－",0,0,0,0,0,0,0,0,0,0,0,0,0,0,0,0,0,0,0,0,0,0,0,0,0,0,0,0,0,0,0,0,0,0,0,0,0,0,0,0,0,0,0,0,0,0,0,0,0,0,0,0,0,0,0,0,0,0,0,0,0,0,0,0,0,0,0,0,0,0,0,0,0,0,0,0,0,0]
[null,null,null,5,"音楽視聴","－",0,0,0,0,0,0,0,0,0,0,0,0,0,0,0,0,0,0,0,0,0,0,0,0,0,0,0,0,0,0,0,0,0,0,0,0,0,0,0,0,0,0,0,0,0,0,0,0,0,0,0,0,0,0,0,0,0,0,0,0,0,0,0,0,0,0,0,0,0,0,0,0,0,0,0,0,0,0]
[null,null,null,6,"動画視聴","－",0,0,0,0,0,0,0,0,0,0,0,0,0,0,0,0,0,0,0,0,0,0,0,0,0,0,0,0,0,0,0,0,0,0,0,0,0,0,0,0,0,0,0,0,0,0,0,0,0,0,0,0,0,0,0,0,0,0,0,0,0,0,0,0,0,0,0,0,0,0,0,0,0,0,0,0,0,0]
[null,null,null,7,"電子書籍","－",0,0,0,0,0,0,0,0,0,0,0,0,0,0,0,0,0,0,0,0,0,0,0,0,0,0,0,0,0,0,0,0,0,0,0,0,0,0,0,0,0,0,0,0,0,0,0,0,0,0,0,0,0,0,0,0,0,0,0,0,0,0,0,0,0,0,0,0,0,0,0,0,0,0,0,0,0,0]
[null,null,null,8,"ゲーム","－",0,0,0,0,0,0,0,0,0,0,0,0,0,0,0,0,0,0,0,0,0,0,0,0,0,0,0,0,0,0,0,0,0,0,0,0,0,0,0,0,0,0,0,0,0,0,0,0,0,0,0,0,0,0,0,0,0,0,0,0,0,0,0,0,0,0,0,0,0,0,0,0,0,0,0,0,0,0]
[null,null,null,9,"ショッピング・オークション","－",0,0,0,0,0,0,0,0,0,0,0,0,0,0,0,0,0,0,0,0,0,0,0,0,0,0,0,0,0,0,0,0,0,0,0,0,0,0,0,0,0,0,0,0,0,0,0,0,0,0,0,0,0,0,0,0,0,0,0,0,0,0,0,0,0,0,0,0,0,0,0,0,0,0,0,0,0,0]
[null,null,null,10,"勉強・学習・知育アプリやサービス","－",0,0,0,0,0,0,0,0,0,0,0,0,0,0,0,0,0,0,0,0,0,0,0,0,0,0,0,0,0,0,0,0,0,0,0,0,0,0,0,0,0,0,0,0,0,0,0,0,0,0,0,0,0,0,0,0,0,0,0,0,0,0,0,0,0,0,0,0,0,0,0,0,0,0,0,0,0,0]
[null,null,null,11,"その他","－",0,0,0,0,0,0,0,0,0,0,0,0,0,0,0,0,0,0,0,0,0,0,0,0,0,0,0,0,0,0,0,0,0,0,0,0,0,0,0,0,0,0,0,0,0,0,0,0,0,0,0,0,0,0,0,0,0,0,0,0,0,0,0,0,0,0,0,0,0,0,0,0,0,0,0,0,0,0]
[null,null,null,12,"わからない","－",0,0,0,0,0,0,0,0,0,0,0,0,0,0,0,0,0,0,0,0,0,0,0,0,0,0,0,0,0,0,0,0,0,0,0,0,0,0,0,0,0,0,0,0,0,0,0,0,0,0,0,0,0,0,0,0,0,0,0,0,0,0,0,0,0,0,0,0,0,0,0,0,0,0,0,0,0,0]
[null,"3\n（3）","あなたの家では、インターネットの使い方について、何か家庭でルールを決めていますか？あなたの家庭で決めている「インターネットの使い方のルール」にあてはまるものを、すべて選んでください。（複数回答可）",1,"利用する時間","－",0,0,0,0,0,0,0,0,0,0,0,0,0,0,0,0,0,0,0,0,0,0,0,0,0,0,0,0,0,0,0,0,0,0,0,0,0,0,0,0,0,0,0,0,0,0,0,0,0,0,0,0,0,0,0,0,0,0,0,0,0,0,0,0,0,0,0,0,0,0,0,0,0,0,0,0,0,0]
[null,null,null,2,"利用する場所","－",0,0,0,0,0,0,0,0,0,0,0,0,0,0,0,0,0,0,0,0,0,0,0,0,0,0,0,0,0,0,0,0,0,0,0,0,0,0,0,0,0,0,0,0,0,0,0,0,0,0,0,0,0,0,0,0,0,0,0,0,0,0,0,0,0,0,0,0,0,0,0,0,0,0,0,0,0,0]
[null,null,null,3,"メールやメッセージを送る相手","－",0,0,0,0,0,0,0,0,0,0,0,0,0,0,0,0,0,0,0,0,0,0,0,0,0,0,0,0,0,0,0,0,0,0,0,0,0,0,0,0,0,0,0,0,0,0,0,0,0,0,0,0,0,0,0,0,0,0,0,0,0,0,0,0,0,0,0,0,0,0,0,0,0,0,0,0,0,0]
[null,null,null,4,"利用するサイトやアプリの内容","－",0,0,0,0,0,0,0,0,0,0,0,0,0,0,0,0,0,0,0,0,0,0,0,0,0,0,0,0,0,0,0,0,0,0,0,0,0,0,0,0,0,0,0,0,0,0,0,0,0,0,0,0,0,0,0,0,0,0,0,0,0,0,0,0,0,0,0,0,0,0,0,0,0,0,0,0,0,0]
[null,null,null,5,"送信・投稿する内容","－",0,0,0,0,0,0,0,0,0,0,0,0,0,0,0,0,0,0,0,0,0,0,0,0,0,0,0,0,0,0,0,0,0,0,0,0,0,0,0,0,0,0,0,0,0,0,0,0,0,0,0,0,0,0,0,0,0,0,0,0,0,0,0,0,0,0,0,0,0,0,0,0,0,0,0,0,0,0]
[null,null,null,6,"利用者情報が漏れないようにしている","－",0,0,0,0,0,0,0,0,0,0,0,0,0,0,0,0,0,0,0,0,0,0,0,0,0,0,0,0,0,0,0,0,0,0,0,0,0,0,0,0,0,0,0,0,0,0,0,0,0,0,0,0,0,0,0,0,0,0,0,0,0,0,0,0,0,0,0,0,0,0,0,0,0,0,0,0,0,0]
[null,null,null,7,"ゲームやアプリの利用料金の上限や課金の利用方法","－",0,0,0,0,0,0,0,0,0,0,0,0,0,0,0,0,0,0,0,0,0,0,0,0,0,0,0,0,0,0,0,0,0,0,0,0,0,0,0,0,0,0,0,0,0,0,0,0,0,0,0,0,0,0,0,0,0,0,0,0,0,0,0,0,0,0,0,0,0,0,0,0,0,0,0,0,0,0]
[null,null,null,8,"困ったときにはすぐに保護者に相談する","－",0,0,0,0,0,0,0,0,0,0,0,0,0,0,0,0,0,0,0,0,0,0,0,0,0,0,0,0,0,0,0,0,0,0,0,0,0,0,0,0,0,0,0,0,0,0,0,0,0,0,0,0,0,0,0,0,0,0,0,0,0,0,0,0,0,0,0,0,0,0,0,0,0,0,0,0,0,0]
[null,null,null,9,"使用する際のルールは特にない","－",0,0,0,0,0,0,0,0,0,0,0,0,0,0,0,0,0,0,0,0,0,0,0,0,0,0,0,0,0,0,0,0,0,0,0,0,0,0,0,0,0,0,0,0,0,0,0,0,0,0,0,0,0,0,0,0,0,0,0,0,0,0,0,0,0,0,0,0,0,0,0,0,0,0,0,0,0,0]
[null,null,null,10,"その他","－",0,0,0,0,0,0,0,0,0,0,0,0,0,0,0,0,0,0,0,0,0,0,0,0,0,0,0,0,0,0,0,0,0,0,0,0,0,0,0,0,0,0,0,0,0,0,0,0,0,0,0,0,0,0,0,0,0,0,0,0,0,0,0,0,0,0,0,0,0,0,0,0,0,0,0,0,0,0]
[null,"－\n(4)","【保護者のみ】\n　あなた（保護者自身）は、子供が安全に安心してインターネットを利用することができるよう、保護者としてどのような取組をされていますか？あてはまるものをすべて選んでください。（複数回答可）",1,"大人の目の届く範囲で使わせている","－",0,0,0,0,0,0,0,0,0,0,0,0,0,0,0,0,0,0,0,0,0,0,0,0,0,0,0,0,0,0,0,0,0,0,0,0,0,0,0,0,0,0,0,0,0,0,0,0,0,0,0,0,0,0,0,0,0,0,0,0,0,0,0,0,0,0,0,0,0,0,0,0,0,0,0,0,0,0]
[null,null,null,2,"利用する際に時間や場所を指定している","－",0,0,0,0,0,0,0,0,0,0,0,0,0,0,0,0,0,0,0,0,0,0,0,0,0,0,0,0,0,0,0,0,0,0,0,0,0,0,0,0,0,0,0,0,0,0,0,0,0,0,0,0,0,0,0,0,0,0,0,0,0,0,0,0,0,0,0,0,0,0,0,0,0,0,0,0,0,0]
[null,null,null,3,"成長段階に合わせて、子供向けの機器やサービスを使わせている","－",0,0,0,0,0,0,0,0,0,0,0,0,0,0,0,0,0,0,0,0,0,0,0,0,0,0,0,0,0,0,0,0,0,0,0,0,0,0,0,0,0,0,0,0,0,0,0,0,0,0,0,0,0,0,0,0,0,0,0,0,0,0,0,0,0,0,0,0,0,0,0,0,0,0,0,0,0,0]
[null,null,null,4,"普段の会話やコミュニケーションの中で、子供のインターネット利用状況を把握している","－",0,0,0,0,0,0,0,0,0,0,0,0,0,0,0,0,0,0,0,0,0,0,0,0,0,0,0,0,0,0,0,0,0,0,0,0,0,0,0,0,0,0,0,0,0,0,0,0,0,0,0,0,0,0,0,0,0,0,0,0,0,0,0,0,0,0,0,0,0,0,0,0,0,0,0,0,0,0]
[null,null,null,5,"フィルタリングを使っている","－",0,0,0,0,0,0,0,0,0,0,0,0,0,0,0,0,0,0,0,0,0,0,0,0,0,0,0,0,0,0,0,0,0,0,0,0,0,0,0,0,0,0,0,0,0,0,0,0,0,0,0,0,0,0,0,0,0,0,0,0,0,0,0,0,0,0,0,0,0,0,0,0,0,0,0,0,0,0]
[null,null,null,6,"その他の方法で管理を行っている","－",0,0,0,0,0,0,0,0,0,0,0,0,0,0,0,0,0,0,0,0,0,0,0,0,0,0,0,0,0,0,0,0,0,0,0,0,0,0,0,0,0,0,0,0,0,0,0,0,0,0,0,0,0,0,0,0,0,0,0,0,0,0,0,0,0,0,0,0,0,0,0,0,0,0,0,0,0,0]
[null,null,null,7,"子どものインターネット利用の管理は行っていない","－",0,0,0,0,0,0,0,0,0,0,0,0,0,0,0,0,0,0,0,0,0,0,0,0,0,0,0,0,0,0,0,0,0,0,0,0,0,0,0,0,0,0,0,0,0,0,0,0,0,0,0,0,0,0,0,0,0,0,0,0,0,0,0,0,0,0,0,0,0,0,0,0,0,0,0,0,0,0]
[null,null,null,8,"わからない","－",0,0,0,0,0,0,0,0,0,0,0,0,0,0,0,0,0,0,0,0,0,0,0,0,0,0,0,0,0,0,0,0,0,0,0,0,0,0,0,0,0,0,0,0,0,0,0,0,0,0,0,0,0,0,0,0,0,0,0,0,0,0,0,0,0,0,0,0,0,0,0,0,0,0,0,0,0,0]
["DQ","4\n(5)","あなたはインターネットに夢中になっていると感じていますか？",1,"はい",1,0,0,0,0,0,0,0,0,0,0,0,0,0,0,0,0,0,0,0,0,0,0,0,0,0,0,0,0,0,0,0,0,0,0,0,0,0,0,0,0,0,0,0,0,0,0,0,0,0,0,0,0,0,0,0,0,0,0,0,0,0,0,0,0,0,0,0,0,0,0,0,0,0,0,0,0,0,0]
[null,null,null,2,"いいえ","0点",0,0,0,0,0,0,0,0,0,0,0,0,0,0,0,0,0,0,0,0,0,0,0,0,0,0,0,0,0,0,0,0,0,0,0,0,0,0,0,0,0,0,0,0,0,0,0,0,0,0,0,0,0,0,0,0,0,0,0,0,0,0,0,0,0,0,0,0,0,0,0,0,0,0,0,0,0,0]
[null,"5\n(6)","あなたは、満足を得るために、インターネットを使う時間をだんだん長くしていかなければならないと感じていますか？",1,"はい",1,0,0,0,0,0,0,0,0,0,0,0,0,0,0,0,0,0,0,0,0,0,0,0,0,0,0,0,0,0,0,0,0,0,0,0,0,0,0,0,0,0,0,0,0,0,0,0,0,0,0,0,0,0,0,0,0,0,0,0,0,0,0,0,0,0,0,0,0,0,0,0,0,0,0,0,0,0,0]
[null,null,null,2,"いいえ","0点",0,0,0,0,0,0,0,0,0,0,0,0,0,0,0,0,0,0,0,0,0,0,0,0,0,0,0,0,0,0,0,0,0,0,0,0,0,0,0,0,0,0,0,0,0,0,0,0,0,0,0,0,0,0,0,0,0,0,0,0,0,0,0,0,0,0,0,0,0,0,0,0,0,0,0,0,0,0]
[null,"6\n(7)","あなたは、インターネット使用時間を制限したり、時間を減らしたり、完全にやめようとしたが、うまくいかなかったことがたびたびありましたか？",1,"はい",1,0,0,0,0,0,0,0,0,0,0,0,0,0,0,0,0,0,0,0,0,0,0,0,0,0,0,0,0,0,0,0,0,0,0,0,0,0,0,0,0,0,0,0,0,0,0,0,0,0,0,0,0,0,0,0,0,0,0,0,0,0,0,0,0,0,0,0,0,0,0,0,0,0,0,0,0,0,0]
[null,null,null,2,"いいえ","0点",0,0,0,0,0,0,0,0,0,0,0,0,0,0,0,0,0,0,0,0,0,0,0,0,0,0,0,0,0,0,0,0,0,0,0,0,0,0,0,0,0,0,0,0,0,0,0,0,0,0,0,0,0,0,0,0,0,0,0,0,0,0,0,0,0,0,0,0,0,0,0,0,0,0,0,0,0,0]
[null,"7\n(8)","インターネットの使用時間を短くしたり、完全にやめようとした時、落ち着かなかったり、不機嫌や落ち込み、またはイライラなどを感じましたか？\n",1,"はい",1,0,0,0,0,0,0,0,0,0,0,0,0,0,0,0,0,0,0,0,0,0,0,0,0,0,0,0,0,0,0,0,0,0,0,0,0,0,0,0,0,0,0,0,0,0,0,0,0,0,0,0,0,0,0,0,0,0,0,0,0,0,0,0,0,0,0,0,0,0,0,0,0,0,0,0,0,0,0]
[null,null,null,2,"いいえ","0点",0,0,0,0,0,0,0,0,0,0,0,0,0,0,0,0,0,0,0,0,0,0,0,0,0,0,0,0,0,0,0,0,0,0,0,0,0,0,0,0,0,0,0,0,0,0,0,0,0,0,0,0,0,0,0,0,0,0,0,0,0,0,0,0,0,0,0,0,0,0,0,0,0,0,0,0,0,0]
[null,"8\n(9)","あなたは、使いはじめに意図した（※）よりも長い時間インターネットを接続した状態でいますか？",1,"はい",1,0,0,0,0,0,0,0,0,0,0,0,0,0,0,0,0,0,0,0,0,0,0,0,0,0,0,0,0,0,0,0,0,0,0,0,0,0,0,0,0,0,0,0,0,0,0,0,0,0,0,0,0,0,0,0,0,0,0,0,0,0,0,0,0,0,0,0,0,0,0,0,0,0,0,0,0,0,0]
[null,null,null,2,"いいえ","0点",0,0,0,0,0,0,0,0,0,0,0,0,0,0,0,0,0,0,0,0,0,0,0,0,0,0,0,0,0,0,0,0,0,0,0,0,0,0,0,0,0,0,0,0,0,0,0,0,0,0,0,0,0,0,0,0,0,0,0,0,0,0,0,0,0,0,0,0,0,0,0,0,0,0,0,0,0,0]
[null,"9\n(10)","あなたは、インターネットのために大切な人間関係、学校のことや、部活動のことを台無しにしたり、あやうくするようなことがありましたか？",1,"はい",1,0,0,0,0,0,0,0,0,0,0,0,0,0,0,0,0,0,0,0,0,0,0,0,0,0,0,0,0,0,0,0,0,0,0,0,0,0,0,0,0,0,0,0,0,0,0,0,0,0,0,0,0,0,0,0,0,0,0,0,0,0,0,0,0,0,0,0,0,0,0,0,0,0,0,0,0,0,0]
[null,null,null,2,"いいえ","0点",0,0,0,0,0,0,0,0,0,0,0,0,0,0,0,0,0,0,0,0,0,0,0,0,0,0,0,0,0,0,0,0,0,0,0,0,0,0,0,0,0,0,0,0,0,0,0,0,0,0,0,0,0,0,0,0,0,0,0,0,0,0,0,0,0,0,0,0,0,0,0,0,0,0,0,0,0,0]
[null,"10\n(11)","あなたは、インターネットへの熱中のしすぎをかくすために、家族、学校の先生やその他の人たちにうそをついたことがありましたか？",1,"はい",1,0,0,0,0,0,0,0,0,0,0,0,0,0,0,0,0,0,0,0,0,0,0,0,0,0,0,0,0,0,0,0,0,0,0,0,0,0,0,0,0,0,0,0,0,0,0,0,0,0,0,0,0,0,0,0,0,0,0,0,0,0,0,0,0,0,0,0,0,0,0,0,0,0,0,0,0,0,0]
[null,null,null,2,"いいえ","0点",0,0,0,0,0,0,0,0,0,0,0,0,0,0,0,0,0,0,0,0,0,0,0,0,0,0,0,0,0,0,0,0,0,0,0,0,0,0,0,0,0,0,0,0,0,0,0,0,0,0,0,0,0,0,0,0,0,0,0,0,0,0,0,0,0,0,0,0,0,0,0,0,0,0,0,0,0,0]
[null,"11\n(12)","あなたは、問題から逃げるために、または、絶望的な気持ち、罪悪感、不安、落ち込みなどといった いやな気持ちから逃げるために、インターネットを使いますか？",1,"はい",1,0,0,0,0,0,0,0,0,0,0,0,0,0,0,0,0,0,0,0,0,0,0,0,0,0,0,0,0,0,0,0,0,0,0,0,0,0,0,0,0,0,0,0,0,0,0,0,0,0,0,0,0,0,0,0,0,0,0,0,0,0,0,0,0,0,0,0,0,0,0,0,0,0,0,0,0,0,0]
[null,null,null,2,"いいえ","0点",0,0,0,0,0,0,0,0,0,0,0,0,0,0,0,0,0,0,0,0,0,0,0,0,0,0,0,0,0,0,0,0,0,0,0,0,0,0,0,0,0,0,0,0,0,0,0,0,0,0,0,0,0,0,0,0,0,0,0,0,0,0,0,0,0,0,0,0,0,0,0,0,0,0,0,0,0,0]
["Kスケール","12\n（13）","インターネットの使用で、学校の成績が落ちた。",1,"全くあてはまらない",1,0,0,0,0,0,0,0,0,0,0,0,0,0,0,0,0,0,0,0,0,0,0,0,0,0,0,0,0,0,0,0,0,0,0,0,0,0,0,0,0,0,0,0,0,0,0,0,0,0,0,0,0,0,0,0,0,0,0,0,0,0,0,0,0,0,0,0,0,0,0,0,0,0,0,0,0,0,0]
[null,null,null,2,"あてはまらない",2,0,0,0,0,0,0,0,0,0,0,0,0,0,0,0,0,0,0,0,0,0,0,0,0,0,0,0,0,0,0,0,0,0,0,0,0,0,0,0,0,0,0,0,0,0,0,0,0,0,0,0,0,0,0,0,0,0,0,0,0,0,0,0,0,0,0,0,0,0,0,0,0,0,0,0,0,0,0]
[null,null,null,3,"あてはまる",3,0,0,0,0,0,0,0,0,0,0,0,0,0,0,0,0,0,0,0,0,0,0,0,0,0,0,0,0,0,0,0,0,0,0,0,0,0,0,0,0,0,0,0,0,0,0,0,0,0,0,0,0,0,0,0,0,0,0,0,0,0,0,0,0,0,0,0,0,0,0,0,0,0,0,0,0,0,0]
[null,null,null,4,"非常にあてはまる",4,0,0,0,0,0,0,0,0,0,0,0,0,0,0,0,0,0,0,0,0,0,0,0,0,0,0,0,0,0,0,0,0,0,0,0,0,0,0,0,0,0,0,0,0,0,0,0,0,0,0,0,0,0,0,0,0,0,0,0,0,0,0,0,0,0,0,0,0,0,0,0,0,0,0,0,0,0,0]
[null,"13\n（14）","インターネットをしている間は、よりいきいきしてくる。",1,"全くあてはまらない",1,0,0,0,0,0,0,0,0,0,0,0,0,0,0,0,0,0,0,0,0,0,0,0,0,0,0,0,0,0,0,0,0,0,0,0,0,0,0,0,0,0,0,0,0,0,0,0,0,0,0,0,0,0,0,0,0,0,0,0,0,0,0,0,0,0,0,0,0,0,0,0,0,0,0,0,0,0,0]
[null,null,null,2,"あてはまらない",2,0,0,0,0,0,0,0,0,0,0,0,0,0,0,0,0,0,0,0,0,0,0,0,0,0,0,0,0,0,0,0,0,0,0,0,0,0,0,0,0,0,0,0,0,0,0,0,0,0,0,0,0,0,0,0,0,0,0,0,0,0,0,0,0,0,0,0,0,0,0,0,0,0,0,0,0,0,0]
[null,null,null,3,"あてはまる",3,0,0,0,0,0,0,0,0,0,0,0,0,0,0,0,0,0,0,0,0,0,0,0,0,0,0,0,0,0,0,0,0,0,0,0,0,0,0,0,0,0,0,0,0,0,0,0,0,0,0,0,0,0,0,0,0,0,0,0,0,0,0,0,0,0,0,0,0,0,0,0,0,0,0,0,0,0,0]
[null,null,null,4,"非常にあてはまる",4,0,0,0,0,0,0,0,0,0,0,0,0,0,0,0,0,0,0,0,0,0,0,0,0,0,0,0,0,0,0,0,0,0,0,0,0,0,0,0,0,0,0,0,0,0,0,0,0,0,0,0,0,0,0,0,0,0,0,0,0,0,0,0,0,0,0,0,0,0,0,0,0,0,0,0,0,0,0]
[null,"14\n（15）","インターネットができないと、どんなことが起きているのか気になってほかのことができない。",1,"全くあてはまらない",1,0,0,0,0,0,0,0,0,0,0,0,0,0,0,0,0,0,0,0,0,0,0,0,0,0,0,0,0,0,0,0,0,0,0,0,0,0,0,0,0,0,0,0,0,0,0,0,0,0,0,0,0,0,0,0,0,0,0,0,0,0,0,0,0,0,0,0,0,0,0,0,0,0,0,0,0,0,0]
[null,null,null,2,"あてはまらない",2,0,0,0,0,0,0,0,0,0,0,0,0,0,0,0,0,0,0,0,0,0,0,0,0,0,0,0,0,0,0,0,0,0,0,0,0,0,0,0,0,0,0,0,0,0,0,0,0,0,0,0,0,0,0,0,0,0,0,0,0,0,0,0,0,0,0,0,0,0,0,0,0,0,0,0,0,0,0]
[null,null,null,3,"あてはまる",3,0,0,0,0,0,0,0,0,0,0,0,0,0,0,0,0,0,0,0,0,0,0,0,0,0,0,0,0,0,0,0,0,0,0,0,0,0,0,0,0,0,0,0,0,0,0,0,0,0,0,0,0,0,0,0,0,0,0,0,0,0,0,0,0,0,0,0,0,0,0,0,0,0,0,0,0,0,0]
[null,null,null,4,"非常にあてはまる",4,0,0,0,0,0,0,0,0,0,0,0,0,0,0,0,0,0,0,0,0,0,0,0,0,0,0,0,0,0,0,0,0,0,0,0,0,0,0,0,0,0,0,0,0,0,0,0,0,0,0,0,0,0,0,0,0,0,0,0,0,0,0,0,0,0,0,0,0,0,0,0,0,0,0,0,0,0,0]
[null,"15\n（16）","“やめなくては”と思いながら、いつもインターネットを続けてしまう。",1,"全くあてはまらない",1,{"$f":"AF73","v":0},{"$f":"AO73","v":0},{"$f":"AZ73","v":0},{"$f":"AC73+AL73+AW73","v":0},0,0,{"$f":"SUM(J73:L73)","v":0},{"$f":"BL73","v":0},{"$f":"BU73","v":0},{"$f":"CF73","v":0},{"$f":"SUM(BI73,BR73,CC73)","v":0},0,0,{"$f":"SUM(Q73:S73)","v":0},{"$f":"CG73+CH73+CI73","v":0},{"$f":"CJ73+CK73+CL73","v":0},{"$f":"CM73+CN73+CO73","v":0},{"$f":"CP73+CQ73+CR73","v":0},{"$f":"CS73+CT73+CU73","v":0},{"$f":"CV73+CW73+CX73","v":0},{"$f":"CY73+CZ73+DA73","v":0},{"$f":"DB73+DC73+DD73","v":0},{"$f":"CG73+CJ73+CM73+CP73+CS73+CV73+CY73+DB73","v":0},0,0,{"$f":"AC73+AD73+AE73","v":0},{"$f":"DE73+DF73+DG73","v":0},{"$f":"DH73+DI73+DJ73","v":0},{"$f":"DK73+DL73+DM73","v":0},{"$f":"DN73+DO73+DP73","v":0},{"$f":"DQ73+DR73+DS73","v":0},{"$f":"DE73+DH73+DK73+DN73+DQ73","v":0},0,0,{"$f":"SUM(AL73:AN73)","v":0},{"$f":"DT73+DU73+DV73","v":0},{"$f":"DW73+DX73+DY73","v":0},{"$f":"DZ73+EA73+EB73","v":0},{"$f":"EC73+ED73+EE73","v":0},{"$f":"EF73+EG73+EH73","v":0},{"$f":"EI73+EJ73+EK73","v":0},{"$f":"EL73+EM73+EN73","v":0},{"$f":"DT73+DW73+DZ73+EC73+EF73+EI73+EL73","v":0},0,0,{"$f":"SUM(AW73:AY73)","v":0},{"$f":"SUM(EO73:EQ73)","v":0},{"$f":"SUM(ER73:ET73)","v":0},{"$f":"SUM(EU73:EW73)","v":0},{"$f":"SUM(EX73:EZ73)","v":0},{"$f":"SUM(FA73:FC73)","v":0},{"$f":"SUM(FD73:FF73)","v":0},{"$f":"SUM(FG73:FI73)","v":0},{"$f":"SUM(FJ73:FL73)","v":0},{"$f":"SUM(EO73,ER73,EU73,EX73,FA73,FD73,FG73,FJ73)","v":0},0,0,{"$f":"SUM(EO73:FL73)","v":0},{"$f":"SUM(FM73:FO73)","v":0},{"$f":"SUM(FP73:FR73)","v":0},{"$f":"SUM(FS73:FU73)","v":0},{"$f":"SUM(FV73:FX73)","v":0},{"$f":"SUM(FY73:GA73)","v":0},{"$f":"SUM(FM73,FP73,FS73,FV73,FY73)","v":0},0,0,{"$f":"SUM(FM73:GA73)","v":0},{"$f":"SUM(GB73:GD73)","v":0},{"$f":"SUM(GE73:GG73)","v":0},{"$f":"SUM(GH73:GJ73)","v":0},{"$f":"SUM(GK73:GM73)","v":0},{"$f":"SUM(GN73:GP73)","v":0},{"$f":"SUM(GQ73:GS73)","v":0},{"$f":"SUM(GT73:GV73)","v":0},{"$f":"SUM(GB73,GE73,GH73,GK73,GN73,GQ73,GT73)","v":0},0,0,{"$f":"SUM(GB73:GV73)","v":0}]
[null,null,null,2,"あてはまらない",2,0,0,0,0,0,0,0,0,0,0,0,0,0,0,0,0,0,0,0,0,0,0,0,0,0,0,0,0,0,0,0,0,0,0,0,0,0,0,0,0,0,0,0,0,0,0,0,0,0,0,0,0,0,0,0,0,0,0,0,0,0,0,0,0,0,0,0,0,0,0,0,0,0,0,0,0,0,0]
[null,null,null,3,"あてはまる",3,0,0,0,0,0,0,0,0,0,0,0,0,0,0,0,0,0,0,0,0,0,0,0,0,0,0,0,0,0,0,0,0,0,0,0,0,0,0,0,0,0,0,0,0,0,0,0,0,0,0,0,0,0,0,0,0,0,0,0,0,0,0,0,0,0,0,0,0,0,0,0,0,0,0,0,0,0,0]
[null,null,null,4,"非常にあてはまる",4,0,0,0,0,0,0,0,0,0,0,0,0,0,0,0,0,0,0,0,0,0,0,0,0,0,0,0,0,0,0,0,0,0,0,0,0,0,0,0,0,0,0,0,0,0,0,0,0,0,0,0,0,0,0,0,0,0,0,0,0,0,0,0,0,0,0,0,0,0,0,0,0,0,0,0,0,0,0]
[null,"16\n（17）","インターネットをしているために疲れて授業時間に寝る。",1,"全くあてはまらない",1,0,0,0,0,0,0,0,0,0,0,0,0,0,0,0,0,0,0,0,0,0,0,0,0,0,0,0,0,0,0,0,0,0,0,0,0,0,0,0,0,0,0,0,0,0,0,0,0,0,0,0,0,0,0,0,0,0,0,0,0,0,0,0,0,0,0,0,0,0,0,0,0,0,0,0,0,0,0]
[null,null,null,2,"あてはまらない",2,0,0,0,0,0,0,0,0,0,0,0,0,0,0,0,0,0,0,0,0,0,0,0,0,0,0,0,0,0,0,0,0,0,0,0,0,0,0,0,0,0,0,0,0,0,0,0,0,0,0,0,0,0,0,0,0,0,0,0,0,0,0,0,0,0,0,0,0,0,0,0,0,0,0,0,0,0,0]
[null,null,null,3,"あてはまる",3,0,0,0,0,0,0,0,0,0,0,0,0,0,0,0,0,0,0,0,0,0,0,0,0,0,0,0,0,0,0,0,0,0,0,0,0,0,0,0,0,0,0,0,0,0,0,0,0,0,0,0,0,0,0,0,0,0,0,0,0,0,0,0,0,0,0,0,0,0,0,0,0,0,0,0,0,0,0]
[null,null,null,4,"非常にあてはまる",4,0,0,0,0,0,0,0,0,0,0,0,0,0,0,0,0,0,0,0,0,0,0,0,0,0,0,0,0,0,0,0,0,0,0,0,0,0,0,0,0,0,0,0,0,0,0,0,0,0,0,0,0,0,0,0,0,0,0,0,0,0,0,0,0,0,0,0,0,0,0,0,0,0,0,0,0,0,0]
[null,"17\n（18）","インターネットをしていて、計画したことがまともにできなかったことがある。",1,"全くあてはまらない",1,0,0,0,0,0,0,0,0,0,0,0,0,0,0,0,0,0,0,0,0,0,0,0,0,0,0,0,0,0,0,0,0,0,0,0,0,0,0,0,0,0,0,0,0,0,0,0,0,0,0,0,0,0,0,0,0,0,0,0,0,0,0,0,0,0,0,0,0,0,0,0,0,0,0,0,0,0,0]
[null,null,null,2,"あてはまらない",2,0,0,0,0,0,0,0,0,0,0,0,0,0,0,0,0,0,0,0,0,0,0,0,0,0,0,0,0,0,0,0,0,0,0,0,0,0,0,0,0,0,0,0,0,0,0,0,0,0,0,0,0,0,0,0,0,0,0,0,0,0,0,0,0,0,0,0,0,0,0,0,0,0,0,0,0,0,0]
[null,null,null,3,"あてはまる",3,0,0,0,0,0,0,0,0,0,0,0,0,0,0,0,0,0,0,0,0,0,0,0,0,0,0,0,0,0,0,0,0,0,0,0,0,0,0,0,0,0,0,0,0,0,0,0,0,0,0,0,0,0,0,0,0,0,0,0,0,0,0,0,0,0,0,0,0,0,0,0,0,0,0,0,0,0,0]
[null,null,null,4,"非常にあてはまる",4,0,0,0,0,0,0,0,0,0,0,0,0,0,0,0,0,0,0,0,0,0,0,0,0,0,0,0,0,0,0,0,0,0,0,0,0,0,0,0,0,0,0,0,0,0,0,0,0,0,0,0,0,0,0,0,0,0,0,0,0,0,0,0,0,0,0,0,0,0,0,0,0,0,0,0,0,0,0]
[null,"18\n（19）","インターネットをすると気分がよくなり、すぐに興奮する。",1,"全くあてはまらない",1,0,0,0,0,0,0,0,0,0,0,0,0,0,0,0,0,0,0,0,0,0,0,0,0,0,0,0,0,0,0,0,0,0,0,0,0,0,0,0,0,0,0,0,0,0,0,0,0,0,0,0,0,0,0,0,0,0,0,0,0,0,0,0,0,0,0,0,0,0,0,0,0,0,0,0,0,0,0]
[null,null,null,2,"あてはまらない",2,0,0,0,0,0,0,0,0,0,0,0,0,0,0,0,0,0,0,0,0,0,0,0,0,0,0,0,0,0,0,0,0,0,0,0,0,0,0,0,0,0,0,0,0,0,0,0,0,0,0,0,0,0,0,0,0,0,0,0,0,0,0,0,0,0,0,0,0,0,0,0,0,0,0,0,0,0,0]
[null,null,null,3,"あてはまる",3,0,0,0,0,0,0,0,0,0,0,0,0,0,0,0,0,0,0,0,0,0,0,0,0,0,0,0,0,0,0,0,0,0,0,0,0,0,0,0,0,0,0,0,0,0,0,0,0,0,0,0,0,0,0,0,0,0,0,0,0,0,0,0,0,0,0,0,0,0,0,0,0,0,0,0,0,0,0]
[null,null,null,4,"非常にあてはまる",4,0,0,0,0,0,0,0,0,0,0,0,0,0,0,0,0,0,0,0,0,0,0,0,0,0,0,0,0,0,0,0,0,0,0,0,0,0,0,0,0,0,0,0,0,0,0,0,0,0,0,0,0,0,0,0,0,0,0,0,0,0,0,0,0,0,0,0,0,0,0,0,0,0,0,0,0,0,0]
[null,"19\n（20）","インターネットをしているとき、思い通りにならないとイライラしてくる。",1,"全くあてはまらない",1,0,0,0,0,0,0,0,0,0,0,0,0,0,0,0,0,0,0,0,0,0,0,0,0,0,0,0,0,0,0,0,0,0,0,0,0,0,0,0,0,0,0,0,0,0,0,0,0,0,0,0,0,0,0,0,0,0,0,0,0,0,0,0,0,0,0,0,0,0,0,0,0,0,0,0,0,0,0]
[null,null,null,2,"あてはまらない",2,0,0,0,0,0,0,0,0,0,0,0,0,0,0,0,0,0,0,0,0,0,0,0,0,0,0,0,0,0,0,0,0,0,0,0,0,0,0,0,0,0,0,0,0,0,0,0,0,0,0,0,0,0,0,0,0,0,0,0,0,0,0,0,0,0,0,0,0,0,0,0,0,0,0,0,0,0,0]
[null,null,null,3,"あてはまる",3,0,0,0,0,0,0,0,0,0,0,0,0,0,0,0,0,0,0,0,0,0,0,0,0,0,0,0,0,0,0,0,0,0,0,0,0,0,0,0,0,0,0,0,0,0,0,0,0,0,0,0,0,0,0,0,0,0,0,0,0,0,0,0,0,0,0,0,0,0,0,0,0,0,0,0,0,0,0]
[null,null,null,4,"非常にあてはまる",4,0,0,0,0,0,0,0,0,0,0,0,0,0,0,0,0,0,0,0,0,0,0,0,0,0,0,0,0,0,0,0,0,0,0,0,0,0,0,0,0,0,0,0,0,0,0,0,0,0,0,0,0,0,0,0,0,0,0,0,0,0,0,0,0,0,0,0,0,0,0,0,0,0,0,0,0,0,0]
[null,"20\n（21）","インターネットの使用時間をみずから調節することができる。",1,"全くあてはまらない",4,0,0,0,0,0,0,0,0,0,0,0,0,0,0,0,0,0,0,0,0,0,0,0,0,0,0,0,0,0,0,0,0,0,0,0,0,0,0,0,0,0,0,0,0,0,0,0,0,0,0,0,0,0,0,0,0,0,0,0,0,0,0,0,0,0,0,0,0,0,0,0,0,0,0,0,0,0,0]
[null,null,null,2,"あてはまらない",3,0,0,0,0,0,0,0,0,0,0,0,0,0,0,0,0,0,0,0,0,0,0,0,0,0,0,0,0,0,0,0,0,0,0,0,0,0,0,0,0,0,0,0,0,0,0,0,0,0,0,0,0,0,0,0,0,0,0,0,0,0,0,0,0,0,0,0,0,0,0,0,0,0,0,0,0,0,0]
[null,null,null,3,"あてはまる",2,0,0,0,0,0,0,0,0,0,0,0,0,0,0,0,0,0,0,0,0,0,0,0,0,0,0,0,0,0,0,0,0,0,0,0,0,0,0,0,0,0,0,0,0,0,0,0,0,0,0,0,0,0,0,0,0,0,0,0,0,0,0,0,0,0,0,0,0,0,0,0,0,0,0,0,0,0,0]
[null,null,null,4,"非常にあてはまる",1,0,0,0,0,0,0,0,0,0,0,0,0,0,0,0,0,0,0,0,0,0,0,0,0,0,0,0,0,0,0,0,0,0,0,0,0,0,0,0,0,0,0,0,0,0,0,0,0,0,0,0,0,0,0,0,0,0,0,0,0,0,0,0,0,0,0,0,0,0,0,0,0,0,0,0,0,0,0]
[null,"21\n（22）","疲れるくらいインターネットをすることはない。",1,"全くあてはまらない",1,0,0,0,0,0,0,0,0,0,0,0,0,0,0,0,0,0,0,0,0,0,0,0,0,0,0,0,0,0,0,0,0,0,0,0,0,0,0,0,0,0,0,0,0,0,0,0,0,0,0,0,0,0,0,0,0,0,0,0,0,0,0,0,0,0,0,0,0,0,0,0,0,0,0,0,0,0,0]
[null,null,null,2,"あてはまらない",2,0,0,0,0,0,0,0,0,0,0,0,0,0,0,0,0,0,0,0,0,0,0,0,0,0,0,0,0,0,0,0,0,0,0,0,0,0,0,0,0,0,0,0,0,0,0,0,0,0,0,0,0,0,0,0,0,0,0,0,0,0,0,0,0,0,0,0,0,0,0,0,0,0,0,0,0,0,0]
[null,null,null,3,"あてはまる",3,0,0,0,0,0,0,0,0,0,0,0,0,0,0,0,0,0,0,0,0,0,0,0,0,0,0,0,0,0,0,0,0,0,0,0,0,0,0,0,0,0,0,0,0,0,0,0,0,0,0,0,0,0,0,0,0,0,0,0,0,0,0,0,0,0,0,0,0,0,0,0,0,0,0,0,0,0,0]
[null,null,null,4,"非常にあてはまる",4,0,0,0,0,0,0,0,0,0,0,0,0,0,0,0,0,0,0,0,0,0,0,0,0,0,0,0,0,0,0,0,0,0,0,0,0,0,0,0,0,0,0,0,0,0,0,0,0,0,0,0,0,0,0,0,0,0,0,0,0,0,0,0,0,0,0,0,0,0,0,0,0,0,0,0,0,0,0]
[null,"22\n（23）","インターネットができないとそわそわと落ち着かなくなり焦ってくる。",1,"全くあてはまらない",1,0,0,0,0,0,0,0,0,0,0,0,0,0,0,0,0,0,0,0,0,0,0,0,0,0,0,0,0,0,0,0,0,0,0,0,0,0,0,0,0,0,0,0,0,0,0,0,0,0,0,0,0,0,0,0,0,0,0,0,0,0,0,0,0,0,0,0,0,0,0,0,0,0,0,0,0,0,0]
[null,null,null,2,"あてはまらない",2,0,0,0,0,0,0,0,0,0,0,0,0,0,0,0,0,0,0,0,0,0,0,0,0,0,0,0,0,0,0,0,0,0,0,0,0,0,0,0,0,0,0,0,0,0,0,0,0,0,0,0,0,0,0,0,0,0,0,0,0,0,0,0,0,0,0,0,0,0,0,0,0,0,0,0,0,0,0]
[null,null,null,3,"あてはまる",3,0,0,0,0,0,0,0,0,0,0,0,0,0,0,0,0,0,0,0,0,0,0,0,0,0,0,0,0,0,0,0,0,0,0,0,0,0,0,0,0,0,0,0,0,0,0,0,0,0,0,0,0,0,0,0,0,0,0,0,0,0,0,0,0,0,0,0,0,0,0,0,0,0,0,0,0,0,0]
[null,null,null,4,"非常にあてはまる",4,0,0,0,0,0,0,0,0,0,0,0,0,0,0,0,0,0,0,0,0,0,0,0,0,0,0,0,0,0,0,0,0,0,0,0,0,0,0,0,0,0,0,0,0,0,0,0,0,0,0,0,0,0,0,0,0,0,0,0,0,0,0,0,0,0,0,0,0,0,0,0,0,0,0,0,0,0,0]
[null,"23\n（24）","一度インターネットを始めると、最初に心に決めたよりも長時間インターネットをしてしまう。",1,"全くあてはまらない",1,0,0,0,0,0,0,0,0,0,0,0,0,0,0,0,0,0,0,0,0,0,0,0,0,0,0,0,0,0,0,0,0,0,0,0,0,0,0,0,0,0,0,0,0,0,0,0,0,0,0,0,0,0,0,0,0,0,0,0,0,0,0,0,0,0,0,0,0,0,0,0,0,0,0,0,0,0,0]
[null,null,null,2,"あてはまらない",2,0,0,0,0,0,0,0,0,0,0,0,0,0,0,0,0,0,0,0,0,0,0,0,0,0,0,0,0,0,0,0,0,0,0,0,0,0,0,0,0,0,0,0,0,0,0,0,0,0,0,0,0,0,0,0,0,0,0,0,0,0,0,0,0,0,0,0,0,0,0,0,0,0,0,0,0,0,0]
[null,null,null,3,"あてはまる",3,0,0,0,0,0,0,0,0,0,0,0,0,0,0,0,0,0,0,0,0,0,0,0,0,0,0,0,0,0,0,0,0,0,0,0,0,0,0,0,0,0,0,0,0,0,0,0,0,0,0,0,0,0,0,0,0,0,0,0,0,0,0,0,0,0,0,0,0,0,0,0,0,0,0,0,0,0,0]
[null,null,null,4,"非常にあてはまる",4,0,0,0,0,0,0,0,0,0,0,0,0,0,0,0,0,0,0,0,0,0,0,0,0,0,0,0,0,0,0,0,0,0,0,0,0,0,0,0,0,0,0,0,0,0,0,0,0,0,0,0,0,0,0,0,0,0,0,0,0,0,0,0,0,0,0,0,0,0,0,0,0,0,0,0,0,0,0]
[null,"24\n（25）","インターネットをしたとしても、計画したことはきちんとおこなう。",1,"全くあてはまらない",4,0,0,0,0,0,0,0,0,0,0,0,0,0,0,0,0,0,0,0,0,0,0,0,0,0,0,0,0,0,0,0,0,0,0,0,0,0,0,0,0,0,0,0,0,0,0,0,0,0,0,0,0,0,0,0,0,0,0,0,0,0,0,0,0,0,0,0,0,0,0,0,0,0,0,0,0,0,0]
[null,null,null,2,"あてはまらない",3,0,0,0,0,0,0,0,0,0,0,0,0,0,0,0,0,0,0,0,0,0,0,0,0,0,0,0,0,0,0,0,0,0,0,0,0,0,0,0,0,0,0,0,0,0,0,0,0,0,0,0,0,0,0,0,0,0,0,0,0,0,0,0,0,0,0,0,0,0,0,0,0,0,0,0,0,0,0]
[null,null,null,3,"あてはまる",2,0,0,0,0,0,0,0,0,0,0,0,0,0,0,0,0,0,0,0,0,0,0,0,0,0,0,0,0,0,0,0,0,0,0,0,0,0,0,0,0,0,0,0,0,0,0,0,0,0,0,0,0,0,0,0,0,0,0,0,0,0,0,0,0,0,0,0,0,0,0,0,0,0,0,0,0,0,0]
[null,null,null,4,"非常にあてはまる",1,0,0,0,0,0,0,0,0,0,0,0,0,0,0,0,0,0,0,0,0,0,0,0,0,0,0,0,0,0,0,0,0,0,0,0,0,0,0,0,0,0,0,0,0,0,0,0,0,0,0,0,0,0,0,0,0,0,0,0,0,0,0,0,0,0,0,0,0,0,0,0,0,0,0,0,0,0,0]
[null,"25\n（26）","インターネットができなくても、不安ではない。",1,"全くあてはまらない",4,0,0,0,0,0,0,0,0,0,0,0,0,0,0,0,0,0,0,0,0,0,0,0,0,0,0,0,0,0,0,0,0,0,0,0,0,0,0,0,0,0,0,0,0,0,0,0,0,0,0,0,0,0,0,0,0,0,0,0,0,0,0,0,0,0,0,0,0,0,0,0,0,0,0,0,0,0,0]
[null,null,null,2,"あてはまらない",3,0,0,0,0,0,0,0,0,0,0,0,0,0,0,0,0,0,0,0,0,0,0,0,0,0,0,0,0,0,0,0,0,0,0,0,0,0,0,0,0,0,0,0,0,0,0,0,0,0,0,0,0,0,0,0,0,0,0,0,0,0,0,0,0,0,0,0,0,0,0,0,0,0,0,0,0,0,0]
[null,null,null,3,"あてはまる",2,0,0,0,0,0,0,0,0,0,0,0,0,0,0,0,0,0,0,0,0,0,0,0,0,0,0,0,0,0,0,0,0,0,0,0,0,0,0,0,0,0,0,0,0,0,0,0,0,0,0,0,0,0,0,0,0,0,0,0,0,0,0,0,0,0,0,0,0,0,0,0,0,0,0,0,0,0,0]
[null,null,null,4,"非常にあてはまる",1,0,0,0,0,0,0,0,0,0,0,0,0,0,0,0,0,0,0,0,0,0,0,0,0,0,0,0,0,0,0,0,0,0,0,0,0,0,0,0,0,0,0,0,0,0,0,0,0,0,0,0,0,0,0,0,0,0,0,0,0,0,0,0,0,0,0,0,0,0,0,0,0,0,0,0,0,0,0]
[null,"26\n（27）","インターネットの使用を減らさなければならないといつも考えている。",1,"全くあてはまらない",1,0,0,0,0,0,0,0,0,0,0,0,0,0,0,0,0,0,0,0,0,0,0,0,0,0,0,0,0,0,0,0,0,0,0,0,0,0,0,0,0,0,0,0,0,0,0,0,0,0,0,0,0,0,0,0,0,0,0,0,0,0,0,0,0,0,0,0,0,0,0,0,0,0,0,0,0,0,0]
[null,null,null,2,"あてはまらない",2,0,0,0,0,0,0,0,0,0,0,0,0,0,0,0,0,0,0,0,0,0,0,0,0,0,0,0,0,0,0,0,0,0,0,0,0,0,0,0,0,0,0,0,0,0,0,0,0,0,0,0,0,0,0,0,0,0,0,0,0,0,0,0,0,0,0,0,0,0,0,0,0,0,0,0,0,0,0]
[null,null,null,3,"あてはまる",3,0,0,0,0,0,0,0,0,0,0,0,0,0,0,0,0,0,0,0,0,0,0,0,0,0,0,0,0,0,0,0,0,0,0,0,0,0,0,0,0,0,0,0,0,0,0,0,0,0,0,0,0,0,0,0,0,0,0,0,0,0,0,0,0,0,0,0,0,0,0,0,0,0,0,0,0,0,0]
[null,null,null,4,"非常にあてはまる",4,0,0,0,0,0,0,0,0,0,0,0,0,0,0,0,0,0,0,0,0,0,0,0,0,0,0,0,0,0,0,0,0,0,0,0,0,0,0,0,0,0,0,0,0,0,0,0,0,0,0,0,0,0,0,0,0,0,0,0,0,0,0,0,0,0,0,0,0,0,0,0,0,0,0,0,0,0,0]
["ＩＡＴ","27\n(28)","気がつくと思っていたより、長い時間インターネットをしていることがありますか？",1,"全くない",1,0,0,0,0,0,0,0,0,0,0,0,0,0,0,0,0,0,0,0,0,0,0,0,0,0,0,0,0,0,0,0,0,0,0,0,0,0,0,0,0,0,0,0,0,0,0,0,0,0,0,0,0,0,0,0,0,0,0,0,0,0,0,0,0,0,0,0,0,0,0,0,0,0,0,0,0,0,0]
[null,null,null,2,"まれにある",2,0,0,0,0,0,0,0,0,0,0,0,0,0,0,0,0,0,0,0,0,0,0,0,0,0,0,0,0,0,0,0,0,0,0,0,0,0,0,0,0,0,0,0,0,0,0,0,0,0,0,0,0,0,0,0,0,0,0,0,0,0,0,0,0,0,0,0,0,0,0,0,0,0,0,0,0,0,0]
[null,null,null,3,"時々ある",3,0,0,0,0,0,0,0,0,0,0,0,0,0,0,0,0,0,0,0,0,0,0,0,0,0,0,0,0,0,0,0,0,0,0,0,0,0,0,0,0,0,0,0,0,0,0,0,0,0,0,0,0,0,0,0,0,0,0,0,0,0,0,0,0,0,0,0,0,0,0,0,0,0,0,0,0,0,0]
[null,null,null,4,"よくある",4,0,0,0,0,0,0,0,0,0,0,0,0,0,0,0,0,0,0,0,0,0,0,0,0,0,0,0,0,0,0,0,0,0,0,0,0,0,0,0,0,0,0,0,0,0,0,0,0,0,0,0,0,0,0,0,0,0,0,0,0,0,0,0,0,0,0,0,0,0,0,0,0,0,0,0,0,0,0]
[null,null,null,5,"いつもある",5,0,0,0,0,0,0,0,0,0,0,0,0,0,0,0,0,0,0,0,0,0,0,0,0,0,0,0,0,0,0,0,0,0,0,0,0,0,0,0,0,0,0,0,0,0,0,0,0,0,0,0,0,0,0,0,0,0,0,0,0,0,0,0,0,0,0,0,0,0,0,0,0,0,0,0,0,0,0]
[null,"28\n(29)","インターネットをする時間を増やすために、家庭での仕事や役割をおろそかにすることがありますか？",1,"全くない",1,0,0,0,0,0,0,0,0,0,0,0,0,0,0,0,0,0,0,0,0,0,0,0,0,0,0,0,0,0,0,0,0,0,0,0,0,0,0,0,0,0,0,0,0,0,0,0,0,0,0,0,0,0,0,0,0,0,0,0,0,0,0,0,0,0,0,0,0,0,0,0,0,0,0,0,0,0,0]
[null,null,null,2,"まれにある",2,0,0,0,0,0,0,0,0,0,0,0,0,0,0,0,0,0,0,0,0,0,0,0,0,0,0,0,0,0,0,0,0,0,0,0,0,0,0,0,0,0,0,0,0,0,0,0,0,0,0,0,0,0,0,0,0,0,0,0,0,0,0,0,0,0,0,0,0,0,0,0,0,0,0,0,0,0,0]
[null,null,null,3,"時々ある",3,0,0,0,0,0,0,0,0,0,0,0,0,0,0,0,0,0,0,0,0,0,0,0,0,0,0,0,0,0,0,0,0,0,0,0,0,0,0,0,0,0,0,0,0,0,0,0,0,0,0,0,0,0,0,0,0,0,0,0,0,0,0,0,0,0,0,0,0,0,0,0,0,0,0,0,0,0,0]
[null,null,null,4,"よくある",4,0,0,0,0,0,0,0,0,0,0,0,0,0,0,0,0,0,0,0,0,0,0,0,0,0,0,0,0,0,0,0,0,0,0,0,0,0,0,0,0,0,0,0,0,0,0,0,0,0,0,0,0,0,0,0,0,0,0,0,0,0,0,0,0,0,0,0,0,0,0,0,0,0,0,0,0,0,0]
[null,null,null,5,"いつもある",5,0,0,0,0,0,0,0,0,0,0,0,0,0,0,0,0,0,0,0,0,0,0,0,0,0,0,0,0,0,0,0,0,0,0,0,0,0,0,0,0,0,0,0,0,0,0,0,0,0,0,0,0,0,0,0,0,0,0,0,0,0,0,0,0,0,0,0,0,0,0,0,0,0,0,0,0,0,0]
[null,"29\n(30)","友人と過ごすよりも、インターネットを選ぶことがありますか？",1,"全くない",1,0,0,0,0,0,0,0,0,0,0,0,0,0,0,0,0,0,0,0,0,0,0,0,0,0,0,0,0,0,0,0,0,0,0,0,0,0,0,0,0,0,0,0,0,0,0,0,0,0,0,0,0,0,0,0,0,0,0,0,0,0,0,0,0,0,0,0,0,0,0,0,0,0,0,0,0,0,0]
[null,null,null,2,"まれにある",2,0,0,0,0,0,0,0,0,0,0,0,0,0,0,0,0,0,0,0,0,0,0,0,0,0,0,0,0,0,0,0,0,0,0,0,0,0,0,0,0,0,0,0,0,0,0,0,0,0,0,0,0,0,0,0,0,0,0,0,0,0,0,0,0,0,0,0,0,0,0,0,0,0,0,0,0,0,0]
[null,null,null,3,"時々ある",3,0,0,0,0,0,0,0,0,0,0,0,0,0,0,0,0,0,0,0,0,0,0,0,0,0,0,0,0,0,0,0,0,0,0,0,0,0,0,0,0,0,0,0,0,0,0,0,0,0,0,0,0,0,0,0,0,0,0,0,0,0,0,0,0,0,0,0,0,0,0,0,0,0,0,0,0,0,0]
[null,null,null,4,"よくある",4,0,0,0,0,0,0,0,0,0,0,0,0,0,0,0,0,0,0,0,0,0,0,0,0,0,0,0,0,0,0,0,0,0,0,0,0,0,0,0,0,0,0,0,0,0,0,0,0,0,0,0,0,0,0,0,0,0,0,0,0,0,0,0,0,0,0,0,0,0,0,0,0,0,0,0,0,0,0]
[null,null,null,5,"いつもある",5,0,0,0,0,0,0,0,0,0,0,0,0,0,0,0,0,0,0,0,0,0,0,0,0,0,0,0,0,0,0,0,0,0,0,0,0,0,0,0,0,0,0,0,0,0,0,0,0,0,0,0,0,0,0,0,0,0,0,0,0,0,0,0,0,0,0,0,0,0,0,0,0,0,0,0,0,0,0]
[null,"30\n(31)","インターネットで新しい仲間を作ることがありますか？",1,"全くない",1,0,0,0,0,0,0,0,0,0,0,0,0,0,0,0,0,0,0,0,0,0,0,0,0,0,0,0,0,0,0,0,0,0,0,0,0,0,0,0,0,0,0,0,0,0,0,0,0,0,0,0,0,0,0,0,0,0,0,0,0,0,0,0,0,0,0,0,0,0,0,0,0,0,0,0,0,0,0]
[null,null,null,2,"まれにある",2,{"$f":"AF137","v":0},{"$f":"AO137","v":0},{"$f":"AZ137","v":0},{"$f":"AC137+AL137+AW137","v":0},0,0,{"$f":"SUM(J137:L137)","v":0},{"$f":"BL137","v":0},{"$f":"BU137","v":0},{"$f":"CF137","v":0},{"$f":"SUM(BI137,BR137,CC137)","v":0},0,0,{"$f":"SUM(Q137:S137)","v":0},{"$f":"CG137+CH137+CI137","v":0},{"$f":"CJ137+CK137+CL137","v":0},{"$f":"CM137+CN137+CO137","v":0},{"$f":"CP137+CQ137+CR137","v":0},{"$f":"CS137+CT137+CU137","v":0},{"$f":"CV137+CW137+CX137","v":0},{"$f":"CY137+CZ137+DA137","v":0},{"$f":"DB137+DC137+DD137","v":0},{"$f":"CG137+CJ137+CM137+CP137+CS137+CV137+CY137+DB137","v":0},0,0,{"$f":"AC137+AD137+AE137","v":0},{"$f":"DE137+DF137+DG137","v":0},{"$f":"DH137+DI137+DJ137","v":0},{"$f":"DK137+DL137+DM137","v":0},{"$f":"DN137+DO137+DP137","v":0},{"$f":"DQ137+DR137+DS137","v":0},{"$f":"DE137+DH137+DK137+DN137+DQ137","v":0},0,0,{"$f":"SUM(AL137:AN137)","v":0},{"$f":"DT137+DU137+DV137","v":0},{"$f":"DW137+DX137+DY137","v":0},{"$f":"DZ137+EA137+EB137","v":0},{"$f":"EC137+ED137+EE137","v":0},{"$f":"EF137+EG137+EH137","v":0},{"$f":"EI137+EJ137+EK137","v":0},{"$f":"EL137+EM137+EN137","v":0},{"$f":"DT137+DW137+DZ137+EC137+EF137+EI137+EL137","v":0},0,0,{"$f":"SUM(AW137:AY137)","v":0},{"$f":"SUM(EO137:EQ137)","v":0},{"$f":"SUM(ER137:ET137)","v":0},{"$f":"SUM(EU137:EW137)","v":0},{"$f":"SUM(EX137:EZ137)","v":0},{"$f":"SUM(FA137:FC137)","v":0},{"$f":"SUM(FD137:FF137)","v":0},{"$f":"SUM(FG137:FI137)","v":0},{"$f":"SUM(FJ137:FL137)","v":0},{"$f":"SUM(EO137,ER137,EU137,EX137,FA137,FD137,FG137,FJ137)","v":0},0,0,{"$f":"SUM(EO137:FL137)","v":0},{"$f":"SUM(FM137:FO137)","v":0},{"$f":"SUM(FP137:FR137)","v":0},{"$f":"SUM(FS137:FU137)","v":0},{"$f":"SUM(FV137:FX137)","v":0},{"$f":"SUM(FY137:GA137)","v":0},{"$f":"SUM(FM137,FP137,FS137,FV137,FY137)","v":0},0,0,{"$f":"SUM(FM137:GA137)","v":0},{"$f":"SUM(GB137:GD137)","v":0},{"$f":"SUM(GE137:GG137)","v":0},{"$f":"SUM(GH137:GJ137)","v":0},{"$f":"SUM(GK137:GM137)","v":0},{"$f":"SUM(GN137:GP137)","v":0},{"$f":"SUM(GQ137:GS137)","v":0},{"$f":"SUM(GT137:GV137)","v":0},{"$f":"SUM(GB137,GE137,GH137,GK137,GN137,GQ137,GT137)","v":0},0,0,{"$f":"SUM(GB137:GV137)","v":0}]
[null,null,null,3,"時々ある",3,0,0,0,0,0,0,0,0,0,0,0,0,0,0,0,0,0,0,0,0,0,0,0,0,0,0,0,0,0,0,0,0,0,0,0,0,0,0,0,0,0,0,0,0,0,0,0,0,0,0,0,0,0,0,0,0,0,0,0,0,0,0,0,0,0,0,0,0,0,0,0,0,0,0,0,0,0,0]
[null,null,null,4,"よくある",4,0,0,0,0,0,0,0,0,0,0,0,0,0,0,0,0,0,0,0,0,0,0,0,0,0,0,0,0,0,0,0,0,0,0,0,0,0,0,0,0,0,0,0,0,0,0,0,0,0,0,0,0,0,0,0,0,0,0,0,0,0,0,0,0,0,0,0,0,0,0,0,0,0,0,0,0,0,0]
[null,null,null,5,"いつもある",5,0,0,0,0,0,0,0,0,0,0,0,0,0,0,0,0,0,0,0,0,0,0,0,0,0,0,0,0,0,0,0,0,0,0,0,0,0,0,0,0,0,0,0,0,0,0,0,0,0,0,0,0,0,0,0,0,0,0,0,0,0,0,0,0,0,0,0,0,0,0,0,0,0,0,0,0,0,0]
[null,"31\n(32)","インターネットをしている時間が長いと周りの人から文句を言われたことがありますか？",1,"全くない",1,0,0,0,0,0,0,0,0,0,0,0,0,0,0,0,0,0,0,0,0,0,0,0,0,0,0,0,0,0,0,0,0,0,0,0,0,0,0,0,0,0,0,0,0,0,0,0,0,0,0,0,0,0,0,0,0,0,0,0,0,0,0,0,0,0,0,0,0,0,0,0,0,0,0,0,0,0,0]
[null,null,null,2,"まれにある",2,0,0,0,0,0,0,0,0,0,0,0,0,0,0,0,0,0,0,0,0,0,0,0,0,0,0,0,0,0,0,0,0,0,0,0,0,0,0,0,0,0,0,0,0,0,0,0,0,0,0,0,0,0,0,0,0,0,0,0,0,0,0,0,0,0,0,0,0,0,0,0,0,0,0,0,0,0,0]
[null,null,null,3,"時々ある",3,0,0,0,0,0,0,0,0,0,0,0,0,0,0,0,0,0,0,0,0,0,0,0,0,0,0,0,0,0,0,0,0,0,0,0,0,0,0,0,0,0,0,0,0,0,0,0,0,0,0,0,0,0,0,0,0,0,0,0,0,0,0,0,0,0,0,0,0,0,0,0,0,0,0,0,0,0,0]
[null,null,null,4,"よくある",4,0,0,0,0,0,0,0,0,0,0,0,0,0,0,0,0,0,0,0,0,0,0,0,0,0,0,0,0,0,0,0,0,0,0,0,0,0,0,0,0,0,0,0,0,0,0,0,0,0,0,0,0,0,0,0,0,0,0,0,0,0,0,0,0,0,0,0,0,0,0,0,0,0,0,0,0,0,0]
[null,null,null,5,"いつもある",5,0,0,0,0,0,0,0,0,0,0,0,0,0,0,0,0,0,0,0,0,0,0,0,0,0,0,0,0,0,0,0,0,0,0,0,0,0,0,0,0,0,0,0,0,0,0,0,0,0,0,0,0,0,0,0,0,0,0,0,0,0,0,0,0,0,0,0,0,0,0,0,0,0,0,0,0,0,0]
[null,"32\n(33)","インターネットをしている時間が長くて、学校の成績や学業に支障をきたす（※）ことがありますか？\n※「支障をきたす」＝「悪い影響がある」",1,"全くない",1,0,0,0,0,0,0,0,0,0,0,0,0,0,0,0,0,0,0,0,0,0,0,0,0,0,0,0,0,0,0,0,0,0,0,0,0,0,0,0,0,0,0,0,0,0,0,0,0,0,0,0,0,0,0,0,0,0,0,0,0,0,0,0,0,0,0,0,0,0,0,0,0,0,0,0,0,0,0]
[null,null,null,2,"まれにある",2,0,0,0,0,0,0,0,0,0,0,0,0,0,0,0,0,0,0,0,0,0,0,0,0,0,0,0,0,0,0,0,0,0,0,0,0,0,0,0,0,0,0,0,0,0,0,0,0,0,0,0,0,0,0,0,0,0,0,0,0,0,0,0,0,0,0,0,0,0,0,0,0,0,0,0,0,0,0]
[null,null,null,3,"時々ある",3,0,0,0,0,0,0,0,0,0,0,0,0,0,0,0,0,0,0,0,0,0,0,0,0,0,0,0,0,0,0,0,0,0,0,0,0,0,0,0,0,0,0,0,0,0,0,0,0,0,0,0,0,0,0,0,0,0,0,0,0,0,0,0,0,0,0,0,0,0,0,0,0,0,0,0,0,0,0]
[null,null,null,4,"よくある",4,0,0,0,0,0,0,0,0,0,0,0,0,0,0,0,0,0,0,0,0,0,0,0,0,0,0,0,0,0,0,0,0,0,0,0,0,0,0,0,0,0,0,0,0,0,0,0,0,0,0,0,0,0,0,0,0,0,0,0,0,0,0,0,0,0,0,0,0,0,0,0,0,0,0,0,0,0,0]
[null,null,null,5,"いつもある",5,0,0,0,0,0,0,0,0,0,0,0,0,0,0,0,0,0,0,0,0,0,0,0,0,0,0,0,0,0,0,0,0,0,0,0,0,0,0,0,0,0,0,0,0,0,0,0,0,0,0,0,0,0,0,0,0,0,0,0,0,0,0,0,0,0,0,0,0,0,0,0,0,0,0,0,0,0,0]
[null,"33\n(34)","他にやらなければならないことがあっても、まず先に電子メールをチェックすることがありますか？",1,"全くない",1,0,0,0,0,0,0,0,0,0,0,0,0,0,0,0,0,0,0,0,0,0,0,0,0,0,0,0,0,0,0,0,0,0,0,0,0,0,0,0,0,0,0,0,0,0,0,0,0,0,0,0,0,0,0,0,0,0,0,0,0,0,0,0,0,0,0,0,0,0,0,0,0,0,0,0,0,0,0]
[null,null,null,2,"まれにある",2,0,0,0,0,0,0,0,0,0,0,0,0,0,0,0,0,0,0,0,0,0,0,0,0,0,0,0,0,0,0,0,0,0,0,0,0,0,0,0,0,0,0,0,0,0,0,0,0,0,0,0,0,0,0,0,0,0,0,0,0,0,0,0,0,0,0,0,0,0,0,0,0,0,0,0,0,0,0]
[null,null,null,3,"時々ある",3,0,0,0,0,0,0,0,0,0,0,0,0,0,0,0,0,0,0,0,0,0,0,0,0,0,0,0,0,0,0,0,0,0,0,0,0,0,0,0,0,0,0,0,0,0,0,0,0,0,0,0,0,0,0,0,0,0,0,0,0,0,0,0,0,0,0,0,0,0,0,0,0,0,0,0,0,0,0]
[null,null,null,4,"よくある",4,0,0,0,0,0,0,0,0,0,0,0,0,0,0,0,0,0,0,0,0,0,0,0,0,0,0,0,0,0,0,0,0,0,0,0,0,0,0,0,0,0,0,0,0,0,0,0,0,0,0,0,0,0,0,0,0,0,0,0,0,0,0,0,0,0,0,0,0,0,0,0,0,0,0,0,0,0,0]
[null,null,null,5,"いつもある",5,0,0,0,0,0,0,0,0,0,0,0,0,0,0,0,0,0,0,0,0,0,0,0,0,0,0,0,0,0,0,0,0,0,0,0,0,0,0,0,0,0,0,0,0,0,0,0,0,0,0,0,0,0,0,0,0,0,0,0,0,0,0,0,0,0,0,0,0,0,0,0,0,0,0,0,0,0,0]
[null,"34\n(35)","インターネットのために、勉強の能率（※）や成果が下がったことがありますか？※「能率」＝「効率」",1,"全くない",1,0,0,0,0,0,0,0,0,0,0,0,0,0,0,0,0,0,0,0,0,0,0,0,0,0,0,0,0,0,0,0,0,0,0,0,0,0,0,0,0,0,0,0,0,0,0,0,0,0,0,0,0,0,0,0,0,0,0,0,0,0,0,0,0,0,0,0,0,0,0,0,0,0,0,0,0,0,0]
[null,null,null,2,"まれにある",2,0,0,0,0,0,0,0,0,0,0,0,0,0,0,0,0,0,0,0,0,0,0,0,0,0,0,0,0,0,0,0,0,0,0,0,0,0,0,0,0,0,0,0,0,0,0,0,0,0,0,0,0,0,0,0,0,0,0,0,0,0,0,0,0,0,0,0,0,0,0,0,0,0,0,0,0,0,0]
[null,null,null,3,"時々ある",3,0,0,0,0,0,0,0,0,0,0,0,0,0,0,0,0,0,0,0,0,0,0,0,0,0,0,0,0,0,0,0,0,0,0,0,0,0,0,0,0,0,0,0,0,0,0,0,0,0,0,0,0,0,0,0,0,0,0,0,0,0,0,0,0,0,0,0,0,0,0,0,0,0,0,0,0,0,0]
[null,null,null,4,"よくある",4,0,0,0,0,0,0,0,0,0,0,0,0,0,0,0,0,0,0,0,0,0,0,0,0,0,0,0,0,0,0,0,0,0,0,0,0,0,0,0,0,0,0,0,0,0,0,0,0,0,0,0,0,0,0,0,0,0,0,0,0,0,0,0,0,0,0,0,0,0,0,0,0,0,0,0,0,0,0]
[null,null,null,5,"いつもある",5,0,0,0,0,0,0,0,0,0,0,0,0,0,0,0,0,0,0,0,0,0,0,0,0,0,0,0,0,0,0,0,0,0,0,0,0,0,0,0,0,0,0,0,0,0,0,0,0,0,0,0,0,0,0,0,0,0,0,0,0,0,0,0,0,0,0,0,0,0,0,0,0,0,0,0,0,0,0]
[null,"35\n(36)","人にインターネットで何をしているのか聞かれたとき防御的になったり（※）、隠そうとしたことがどれくらいありますか？　※「防御的になったり」＝「自分のことを守ろうとしたり」",1,"全くない",1,0,0,0,0,0,0,0,0,0,0,0,0,0,0,0,0,0,0,0,0,0,0,0,0,0,0,0,0,0,0,0,0,0,0,0,0,0,0,0,0,0,0,0,0,0,0,0,0,0,0,0,0,0,0,0,0,0,0,0,0,0,0,0,0,0,0,0,0,0,0,0,0,0,0,0,0,0,0]
[null,null,null,2,"まれにある",2,0,0,0,0,0,0,0,0,0,0,0,0,0,0,0,0,0,0,0,0,0,0,0,0,0,0,0,0,0,0,0,0,0,0,0,0,0,0,0,0,0,0,0,0,0,0,0,0,0,0,0,0,0,0,0,0,0,0,0,0,0,0,0,0,0,0,0,0,0,0,0,0,0,0,0,0,0,0]
[null,null,null,3,"時々ある",3,0,0,0,0,0,0,0,0,0,0,0,0,0,0,0,0,0,0,0,0,0,0,0,0,0,0,0,0,0,0,0,0,0,0,0,0,0,0,0,0,0,0,0,0,0,0,0,0,0,0,0,0,0,0,0,0,0,0,0,0,0,0,0,0,0,0,0,0,0,0,0,0,0,0,0,0,0,0]
[null,null,null,4,"よくある",4,0,0,0,0,0,0,0,0,0,0,0,0,0,0,0,0,0,0,0,0,0,0,0,0,0,0,0,0,0,0,0,0,0,0,0,0,0,0,0,0,0,0,0,0,0,0,0,0,0,0,0,0,0,0,0,0,0,0,0,0,0,0,0,0,0,0,0,0,0,0,0,0,0,0,0,0,0,0]
[null,null,null,5,"いつもある",5,0,0,0,0,0,0,0,0,0,0,0,0,0,0,0,0,0,0,0,0,0,0,0,0,0,0,0,0,0,0,0,0,0,0,0,0,0,0,0,0,0,0,0,0,0,0,0,0,0,0,0,0,0,0,0,0,0,0,0,0,0,0,0,0,0,0,0,0,0,0,0,0,0,0,0,0,0,0]
[null,"36\n(37)","日々の生活の心配事から心をそらすためにインターネットで心を静めることがありますか？",1,"全くない",1,0,0,0,0,0,0,0,0,0,0,0,0,0,0,0,0,0,0,0,0,0,0,0,0,0,0,0,0,0,0,0,0,0,0,0,0,0,0,0,0,0,0,0,0,0,0,0,0,0,0,0,0,0,0,0,0,0,0,0,0,0,0,0,0,0,0,0,0,0,0,0,0,0,0,0,0,0,0]
[null,null,null,2,"まれにある",2,0,0,0,0,0,0,0,0,0,0,0,0,0,0,0,0,0,0,0,0,0,0,0,0,0,0,0,0,0,0,0,0,0,0,0,0,0,0,0,0,0,0,0,0,0,0,0,0,0,0,0,0,0,0,0,0,0,0,0,0,0,0,0,0,0,0,0,0,0,0,0,0,0,0,0,0,0,0]
[null,null,null,3,"時々ある",3,0,0,0,0,0,0,0,0,0,0,0,0,0,0,0,0,0,0,0,0,0,0,0,0,0,0,0,0,0,0,0,0,0,0,0,0,0,0,0,0,0,0,0,0,0,0,0,0,0,0,0,0,0,0,0,0,0,0,0,0,0,0,0,0,0,0,0,0,0,0,0,0,0,0,0,0,0,0]
[null,null,null,4,"よくある",4,0,0,0,0,0,0,0,0,0,0,0,0,0,0,0,0,0,0,0,0,0,0,0,0,0,0,0,0,0,0,0,0,0,0,0,0,0,0,0,0,0,0,0,0,0,0,0,0,0,0,0,0,0,0,0,0,0,0,0,0,0,0,0,0,0,0,0,0,0,0,0,0,0,0,0,0,0,0]
[null,null,null,5,"いつもある",5,0,0,0,0,0,0,0,0,0,0,0,0,0,0,0,0,0,0,0,0,0,0,0,0,0,0,0,0,0,0,0,0,0,0,0,0,0,0,0,0,0,0,0,0,0,0,0,0,0,0,0,0,0,0,0,0,0,0,0,0,0,0,0,0,0,0,0,0,0,0,0,0,0,0,0,0,0,0]
[null,"37\n(38)","次にインターネットをするときのことを考えている自分に気がつくことがありますか？",1,"全くない",1,0,0,0,0,0,0,0,0,0,0,0,0,0,0,0,0,0,0,0,0,0,0,0,0,0,0,0,0,0,0,0,0,0,0,0,0,0,0,0,0,0,0,0,0,0,0,0,0,0,0,0,0,0,0,0,0,0,0,0,0,0,0,0,0,0,0,0,0,0,0,0,0,0,0,0,0,0,0]
[null,null,null,2,"まれにある",2,0,0,0,0,0,0,0,0,0,0,0,0,0,0,0,0,0,0,0,0,0,0,0,0,0,0,0,0,0,0,0,0,0,0,0,0,0,0,0,0,0,0,0,0,0,0,0,0,0,0,0,0,0,0,0,0,0,0,0,0,0,0,0,0,0,0,0,0,0,0,0,0,0,0,0,0,0,0]
[null,null,null,3,"時々ある",3,0,0,0,0,0,0,0,0,0,0,0,0,0,0,0,0,0,0,0,0,0,0,0,0,0,0,0,0,0,0,0,0,0,0,0,0,0,0,0,0,0,0,0,0,0,0,0,0,0,0,0,0,0,0,0,0,0,0,0,0,0,0,0,0,0,0,0,0,0,0,0,0,0,0,0,0,0,0]
[null,null,null,4,"よくある",4,0,0,0,0,0,0,0,0,0,0,0,0,0,0,0,0,0,0,0,0,0,0,0,0,0,0,0,0,0,0,0,0,0,0,0,0,0,0,0,0,0,0,0,0,0,0,0,0,0,0,0,0,0,0,0,0,0,0,0,0,0,0,0,0,0,0,0,0,0,0,0,0,0,0,0,0,0,0]
[null,null,null,5,"いつもある",5,0,0,0,0,0,0,0,0,0,0,0,0,0,0,0,0,0,0,0,0,0,0,0,0,0,0,0,0,0,0,0,0,0,0,0,0,0,0,0,0,0,0,0,0,0,0,0,0,0,0,0,0,0,0,0,0,0,0,0,0,0,0,0,0,0,0,0,0,0,0,0,0,0,0,0,0,0,0]
[null,"38\n(39)","インターネットの無い生活は、退屈でむなしく、つまらないものだろうと恐ろしく思うことがありますか？",1,"全くない",1,0,0,0,0,0,0,0,0,0,0,0,0,0,0,0,0,0,0,0,0,0,0,0,0,0,0,0,0,0,0,0,0,0,0,0,0,0,0,0,0,0,0,0,0,0,0,0,0,0,0,0,0,0,0,0,0,0,0,0,0,0,0,0,0,0,0,0,0,0,0,0,0,0,0,0,0,0,0]
[null,null,null,2,"まれにある",2,0,0,0,0,0,0,0,0,0,0,0,0,0,0,0,0,0,0,0,0,0,0,0,0,0,0,0,0,0,0,0,0,0,0,0,0,0,0,0,0,0,0,0,0,0,0,0,0,0,0,0,0,0,0,0,0,0,0,0,0,0,0,0,0,0,0,0,0,0,0,0,0,0,0,0,0,0,0]
[null,null,null,3,"時々ある",3,0,0,0,0,0,0,0,0,0,0,0,0,0,0,0,0,0,0,0,0,0,0,0,0,0,0,0,0,0,0,0,0,0,0,0,0,0,0,0,0,0,0,0,0,0,0,0,0,0,0,0,0,0,0,0,0,0,0,0,0,0,0,0,0,0,0,0,0,0,0,0,0,0,0,0,0,0,0]
[null,null,null,4,"よくある",4,0,0,0,0,0,0,0,0,0,0,0,0,0,0,0,0,0,0,0,0,0,0,0,0,0,0,0,0,0,0,0,0,0,0,0,0,0,0,0,0,0,0,0,0,0,0,0,0,0,0,0,0,0,0,0,0,0,0,0,0,0,0,0,0,0,0,0,0,0,0,0,0,0,0,0,0,0,0]
[null,null,null,5,"いつもある",5,0,0,0,0,0,0,0,0,0,0,0,0,0,0,0,0,0,0,0,0,0,0,0,0,0,0,0,0,0,0,0,0,0,0,0,0,0,0,0,0,0,0,0,0,0,0,0,0,0,0,0,0,0,0,0,0,0,0,0,0,0,0,0,0,0,0,0,0,0,0,0,0,0,0,0,0,0,0]
[null,"39\n(40)","インターネットをしている最中に誰かに邪魔をされると、いらいらしたり、怒ったり、大声を出したりすることがありますか？",1,"全くない",1,0,0,0,0,0,0,0,0,0,0,0,0,0,0,0,0,0,0,0,0,0,0,0,0,0,0,0,0,0,0,0,0,0,0,0,0,0,0,0,0,0,0,0,0,0,0,0,0,0,0,0,0,0,0,0,0,0,0,0,0,0,0,0,0,0,0,0,0,0,0,0,0,0,0,0,0,0,0]
[null,null,null,2,"まれにある",2,0,0,0,0,0,0,0,0,0,0,0,0,0,0,0,0,0,0,0,0,0,0,0,0,0,0,0,0,0,0,0,0,0,0,0,0,0,0,0,0,0,0,0,0,0,0,0,0,0,0,0,0,0,0,0,0,0,0,0,0,0,0,0,0,0,0,0,0,0,0,0,0,0,0,0,0,0,0]
[null,null,null,3,"時々ある",3,0,0,0,0,0,0,0,0,0,0,0,0,0,0,0,0,0,0,0,0,0,0,0,0,0,0,0,0,0,0,0,0,0,0,0,0,0,0,0,0,0,0,0,0,0,0,0,0,0,0,0,0,0,0,0,0,0,0,0,0,0,0,0,0,0,0,0,0,0,0,0,0,0,0,0,0,0,0]
[null,null,null,4,"よくある",4,0,0,0,0,0,0,0,0,0,0,0,0,0,0,0,0,0,0,0,0,0,0,0,0,0,0,0,0,0,0,0,0,0,0,0,0,0,0,0,0,0,0,0,0,0,0,0,0,0,0,0,0,0,0,0,0,0,0,0,0,0,0,0,0,0,0,0,0,0,0,0,0,0,0,0,0,0,0]
[null,null,null,5,"いつもある",5,0,0,0,0,0,0,0,0,0,0,0,0,0,0,0,0,0,0,0,0,0,0,0,0,0,0,0,0,0,0,0,0,0,0,0,0,0,0,0,0,0,0,0,0,0,0,0,0,0,0,0,0,0,0,0,0,0,0,0,0,0,0,0,0,0,0,0,0,0,0,0,0,0,0,0,0,0,0]
[null,"40\n(41)","睡眠時間をけずって、深夜までインターネットをすることがありますか？",1,"全くない",1,0,0,0,0,0,0,0,0,0,0,0,0,0,0,0,0,0,0,0,0,0,0,0,0,0,0,0,0,0,0,0,0,0,0,0,0,0,0,0,0,0,0,0,0,0,0,0,0,0,0,0,0,0,0,0,0,0,0,0,0,0,0,0,0,0,0,0,0,0,0,0,0,0,0,0,0,0,0]
[null,null,null,2,"まれにある",2,0,0,0,0,0,0,0,0,0,0,0,0,0,0,0,0,0,0,0,0,0,0,0,0,0,0,0,0,0,0,0,0,0,0,0,0,0,0,0,0,0,0,0,0,0,0,0,0,0,0,0,0,0,0,0,0,0,0,0,0,0,0,0,0,0,0,0,0,0,0,0,0,0,0,0,0,0,0]
[null,null,null,3,"時々ある",3,0,0,0,0,0,0,0,0,0,0,0,0,0,0,0,0,0,0,0,0,0,0,0,0,0,0,0,0,0,0,0,0,0,0,0,0,0,0,0,0,0,0,0,0,0,0,0,0,0,0,0,0,0,0,0,0,0,0,0,0,0,0,0,0,0,0,0,0,0,0,0,0,0,0,0,0,0,0]
[null,null,null,4,"よくある",4,0,0,0,0,0,0,0,0,0,0,0,0,0,0,0,0,0,0,0,0,0,0,0,0,0,0,0,0,0,0,0,0,0,0,0,0,0,0,0,0,0,0,0,0,0,0,0,0,0,0,0,0,0,0,0,0,0,0,0,0,0,0,0,0,0,0,0,0,0,0,0,0,0,0,0,0,0,0]
[null,null,null,5,"いつもある",5,0,0,0,0,0,0,0,0,0,0,0,0,0,0,0,0,0,0,0,0,0,0,0,0,0,0,0,0,0,0,0,0,0,0,0,0,0,0,0,0,0,0,0,0,0,0,0,0,0,0,0,0,0,0,0,0,0,0,0,0,0,0,0,0,0,0,0,0,0,0,0,0,0,0,0,0,0,0]
[null,"41\n(42)","インターネットをしていないときでもインターネットのことばかり考えていたり、インターネットをしているところを空想したりすることがありますか？",1,"全くない",1,0,0,0,0,0,0,0,0,0,0,0,0,0,0,0,0,0,0,0,0,0,0,0,0,0,0,0,0,0,0,0,0,0,0,0,0,0,0,0,0,0,0,0,0,0,0,0,0,0,0,0,0,0,0,0,0,0,0,0,0,0,0,0,0,0,0,0,0,0,0,0,0,0,0,0,0,0,0]
[null,null,null,2,"まれにある",2,0,0,0,0,0,0,0,0,0,0,0,0,0,0,0,0,0,0,0,0,0,0,0,0,0,0,0,0,0,0,0,0,0,0,0,0,0,0,0,0,0,0,0,0,0,0,0,0,0,0,0,0,0,0,0,0,0,0,0,0,0,0,0,0,0,0,0,0,0,0,0,0,0,0,0,0,0,0]
[null,null,null,3,"時々ある",3,0,0,0,0,0,0,0,0,0,0,0,0,0,0,0,0,0,0,0,0,0,0,0,0,0,0,0,0,0,0,0,0,0,0,0,0,0,0,0,0,0,0,0,0,0,0,0,0,0,0,0,0,0,0,0,0,0,0,0,0,0,0,0,0,0,0,0,0,0,0,0,0,0,0,0,0,0,0]
[null,null,null,4,"よくある",4,0,0,0,0,0,0,0,0,0,0,0,0,0,0,0,0,0,0,0,0,0,0,0,0,0,0,0,0,0,0,0,0,0,0,0,0,0,0,0,0,0,0,0,0,0,0,0,0,0,0,0,0,0,0,0,0,0,0,0,0,0,0,0,0,0,0,0,0,0,0,0,0,0,0,0,0,0,0]
[null,null,null,5,"いつもある",5,0,0,0,0,0,0,0,0,0,0,0,0,0,0,0,0,0,0,0,0,0,0,0,0,0,0,0,0,0,0,0,0,0,0,0,0,0,0,0,0,0,0,0,0,0,0,0,0,0,0,0,0,0,0,0,0,0,0,0,0,0,0,0,0,0,0,0,0,0,0,0,0,0,0,0,0,0,0]
[null,"42\n(43)","インターネットをしているとき「あと数分だけ」と言っている自分に気がつくことがありますか？",1,"全くない",1,0,0,0,0,0,0,0,0,0,0,0,0,0,0,0,0,0,0,0,0,0,0,0,0,0,0,0,0,0,0,0,0,0,0,0,0,0,0,0,0,0,0,0,0,0,0,0,0,0,0,0,0,0,0,0,0,0,0,0,0,0,0,0,0,0,0,0,0,0,0,0,0,0,0,0,0,0,0]
[null,null,null,2,"まれにある",2,0,0,0,0,0,0,0,0,0,0,0,0,0,0,0,0,0,0,0,0,0,0,0,0,0,0,0,0,0,0,0,0,0,0,0,0,0,0,0,0,0,0,0,0,0,0,0,0,0,0,0,0,0,0,0,0,0,0,0,0,0,0,0,0,0,0,0,0,0,0,0,0,0,0,0,0,0,0]
[null,null,null,3,"時々ある",3,0,0,0,0,0,0,0,0,0,0,0,0,0,0,0,0,0,0,0,0,0,0,0,0,0,0,0,0,0,0,0,0,0,0,0,0,0,0,0,0,0,0,0,0,0,0,0,0,0,0,0,0,0,0,0,0,0,0,0,0,0,0,0,0,0,0,0,0,0,0,0,0,0,0,0,0,0,0]
[null,null,null,4,"よくある",4,0,0,0,0,0,0,0,0,0,0,0,0,0,0,0,0,0,0,0,0,0,0,0,0,0,0,0,0,0,0,0,0,0,0,0,0,0,0,0,0,0,0,0,0,0,0,0,0,0,0,0,0,0,0,0,0,0,0,0,0,0,0,0,0,0,0,0,0,0,0,0,0,0,0,0,0,0,0]
[null,null,null,5,"いつもある",5,0,0,0,0,0,0,0,0,0,0,0,0,0,0,0,0,0,0,0,0,0,0,0,0,0,0,0,0,0,0,0,0,0,0,0,0,0,0,0,0,0,0,0,0,0,0,0,0,0,0,0,0,0,0,0,0,0,0,0,0,0,0,0,0,0,0,0,0,0,0,0,0,0,0,0,0,0,0]
[null,"43\n(44)","インターネットをする時間を減らそうとしても、できないことがありますか？",1,"全くない",1,{"$f":"AF201","v":0},{"$f":"AO201","v":0},{"$f":"AZ201","v":0},{"$f":"AC201+AL201+AW201","v":0},0,0,{"$f":"SUM(J201:L201)","v":0},{"$f":"BL201","v":0},{"$f":"BU201","v":0},{"$f":"CF201","v":0},{"$f":"SUM(BI201,BR201,CC201)","v":0},0,0,{"$f":"SUM(Q201:S201)","v":0},{"$f":"CG201+CH201+CI201","v":0},{"$f":"CJ201+CK201+CL201","v":0},{"$f":"CM201+CN201+CO201","v":0},{"$f":"CP201+CQ201+CR201","v":0},{"$f":"CS201+CT201+CU201","v":0},{"$f":"CV201+CW201+CX201","v":0},{"$f":"CY201+CZ201+DA201","v":0},{"$f":"DB201+DC201+DD201","v":0},{"$f":"CG201+CJ201+CM201+CP201+CS201+CV201+CY201+DB201","v":0},0,0,{"$f":"AC201+AD201+AE201","v":0},{"$f":"DE201+DF201+DG201","v":0},{"$f":"DH201+DI201+DJ201","v":0},{"$f":"DK201+DL201+DM201","v":0},{"$f":"DN201+DO201+DP201","v":0},{"$f":"DQ201+DR201+DS201","v":0},{"$f":"DE201+DH201+DK201+DN201+DQ201","v":0},0,0,{"$f":"SUM(AL201:AN201)","v":0},{"$f":"DT201+DU201+DV201","v":0},{"$f":"DW201+DX201+DY201","v":0},{"$f":"DZ201+EA201+EB201","v":0},{"$f":"EC201+ED201+EE201","v":0},{"$f":"EF201+EG201+EH201","v":0},{"$f":"EI201+EJ201+EK201","v":0},{"$f":"EL201+EM201+EN201","v":0},{"$f":"DT201+DW201+DZ201+EC201+EF201+EI201+EL201","v":0},0,0,{"$f":"SUM(AW201:AY201)","v":0},{"$f":"SUM(EO201:EQ201)","v":0},{"$f":"SUM(ER201:ET201)","v":0},{"$f":"SUM(EU201:EW201)","v":0},{"$f":"SUM(EX201:EZ201)","v":0},{"$f":"SUM(FA201:FC201)","v":0},{"$f":"SUM(FD201:FF201)","v":0},{"$f":"SUM(FG201:FI201)","v":0},{"$f":"SUM(FJ201:FL201)","v":0},{"$f":"SUM(EO201,ER201,EU201,EX201,FA201,FD201,FG201,FJ201)","v":0},0,0,{"$f":"SUM(EO201:FL201)","v":0},{"$f":"SUM(FM201:FO201)","v":0},{"$f":"SUM(FP201:FR201)","v":0},{"$f":"SUM(FS201:FU201)","v":0},{"$f":"SUM(FV201:FX201)","v":0},{"$f":"SUM(FY201:GA201)","v":0},{"$f":"SUM(FM201,FP201,FS201,FV201,FY201)","v":0},0,0,{"$f":"SUM(FM201:GA201)","v":0},{"$f":"SUM(GB201:GD201)","v":0},{"$f":"SUM(GE201:GG201)","v":0},{"$f":"SUM(GH201:GJ201)","v":0},{"$f":"SUM(GK201:GM201)","v":0},{"$f":"SUM(GN201:GP201)","v":0},{"$f":"SUM(GQ201:GS201)","v":0},{"$f":"SUM(GT201:GV201)","v":0},{"$f":"SUM(GB201,GE201,GH201,GK201,GN201,GQ201,GT201)","v":0},0,0,{"$f":"SUM(GB201:GV201)","v":0}]
[null,null,null,2,"まれにある",2,0,0,0,0,0,0,0,0,0,0,0,0,0,0,0,0,0,0,0,0,0,0,0,0,0,0,0,0,0,0,0,0,0,0,0,0,0,0,0,0,0,0,0,0,0,0,0,0,0,0,0,0,0,0,0,0,0,0,0,0,0,0,0,0,0,0,0,0,0,0,0,0,0,0,0,0,0,0]
[null,null,null,3,"時々ある",3,0,0,0,0,0,0,0,0,0,0,0,0,0,0,0,0,0,0,0,0,0,0,0,0,0,0,0,0,0,0,0,0,0,0,0,0,0,0,0,0,0,0,0,0,0,0,0,0,0,0,0,0,0,0,0,0,0,0,0,0,0,0,0,0,0,0,0,0,0,0,0,0,0,0,0,0,0,0]
[null,null,null,4,"よくある",4,0,0,0,0,0,0,0,0,0,0,0,0,0,0,0,0,0,0,0,0,0,0,0,0,0,0,0,0,0,0,0,0,0,0,0,0,0,0,0,0,0,0,0,0,0,0,0,0,0,0,0,0,0,0,0,0,0,0,0,0,0,0,0,0,0,0,0,0,0,0,0,0,0,0,0,0,0,0]
[null,null,null,5,"いつもある",5,0,0,0,0,0,0,0,0,0,0,0,0,0,0,0,0,0,0,0,0,0,0,0,0,0,0,0,0,0,0,0,0,0,0,0,0,0,0,0,0,0,0,0,0,0,0,0,0,0,0,0,0,0,0,0,0,0,0,0,0,0,0,0,0,0,0,0,0,0,0,0,0,0,0,0,0,0,0]
[null,"44\n(45)","インターネットをしていた時間の長さを隠そうとすることがありますか？",1,"全くない",1,0,0,0,0,0,0,0,0,0,0,0,0,0,0,0,0,0,0,0,0,0,0,0,0,0,0,0,0,0,0,0,0,0,0,0,0,0,0,0,0,0,0,0,0,0,0,0,0,0,0,0,0,0,0,0,0,0,0,0,0,0,0,0,0,0,0,0,0,0,0,0,0,0,0,0,0,0,0]
[null,null,null,2,"まれにある",2,0,0,0,0,0,0,0,0,0,0,0,0,0,0,0,0,0,0,0,0,0,0,0,0,0,0,0,0,0,0,0,0,0,0,0,0,0,0,0,0,0,0,0,0,0,0,0,0,0,0,0,0,0,0,0,0,0,0,0,0,0,0,0,0,0,0,0,0,0,0,0,0,0,0,0,0,0,0]
[null,null,null,3,"時々ある",3,0,0,0,0,0,0,0,0,0,0,0,0,0,0,0,0,0,0,0,0,0,0,0,0,0,0,0,0,0,0,0,0,0,0,0,0,0,0,0,0,0,0,0,0,0,0,0,0,0,0,0,0,0,0,0,0,0,0,0,0,0,0,0,0,0,0,0,0,0,0,0,0,0,0,0,0,0,0]
[null,null,null,4,"よくある",4,0,0,0,0,0,0,0,0,0,0,0,0,0,0,0,0,0,0,0,0,0,0,0,0,0,0,0,0,0,0,0,0,0,0,0,0,0,0,0,0,0,0,0,0,0,0,0,0,0,0,0,0,0,0,0,0,0,0,0,0,0,0,0,0,0,0,0,0,0,0,0,0,0,0,0,0,0,0]
[null,null,null,5,"いつもある",5,0,0,0,0,0,0,0,0,0,0,0,0,0,0,0,0,0,0,0,0,0,0,0,0,0,0,0,0,0,0,0,0,0,0,0,0,0,0,0,0,0,0,0,0,0,0,0,0,0,0,0,0,0,0,0,0,0,0,0,0,0,0,0,0,0,0,0,0,0,0,0,0,0,0,0,0,0,0]
[null,"45\n(46)","誰かと外出するより、インターネットを選ぶことがありますか？",1,"全くない",1,0,0,0,0,0,0,0,0,0,0,0,0,0,0,0,0,0,0,0,0,0,0,0,0,0,0,0,0,0,0,0,0,0,0,0,0,0,0,0,0,0,0,0,0,0,0,0,0,0,0,0,0,0,0,0,0,0,0,0,0,0,0,0,0,0,0,0,0,0,0,0,0,0,0,0,0,0,0]
[null,null,null,2,"まれにある",2,0,0,0,0,0,0,0,0,0,0,0,0,0,0,0,0,0,0,0,0,0,0,0,0,0,0,0,0,0,0,0,0,0,0,0,0,0,0,0,0,0,0,0,0,0,0,0,0,0,0,0,0,0,0,0,0,0,0,0,0,0,0,0,0,0,0,0,0,0,0,0,0,0,0,0,0,0,0]
[null,null,null,3,"時々ある",3,0,0,0,0,0,0,0,0,0,0,0,0,0,0,0,0,0,0,0,0,0,0,0,0,0,0,0,0,0,0,0,0,0,0,0,0,0,0,0,0,0,0,0,0,0,0,0,0,0,0,0,0,0,0,0,0,0,0,0,0,0,0,0,0,0,0,0,0,0,0,0,0,0,0,0,0,0,0]
[null,null,null,4,"よくある",4,0,0,0,0,0,0,0,0,0,0,0,0,0,0,0,0,0,0,0,0,0,0,0,0,0,0,0,0,0,0,0,0,0,0,0,0,0,0,0,0,0,0,0,0,0,0,0,0,0,0,0,0,0,0,0,0,0,0,0,0,0,0,0,0,0,0,0,0,0,0,0,0,0,0,0,0,0,0]
[null,null,null,5,"いつもある",5,0,0,0,0,0,0,0,0,0,0,0,0,0,0,0,0,0,0,0,0,0,0,0,0,0,0,0,0,0,0,0,0,0,0,0,0,0,0,0,0,0,0,0,0,0,0,0,0,0,0,0,0,0,0,0,0,0,0,0,0,0,0,0,0,0,0,0,0,0,0,0,0,0,0,0,0,0,0]
[null,"46\n(47)","インターネットをしていないと憂うつになったり、いらいらしたりしても、再開すると嫌な気持ちが消えてしまうことがありますか？",1,"全くない",1,0,0,0,0,0,0,0,0,0,0,0,0,0,0,0,0,0,0,0,0,0,0,0,0,0,0,0,0,0,0,0,0,0,0,0,0,0,0,0,0,0,0,0,0,0,0,0,0,0,0,0,0,0,0,0,0,0,0,0,0,0,0,0,0,0,0,0,0,0,0,0,0,0,0,0,0,0,0]
[null,null,null,2,"まれにある",2,0,0,0,0,0,0,0,0,0,0,0,0,0,0,0,0,0,0,0,0,0,0,0,0,0,0,0,0,0,0,0,0,0,0,0,0,0,0,0,0,0,0,0,0,0,0,0,0,0,0,0,0,0,0,0,0,0,0,0,0,0,0,0,0,0,0,0,0,0,0,0,0,0,0,0,0,0,0]
[null,null,null,3,"時々ある",3,0,0,0,0,0,0,0,0,0,0,0,0,0,0,0,0,0,0,0,0,0,0,0,0,0,0,0,0,0,0,0,0,0,0,0,0,0,0,0,0,0,0,0,0,0,0,0,0,0,0,0,0,0,0,0,0,0,0,0,0,0,0,0,0,0,0,0,0,0,0,0,0,0,0,0,0,0,0]
[null,null,null,4,"よくある",4,0,0,0,0,0,0,0,0,0,0,0,0,0,0,0,0,0,0,0,0,0,0,0,0,0,0,0,0,0,0,0,0,0,0,0,0,0,0,0,0,0,0,0,0,0,0,0,0,0,0,0,0,0,0,0,0,0,0,0,0,0,0,0,0,0,0,0,0,0,0,0,0,0,0,0,0,0,0]
[null,null,null,5,"いつもある",5,0,0,0,0,0,0,0,0,0,0,0,0,0,0,0,0,0,0,0,0,0,0,0,0,0,0,0,0,0,0,0,0,0,0,0,0,0,0,0,0,0,0,0,0,0,0,0,0,0,0,0,0,0,0,0,0,0,0,0,0,0,0,0,0,0,0,0,0,0,0,0,0,0,0,0,0,0,0]
["質問・アンケート","47\n(48)","インターネットのために、過去12か月間に以下のようなことが起きましたか？あてはまるものをすべて選んでください。（複数回答可）",1,"学校や職場の遅刻","－",0,0,0,0,0,0,0,0,0,0,0,0,0,0,0,0,0,0,0,0,0,0,0,0,0,0,0,0,0,0,0,0,0,0,0,0,0,0,0,0,0,0,0,0,0,0,0,0,0,0,0,0,0,0,0,0,0,0,0,0,0,0,0,0,0,0,0,0,0,0,0,0,0,0,0,0,0,0]
[null,null,null,2,"欠席や欠勤","－",0,0,0,0,0,0,0,0,0,0,0,0,0,0,0,0,0,0,0,0,0,0,0,0,0,0,0,0,0,0,0,0,0,0,0,0,0,0,0,0,0,0,0,0,0,0,0,0,0,0,0,0,0,0,0,0,0,0,0,0,0,0,0,0,0,0,0,0,0,0,0,0,0,0,0,0,0,0]
[null,null,null,3,"学校成績の低下や仕事のパフォーマンスの低下","－",0,0,0,0,0,0,0,0,0,0,0,0,0,0,0,0,0,0,0,0,0,0,0,0,0,0,0,0,0,0,0,0,0,0,0,0,0,0,0,0,0,0,0,0,0,0,0,0,0,0,0,0,0,0,0,0,0,0,0,0,0,0,0,0,0,0,0,0,0,0,0,0,0,0,0,0,0,0]
[null,null,null,4,"転校","－",0,0,0,0,0,0,0,0,0,0,0,0,0,0,0,0,0,0,0,0,0,0,0,0,0,0,0,0,0,0,0,0,0,0,0,0,0,0,0,0,0,0,0,0,0,0,0,0,0,0,0,0,0,0,0,0,0,0,0,0,0,0,0,0,0,0,0,0,0,0,0,0,0,0,0,0,0,0]
[null,null,null,5,"退学または退職","－",0,0,0,0,0,0,0,0,0,0,0,0,0,0,0,0,0,0,0,0,0,0,0,0,0,0,0,0,0,0,0,0,0,0,0,0,0,0,0,0,0,0,0,0,0,0,0,0,0,0,0,0,0,0,0,0,0,0,0,0,0,0,0,0,0,0,0,0,0,0,0,0,0,0,0,0,0,0]
[null,null,null,6,"現実の友人が減った","－",0,0,0,0,0,0,0,0,0,0,0,0,0,0,0,0,0,0,0,0,0,0,0,0,0,0,0,0,0,0,0,0,0,0,0,0,0,0,0,0,0,0,0,0,0,0,0,0,0,0,0,0,0,0,0,0,0,0,0,0,0,0,0,0,0,0,0,0,0,0,0,0,0,0,0,0,0,0]
[null,null,null,7,"家族との関係が悪くなった","－",0,0,0,0,0,0,0,0,0,0,0,0,0,0,0,0,0,0,0,0,0,0,0,0,0,0,0,0,0,0,0,0,0,0,0,0,0,0,0,0,0,0,0,0,0,0,0,0,0,0,0,0,0,0,0,0,0,0,0,0,0,0,0,0,0,0,0,0,0,0,0,0,0,0,0,0,0,0]
[null,null,null,8,"家で、物に当たったり、こわしたりした","－",0,0,0,0,0,0,0,0,0,0,0,0,0,0,0,0,0,0,0,0,0,0,0,0,0,0,0,0,0,0,0,0,0,0,0,0,0,0,0,0,0,0,0,0,0,0,0,0,0,0,0,0,0,0,0,0,0,0,0,0,0,0,0,0,0,0,0,0,0,0,0,0,0,0,0,0,0,0]
[null,null,null,9,"家族に暴力をふるった","－",0,0,0,0,0,0,0,0,0,0,0,0,0,0,0,0,0,0,0,0,0,0,0,0,0,0,0,0,0,0,0,0,0,0,0,0,0,0,0,0,0,0,0,0,0,0,0,0,0,0,0,0,0,0,0,0,0,0,0,0,0,0,0,0,0,0,0,0,0,0,0,0,0,0,0,0,0,0]
[null,null,null,10,"朝起きられなかった","－",0,0,0,0,0,0,0,0,0,0,0,0,0,0,0,0,0,0,0,0,0,0,0,0,0,0,0,0,0,0,0,0,0,0,0,0,0,0,0,0,0,0,0,0,0,0,0,0,0,0,0,0,0,0,0,0,0,0,0,0,0,0,0,0,0,0,0,0,0,0,0,0,0,0,0,0,0,0]
[null,null,null,11,"昼夜逆転またはその傾向","－",0,0,0,0,0,0,0,0,0,0,0,0,0,0,0,0,0,0,0,0,0,0,0,0,0,0,0,0,0,0,0,0,0,0,0,0,0,0,0,0,0,0,0,0,0,0,0,0,0,0,0,0,0,0,0,0,0,0,0,0,0,0,0,0,0,0,0,0,0,0,0,0,0,0,0,0,0,0]
[null,null,null,12,"家に引きこもっていた","－",0,0,0,0,0,0,0,0,0,0,0,0,0,0,0,0,0,0,0,0,0,0,0,0,0,0,0,0,0,0,0,0,0,0,0,0,0,0,0,0,0,0,0,0,0,0,0,0,0,0,0,0,0,0,0,0,0,0,0,0,0,0,0,0,0,0,0,0,0,0,0,0,0,0,0,0,0,0]
[null,null,null,13,"ゲーム課金が多く、家族やほかの人に注意された","－",0,0,0,0,0,0,0,0,0,0,0,0,0,0,0,0,0,0,0,0,0,0,0,0,0,0,0,0,0,0,0,0,0,0,0,0,0,0,0,0,0,0,0,0,0,0,0,0,0,0,0,0,0,0,0,0,0,0,0,0,0,0,0,0,0,0,0,0,0,0,0,0,0,0,0,0,0,0]
[null,null,null,14,"家族に内緒で、家のお金を使ったり、家族のカードを使った","－",0,0,0,0,0,0,0,0,0,0,0,0,0,0,0,0,0,0,0,0,0,0,0,0,0,0,0,0,0,0,0,0,0,0,0,0,0,0,0,0,0,0,0,0,0,0,0,0,0,0,0,0,0,0,0,0,0,0,0,0,0,0,0,0,0,0,0,0,0,0,0,0,0,0,0,0,0,0]
[null,null,null,15,"食事を定期的に摂らなかった","－",0,0,0,0,0,0,0,0,0,0,0,0,0,0,0,0,0,0,0,0,0,0,0,0,0,0,0,0,0,0,0,0,0,0,0,0,0,0,0,0,0,0,0,0,0,0,0,0,0,0,0,0,0,0,0,0,0,0,0,0,0,0,0,0,0,0,0,0,0,0,0,0,0,0,0,0,0,0]
[null,null,null,16,"その他","－",0,0,0,0,0,0,0,0,0,0,0,0,0,0,0,0,0,0,0,0,0,0,0,0,0,0,0,0,0,0,0,0,0,0,0,0,0,0,0,0,0,0,0,0,0,0,0,0,0,0,0,0,0,0,0,0,0,0,0,0,0,0,0,0,0,0,0,0,0,0,0,0,0,0,0,0,0,0]
[null,"48\n（49)","前の質問で掲げたトラブルについて、すでに解決している場合、どのようにして解決しましたか？",1,"自由記述","－",0,0,0,0,0,0,0,0,0,0,0,0,0,0,0,0,0,0,0,0,0,0,0,0,0,0,0,0,0,0,0,0,0,0,0,0,0,0,0,0,0,0,0,0,0,0,0,0,0,0,0,0,0,0,0,0,0,0,0,0,0,0,0,0,0,0,0,0,0,0,0,0,0,0,0,0,0,0]

{"sheet":"問題別集計②","index":4,"n_rows":237,"n_cols":204,"rows_kept":237,"cut":false,"hidden":false,"merged":[[3,0,6,0],[3,1,3,5],[3,6,4,12],[3,13,4,19],[3,20,3,51],[3,52,3,83],[5,6,5,8],[5,9,5,12],[5,13,5,15],[5,16,5,19],[5,72,6,72],[5,73,5,79],[5,80,5,82],[5,83,6,83],[5,41,5,47],[5,48,5,50],[5,51,6,51],[5,52,5,59],[5,60,5,62],[5,63,6,63],[4,144,4,167],[4,168,4,182],[4,183,4,203],[3,84,3,143],[3,144,3,203],[4,1,6,2],[4,3,6,5],[4,20,4,31],[4,32,4,40],[4,41,4,51],[4,52,4,63],[4,64,4,72],[4,73,4,83],[5,20,5,27],[5,28,5,30],[5,31,6,31],[5,32,5,36],[5,37,5,39],[5,40,6,40],[4,84,4,107],[4,108,4,122],[4,123,4,143],[5,64,5,68],[5,69,5,71],[5,102,5,104],[5,105,5,107],[5,108,5,110],[5,111,5,113],[5,114,5,116],[5,117,5,119],[5,84,5,86],[5,87,5,89],[5,90,5,92],[5,93,5,95],[5,96,5,98],[5,99,5,101],[5,144,5,146],[5,147,5,149],[5,150,5,152],[5,153,5,155],[5,120,5,122],[5,123,5,125],[5,126,5,128],[5,129,5,131],[5,132,5,134],[5,135,5,137],[5,192,5,194],[5,195,5,197],[5,198,5,200],[5,201,5,203],[7,0,43,0],[7,1,13,1],[7,2,13,2],[14,1,25,1],[14,2,25,2],[26,1,35,1],[5,174,5,176],[5,177,5,179],[5,180,5,182],[5,183,5,185],[5,186,5,188],[5,189,5,191],[5,156,5,158],[5,159,5,161],[5,162,5,164],[5,165,5,167],[5,168,5,170],[5,171,5,173],[5,138,5,140],[5,141,5,143],[54,1,55,1],[54,2,55,2],[26,2,35,2],[36,1,43,1],[36,2,43,2],[44,1,45,1],[44,2,45,2],[46,1,47,1],[46,2,47,2],[48,1,49,1],[48,2,49,2],[60,0,119,0],[60,1,63,1],[60,2,63,2],[64,1,67,1],[64,2,67,2],[68,1,71,1],[44,0,59,0],[84,1,87,1],[84,2,87,2],[88,1,91,1],[88,2,91,2],[92,1,95,1],[92,2,95,2],[68,2,71,2],[72,1,75,1],[72,2,75,2],[76,1,79,1],[76,2,79,2],[80,1,83,1],[80,2,83,2],[50,1,51,1],[50,2,51,2],[52,1,53,1],[52,2,53,2],[96,1,99,1],[96,2,99,2],[100,1,103,1],[100,2,103,2],[104,1,107,1],[104,2,107,2],[56,1,57,1],[56,2,57,2],[58,1,59,1],[58,2,59,2],[140,2,144,2],[145,1,149,1],[145,2,149,2],[150,1,154,1],[150,2,154,2],[155,1,159,1],[155,2,159,2],[140,1,144,1],[108,1,111,1],[108,2,111,2],[112,1,115,1],[112,2,115,2],[116,1,119,1],[116,2,119,2],[175,1,179,1],[175,2,179,2],[180,1,184,1],[180,2,184,2],[185,1,189,1],[185,2,189,2],[160,1,164,1],[160,2,164,2],[165,1,169,1],[165,2,169,2],[170,1,174,1],[170,2,174,2],[220,0,236,0],[220,1,235,1],[220,2,235,2],[205,1,209,1],[205,2,209,2],[210,1,214,1],[210,2,214,2],[215,1,219,1],[215,2,219,2],[120,0,219,0],[120,1,124,1],[120,2,124,2],[125,1,129,1],[125,2,129,2],[130,1,134,1],[130,2,134,2],[135,1,139,1],[135,2,139,2],[190,1,194,1],[190,2,194,2],[195,1,199,1],[195,2,199,2],[200,1,204,1],[200,2,204,2]]}
[null,null,"集計単位"]
[null,null,"中リスク＋高リスク"]
[1,2,3,4,5,6,7,8,9,10,11,12,13,14,15,16,17,18,19,20,21,22,23,24,25,26,27,28,29,30,31,32,33,34,35,36,37,38,39,40,41,42,43,44,45,46,47,48,49,50,51,52,53,54,55,56,57,58,59,60,61,62,63,64,65,66,67,68,69,70,71,72,73,74,75,76,77,78,79,80,81,82,83,84,85,86,87,88,89,90,91,92,93,94,95,96,97,98,99,100,101,102,103,104,105,106,107,108,109,110,111,112,113,114,115,116,117,118,119,120,121,122,123,124,125,126,127,128,129,130,131,132,133,134,135,136,137,138,139,140,141,142,143,144,145,146,147,148,149,150,151,152,153,154,155,156,157,158,159,160,161,162,163,164,165,166,167,168,169,170,171,172,173,174,175,176,177,178,179,180,181,182,183,184,185,186,187,188,189,190,191,192,193,194,195,196,197,198,199,200,201,202,203,204]
["種類",null,null,null,null,null,"児童・生徒",null,null,null,null,null,null,"保護者",null,null,null,null,null,null,"児童・生徒",null,null,null,null,null,null,null,null,null,null,null,null,null,null,null,null,null,null,null,null,null,null,null,null,null,null,null,null,null,null,null,"保護者",null,null,null,null,null,null,null,null,null,null,null,null,null,null,null,null,null,null,null,null,null,null,null,null,null,null,null,null,null,null,null,"児童・生徒",null,null,null,null,null,null,null,null,null,null,null,null,null,null,null,null,null,null,null,null,null,null,null,null,null,null,null,null,null,null,null,null,null,null,null,null,null,null,null,null,null,null,null,null,null,null,null,null,null,null,null,null,null,null,null,null,null,null,null,"保護者"]
[null,"問題文",null,"選択項目",null,null,null,null,null,null,null,null,null,null,null,null,null,null,null,null,"小学校相当年齢",null,null,null,null,null,null,null,null,null,null,null,"中学生相当年齢",null,null,null,null,null,null,null,null,"高校生相当年齢以上",null,null,null,null,null,null,null,null,null,null,"小学校相当年齢",null,null,null,null,null,null,null,null,null,null,null,"中学生相当年齢",null,null,null,null,null,null,null,null,"高校生相当年齢以上",null,null,null,null,null,null,null,null,null,null,"小学校相当年齢",null,null,null,null,null,null,null,null,null,null,null,null,null,null,null,null,null,null,null,null,null,null,null,"中学校相当年齢",null,null,null,null,null,null,null,null,null,null,null,null,null,null,"高校生相当年齢以上",null,null,null,null,null,null,null,null,null,null,null,null,null,null,null,null,null,null,null,null,"小学校相当年齢",null,null,null,null,null,null,null,null,null,null,null,null,null,null,null,null,null,null,null,null,null,null,null,"中学校相当年齢",null,null,null,null,null,null,null,null,null,null,null,null,null,null,"高校生相当年齢以上"]
[null,null,null,null,null,null,"学年別",null,null,"性別",null,null,null,"学年別",null,null,"性別",null,null,null,"学年別",null,null,null,null,null,null,null,"性別",null,null,"計","学年別",null,null,null,null,"性別",null,null,"計","学年別",null,null,null,null,null,null,"性別",null,null,"計","学年別",null,null,null,null,null,null,null,"性別",null,null,"計","学年別",null,null,null,null,"性別",null,null,"計","学年別",null,null,null,null,null,null,"性別",null,null,"計","１年",null,null,"２年",null,null,"３年",null,null,"４年",null,null,"５年",null,null,"６年",null,null,"－",null,null,"フリー",null,null,"１年",null,null,"２年",null,null,"３年",null,null,"－",null,null,"フリー",null,null,"１年",null,null,"２年",null,null,"３年",null,null,"４年",null,null,"その他",null,null,"－",null,null,"フリー",null,null,"１年",null,null,"２年",null,null,"３年",null,null,"４年",null,null,"５年",null,null,"６年",null,null,"－",null,null,"フリー",null,null,"１年",null,null,"２年",null,null,"３年",null,null,"－",null,null,"フリー",null,null,"１年",null,null,"２年",null,null,"３年",null,null,"４年",null,null,"その他",null,null,"－",null,null,"フリー"]
[null,null,null,null,null,null,"小","中","高","男","女","ー","計","小","中","高","男","女","ー","計","１年","２年","３年","４年","５年","６年","－","フリー","男","女","－",null,"１年","２年","３年","－","フリー","男","女","－",null,"１年","２年","３年","４年","その他","－","フリー","男","女","－",null,"１年","２年","３年","４年","５年","６年","－","フリー","男","女","－",null,"１年","２年","３年","－","フリー","男","女","－",null,"１年","２年","３年","４年","その他","－","フリー","男","女","－",null,"男","女","－","男","女","－","男","女","－","男","女","－","男","女","－","男","女","－","男","女","－","男","女","－","男","女","－","男","女","－","男","女","－","男","女","－","男","女","－","男","女","－","男","女","－","男","女","－","男","女","－","男","女","－","男","女","－","男","女","－","男","女","－","男","女","－","男","女","－","男","女","－","男","女","－","男","女","－","男","女","－","男","女","－","男","女","－","男","女","－","男","女","－","男","女","－","男","女","－","男","女","－","男","女","－","男","女","－","男","女","－","男","女","－","男","女","－","男","女","－"]
["基本項目","1\n（1）","あなたは、平日（土日をのぞいて）１日に平均して、だいたい、どのくらいの時間、インターネットを使いますか？",1,"１時間未満","－",{"$f":"AF8","v":0},{"$f":"AO8","v":0},{"$f":"AZ8","v":0},{"$f":"AC8+AL8+AW8","v":0},{"$f":"AD8+AM8+AX8","v":0},{"$f":"AE8+AN8+AY8","v":0},{"$f":"SUM(J8:L8)","v":0},{"$f":"BL8","v":0},{"$f":"BU8","v":0},{"$f":"CF8","v":0},{"$f":"SUM(BI8,BR8,CC8)","v":0},{"$f":"SUM(BJ8,BS8,CD8)","v":0},0,{"$f":"SUM(Q8:S8)","v":0},{"$f":"CG8+CH8+CI8","v":0},{"$f":"CJ8+CK8+CL8","v":0},{"$f":"CM8+CN8+CO8","v":0},{"$f":"CP8+CQ8+CR8","v":0},{"$f":"CS8+CT8+CU8","v":0},{"$f":"CV8+CW8+CX8","v":0},{"$f":"CY8+CZ8+DA8","v":0},{"$f":"DB8+DC8+DD8","v":0},{"$f":"CG8+CJ8+CM8+CP8+CS8+CV8+CY8+DB8","v":0},{"$f":"CH8+CK8+CN8+CQ8+CT8+CW8+CZ8+DC8","v":0},{"$f":"CI8+CL8+CO8+CR8+CU8+CX8+DA8+DD8","v":0},{"$f":"AC8+AD8+AE8","v":0},{"$f":"DE8+DF8+DG8","v":0},{"$f":"DH8+DI8+DJ8","v":0},{"$f":"DK8+DL8+DM8","v":0},{"$f":"DN8+DO8+DP8","v":0},{"$f":"DQ8+DR8+DS8","v":0},{"$f":"DE8+DH8+DK8+DN8+DQ8","v":0},{"$f":"DF8+DI8+DL8+DO8+DR8","v":0},{"$f":"DG8+DJ8+DM8+DP8+DS8","v":0},{"$f":"SUM(AL8:AN8)","v":0},{"$f":"DT8+DU8+DV8","v":0},{"$f":"DW8+DX8+DY8","v":0},{"$f":"DZ8+EA8+EB8","v":0},{"$f":"EC8+ED8+EE8","v":0},{"$f":"EF8+EG8+EH8","v":0},{"$f":"EI8+EJ8+EK8","v":0},{"$f":"EL8+EM8+EN8","v":0},{"$f":"DT8+DW8+DZ8+EC8+EF8+EI8+EL8","v":0},{"$f":"DU8+DX8+EA8+ED8+EG8+EJ8+EM8","v":0},{"$f":"DV8+DY8+EB8+EE8+EH8+EK8+EN8","v":0},{"$f":"SUM(AW8:AY8)","v":0},{"$f":"SUM(EO8:EQ8)","v":0},{"$f":"SUM(ER8:ET8)","v":0},{"$f":"SUM(EU8:EW8)","v":0},{"$f":"SUM(EX8:EZ8)","v":0},{"$f":"SUM(FA8:FC8)","v":0},{"$f":"SUM(FD8:FF8)","v":0},{"$f":"SUM(FG8:FI8)","v":0},{"$f":"SUM(FJ8:FL8)","v":0},{"$f":"SUM(EO8,ER8,EU8,EX8,FA8,FD8,FG8,FJ8)","v":0},{"$f":"SUM(EP8,ES8,EV8,EY8,FB8,FE8,FH8,FK8)","v":0},{"$f":"SUM(EQ8,ET8,EW8,EZ8,FC8,FF8,FI8,FL8)","v":0},{"$f":"SUM(EO8:FL8)","v":0},{"$f":"SUM(FM8:FO8)","v":0},{"$f":"SUM(FP8:FR8)","v":0},{"$f":"SUM(FS8:FU8)","v":0},{"$f":"SUM(FV8:FX8)","v":0},{"$f":"SUM(FY8:GA8)","v":0},{"$f":"SUM(FM8,FP8,FS8,FV8,FY8)","v":0},{"$f":"SUM(FN8,FQ8,FT8,FW8,FZ8)","v":0},{"$f":"SUM(FO8,FR8,FU8,FX8,GA8)","v":0},{"$f":"SUM(FM8:GA8)","v":0},{"$f":"SUM(GB8:GD8)","v":0},{"$f":"SUM(GE8:GG8)","v":0},{"$f":"SUM(GH8:GJ8)","v":0},{"$f":"SUM(GK8:GM8)","v":0},{"$f":"SUM(GN8:GP8)","v":0},{"$f":"SUM(GQ8:GS8)","v":0},{"$f":"SUM(GT8:GV8)","v":0},{"$f":"SUM(GB8,GE8,GH8,GK8,GN8,GQ8,GT8)","v":0},{"$f":"SUM(GC8,GF8,GI8,GL8,GO8,GR8,GU8)","v":0},{"$f":"SUM(GD8,GG8,GJ8,GM8,GP8,GS8,GV8)","v":0},{"$f":"SUM(GB8:GV8)","v":0}]
[null,null,null,2,"１時間以上２時間未満","－",{"$f":"AF9","v":0},{"$f":"AO9","v":0},{"$f":"AZ9","v":0},{"$f":"AC9+AL9+AW9","v":0},0,0,{"$f":"SUM(J9:L9)","v":0},{"$f":"BL9","v":0},{"$f":"BU9","v":0},{"$f":"CF9","v":0},{"$f":"SUM(BI9,BR9,CC9)","v":0},0,0,{"$f":"SUM(Q9:S9)","v":0},{"$f":"CG9+CH9+CI9","v":0},{"$f":"CJ9+CK9+CL9","v":0},{"$f":"CM9+CN9+CO9","v":0},{"$f":"CP9+CQ9+CR9","v":0},{"$f":"CS9+CT9+CU9","v":0},{"$f":"CV9+CW9+CX9","v":0},{"$f":"CY9+CZ9+DA9","v":0},{"$f":"DB9+DC9+DD9","v":0},{"$f":"CG9+CJ9+CM9+CP9+CS9+CV9+CY9+DB9","v":0},0,0,{"$f":"AC9+AD9+AE9","v":0},{"$f":"DE9+DF9+DG9","v":0},{"$f":"DH9+DI9+DJ9","v":0},{"$f":"DK9+DL9+DM9","v":0},{"$f":"DN9+DO9+DP9","v":0},{"$f":"DQ9+DR9+DS9","v":0},{"$f":"DE9+DH9+DK9+DN9+DQ9","v":0},0,0,{"$f":"SUM(AL9:AN9)","v":0},{"$f":"DT9+DU9+DV9","v":0},{"$f":"DW9+DX9+DY9","v":0},{"$f":"DZ9+EA9+EB9","v":0},{"$f":"EC9+ED9+EE9","v":0},{"$f":"EF9+EG9+EH9","v":0},{"$f":"EI9+EJ9+EK9","v":0},{"$f":"EL9+EM9+EN9","v":0},{"$f":"DT9+DW9+DZ9+EC9+EF9+EI9+EL9","v":0},0,0,{"$f":"SUM(AW9:AY9)","v":0},{"$f":"SUM(EO9:EQ9)","v":0},{"$f":"SUM(ER9:ET9)","v":0},{"$f":"SUM(EU9:EW9)","v":0},{"$f":"SUM(EX9:EZ9)","v":0},{"$f":"SUM(FA9:FC9)","v":0},{"$f":"SUM(FD9:FF9)","v":0},{"$f":"SUM(FG9:FI9)","v":0},{"$f":"SUM(FJ9:FL9)","v":0},{"$f":"SUM(EO9,ER9,EU9,EX9,FA9,FD9,FG9,FJ9)","v":0},0,0,{"$f":"SUM(EO9:FL9)","v":0},{"$f":"SUM(FM9:FO9)","v":0},{"$f":"SUM(FP9:FR9)","v":0},{"$f":"SUM(FS9:FU9)","v":0},{"$f":"SUM(FV9:FX9)","v":0},{"$f":"SUM(FY9:GA9)","v":0},{"$f":"SUM(FM9,FP9,FS9,FV9,FY9)","v":0},0,0,{"$f":"SUM(FM9:GA9)","v":0},{"$f":"SUM(GB9:GD9)","v":0},{"$f":"SUM(GE9:GG9)","v":0},{"$f":"SUM(GH9:GJ9)","v":0},{"$f":"SUM(GK9:GM9)","v":0},{"$f":"SUM(GN9:GP9)","v":0},{"$f":"SUM(GQ9:GS9)","v":0},{"$f":"SUM(GT9:GV9)","v":0},{"$f":"SUM(GB9,GE9,GH9,GK9,GN9,GQ9,GT9)","v":0},0,0,{"$f":"SUM(GB9:GV9)","v":0}]
[null,null,null,3,"２時間以上３時間未満","－",0,0,0,0,0,0,0,0,0,0,0,0,0,0,0,0,0,0,0,0,0,0,0,0,0,0,0,0,0,0,0,0,0,0,0,0,0,0,0,0,0,0,0,0,0,0,0,0,0,0,0,0,0,0,0,0,0,0,0,0,0,0,0,0,0,0,0,0,0,0,0,0,0,0,0,0,0,0]
[null,null,null,4,"３時間以上４時間未満","－",0,0,0,0,0,0,0,0,0,0,0,0,0,0,0,0,0,0,0,0,0,0,0,0,0,0,0,0,0,0,0,0,0,0,0,0,0,0,0,0,0,0,0,0,0,0,0,0,0,0,0,0,0,0,0,0,0,0,0,0,0,0,0,0,0,0,0,0,0,0,0,0,0,0,0,0,0,0]
[null,null,null,5,"４時間以上５時間未満","－",0,0,0,0,0,0,0,0,0,0,0,0,0,0,0,0,0,0,0,0,0,0,0,0,0,0,0,0,0,0,0,0,0,0,0,0,0,0,0,0,0,0,0,0,0,0,0,0,0,0,0,0,0,0,0,0,0,0,0,0,0,0,0,0,0,0,0,0,0,0,0,0,0,0,0,0,0,0]
[null,null,null,6,"５時間以上６時間未満","－",0,0,0,0,0,0,0,0,0,0,0,0,0,0,0,0,0,0,0,0,0,0,0,0,0,0,0,0,0,0,0,0,0,0,0,0,0,0,0,0,0,0,0,0,0,0,0,0,0,0,0,0,0,0,0,0,0,0,0,0,0,0,0,0,0,0,0,0,0,0,0,0,0,0,0,0,0,0]
[null,null,null,7,"６時間以上","－",0,0,0,0,0,0,0,0,0,0,0,0,0,0,0,0,0,0,0,0,0,0,0,0,0,0,0,0,0,0,0,0,0,0,0,0,0,0,0,0,0,0,0,0,0,0,0,0,0,0,0,0,0,0,0,0,0,0,0,0,0,0,0,0,0,0,0,0,0,0,0,0,0,0,0,0,0,0]
[null,"2\n（2）","あなたはインターネットを使って何をしていますか？あてはまるものを、すべて選んでください。（複数回答可）",1,"コミュニケーション（メール・メッセンジャー・SNSなど）","－",0,0,0,0,0,0,0,0,0,0,0,0,0,0,0,0,0,0,0,0,0,0,0,0,0,0,0,0,0,0,0,0,0,0,0,0,0,0,0,0,0,0,0,0,0,0,0,0,0,0,0,0,0,0,0,0,0,0,0,0,0,0,0,0,0,0,0,0,0,0,0,0,0,0,0,0,0,0]
[null,null,null,2,"ニュース","－",0,0,0,0,0,0,0,0,0,0,0,0,0,0,0,0,0,0,0,0,0,0,0,0,0,0,0,0,0,0,0,0,0,0,0,0,0,0,0,0,0,0,0,0,0,0,0,0,0,0,0,0,0,0,0,0,0,0,0,0,0,0,0,0,0,0,0,0,0,0,0,0,0,0,0,0,0,0]
[null,null,null,3,"情報検索","－",0,0,0,0,0,0,0,0,0,0,0,0,0,0,0,0,0,0,0,0,0,0,0,0,0,0,0,0,0,0,0,0,0,0,0,0,0,0,0,0,0,0,0,0,0,0,0,0,0,0,0,0,0,0,0,0,0,0,0,0,0,0,0,0,0,0,0,0,0,0,0,0,0,0,0,0,0,0]
[null,null,null,4,"地図・ナビゲーション","－",0,0,0,0,0,0,0,0,0,0,0,0,0,0,0,0,0,0,0,0,0,0,0,0,0,0,0,0,0,0,0,0,0,0,0,0,0,0,0,0,0,0,0,0,0,0,0,0,0,0,0,0,0,0,0,0,0,0,0,0,0,0,0,0,0,0,0,0,0,0,0,0,0,0,0,0,0,0]
[null,null,null,5,"音楽視聴","－",0,0,0,0,0,0,0,0,0,0,0,0,0,0,0,0,0,0,0,0,0,0,0,0,0,0,0,0,0,0,0,0,0,0,0,0,0,0,0,0,0,0,0,0,0,0,0,0,0,0,0,0,0,0,0,0,0,0,0,0,0,0,0,0,0,0,0,0,0,0,0,0,0,0,0,0,0,0]
[null,null,null,6,"動画視聴","－",0,0,0,0,0,0,0,0,0,0,0,0,0,0,0,0,0,0,0,0,0,0,0,0,0,0,0,0,0,0,0,0,0,0,0,0,0,0,0,0,0,0,0,0,0,0,0,0,0,0,0,0,0,0,0,0,0,0,0,0,0,0,0,0,0,0,0,0,0,0,0,0,0,0,0,0,0,0]
[null,null,null,7,"電子書籍","－",0,0,0,0,0,0,0,0,0,0,0,0,0,0,0,0,0,0,0,0,0,0,0,0,0,0,0,0,0,0,0,0,0,0,0,0,0,0,0,0,0,0,0,0,0,0,0,0,0,0,0,0,0,0,0,0,0,0,0,0,0,0,0,0,0,0,0,0,0,0,0,0,0,0,0,0,0,0]
[null,null,null,8,"ゲーム","－",0,0,0,0,0,0,0,0,0,0,0,0,0,0,0,0,0,0,0,0,0,0,0,0,0,0,0,0,0,0,0,0,0,0,0,0,0,0,0,0,0,0,0,0,0,0,0,0,0,0,0,0,0,0,0,0,0,0,0,0,0,0,0,0,0,0,0,0,0,0,0,0,0,0,0,0,0,0]
[null,null,null,9,"ショッピング・オークション","－",0,0,0,0,0,0,0,0,0,0,0,0,0,0,0,0,0,0,0,0,0,0,0,0,0,0,0,0,0,0,0,0,0,0,0,0,0,0,0,0,0,0,0,0,0,0,0,0,0,0,0,0,0,0,0,0,0,0,0,0,0,0,0,0,0,0,0,0,0,0,0,0,0,0,0,0,0,0]
[null,null,null,10,"勉強・学習・知育アプリやサービス","－",0,0,0,0,0,0,0,0,0,0,0,0,0,0,0,0,0,0,0,0,0,0,0,0,0,0,0,0,0,0,0,0,0,0,0,0,0,0,0,0,0,0,0,0,0,0,0,0,0,0,0,0,0,0,0,0,0,0,0,0,0,0,0,0,0,0,0,0,0,0,0,0,0,0,0,0,0,0]
[null,null,null,11,"その他","－",0,0,0,0,0,0,0,0,0,0,0,0,0,0,0,0,0,0,0,0,0,0,0,0,0,0,0,0,0,0,0,0,0,0,0,0,0,0,0,0,0,0,0,0,0,0,0,0,0,0,0,0,0,0,0,0,0,0,0,0,0,0,0,0,0,0,0,0,0,0,0,0,0,0,0,0,0,0]
[null,null,null,12,"わからない","－",0,0,0,0,0,0,0,0,0,0,0,0,0,0,0,0,0,0,0,0,0,0,0,0,0,0,0,0,0,0,0,0,0,0,0,0,0,0,0,0,0,0,0,0,0,0,0,0,0,0,0,0,0,0,0,0,0,0,0,0,0,0,0,0,0,0,0,0,0,0,0,0,0,0,0,0,0,0]
[null,"3\n（3）","あなたの家では、インターネットの使い方について、何か家庭でルールを決めていますか？あなたの家庭で決めている「インターネットの使い方のルール」にあてはまるものを、すべて選んでください。（複数回答可）",1,"利用する時間","－",0,0,0,0,0,0,0,0,0,0,0,0,0,0,0,0,0,0,0,0,0,0,0,0,0,0,0,0,0,0,0,0,0,0,0,0,0,0,0,0,0,0,0,0,0,0,0,0,0,0,0,0,0,0,0,0,0,0,0,0,0,0,0,0,0,0,0,0,0,0,0,0,0,0,0,0,0,0]
[null,null,null,2,"利用する場所","－",0,0,0,0,0,0,0,0,0,0,0,0,0,0,0,0,0,0,0,0,0,0,0,0,0,0,0,0,0,0,0,0,0,0,0,0,0,0,0,0,0,0,0,0,0,0,0,0,0,0,0,0,0,0,0,0,0,0,0,0,0,0,0,0,0,0,0,0,0,0,0,0,0,0,0,0,0,0]
[null,null,null,3,"メールやメッセージを送る相手","－",0,0,0,0,0,0,0,0,0,0,0,0,0,0,0,0,0,0,0,0,0,0,0,0,0,0,0,0,0,0,0,0,0,0,0,0,0,0,0,0,0,0,0,0,0,0,0,0,0,0,0,0,0,0,0,0,0,0,0,0,0,0,0,0,0,0,0,0,0,0,0,0,0,0,0,0,0,0]
[null,null,null,4,"利用するサイトやアプリの内容","－",0,0,0,0,0,0,0,0,0,0,0,0,0,0,0,0,0,0,0,0,0,0,0,0,0,0,0,0,0,0,0,0,0,0,0,0,0,0,0,0,0,0,0,0,0,0,0,0,0,0,0,0,0,0,0,0,0,0,0,0,0,0,0,0,0,0,0,0,0,0,0,0,0,0,0,0,0,0]
[null,null,null,5,"送信・投稿する内容","－",0,0,0,0,0,0,0,0,0,0,0,0,0,0,0,0,0,0,0,0,0,0,0,0,0,0,0,0,0,0,0,0,0,0,0,0,0,0,0,0,0,0,0,0,0,0,0,0,0,0,0,0,0,0,0,0,0,0,0,0,0,0,0,0,0,0,0,0,0,0,0,0,0,0,0,0,0,0]
[null,null,null,6,"利用者情報が漏れないようにしている","－",0,0,0,0,0,0,0,0,0,0,0,0,0,0,0,0,0,0,0,0,0,0,0,0,0,0,0,0,0,0,0,0,0,0,0,0,0,0,0,0,0,0,0,0,0,0,0,0,0,0,0,0,0,0,0,0,0,0,0,0,0,0,0,0,0,0,0,0,0,0,0,0,0,0,0,0,0,0]
[null,null,null,7,"ゲームやアプリの利用料金の上限や課金の利用方法","－",0,0,0,0,0,0,0,0,0,0,0,0,0,0,0,0,0,0,0,0,0,0,0,0,0,0,0,0,0,0,0,0,0,0,0,0,0,0,0,0,0,0,0,0,0,0,0,0,0,0,0,0,0,0,0,0,0,0,0,0,0,0,0,0,0,0,0,0,0,0,0,0,0,0,0,0,0,0]
[null,null,null,8,"困ったときにはすぐに保護者に相談する","－",0,0,0,0,0,0,0,0,0,0,0,0,0,0,0,0,0,0,0,0,0,0,0,0,0,0,0,0,0,0,0,0,0,0,0,0,0,0,0,0,0,0,0,0,0,0,0,0,0,0,0,0,0,0,0,0,0,0,0,0,0,0,0,0,0,0,0,0,0,0,0,0,0,0,0,0,0,0]
[null,null,null,9,"使用する際のルールは特にない","－",0,0,0,0,0,0,0,0,0,0,0,0,0,0,0,0,0,0,0,0,0,0,0,0,0,0,0,0,0,0,0,0,0,0,0,0,0,0,0,0,0,0,0,0,0,0,0,0,0,0,0,0,0,0,0,0,0,0,0,0,0,0,0,0,0,0,0,0,0,0,0,0,0,0,0,0,0,0]
[null,null,null,10,"その他","－",0,0,0,0,0,0,0,0,0,0,0,0,0,0,0,0,0,0,0,0,0,0,0,0,0,0,0,0,0,0,0,0,0,0,0,0,0,0,0,0,0,0,0,0,0,0,0,0,0,0,0,0,0,0,0,0,0,0,0,0,0,0,0,0,0,0,0,0,0,0,0,0,0,0,0,0,0,0]
[null,"－\n(4)","【保護者のみ】\n　あなた（保護者自身）は、子供が安全に安心してインターネットを利用することができるよう、保護者としてどのような取組をされていますか？あてはまるものをすべて選んでください。（複数回答可）",1,"大人の目の届く範囲で使わせている","－",0,0,0,0,0,0,0,0,0,0,0,0,0,0,0,0,0,0,0,0,0,0,0,0,0,0,0,0,0,0,0,0,0,0,0,0,0,0,0,0,0,0,0,0,0,0,0,0,0,0,0,0,0,0,0,0,0,0,0,0,0,0,0,0,0,0,0,0,0,0,0,0,0,0,0,0,0,0]
[null,null,null,2,"利用する際に時間や場所を指定している","－",0,0,0,0,0,0,0,0,0,0,0,0,0,0,0,0,0,0,0,0,0,0,0,0,0,0,0,0,0,0,0,0,0,0,0,0,0,0,0,0,0,0,0,0,0,0,0,0,0,0,0,0,0,0,0,0,0,0,0,0,0,0,0,0,0,0,0,0,0,0,0,0,0,0,0,0,0,0]
[null,null,null,3,"成長段階に合わせて、子供向けの機器やサービスを使わせている","－",0,0,0,0,0,0,0,0,0,0,0,0,0,0,0,0,0,0,0,0,0,0,0,0,0,0,0,0,0,0,0,0,0,0,0,0,0,0,0,0,0,0,0,0,0,0,0,0,0,0,0,0,0,0,0,0,0,0,0,0,0,0,0,0,0,0,0,0,0,0,0,0,0,0,0,0,0,0]
[null,null,null,4,"普段の会話やコミュニケーションの中で、子供のインターネット利用状況を把握している","－",0,0,0,0,0,0,0,0,0,0,0,0,0,0,0,0,0,0,0,0,0,0,0,0,0,0,0,0,0,0,0,0,0,0,0,0,0,0,0,0,0,0,0,0,0,0,0,0,0,0,0,0,0,0,0,0,0,0,0,0,0,0,0,0,0,0,0,0,0,0,0,0,0,0,0,0,0,0]
[null,null,null,5,"フィルタリングを使っている","－",0,0,0,0,0,0,0,0,0,0,0,0,0,0,0,0,0,0,0,0,0,0,0,0,0,0,0,0,0,0,0,0,0,0,0,0,0,0,0,0,0,0,0,0,0,0,0,0,0,0,0,0,0,0,0,0,0,0,0,0,0,0,0,0,0,0,0,0,0,0,0,0,0,0,0,0,0,0]
[null,null,null,6,"その他の方法で管理を行っている","－",0,0,0,0,0,0,0,0,0,0,0,0,0,0,0,0,0,0,0,0,0,0,0,0,0,0,0,0,0,0,0,0,0,0,0,0,0,0,0,0,0,0,0,0,0,0,0,0,0,0,0,0,0,0,0,0,0,0,0,0,0,0,0,0,0,0,0,0,0,0,0,0,0,0,0,0,0,0]
[null,null,null,7,"子どものインターネット利用の管理は行っていない","－",0,0,0,0,0,0,0,0,0,0,0,0,0,0,0,0,0,0,0,0,0,0,0,0,0,0,0,0,0,0,0,0,0,0,0,0,0,0,0,0,0,0,0,0,0,0,0,0,0,0,0,0,0,0,0,0,0,0,0,0,0,0,0,0,0,0,0,0,0,0,0,0,0,0,0,0,0,0]
[null,null,null,8,"わからない","－",0,0,0,0,0,0,0,0,0,0,0,0,0,0,0,0,0,0,0,0,0,0,0,0,0,0,0,0,0,0,0,0,0,0,0,0,0,0,0,0,0,0,0,0,0,0,0,0,0,0,0,0,0,0,0,0,0,0,0,0,0,0,0,0,0,0,0,0,0,0,0,0,0,0,0,0,0,0]
["DQ","4\n(5)","あなたはインターネットに夢中になっていると感じていますか？",1,"はい",1,0,0,0,0,0,0,0,0,0,0,0,0,0,0,0,0,0,0,0,0,0,0,0,0,0,0,0,0,0,0,0,0,0,0,0,0,0,0,0,0,0,0,0,0,0,0,0,0,0,0,0,0,0,0,0,0,0,0,0,0,0,0,0,0,0,0,0,0,0,0,0,0,0,0,0,0,0,0]
[null,null,null,2,"いいえ","0点",0,0,0,0,0,0,0,0,0,0,0,0,0,0,0,0,0,0,0,0,0,0,0,0,0,0,0,0,0,0,0,0,0,0,0,0,0,0,0,0,0,0,0,0,0,0,0,0,0,0,0,0,0,0,0,0,0,0,0,0,0,0,0,0,0,0,0,0,0,0,0,0,0,0,0,0,0,0]
[null,"5\n(6)","あなたは、満足を得るために、インターネットを使う時間をだんだん長くしていかなければならないと感じていますか？",1,"はい",1,0,0,0,0,0,0,0,0,0,0,0,0,0,0,0,0,0,0,0,0,0,0,0,0,0,0,0,0,0,0,0,0,0,0,0,0,0,0,0,0,0,0,0,0,0,0,0,0,0,0,0,0,0,0,0,0,0,0,0,0,0,0,0,0,0,0,0,0,0,0,0,0,0,0,0,0,0,0]
[null,null,null,2,"いいえ","0点",0,0,0,0,0,0,0,0,0,0,0,0,0,0,0,0,0,0,0,0,0,0,0,0,0,0,0,0,0,0,0,0,0,0,0,0,0,0,0,0,0,0,0,0,0,0,0,0,0,0,0,0,0,0,0,0,0,0,0,0,0,0,0,0,0,0,0,0,0,0,0,0,0,0,0,0,0,0]
[null,"6\n(7)","あなたは、インターネット使用時間を制限したり、時間を減らしたり、完全にやめようとしたが、うまくいかなかったことがたびたびありましたか？",1,"はい",1,0,0,0,0,0,0,0,0,0,0,0,0,0,0,0,0,0,0,0,0,0,0,0,0,0,0,0,0,0,0,0,0,0,0,0,0,0,0,0,0,0,0,0,0,0,0,0,0,0,0,0,0,0,0,0,0,0,0,0,0,0,0,0,0,0,0,0,0,0,0,0,0,0,0,0,0,0,0]
[null,null,null,2,"いいえ","0点",0,0,0,0,0,0,0,0,0,0,0,0,0,0,0,0,0,0,0,0,0,0,0,0,0,0,0,0,0,0,0,0,0,0,0,0,0,0,0,0,0,0,0,0,0,0,0,0,0,0,0,0,0,0,0,0,0,0,0,0,0,0,0,0,0,0,0,0,0,0,0,0,0,0,0,0,0,0]
[null,"7\n(8)","インターネットの使用時間を短くしたり、完全にやめようとした時、落ち着かなかったり、不機嫌や落ち込み、またはイライラなどを感じましたか？\n",1,"はい",1,0,0,0,0,0,0,0,0,0,0,0,0,0,0,0,0,0,0,0,0,0,0,0,0,0,0,0,0,0,0,0,0,0,0,0,0,0,0,0,0,0,0,0,0,0,0,0,0,0,0,0,0,0,0,0,0,0,0,0,0,0,0,0,0,0,0,0,0,0,0,0,0,0,0,0,0,0,0]
[null,null,null,2,"いいえ","0点",0,0,0,0,0,0,0,0,0,0,0,0,0,0,0,0,0,0,0,0,0,0,0,0,0,0,0,0,0,0,0,0,0,0,0,0,0,0,0,0,0,0,0,0,0,0,0,0,0,0,0,0,0,0,0,0,0,0,0,0,0,0,0,0,0,0,0,0,0,0,0,0,0,0,0,0,0,0]
[null,"8\n(9)","あなたは、使いはじめに意図した（※）よりも長い時間インターネットを接続した状態でいますか？",1,"はい",1,0,0,0,0,0,0,0,0,0,0,0,0,0,0,0,0,0,0,0,0,0,0,0,0,0,0,0,0,0,0,0,0,0,0,0,0,0,0,0,0,0,0,0,0,0,0,0,0,0,0,0,0,0,0,0,0,0,0,0,0,0,0,0,0,0,0,0,0,0,0,0,0,0,0,0,0,0,0]
[null,null,null,2,"いいえ","0点",0,0,0,0,0,0,0,0,0,0,0,0,0,0,0,0,0,0,0,0,0,0,0,0,0,0,0,0,0,0,0,0,0,0,0,0,0,0,0,0,0,0,0,0,0,0,0,0,0,0,0,0,0,0,0,0,0,0,0,0,0,0,0,0,0,0,0,0,0,0,0,0,0,0,0,0,0,0]
[null,"9\n(10)","あなたは、インターネットのために大切な人間関係、学校のことや、部活動のことを台無しにしたり、あやうくするようなことがありましたか？",1,"はい",1,0,0,0,0,0,0,0,0,0,0,0,0,0,0,0,0,0,0,0,0,0,0,0,0,0,0,0,0,0,0,0,0,0,0,0,0,0,0,0,0,0,0,0,0,0,0,0,0,0,0,0,0,0,0,0,0,0,0,0,0,0,0,0,0,0,0,0,0,0,0,0,0,0,0,0,0,0,0]
[null,null,null,2,"いいえ","0点",0,0,0,0,0,0,0,0,0,0,0,0,0,0,0,0,0,0,0,0,0,0,0,0,0,0,0,0,0,0,0,0,0,0,0,0,0,0,0,0,0,0,0,0,0,0,0,0,0,0,0,0,0,0,0,0,0,0,0,0,0,0,0,0,0,0,0,0,0,0,0,0,0,0,0,0,0,0]
[null,"10\n(11)","あなたは、インターネットへの熱中のしすぎをかくすために、家族、学校の先生やその他の人たちにうそをついたことがありましたか？",1,"はい",1,0,0,0,0,0,0,0,0,0,0,0,0,0,0,0,0,0,0,0,0,0,0,0,0,0,0,0,0,0,0,0,0,0,0,0,0,0,0,0,0,0,0,0,0,0,0,0,0,0,0,0,0,0,0,0,0,0,0,0,0,0,0,0,0,0,0,0,0,0,0,0,0,0,0,0,0,0,0]
[null,null,null,2,"いいえ","0点",0,0,0,0,0,0,0,0,0,0,0,0,0,0,0,0,0,0,0,0,0,0,0,0,0,0,0,0,0,0,0,0,0,0,0,0,0,0,0,0,0,0,0,0,0,0,0,0,0,0,0,0,0,0,0,0,0,0,0,0,0,0,0,0,0,0,0,0,0,0,0,0,0,0,0,0,0,0]
[null,"11\n(12)","あなたは、問題から逃げるために、または、絶望的な気持ち、罪悪感、不安、落ち込みなどといった いやな気持ちから逃げるために、インターネットを使いますか？",1,"はい",1,0,0,0,0,0,0,0,0,0,0,0,0,0,0,0,0,0,0,0,0,0,0,0,0,0,0,0,0,0,0,0,0,0,0,0,0,0,0,0,0,0,0,0,0,0,0,0,0,0,0,0,0,0,0,0,0,0,0,0,0,0,0,0,0,0,0,0,0,0,0,0,0,0,0,0,0,0,0]
[null,null,null,2,"いいえ","0点",0,0,0,0,0,0,0,0,0,0,0,0,0,0,0,0,0,0,0,0,0,0,0,0,0,0,0,0,0,0,0,0,0,0,0,0,0,0,0,0,0,0,0,0,0,0,0,0,0,0,0,0,0,0,0,0,0,0,0,0,0,0,0,0,0,0,0,0,0,0,0,0,0,0,0,0,0,0]
["Kスケール","12\n（13）","インターネットの使用で、学校の成績が落ちた。",1,"全くあてはまらない",1,0,0,0,0,0,0,0,0,0,0,0,0,0,0,0,0,0,0,0,0,0,0,0,0,0,0,0,0,0,0,0,0,0,0,0,0,0,0,0,0,0,0,0,0,0,0,0,0,0,0,0,0,0,0,0,0,0,0,0,0,0,0,0,0,0,0,0,0,0,0,0,0,0,0,0,0,0,0]
[null,null,null,2,"あてはまらない",2,0,0,0,0,0,0,0,0,0,0,0,0,0,0,0,0,0,0,0,0,0,0,0,0,0,0,0,0,0,0,0,0,0,0,0,0,0,0,0,0,0,0,0,0,0,0,0,0,0,0,0,0,0,0,0,0,0,0,0,0,0,0,0,0,0,0,0,0,0,0,0,0,0,0,0,0,0,0]
[null,null,null,3,"あてはまる",3,0,0,0,0,0,0,0,0,0,0,0,0,0,0,0,0,0,0,0,0,0,0,0,0,0,0,0,0,0,0,0,0,0,0,0,0,0,0,0,0,0,0,0,0,0,0,0,0,0,0,0,0,0,0,0,0,0,0,0,0,0,0,0,0,0,0,0,0,0,0,0,0,0,0,0,0,0,0]
[null,null,null,4,"非常にあてはまる",4,0,0,0,0,0,0,0,0,0,0,0,0,0,0,0,0,0,0,0,0,0,0,0,0,0,0,0,0,0,0,0,0,0,0,0,0,0,0,0,0,0,0,0,0,0,0,0,0,0,0,0,0,0,0,0,0,0,0,0,0,0,0,0,0,0,0,0,0,0,0,0,0,0,0,0,0,0,0]
[null,"13\n（14）","インターネットをしている間は、よりいきいきしてくる。",1,"全くあてはまらない",1,0,0,0,0,0,0,0,0,0,0,0,0,0,0,0,0,0,0,0,0,0,0,0,0,0,0,0,0,0,0,0,0,0,0,0,0,0,0,0,0,0,0,0,0,0,0,0,0,0,0,0,0,0,0,0,0,0,0,0,0,0,0,0,0,0,0,0,0,0,0,0,0,0,0,0,0,0,0]
[null,null,null,2,"あてはまらない",2,0,0,0,0,0,0,0,0,0,0,0,0,0,0,0,0,0,0,0,0,0,0,0,0,0,0,0,0,0,0,0,0,0,0,0,0,0,0,0,0,0,0,0,0,0,0,0,0,0,0,0,0,0,0,0,0,0,0,0,0,0,0,0,0,0,0,0,0,0,0,0,0,0,0,0,0,0,0]
[null,null,null,3,"あてはまる",3,0,0,0,0,0,0,0,0,0,0,0,0,0,0,0,0,0,0,0,0,0,0,0,0,0,0,0,0,0,0,0,0,0,0,0,0,0,0,0,0,0,0,0,0,0,0,0,0,0,0,0,0,0,0,0,0,0,0,0,0,0,0,0,0,0,0,0,0,0,0,0,0,0,0,0,0,0,0]
[null,null,null,4,"非常にあてはまる",4,0,0,0,0,0,0,0,0,0,0,0,0,0,0,0,0,0,0,0,0,0,0,0,0,0,0,0,0,0,0,0,0,0,0,0,0,0,0,0,0,0,0,0,0,0,0,0,0,0,0,0,0,0,0,0,0,0,0,0,0,0,0,0,0,0,0,0,0,0,0,0,0,0,0,0,0,0,0]
[null,"14\n（15）","インターネットができないと、どんなことが起きているのか気になってほかのことができない。",1,"全くあてはまらない",1,0,0,0,0,0,0,0,0,0,0,0,0,0,0,0,0,0,0,0,0,0,0,0,0,0,0,0,0,0,0,0,0,0,0,0,0,0,0,0,0,0,0,0,0,0,0,0,0,0,0,0,0,0,0,0,0,0,0,0,0,0,0,0,0,0,0,0,0,0,0,0,0,0,0,0,0,0,0]
[null,null,null,2,"あてはまらない",2,0,0,0,0,0,0,0,0,0,0,0,0,0,0,0,0,0,0,0,0,0,0,0,0,0,0,0,0,0,0,0,0,0,0,0,0,0,0,0,0,0,0,0,0,0,0,0,0,0,0,0,0,0,0,0,0,0,0,0,0,0,0,0,0,0,0,0,0,0,0,0,0,0,0,0,0,0,0]
[null,null,null,3,"あてはまる",3,0,0,0,0,0,0,0,0,0,0,0,0,0,0,0,0,0,0,0,0,0,0,0,0,0,0,0,0,0,0,0,0,0,0,0,0,0,0,0,0,0,0,0,0,0,0,0,0,0,0,0,0,0,0,0,0,0,0,0,0,0,0,0,0,0,0,0,0,0,0,0,0,0,0,0,0,0,0]
[null,null,null,4,"非常にあてはまる",4,0,0,0,0,0,0,0,0,0,0,0,0,0,0,0,0,0,0,0,0,0,0,0,0,0,0,0,0,0,0,0,0,0,0,0,0,0,0,0,0,0,0,0,0,0,0,0,0,0,0,0,0,0,0,0,0,0,0,0,0,0,0,0,0,0,0,0,0,0,0,0,0,0,0,0,0,0,0]
[null,"15\n（16）","“やめなくては”と思いながら、いつもインターネットを続けてしまう。",1,"全くあてはまらない",1,{"$f":"AF73","v":0},{"$f":"AO73","v":0},{"$f":"AZ73","v":0},{"$f":"AC73+AL73+AW73","v":0},0,0,{"$f":"SUM(J73:L73)","v":0},{"$f":"BL73","v":0},{"$f":"BU73","v":0},{"$f":"CF73","v":0},{"$f":"SUM(BI73,BR73,CC73)","v":0},0,0,{"$f":"SUM(Q73:S73)","v":0},{"$f":"CG73+CH73+CI73","v":0},{"$f":"CJ73+CK73+CL73","v":0},{"$f":"CM73+CN73+CO73","v":0},{"$f":"CP73+CQ73+CR73","v":0},{"$f":"CS73+CT73+CU73","v":0},{"$f":"CV73+CW73+CX73","v":0},{"$f":"CY73+CZ73+DA73","v":0},{"$f":"DB73+DC73+DD73","v":0},{"$f":"CG73+CJ73+CM73+CP73+CS73+CV73+CY73+DB73","v":0},0,0,{"$f":"AC73+AD73+AE73","v":0},{"$f":"DE73+DF73+DG73","v":0},{"$f":"DH73+DI73+DJ73","v":0},{"$f":"DK73+DL73+DM73","v":0},{"$f":"DN73+DO73+DP73","v":0},{"$f":"DQ73+DR73+DS73","v":0},{"$f":"DE73+DH73+DK73+DN73+DQ73","v":0},0,0,{"$f":"SUM(AL73:AN73)","v":0},{"$f":"DT73+DU73+DV73","v":0},{"$f":"DW73+DX73+DY73","v":0},{"$f":"DZ73+EA73+EB73","v":0},{"$f":"EC73+ED73+EE73","v":0},{"$f":"EF73+EG73+EH73","v":0},{"$f":"EI73+EJ73+EK73","v":0},{"$f":"EL73+EM73+EN73","v":0},{"$f":"DT73+DW73+DZ73+EC73+EF73+EI73+EL73","v":0},0,0,{"$f":"SUM(AW73:AY73)","v":0},{"$f":"SUM(EO73:EQ73)","v":0},{"$f":"SUM(ER73:ET73)","v":0},{"$f":"SUM(EU73:EW73)","v":0},{"$f":"SUM(EX73:EZ73)","v":0},{"$f":"SUM(FA73:FC73)","v":0},{"$f":"SUM(FD73:FF73)","v":0},{"$f":"SUM(FG73:FI73)","v":0},{"$f":"SUM(FJ73:FL73)","v":0},{"$f":"SUM(EO73,ER73,EU73,EX73,FA73,FD73,FG73,FJ73)","v":0},0,0,{"$f":"SUM(EO73:FL73)","v":0},{"$f":"SUM(FM73:FO73)","v":0},{"$f":"SUM(FP73:FR73)","v":0},{"$f":"SUM(FS73:FU73)","v":0},{"$f":"SUM(FV73:FX73)","v":0},{"$f":"SUM(FY73:GA73)","v":0},{"$f":"SUM(FM73,FP73,FS73,FV73,FY73)","v":0},0,0,{"$f":"SUM(FM73:GA73)","v":0},{"$f":"SUM(GB73:GD73)","v":0},{"$f":"SUM(GE73:GG73)","v":0},{"$f":"SUM(GH73:GJ73)","v":0},{"$f":"SUM(GK73:GM73)","v":0},{"$f":"SUM(GN73:GP73)","v":0},{"$f":"SUM(GQ73:GS73)","v":0},{"$f":"SUM(GT73:GV73)","v":0},{"$f":"SUM(GB73,GE73,GH73,GK73,GN73,GQ73,GT73)","v":0},0,0,{"$f":"SUM(GB73:GV73)","v":0}]
[null,null,null,2,"あてはまらない",2,0,0,0,0,0,0,0,0,0,0,0,0,0,0,0,0,0,0,0,0,0,0,0,0,0,0,0,0,0,0,0,0,0,0,0,0,0,0,0,0,0,0,0,0,0,0,0,0,0,0,0,0,0,0,0,0,0,0,0,0,0,0,0,0,0,0,0,0,0,0,0,0,0,0,0,0,0,0]
[null,null,null,3,"あてはまる",3,0,0,0,0,0,0,0,0,0,0,0,0,0,0,0,0,0,0,0,0,0,0,0,0,0,0,0,0,0,0,0,0,0,0,0,0,0,0,0,0,0,0,0,0,0,0,0,0,0,0,0,0,0,0,0,0,0,0,0,0,0,0,0,0,0,0,0,0,0,0,0,0,0,0,0,0,0,0]
[null,null,null,4,"非常にあてはまる",4,0,0,0,0,0,0,0,0,0,0,0,0,0,0,0,0,0,0,0,0,0,0,0,0,0,0,0,0,0,0,0,0,0,0,0,0,0,0,0,0,0,0,0,0,0,0,0,0,0,0,0,0,0,0,0,0,0,0,0,0,0,0,0,0,0,0,0,0,0,0,0,0,0,0,0,0,0,0]
[null,"16\n（17）","インターネットをしているために疲れて授業時間に寝る。",1,"全くあてはまらない",1,0,0,0,0,0,0,0,0,0,0,0,0,0,0,0,0,0,0,0,0,0,0,0,0,0,0,0,0,0,0,0,0,0,0,0,0,0,0,0,0,0,0,0,0,0,0,0,0,0,0,0,0,0,0,0,0,0,0,0,0,0,0,0,0,0,0,0,0,0,0,0,0,0,0,0,0,0,0]
[null,null,null,2,"あてはまらない",2,0,0,0,0,0,0,0,0,0,0,0,0,0,0,0,0,0,0,0,0,0,0,0,0,0,0,0,0,0,0,0,0,0,0,0,0,0,0,0,0,0,0,0,0,0,0,0,0,0,0,0,0,0,0,0,0,0,0,0,0,0,0,0,0,0,0,0,0,0,0,0,0,0,0,0,0,0,0]
[null,null,null,3,"あてはまる",3,0,0,0,0,0,0,0,0,0,0,0,0,0,0,0,0,0,0,0,0,0,0,0,0,0,0,0,0,0,0,0,0,0,0,0,0,0,0,0,0,0,0,0,0,0,0,0,0,0,0,0,0,0,0,0,0,0,0,0,0,0,0,0,0,0,0,0,0,0,0,0,0,0,0,0,0,0,0]
[null,null,null,4,"非常にあてはまる",4,0,0,0,0,0,0,0,0,0,0,0,0,0,0,0,0,0,0,0,0,0,0,0,0,0,0,0,0,0,0,0,0,0,0,0,0,0,0,0,0,0,0,0,0,0,0,0,0,0,0,0,0,0,0,0,0,0,0,0,0,0,0,0,0,0,0,0,0,0,0,0,0,0,0,0,0,0,0]
[null,"17\n（18）","インターネットをしていて、計画したことがまともにできなかったことがある。",1,"全くあてはまらない",1,0,0,0,0,0,0,0,0,0,0,0,0,0,0,0,0,0,0,0,0,0,0,0,0,0,0,0,0,0,0,0,0,0,0,0,0,0,0,0,0,0,0,0,0,0,0,0,0,0,0,0,0,0,0,0,0,0,0,0,0,0,0,0,0,0,0,0,0,0,0,0,0,0,0,0,0,0,0]
[null,null,null,2,"あてはまらない",2,0,0,0,0,0,0,0,0,0,0,0,0,0,0,0,0,0,0,0,0,0,0,0,0,0,0,0,0,0,0,0,0,0,0,0,0,0,0,0,0,0,0,0,0,0,0,0,0,0,0,0,0,0,0,0,0,0,0,0,0,0,0,0,0,0,0,0,0,0,0,0,0,0,0,0,0,0,0]
[null,null,null,3,"あてはまる",3,0,0,0,0,0,0,0,0,0,0,0,0,0,0,0,0,0,0,0,0,0,0,0,0,0,0,0,0,0,0,0,0,0,0,0,0,0,0,0,0,0,0,0,0,0,0,0,0,0,0,0,0,0,0,0,0,0,0,0,0,0,0,0,0,0,0,0,0,0,0,0,0,0,0,0,0,0,0]
[null,null,null,4,"非常にあてはまる",4,0,0,0,0,0,0,0,0,0,0,0,0,0,0,0,0,0,0,0,0,0,0,0,0,0,0,0,0,0,0,0,0,0,0,0,0,0,0,0,0,0,0,0,0,0,0,0,0,0,0,0,0,0,0,0,0,0,0,0,0,0,0,0,0,0,0,0,0,0,0,0,0,0,0,0,0,0,0]
[null,"18\n（19）","インターネットをすると気分がよくなり、すぐに興奮する。",1,"全くあてはまらない",1,0,0,0,0,0,0,0,0,0,0,0,0,0,0,0,0,0,0,0,0,0,0,0,0,0,0,0,0,0,0,0,0,0,0,0,0,0,0,0,0,0,0,0,0,0,0,0,0,0,0,0,0,0,0,0,0,0,0,0,0,0,0,0,0,0,0,0,0,0,0,0,0,0,0,0,0,0,0]
[null,null,null,2,"あてはまらない",2,0,0,0,0,0,0,0,0,0,0,0,0,0,0,0,0,0,0,0,0,0,0,0,0,0,0,0,0,0,0,0,0,0,0,0,0,0,0,0,0,0,0,0,0,0,0,0,0,0,0,0,0,0,0,0,0,0,0,0,0,0,0,0,0,0,0,0,0,0,0,0,0,0,0,0,0,0,0]
[null,null,null,3,"あてはまる",3,0,0,0,0,0,0,0,0,0,0,0,0,0,0,0,0,0,0,0,0,0,0,0,0,0,0,0,0,0,0,0,0,0,0,0,0,0,0,0,0,0,0,0,0,0,0,0,0,0,0,0,0,0,0,0,0,0,0,0,0,0,0,0,0,0,0,0,0,0,0,0,0,0,0,0,0,0,0]
[null,null,null,4,"非常にあてはまる",4,0,0,0,0,0,0,0,0,0,0,0,0,0,0,0,0,0,0,0,0,0,0,0,0,0,0,0,0,0,0,0,0,0,0,0,0,0,0,0,0,0,0,0,0,0,0,0,0,0,0,0,0,0,0,0,0,0,0,0,0,0,0,0,0,0,0,0,0,0,0,0,0,0,0,0,0,0,0]
[null,"19\n（20）","インターネットをしているとき、思い通りにならないとイライラしてくる。",1,"全くあてはまらない",1,0,0,0,0,0,0,0,0,0,0,0,0,0,0,0,0,0,0,0,0,0,0,0,0,0,0,0,0,0,0,0,0,0,0,0,0,0,0,0,0,0,0,0,0,0,0,0,0,0,0,0,0,0,0,0,0,0,0,0,0,0,0,0,0,0,0,0,0,0,0,0,0,0,0,0,0,0,0]
[null,null,null,2,"あてはまらない",2,0,0,0,0,0,0,0,0,0,0,0,0,0,0,0,0,0,0,0,0,0,0,0,0,0,0,0,0,0,0,0,0,0,0,0,0,0,0,0,0,0,0,0,0,0,0,0,0,0,0,0,0,0,0,0,0,0,0,0,0,0,0,0,0,0,0,0,0,0,0,0,0,0,0,0,0,0,0]
[null,null,null,3,"あてはまる",3,0,0,0,0,0,0,0,0,0,0,0,0,0,0,0,0,0,0,0,0,0,0,0,0,0,0,0,0,0,0,0,0,0,0,0,0,0,0,0,0,0,0,0,0,0,0,0,0,0,0,0,0,0,0,0,0,0,0,0,0,0,0,0,0,0,0,0,0,0,0,0,0,0,0,0,0,0,0]
[null,null,null,4,"非常にあてはまる",4,0,0,0,0,0,0,0,0,0,0,0,0,0,0,0,0,0,0,0,0,0,0,0,0,0,0,0,0,0,0,0,0,0,0,0,0,0,0,0,0,0,0,0,0,0,0,0,0,0,0,0,0,0,0,0,0,0,0,0,0,0,0,0,0,0,0,0,0,0,0,0,0,0,0,0,0,0,0]
[null,"20\n（21）","インターネットの使用時間をみずから調節することができる。",1,"全くあてはまらない",4,0,0,0,0,0,0,0,0,0,0,0,0,0,0,0,0,0,0,0,0,0,0,0,0,0,0,0,0,0,0,0,0,0,0,0,0,0,0,0,0,0,0,0,0,0,0,0,0,0,0,0,0,0,0,0,0,0,0,0,0,0,0,0,0,0,0,0,0,0,0,0,0,0,0,0,0,0,0]
[null,null,null,2,"あてはまらない",3,0,0,0,0,0,0,0,0,0,0,0,0,0,0,0,0,0,0,0,0,0,0,0,0,0,0,0,0,0,0,0,0,0,0,0,0,0,0,0,0,0,0,0,0,0,0,0,0,0,0,0,0,0,0,0,0,0,0,0,0,0,0,0,0,0,0,0,0,0,0,0,0,0,0,0,0,0,0]
[null,null,null,3,"あてはまる",2,0,0,0,0,0,0,0,0,0,0,0,0,0,0,0,0,0,0,0,0,0,0,0,0,0,0,0,0,0,0,0,0,0,0,0,0,0,0,0,0,0,0,0,0,0,0,0,0,0,0,0,0,0,0,0,0,0,0,0,0,0,0,0,0,0,0,0,0,0,0,0,0,0,0,0,0,0,0]
[null,null,null,4,"非常にあてはまる",1,0,0,0,0,0,0,0,0,0,0,0,0,0,0,0,0,0,0,0,0,0,0,0,0,0,0,0,0,0,0,0,0,0,0,0,0,0,0,0,0,0,0,0,0,0,0,0,0,0,0,0,0,0,0,0,0,0,0,0,0,0,0,0,0,0,0,0,0,0,0,0,0,0,0,0,0,0,0]
[null,"21\n（22）","疲れるくらいインターネットをすることはない。",1,"全くあてはまらない",1,0,0,0,0,0,0,0,0,0,0,0,0,0,0,0,0,0,0,0,0,0,0,0,0,0,0,0,0,0,0,0,0,0,0,0,0,0,0,0,0,0,0,0,0,0,0,0,0,0,0,0,0,0,0,0,0,0,0,0,0,0,0,0,0,0,0,0,0,0,0,0,0,0,0,0,0,0,0]
[null,null,null,2,"あてはまらない",2,0,0,0,0,0,0,0,0,0,0,0,0,0,0,0,0,0,0,0,0,0,0,0,0,0,0,0,0,0,0,0,0,0,0,0,0,0,0,0,0,0,0,0,0,0,0,0,0,0,0,0,0,0,0,0,0,0,0,0,0,0,0,0,0,0,0,0,0,0,0,0,0,0,0,0,0,0,0]
[null,null,null,3,"あてはまる",3,0,0,0,0,0,0,0,0,0,0,0,0,0,0,0,0,0,0,0,0,0,0,0,0,0,0,0,0,0,0,0,0,0,0,0,0,0,0,0,0,0,0,0,0,0,0,0,0,0,0,0,0,0,0,0,0,0,0,0,0,0,0,0,0,0,0,0,0,0,0,0,0,0,0,0,0,0,0]
[null,null,null,4,"非常にあてはまる",4,0,0,0,0,0,0,0,0,0,0,0,0,0,0,0,0,0,0,0,0,0,0,0,0,0,0,0,0,0,0,0,0,0,0,0,0,0,0,0,0,0,0,0,0,0,0,0,0,0,0,0,0,0,0,0,0,0,0,0,0,0,0,0,0,0,0,0,0,0,0,0,0,0,0,0,0,0,0]
[null,"22\n（23）","インターネットができないとそわそわと落ち着かなくなり焦ってくる。",1,"全くあてはまらない",1,0,0,0,0,0,0,0,0,0,0,0,0,0,0,0,0,0,0,0,0,0,0,0,0,0,0,0,0,0,0,0,0,0,0,0,0,0,0,0,0,0,0,0,0,0,0,0,0,0,0,0,0,0,0,0,0,0,0,0,0,0,0,0,0,0,0,0,0,0,0,0,0,0,0,0,0,0,0]
[null,null,null,2,"あてはまらない",2,0,0,0,0,0,0,0,0,0,0,0,0,0,0,0,0,0,0,0,0,0,0,0,0,0,0,0,0,0,0,0,0,0,0,0,0,0,0,0,0,0,0,0,0,0,0,0,0,0,0,0,0,0,0,0,0,0,0,0,0,0,0,0,0,0,0,0,0,0,0,0,0,0,0,0,0,0,0]
[null,null,null,3,"あてはまる",3,0,0,0,0,0,0,0,0,0,0,0,0,0,0,0,0,0,0,0,0,0,0,0,0,0,0,0,0,0,0,0,0,0,0,0,0,0,0,0,0,0,0,0,0,0,0,0,0,0,0,0,0,0,0,0,0,0,0,0,0,0,0,0,0,0,0,0,0,0,0,0,0,0,0,0,0,0,0]
[null,null,null,4,"非常にあてはまる",4,0,0,0,0,0,0,0,0,0,0,0,0,0,0,0,0,0,0,0,0,0,0,0,0,0,0,0,0,0,0,0,0,0,0,0,0,0,0,0,0,0,0,0,0,0,0,0,0,0,0,0,0,0,0,0,0,0,0,0,0,0,0,0,0,0,0,0,0,0,0,0,0,0,0,0,0,0,0]
[null,"23\n（24）","一度インターネットを始めると、最初に心に決めたよりも長時間インターネットをしてしまう。",1,"全くあてはまらない",1,0,0,0,0,0,0,0,0,0,0,0,0,0,0,0,0,0,0,0,0,0,0,0,0,0,0,0,0,0,0,0,0,0,0,0,0,0,0,0,0,0,0,0,0,0,0,0,0,0,0,0,0,0,0,0,0,0,0,0,0,0,0,0,0,0,0,0,0,0,0,0,0,0,0,0,0,0,0]
[null,null,null,2,"あてはまらない",2,0,0,0,0,0,0,0,0,0,0,0,0,0,0,0,0,0,0,0,0,0,0,0,0,0,0,0,0,0,0,0,0,0,0,0,0,0,0,0,0,0,0,0,0,0,0,0,0,0,0,0,0,0,0,0,0,0,0,0,0,0,0,0,0,0,0,0,0,0,0,0,0,0,0,0,0,0,0]
[null,null,null,3,"あてはまる",3,0,0,0,0,0,0,0,0,0,0,0,0,0,0,0,0,0,0,0,0,0,0,0,0,0,0,0,0,0,0,0,0,0,0,0,0,0,0,0,0,0,0,0,0,0,0,0,0,0,0,0,0,0,0,0,0,0,0,0,0,0,0,0,0,0,0,0,0,0,0,0,0,0,0,0,0,0,0]
[null,null,null,4,"非常にあてはまる",4,0,0,0,0,0,0,0,0,0,0,0,0,0,0,0,0,0,0,0,0,0,0,0,0,0,0,0,0,0,0,0,0,0,0,0,0,0,0,0,0,0,0,0,0,0,0,0,0,0,0,0,0,0,0,0,0,0,0,0,0,0,0,0,0,0,0,0,0,0,0,0,0,0,0,0,0,0,0]
[null,"24\n（25）","インターネットをしたとしても、計画したことはきちんとおこなう。",1,"全くあてはまらない",4,0,0,0,0,0,0,0,0,0,0,0,0,0,0,0,0,0,0,0,0,0,0,0,0,0,0,0,0,0,0,0,0,0,0,0,0,0,0,0,0,0,0,0,0,0,0,0,0,0,0,0,0,0,0,0,0,0,0,0,0,0,0,0,0,0,0,0,0,0,0,0,0,0,0,0,0,0,0]
[null,null,null,2,"あてはまらない",3,0,0,0,0,0,0,0,0,0,0,0,0,0,0,0,0,0,0,0,0,0,0,0,0,0,0,0,0,0,0,0,0,0,0,0,0,0,0,0,0,0,0,0,0,0,0,0,0,0,0,0,0,0,0,0,0,0,0,0,0,0,0,0,0,0,0,0,0,0,0,0,0,0,0,0,0,0,0]
[null,null,null,3,"あてはまる",2,0,0,0,0,0,0,0,0,0,0,0,0,0,0,0,0,0,0,0,0,0,0,0,0,0,0,0,0,0,0,0,0,0,0,0,0,0,0,0,0,0,0,0,0,0,0,0,0,0,0,0,0,0,0,0,0,0,0,0,0,0,0,0,0,0,0,0,0,0,0,0,0,0,0,0,0,0,0]
[null,null,null,4,"非常にあてはまる",1,0,0,0,0,0,0,0,0,0,0,0,0,0,0,0,0,0,0,0,0,0,0,0,0,0,0,0,0,0,0,0,0,0,0,0,0,0,0,0,0,0,0,0,0,0,0,0,0,0,0,0,0,0,0,0,0,0,0,0,0,0,0,0,0,0,0,0,0,0,0,0,0,0,0,0,0,0,0]
[null,"25\n（26）","インターネットができなくても、不安ではない。",1,"全くあてはまらない",4,0,0,0,0,0,0,0,0,0,0,0,0,0,0,0,0,0,0,0,0,0,0,0,0,0,0,0,0,0,0,0,0,0,0,0,0,0,0,0,0,0,0,0,0,0,0,0,0,0,0,0,0,0,0,0,0,0,0,0,0,0,0,0,0,0,0,0,0,0,0,0,0,0,0,0,0,0,0]
[null,null,null,2,"あてはまらない",3,0,0,0,0,0,0,0,0,0,0,0,0,0,0,0,0,0,0,0,0,0,0,0,0,0,0,0,0,0,0,0,0,0,0,0,0,0,0,0,0,0,0,0,0,0,0,0,0,0,0,0,0,0,0,0,0,0,0,0,0,0,0,0,0,0,0,0,0,0,0,0,0,0,0,0,0,0,0]
[null,null,null,3,"あてはまる",2,0,0,0,0,0,0,0,0,0,0,0,0,0,0,0,0,0,0,0,0,0,0,0,0,0,0,0,0,0,0,0,0,0,0,0,0,0,0,0,0,0,0,0,0,0,0,0,0,0,0,0,0,0,0,0,0,0,0,0,0,0,0,0,0,0,0,0,0,0,0,0,0,0,0,0,0,0,0]
[null,null,null,4,"非常にあてはまる",1,0,0,0,0,0,0,0,0,0,0,0,0,0,0,0,0,0,0,0,0,0,0,0,0,0,0,0,0,0,0,0,0,0,0,0,0,0,0,0,0,0,0,0,0,0,0,0,0,0,0,0,0,0,0,0,0,0,0,0,0,0,0,0,0,0,0,0,0,0,0,0,0,0,0,0,0,0,0]
[null,"26\n（27）","インターネットの使用を減らさなければならないといつも考えている。",1,"全くあてはまらない",1,0,0,0,0,0,0,0,0,0,0,0,0,0,0,0,0,0,0,0,0,0,0,0,0,0,0,0,0,0,0,0,0,0,0,0,0,0,0,0,0,0,0,0,0,0,0,0,0,0,0,0,0,0,0,0,0,0,0,0,0,0,0,0,0,0,0,0,0,0,0,0,0,0,0,0,0,0,0]
[null,null,null,2,"あてはまらない",2,0,0,0,0,0,0,0,0,0,0,0,0,0,0,0,0,0,0,0,0,0,0,0,0,0,0,0,0,0,0,0,0,0,0,0,0,0,0,0,0,0,0,0,0,0,0,0,0,0,0,0,0,0,0,0,0,0,0,0,0,0,0,0,0,0,0,0,0,0,0,0,0,0,0,0,0,0,0]
[null,null,null,3,"あてはまる",3,0,0,0,0,0,0,0,0,0,0,0,0,0,0,0,0,0,0,0,0,0,0,0,0,0,0,0,0,0,0,0,0,0,0,0,0,0,0,0,0,0,0,0,0,0,0,0,0,0,0,0,0,0,0,0,0,0,0,0,0,0,0,0,0,0,0,0,0,0,0,0,0,0,0,0,0,0,0]
[null,null,null,4,"非常にあてはまる",4,0,0,0,0,0,0,0,0,0,0,0,0,0,0,0,0,0,0,0,0,0,0,0,0,0,0,0,0,0,0,0,0,0,0,0,0,0,0,0,0,0,0,0,0,0,0,0,0,0,0,0,0,0,0,0,0,0,0,0,0,0,0,0,0,0,0,0,0,0,0,0,0,0,0,0,0,0,0]
["ＩＡＴ","27\n(28)","気がつくと思っていたより、長い時間インターネットをしていることがありますか？",1,"全くない",1,0,0,0,0,0,0,0,0,0,0,0,0,0,0,0,0,0,0,0,0,0,0,0,0,0,0,0,0,0,0,0,0,0,0,0,0,0,0,0,0,0,0,0,0,0,0,0,0,0,0,0,0,0,0,0,0,0,0,0,0,0,0,0,0,0,0,0,0,0,0,0,0,0,0,0,0,0,0]
[null,null,null,2,"まれにある",2,0,0,0,0,0,0,0,0,0,0,0,0,0,0,0,0,0,0,0,0,0,0,0,0,0,0,0,0,0,0,0,0,0,0,0,0,0,0,0,0,0,0,0,0,0,0,0,0,0,0,0,0,0,0,0,0,0,0,0,0,0,0,0,0,0,0,0,0,0,0,0,0,0,0,0,0,0,0]
[null,null,null,3,"時々ある",3,0,0,0,0,0,0,0,0,0,0,0,0,0,0,0,0,0,0,0,0,0,0,0,0,0,0,0,0,0,0,0,0,0,0,0,0,0,0,0,0,0,0,0,0,0,0,0,0,0,0,0,0,0,0,0,0,0,0,0,0,0,0,0,0,0,0,0,0,0,0,0,0,0,0,0,0,0,0]
[null,null,null,4,"よくある",4,0,0,0,0,0,0,0,0,0,0,0,0,0,0,0,0,0,0,0,0,0,0,0,0,0,0,0,0,0,0,0,0,0,0,0,0,0,0,0,0,0,0,0,0,0,0,0,0,0,0,0,0,0,0,0,0,0,0,0,0,0,0,0,0,0,0,0,0,0,0,0,0,0,0,0,0,0,0]
[null,null,null,5,"いつもある",5,0,0,0,0,0,0,0,0,0,0,0,0,0,0,0,0,0,0,0,0,0,0,0,0,0,0,0,0,0,0,0,0,0,0,0,0,0,0,0,0,0,0,0,0,0,0,0,0,0,0,0,0,0,0,0,0,0,0,0,0,0,0,0,0,0,0,0,0,0,0,0,0,0,0,0,0,0,0]
[null,"28\n(29)","インターネットをする時間を増やすために、家庭での仕事や役割をおろそかにすることがありますか？",1,"全くない",1,0,0,0,0,0,0,0,0,0,0,0,0,0,0,0,0,0,0,0,0,0,0,0,0,0,0,0,0,0,0,0,0,0,0,0,0,0,0,0,0,0,0,0,0,0,0,0,0,0,0,0,0,0,0,0,0,0,0,0,0,0,0,0,0,0,0,0,0,0,0,0,0,0,0,0,0,0,0]
[null,null,null,2,"まれにある",2,0,0,0,0,0,0,0,0,0,0,0,0,0,0,0,0,0,0,0,0,0,0,0,0,0,0,0,0,0,0,0,0,0,0,0,0,0,0,0,0,0,0,0,0,0,0,0,0,0,0,0,0,0,0,0,0,0,0,0,0,0,0,0,0,0,0,0,0,0,0,0,0,0,0,0,0,0,0]
[null,null,null,3,"時々ある",3,0,0,0,0,0,0,0,0,0,0,0,0,0,0,0,0,0,0,0,0,0,0,0,0,0,0,0,0,0,0,0,0,0,0,0,0,0,0,0,0,0,0,0,0,0,0,0,0,0,0,0,0,0,0,0,0,0,0,0,0,0,0,0,0,0,0,0,0,0,0,0,0,0,0,0,0,0,0]
[null,null,null,4,"よくある",4,0,0,0,0,0,0,0,0,0,0,0,0,0,0,0,0,0,0,0,0,0,0,0,0,0,0,0,0,0,0,0,0,0,0,0,0,0,0,0,0,0,0,0,0,0,0,0,0,0,0,0,0,0,0,0,0,0,0,0,0,0,0,0,0,0,0,0,0,0,0,0,0,0,0,0,0,0,0]
[null,null,null,5,"いつもある",5,0,0,0,0,0,0,0,0,0,0,0,0,0,0,0,0,0,0,0,0,0,0,0,0,0,0,0,0,0,0,0,0,0,0,0,0,0,0,0,0,0,0,0,0,0,0,0,0,0,0,0,0,0,0,0,0,0,0,0,0,0,0,0,0,0,0,0,0,0,0,0,0,0,0,0,0,0,0]
[null,"29\n(30)","友人と過ごすよりも、インターネットを選ぶことがありますか？",1,"全くない",1,0,0,0,0,0,0,0,0,0,0,0,0,0,0,0,0,0,0,0,0,0,0,0,0,0,0,0,0,0,0,0,0,0,0,0,0,0,0,0,0,0,0,0,0,0,0,0,0,0,0,0,0,0,0,0,0,0,0,0,0,0,0,0,0,0,0,0,0,0,0,0,0,0,0,0,0,0,0]
[null,null,null,2,"まれにある",2,0,0,0,0,0,0,0,0,0,0,0,0,0,0,0,0,0,0,0,0,0,0,0,0,0,0,0,0,0,0,0,0,0,0,0,0,0,0,0,0,0,0,0,0,0,0,0,0,0,0,0,0,0,0,0,0,0,0,0,0,0,0,0,0,0,0,0,0,0,0,0,0,0,0,0,0,0,0]
[null,null,null,3,"時々ある",3,0,0,0,0,0,0,0,0,0,0,0,0,0,0,0,0,0,0,0,0,0,0,0,0,0,0,0,0,0,0,0,0,0,0,0,0,0,0,0,0,0,0,0,0,0,0,0,0,0,0,0,0,0,0,0,0,0,0,0,0,0,0,0,0,0,0,0,0,0,0,0,0,0,0,0,0,0,0]
[null,null,null,4,"よくある",4,0,0,0,0,0,0,0,0,0,0,0,0,0,0,0,0,0,0,0,0,0,0,0,0,0,0,0,0,0,0,0,0,0,0,0,0,0,0,0,0,0,0,0,0,0,0,0,0,0,0,0,0,0,0,0,0,0,0,0,0,0,0,0,0,0,0,0,0,0,0,0,0,0,0,0,0,0,0]
[null,null,null,5,"いつもある",5,0,0,0,0,0,0,0,0,0,0,0,0,0,0,0,0,0,0,0,0,0,0,0,0,0,0,0,0,0,0,0,0,0,0,0,0,0,0,0,0,0,0,0,0,0,0,0,0,0,0,0,0,0,0,0,0,0,0,0,0,0,0,0,0,0,0,0,0,0,0,0,0,0,0,0,0,0,0]
[null,"30\n(31)","インターネットで新しい仲間を作ることがありますか？",1,"全くない",1,0,0,0,0,0,0,0,0,0,0,0,0,0,0,0,0,0,0,0,0,0,0,0,0,0,0,0,0,0,0,0,0,0,0,0,0,0,0,0,0,0,0,0,0,0,0,0,0,0,0,0,0,0,0,0,0,0,0,0,0,0,0,0,0,0,0,0,0,0,0,0,0,0,0,0,0,0,0]
[null,null,null,2,"まれにある",2,{"$f":"AF137","v":0},{"$f":"AO137","v":0},{"$f":"AZ137","v":0},{"$f":"AC137+AL137+AW137","v":0},0,0,{"$f":"SUM(J137:L137)","v":0},{"$f":"BL137","v":0},{"$f":"BU137","v":0},{"$f":"CF137","v":0},{"$f":"SUM(BI137,BR137,CC137)","v":0},0,0,{"$f":"SUM(Q137:S137)","v":0},{"$f":"CG137+CH137+CI137","v":0},{"$f":"CJ137+CK137+CL137","v":0},{"$f":"CM137+CN137+CO137","v":0},{"$f":"CP137+CQ137+CR137","v":0},{"$f":"CS137+CT137+CU137","v":0},{"$f":"CV137+CW137+CX137","v":0},{"$f":"CY137+CZ137+DA137","v":0},{"$f":"DB137+DC137+DD137","v":0},{"$f":"CG137+CJ137+CM137+CP137+CS137+CV137+CY137+DB137","v":0},0,0,{"$f":"AC137+AD137+AE137","v":0},{"$f":"DE137+DF137+DG137","v":0},{"$f":"DH137+DI137+DJ137","v":0},{"$f":"DK137+DL137+DM137","v":0},{"$f":"DN137+DO137+DP137","v":0},{"$f":"DQ137+DR137+DS137","v":0},{"$f":"DE137+DH137+DK137+DN137+DQ137","v":0},0,0,{"$f":"SUM(AL137:AN137)","v":0},{"$f":"DT137+DU137+DV137","v":0},{"$f":"DW137+DX137+DY137","v":0},{"$f":"DZ137+EA137+EB137","v":0},{"$f":"EC137+ED137+EE137","v":0},{"$f":"EF137+EG137+EH137","v":0},{"$f":"EI137+EJ137+EK137","v":0},{"$f":"EL137+EM137+EN137","v":0},{"$f":"DT137+DW137+DZ137+EC137+EF137+EI137+EL137","v":0},0,0,{"$f":"SUM(AW137:AY137)","v":0},{"$f":"SUM(EO137:EQ137)","v":0},{"$f":"SUM(ER137:ET137)","v":0},{"$f":"SUM(EU137:EW137)","v":0},{"$f":"SUM(EX137:EZ137)","v":0},{"$f":"SUM(FA137:FC137)","v":0},{"$f":"SUM(FD137:FF137)","v":0},{"$f":"SUM(FG137:FI137)","v":0},{"$f":"SUM(FJ137:FL137)","v":0},{"$f":"SUM(EO137,ER137,EU137,EX137,FA137,FD137,FG137,FJ137)","v":0},0,0,{"$f":"SUM(EO137:FL137)","v":0},{"$f":"SUM(FM137:FO137)","v":0},{"$f":"SUM(FP137:FR137)","v":0},{"$f":"SUM(FS137:FU137)","v":0},{"$f":"SUM(FV137:FX137)","v":0},{"$f":"SUM(FY137:GA137)","v":0},{"$f":"SUM(FM137,FP137,FS137,FV137,FY137)","v":0},0,0,{"$f":"SUM(FM137:GA137)","v":0},{"$f":"SUM(GB137:GD137)","v":0},{"$f":"SUM(GE137:GG137)","v":0},{"$f":"SUM(GH137:GJ137)","v":0},{"$f":"SUM(GK137:GM137)","v":0},{"$f":"SUM(GN137:GP137)","v":0},{"$f":"SUM(GQ137:GS137)","v":0},{"$f":"SUM(GT137:GV137)","v":0},{"$f":"SUM(GB137,GE137,GH137,GK137,GN137,GQ137,GT137)","v":0},0,0,{"$f":"SUM(GB137:GV137)","v":0}]
[null,null,null,3,"時々ある",3,0,0,0,0,0,0,0,0,0,0,0,0,0,0,0,0,0,0,0,0,0,0,0,0,0,0,0,0,0,0,0,0,0,0,0,0,0,0,0,0,0,0,0,0,0,0,0,0,0,0,0,0,0,0,0,0,0,0,0,0,0,0,0,0,0,0,0,0,0,0,0,0,0,0,0,0,0,0]
[null,null,null,4,"よくある",4,0,0,0,0,0,0,0,0,0,0,0,0,0,0,0,0,0,0,0,0,0,0,0,0,0,0,0,0,0,0,0,0,0,0,0,0,0,0,0,0,0,0,0,0,0,0,0,0,0,0,0,0,0,0,0,0,0,0,0,0,0,0,0,0,0,0,0,0,0,0,0,0,0,0,0,0,0,0]
[null,null,null,5,"いつもある",5,0,0,0,0,0,0,0,0,0,0,0,0,0,0,0,0,0,0,0,0,0,0,0,0,0,0,0,0,0,0,0,0,0,0,0,0,0,0,0,0,0,0,0,0,0,0,0,0,0,0,0,0,0,0,0,0,0,0,0,0,0,0,0,0,0,0,0,0,0,0,0,0,0,0,0,0,0,0]
[null,"31\n(32)","インターネットをしている時間が長いと周りの人から文句を言われたことがありますか？",1,"全くない",1,0,0,0,0,0,0,0,0,0,0,0,0,0,0,0,0,0,0,0,0,0,0,0,0,0,0,0,0,0,0,0,0,0,0,0,0,0,0,0,0,0,0,0,0,0,0,0,0,0,0,0,0,0,0,0,0,0,0,0,0,0,0,0,0,0,0,0,0,0,0,0,0,0,0,0,0,0,0]
[null,null,null,2,"まれにある",2,0,0,0,0,0,0,0,0,0,0,0,0,0,0,0,0,0,0,0,0,0,0,0,0,0,0,0,0,0,0,0,0,0,0,0,0,0,0,0,0,0,0,0,0,0,0,0,0,0,0,0,0,0,0,0,0,0,0,0,0,0,0,0,0,0,0,0,0,0,0,0,0,0,0,0,0,0,0]
[null,null,null,3,"時々ある",3,0,0,0,0,0,0,0,0,0,0,0,0,0,0,0,0,0,0,0,0,0,0,0,0,0,0,0,0,0,0,0,0,0,0,0,0,0,0,0,0,0,0,0,0,0,0,0,0,0,0,0,0,0,0,0,0,0,0,0,0,0,0,0,0,0,0,0,0,0,0,0,0,0,0,0,0,0,0]
[null,null,null,4,"よくある",4,0,0,0,0,0,0,0,0,0,0,0,0,0,0,0,0,0,0,0,0,0,0,0,0,0,0,0,0,0,0,0,0,0,0,0,0,0,0,0,0,0,0,0,0,0,0,0,0,0,0,0,0,0,0,0,0,0,0,0,0,0,0,0,0,0,0,0,0,0,0,0,0,0,0,0,0,0,0]
[null,null,null,5,"いつもある",5,0,0,0,0,0,0,0,0,0,0,0,0,0,0,0,0,0,0,0,0,0,0,0,0,0,0,0,0,0,0,0,0,0,0,0,0,0,0,0,0,0,0,0,0,0,0,0,0,0,0,0,0,0,0,0,0,0,0,0,0,0,0,0,0,0,0,0,0,0,0,0,0,0,0,0,0,0,0]
[null,"32\n(33)","インターネットをしている時間が長くて、学校の成績や学業に支障をきたす（※）ことがありますか？\n※「支障をきたす」＝「悪い影響がある」",1,"全くない",1,0,0,0,0,0,0,0,0,0,0,0,0,0,0,0,0,0,0,0,0,0,0,0,0,0,0,0,0,0,0,0,0,0,0,0,0,0,0,0,0,0,0,0,0,0,0,0,0,0,0,0,0,0,0,0,0,0,0,0,0,0,0,0,0,0,0,0,0,0,0,0,0,0,0,0,0,0,0]
[null,null,null,2,"まれにある",2,0,0,0,0,0,0,0,0,0,0,0,0,0,0,0,0,0,0,0,0,0,0,0,0,0,0,0,0,0,0,0,0,0,0,0,0,0,0,0,0,0,0,0,0,0,0,0,0,0,0,0,0,0,0,0,0,0,0,0,0,0,0,0,0,0,0,0,0,0,0,0,0,0,0,0,0,0,0]
[null,null,null,3,"時々ある",3,0,0,0,0,0,0,0,0,0,0,0,0,0,0,0,0,0,0,0,0,0,0,0,0,0,0,0,0,0,0,0,0,0,0,0,0,0,0,0,0,0,0,0,0,0,0,0,0,0,0,0,0,0,0,0,0,0,0,0,0,0,0,0,0,0,0,0,0,0,0,0,0,0,0,0,0,0,0]
[null,null,null,4,"よくある",4,0,0,0,0,0,0,0,0,0,0,0,0,0,0,0,0,0,0,0,0,0,0,0,0,0,0,0,0,0,0,0,0,0,0,0,0,0,0,0,0,0,0,0,0,0,0,0,0,0,0,0,0,0,0,0,0,0,0,0,0,0,0,0,0,0,0,0,0,0,0,0,0,0,0,0,0,0,0]
[null,null,null,5,"いつもある",5,0,0,0,0,0,0,0,0,0,0,0,0,0,0,0,0,0,0,0,0,0,0,0,0,0,0,0,0,0,0,0,0,0,0,0,0,0,0,0,0,0,0,0,0,0,0,0,0,0,0,0,0,0,0,0,0,0,0,0,0,0,0,0,0,0,0,0,0,0,0,0,0,0,0,0,0,0,0]
[null,"33\n(34)","他にやらなければならないことがあっても、まず先に電子メールをチェックすることがありますか？",1,"全くない",1,0,0,0,0,0,0,0,0,0,0,0,0,0,0,0,0,0,0,0,0,0,0,0,0,0,0,0,0,0,0,0,0,0,0,0,0,0,0,0,0,0,0,0,0,0,0,0,0,0,0,0,0,0,0,0,0,0,0,0,0,0,0,0,0,0,0,0,0,0,0,0,0,0,0,0,0,0,0]
[null,null,null,2,"まれにある",2,0,0,0,0,0,0,0,0,0,0,0,0,0,0,0,0,0,0,0,0,0,0,0,0,0,0,0,0,0,0,0,0,0,0,0,0,0,0,0,0,0,0,0,0,0,0,0,0,0,0,0,0,0,0,0,0,0,0,0,0,0,0,0,0,0,0,0,0,0,0,0,0,0,0,0,0,0,0]
[null,null,null,3,"時々ある",3,0,0,0,0,0,0,0,0,0,0,0,0,0,0,0,0,0,0,0,0,0,0,0,0,0,0,0,0,0,0,0,0,0,0,0,0,0,0,0,0,0,0,0,0,0,0,0,0,0,0,0,0,0,0,0,0,0,0,0,0,0,0,0,0,0,0,0,0,0,0,0,0,0,0,0,0,0,0]
[null,null,null,4,"よくある",4,0,0,0,0,0,0,0,0,0,0,0,0,0,0,0,0,0,0,0,0,0,0,0,0,0,0,0,0,0,0,0,0,0,0,0,0,0,0,0,0,0,0,0,0,0,0,0,0,0,0,0,0,0,0,0,0,0,0,0,0,0,0,0,0,0,0,0,0,0,0,0,0,0,0,0,0,0,0]
[null,null,null,5,"いつもある",5,0,0,0,0,0,0,0,0,0,0,0,0,0,0,0,0,0,0,0,0,0,0,0,0,0,0,0,0,0,0,0,0,0,0,0,0,0,0,0,0,0,0,0,0,0,0,0,0,0,0,0,0,0,0,0,0,0,0,0,0,0,0,0,0,0,0,0,0,0,0,0,0,0,0,0,0,0,0]
[null,"34\n(35)","インターネットのために、勉強の能率（※）や成果が下がったことがありますか？※「能率」＝「効率」",1,"全くない",1,0,0,0,0,0,0,0,0,0,0,0,0,0,0,0,0,0,0,0,0,0,0,0,0,0,0,0,0,0,0,0,0,0,0,0,0,0,0,0,0,0,0,0,0,0,0,0,0,0,0,0,0,0,0,0,0,0,0,0,0,0,0,0,0,0,0,0,0,0,0,0,0,0,0,0,0,0,0]
[null,null,null,2,"まれにある",2,0,0,0,0,0,0,0,0,0,0,0,0,0,0,0,0,0,0,0,0,0,0,0,0,0,0,0,0,0,0,0,0,0,0,0,0,0,0,0,0,0,0,0,0,0,0,0,0,0,0,0,0,0,0,0,0,0,0,0,0,0,0,0,0,0,0,0,0,0,0,0,0,0,0,0,0,0,0]
[null,null,null,3,"時々ある",3,0,0,0,0,0,0,0,0,0,0,0,0,0,0,0,0,0,0,0,0,0,0,0,0,0,0,0,0,0,0,0,0,0,0,0,0,0,0,0,0,0,0,0,0,0,0,0,0,0,0,0,0,0,0,0,0,0,0,0,0,0,0,0,0,0,0,0,0,0,0,0,0,0,0,0,0,0,0]
[null,null,null,4,"よくある",4,0,0,0,0,0,0,0,0,0,0,0,0,0,0,0,0,0,0,0,0,0,0,0,0,0,0,0,0,0,0,0,0,0,0,0,0,0,0,0,0,0,0,0,0,0,0,0,0,0,0,0,0,0,0,0,0,0,0,0,0,0,0,0,0,0,0,0,0,0,0,0,0,0,0,0,0,0,0]
[null,null,null,5,"いつもある",5,0,0,0,0,0,0,0,0,0,0,0,0,0,0,0,0,0,0,0,0,0,0,0,0,0,0,0,0,0,0,0,0,0,0,0,0,0,0,0,0,0,0,0,0,0,0,0,0,0,0,0,0,0,0,0,0,0,0,0,0,0,0,0,0,0,0,0,0,0,0,0,0,0,0,0,0,0,0]
[null,"35\n(36)","人にインターネットで何をしているのか聞かれたとき防御的になったり（※）、隠そうとしたことがどれくらいありますか？　※「防御的になったり」＝「自分のことを守ろうとしたり」",1,"全くない",1,0,0,0,0,0,0,0,0,0,0,0,0,0,0,0,0,0,0,0,0,0,0,0,0,0,0,0,0,0,0,0,0,0,0,0,0,0,0,0,0,0,0,0,0,0,0,0,0,0,0,0,0,0,0,0,0,0,0,0,0,0,0,0,0,0,0,0,0,0,0,0,0,0,0,0,0,0,0]
[null,null,null,2,"まれにある",2,0,0,0,0,0,0,0,0,0,0,0,0,0,0,0,0,0,0,0,0,0,0,0,0,0,0,0,0,0,0,0,0,0,0,0,0,0,0,0,0,0,0,0,0,0,0,0,0,0,0,0,0,0,0,0,0,0,0,0,0,0,0,0,0,0,0,0,0,0,0,0,0,0,0,0,0,0,0]
[null,null,null,3,"時々ある",3,0,0,0,0,0,0,0,0,0,0,0,0,0,0,0,0,0,0,0,0,0,0,0,0,0,0,0,0,0,0,0,0,0,0,0,0,0,0,0,0,0,0,0,0,0,0,0,0,0,0,0,0,0,0,0,0,0,0,0,0,0,0,0,0,0,0,0,0,0,0,0,0,0,0,0,0,0,0]
[null,null,null,4,"よくある",4,0,0,0,0,0,0,0,0,0,0,0,0,0,0,0,0,0,0,0,0,0,0,0,0,0,0,0,0,0,0,0,0,0,0,0,0,0,0,0,0,0,0,0,0,0,0,0,0,0,0,0,0,0,0,0,0,0,0,0,0,0,0,0,0,0,0,0,0,0,0,0,0,0,0,0,0,0,0]
[null,null,null,5,"いつもある",5,0,0,0,0,0,0,0,0,0,0,0,0,0,0,0,0,0,0,0,0,0,0,0,0,0,0,0,0,0,0,0,0,0,0,0,0,0,0,0,0,0,0,0,0,0,0,0,0,0,0,0,0,0,0,0,0,0,0,0,0,0,0,0,0,0,0,0,0,0,0,0,0,0,0,0,0,0,0]
[null,"36\n(37)","日々の生活の心配事から心をそらすためにインターネットで心を静めることがありますか？",1,"全くない",1,0,0,0,0,0,0,0,0,0,0,0,0,0,0,0,0,0,0,0,0,0,0,0,0,0,0,0,0,0,0,0,0,0,0,0,0,0,0,0,0,0,0,0,0,0,0,0,0,0,0,0,0,0,0,0,0,0,0,0,0,0,0,0,0,0,0,0,0,0,0,0,0,0,0,0,0,0,0]
[null,null,null,2,"まれにある",2,0,0,0,0,0,0,0,0,0,0,0,0,0,0,0,0,0,0,0,0,0,0,0,0,0,0,0,0,0,0,0,0,0,0,0,0,0,0,0,0,0,0,0,0,0,0,0,0,0,0,0,0,0,0,0,0,0,0,0,0,0,0,0,0,0,0,0,0,0,0,0,0,0,0,0,0,0,0]
[null,null,null,3,"時々ある",3,0,0,0,0,0,0,0,0,0,0,0,0,0,0,0,0,0,0,0,0,0,0,0,0,0,0,0,0,0,0,0,0,0,0,0,0,0,0,0,0,0,0,0,0,0,0,0,0,0,0,0,0,0,0,0,0,0,0,0,0,0,0,0,0,0,0,0,0,0,0,0,0,0,0,0,0,0,0]
[null,null,null,4,"よくある",4,0,0,0,0,0,0,0,0,0,0,0,0,0,0,0,0,0,0,0,0,0,0,0,0,0,0,0,0,0,0,0,0,0,0,0,0,0,0,0,0,0,0,0,0,0,0,0,0,0,0,0,0,0,0,0,0,0,0,0,0,0,0,0,0,0,0,0,0,0,0,0,0,0,0,0,0,0,0]
[null,null,null,5,"いつもある",5,0,0,0,0,0,0,0,0,0,0,0,0,0,0,0,0,0,0,0,0,0,0,0,0,0,0,0,0,0,0,0,0,0,0,0,0,0,0,0,0,0,0,0,0,0,0,0,0,0,0,0,0,0,0,0,0,0,0,0,0,0,0,0,0,0,0,0,0,0,0,0,0,0,0,0,0,0,0]
[null,"37\n(38)","次にインターネットをするときのことを考えている自分に気がつくことがありますか？",1,"全くない",1,0,0,0,0,0,0,0,0,0,0,0,0,0,0,0,0,0,0,0,0,0,0,0,0,0,0,0,0,0,0,0,0,0,0,0,0,0,0,0,0,0,0,0,0,0,0,0,0,0,0,0,0,0,0,0,0,0,0,0,0,0,0,0,0,0,0,0,0,0,0,0,0,0,0,0,0,0,0]
[null,null,null,2,"まれにある",2,0,0,0,0,0,0,0,0,0,0,0,0,0,0,0,0,0,0,0,0,0,0,0,0,0,0,0,0,0,0,0,0,0,0,0,0,0,0,0,0,0,0,0,0,0,0,0,0,0,0,0,0,0,0,0,0,0,0,0,0,0,0,0,0,0,0,0,0,0,0,0,0,0,0,0,0,0,0]
[null,null,null,3,"時々ある",3,0,0,0,0,0,0,0,0,0,0,0,0,0,0,0,0,0,0,0,0,0,0,0,0,0,0,0,0,0,0,0,0,0,0,0,0,0,0,0,0,0,0,0,0,0,0,0,0,0,0,0,0,0,0,0,0,0,0,0,0,0,0,0,0,0,0,0,0,0,0,0,0,0,0,0,0,0,0]
[null,null,null,4,"よくある",4,0,0,0,0,0,0,0,0,0,0,0,0,0,0,0,0,0,0,0,0,0,0,0,0,0,0,0,0,0,0,0,0,0,0,0,0,0,0,0,0,0,0,0,0,0,0,0,0,0,0,0,0,0,0,0,0,0,0,0,0,0,0,0,0,0,0,0,0,0,0,0,0,0,0,0,0,0,0]
[null,null,null,5,"いつもある",5,0,0,0,0,0,0,0,0,0,0,0,0,0,0,0,0,0,0,0,0,0,0,0,0,0,0,0,0,0,0,0,0,0,0,0,0,0,0,0,0,0,0,0,0,0,0,0,0,0,0,0,0,0,0,0,0,0,0,0,0,0,0,0,0,0,0,0,0,0,0,0,0,0,0,0,0,0,0]
[null,"38\n(39)","インターネットの無い生活は、退屈でむなしく、つまらないものだろうと恐ろしく思うことがありますか？",1,"全くない",1,0,0,0,0,0,0,0,0,0,0,0,0,0,0,0,0,0,0,0,0,0,0,0,0,0,0,0,0,0,0,0,0,0,0,0,0,0,0,0,0,0,0,0,0,0,0,0,0,0,0,0,0,0,0,0,0,0,0,0,0,0,0,0,0,0,0,0,0,0,0,0,0,0,0,0,0,0,0]
[null,null,null,2,"まれにある",2,0,0,0,0,0,0,0,0,0,0,0,0,0,0,0,0,0,0,0,0,0,0,0,0,0,0,0,0,0,0,0,0,0,0,0,0,0,0,0,0,0,0,0,0,0,0,0,0,0,0,0,0,0,0,0,0,0,0,0,0,0,0,0,0,0,0,0,0,0,0,0,0,0,0,0,0,0,0]
[null,null,null,3,"時々ある",3,0,0,0,0,0,0,0,0,0,0,0,0,0,0,0,0,0,0,0,0,0,0,0,0,0,0,0,0,0,0,0,0,0,0,0,0,0,0,0,0,0,0,0,0,0,0,0,0,0,0,0,0,0,0,0,0,0,0,0,0,0,0,0,0,0,0,0,0,0,0,0,0,0,0,0,0,0,0]
[null,null,null,4,"よくある",4,0,0,0,0,0,0,0,0,0,0,0,0,0,0,0,0,0,0,0,0,0,0,0,0,0,0,0,0,0,0,0,0,0,0,0,0,0,0,0,0,0,0,0,0,0,0,0,0,0,0,0,0,0,0,0,0,0,0,0,0,0,0,0,0,0,0,0,0,0,0,0,0,0,0,0,0,0,0]
[null,null,null,5,"いつもある",5,0,0,0,0,0,0,0,0,0,0,0,0,0,0,0,0,0,0,0,0,0,0,0,0,0,0,0,0,0,0,0,0,0,0,0,0,0,0,0,0,0,0,0,0,0,0,0,0,0,0,0,0,0,0,0,0,0,0,0,0,0,0,0,0,0,0,0,0,0,0,0,0,0,0,0,0,0,0]
[null,"39\n(40)","インターネットをしている最中に誰かに邪魔をされると、いらいらしたり、怒ったり、大声を出したりすることがありますか？",1,"全くない",1,0,0,0,0,0,0,0,0,0,0,0,0,0,0,0,0,0,0,0,0,0,0,0,0,0,0,0,0,0,0,0,0,0,0,0,0,0,0,0,0,0,0,0,0,0,0,0,0,0,0,0,0,0,0,0,0,0,0,0,0,0,0,0,0,0,0,0,0,0,0,0,0,0,0,0,0,0,0]
[null,null,null,2,"まれにある",2,0,0,0,0,0,0,0,0,0,0,0,0,0,0,0,0,0,0,0,0,0,0,0,0,0,0,0,0,0,0,0,0,0,0,0,0,0,0,0,0,0,0,0,0,0,0,0,0,0,0,0,0,0,0,0,0,0,0,0,0,0,0,0,0,0,0,0,0,0,0,0,0,0,0,0,0,0,0]
[null,null,null,3,"時々ある",3,0,0,0,0,0,0,0,0,0,0,0,0,0,0,0,0,0,0,0,0,0,0,0,0,0,0,0,0,0,0,0,0,0,0,0,0,0,0,0,0,0,0,0,0,0,0,0,0,0,0,0,0,0,0,0,0,0,0,0,0,0,0,0,0,0,0,0,0,0,0,0,0,0,0,0,0,0,0]
[null,null,null,4,"よくある",4,0,0,0,0,0,0,0,0,0,0,0,0,0,0,0,0,0,0,0,0,0,0,0,0,0,0,0,0,0,0,0,0,0,0,0,0,0,0,0,0,0,0,0,0,0,0,0,0,0,0,0,0,0,0,0,0,0,0,0,0,0,0,0,0,0,0,0,0,0,0,0,0,0,0,0,0,0,0]
[null,null,null,5,"いつもある",5,0,0,0,0,0,0,0,0,0,0,0,0,0,0,0,0,0,0,0,0,0,0,0,0,0,0,0,0,0,0,0,0,0,0,0,0,0,0,0,0,0,0,0,0,0,0,0,0,0,0,0,0,0,0,0,0,0,0,0,0,0,0,0,0,0,0,0,0,0,0,0,0,0,0,0,0,0,0]
[null,"40\n(41)","睡眠時間をけずって、深夜までインターネットをすることがありますか？",1,"全くない",1,0,0,0,0,0,0,0,0,0,0,0,0,0,0,0,0,0,0,0,0,0,0,0,0,0,0,0,0,0,0,0,0,0,0,0,0,0,0,0,0,0,0,0,0,0,0,0,0,0,0,0,0,0,0,0,0,0,0,0,0,0,0,0,0,0,0,0,0,0,0,0,0,0,0,0,0,0,0]
[null,null,null,2,"まれにある",2,0,0,0,0,0,0,0,0,0,0,0,0,0,0,0,0,0,0,0,0,0,0,0,0,0,0,0,0,0,0,0,0,0,0,0,0,0,0,0,0,0,0,0,0,0,0,0,0,0,0,0,0,0,0,0,0,0,0,0,0,0,0,0,0,0,0,0,0,0,0,0,0,0,0,0,0,0,0]
[null,null,null,3,"時々ある",3,0,0,0,0,0,0,0,0,0,0,0,0,0,0,0,0,0,0,0,0,0,0,0,0,0,0,0,0,0,0,0,0,0,0,0,0,0,0,0,0,0,0,0,0,0,0,0,0,0,0,0,0,0,0,0,0,0,0,0,0,0,0,0,0,0,0,0,0,0,0,0,0,0,0,0,0,0,0]
[null,null,null,4,"よくある",4,0,0,0,0,0,0,0,0,0,0,0,0,0,0,0,0,0,0,0,0,0,0,0,0,0,0,0,0,0,0,0,0,0,0,0,0,0,0,0,0,0,0,0,0,0,0,0,0,0,0,0,0,0,0,0,0,0,0,0,0,0,0,0,0,0,0,0,0,0,0,0,0,0,0,0,0,0,0]
[null,null,null,5,"いつもある",5,0,0,0,0,0,0,0,0,0,0,0,0,0,0,0,0,0,0,0,0,0,0,0,0,0,0,0,0,0,0,0,0,0,0,0,0,0,0,0,0,0,0,0,0,0,0,0,0,0,0,0,0,0,0,0,0,0,0,0,0,0,0,0,0,0,0,0,0,0,0,0,0,0,0,0,0,0,0]
[null,"41\n(42)","インターネットをしていないときでもインターネットのことばかり考えていたり、インターネットをしているところを空想したりすることがありますか？",1,"全くない",1,0,0,0,0,0,0,0,0,0,0,0,0,0,0,0,0,0,0,0,0,0,0,0,0,0,0,0,0,0,0,0,0,0,0,0,0,0,0,0,0,0,0,0,0,0,0,0,0,0,0,0,0,0,0,0,0,0,0,0,0,0,0,0,0,0,0,0,0,0,0,0,0,0,0,0,0,0,0]
[null,null,null,2,"まれにある",2,0,0,0,0,0,0,0,0,0,0,0,0,0,0,0,0,0,0,0,0,0,0,0,0,0,0,0,0,0,0,0,0,0,0,0,0,0,0,0,0,0,0,0,0,0,0,0,0,0,0,0,0,0,0,0,0,0,0,0,0,0,0,0,0,0,0,0,0,0,0,0,0,0,0,0,0,0,0]
[null,null,null,3,"時々ある",3,0,0,0,0,0,0,0,0,0,0,0,0,0,0,0,0,0,0,0,0,0,0,0,0,0,0,0,0,0,0,0,0,0,0,0,0,0,0,0,0,0,0,0,0,0,0,0,0,0,0,0,0,0,0,0,0,0,0,0,0,0,0,0,0,0,0,0,0,0,0,0,0,0,0,0,0,0,0]
[null,null,null,4,"よくある",4,0,0,0,0,0,0,0,0,0,0,0,0,0,0,0,0,0,0,0,0,0,0,0,0,0,0,0,0,0,0,0,0,0,0,0,0,0,0,0,0,0,0,0,0,0,0,0,0,0,0,0,0,0,0,0,0,0,0,0,0,0,0,0,0,0,0,0,0,0,0,0,0,0,0,0,0,0,0]
[null,null,null,5,"いつもある",5,0,0,0,0,0,0,0,0,0,0,0,0,0,0,0,0,0,0,0,0,0,0,0,0,0,0,0,0,0,0,0,0,0,0,0,0,0,0,0,0,0,0,0,0,0,0,0,0,0,0,0,0,0,0,0,0,0,0,0,0,0,0,0,0,0,0,0,0,0,0,0,0,0,0,0,0,0,0]
[null,"42\n(43)","インターネットをしているとき「あと数分だけ」と言っている自分に気がつくことがありますか？",1,"全くない",1,0,0,0,0,0,0,0,0,0,0,0,0,0,0,0,0,0,0,0,0,0,0,0,0,0,0,0,0,0,0,0,0,0,0,0,0,0,0,0,0,0,0,0,0,0,0,0,0,0,0,0,0,0,0,0,0,0,0,0,0,0,0,0,0,0,0,0,0,0,0,0,0,0,0,0,0,0,0]
[null,null,null,2,"まれにある",2,0,0,0,0,0,0,0,0,0,0,0,0,0,0,0,0,0,0,0,0,0,0,0,0,0,0,0,0,0,0,0,0,0,0,0,0,0,0,0,0,0,0,0,0,0,0,0,0,0,0,0,0,0,0,0,0,0,0,0,0,0,0,0,0,0,0,0,0,0,0,0,0,0,0,0,0,0,0]
[null,null,null,3,"時々ある",3,0,0,0,0,0,0,0,0,0,0,0,0,0,0,0,0,0,0,0,0,0,0,0,0,0,0,0,0,0,0,0,0,0,0,0,0,0,0,0,0,0,0,0,0,0,0,0,0,0,0,0,0,0,0,0,0,0,0,0,0,0,0,0,0,0,0,0,0,0,0,0,0,0,0,0,0,0,0]
[null,null,null,4,"よくある",4,0,0,0,0,0,0,0,0,0,0,0,0,0,0,0,0,0,0,0,0,0,0,0,0,0,0,0,0,0,0,0,0,0,0,0,0,0,0,0,0,0,0,0,0,0,0,0,0,0,0,0,0,0,0,0,0,0,0,0,0,0,0,0,0,0,0,0,0,0,0,0,0,0,0,0,0,0,0]
[null,null,null,5,"いつもある",5,0,0,0,0,0,0,0,0,0,0,0,0,0,0,0,0,0,0,0,0,0,0,0,0,0,0,0,0,0,0,0,0,0,0,0,0,0,0,0,0,0,0,0,0,0,0,0,0,0,0,0,0,0,0,0,0,0,0,0,0,0,0,0,0,0,0,0,0,0,0,0,0,0,0,0,0,0,0]
[null,"43\n(44)","インターネットをする時間を減らそうとしても、できないことがありますか？",1,"全くない",1,{"$f":"AF201","v":0},{"$f":"AO201","v":0},{"$f":"AZ201","v":0},{"$f":"AC201+AL201+AW201","v":0},0,0,{"$f":"SUM(J201:L201)","v":0},{"$f":"BL201","v":0},{"$f":"BU201","v":0},{"$f":"CF201","v":0},{"$f":"SUM(BI201,BR201,CC201)","v":0},0,0,{"$f":"SUM(Q201:S201)","v":0},{"$f":"CG201+CH201+CI201","v":0},{"$f":"CJ201+CK201+CL201","v":0},{"$f":"CM201+CN201+CO201","v":0},{"$f":"CP201+CQ201+CR201","v":0},{"$f":"CS201+CT201+CU201","v":0},{"$f":"CV201+CW201+CX201","v":0},{"$f":"CY201+CZ201+DA201","v":0},{"$f":"DB201+DC201+DD201","v":0},{"$f":"CG201+CJ201+CM201+CP201+CS201+CV201+CY201+DB201","v":0},0,0,{"$f":"AC201+AD201+AE201","v":0},{"$f":"DE201+DF201+DG201","v":0},{"$f":"DH201+DI201+DJ201","v":0},{"$f":"DK201+DL201+DM201","v":0},{"$f":"DN201+DO201+DP201","v":0},{"$f":"DQ201+DR201+DS201","v":0},{"$f":"DE201+DH201+DK201+DN201+DQ201","v":0},0,0,{"$f":"SUM(AL201:AN201)","v":0},{"$f":"DT201+DU201+DV201","v":0},{"$f":"DW201+DX201+DY201","v":0},{"$f":"DZ201+EA201+EB201","v":0},{"$f":"EC201+ED201+EE201","v":0},{"$f":"EF201+EG201+EH201","v":0},{"$f":"EI201+EJ201+EK201","v":0},{"$f":"EL201+EM201+EN201","v":0},{"$f":"DT201+DW201+DZ201+EC201+EF201+EI201+EL201","v":0},0,0,{"$f":"SUM(AW201:AY201)","v":0},{"$f":"SUM(EO201:EQ201)","v":0},{"$f":"SUM(ER201:ET201)","v":0},{"$f":"SUM(EU201:EW201)","v":0},{"$f":"SUM(EX201:EZ201)","v":0},{"$f":"SUM(FA201:FC201)","v":0},{"$f":"SUM(FD201:FF201)","v":0},{"$f":"SUM(FG201:FI201)","v":0},{"$f":"SUM(FJ201:FL201)","v":0},{"$f":"SUM(EO201,ER201,EU201,EX201,FA201,FD201,FG201,FJ201)","v":0},0,0,{"$f":"SUM(EO201:FL201)","v":0},{"$f":"SUM(FM201:FO201)","v":0},{"$f":"SUM(FP201:FR201)","v":0},{"$f":"SUM(FS201:FU201)","v":0},{"$f":"SUM(FV201:FX201)","v":0},{"$f":"SUM(FY201:GA201)","v":0},{"$f":"SUM(FM201,FP201,FS201,FV201,FY201)","v":0},0,0,{"$f":"SUM(FM201:GA201)","v":0},{"$f":"SUM(GB201:GD201)","v":0},{"$f":"SUM(GE201:GG201)","v":0},{"$f":"SUM(GH201:GJ201)","v":0},{"$f":"SUM(GK201:GM201)","v":0},{"$f":"SUM(GN201:GP201)","v":0},{"$f":"SUM(GQ201:GS201)","v":0},{"$f":"SUM(GT201:GV201)","v":0},{"$f":"SUM(GB201,GE201,GH201,GK201,GN201,GQ201,GT201)","v":0},0,0,{"$f":"SUM(GB201:GV201)","v":0}]
[null,null,null,2,"まれにある",2,0,0,0,0,0,0,0,0,0,0,0,0,0,0,0,0,0,0,0,0,0,0,0,0,0,0,0,0,0,0,0,0,0,0,0,0,0,0,0,0,0,0,0,0,0,0,0,0,0,0,0,0,0,0,0,0,0,0,0,0,0,0,0,0,0,0,0,0,0,0,0,0,0,0,0,0,0,0]
[null,null,null,3,"時々ある",3,0,0,0,0,0,0,0,0,0,0,0,0,0,0,0,0,0,0,0,0,0,0,0,0,0,0,0,0,0,0,0,0,0,0,0,0,0,0,0,0,0,0,0,0,0,0,0,0,0,0,0,0,0,0,0,0,0,0,0,0,0,0,0,0,0,0,0,0,0,0,0,0,0,0,0,0,0,0]
[null,null,null,4,"よくある",4,0,0,0,0,0,0,0,0,0,0,0,0,0,0,0,0,0,0,0,0,0,0,0,0,0,0,0,0,0,0,0,0,0,0,0,0,0,0,0,0,0,0,0,0,0,0,0,0,0,0,0,0,0,0,0,0,0,0,0,0,0,0,0,0,0,0,0,0,0,0,0,0,0,0,0,0,0,0]
[null,null,null,5,"いつもある",5,0,0,0,0,0,0,0,0,0,0,0,0,0,0,0,0,0,0,0,0,0,0,0,0,0,0,0,0,0,0,0,0,0,0,0,0,0,0,0,0,0,0,0,0,0,0,0,0,0,0,0,0,0,0,0,0,0,0,0,0,0,0,0,0,0,0,0,0,0,0,0,0,0,0,0,0,0,0]
[null,"44\n(45)","インターネットをしていた時間の長さを隠そうとすることがありますか？",1,"全くない",1,0,0,0,0,0,0,0,0,0,0,0,0,0,0,0,0,0,0,0,0,0,0,0,0,0,0,0,0,0,0,0,0,0,0,0,0,0,0,0,0,0,0,0,0,0,0,0,0,0,0,0,0,0,0,0,0,0,0,0,0,0,0,0,0,0,0,0,0,0,0,0,0,0,0,0,0,0,0]
[null,null,null,2,"まれにある",2,0,0,0,0,0,0,0,0,0,0,0,0,0,0,0,0,0,0,0,0,0,0,0,0,0,0,0,0,0,0,0,0,0,0,0,0,0,0,0,0,0,0,0,0,0,0,0,0,0,0,0,0,0,0,0,0,0,0,0,0,0,0,0,0,0,0,0,0,0,0,0,0,0,0,0,0,0,0]
[null,null,null,3,"時々ある",3,0,0,0,0,0,0,0,0,0,0,0,0,0,0,0,0,0,0,0,0,0,0,0,0,0,0,0,0,0,0,0,0,0,0,0,0,0,0,0,0,0,0,0,0,0,0,0,0,0,0,0,0,0,0,0,0,0,0,0,0,0,0,0,0,0,0,0,0,0,0,0,0,0,0,0,0,0,0]
[null,null,null,4,"よくある",4,0,0,0,0,0,0,0,0,0,0,0,0,0,0,0,0,0,0,0,0,0,0,0,0,0,0,0,0,0,0,0,0,0,0,0,0,0,0,0,0,0,0,0,0,0,0,0,0,0,0,0,0,0,0,0,0,0,0,0,0,0,0,0,0,0,0,0,0,0,0,0,0,0,0,0,0,0,0]
[null,null,null,5,"いつもある",5,0,0,0,0,0,0,0,0,0,0,0,0,0,0,0,0,0,0,0,0,0,0,0,0,0,0,0,0,0,0,0,0,0,0,0,0,0,0,0,0,0,0,0,0,0,0,0,0,0,0,0,0,0,0,0,0,0,0,0,0,0,0,0,0,0,0,0,0,0,0,0,0,0,0,0,0,0,0]
[null,"45\n(46)","誰かと外出するより、インターネットを選ぶことがありますか？",1,"全くない",1,0,0,0,0,0,0,0,0,0,0,0,0,0,0,0,0,0,0,0,0,0,0,0,0,0,0,0,0,0,0,0,0,0,0,0,0,0,0,0,0,0,0,0,0,0,0,0,0,0,0,0,0,0,0,0,0,0,0,0,0,0,0,0,0,0,0,0,0,0,0,0,0,0,0,0,0,0,0]
[null,null,null,2,"まれにある",2,0,0,0,0,0,0,0,0,0,0,0,0,0,0,0,0,0,0,0,0,0,0,0,0,0,0,0,0,0,0,0,0,0,0,0,0,0,0,0,0,0,0,0,0,0,0,0,0,0,0,0,0,0,0,0,0,0,0,0,0,0,0,0,0,0,0,0,0,0,0,0,0,0,0,0,0,0,0]
[null,null,null,3,"時々ある",3,0,0,0,0,0,0,0,0,0,0,0,0,0,0,0,0,0,0,0,0,0,0,0,0,0,0,0,0,0,0,0,0,0,0,0,0,0,0,0,0,0,0,0,0,0,0,0,0,0,0,0,0,0,0,0,0,0,0,0,0,0,0,0,0,0,0,0,0,0,0,0,0,0,0,0,0,0,0]
[null,null,null,4,"よくある",4,0,0,0,0,0,0,0,0,0,0,0,0,0,0,0,0,0,0,0,0,0,0,0,0,0,0,0,0,0,0,0,0,0,0,0,0,0,0,0,0,0,0,0,0,0,0,0,0,0,0,0,0,0,0,0,0,0,0,0,0,0,0,0,0,0,0,0,0,0,0,0,0,0,0,0,0,0,0]
[null,null,null,5,"いつもある",5,0,0,0,0,0,0,0,0,0,0,0,0,0,0,0,0,0,0,0,0,0,0,0,0,0,0,0,0,0,0,0,0,0,0,0,0,0,0,0,0,0,0,0,0,0,0,0,0,0,0,0,0,0,0,0,0,0,0,0,0,0,0,0,0,0,0,0,0,0,0,0,0,0,0,0,0,0,0]
[null,"46\n(47)","インターネットをしていないと憂うつになったり、いらいらしたりしても、再開すると嫌な気持ちが消えてしまうことがありますか？",1,"全くない",1,0,0,0,0,0,0,0,0,0,0,0,0,0,0,0,0,0,0,0,0,0,0,0,0,0,0,0,0,0,0,0,0,0,0,0,0,0,0,0,0,0,0,0,0,0,0,0,0,0,0,0,0,0,0,0,0,0,0,0,0,0,0,0,0,0,0,0,0,0,0,0,0,0,0,0,0,0,0]
[null,null,null,2,"まれにある",2,0,0,0,0,0,0,0,0,0,0,0,0,0,0,0,0,0,0,0,0,0,0,0,0,0,0,0,0,0,0,0,0,0,0,0,0,0,0,0,0,0,0,0,0,0,0,0,0,0,0,0,0,0,0,0,0,0,0,0,0,0,0,0,0,0,0,0,0,0,0,0,0,0,0,0,0,0,0]
[null,null,null,3,"時々ある",3,0,0,0,0,0,0,0,0,0,0,0,0,0,0,0,0,0,0,0,0,0,0,0,0,0,0,0,0,0,0,0,0,0,0,0,0,0,0,0,0,0,0,0,0,0,0,0,0,0,0,0,0,0,0,0,0,0,0,0,0,0,0,0,0,0,0,0,0,0,0,0,0,0,0,0,0,0,0]
[null,null,null,4,"よくある",4,0,0,0,0,0,0,0,0,0,0,0,0,0,0,0,0,0,0,0,0,0,0,0,0,0,0,0,0,0,0,0,0,0,0,0,0,0,0,0,0,0,0,0,0,0,0,0,0,0,0,0,0,0,0,0,0,0,0,0,0,0,0,0,0,0,0,0,0,0,0,0,0,0,0,0,0,0,0]
[null,null,null,5,"いつもある",5,0,0,0,0,0,0,0,0,0,0,0,0,0,0,0,0,0,0,0,0,0,0,0,0,0,0,0,0,0,0,0,0,0,0,0,0,0,0,0,0,0,0,0,0,0,0,0,0,0,0,0,0,0,0,0,0,0,0,0,0,0,0,0,0,0,0,0,0,0,0,0,0,0,0,0,0,0,0]
["質問・アンケート","47\n(48)","インターネットのために、過去12か月間に以下のようなことが起きましたか？あてはまるものをすべて選んでください。（複数回答可）",1,"学校や職場の遅刻","－",0,0,0,0,0,0,0,0,0,0,0,0,0,0,0,0,0,0,0,0,0,0,0,0,0,0,0,0,0,0,0,0,0,0,0,0,0,0,0,0,0,0,0,0,0,0,0,0,0,0,0,0,0,0,0,0,0,0,0,0,0,0,0,0,0,0,0,0,0,0,0,0,0,0,0,0,0,0]
[null,null,null,2,"欠席や欠勤","－",0,0,0,0,0,0,0,0,0,0,0,0,0,0,0,0,0,0,0,0,0,0,0,0,0,0,0,0,0,0,0,0,0,0,0,0,0,0,0,0,0,0,0,0,0,0,0,0,0,0,0,0,0,0,0,0,0,0,0,0,0,0,0,0,0,0,0,0,0,0,0,0,0,0,0,0,0,0]
[null,null,null,3,"学校成績の低下や仕事のパフォーマンスの低下","－",0,0,0,0,0,0,0,0,0,0,0,0,0,0,0,0,0,0,0,0,0,0,0,0,0,0,0,0,0,0,0,0,0,0,0,0,0,0,0,0,0,0,0,0,0,0,0,0,0,0,0,0,0,0,0,0,0,0,0,0,0,0,0,0,0,0,0,0,0,0,0,0,0,0,0,0,0,0]
[null,null,null,4,"転校","－",0,0,0,0,0,0,0,0,0,0,0,0,0,0,0,0,0,0,0,0,0,0,0,0,0,0,0,0,0,0,0,0,0,0,0,0,0,0,0,0,0,0,0,0,0,0,0,0,0,0,0,0,0,0,0,0,0,0,0,0,0,0,0,0,0,0,0,0,0,0,0,0,0,0,0,0,0,0]
[null,null,null,5,"退学または退職","－",0,0,0,0,0,0,0,0,0,0,0,0,0,0,0,0,0,0,0,0,0,0,0,0,0,0,0,0,0,0,0,0,0,0,0,0,0,0,0,0,0,0,0,0,0,0,0,0,0,0,0,0,0,0,0,0,0,0,0,0,0,0,0,0,0,0,0,0,0,0,0,0,0,0,0,0,0,0]
[null,null,null,6,"現実の友人が減った","－",0,0,0,0,0,0,0,0,0,0,0,0,0,0,0,0,0,0,0,0,0,0,0,0,0,0,0,0,0,0,0,0,0,0,0,0,0,0,0,0,0,0,0,0,0,0,0,0,0,0,0,0,0,0,0,0,0,0,0,0,0,0,0,0,0,0,0,0,0,0,0,0,0,0,0,0,0,0]
[null,null,null,7,"家族との関係が悪くなった","－",0,0,0,0,0,0,0,0,0,0,0,0,0,0,0,0,0,0,0,0,0,0,0,0,0,0,0,0,0,0,0,0,0,0,0,0,0,0,0,0,0,0,0,0,0,0,0,0,0,0,0,0,0,0,0,0,0,0,0,0,0,0,0,0,0,0,0,0,0,0,0,0,0,0,0,0,0,0]
[null,null,null,8,"家で、物に当たったり、こわしたりした","－",0,0,0,0,0,0,0,0,0,0,0,0,0,0,0,0,0,0,0,0,0,0,0,0,0,0,0,0,0,0,0,0,0,0,0,0,0,0,0,0,0,0,0,0,0,0,0,0,0,0,0,0,0,0,0,0,0,0,0,0,0,0,0,0,0,0,0,0,0,0,0,0,0,0,0,0,0,0]
[null,null,null,9,"家族に暴力をふるった","－",0,0,0,0,0,0,0,0,0,0,0,0,0,0,0,0,0,0,0,0,0,0,0,0,0,0,0,0,0,0,0,0,0,0,0,0,0,0,0,0,0,0,0,0,0,0,0,0,0,0,0,0,0,0,0,0,0,0,0,0,0,0,0,0,0,0,0,0,0,0,0,0,0,0,0,0,0,0]
[null,null,null,10,"朝起きられなかった","－",0,0,0,0,0,0,0,0,0,0,0,0,0,0,0,0,0,0,0,0,0,0,0,0,0,0,0,0,0,0,0,0,0,0,0,0,0,0,0,0,0,0,0,0,0,0,0,0,0,0,0,0,0,0,0,0,0,0,0,0,0,0,0,0,0,0,0,0,0,0,0,0,0,0,0,0,0,0]
[null,null,null,11,"昼夜逆転またはその傾向","－",0,0,0,0,0,0,0,0,0,0,0,0,0,0,0,0,0,0,0,0,0,0,0,0,0,0,0,0,0,0,0,0,0,0,0,0,0,0,0,0,0,0,0,0,0,0,0,0,0,0,0,0,0,0,0,0,0,0,0,0,0,0,0,0,0,0,0,0,0,0,0,0,0,0,0,0,0,0]
[null,null,null,12,"家に引きこもっていた","－",0,0,0,0,0,0,0,0,0,0,0,0,0,0,0,0,0,0,0,0,0,0,0,0,0,0,0,0,0,0,0,0,0,0,0,0,0,0,0,0,0,0,0,0,0,0,0,0,0,0,0,0,0,0,0,0,0,0,0,0,0,0,0,0,0,0,0,0,0,0,0,0,0,0,0,0,0,0]
[null,null,null,13,"ゲーム課金が多く、家族やほかの人に注意された","－",0,0,0,0,0,0,0,0,0,0,0,0,0,0,0,0,0,0,0,0,0,0,0,0,0,0,0,0,0,0,0,0,0,0,0,0,0,0,0,0,0,0,0,0,0,0,0,0,0,0,0,0,0,0,0,0,0,0,0,0,0,0,0,0,0,0,0,0,0,0,0,0,0,0,0,0,0,0]
[null,null,null,14,"家族に内緒で、家のお金を使ったり、家族のカードを使った","－",0,0,0,0,0,0,0,0,0,0,0,0,0,0,0,0,0,0,0,0,0,0,0,0,0,0,0,0,0,0,0,0,0,0,0,0,0,0,0,0,0,0,0,0,0,0,0,0,0,0,0,0,0,0,0,0,0,0,0,0,0,0,0,0,0,0,0,0,0,0,0,0,0,0,0,0,0,0]
[null,null,null,15,"食事を定期的に摂らなかった","－",0,0,0,0,0,0,0,0,0,0,0,0,0,0,0,0,0,0,0,0,0,0,0,0,0,0,0,0,0,0,0,0,0,0,0,0,0,0,0,0,0,0,0,0,0,0,0,0,0,0,0,0,0,0,0,0,0,0,0,0,0,0,0,0,0,0,0,0,0,0,0,0,0,0,0,0,0,0]
[null,null,null,16,"その他","－",0,0,0,0,0,0,0,0,0,0,0,0,0,0,0,0,0,0,0,0,0,0,0,0,0,0,0,0,0,0,0,0,0,0,0,0,0,0,0,0,0,0,0,0,0,0,0,0,0,0,0,0,0,0,0,0,0,0,0,0,0,0,0,0,0,0,0,0,0,0,0,0,0,0,0,0,0,0]
[null,"48\n（49)","前の質問で掲げたトラブルについて、すでに解決している場合、どのようにして解決しましたか？",1,"自由記述","－",0,0,0,0,0,0,0,0,0,0,0,0,0,0,0,0,0,0,0,0,0,0,0,0,0,0,0,0,0,0,0,0,0,0,0,0,0,0,0,0,0,0,0,0,0,0,0,0,0,0,0,0,0,0,0,0,0,0,0,0,0,0,0,0,0,0,0,0,0,0,0,0,0,0,0,0,0,0]

{"sheet":"問題別集計","index":5,"n_rows":237,"n_cols":204,"rows_kept":237,"cut":false,"hidden":false,"merged":[[215,1,219,1],[215,2,219,2],[120,0,219,0],[220,2,235,2],[220,1,235,1],[220,0,236,0],[200,1,204,1],[200,2,204,2],[205,1,209,1],[205,2,209,2],[210,1,214,1],[210,2,214,2],[185,1,189,1],[185,2,189,2],[190,1,194,1],[190,2,194,2],[195,1,199,1],[195,2,199,2],[170,1,174,1],[170,2,174,2],[175,1,179,1],[175,2,179,2],[180,1,184,1],[180,2,184,2],[155,1,159,1],[155,2,159,2],[160,1,164,1],[160,2,164,2],[165,1,169,1],[165,2,169,2],[140,1,144,1],[140,2,144,2],[145,1,149,1],[145,2,149,2],[150,1,154,1],[150,2,154,2],[125,1,129,1],[125,2,129,2],[130,1,134,1],[130,2,134,2],[135,1,139,1],[135,2,139,2],[116,1,119,1],[116,2,119,2],[60,0,119,0],[120,2,124,2],[120,1,124,1],[104,1,107,1],[104,2,107,2],[108,1,111,1],[108,2,111,2],[112,1,115,1],[112,2,115,2],[92,1,95,1],[92,2,95,2],[96,1,99,1],[96,2,99,2],[100,1,103,1],[100,2,103,2],[80,1,83,1],[80,2,83,2],[84,1,87,1],[84,2,87,2],[88,1,91,1],[88,2,91,2],[68,1,71,1],[68,2,71,2],[72,1,75,1],[72,2,75,2],[76,1,79,1],[76,2,79,2],[4,84,4,107],[14,1,25,1],[14,2,25,2],[26,1,35,1],[26,2,35,2],[36,1,43,1],[3,0,6,0],[54,1,55,1],[44,1,45,1],[44,2,45,2],[36,2,43,2],[4,1,6,2],[44,0,59,0],[56,1,57,1],[58,1,59,1],[4,3,6,5],[3,1,3,5],[56,2,57,2],[58,2,59,2],[46,1,47,1],[48,1,49,1],[50,1,51,1],[52,1,53,1],[5,6,5,8],[5,135,5,137],[5,138,5,140],[5,141,5,143],[60,2,63,2],[60,1,63,1],[64,1,67,1],[64,2,67,2],[7,0,43,0],[7,1,13,1],[7,2,13,2],[5,108,5,110],[5,111,5,113],[5,114,5,116],[5,117,5,119],[5,120,5,122],[5,123,5,125],[5,126,5,128],[5,129,5,131],[5,132,5,134],[46,2,47,2],[48,2,49,2],[50,2,51,2],[52,2,53,2],[54,2,55,2],[4,108,4,122],[4,123,4,143],[3,52,3,83],[4,52,4,63],[4,64,4,72],[4,73,4,83],[5,52,5,59],[5,60,5,62],[5,63,6,63],[5,64,5,68],[5,69,5,71],[5,72,6,72],[5,73,5,79],[5,80,5,82],[5,83,6,83],[3,84,3,143],[5,84,5,86],[5,87,5,89],[5,90,5,92],[5,93,5,95],[5,96,5,98],[5,99,5,101],[5,102,5,104],[5,105,5,107],[5,9,5,12],[3,6,4,12],[3,13,4,19],[5,13,5,15],[5,16,5,19],[3,20,3,51],[5,20,5,27],[5,28,5,30],[5,32,5,36],[5,37,5,39],[5,41,5,47],[5,48,5,50],[5,51,6,51],[4,32,4,40],[5,40,6,40],[4,20,4,31],[4,41,4,51],[5,31,6,31],[3,144,3,203],[4,144,4,167],[4,168,4,182],[4,183,4,203],[5,144,5,146],[5,147,5,149],[5,150,5,152],[5,153,5,155],[5,156,5,158],[5,159,5,161],[5,162,5,164],[5,165,5,167],[5,168,5,170],[5,171,5,173],[5,174,5,176],[5,177,5,179],[5,180,5,182],[5,183,5,185],[5,186,5,188],[5,189,5,191],[5,192,5,194],[5,195,5,197],[5,198,5,200],[5,201,5,203]]}
[null,null,"集計単位"]
[null,null,"全体"]
[1,2,3,4,5,6,7,8,9,10,11,12,13,14,15,16,17,18,19,20,21,22,23,24,25,26,27,28,29,30,31,32,33,34,35,36,37,38,39,40,41,42,43,44,45,46,47,48,49,50,51,52,53,54,55,56,57,58,59,60,61,62,63,64,65,66,67,68,69,70,71,72,73,74,75,76,77,78,79,80,81,82,83,84,85,86,87,88,89,90,91,92,93,94,95,96,97,98,99,100,101,102,103,104,105,106,107,108,109,110,111,112,113,114,115,116,117,118,119,120,121,122,123,124,125,126,127,128,129,130,131,132,133,134,135,136,137,138,139,140,141,142,143,144,145,146,147,148,149,150,151,152,153,154,155,156,157,158,159,160,161,162,163,164,165,166,167,168,169,170,171,172,173,174,175,176,177,178,179,180,181,182,183,184,185,186,187,188,189,190,191,192,193,194,195,196,197,198,199,200,201,202,203,204]
["種類",null,null,null,null,null,"児童・生徒",null,null,null,null,null,null,"保護者",null,null,null,null,null,null,"児童・生徒",null,null,null,null,null,null,null,null,null,null,null,null,null,null,null,null,null,null,null,null,null,null,null,null,null,null,null,null,null,null,null,"保護者",null,null,null,null,null,null,null,null,null,null,null,null,null,null,null,null,null,null,null,null,null,null,null,null,null,null,null,null,null,null,null,"児童・生徒",null,null,null,null,null,null,null,null,null,null,null,null,null,null,null,null,null,null,null,null,null,null,null,null,null,null,null,null,null,null,null,null,null,null,null,null,null,null,null,null,null,null,null,null,null,null,null,null,null,null,null,null,null,null,null,null,null,null,null,"保護者"]
[null,"問題文",null,"選択項目",null,null,null,null,null,null,null,null,null,null,null,null,null,null,null,null,"小学校相当年齢",null,null,null,null,null,null,null,null,null,null,null,"中学生相当年齢",null,null,null,null,null,null,null,null,"高校生相当年齢以上",null,null,null,null,null,null,null,null,null,null,"小学校相当年齢",null,null,null,null,null,null,null,null,null,null,null,"中学生相当年齢",null,null,null,null,null,null,null,null,"高校生相当年齢以上",null,null,null,null,null,null,null,null,null,null,"小学校相当年齢",null,null,null,null,null,null,null,null,null,null,null,null,null,null,null,null,null,null,null,null,null,null,null,"中学校相当年齢",null,null,null,null,null,null,null,null,null,null,null,null,null,null,"高校生相当年齢以上",null,null,null,null,null,null,null,null,null,null,null,null,null,null,null,null,null,null,null,null,"小学校相当年齢",null,null,null,null,null,null,null,null,null,null,null,null,null,null,null,null,null,null,null,null,null,null,null,"中学校相当年齢",null,null,null,null,null,null,null,null,null,null,null,null,null,null,"高校生相当年齢以上"]
[null,null,null,null,null,null,"学年別",null,null,"性別",null,null,null,"学年別",null,null,"性別",null,null,null,"学年別",null,null,null,null,null,null,null,"性別",null,null,"計","学年別",null,null,null,null,"性別",null,null,"計","学年別",null,null,null,null,null,null,"性別",null,null,"計","学年別",null,null,null,null,null,null,null,"性別",null,null,"計","学年別",null,null,null,null,"性別",null,null,"計","学年別",null,null,null,null,null,null,"性別",null,null,"計","１年",null,null,"２年",null,null,"３年",null,null,"４年",null,null,"５年",null,null,"６年",null,null,"－",null,null,"フリー",null,null,"１年",null,null,"２年",null,null,"３年",null,null,"－",null,null,"フリー",null,null,"１年",null,null,"２年",null,null,"３年",null,null,"４年",null,null,"その他",null,null,"－",null,null,"フリー",null,null,"１年",null,null,"２年",null,null,"３年",null,null,"４年",null,null,"５年",null,null,"６年",null,null,"－",null,null,"フリー",null,null,"１年",null,null,"２年",null,null,"３年",null,null,"－",null,null,"フリー",null,null,"１年",null,null,"２年",null,null,"３年",null,null,"４年",null,null,"その他",null,null,"－",null,null,"フリー"]
[null,null,null,null,null,null,"小","中","高","男","女","ー","計","小","中","高","男","女","ー","計","１年","２年","３年","４年","５年","６年","－","フリー","男","女","－",null,"１年","２年","３年","－","フリー","男","女","－",null,"１年","２年","３年","４年","その他","－","フリー","男","女","－",null,"１年","２年","３年","４年","５年","６年","－","フリー","男","女","－",null,"１年","２年","３年","－","フリー","男","女","－",null,"１年","２年","３年","４年","その他","－","フリー","男","女","－",null,"男","女","－","男","女","－","男","女","－","男","女","－","男","女","－","男","女","－","男","女","－","男","女","－","男","女","－","男","女","－","男","女","－","男","女","－","男","女","－","男","女","－","男","女","－","男","女","－","男","女","－","男","女","－","男","女","－","男","女","－","男","女","－","男","女","－","男","女","－","男","女","－","男","女","－","男","女","－","男","女","－","男","女","－","男","女","－","男","女","－","男","女","－","男","女","－","男","女","－","男","女","－","男","女","－","男","女","－","男","女","－","男","女","－","男","女","－","男","女","－"]
["基本項目","1\n（1）","あなたは、平日（土日をのぞいて）１日に平均して、だいたい、どのくらいの時間、インターネットを使いますか？",1,"１時間未満","－",{"$f":"AF8","v":0},{"$f":"AO8","v":0},{"$f":"AZ8","v":0},{"$f":"AC8+AL8+AW8","v":0},{"$f":"AD8+AM8+AX8","v":0},{"$f":"AE8+AN8+AY8","v":0},{"$f":"SUM(J8:L8)","v":0},{"$f":"BL8","v":0},{"$f":"BU8","v":0},{"$f":"CF8","v":0},{"$f":"SUM(BI8,BR8,CC8)","v":0},{"$f":"SUM(BJ8,BS8,CD8)","v":0},0,{"$f":"SUM(Q8:S8)","v":0},{"$f":"CG8+CH8+CI8","v":0},{"$f":"CJ8+CK8+CL8","v":0},{"$f":"CM8+CN8+CO8","v":0},{"$f":"CP8+CQ8+CR8","v":0},{"$f":"CS8+CT8+CU8","v":0},{"$f":"CV8+CW8+CX8","v":0},{"$f":"CY8+CZ8+DA8","v":0},{"$f":"DB8+DC8+DD8","v":0},{"$f":"CG8+CJ8+CM8+CP8+CS8+CV8+CY8+DB8","v":0},{"$f":"CH8+CK8+CN8+CQ8+CT8+CW8+CZ8+DC8","v":0},{"$f":"CI8+CL8+CO8+CR8+CU8+CX8+DA8+DD8","v":0},{"$f":"AC8+AD8+AE8","v":0},{"$f":"DE8+DF8+DG8","v":0},{"$f":"DH8+DI8+DJ8","v":0},{"$f":"DK8+DL8+DM8","v":0},{"$f":"DN8+DO8+DP8","v":0},{"$f":"DQ8+DR8+DS8","v":0},{"$f":"DE8+DH8+DK8+DN8+DQ8","v":0},{"$f":"DF8+DI8+DL8+DO8+DR8","v":0},{"$f":"DG8+DJ8+DM8+DP8+DS8","v":0},{"$f":"SUM(AL8:AN8)","v":0},{"$f":"DT8+DU8+DV8","v":0},{"$f":"DW8+DX8+DY8","v":0},{"$f":"DZ8+EA8+EB8","v":0},{"$f":"EC8+ED8+EE8","v":0},{"$f":"EF8+EG8+EH8","v":0},{"$f":"EI8+EJ8+EK8","v":0},{"$f":"EL8+EM8+EN8","v":0},{"$f":"DT8+DW8+DZ8+EC8+EF8+EI8+EL8","v":0},{"$f":"DU8+DX8+EA8+ED8+EG8+EJ8+EM8","v":0},{"$f":"DV8+DY8+EB8+EE8+EH8+EK8+EN8","v":0},{"$f":"SUM(AW8:AY8)","v":0},{"$f":"SUM(EO8:EQ8)","v":0},{"$f":"SUM(ER8:ET8)","v":0},{"$f":"SUM(EU8:EW8)","v":0},{"$f":"SUM(EX8:EZ8)","v":0},{"$f":"SUM(FA8:FC8)","v":0},{"$f":"SUM(FD8:FF8)","v":0},{"$f":"SUM(FG8:FI8)","v":0},{"$f":"SUM(FJ8:FL8)","v":0},{"$f":"SUM(EO8,ER8,EU8,EX8,FA8,FD8,FG8,FJ8)","v":0},{"$f":"SUM(EP8,ES8,EV8,EY8,FB8,FE8,FH8,FK8)","v":0},{"$f":"SUM(EQ8,ET8,EW8,EZ8,FC8,FF8,FI8,FL8)","v":0},{"$f":"SUM(EO8:FL8)","v":0},{"$f":"SUM(FM8:FO8)","v":0},{"$f":"SUM(FP8:FR8)","v":0},{"$f":"SUM(FS8:FU8)","v":0},{"$f":"SUM(FV8:FX8)","v":0},{"$f":"SUM(FY8:GA8)","v":0},{"$f":"SUM(FM8,FP8,FS8,FV8,FY8)","v":0},{"$f":"SUM(FN8,FQ8,FT8,FW8,FZ8)","v":0},{"$f":"SUM(FO8,FR8,FU8,FX8,GA8)","v":0},{"$f":"SUM(FM8:GA8)","v":0},{"$f":"SUM(GB8:GD8)","v":0},{"$f":"SUM(GE8:GG8)","v":0},{"$f":"SUM(GH8:GJ8)","v":0},{"$f":"SUM(GK8:GM8)","v":0},{"$f":"SUM(GN8:GP8)","v":0},{"$f":"SUM(GQ8:GS8)","v":0},{"$f":"SUM(GT8:GV8)","v":0},{"$f":"SUM(GB8,GE8,GH8,GK8,GN8,GQ8,GT8)","v":0},{"$f":"SUM(GC8,GF8,GI8,GL8,GO8,GR8,GU8)","v":0},{"$f":"SUM(GD8,GG8,GJ8,GM8,GP8,GS8,GV8)","v":0},{"$f":"SUM(GB8:GV8)","v":0}]
[null,null,null,2,"１時間以上２時間未満","－",{"$f":"AF9","v":0},{"$f":"AO9","v":0},{"$f":"AZ9","v":0},{"$f":"AC9+AL9+AW9","v":0},{"$f":"AD9+AM9+AX9","v":0},{"$f":"AE9+AN9+AY9","v":0},{"$f":"SUM(J9:L9)","v":0},{"$f":"BL9","v":0},{"$f":"BU9","v":0},{"$f":"CF9","v":0},{"$f":"SUM(BI9,BR9,CC9)","v":0},{"$f":"SUM(BJ9,BS9,CD9)","v":0},{"$f":"SUM(BK9,BT9,CE9)","v":0},{"$f":"SUM(Q9:S9)","v":0},{"$f":"CG9+CH9+CI9","v":0},{"$f":"CJ9+CK9+CL9","v":0},{"$f":"CM9+CN9+CO9","v":0},{"$f":"CP9+CQ9+CR9","v":0},{"$f":"CS9+CT9+CU9","v":0},{"$f":"CV9+CW9+CX9","v":0},{"$f":"CY9+CZ9+DA9","v":0},{"$f":"DB9+DC9+DD9","v":0},{"$f":"CG9+CJ9+CM9+CP9+CS9+CV9+CY9+DB9","v":0},{"$f":"CH9+CK9+CN9+CQ9+CT9+CW9+CZ9+DC9","v":0},{"$f":"CI9+CL9+CO9+CR9+CU9+CX9+DA9+DD9","v":0},{"$f":"AC9+AD9+AE9","v":0},{"$f":"DE9+DF9+DG9","v":0},{"$f":"DH9+DI9+DJ9","v":0},{"$f":"DK9+DL9+DM9","v":0},{"$f":"DN9+DO9+DP9","v":0},{"$f":"DQ9+DR9+DS9","v":0},{"$f":"DE9+DH9+DK9+DN9+DQ9","v":0},{"$f":"DF9+DI9+DL9+DO9+DR9","v":0},{"$f":"DG9+DJ9+DM9+DP9+DS9","v":0},{"$f":"SUM(AL9:AN9)","v":0},{"$f":"DT9+DU9+DV9","v":0},{"$f":"DW9+DX9+DY9","v":0},{"$f":"DZ9+EA9+EB9","v":0},{"$f":"EC9+ED9+EE9","v":0},{"$f":"EF9+EG9+EH9","v":0},{"$f":"EI9+EJ9+EK9","v":0},{"$f":"EL9+EM9+EN9","v":0},{"$f":"DT9+DW9+DZ9+EC9+EF9+EI9+EL9","v":0},{"$f":"DU9+DX9+EA9+ED9+EG9+EJ9+EM9","v":0},{"$f":"DV9+DY9+EB9+EE9+EH9+EK9+EN9","v":0},{"$f":"SUM(AW9:AY9)","v":0},{"$f":"SUM(EO9:EQ9)","v":0},{"$f":"SUM(ER9:ET9)","v":0},{"$f":"SUM(EU9:EW9)","v":0},{"$f":"SUM(EX9:EZ9)","v":0},{"$f":"SUM(FA9:FC9)","v":0},{"$f":"SUM(FD9:FF9)","v":0},{"$f":"SUM(FG9:FI9)","v":0},{"$f":"SUM(FJ9:FL9)","v":0},{"$f":"SUM(EO9,ER9,EU9,EX9,FA9,FD9,FG9,FJ9)","v":0},{"$f":"SUM(EP9,ES9,EV9,EY9,FB9,FE9,FH9,FK9)","v":0},{"$f":"SUM(EQ9,ET9,EW9,EZ9,FC9,FF9,FI9,FL9)","v":0},{"$f":"SUM(EO9:FL9)","v":0},{"$f":"SUM(FM9:FO9)","v":0},{"$f":"SUM(FP9:FR9)","v":0},{"$f":"SUM(FS9:FU9)","v":0},{"$f":"SUM(FV9:FX9)","v":0},{"$f":"SUM(FY9:GA9)","v":0},{"$f":"SUM(FM9,FP9,FS9,FV9,FY9)","v":0},{"$f":"SUM(FN9,FQ9,FT9,FW9,FZ9)","v":0},{"$f":"SUM(FO9,FR9,FU9,FX9,GA9)","v":0},{"$f":"SUM(FM9:GA9)","v":0},{"$f":"SUM(GB9:GD9)","v":0},{"$f":"SUM(GE9:GG9)","v":0},{"$f":"SUM(GH9:GJ9)","v":0},{"$f":"SUM(GK9:GM9)","v":0},{"$f":"SUM(GN9:GP9)","v":0},{"$f":"SUM(GQ9:GS9)","v":0},{"$f":"SUM(GT9:GV9)","v":0},{"$f":"SUM(GB9,GE9,GH9,GK9,GN9,GQ9,GT9)","v":0},{"$f":"SUM(GC9,GF9,GI9,GL9,GO9,GR9,GU9)","v":0},{"$f":"SUM(GD9,GG9,GJ9,GM9,GP9,GS9,GV9)","v":0},{"$f":"SUM(GB9:GV9)","v":0}]
[null,null,null,3,"２時間以上３時間未満","－",0,0,0,0,0,0,0,0,0,0,0,0,0,0,0,0,0,0,0,0,0,0,0,0,0,0,0,0,0,0,0,0,0,0,0,0,0,0,0,0,0,0,0,0,0,0,0,0,0,0,0,0,0,0,0,0,0,0,0,0,0,0,0,0,0,0,0,0,0,0,0,0,0,0,0,0,0,0]
[null,null,null,4,"３時間以上４時間未満","－",0,0,0,0,0,0,0,0,0,0,0,0,0,0,0,0,0,0,0,0,0,0,0,0,0,0,0,0,0,0,0,0,0,0,0,0,0,0,0,0,0,0,0,0,0,0,0,0,0,0,0,0,0,0,0,0,0,0,0,0,0,0,0,0,0,0,0,0,0,0,0,0,0,0,0,0,0,0]
[null,null,null,5,"４時間以上５時間未満","－",0,0,0,0,0,0,0,0,0,0,0,0,0,0,0,0,0,0,0,0,0,0,0,0,0,0,0,0,0,0,0,0,0,0,0,0,0,0,0,0,0,0,0,0,0,0,0,0,0,0,0,0,0,0,0,0,0,0,0,0,0,0,0,0,0,0,0,0,0,0,0,0,0,0,0,0,0,0]
[null,null,null,6,"５時間以上６時間未満","－",0,0,0,0,0,0,0,0,0,0,0,0,0,0,0,0,0,0,0,0,0,0,0,0,0,0,0,0,0,0,0,0,0,0,0,0,0,0,0,0,0,0,0,0,0,0,0,0,0,0,0,0,0,0,0,0,0,0,0,0,0,0,0,0,0,0,0,0,0,0,0,0,0,0,0,0,0,0]
[null,null,null,7,"６時間以上","－",0,0,0,0,0,0,0,0,0,0,0,0,0,0,0,0,0,0,0,0,0,0,0,0,0,0,0,0,0,0,0,0,0,0,0,0,0,0,0,0,0,0,0,0,0,0,0,0,0,0,0,0,0,0,0,0,0,0,0,0,0,0,0,0,0,0,0,0,0,0,0,0,0,0,0,0,0,0]
[null,"2\n（2）","あなたはインターネットを使って何をしていますか？あてはまるものを、すべて選んでください。（複数回答可）",1,"コミュニケーション（メール・メッセンジャー・SNSなど）","－",0,0,0,0,0,0,0,0,0,0,0,0,0,0,0,0,0,0,0,0,0,0,0,0,0,0,0,0,0,0,0,0,0,0,0,0,0,0,0,0,0,0,0,0,0,0,0,0,0,0,0,0,0,0,0,0,0,0,0,0,0,0,0,0,0,0,0,0,0,0,0,0,0,0,0,0,0,0]
[null,null,null,2,"ニュース","－",0,0,0,0,0,0,0,0,0,0,0,0,0,0,0,0,0,0,0,0,0,0,0,0,0,0,0,0,0,0,0,0,0,0,0,0,0,0,0,0,0,0,0,0,0,0,0,0,0,0,0,0,0,0,0,0,0,0,0,0,0,0,0,0,0,0,0,0,0,0,0,0,0,0,0,0,0,0]
[null,null,null,3,"情報検索","－",0,0,0,0,0,0,0,0,0,0,0,0,0,0,0,0,0,0,0,0,0,0,0,0,0,0,0,0,0,0,0,0,0,0,0,0,0,0,0,0,0,0,0,0,0,0,0,0,0,0,0,0,0,0,0,0,0,0,0,0,0,0,0,0,0,0,0,0,0,0,0,0,0,0,0,0,0,0]
[null,null,null,4,"地図・ナビゲーション","－",0,0,0,0,0,0,0,0,0,0,0,0,0,0,0,0,0,0,0,0,0,0,0,0,0,0,0,0,0,0,0,0,0,0,0,0,0,0,0,0,0,0,0,0,0,0,0,0,0,0,0,0,0,0,0,0,0,0,0,0,0,0,0,0,0,0,0,0,0,0,0,0,0,0,0,0,0,0]
[null,null,null,5,"音楽視聴","－",0,0,0,0,0,0,0,0,0,0,0,0,0,0,0,0,0,0,0,0,0,0,0,0,0,0,0,0,0,0,0,0,0,0,0,0,0,0,0,0,0,0,0,0,0,0,0,0,0,0,0,0,0,0,0,0,0,0,0,0,0,0,0,0,0,0,0,0,0,0,0,0,0,0,0,0,0,0]
[null,null,null,6,"動画視聴","－",0,0,0,0,0,0,0,0,0,0,0,0,0,0,0,0,0,0,0,0,0,0,0,0,0,0,0,0,0,0,0,0,0,0,0,0,0,0,0,0,0,0,0,0,0,0,0,0,0,0,0,0,0,0,0,0,0,0,0,0,0,0,0,0,0,0,0,0,0,0,0,0,0,0,0,0,0,0]
[null,null,null,7,"電子書籍","－",0,0,0,0,0,0,0,0,0,0,0,0,0,0,0,0,0,0,0,0,0,0,0,0,0,0,0,0,0,0,0,0,0,0,0,0,0,0,0,0,0,0,0,0,0,0,0,0,0,0,0,0,0,0,0,0,0,0,0,0,0,0,0,0,0,0,0,0,0,0,0,0,0,0,0,0,0,0]
[null,null,null,8,"ゲーム","－",0,0,0,0,0,0,0,0,0,0,0,0,0,0,0,0,0,0,0,0,0,0,0,0,0,0,0,0,0,0,0,0,0,0,0,0,0,0,0,0,0,0,0,0,0,0,0,0,0,0,0,0,0,0,0,0,0,0,0,0,0,0,0,0,0,0,0,0,0,0,0,0,0,0,0,0,0,0]
[null,null,null,9,"ショッピング・オークション","－",0,0,0,0,0,0,0,0,0,0,0,0,0,0,0,0,0,0,0,0,0,0,0,0,0,0,0,0,0,0,0,0,0,0,0,0,0,0,0,0,0,0,0,0,0,0,0,0,0,0,0,0,0,0,0,0,0,0,0,0,0,0,0,0,0,0,0,0,0,0,0,0,0,0,0,0,0,0]
[null,null,null,10,"勉強・学習・知育アプリやサービス","－",0,0,0,0,0,0,0,0,0,0,0,0,0,0,0,0,0,0,0,0,0,0,0,0,0,0,0,0,0,0,0,0,0,0,0,0,0,0,0,0,0,0,0,0,0,0,0,0,0,0,0,0,0,0,0,0,0,0,0,0,0,0,0,0,0,0,0,0,0,0,0,0,0,0,0,0,0,0]
[null,null,null,11,"その他","－",0,0,0,0,0,0,0,0,0,0,0,0,0,0,0,0,0,0,0,0,0,0,0,0,0,0,0,0,0,0,0,0,0,0,0,0,0,0,0,0,0,0,0,0,0,0,0,0,0,0,0,0,0,0,0,0,0,0,0,0,0,0,0,0,0,0,0,0,0,0,0,0,0,0,0,0,0,0]
[null,null,null,12,"わからない","－",0,0,0,0,0,0,0,0,0,0,0,0,0,0,0,0,0,0,0,0,0,0,0,0,0,0,0,0,0,0,0,0,0,0,0,0,0,0,0,0,0,0,0,0,0,0,0,0,0,0,0,0,0,0,0,0,0,0,0,0,0,0,0,0,0,0,0,0,0,0,0,0,0,0,0,0,0,0]
[null,"3\n（3）","あなたの家では、インターネットの使い方について、何か家庭でルールを決めていますか？あなたの家庭で決めている「インターネットの使い方のルール」にあてはまるものを、すべて選んでください。（複数回答可）",1,"利用する時間","－",0,0,0,0,0,0,0,0,0,0,0,0,0,0,0,0,0,0,0,0,0,0,0,0,0,0,0,0,0,0,0,0,0,0,0,0,0,0,0,0,0,0,0,0,0,0,0,0,0,0,0,0,0,0,0,0,0,0,0,0,0,0,0,0,0,0,0,0,0,0,0,0,0,0,0,0,0,0]
[null,null,null,2,"利用する場所","－",0,0,0,0,0,0,0,0,0,0,0,0,0,0,0,0,0,0,0,0,0,0,0,0,0,0,0,0,0,0,0,0,0,0,0,0,0,0,0,0,0,0,0,0,0,0,0,0,0,0,0,0,0,0,0,0,0,0,0,0,0,0,0,0,0,0,0,0,0,0,0,0,0,0,0,0,0,0]
[null,null,null,3,"メールやメッセージを送る相手","－",0,0,0,0,0,0,0,0,0,0,0,0,0,0,0,0,0,0,0,0,0,0,0,0,0,0,0,0,0,0,0,0,0,0,0,0,0,0,0,0,0,0,0,0,0,0,0,0,0,0,0,0,0,0,0,0,0,0,0,0,0,0,0,0,0,0,0,0,0,0,0,0,0,0,0,0,0,0]
[null,null,null,4,"利用するサイトやアプリの内容","－",0,0,0,0,0,0,0,0,0,0,0,0,0,0,0,0,0,0,0,0,0,0,0,0,0,0,0,0,0,0,0,0,0,0,0,0,0,0,0,0,0,0,0,0,0,0,0,0,0,0,0,0,0,0,0,0,0,0,0,0,0,0,0,0,0,0,0,0,0,0,0,0,0,0,0,0,0,0]
[null,null,null,5,"送信・投稿する内容","－",0,0,0,0,0,0,0,0,0,0,0,0,0,0,0,0,0,0,0,0,0,0,0,0,0,0,0,0,0,0,0,0,0,0,0,0,0,0,0,0,0,0,0,0,0,0,0,0,0,0,0,0,0,0,0,0,0,0,0,0,0,0,0,0,0,0,0,0,0,0,0,0,0,0,0,0,0,0]
[null,null,null,6,"利用者情報が漏れないようにしている","－",0,0,0,0,0,0,0,0,0,0,0,0,0,0,0,0,0,0,0,0,0,0,0,0,0,0,0,0,0,0,0,0,0,0,0,0,0,0,0,0,0,0,0,0,0,0,0,0,0,0,0,0,0,0,0,0,0,0,0,0,0,0,0,0,0,0,0,0,0,0,0,0,0,0,0,0,0,0]
[null,null,null,7,"ゲームやアプリの利用料金の上限や課金の利用方法","－",0,0,0,0,0,0,0,0,0,0,0,0,0,0,0,0,0,0,0,0,0,0,0,0,0,0,0,0,0,0,0,0,0,0,0,0,0,0,0,0,0,0,0,0,0,0,0,0,0,0,0,0,0,0,0,0,0,0,0,0,0,0,0,0,0,0,0,0,0,0,0,0,0,0,0,0,0,0]
[null,null,null,8,"困ったときにはすぐに保護者に相談する","－",0,0,0,0,0,0,0,0,0,0,0,0,0,0,0,0,0,0,0,0,0,0,0,0,0,0,0,0,0,0,0,0,0,0,0,0,0,0,0,0,0,0,0,0,0,0,0,0,0,0,0,0,0,0,0,0,0,0,0,0,0,0,0,0,0,0,0,0,0,0,0,0,0,0,0,0,0,0]
[null,null,null,9,"使用する際のルールは特にない","－",0,0,0,0,0,0,0,0,0,0,0,0,0,0,0,0,0,0,0,0,0,0,0,0,0,0,0,0,0,0,0,0,0,0,0,0,0,0,0,0,0,0,0,0,0,0,0,0,0,0,0,0,0,0,0,0,0,0,0,0,0,0,0,0,0,0,0,0,0,0,0,0,0,0,0,0,0,0]
[null,null,null,10,"その他","－",0,0,0,0,0,0,0,0,0,0,0,0,0,0,0,0,0,0,0,0,0,0,0,0,0,0,0,0,0,0,0,0,0,0,0,0,0,0,0,0,0,0,0,0,0,0,0,0,0,0,0,0,0,0,0,0,0,0,0,0,0,0,0,0,0,0,0,0,0,0,0,0,0,0,0,0,0,0]
[null,"－\n(4)","【保護者のみ】\n　あなた（保護者自身）は、子供が安全に安心してインターネットを利用することができるよう、保護者としてどのような取組をされていますか？あてはまるものをすべて選んでください。（複数回答可）",1,"大人の目の届く範囲で使わせている","－",0,0,0,0,0,0,0,0,0,0,0,0,0,0,0,0,0,0,0,0,0,0,0,0,0,0,0,0,0,0,0,0,0,0,0,0,0,0,0,0,0,0,0,0,0,0,0,0,0,0,0,0,0,0,0,0,0,0,0,0,0,0,0,0,0,0,0,0,0,0,0,0,0,0,0,0,0,0]
[null,null,null,2,"利用する際に時間や場所を指定している","－",0,0,0,0,0,0,0,0,0,0,0,0,0,0,0,0,0,0,0,0,0,0,0,0,0,0,0,0,0,0,0,0,0,0,0,0,0,0,0,0,0,0,0,0,0,0,0,0,0,0,0,0,0,0,0,0,0,0,0,0,0,0,0,0,0,0,0,0,0,0,0,0,0,0,0,0,0,0]
[null,null,null,3,"成長段階に合わせて、子供向けの機器やサービスを使わせている","－",0,0,0,0,0,0,0,0,0,0,0,0,0,0,0,0,0,0,0,0,0,0,0,0,0,0,0,0,0,0,0,0,0,0,0,0,0,0,0,0,0,0,0,0,0,0,0,0,0,0,0,0,0,0,0,0,0,0,0,0,0,0,0,0,0,0,0,0,0,0,0,0,0,0,0,0,0,0]
[null,null,null,4,"普段の会話やコミュニケーションの中で、子供のインターネット利用状況を把握している","－",0,0,0,0,0,0,0,0,0,0,0,0,0,0,0,0,0,0,0,0,0,0,0,0,0,0,0,0,0,0,0,0,0,0,0,0,0,0,0,0,0,0,0,0,0,0,0,0,0,0,0,0,0,0,0,0,0,0,0,0,0,0,0,0,0,0,0,0,0,0,0,0,0,0,0,0,0,0]
[null,null,null,5,"フィルタリングを使っている","－",0,0,0,0,0,0,0,0,0,0,0,0,0,0,0,0,0,0,0,0,0,0,0,0,0,0,0,0,0,0,0,0,0,0,0,0,0,0,0,0,0,0,0,0,0,0,0,0,0,0,0,0,0,0,0,0,0,0,0,0,0,0,0,0,0,0,0,0,0,0,0,0,0,0,0,0,0,0]
[null,null,null,6,"その他の方法で管理を行っている","－",0,0,0,0,0,0,0,0,0,0,0,0,0,0,0,0,0,0,0,0,0,0,0,0,0,0,0,0,0,0,0,0,0,0,0,0,0,0,0,0,0,0,0,0,0,0,0,0,0,0,0,0,0,0,0,0,0,0,0,0,0,0,0,0,0,0,0,0,0,0,0,0,0,0,0,0,0,0]
[null,null,null,7,"子どものインターネット利用の管理は行っていない","－",0,0,0,0,0,0,0,0,0,0,0,0,0,0,0,0,0,0,0,0,0,0,0,0,0,0,0,0,0,0,0,0,0,0,0,0,0,0,0,0,0,0,0,0,0,0,0,0,0,0,0,0,0,0,0,0,0,0,0,0,0,0,0,0,0,0,0,0,0,0,0,0,0,0,0,0,0,0]
[null,null,null,8,"わからない","－",0,0,0,0,0,0,0,0,0,0,0,0,0,0,0,0,0,0,0,0,0,0,0,0,0,0,0,0,0,0,0,0,0,0,0,0,0,0,0,0,0,0,0,0,0,0,0,0,0,0,0,0,0,0,0,0,0,0,0,0,0,0,0,0,0,0,0,0,0,0,0,0,0,0,0,0,0,0]
["DQ","4\n(5)","あなたはインターネットに夢中になっていると感じていますか？",1,"はい",1,0,0,0,0,0,0,0,0,0,0,0,0,0,0,0,0,0,0,0,0,0,0,0,0,0,0,0,0,0,0,0,0,0,0,0,0,0,0,0,0,0,0,0,0,0,0,0,0,0,0,0,0,0,0,0,0,0,0,0,0,0,0,0,0,0,0,0,0,0,0,0,0,0,0,0,0,0,0]
[null,null,null,2,"いいえ","0点",0,0,0,0,0,0,0,0,0,0,0,0,0,0,0,0,0,0,0,0,0,0,0,0,0,0,0,0,0,0,0,0,0,0,0,0,0,0,0,0,0,0,0,0,0,0,0,0,0,0,0,0,0,0,0,0,0,0,0,0,0,0,0,0,0,0,0,0,0,0,0,0,0,0,0,0,0,0]
[null,"5\n(6)","あなたは、満足を得るために、インターネットを使う時間をだんだん長くしていかなければならないと感じていますか？",1,"はい",1,0,0,0,0,0,0,0,0,0,0,0,0,0,0,0,0,0,0,0,0,0,0,0,0,0,0,0,0,0,0,0,0,0,0,0,0,0,0,0,0,0,0,0,0,0,0,0,0,0,0,0,0,0,0,0,0,0,0,0,0,0,0,0,0,0,0,0,0,0,0,0,0,0,0,0,0,0,0]
[null,null,null,2,"いいえ","0点",0,0,0,0,0,0,0,0,0,0,0,0,0,0,0,0,0,0,0,0,0,0,0,0,0,0,0,0,0,0,0,0,0,0,0,0,0,0,0,0,0,0,0,0,0,0,0,0,0,0,0,0,0,0,0,0,0,0,0,0,0,0,0,0,0,0,0,0,0,0,0,0,0,0,0,0,0,0]
[null,"6\n(7)","あなたは、インターネット使用時間を制限したり、時間を減らしたり、完全にやめようとしたが、うまくいかなかったことがたびたびありましたか？",1,"はい",1,0,0,0,0,0,0,0,0,0,0,0,0,0,0,0,0,0,0,0,0,0,0,0,0,0,0,0,0,0,0,0,0,0,0,0,0,0,0,0,0,0,0,0,0,0,0,0,0,0,0,0,0,0,0,0,0,0,0,0,0,0,0,0,0,0,0,0,0,0,0,0,0,0,0,0,0,0,0]
[null,null,null,2,"いいえ","0点",0,0,0,0,0,0,0,0,0,0,0,0,0,0,0,0,0,0,0,0,0,0,0,0,0,0,0,0,0,0,0,0,0,0,0,0,0,0,0,0,0,0,0,0,0,0,0,0,0,0,0,0,0,0,0,0,0,0,0,0,0,0,0,0,0,0,0,0,0,0,0,0,0,0,0,0,0,0]
[null,"7\n(8)","インターネットの使用時間を短くしたり、完全にやめようとした時、落ち着かなかったり、不機嫌や落ち込み、またはイライラなどを感じましたか？\n",1,"はい",1,0,0,0,0,0,0,0,0,0,0,0,0,0,0,0,0,0,0,0,0,0,0,0,0,0,0,0,0,0,0,0,0,0,0,0,0,0,0,0,0,0,0,0,0,0,0,0,0,0,0,0,0,0,0,0,0,0,0,0,0,0,0,0,0,0,0,0,0,0,0,0,0,0,0,0,0,0,0]
[null,null,null,2,"いいえ","0点",0,0,0,0,0,0,0,0,0,0,0,0,0,0,0,0,0,0,0,0,0,0,0,0,0,0,0,0,0,0,0,0,0,0,0,0,0,0,0,0,0,0,0,0,0,0,0,0,0,0,0,0,0,0,0,0,0,0,0,0,0,0,0,0,0,0,0,0,0,0,0,0,0,0,0,0,0,0]
[null,"8\n(9)","あなたは、使いはじめに意図した（※）よりも長い時間インターネットを接続した状態でいますか？",1,"はい",1,0,0,0,0,0,0,0,0,0,0,0,0,0,0,0,0,0,0,0,0,0,0,0,0,0,0,0,0,0,0,0,0,0,0,0,0,0,0,0,0,0,0,0,0,0,0,0,0,0,0,0,0,0,0,0,0,0,0,0,0,0,0,0,0,0,0,0,0,0,0,0,0,0,0,0,0,0,0]
[null,null,null,2,"いいえ","0点",0,0,0,0,0,0,0,0,0,0,0,0,0,0,0,0,0,0,0,0,0,0,0,0,0,0,0,0,0,0,0,0,0,0,0,0,0,0,0,0,0,0,0,0,0,0,0,0,0,0,0,0,0,0,0,0,0,0,0,0,0,0,0,0,0,0,0,0,0,0,0,0,0,0,0,0,0,0]
[null,"9\n(10)","あなたは、インターネットのために大切な人間関係、学校のことや、部活動のことを台無しにしたり、あやうくするようなことがありましたか？",1,"はい",1,0,0,0,0,0,0,0,0,0,0,0,0,0,0,0,0,0,0,0,0,0,0,0,0,0,0,0,0,0,0,0,0,0,0,0,0,0,0,0,0,0,0,0,0,0,0,0,0,0,0,0,0,0,0,0,0,0,0,0,0,0,0,0,0,0,0,0,0,0,0,0,0,0,0,0,0,0,0]
[null,null,null,2,"いいえ","0点",0,0,0,0,0,0,0,0,0,0,0,0,0,0,0,0,0,0,0,0,0,0,0,0,0,0,0,0,0,0,0,0,0,0,0,0,0,0,0,0,0,0,0,0,0,0,0,0,0,0,0,0,0,0,0,0,0,0,0,0,0,0,0,0,0,0,0,0,0,0,0,0,0,0,0,0,0,0]
[null,"10\n(11)","あなたは、インターネットへの熱中のしすぎをかくすために、家族、学校の先生やその他の人たちにうそをついたことがありましたか？",1,"はい",1,0,0,0,0,0,0,0,0,0,0,0,0,0,0,0,0,0,0,0,0,0,0,0,0,0,0,0,0,0,0,0,0,0,0,0,0,0,0,0,0,0,0,0,0,0,0,0,0,0,0,0,0,0,0,0,0,0,0,0,0,0,0,0,0,0,0,0,0,0,0,0,0,0,0,0,0,0,0]
[null,null,null,2,"いいえ","0点",0,0,0,0,0,0,0,0,0,0,0,0,0,0,0,0,0,0,0,0,0,0,0,0,0,0,0,0,0,0,0,0,0,0,0,0,0,0,0,0,0,0,0,0,0,0,0,0,0,0,0,0,0,0,0,0,0,0,0,0,0,0,0,0,0,0,0,0,0,0,0,0,0,0,0,0,0,0]
[null,"11\n(12)","あなたは、問題から逃げるために、または、絶望的な気持ち、罪悪感、不安、落ち込みなどといった いやな気持ちから逃げるために、インターネットを使いますか？",1,"はい",1,0,0,0,0,0,0,0,0,0,0,0,0,0,0,0,0,0,0,0,0,0,0,0,0,0,0,0,0,0,0,0,0,0,0,0,0,0,0,0,0,0,0,0,0,0,0,0,0,0,0,0,0,0,0,0,0,0,0,0,0,0,0,0,0,0,0,0,0,0,0,0,0,0,0,0,0,0,0]
[null,null,null,2,"いいえ","0点",0,0,0,0,0,0,0,0,0,0,0,0,0,0,0,0,0,0,0,0,0,0,0,0,0,0,0,0,0,0,0,0,0,0,0,0,0,0,0,0,0,0,0,0,0,0,0,0,0,0,0,0,0,0,0,0,0,0,0,0,0,0,0,0,0,0,0,0,0,0,0,0,0,0,0,0,0,0]
["Kスケール","12\n（13）","インターネットの使用で、学校の成績が落ちた。",1,"全くあてはまらない",1,0,0,0,0,0,0,0,0,0,0,0,0,0,0,0,0,0,0,0,0,0,0,0,0,0,0,0,0,0,0,0,0,0,0,0,0,0,0,0,0,0,0,0,0,0,0,0,0,0,0,0,0,0,0,0,0,0,0,0,0,0,0,0,0,0,0,0,0,0,0,0,0,0,0,0,0,0,0]
[null,null,null,2,"あてはまらない",2,0,0,0,0,0,0,0,0,0,0,0,0,0,0,0,0,0,0,0,0,0,0,0,0,0,0,0,0,0,0,0,0,0,0,0,0,0,0,0,0,0,0,0,0,0,0,0,0,0,0,0,0,0,0,0,0,0,0,0,0,0,0,0,0,0,0,0,0,0,0,0,0,0,0,0,0,0,0]
[null,null,null,3,"あてはまる",3,0,0,0,0,0,0,0,0,0,0,0,0,0,0,0,0,0,0,0,0,0,0,0,0,0,0,0,0,0,0,0,0,0,0,0,0,0,0,0,0,0,0,0,0,0,0,0,0,0,0,0,0,0,0,0,0,0,0,0,0,0,0,0,0,0,0,0,0,0,0,0,0,0,0,0,0,0,0]
[null,null,null,4,"非常にあてはまる",4,0,0,0,0,0,0,0,0,0,0,0,0,0,0,0,0,0,0,0,0,0,0,0,0,0,0,0,0,0,0,0,0,0,0,0,0,0,0,0,0,0,0,0,0,0,0,0,0,0,0,0,0,0,0,0,0,0,0,0,0,0,0,0,0,0,0,0,0,0,0,0,0,0,0,0,0,0,0]
[null,"13\n（14）","インターネットをしている間は、よりいきいきしてくる。",1,"全くあてはまらない",1,0,0,0,0,0,0,0,0,0,0,0,0,0,0,0,0,0,0,0,0,0,0,0,0,0,0,0,0,0,0,0,0,0,0,0,0,0,0,0,0,0,0,0,0,0,0,0,0,0,0,0,0,0,0,0,0,0,0,0,0,0,0,0,0,0,0,0,0,0,0,0,0,0,0,0,0,0,0]
[null,null,null,2,"あてはまらない",2,0,0,0,0,0,0,0,0,0,0,0,0,0,0,0,0,0,0,0,0,0,0,0,0,0,0,0,0,0,0,0,0,0,0,0,0,0,0,0,0,0,0,0,0,0,0,0,0,0,0,0,0,0,0,0,0,0,0,0,0,0,0,0,0,0,0,0,0,0,0,0,0,0,0,0,0,0,0]
[null,null,null,3,"あてはまる",3,0,0,0,0,0,0,0,0,0,0,0,0,0,0,0,0,0,0,0,0,0,0,0,0,0,0,0,0,0,0,0,0,0,0,0,0,0,0,0,0,0,0,0,0,0,0,0,0,0,0,0,0,0,0,0,0,0,0,0,0,0,0,0,0,0,0,0,0,0,0,0,0,0,0,0,0,0,0]
[null,null,null,4,"非常にあてはまる",4,0,0,0,0,0,0,0,0,0,0,0,0,0,0,0,0,0,0,0,0,0,0,0,0,0,0,0,0,0,0,0,0,0,0,0,0,0,0,0,0,0,0,0,0,0,0,0,0,0,0,0,0,0,0,0,0,0,0,0,0,0,0,0,0,0,0,0,0,0,0,0,0,0,0,0,0,0,0]
[null,"14\n（15）","インターネットができないと、どんなことが起きているのか気になってほかのことができない。",1,"全くあてはまらない",1,0,0,0,0,0,0,0,0,0,0,0,0,0,0,0,0,0,0,0,0,0,0,0,0,0,0,0,0,0,0,0,0,0,0,0,0,0,0,0,0,0,0,0,0,0,0,0,0,0,0,0,0,0,0,0,0,0,0,0,0,0,0,0,0,0,0,0,0,0,0,0,0,0,0,0,0,0,0]
[null,null,null,2,"あてはまらない",2,0,0,0,0,0,0,0,0,0,0,0,0,0,0,0,0,0,0,0,0,0,0,0,0,0,0,0,0,0,0,0,0,0,0,0,0,0,0,0,0,0,0,0,0,0,0,0,0,0,0,0,0,0,0,0,0,0,0,0,0,0,0,0,0,0,0,0,0,0,0,0,0,0,0,0,0,0,0]
[null,null,null,3,"あてはまる",3,0,0,0,0,0,0,0,0,0,0,0,0,0,0,0,0,0,0,0,0,0,0,0,0,0,0,0,0,0,0,0,0,0,0,0,0,0,0,0,0,0,0,0,0,0,0,0,0,0,0,0,0,0,0,0,0,0,0,0,0,0,0,0,0,0,0,0,0,0,0,0,0,0,0,0,0,0,0]
[null,null,null,4,"非常にあてはまる",4,0,0,0,0,0,0,0,0,0,0,0,0,0,0,0,0,0,0,0,0,0,0,0,0,0,0,0,0,0,0,0,0,0,0,0,0,0,0,0,0,0,0,0,0,0,0,0,0,0,0,0,0,0,0,0,0,0,0,0,0,0,0,0,0,0,0,0,0,0,0,0,0,0,0,0,0,0,0]
[null,"15\n（16）","“やめなくては”と思いながら、いつもインターネットを続けてしまう。",1,"全くあてはまらない",1,{"$f":"AF73","v":0},{"$f":"AO73","v":0},{"$f":"AZ73","v":0},{"$f":"AC73+AL73+AW73","v":0},{"$f":"AD73+AM73+AX73","v":0},{"$f":"AE73+AN73+AY73","v":0},{"$f":"SUM(J73:L73)","v":0},{"$f":"BL73","v":0},{"$f":"BU73","v":0},{"$f":"CF73","v":0},{"$f":"SUM(BI73,BR73,CC73)","v":0},{"$f":"SUM(BJ73,BS73,CD73)","v":0},{"$f":"SUM(BK73,BT73,CE73)","v":0},{"$f":"SUM(Q73:S73)","v":0},{"$f":"CG73+CH73+CI73","v":0},{"$f":"CJ73+CK73+CL73","v":0},{"$f":"CM73+CN73+CO73","v":0},{"$f":"CP73+CQ73+CR73","v":0},{"$f":"CS73+CT73+CU73","v":0},{"$f":"CV73+CW73+CX73","v":0},{"$f":"CY73+CZ73+DA73","v":0},{"$f":"DB73+DC73+DD73","v":0},{"$f":"CG73+CJ73+CM73+CP73+CS73+CV73+CY73+DB73","v":0},{"$f":"CH73+CK73+CN73+CQ73+CT73+CW73+CZ73+DC73","v":0},{"$f":"CI73+CL73+CO73+CR73+CU73+CX73+DA73+DD73","v":0},{"$f":"AC73+AD73+AE73","v":0},{"$f":"DE73+DF73+DG73","v":0},{"$f":"DH73+DI73+DJ73","v":0},{"$f":"DK73+DL73+DM73","v":0},{"$f":"DN73+DO73+DP73","v":0},{"$f":"DQ73+DR73+DS73","v":0},{"$f":"DE73+DH73+DK73+DN73+DQ73","v":0},{"$f":"DF73+DI73+DL73+DO73+DR73","v":0},{"$f":"DG73+DJ73+DM73+DP73+DS73","v":0},{"$f":"SUM(AL73:AN73)","v":0},{"$f":"DT73+DU73+DV73","v":0},{"$f":"DW73+DX73+DY73","v":0},{"$f":"DZ73+EA73+EB73","v":0},{"$f":"EC73+ED73+EE73","v":0},{"$f":"EF73+EG73+EH73","v":0},{"$f":"EI73+EJ73+EK73","v":0},{"$f":"EL73+EM73+EN73","v":0},{"$f":"DT73+DW73+DZ73+EC73+EF73+EI73+EL73","v":0},{"$f":"DU73+DX73+EA73+ED73+EG73+EJ73+EM73","v":0},{"$f":"DV73+DY73+EB73+EE73+EH73+EK73+EN73","v":0},{"$f":"SUM(AW73:AY73)","v":0},{"$f":"SUM(EO73:EQ73)","v":0},{"$f":"SUM(ER73:ET73)","v":0},{"$f":"SUM(EU73:EW73)","v":0},{"$f":"SUM(EX73:EZ73)","v":0},{"$f":"SUM(FA73:FC73)","v":0},{"$f":"SUM(FD73:FF73)","v":0},{"$f":"SUM(FG73:FI73)","v":0},{"$f":"SUM(FJ73:FL73)","v":0},{"$f":"SUM(EO73,ER73,EU73,EX73,FA73,FD73,FG73,FJ73)","v":0},{"$f":"SUM(EP73,ES73,EV73,EY73,FB73,FE73,FH73,FK73)","v":0},{"$f":"SUM(EQ73,ET73,EW73,EZ73,FC73,FF73,FI73,FL73)","v":0},{"$f":"SUM(EO73:FL73)","v":0},{"$f":"SUM(FM73:FO73)","v":0},{"$f":"SUM(FP73:FR73)","v":0},{"$f":"SUM(FS73:FU73)","v":0},{"$f":"SUM(FV73:FX73)","v":0},{"$f":"SUM(FY73:GA73)","v":0},{"$f":"SUM(FM73,FP73,FS73,FV73,FY73)","v":0},{"$f":"SUM(FN73,FQ73,FT73,FW73,FZ73)","v":0},{"$f":"SUM(FO73,FR73,FU73,FX73,GA73)","v":0},{"$f":"SUM(FM73:GA73)","v":0},{"$f":"SUM(GB73:GD73)","v":0},{"$f":"SUM(GE73:GG73)","v":0},{"$f":"SUM(GH73:GJ73)","v":0},{"$f":"SUM(GK73:GM73)","v":0},{"$f":"SUM(GN73:GP73)","v":0},{"$f":"SUM(GQ73:GS73)","v":0},{"$f":"SUM(GT73:GV73)","v":0},{"$f":"SUM(GB73,GE73,GH73,GK73,GN73,GQ73,GT73)","v":0},{"$f":"SUM(GC73,GF73,GI73,GL73,GO73,GR73,GU73)","v":0},{"$f":"SUM(GD73,GG73,GJ73,GM73,GP73,GS73,GV73)","v":0},{"$f":"SUM(GB73:GV73)","v":0}]
[null,null,null,2,"あてはまらない",2,0,0,0,0,0,0,0,0,0,0,0,0,0,0,0,0,0,0,0,0,0,0,0,0,0,0,0,0,0,0,0,0,0,0,0,0,0,0,0,0,0,0,0,0,0,0,0,0,0,0,0,0,0,0,0,0,0,0,0,0,0,0,0,0,0,0,0,0,0,0,0,0,0,0,0,0,0,0]
[null,null,null,3,"あてはまる",3,0,0,0,0,0,0,0,0,0,0,0,0,0,0,0,0,0,0,0,0,0,0,0,0,0,0,0,0,0,0,0,0,0,0,0,0,0,0,0,0,0,0,0,0,0,0,0,0,0,0,0,0,0,0,0,0,0,0,0,0,0,0,0,0,0,0,0,0,0,0,0,0,0,0,0,0,0,0]
[null,null,null,4,"非常にあてはまる",4,0,0,0,0,0,0,0,0,0,0,0,0,0,0,0,0,0,0,0,0,0,0,0,0,0,0,0,0,0,0,0,0,0,0,0,0,0,0,0,0,0,0,0,0,0,0,0,0,0,0,0,0,0,0,0,0,0,0,0,0,0,0,0,0,0,0,0,0,0,0,0,0,0,0,0,0,0,0]
[null,"16\n（17）","インターネットをしているために疲れて授業時間に寝る。",1,"全くあてはまらない",1,0,0,0,0,0,0,0,0,0,0,0,0,0,0,0,0,0,0,0,0,0,0,0,0,0,0,0,0,0,0,0,0,0,0,0,0,0,0,0,0,0,0,0,0,0,0,0,0,0,0,0,0,0,0,0,0,0,0,0,0,0,0,0,0,0,0,0,0,0,0,0,0,0,0,0,0,0,0]
[null,null,null,2,"あてはまらない",2,0,0,0,0,0,0,0,0,0,0,0,0,0,0,0,0,0,0,0,0,0,0,0,0,0,0,0,0,0,0,0,0,0,0,0,0,0,0,0,0,0,0,0,0,0,0,0,0,0,0,0,0,0,0,0,0,0,0,0,0,0,0,0,0,0,0,0,0,0,0,0,0,0,0,0,0,0,0]
[null,null,null,3,"あてはまる",3,0,0,0,0,0,0,0,0,0,0,0,0,0,0,0,0,0,0,0,0,0,0,0,0,0,0,0,0,0,0,0,0,0,0,0,0,0,0,0,0,0,0,0,0,0,0,0,0,0,0,0,0,0,0,0,0,0,0,0,0,0,0,0,0,0,0,0,0,0,0,0,0,0,0,0,0,0,0]
[null,null,null,4,"非常にあてはまる",4,0,0,0,0,0,0,0,0,0,0,0,0,0,0,0,0,0,0,0,0,0,0,0,0,0,0,0,0,0,0,0,0,0,0,0,0,0,0,0,0,0,0,0,0,0,0,0,0,0,0,0,0,0,0,0,0,0,0,0,0,0,0,0,0,0,0,0,0,0,0,0,0,0,0,0,0,0,0]
[null,"17\n（18）","インターネットをしていて、計画したことがまともにできなかったことがある。",1,"全くあてはまらない",1,0,0,0,0,0,0,0,0,0,0,0,0,0,0,0,0,0,0,0,0,0,0,0,0,0,0,0,0,0,0,0,0,0,0,0,0,0,0,0,0,0,0,0,0,0,0,0,0,0,0,0,0,0,0,0,0,0,0,0,0,0,0,0,0,0,0,0,0,0,0,0,0,0,0,0,0,0,0]
[null,null,null,2,"あてはまらない",2,0,0,0,0,0,0,0,0,0,0,0,0,0,0,0,0,0,0,0,0,0,0,0,0,0,0,0,0,0,0,0,0,0,0,0,0,0,0,0,0,0,0,0,0,0,0,0,0,0,0,0,0,0,0,0,0,0,0,0,0,0,0,0,0,0,0,0,0,0,0,0,0,0,0,0,0,0,0]
[null,null,null,3,"あてはまる",3,0,0,0,0,0,0,0,0,0,0,0,0,0,0,0,0,0,0,0,0,0,0,0,0,0,0,0,0,0,0,0,0,0,0,0,0,0,0,0,0,0,0,0,0,0,0,0,0,0,0,0,0,0,0,0,0,0,0,0,0,0,0,0,0,0,0,0,0,0,0,0,0,0,0,0,0,0,0]
[null,null,null,4,"非常にあてはまる",4,0,0,0,0,0,0,0,0,0,0,0,0,0,0,0,0,0,0,0,0,0,0,0,0,0,0,0,0,0,0,0,0,0,0,0,0,0,0,0,0,0,0,0,0,0,0,0,0,0,0,0,0,0,0,0,0,0,0,0,0,0,0,0,0,0,0,0,0,0,0,0,0,0,0,0,0,0,0]
[null,"18\n（19）","インターネットをすると気分がよくなり、すぐに興奮する。",1,"全くあてはまらない",1,0,0,0,0,0,0,0,0,0,0,0,0,0,0,0,0,0,0,0,0,0,0,0,0,0,0,0,0,0,0,0,0,0,0,0,0,0,0,0,0,0,0,0,0,0,0,0,0,0,0,0,0,0,0,0,0,0,0,0,0,0,0,0,0,0,0,0,0,0,0,0,0,0,0,0,0,0,0]
[null,null,null,2,"あてはまらない",2,0,0,0,0,0,0,0,0,0,0,0,0,0,0,0,0,0,0,0,0,0,0,0,0,0,0,0,0,0,0,0,0,0,0,0,0,0,0,0,0,0,0,0,0,0,0,0,0,0,0,0,0,0,0,0,0,0,0,0,0,0,0,0,0,0,0,0,0,0,0,0,0,0,0,0,0,0,0]
[null,null,null,3,"あてはまる",3,0,0,0,0,0,0,0,0,0,0,0,0,0,0,0,0,0,0,0,0,0,0,0,0,0,0,0,0,0,0,0,0,0,0,0,0,0,0,0,0,0,0,0,0,0,0,0,0,0,0,0,0,0,0,0,0,0,0,0,0,0,0,0,0,0,0,0,0,0,0,0,0,0,0,0,0,0,0]
[null,null,null,4,"非常にあてはまる",4,0,0,0,0,0,0,0,0,0,0,0,0,0,0,0,0,0,0,0,0,0,0,0,0,0,0,0,0,0,0,0,0,0,0,0,0,0,0,0,0,0,0,0,0,0,0,0,0,0,0,0,0,0,0,0,0,0,0,0,0,0,0,0,0,0,0,0,0,0,0,0,0,0,0,0,0,0,0]
[null,"19\n（20）","インターネットをしているとき、思い通りにならないとイライラしてくる。",1,"全くあてはまらない",1,0,0,0,0,0,0,0,0,0,0,0,0,0,0,0,0,0,0,0,0,0,0,0,0,0,0,0,0,0,0,0,0,0,0,0,0,0,0,0,0,0,0,0,0,0,0,0,0,0,0,0,0,0,0,0,0,0,0,0,0,0,0,0,0,0,0,0,0,0,0,0,0,0,0,0,0,0,0]
[null,null,null,2,"あてはまらない",2,0,0,0,0,0,0,0,0,0,0,0,0,0,0,0,0,0,0,0,0,0,0,0,0,0,0,0,0,0,0,0,0,0,0,0,0,0,0,0,0,0,0,0,0,0,0,0,0,0,0,0,0,0,0,0,0,0,0,0,0,0,0,0,0,0,0,0,0,0,0,0,0,0,0,0,0,0,0]
[null,null,null,3,"あてはまる",3,0,0,0,0,0,0,0,0,0,0,0,0,0,0,0,0,0,0,0,0,0,0,0,0,0,0,0,0,0,0,0,0,0,0,0,0,0,0,0,0,0,0,0,0,0,0,0,0,0,0,0,0,0,0,0,0,0,0,0,0,0,0,0,0,0,0,0,0,0,0,0,0,0,0,0,0,0,0]
[null,null,null,4,"非常にあてはまる",4,0,0,0,0,0,0,0,0,0,0,0,0,0,0,0,0,0,0,0,0,0,0,0,0,0,0,0,0,0,0,0,0,0,0,0,0,0,0,0,0,0,0,0,0,0,0,0,0,0,0,0,0,0,0,0,0,0,0,0,0,0,0,0,0,0,0,0,0,0,0,0,0,0,0,0,0,0,0]
[null,"20\n（21）","インターネットの使用時間をみずから調節することができる。",1,"全くあてはまらない",4,0,0,0,0,0,0,0,0,0,0,0,0,0,0,0,0,0,0,0,0,0,0,0,0,0,0,0,0,0,0,0,0,0,0,0,0,0,0,0,0,0,0,0,0,0,0,0,0,0,0,0,0,0,0,0,0,0,0,0,0,0,0,0,0,0,0,0,0,0,0,0,0,0,0,0,0,0,0]
[null,null,null,2,"あてはまらない",3,0,0,0,0,0,0,0,0,0,0,0,0,0,0,0,0,0,0,0,0,0,0,0,0,0,0,0,0,0,0,0,0,0,0,0,0,0,0,0,0,0,0,0,0,0,0,0,0,0,0,0,0,0,0,0,0,0,0,0,0,0,0,0,0,0,0,0,0,0,0,0,0,0,0,0,0,0,0]
[null,null,null,3,"あてはまる",2,0,0,0,0,0,0,0,0,0,0,0,0,0,0,0,0,0,0,0,0,0,0,0,0,0,0,0,0,0,0,0,0,0,0,0,0,0,0,0,0,0,0,0,0,0,0,0,0,0,0,0,0,0,0,0,0,0,0,0,0,0,0,0,0,0,0,0,0,0,0,0,0,0,0,0,0,0,0]
[null,null,null,4,"非常にあてはまる",1,0,0,0,0,0,0,0,0,0,0,0,0,0,0,0,0,0,0,0,0,0,0,0,0,0,0,0,0,0,0,0,0,0,0,0,0,0,0,0,0,0,0,0,0,0,0,0,0,0,0,0,0,0,0,0,0,0,0,0,0,0,0,0,0,0,0,0,0,0,0,0,0,0,0,0,0,0,0]
[null,"21\n（22）","疲れるくらいインターネットをすることはない。",1,"全くあてはまらない",1,0,0,0,0,0,0,0,0,0,0,0,0,0,0,0,0,0,0,0,0,0,0,0,0,0,0,0,0,0,0,0,0,0,0,0,0,0,0,0,0,0,0,0,0,0,0,0,0,0,0,0,0,0,0,0,0,0,0,0,0,0,0,0,0,0,0,0,0,0,0,0,0,0,0,0,0,0,0]
[null,null,null,2,"あてはまらない",2,0,0,0,0,0,0,0,0,0,0,0,0,0,0,0,0,0,0,0,0,0,0,0,0,0,0,0,0,0,0,0,0,0,0,0,0,0,0,0,0,0,0,0,0,0,0,0,0,0,0,0,0,0,0,0,0,0,0,0,0,0,0,0,0,0,0,0,0,0,0,0,0,0,0,0,0,0,0]
[null,null,null,3,"あてはまる",3,0,0,0,0,0,0,0,0,0,0,0,0,0,0,0,0,0,0,0,0,0,0,0,0,0,0,0,0,0,0,0,0,0,0,0,0,0,0,0,0,0,0,0,0,0,0,0,0,0,0,0,0,0,0,0,0,0,0,0,0,0,0,0,0,0,0,0,0,0,0,0,0,0,0,0,0,0,0]
[null,null,null,4,"非常にあてはまる",4,0,0,0,0,0,0,0,0,0,0,0,0,0,0,0,0,0,0,0,0,0,0,0,0,0,0,0,0,0,0,0,0,0,0,0,0,0,0,0,0,0,0,0,0,0,0,0,0,0,0,0,0,0,0,0,0,0,0,0,0,0,0,0,0,0,0,0,0,0,0,0,0,0,0,0,0,0,0]
[null,"22\n（23）","インターネットができないとそわそわと落ち着かなくなり焦ってくる。",1,"全くあてはまらない",1,0,0,0,0,0,0,0,0,0,0,0,0,0,0,0,0,0,0,0,0,0,0,0,0,0,0,0,0,0,0,0,0,0,0,0,0,0,0,0,0,0,0,0,0,0,0,0,0,0,0,0,0,0,0,0,0,0,0,0,0,0,0,0,0,0,0,0,0,0,0,0,0,0,0,0,0,0,0]
[null,null,null,2,"あてはまらない",2,0,0,0,0,0,0,0,0,0,0,0,0,0,0,0,0,0,0,0,0,0,0,0,0,0,0,0,0,0,0,0,0,0,0,0,0,0,0,0,0,0,0,0,0,0,0,0,0,0,0,0,0,0,0,0,0,0,0,0,0,0,0,0,0,0,0,0,0,0,0,0,0,0,0,0,0,0,0]
[null,null,null,3,"あてはまる",3,0,0,0,0,0,0,0,0,0,0,0,0,0,0,0,0,0,0,0,0,0,0,0,0,0,0,0,0,0,0,0,0,0,0,0,0,0,0,0,0,0,0,0,0,0,0,0,0,0,0,0,0,0,0,0,0,0,0,0,0,0,0,0,0,0,0,0,0,0,0,0,0,0,0,0,0,0,0]
[null,null,null,4,"非常にあてはまる",4,0,0,0,0,0,0,0,0,0,0,0,0,0,0,0,0,0,0,0,0,0,0,0,0,0,0,0,0,0,0,0,0,0,0,0,0,0,0,0,0,0,0,0,0,0,0,0,0,0,0,0,0,0,0,0,0,0,0,0,0,0,0,0,0,0,0,0,0,0,0,0,0,0,0,0,0,0,0]
[null,"23\n（24）","一度インターネットを始めると、最初に心に決めたよりも長時間インターネットをしてしまう。",1,"全くあてはまらない",1,0,0,0,0,0,0,0,0,0,0,0,0,0,0,0,0,0,0,0,0,0,0,0,0,0,0,0,0,0,0,0,0,0,0,0,0,0,0,0,0,0,0,0,0,0,0,0,0,0,0,0,0,0,0,0,0,0,0,0,0,0,0,0,0,0,0,0,0,0,0,0,0,0,0,0,0,0,0]
[null,null,null,2,"あてはまらない",2,0,0,0,0,0,0,0,0,0,0,0,0,0,0,0,0,0,0,0,0,0,0,0,0,0,0,0,0,0,0,0,0,0,0,0,0,0,0,0,0,0,0,0,0,0,0,0,0,0,0,0,0,0,0,0,0,0,0,0,0,0,0,0,0,0,0,0,0,0,0,0,0,0,0,0,0,0,0]
[null,null,null,3,"あてはまる",3,0,0,0,0,0,0,0,0,0,0,0,0,0,0,0,0,0,0,0,0,0,0,0,0,0,0,0,0,0,0,0,0,0,0,0,0,0,0,0,0,0,0,0,0,0,0,0,0,0,0,0,0,0,0,0,0,0,0,0,0,0,0,0,0,0,0,0,0,0,0,0,0,0,0,0,0,0,0]
[null,null,null,4,"非常にあてはまる",4,0,0,0,0,0,0,0,0,0,0,0,0,0,0,0,0,0,0,0,0,0,0,0,0,0,0,0,0,0,0,0,0,0,0,0,0,0,0,0,0,0,0,0,0,0,0,0,0,0,0,0,0,0,0,0,0,0,0,0,0,0,0,0,0,0,0,0,0,0,0,0,0,0,0,0,0,0,0]
[null,"24\n（25）","インターネットをしたとしても、計画したことはきちんとおこなう。",1,"全くあてはまらない",4,0,0,0,0,0,0,0,0,0,0,0,0,0,0,0,0,0,0,0,0,0,0,0,0,0,0,0,0,0,0,0,0,0,0,0,0,0,0,0,0,0,0,0,0,0,0,0,0,0,0,0,0,0,0,0,0,0,0,0,0,0,0,0,0,0,0,0,0,0,0,0,0,0,0,0,0,0,0]
[null,null,null,2,"あてはまらない",3,0,0,0,0,0,0,0,0,0,0,0,0,0,0,0,0,0,0,0,0,0,0,0,0,0,0,0,0,0,0,0,0,0,0,0,0,0,0,0,0,0,0,0,0,0,0,0,0,0,0,0,0,0,0,0,0,0,0,0,0,0,0,0,0,0,0,0,0,0,0,0,0,0,0,0,0,0,0]
[null,null,null,3,"あてはまる",2,0,0,0,0,0,0,0,0,0,0,0,0,0,0,0,0,0,0,0,0,0,0,0,0,0,0,0,0,0,0,0,0,0,0,0,0,0,0,0,0,0,0,0,0,0,0,0,0,0,0,0,0,0,0,0,0,0,0,0,0,0,0,0,0,0,0,0,0,0,0,0,0,0,0,0,0,0,0]
[null,null,null,4,"非常にあてはまる",1,0,0,0,0,0,0,0,0,0,0,0,0,0,0,0,0,0,0,0,0,0,0,0,0,0,0,0,0,0,0,0,0,0,0,0,0,0,0,0,0,0,0,0,0,0,0,0,0,0,0,0,0,0,0,0,0,0,0,0,0,0,0,0,0,0,0,0,0,0,0,0,0,0,0,0,0,0,0]
[null,"25\n（26）","インターネットができなくても、不安ではない。",1,"全くあてはまらない",4,0,0,0,0,0,0,0,0,0,0,0,0,0,0,0,0,0,0,0,0,0,0,0,0,0,0,0,0,0,0,0,0,0,0,0,0,0,0,0,0,0,0,0,0,0,0,0,0,0,0,0,0,0,0,0,0,0,0,0,0,0,0,0,0,0,0,0,0,0,0,0,0,0,0,0,0,0,0]
[null,null,null,2,"あてはまらない",3,0,0,0,0,0,0,0,0,0,0,0,0,0,0,0,0,0,0,0,0,0,0,0,0,0,0,0,0,0,0,0,0,0,0,0,0,0,0,0,0,0,0,0,0,0,0,0,0,0,0,0,0,0,0,0,0,0,0,0,0,0,0,0,0,0,0,0,0,0,0,0,0,0,0,0,0,0,0]
[null,null,null,3,"あてはまる",2,0,0,0,0,0,0,0,0,0,0,0,0,0,0,0,0,0,0,0,0,0,0,0,0,0,0,0,0,0,0,0,0,0,0,0,0,0,0,0,0,0,0,0,0,0,0,0,0,0,0,0,0,0,0,0,0,0,0,0,0,0,0,0,0,0,0,0,0,0,0,0,0,0,0,0,0,0,0]
[null,null,null,4,"非常にあてはまる",1,0,0,0,0,0,0,0,0,0,0,0,0,0,0,0,0,0,0,0,0,0,0,0,0,0,0,0,0,0,0,0,0,0,0,0,0,0,0,0,0,0,0,0,0,0,0,0,0,0,0,0,0,0,0,0,0,0,0,0,0,0,0,0,0,0,0,0,0,0,0,0,0,0,0,0,0,0,0]
[null,"26\n（27）","インターネットの使用を減らさなければならないといつも考えている。",1,"全くあてはまらない",1,0,0,0,0,0,0,0,0,0,0,0,0,0,0,0,0,0,0,0,0,0,0,0,0,0,0,0,0,0,0,0,0,0,0,0,0,0,0,0,0,0,0,0,0,0,0,0,0,0,0,0,0,0,0,0,0,0,0,0,0,0,0,0,0,0,0,0,0,0,0,0,0,0,0,0,0,0,0]
[null,null,null,2,"あてはまらない",2,0,0,0,0,0,0,0,0,0,0,0,0,0,0,0,0,0,0,0,0,0,0,0,0,0,0,0,0,0,0,0,0,0,0,0,0,0,0,0,0,0,0,0,0,0,0,0,0,0,0,0,0,0,0,0,0,0,0,0,0,0,0,0,0,0,0,0,0,0,0,0,0,0,0,0,0,0,0]
[null,null,null,3,"あてはまる",3,0,0,0,0,0,0,0,0,0,0,0,0,0,0,0,0,0,0,0,0,0,0,0,0,0,0,0,0,0,0,0,0,0,0,0,0,0,0,0,0,0,0,0,0,0,0,0,0,0,0,0,0,0,0,0,0,0,0,0,0,0,0,0,0,0,0,0,0,0,0,0,0,0,0,0,0,0,0]
[null,null,null,4,"非常にあてはまる",4,0,0,0,0,0,0,0,0,0,0,0,0,0,0,0,0,0,0,0,0,0,0,0,0,0,0,0,0,0,0,0,0,0,0,0,0,0,0,0,0,0,0,0,0,0,0,0,0,0,0,0,0,0,0,0,0,0,0,0,0,0,0,0,0,0,0,0,0,0,0,0,0,0,0,0,0,0,0]
["ＩＡＴ","27\n(28)","気がつくと思っていたより、長い時間インターネットをしていることがありますか？",1,"全くない",1,0,0,0,0,0,0,0,0,0,0,0,0,0,0,0,0,0,0,0,0,0,0,0,0,0,0,0,0,0,0,0,0,0,0,0,0,0,0,0,0,0,0,0,0,0,0,0,0,0,0,0,0,0,0,0,0,0,0,0,0,0,0,0,0,0,0,0,0,0,0,0,0,0,0,0,0,0,0]
[null,null,null,2,"まれにある",2,0,0,0,0,0,0,0,0,0,0,0,0,0,0,0,0,0,0,0,0,0,0,0,0,0,0,0,0,0,0,0,0,0,0,0,0,0,0,0,0,0,0,0,0,0,0,0,0,0,0,0,0,0,0,0,0,0,0,0,0,0,0,0,0,0,0,0,0,0,0,0,0,0,0,0,0,0,0]
[null,null,null,3,"時々ある",3,0,0,0,0,0,0,0,0,0,0,0,0,0,0,0,0,0,0,0,0,0,0,0,0,0,0,0,0,0,0,0,0,0,0,0,0,0,0,0,0,0,0,0,0,0,0,0,0,0,0,0,0,0,0,0,0,0,0,0,0,0,0,0,0,0,0,0,0,0,0,0,0,0,0,0,0,0,0]
[null,null,null,4,"よくある",4,0,0,0,0,0,0,0,0,0,0,0,0,0,0,0,0,0,0,0,0,0,0,0,0,0,0,0,0,0,0,0,0,0,0,0,0,0,0,0,0,0,0,0,0,0,0,0,0,0,0,0,0,0,0,0,0,0,0,0,0,0,0,0,0,0,0,0,0,0,0,0,0,0,0,0,0,0,0]
[null,null,null,5,"いつもある",5,0,0,0,0,0,0,0,0,0,0,0,0,0,0,0,0,0,0,0,0,0,0,0,0,0,0,0,0,0,0,0,0,0,0,0,0,0,0,0,0,0,0,0,0,0,0,0,0,0,0,0,0,0,0,0,0,0,0,0,0,0,0,0,0,0,0,0,0,0,0,0,0,0,0,0,0,0,0]
[null,"28\n(29)","インターネットをする時間を増やすために、家庭での仕事や役割をおろそかにすることがありますか？",1,"全くない",1,0,0,0,0,0,0,0,0,0,0,0,0,0,0,0,0,0,0,0,0,0,0,0,0,0,0,0,0,0,0,0,0,0,0,0,0,0,0,0,0,0,0,0,0,0,0,0,0,0,0,0,0,0,0,0,0,0,0,0,0,0,0,0,0,0,0,0,0,0,0,0,0,0,0,0,0,0,0]
[null,null,null,2,"まれにある",2,0,0,0,0,0,0,0,0,0,0,0,0,0,0,0,0,0,0,0,0,0,0,0,0,0,0,0,0,0,0,0,0,0,0,0,0,0,0,0,0,0,0,0,0,0,0,0,0,0,0,0,0,0,0,0,0,0,0,0,0,0,0,0,0,0,0,0,0,0,0,0,0,0,0,0,0,0,0]
[null,null,null,3,"時々ある",3,0,0,0,0,0,0,0,0,0,0,0,0,0,0,0,0,0,0,0,0,0,0,0,0,0,0,0,0,0,0,0,0,0,0,0,0,0,0,0,0,0,0,0,0,0,0,0,0,0,0,0,0,0,0,0,0,0,0,0,0,0,0,0,0,0,0,0,0,0,0,0,0,0,0,0,0,0,0]
[null,null,null,4,"よくある",4,0,0,0,0,0,0,0,0,0,0,0,0,0,0,0,0,0,0,0,0,0,0,0,0,0,0,0,0,0,0,0,0,0,0,0,0,0,0,0,0,0,0,0,0,0,0,0,0,0,0,0,0,0,0,0,0,0,0,0,0,0,0,0,0,0,0,0,0,0,0,0,0,0,0,0,0,0,0]
[null,null,null,5,"いつもある",5,0,0,0,0,0,0,0,0,0,0,0,0,0,0,0,0,0,0,0,0,0,0,0,0,0,0,0,0,0,0,0,0,0,0,0,0,0,0,0,0,0,0,0,0,0,0,0,0,0,0,0,0,0,0,0,0,0,0,0,0,0,0,0,0,0,0,0,0,0,0,0,0,0,0,0,0,0,0]
[null,"29\n(30)","友人と過ごすよりも、インターネットを選ぶことがありますか？",1,"全くない",1,0,0,0,0,0,0,0,0,0,0,0,0,0,0,0,0,0,0,0,0,0,0,0,0,0,0,0,0,0,0,0,0,0,0,0,0,0,0,0,0,0,0,0,0,0,0,0,0,0,0,0,0,0,0,0,0,0,0,0,0,0,0,0,0,0,0,0,0,0,0,0,0,0,0,0,0,0,0]
[null,null,null,2,"まれにある",2,0,0,0,0,0,0,0,0,0,0,0,0,0,0,0,0,0,0,0,0,0,0,0,0,0,0,0,0,0,0,0,0,0,0,0,0,0,0,0,0,0,0,0,0,0,0,0,0,0,0,0,0,0,0,0,0,0,0,0,0,0,0,0,0,0,0,0,0,0,0,0,0,0,0,0,0,0,0]
[null,null,null,3,"時々ある",3,0,0,0,0,0,0,0,0,0,0,0,0,0,0,0,0,0,0,0,0,0,0,0,0,0,0,0,0,0,0,0,0,0,0,0,0,0,0,0,0,0,0,0,0,0,0,0,0,0,0,0,0,0,0,0,0,0,0,0,0,0,0,0,0,0,0,0,0,0,0,0,0,0,0,0,0,0,0]
[null,null,null,4,"よくある",4,0,0,0,0,0,0,0,0,0,0,0,0,0,0,0,0,0,0,0,0,0,0,0,0,0,0,0,0,0,0,0,0,0,0,0,0,0,0,0,0,0,0,0,0,0,0,0,0,0,0,0,0,0,0,0,0,0,0,0,0,0,0,0,0,0,0,0,0,0,0,0,0,0,0,0,0,0,0]
[null,null,null,5,"いつもある",5,0,0,0,0,0,0,0,0,0,0,0,0,0,0,0,0,0,0,0,0,0,0,0,0,0,0,0,0,0,0,0,0,0,0,0,0,0,0,0,0,0,0,0,0,0,0,0,0,0,0,0,0,0,0,0,0,0,0,0,0,0,0,0,0,0,0,0,0,0,0,0,0,0,0,0,0,0,0]
[null,"30\n(31)","インターネットで新しい仲間を作ることがありますか？",1,"全くない",1,0,0,0,0,0,0,0,0,0,0,0,0,0,0,0,0,0,0,0,0,0,0,0,0,0,0,0,0,0,0,0,0,0,0,0,0,0,0,0,0,0,0,0,0,0,0,0,0,0,0,0,0,0,0,0,0,0,0,0,0,0,0,0,0,0,0,0,0,0,0,0,0,0,0,0,0,0,0]
[null,null,null,2,"まれにある",2,{"$f":"AF137","v":0},{"$f":"AO137","v":0},{"$f":"AZ137","v":0},{"$f":"AC137+AL137+AW137","v":0},{"$f":"AD137+AM137+AX137","v":0},{"$f":"AE137+AN137+AY137","v":0},{"$f":"SUM(J137:L137)","v":0},{"$f":"BL137","v":0},{"$f":"BU137","v":0},{"$f":"CF137","v":0},{"$f":"SUM(BI137,BR137,CC137)","v":0},{"$f":"SUM(BJ137,BS137,CD137)","v":0},{"$f":"SUM(BK137,BT137,CE137)","v":0},{"$f":"SUM(Q137:S137)","v":0},{"$f":"CG137+CH137+CI137","v":0},{"$f":"CJ137+CK137+CL137","v":0},{"$f":"CM137+CN137+CO137","v":0},{"$f":"CP137+CQ137+CR137","v":0},{"$f":"CS137+CT137+CU137","v":0},{"$f":"CV137+CW137+CX137","v":0},{"$f":"CY137+CZ137+DA137","v":0},{"$f":"DB137+DC137+DD137","v":0},{"$f":"CG137+CJ137+CM137+CP137+CS137+CV137+CY137+DB137","v":0},{"$f":"CH137+CK137+CN137+CQ137+CT137+CW137+CZ137+DC137","v":0},{"$f":"CI137+CL137+CO137+CR137+CU137+CX137+DA137+DD137","v":0},{"$f":"AC137+AD137+AE137","v":0},{"$f":"DE137+DF137+DG137","v":0},{"$f":"DH137+DI137+DJ137","v":0},{"$f":"DK137+DL137+DM137","v":0},{"$f":"DN137+DO137+DP137","v":0},{"$f":"DQ137+DR137+DS137","v":0},{"$f":"DE137+DH137+DK137+DN137+DQ137","v":0},{"$f":"DF137+DI137+DL137+DO137+DR137","v":0},{"$f":"DG137+DJ137+DM137+DP137+DS137","v":0},{"$f":"SUM(AL137:AN137)","v":0},{"$f":"DT137+DU137+DV137","v":0},{"$f":"DW137+DX137+DY137","v":0},{"$f":"DZ137+EA137+EB137","v":0},{"$f":"EC137+ED137+EE137","v":0},{"$f":"EF137+EG137+EH137","v":0},{"$f":"EI137+EJ137+EK137","v":0},{"$f":"EL137+EM137+EN137","v":0},{"$f":"DT137+DW137+DZ137+EC137+EF137+EI137+EL137","v":0},{"$f":"DU137+DX137+EA137+ED137+EG137+EJ137+EM137","v":0},{"$f":"DV137+DY137+EB137+EE137+EH137+EK137+EN137","v":0},{"$f":"SUM(AW137:AY137)","v":0},{"$f":"SUM(EO137:EQ137)","v":0},{"$f":"SUM(ER137:ET137)","v":0},{"$f":"SUM(EU137:EW137)","v":0},{"$f":"SUM(EX137:EZ137)","v":0},{"$f":"SUM(FA137:FC137)","v":0},{"$f":"SUM(FD137:FF137)","v":0},{"$f":"SUM(FG137:FI137)","v":0},{"$f":"SUM(FJ137:FL137)","v":0},{"$f":"SUM(EO137,ER137,EU137,EX137,FA137,FD137,FG137,FJ137)","v":0},{"$f":"SUM(EP137,ES137,EV137,EY137,FB137,FE137,FH137,FK137)","v":0},{"$f":"SUM(EQ137,ET137,EW137,EZ137,FC137,FF137,FI137,FL137)","v":0},{"$f":"SUM(EO137:FL137)","v":0},{"$f":"SUM(FM137:FO137)","v":0},{"$f":"SUM(FP137:FR137)","v":0},{"$f":"SUM(FS137:FU137)","v":0},{"$f":"SUM(FV137:FX137)","v":0},{"$f":"SUM(FY137:GA137)","v":0},{"$f":"SUM(FM137,FP137,FS137,FV137,FY137)","v":0},{"$f":"SUM(FN137,FQ137,FT137,FW137,FZ137)","v":0},{"$f":"SUM(FO137,FR137,FU137,FX137,GA137)","v":0},{"$f":"SUM(FM137:GA137)","v":0},{"$f":"SUM(GB137:GD137)","v":0},{"$f":"SUM(GE137:GG137)","v":0},{"$f":"SUM(GH137:GJ137)","v":0},{"$f":"SUM(GK137:GM137)","v":0},{"$f":"SUM(GN137:GP137)","v":0},{"$f":"SUM(GQ137:GS137)","v":0},{"$f":"SUM(GT137:GV137)","v":0},{"$f":"SUM(GB137,GE137,GH137,GK137,GN137,GQ137,GT137)","v":0},{"$f":"SUM(GC137,GF137,GI137,GL137,GO137,GR137,GU137)","v":0},{"$f":"SUM(GD137,GG137,GJ137,GM137,GP137,GS137,GV137)","v":0},{"$f":"SUM(GB137:GV137)","v":0}]
[null,null,null,3,"時々ある",3,0,0,0,0,0,0,0,0,0,0,0,0,0,0,0,0,0,0,0,0,0,0,0,0,0,0,0,0,0,0,0,0,0,0,0,0,0,0,0,0,0,0,0,0,0,0,0,0,0,0,0,0,0,0,0,0,0,0,0,0,0,0,0,0,0,0,0,0,0,0,0,0,0,0,0,0,0,0]
[null,null,null,4,"よくある",4,0,0,0,0,0,0,0,0,0,0,0,0,0,0,0,0,0,0,0,0,0,0,0,0,0,0,0,0,0,0,0,0,0,0,0,0,0,0,0,0,0,0,0,0,0,0,0,0,0,0,0,0,0,0,0,0,0,0,0,0,0,0,0,0,0,0,0,0,0,0,0,0,0,0,0,0,0,0]
[null,null,null,5,"いつもある",5,0,0,0,0,0,0,0,0,0,0,0,0,0,0,0,0,0,0,0,0,0,0,0,0,0,0,0,0,0,0,0,0,0,0,0,0,0,0,0,0,0,0,0,0,0,0,0,0,0,0,0,0,0,0,0,0,0,0,0,0,0,0,0,0,0,0,0,0,0,0,0,0,0,0,0,0,0,0]
[null,"31\n(32)","インターネットをしている時間が長いと周りの人から文句を言われたことがありますか？",1,"全くない",1,0,0,0,0,0,0,0,0,0,0,0,0,0,0,0,0,0,0,0,0,0,0,0,0,0,0,0,0,0,0,0,0,0,0,0,0,0,0,0,0,0,0,0,0,0,0,0,0,0,0,0,0,0,0,0,0,0,0,0,0,0,0,0,0,0,0,0,0,0,0,0,0,0,0,0,0,0,0]
[null,null,null,2,"まれにある",2,0,0,0,0,0,0,0,0,0,0,0,0,0,0,0,0,0,0,0,0,0,0,0,0,0,0,0,0,0,0,0,0,0,0,0,0,0,0,0,0,0,0,0,0,0,0,0,0,0,0,0,0,0,0,0,0,0,0,0,0,0,0,0,0,0,0,0,0,0,0,0,0,0,0,0,0,0,0]
[null,null,null,3,"時々ある",3,0,0,0,0,0,0,0,0,0,0,0,0,0,0,0,0,0,0,0,0,0,0,0,0,0,0,0,0,0,0,0,0,0,0,0,0,0,0,0,0,0,0,0,0,0,0,0,0,0,0,0,0,0,0,0,0,0,0,0,0,0,0,0,0,0,0,0,0,0,0,0,0,0,0,0,0,0,0]
[null,null,null,4,"よくある",4,0,0,0,0,0,0,0,0,0,0,0,0,0,0,0,0,0,0,0,0,0,0,0,0,0,0,0,0,0,0,0,0,0,0,0,0,0,0,0,0,0,0,0,0,0,0,0,0,0,0,0,0,0,0,0,0,0,0,0,0,0,0,0,0,0,0,0,0,0,0,0,0,0,0,0,0,0,0]
[null,null,null,5,"いつもある",5,0,0,0,0,0,0,0,0,0,0,0,0,0,0,0,0,0,0,0,0,0,0,0,0,0,0,0,0,0,0,0,0,0,0,0,0,0,0,0,0,0,0,0,0,0,0,0,0,0,0,0,0,0,0,0,0,0,0,0,0,0,0,0,0,0,0,0,0,0,0,0,0,0,0,0,0,0,0]
[null,"32\n(33)","インターネットをしている時間が長くて、学校の成績や学業に支障をきたす（※）ことがありますか？\n※「支障をきたす」＝「悪い影響がある」",1,"全くない",1,0,0,0,0,0,0,0,0,0,0,0,0,0,0,0,0,0,0,0,0,0,0,0,0,0,0,0,0,0,0,0,0,0,0,0,0,0,0,0,0,0,0,0,0,0,0,0,0,0,0,0,0,0,0,0,0,0,0,0,0,0,0,0,0,0,0,0,0,0,0,0,0,0,0,0,0,0,0]
[null,null,null,2,"まれにある",2,0,0,0,0,0,0,0,0,0,0,0,0,0,0,0,0,0,0,0,0,0,0,0,0,0,0,0,0,0,0,0,0,0,0,0,0,0,0,0,0,0,0,0,0,0,0,0,0,0,0,0,0,0,0,0,0,0,0,0,0,0,0,0,0,0,0,0,0,0,0,0,0,0,0,0,0,0,0]
[null,null,null,3,"時々ある",3,0,0,0,0,0,0,0,0,0,0,0,0,0,0,0,0,0,0,0,0,0,0,0,0,0,0,0,0,0,0,0,0,0,0,0,0,0,0,0,0,0,0,0,0,0,0,0,0,0,0,0,0,0,0,0,0,0,0,0,0,0,0,0,0,0,0,0,0,0,0,0,0,0,0,0,0,0,0]
[null,null,null,4,"よくある",4,0,0,0,0,0,0,0,0,0,0,0,0,0,0,0,0,0,0,0,0,0,0,0,0,0,0,0,0,0,0,0,0,0,0,0,0,0,0,0,0,0,0,0,0,0,0,0,0,0,0,0,0,0,0,0,0,0,0,0,0,0,0,0,0,0,0,0,0,0,0,0,0,0,0,0,0,0,0]
[null,null,null,5,"いつもある",5,0,0,0,0,0,0,0,0,0,0,0,0,0,0,0,0,0,0,0,0,0,0,0,0,0,0,0,0,0,0,0,0,0,0,0,0,0,0,0,0,0,0,0,0,0,0,0,0,0,0,0,0,0,0,0,0,0,0,0,0,0,0,0,0,0,0,0,0,0,0,0,0,0,0,0,0,0,0]
[null,"33\n(34)","他にやらなければならないことがあっても、まず先に電子メールをチェックすることがありますか？",1,"全くない",1,0,0,0,0,0,0,0,0,0,0,0,0,0,0,0,0,0,0,0,0,0,0,0,0,0,0,0,0,0,0,0,0,0,0,0,0,0,0,0,0,0,0,0,0,0,0,0,0,0,0,0,0,0,0,0,0,0,0,0,0,0,0,0,0,0,0,0,0,0,0,0,0,0,0,0,0,0,0]
[null,null,null,2,"まれにある",2,0,0,0,0,0,0,0,0,0,0,0,0,0,0,0,0,0,0,0,0,0,0,0,0,0,0,0,0,0,0,0,0,0,0,0,0,0,0,0,0,0,0,0,0,0,0,0,0,0,0,0,0,0,0,0,0,0,0,0,0,0,0,0,0,0,0,0,0,0,0,0,0,0,0,0,0,0,0]
[null,null,null,3,"時々ある",3,0,0,0,0,0,0,0,0,0,0,0,0,0,0,0,0,0,0,0,0,0,0,0,0,0,0,0,0,0,0,0,0,0,0,0,0,0,0,0,0,0,0,0,0,0,0,0,0,0,0,0,0,0,0,0,0,0,0,0,0,0,0,0,0,0,0,0,0,0,0,0,0,0,0,0,0,0,0]
[null,null,null,4,"よくある",4,0,0,0,0,0,0,0,0,0,0,0,0,0,0,0,0,0,0,0,0,0,0,0,0,0,0,0,0,0,0,0,0,0,0,0,0,0,0,0,0,0,0,0,0,0,0,0,0,0,0,0,0,0,0,0,0,0,0,0,0,0,0,0,0,0,0,0,0,0,0,0,0,0,0,0,0,0,0]
[null,null,null,5,"いつもある",5,0,0,0,0,0,0,0,0,0,0,0,0,0,0,0,0,0,0,0,0,0,0,0,0,0,0,0,0,0,0,0,0,0,0,0,0,0,0,0,0,0,0,0,0,0,0,0,0,0,0,0,0,0,0,0,0,0,0,0,0,0,0,0,0,0,0,0,0,0,0,0,0,0,0,0,0,0,0]
[null,"34\n(35)","インターネットのために、勉強の能率（※）や成果が下がったことがありますか？※「能率」＝「効率」",1,"全くない",1,0,0,0,0,0,0,0,0,0,0,0,0,0,0,0,0,0,0,0,0,0,0,0,0,0,0,0,0,0,0,0,0,0,0,0,0,0,0,0,0,0,0,0,0,0,0,0,0,0,0,0,0,0,0,0,0,0,0,0,0,0,0,0,0,0,0,0,0,0,0,0,0,0,0,0,0,0,0]
[null,null,null,2,"まれにある",2,0,0,0,0,0,0,0,0,0,0,0,0,0,0,0,0,0,0,0,0,0,0,0,0,0,0,0,0,0,0,0,0,0,0,0,0,0,0,0,0,0,0,0,0,0,0,0,0,0,0,0,0,0,0,0,0,0,0,0,0,0,0,0,0,0,0,0,0,0,0,0,0,0,0,0,0,0,0]
[null,null,null,3,"時々ある",3,0,0,0,0,0,0,0,0,0,0,0,0,0,0,0,0,0,0,0,0,0,0,0,0,0,0,0,0,0,0,0,0,0,0,0,0,0,0,0,0,0,0,0,0,0,0,0,0,0,0,0,0,0,0,0,0,0,0,0,0,0,0,0,0,0,0,0,0,0,0,0,0,0,0,0,0,0,0]
[null,null,null,4,"よくある",4,0,0,0,0,0,0,0,0,0,0,0,0,0,0,0,0,0,0,0,0,0,0,0,0,0,0,0,0,0,0,0,0,0,0,0,0,0,0,0,0,0,0,0,0,0,0,0,0,0,0,0,0,0,0,0,0,0,0,0,0,0,0,0,0,0,0,0,0,0,0,0,0,0,0,0,0,0,0]
[null,null,null,5,"いつもある",5,0,0,0,0,0,0,0,0,0,0,0,0,0,0,0,0,0,0,0,0,0,0,0,0,0,0,0,0,0,0,0,0,0,0,0,0,0,0,0,0,0,0,0,0,0,0,0,0,0,0,0,0,0,0,0,0,0,0,0,0,0,0,0,0,0,0,0,0,0,0,0,0,0,0,0,0,0,0]
[null,"35\n(36)","人にインターネットで何をしているのか聞かれたとき防御的になったり（※）、隠そうとしたことがどれくらいありますか？　※「防御的になったり」＝「自分のことを守ろうとしたり」",1,"全くない",1,0,0,0,0,0,0,0,0,0,0,0,0,0,0,0,0,0,0,0,0,0,0,0,0,0,0,0,0,0,0,0,0,0,0,0,0,0,0,0,0,0,0,0,0,0,0,0,0,0,0,0,0,0,0,0,0,0,0,0,0,0,0,0,0,0,0,0,0,0,0,0,0,0,0,0,0,0,0]
[null,null,null,2,"まれにある",2,0,0,0,0,0,0,0,0,0,0,0,0,0,0,0,0,0,0,0,0,0,0,0,0,0,0,0,0,0,0,0,0,0,0,0,0,0,0,0,0,0,0,0,0,0,0,0,0,0,0,0,0,0,0,0,0,0,0,0,0,0,0,0,0,0,0,0,0,0,0,0,0,0,0,0,0,0,0]
[null,null,null,3,"時々ある",3,0,0,0,0,0,0,0,0,0,0,0,0,0,0,0,0,0,0,0,0,0,0,0,0,0,0,0,0,0,0,0,0,0,0,0,0,0,0,0,0,0,0,0,0,0,0,0,0,0,0,0,0,0,0,0,0,0,0,0,0,0,0,0,0,0,0,0,0,0,0,0,0,0,0,0,0,0,0]
[null,null,null,4,"よくある",4,0,0,0,0,0,0,0,0,0,0,0,0,0,0,0,0,0,0,0,0,0,0,0,0,0,0,0,0,0,0,0,0,0,0,0,0,0,0,0,0,0,0,0,0,0,0,0,0,0,0,0,0,0,0,0,0,0,0,0,0,0,0,0,0,0,0,0,0,0,0,0,0,0,0,0,0,0,0]
[null,null,null,5,"いつもある",5,0,0,0,0,0,0,0,0,0,0,0,0,0,0,0,0,0,0,0,0,0,0,0,0,0,0,0,0,0,0,0,0,0,0,0,0,0,0,0,0,0,0,0,0,0,0,0,0,0,0,0,0,0,0,0,0,0,0,0,0,0,0,0,0,0,0,0,0,0,0,0,0,0,0,0,0,0,0]
[null,"36\n(37)","日々の生活の心配事から心をそらすためにインターネットで心を静めることがありますか？",1,"全くない",1,0,0,0,0,0,0,0,0,0,0,0,0,0,0,0,0,0,0,0,0,0,0,0,0,0,0,0,0,0,0,0,0,0,0,0,0,0,0,0,0,0,0,0,0,0,0,0,0,0,0,0,0,0,0,0,0,0,0,0,0,0,0,0,0,0,0,0,0,0,0,0,0,0,0,0,0,0,0]
[null,null,null,2,"まれにある",2,0,0,0,0,0,0,0,0,0,0,0,0,0,0,0,0,0,0,0,0,0,0,0,0,0,0,0,0,0,0,0,0,0,0,0,0,0,0,0,0,0,0,0,0,0,0,0,0,0,0,0,0,0,0,0,0,0,0,0,0,0,0,0,0,0,0,0,0,0,0,0,0,0,0,0,0,0,0]
[null,null,null,3,"時々ある",3,0,0,0,0,0,0,0,0,0,0,0,0,0,0,0,0,0,0,0,0,0,0,0,0,0,0,0,0,0,0,0,0,0,0,0,0,0,0,0,0,0,0,0,0,0,0,0,0,0,0,0,0,0,0,0,0,0,0,0,0,0,0,0,0,0,0,0,0,0,0,0,0,0,0,0,0,0,0]
[null,null,null,4,"よくある",4,0,0,0,0,0,0,0,0,0,0,0,0,0,0,0,0,0,0,0,0,0,0,0,0,0,0,0,0,0,0,0,0,0,0,0,0,0,0,0,0,0,0,0,0,0,0,0,0,0,0,0,0,0,0,0,0,0,0,0,0,0,0,0,0,0,0,0,0,0,0,0,0,0,0,0,0,0,0]
[null,null,null,5,"いつもある",5,0,0,0,0,0,0,0,0,0,0,0,0,0,0,0,0,0,0,0,0,0,0,0,0,0,0,0,0,0,0,0,0,0,0,0,0,0,0,0,0,0,0,0,0,0,0,0,0,0,0,0,0,0,0,0,0,0,0,0,0,0,0,0,0,0,0,0,0,0,0,0,0,0,0,0,0,0,0]
[null,"37\n(38)","次にインターネットをするときのことを考えている自分に気がつくことがありますか？",1,"全くない",1,0,0,0,0,0,0,0,0,0,0,0,0,0,0,0,0,0,0,0,0,0,0,0,0,0,0,0,0,0,0,0,0,0,0,0,0,0,0,0,0,0,0,0,0,0,0,0,0,0,0,0,0,0,0,0,0,0,0,0,0,0,0,0,0,0,0,0,0,0,0,0,0,0,0,0,0,0,0]
[null,null,null,2,"まれにある",2,0,0,0,0,0,0,0,0,0,0,0,0,0,0,0,0,0,0,0,0,0,0,0,0,0,0,0,0,0,0,0,0,0,0,0,0,0,0,0,0,0,0,0,0,0,0,0,0,0,0,0,0,0,0,0,0,0,0,0,0,0,0,0,0,0,0,0,0,0,0,0,0,0,0,0,0,0,0]
[null,null,null,3,"時々ある",3,0,0,0,0,0,0,0,0,0,0,0,0,0,0,0,0,0,0,0,0,0,0,0,0,0,0,0,0,0,0,0,0,0,0,0,0,0,0,0,0,0,0,0,0,0,0,0,0,0,0,0,0,0,0,0,0,0,0,0,0,0,0,0,0,0,0,0,0,0,0,0,0,0,0,0,0,0,0]
[null,null,null,4,"よくある",4,0,0,0,0,0,0,0,0,0,0,0,0,0,0,0,0,0,0,0,0,0,0,0,0,0,0,0,0,0,0,0,0,0,0,0,0,0,0,0,0,0,0,0,0,0,0,0,0,0,0,0,0,0,0,0,0,0,0,0,0,0,0,0,0,0,0,0,0,0,0,0,0,0,0,0,0,0,0]
[null,null,null,5,"いつもある",5,0,0,0,0,0,0,0,0,0,0,0,0,0,0,0,0,0,0,0,0,0,0,0,0,0,0,0,0,0,0,0,0,0,0,0,0,0,0,0,0,0,0,0,0,0,0,0,0,0,0,0,0,0,0,0,0,0,0,0,0,0,0,0,0,0,0,0,0,0,0,0,0,0,0,0,0,0,0]
[null,"38\n(39)","インターネットの無い生活は、退屈でむなしく、つまらないものだろうと恐ろしく思うことがありますか？",1,"全くない",1,0,0,0,0,0,0,0,0,0,0,0,0,0,0,0,0,0,0,0,0,0,0,0,0,0,0,0,0,0,0,0,0,0,0,0,0,0,0,0,0,0,0,0,0,0,0,0,0,0,0,0,0,0,0,0,0,0,0,0,0,0,0,0,0,0,0,0,0,0,0,0,0,0,0,0,0,0,0]
[null,null,null,2,"まれにある",2,0,0,0,0,0,0,0,0,0,0,0,0,0,0,0,0,0,0,0,0,0,0,0,0,0,0,0,0,0,0,0,0,0,0,0,0,0,0,0,0,0,0,0,0,0,0,0,0,0,0,0,0,0,0,0,0,0,0,0,0,0,0,0,0,0,0,0,0,0,0,0,0,0,0,0,0,0,0]
[null,null,null,3,"時々ある",3,0,0,0,0,0,0,0,0,0,0,0,0,0,0,0,0,0,0,0,0,0,0,0,0,0,0,0,0,0,0,0,0,0,0,0,0,0,0,0,0,0,0,0,0,0,0,0,0,0,0,0,0,0,0,0,0,0,0,0,0,0,0,0,0,0,0,0,0,0,0,0,0,0,0,0,0,0,0]
[null,null,null,4,"よくある",4,0,0,0,0,0,0,0,0,0,0,0,0,0,0,0,0,0,0,0,0,0,0,0,0,0,0,0,0,0,0,0,0,0,0,0,0,0,0,0,0,0,0,0,0,0,0,0,0,0,0,0,0,0,0,0,0,0,0,0,0,0,0,0,0,0,0,0,0,0,0,0,0,0,0,0,0,0,0]
[null,null,null,5,"いつもある",5,0,0,0,0,0,0,0,0,0,0,0,0,0,0,0,0,0,0,0,0,0,0,0,0,0,0,0,0,0,0,0,0,0,0,0,0,0,0,0,0,0,0,0,0,0,0,0,0,0,0,0,0,0,0,0,0,0,0,0,0,0,0,0,0,0,0,0,0,0,0,0,0,0,0,0,0,0,0]
[null,"39\n(40)","インターネットをしている最中に誰かに邪魔をされると、いらいらしたり、怒ったり、大声を出したりすることがありますか？",1,"全くない",1,0,0,0,0,0,0,0,0,0,0,0,0,0,0,0,0,0,0,0,0,0,0,0,0,0,0,0,0,0,0,0,0,0,0,0,0,0,0,0,0,0,0,0,0,0,0,0,0,0,0,0,0,0,0,0,0,0,0,0,0,0,0,0,0,0,0,0,0,0,0,0,0,0,0,0,0,0,0]
[null,null,null,2,"まれにある",2,0,0,0,0,0,0,0,0,0,0,0,0,0,0,0,0,0,0,0,0,0,0,0,0,0,0,0,0,0,0,0,0,0,0,0,0,0,0,0,0,0,0,0,0,0,0,0,0,0,0,0,0,0,0,0,0,0,0,0,0,0,0,0,0,0,0,0,0,0,0,0,0,0,0,0,0,0,0]
[null,null,null,3,"時々ある",3,0,0,0,0,0,0,0,0,0,0,0,0,0,0,0,0,0,0,0,0,0,0,0,0,0,0,0,0,0,0,0,0,0,0,0,0,0,0,0,0,0,0,0,0,0,0,0,0,0,0,0,0,0,0,0,0,0,0,0,0,0,0,0,0,0,0,0,0,0,0,0,0,0,0,0,0,0,0]
[null,null,null,4,"よくある",4,0,0,0,0,0,0,0,0,0,0,0,0,0,0,0,0,0,0,0,0,0,0,0,0,0,0,0,0,0,0,0,0,0,0,0,0,0,0,0,0,0,0,0,0,0,0,0,0,0,0,0,0,0,0,0,0,0,0,0,0,0,0,0,0,0,0,0,0,0,0,0,0,0,0,0,0,0,0]
[null,null,null,5,"いつもある",5,0,0,0,0,0,0,0,0,0,0,0,0,0,0,0,0,0,0,0,0,0,0,0,0,0,0,0,0,0,0,0,0,0,0,0,0,0,0,0,0,0,0,0,0,0,0,0,0,0,0,0,0,0,0,0,0,0,0,0,0,0,0,0,0,0,0,0,0,0,0,0,0,0,0,0,0,0,0]
[null,"40\n(41)","睡眠時間をけずって、深夜までインターネットをすることがありますか？",1,"全くない",1,0,0,0,0,0,0,0,0,0,0,0,0,0,0,0,0,0,0,0,0,0,0,0,0,0,0,0,0,0,0,0,0,0,0,0,0,0,0,0,0,0,0,0,0,0,0,0,0,0,0,0,0,0,0,0,0,0,0,0,0,0,0,0,0,0,0,0,0,0,0,0,0,0,0,0,0,0,0]
[null,null,null,2,"まれにある",2,0,0,0,0,0,0,0,0,0,0,0,0,0,0,0,0,0,0,0,0,0,0,0,0,0,0,0,0,0,0,0,0,0,0,0,0,0,0,0,0,0,0,0,0,0,0,0,0,0,0,0,0,0,0,0,0,0,0,0,0,0,0,0,0,0,0,0,0,0,0,0,0,0,0,0,0,0,0]
[null,null,null,3,"時々ある",3,0,0,0,0,0,0,0,0,0,0,0,0,0,0,0,0,0,0,0,0,0,0,0,0,0,0,0,0,0,0,0,0,0,0,0,0,0,0,0,0,0,0,0,0,0,0,0,0,0,0,0,0,0,0,0,0,0,0,0,0,0,0,0,0,0,0,0,0,0,0,0,0,0,0,0,0,0,0]
[null,null,null,4,"よくある",4,0,0,0,0,0,0,0,0,0,0,0,0,0,0,0,0,0,0,0,0,0,0,0,0,0,0,0,0,0,0,0,0,0,0,0,0,0,0,0,0,0,0,0,0,0,0,0,0,0,0,0,0,0,0,0,0,0,0,0,0,0,0,0,0,0,0,0,0,0,0,0,0,0,0,0,0,0,0]
[null,null,null,5,"いつもある",5,0,0,0,0,0,0,0,0,0,0,0,0,0,0,0,0,0,0,0,0,0,0,0,0,0,0,0,0,0,0,0,0,0,0,0,0,0,0,0,0,0,0,0,0,0,0,0,0,0,0,0,0,0,0,0,0,0,0,0,0,0,0,0,0,0,0,0,0,0,0,0,0,0,0,0,0,0,0]
[null,"41\n(42)","インターネットをしていないときでもインターネットのことばかり考えていたり、インターネットをしているところを空想したりすることがありますか？",1,"全くない",1,0,0,0,0,0,0,0,0,0,0,0,0,0,0,0,0,0,0,0,0,0,0,0,0,0,0,0,0,0,0,0,0,0,0,0,0,0,0,0,0,0,0,0,0,0,0,0,0,0,0,0,0,0,0,0,0,0,0,0,0,0,0,0,0,0,0,0,0,0,0,0,0,0,0,0,0,0,0]
[null,null,null,2,"まれにある",2,0,0,0,0,0,0,0,0,0,0,0,0,0,0,0,0,0,0,0,0,0,0,0,0,0,0,0,0,0,0,0,0,0,0,0,0,0,0,0,0,0,0,0,0,0,0,0,0,0,0,0,0,0,0,0,0,0,0,0,0,0,0,0,0,0,0,0,0,0,0,0,0,0,0,0,0,0,0]
[null,null,null,3,"時々ある",3,0,0,0,0,0,0,0,0,0,0,0,0,0,0,0,0,0,0,0,0,0,0,0,0,0,0,0,0,0,0,0,0,0,0,0,0,0,0,0,0,0,0,0,0,0,0,0,0,0,0,0,0,0,0,0,0,0,0,0,0,0,0,0,0,0,0,0,0,0,0,0,0,0,0,0,0,0,0]
[null,null,null,4,"よくある",4,0,0,0,0,0,0,0,0,0,0,0,0,0,0,0,0,0,0,0,0,0,0,0,0,0,0,0,0,0,0,0,0,0,0,0,0,0,0,0,0,0,0,0,0,0,0,0,0,0,0,0,0,0,0,0,0,0,0,0,0,0,0,0,0,0,0,0,0,0,0,0,0,0,0,0,0,0,0]
[null,null,null,5,"いつもある",5,0,0,0,0,0,0,0,0,0,0,0,0,0,0,0,0,0,0,0,0,0,0,0,0,0,0,0,0,0,0,0,0,0,0,0,0,0,0,0,0,0,0,0,0,0,0,0,0,0,0,0,0,0,0,0,0,0,0,0,0,0,0,0,0,0,0,0,0,0,0,0,0,0,0,0,0,0,0]
[null,"42\n(43)","インターネットをしているとき「あと数分だけ」と言っている自分に気がつくことがありますか？",1,"全くない",1,0,0,0,0,0,0,0,0,0,0,0,0,0,0,0,0,0,0,0,0,0,0,0,0,0,0,0,0,0,0,0,0,0,0,0,0,0,0,0,0,0,0,0,0,0,0,0,0,0,0,0,0,0,0,0,0,0,0,0,0,0,0,0,0,0,0,0,0,0,0,0,0,0,0,0,0,0,0]
[null,null,null,2,"まれにある",2,0,0,0,0,0,0,0,0,0,0,0,0,0,0,0,0,0,0,0,0,0,0,0,0,0,0,0,0,0,0,0,0,0,0,0,0,0,0,0,0,0,0,0,0,0,0,0,0,0,0,0,0,0,0,0,0,0,0,0,0,0,0,0,0,0,0,0,0,0,0,0,0,0,0,0,0,0,0]
[null,null,null,3,"時々ある",3,0,0,0,0,0,0,0,0,0,0,0,0,0,0,0,0,0,0,0,0,0,0,0,0,0,0,0,0,0,0,0,0,0,0,0,0,0,0,0,0,0,0,0,0,0,0,0,0,0,0,0,0,0,0,0,0,0,0,0,0,0,0,0,0,0,0,0,0,0,0,0,0,0,0,0,0,0,0]
[null,null,null,4,"よくある",4,0,0,0,0,0,0,0,0,0,0,0,0,0,0,0,0,0,0,0,0,0,0,0,0,0,0,0,0,0,0,0,0,0,0,0,0,0,0,0,0,0,0,0,0,0,0,0,0,0,0,0,0,0,0,0,0,0,0,0,0,0,0,0,0,0,0,0,0,0,0,0,0,0,0,0,0,0,0]
[null,null,null,5,"いつもある",5,0,0,0,0,0,0,0,0,0,0,0,0,0,0,0,0,0,0,0,0,0,0,0,0,0,0,0,0,0,0,0,0,0,0,0,0,0,0,0,0,0,0,0,0,0,0,0,0,0,0,0,0,0,0,0,0,0,0,0,0,0,0,0,0,0,0,0,0,0,0,0,0,0,0,0,0,0,0]
[null,"43\n(44)","インターネットをする時間を減らそうとしても、できないことがありますか？",1,"全くない",1,{"$f":"AF201","v":0},{"$f":"AO201","v":0},{"$f":"AZ201","v":0},{"$f":"AC201+AL201+AW201","v":0},{"$f":"AD201+AM201+AX201","v":0},{"$f":"AE201+AN201+AY201","v":0},{"$f":"SUM(J201:L201)","v":0},{"$f":"BL201","v":0},{"$f":"BU201","v":0},{"$f":"CF201","v":0},{"$f":"SUM(BI201,BR201,CC201)","v":0},{"$f":"SUM(BJ201,BS201,CD201)","v":0},{"$f":"SUM(BK201,BT201,CE201)","v":0},{"$f":"SUM(Q201:S201)","v":0},{"$f":"CG201+CH201+CI201","v":0},{"$f":"CJ201+CK201+CL201","v":0},{"$f":"CM201+CN201+CO201","v":0},{"$f":"CP201+CQ201+CR201","v":0},{"$f":"CS201+CT201+CU201","v":0},{"$f":"CV201+CW201+CX201","v":0},{"$f":"CY201+CZ201+DA201","v":0},{"$f":"DB201+DC201+DD201","v":0},{"$f":"CG201+CJ201+CM201+CP201+CS201+CV201+CY201+DB201","v":0},{"$f":"CH201+CK201+CN201+CQ201+CT201+CW201+CZ201+DC201","v":0},{"$f":"CI201+CL201+CO201+CR201+CU201+CX201+DA201+DD201","v":0},{"$f":"AC201+AD201+AE201","v":0},{"$f":"DE201+DF201+DG201","v":0},{"$f":"DH201+DI201+DJ201","v":0},{"$f":"DK201+DL201+DM201","v":0},{"$f":"DN201+DO201+DP201","v":0},{"$f":"DQ201+DR201+DS201","v":0},{"$f":"DE201+DH201+DK201+DN201+DQ201","v":0},{"$f":"DF201+DI201+DL201+DO201+DR201","v":0},{"$f":"DG201+DJ201+DM201+DP201+DS201","v":0},{"$f":"SUM(AL201:AN201)","v":0},{"$f":"DT201+DU201+DV201","v":0},{"$f":"DW201+DX201+DY201","v":0},{"$f":"DZ201+EA201+EB201","v":0},{"$f":"EC201+ED201+EE201","v":0},{"$f":"EF201+EG201+EH201","v":0},{"$f":"EI201+EJ201+EK201","v":0},{"$f":"EL201+EM201+EN201","v":0},{"$f":"DT201+DW201+DZ201+EC201+EF201+EI201+EL201","v":0},{"$f":"DU201+DX201+EA201+ED201+EG201+EJ201+EM201","v":0},{"$f":"DV201+DY201+EB201+EE201+EH201+EK201+EN201","v":0},{"$f":"SUM(AW201:AY201)","v":0},{"$f":"SUM(EO201:EQ201)","v":0},{"$f":"SUM(ER201:ET201)","v":0},{"$f":"SUM(EU201:EW201)","v":0},{"$f":"SUM(EX201:EZ201)","v":0},{"$f":"SUM(FA201:FC201)","v":0},{"$f":"SUM(FD201:FF201)","v":0},{"$f":"SUM(FG201:FI201)","v":0},{"$f":"SUM(FJ201:FL201)","v":0},{"$f":"SUM(EO201,ER201,EU201,EX201,FA201,FD201,FG201,FJ201)","v":0},{"$f":"SUM(EP201,ES201,EV201,EY201,FB201,FE201,FH201,FK201)","v":0},{"$f":"SUM(EQ201,ET201,EW201,EZ201,FC201,FF201,FI201,FL201)","v":0},{"$f":"SUM(EO201:FL201)","v":0},{"$f":"SUM(FM201:FO201)","v":0},{"$f":"SUM(FP201:FR201)","v":0},{"$f":"SUM(FS201:FU201)","v":0},{"$f":"SUM(FV201:FX201)","v":0},{"$f":"SUM(FY201:GA201)","v":0},{"$f":"SUM(FM201,FP201,FS201,FV201,FY201)","v":0},{"$f":"SUM(FN201,FQ201,FT201,FW201,FZ201)","v":0},{"$f":"SUM(FO201,FR201,FU201,FX201,GA201)","v":0},{"$f":"SUM(FM201:GA201)","v":0},{"$f":"SUM(GB201:GD201)","v":0},{"$f":"SUM(GE201:GG201)","v":0},{"$f":"SUM(GH201:GJ201)","v":0},{"$f":"SUM(GK201:GM201)","v":0},{"$f":"SUM(GN201:GP201)","v":0},{"$f":"SUM(GQ201:GS201)","v":0},{"$f":"SUM(GT201:GV201)","v":0},{"$f":"SUM(GB201,GE201,GH201,GK201,GN201,GQ201,GT201)","v":0},{"$f":"SUM(GC201,GF201,GI201,GL201,GO201,GR201,GU201)","v":0},{"$f":"SUM(GD201,GG201,GJ201,GM201,GP201,GS201,GV201)","v":0},{"$f":"SUM(GB201:GV201)","v":0}]
[null,null,null,2,"まれにある",2,0,0,0,0,0,0,0,0,0,0,0,0,0,0,0,0,0,0,0,0,0,0,0,0,0,0,0,0,0,0,0,0,0,0,0,0,0,0,0,0,0,0,0,0,0,0,0,0,0,0,0,0,0,0,0,0,0,0,0,0,0,0,0,0,0,0,0,0,0,0,0,0,0,0,0,0,0,0]
[null,null,null,3,"時々ある",3,0,0,0,0,0,0,0,0,0,0,0,0,0,0,0,0,0,0,0,0,0,0,0,0,0,0,0,0,0,0,0,0,0,0,0,0,0,0,0,0,0,0,0,0,0,0,0,0,0,0,0,0,0,0,0,0,0,0,0,0,0,0,0,0,0,0,0,0,0,0,0,0,0,0,0,0,0,0]
[null,null,null,4,"よくある",4,0,0,0,0,0,0,0,0,0,0,0,0,0,0,0,0,0,0,0,0,0,0,0,0,0,0,0,0,0,0,0,0,0,0,0,0,0,0,0,0,0,0,0,0,0,0,0,0,0,0,0,0,0,0,0,0,0,0,0,0,0,0,0,0,0,0,0,0,0,0,0,0,0,0,0,0,0,0]
[null,null,null,5,"いつもある",5,0,0,0,0,0,0,0,0,0,0,0,0,0,0,0,0,0,0,0,0,0,0,0,0,0,0,0,0,0,0,0,0,0,0,0,0,0,0,0,0,0,0,0,0,0,0,0,0,0,0,0,0,0,0,0,0,0,0,0,0,0,0,0,0,0,0,0,0,0,0,0,0,0,0,0,0,0,0]
[null,"44\n(45)","インターネットをしていた時間の長さを隠そうとすることがありますか？",1,"全くない",1,0,0,0,0,0,0,0,0,0,0,0,0,0,0,0,0,0,0,0,0,0,0,0,0,0,0,0,0,0,0,0,0,0,0,0,0,0,0,0,0,0,0,0,0,0,0,0,0,0,0,0,0,0,0,0,0,0,0,0,0,0,0,0,0,0,0,0,0,0,0,0,0,0,0,0,0,0,0]
[null,null,null,2,"まれにある",2,0,0,0,0,0,0,0,0,0,0,0,0,0,0,0,0,0,0,0,0,0,0,0,0,0,0,0,0,0,0,0,0,0,0,0,0,0,0,0,0,0,0,0,0,0,0,0,0,0,0,0,0,0,0,0,0,0,0,0,0,0,0,0,0,0,0,0,0,0,0,0,0,0,0,0,0,0,0]
[null,null,null,3,"時々ある",3,0,0,0,0,0,0,0,0,0,0,0,0,0,0,0,0,0,0,0,0,0,0,0,0,0,0,0,0,0,0,0,0,0,0,0,0,0,0,0,0,0,0,0,0,0,0,0,0,0,0,0,0,0,0,0,0,0,0,0,0,0,0,0,0,0,0,0,0,0,0,0,0,0,0,0,0,0,0]
[null,null,null,4,"よくある",4,0,0,0,0,0,0,0,0,0,0,0,0,0,0,0,0,0,0,0,0,0,0,0,0,0,0,0,0,0,0,0,0,0,0,0,0,0,0,0,0,0,0,0,0,0,0,0,0,0,0,0,0,0,0,0,0,0,0,0,0,0,0,0,0,0,0,0,0,0,0,0,0,0,0,0,0,0,0]
[null,null,null,5,"いつもある",5,0,0,0,0,0,0,0,0,0,0,0,0,0,0,0,0,0,0,0,0,0,0,0,0,0,0,0,0,0,0,0,0,0,0,0,0,0,0,0,0,0,0,0,0,0,0,0,0,0,0,0,0,0,0,0,0,0,0,0,0,0,0,0,0,0,0,0,0,0,0,0,0,0,0,0,0,0,0]
[null,"45\n(46)","誰かと外出するより、インターネットを選ぶことがありますか？",1,"全くない",1,0,0,0,0,0,0,0,0,0,0,0,0,0,0,0,0,0,0,0,0,0,0,0,0,0,0,0,0,0,0,0,0,0,0,0,0,0,0,0,0,0,0,0,0,0,0,0,0,0,0,0,0,0,0,0,0,0,0,0,0,0,0,0,0,0,0,0,0,0,0,0,0,0,0,0,0,0,0]
[null,null,null,2,"まれにある",2,0,0,0,0,0,0,0,0,0,0,0,0,0,0,0,0,0,0,0,0,0,0,0,0,0,0,0,0,0,0,0,0,0,0,0,0,0,0,0,0,0,0,0,0,0,0,0,0,0,0,0,0,0,0,0,0,0,0,0,0,0,0,0,0,0,0,0,0,0,0,0,0,0,0,0,0,0,0]
[null,null,null,3,"時々ある",3,0,0,0,0,0,0,0,0,0,0,0,0,0,0,0,0,0,0,0,0,0,0,0,0,0,0,0,0,0,0,0,0,0,0,0,0,0,0,0,0,0,0,0,0,0,0,0,0,0,0,0,0,0,0,0,0,0,0,0,0,0,0,0,0,0,0,0,0,0,0,0,0,0,0,0,0,0,0]
[null,null,null,4,"よくある",4,0,0,0,0,0,0,0,0,0,0,0,0,0,0,0,0,0,0,0,0,0,0,0,0,0,0,0,0,0,0,0,0,0,0,0,0,0,0,0,0,0,0,0,0,0,0,0,0,0,0,0,0,0,0,0,0,0,0,0,0,0,0,0,0,0,0,0,0,0,0,0,0,0,0,0,0,0,0]
[null,null,null,5,"いつもある",5,0,0,0,0,0,0,0,0,0,0,0,0,0,0,0,0,0,0,0,0,0,0,0,0,0,0,0,0,0,0,0,0,0,0,0,0,0,0,0,0,0,0,0,0,0,0,0,0,0,0,0,0,0,0,0,0,0,0,0,0,0,0,0,0,0,0,0,0,0,0,0,0,0,0,0,0,0,0]
[null,"46\n(47)","インターネットをしていないと憂うつになったり、いらいらしたりしても、再開すると嫌な気持ちが消えてしまうことがありますか？",1,"全くない",1,0,0,0,0,0,0,0,0,0,0,0,0,0,0,0,0,0,0,0,0,0,0,0,0,0,0,0,0,0,0,0,0,0,0,0,0,0,0,0,0,0,0,0,0,0,0,0,0,0,0,0,0,0,0,0,0,0,0,0,0,0,0,0,0,0,0,0,0,0,0,0,0,0,0,0,0,0,0]
[null,null,null,2,"まれにある",2,0,0,0,0,0,0,0,0,0,0,0,0,0,0,0,0,0,0,0,0,0,0,0,0,0,0,0,0,0,0,0,0,0,0,0,0,0,0,0,0,0,0,0,0,0,0,0,0,0,0,0,0,0,0,0,0,0,0,0,0,0,0,0,0,0,0,0,0,0,0,0,0,0,0,0,0,0,0]
[null,null,null,3,"時々ある",3,0,0,0,0,0,0,0,0,0,0,0,0,0,0,0,0,0,0,0,0,0,0,0,0,0,0,0,0,0,0,0,0,0,0,0,0,0,0,0,0,0,0,0,0,0,0,0,0,0,0,0,0,0,0,0,0,0,0,0,0,0,0,0,0,0,0,0,0,0,0,0,0,0,0,0,0,0,0]
[null,null,null,4,"よくある",4,0,0,0,0,0,0,0,0,0,0,0,0,0,0,0,0,0,0,0,0,0,0,0,0,0,0,0,0,0,0,0,0,0,0,0,0,0,0,0,0,0,0,0,0,0,0,0,0,0,0,0,0,0,0,0,0,0,0,0,0,0,0,0,0,0,0,0,0,0,0,0,0,0,0,0,0,0,0]
[null,null,null,5,"いつもある",5,0,0,0,0,0,0,0,0,0,0,0,0,0,0,0,0,0,0,0,0,0,0,0,0,0,0,0,0,0,0,0,0,0,0,0,0,0,0,0,0,0,0,0,0,0,0,0,0,0,0,0,0,0,0,0,0,0,0,0,0,0,0,0,0,0,0,0,0,0,0,0,0,0,0,0,0,0,0]
["質問・アンケート","47\n(48)","インターネットのために、過去12か月間に以下のようなことが起きましたか？あてはまるものをすべて選んでください。（複数回答可）",1,"学校や職場の遅刻","－",0,0,0,0,0,0,0,0,0,0,0,0,0,0,0,0,0,0,0,0,0,0,0,0,0,0,0,0,0,0,0,0,0,0,0,0,0,0,0,0,0,0,0,0,0,0,0,0,0,0,0,0,0,0,0,0,0,0,0,0,0,0,0,0,0,0,0,0,0,0,0,0,0,0,0,0,0,0]
[null,null,null,2,"欠席や欠勤","－",0,0,0,0,0,0,0,0,0,0,0,0,0,0,0,0,0,0,0,0,0,0,0,0,0,0,0,0,0,0,0,0,0,0,0,0,0,0,0,0,0,0,0,0,0,0,0,0,0,0,0,0,0,0,0,0,0,0,0,0,0,0,0,0,0,0,0,0,0,0,0,0,0,0,0,0,0,0]
[null,null,null,3,"学校成績の低下や仕事のパフォーマンスの低下","－",0,0,0,0,0,0,0,0,0,0,0,0,0,0,0,0,0,0,0,0,0,0,0,0,0,0,0,0,0,0,0,0,0,0,0,0,0,0,0,0,0,0,0,0,0,0,0,0,0,0,0,0,0,0,0,0,0,0,0,0,0,0,0,0,0,0,0,0,0,0,0,0,0,0,0,0,0,0]
[null,null,null,4,"転校","－",0,0,0,0,0,0,0,0,0,0,0,0,0,0,0,0,0,0,0,0,0,0,0,0,0,0,0,0,0,0,0,0,0,0,0,0,0,0,0,0,0,0,0,0,0,0,0,0,0,0,0,0,0,0,0,0,0,0,0,0,0,0,0,0,0,0,0,0,0,0,0,0,0,0,0,0,0,0]
[null,null,null,5,"退学または退職","－",0,0,0,0,0,0,0,0,0,0,0,0,0,0,0,0,0,0,0,0,0,0,0,0,0,0,0,0,0,0,0,0,0,0,0,0,0,0,0,0,0,0,0,0,0,0,0,0,0,0,0,0,0,0,0,0,0,0,0,0,0,0,0,0,0,0,0,0,0,0,0,0,0,0,0,0,0,0]
[null,null,null,6,"現実の友人が減った","－",0,0,0,0,0,0,0,0,0,0,0,0,0,0,0,0,0,0,0,0,0,0,0,0,0,0,0,0,0,0,0,0,0,0,0,0,0,0,0,0,0,0,0,0,0,0,0,0,0,0,0,0,0,0,0,0,0,0,0,0,0,0,0,0,0,0,0,0,0,0,0,0,0,0,0,0,0,0]
[null,null,null,7,"家族との関係が悪くなった","－",0,0,0,0,0,0,0,0,0,0,0,0,0,0,0,0,0,0,0,0,0,0,0,0,0,0,0,0,0,0,0,0,0,0,0,0,0,0,0,0,0,0,0,0,0,0,0,0,0,0,0,0,0,0,0,0,0,0,0,0,0,0,0,0,0,0,0,0,0,0,0,0,0,0,0,0,0,0]
[null,null,null,8,"家で、物に当たったり、こわしたりした","－",0,0,0,0,0,0,0,0,0,0,0,0,0,0,0,0,0,0,0,0,0,0,0,0,0,0,0,0,0,0,0,0,0,0,0,0,0,0,0,0,0,0,0,0,0,0,0,0,0,0,0,0,0,0,0,0,0,0,0,0,0,0,0,0,0,0,0,0,0,0,0,0,0,0,0,0,0,0]
[null,null,null,9,"家族に暴力をふるった","－",0,0,0,0,0,0,0,0,0,0,0,0,0,0,0,0,0,0,0,0,0,0,0,0,0,0,0,0,0,0,0,0,0,0,0,0,0,0,0,0,0,0,0,0,0,0,0,0,0,0,0,0,0,0,0,0,0,0,0,0,0,0,0,0,0,0,0,0,0,0,0,0,0,0,0,0,0,0]
[null,null,null,10,"朝起きられなかった","－",0,0,0,0,0,0,0,0,0,0,0,0,0,0,0,0,0,0,0,0,0,0,0,0,0,0,0,0,0,0,0,0,0,0,0,0,0,0,0,0,0,0,0,0,0,0,0,0,0,0,0,0,0,0,0,0,0,0,0,0,0,0,0,0,0,0,0,0,0,0,0,0,0,0,0,0,0,0]
[null,null,null,11,"昼夜逆転またはその傾向","－",0,0,0,0,0,0,0,0,0,0,0,0,0,0,0,0,0,0,0,0,0,0,0,0,0,0,0,0,0,0,0,0,0,0,0,0,0,0,0,0,0,0,0,0,0,0,0,0,0,0,0,0,0,0,0,0,0,0,0,0,0,0,0,0,0,0,0,0,0,0,0,0,0,0,0,0,0,0]
[null,null,null,12,"家に引きこもっていた","－",0,0,0,0,0,0,0,0,0,0,0,0,0,0,0,0,0,0,0,0,0,0,0,0,0,0,0,0,0,0,0,0,0,0,0,0,0,0,0,0,0,0,0,0,0,0,0,0,0,0,0,0,0,0,0,0,0,0,0,0,0,0,0,0,0,0,0,0,0,0,0,0,0,0,0,0,0,0]
[null,null,null,13,"ゲーム課金が多く、家族やほかの人に注意された","－",0,0,0,0,0,0,0,0,0,0,0,0,0,0,0,0,0,0,0,0,0,0,0,0,0,0,0,0,0,0,0,0,0,0,0,0,0,0,0,0,0,0,0,0,0,0,0,0,0,0,0,0,0,0,0,0,0,0,0,0,0,0,0,0,0,0,0,0,0,0,0,0,0,0,0,0,0,0]
[null,null,null,14,"家族に内緒で、家のお金を使ったり、家族のカードを使った","－",0,0,0,0,0,0,0,0,0,0,0,0,0,0,0,0,0,0,0,0,0,0,0,0,0,0,0,0,0,0,0,0,0,0,0,0,0,0,0,0,0,0,0,0,0,0,0,0,0,0,0,0,0,0,0,0,0,0,0,0,0,0,0,0,0,0,0,0,0,0,0,0,0,0,0,0,0,0]
[null,null,null,15,"食事を定期的に摂らなかった","－",0,0,0,0,0,0,0,0,0,0,0,0,0,0,0,0,0,0,0,0,0,0,0,0,0,0,0,0,0,0,0,0,0,0,0,0,0,0,0,0,0,0,0,0,0,0,0,0,0,0,0,0,0,0,0,0,0,0,0,0,0,0,0,0,0,0,0,0,0,0,0,0,0,0,0,0,0,0]
[null,null,null,16,"その他","－",0,0,0,0,0,0,0,0,0,0,0,0,0,0,0,0,0,0,0,0,0,0,0,0,0,0,0,0,0,0,0,0,0,0,0,0,0,0,0,0,0,0,0,0,0,0,0,0,0,0,0,0,0,0,0,0,0,0,0,0,0,0,0,0,0,0,0,0,0,0,0,0,0,0,0,0,0,0]
[null,"48\n（49)","前の質問で掲げたトラブルについて、すでに解決している場合、どのようにして解決しましたか？",1,"自由記述","－",0,0,0,0,0,0,0,0,0,0,0,0,0,0,0,0,0,0,0,0,0,0,0,0,0,0,0,0,0,0,0,0,0,0,0,0,0,0,0,0,0,0,0,0,0,0,0,0,0,0,0,0,0,0,0,0,0,0,0,0,0,0,0,0,0,0,0,0,0,0,0,0,0,0,0,0,0,0]

{"sheet":"判定結果","index":6,"n_rows":18,"n_cols":13,"rows_kept":18,"cut":false,"hidden":false,"merged":[[9,5,11,5],[12,5,14,5],[15,5,17,5],[3,9,5,9],[6,9,8,9],[9,9,11,9],[12,9,14,9],[15,9,17,9],[9,0,11,0],[12,0,14,0],[15,0,17,0],[3,1,5,1],[6,1,8,1],[9,1,11,1],[12,1,14,1],[15,1,17,1],[1,9,1,12],[2,10,2,11],[3,5,5,5],[2,2,2,3],[1,1,1,4],[1,0,2,0],[1,5,1,8],[2,6,2,7],[3,0,5,0],[6,0,8,0],[6,5,8,5]]}
["ネット依存判定システムの結果"]
[null,"児童・生徒",null,null,null,"保護者",null,null,null,"合計"]
[null,"受検人数","リスク",null,"割合","受検人数","リスク",null,"割合","受検人数","リスク",null,"割合"]
["小学校",{"$f":"全体集計表!AL7","v":0},null,{"$f":"D5+D6","v":0},{"$f":"ROUND(D4/$B$4,3)","v":{"$error":"#DIV/0!"}},{"$f":"全体集計表!AM7","v":0},null,{"$f":"H5+H6","v":0},{"$f":"ROUND(H4/$F$4,3)","v":{"$error":"#DIV/0!"}},{"$f":"B4+F4","v":0},null,{"$f":"L5+L6","v":0},{"$f":"ROUND(L4/$J$4,3)","v":{"$error":"#DIV/0!"}}]
[null,null,"（中）",{"$f":"全体集計表!AH7","v":0},{"$f":"ROUND(D5/$B$4,3)","v":{"$error":"#DIV/0!"}},null,"（中）",{"$f":"全体集計表!AI7","v":0},{"$f":"ROUND(H5/$F$4,3)","v":{"$error":"#DIV/0!"}},null,"（中）",{"$f":"D5+H5","v":0},{"$f":"ROUND(L5/$J$4,3)","v":{"$error":"#DIV/0!"}}]
[null,null,"（高）",{"$f":"全体集計表!AJ7","v":0},{"$f":"ROUND(D6/$B$4,3)","v":{"$error":"#DIV/0!"}},null,"（高）",{"$f":"全体集計表!AK7","v":0},{"$f":"ROUND(H6/$F$4,3)","v":{"$error":"#DIV/0!"}},null,"（高）",{"$f":"D6+H6","v":0},{"$f":"ROUND(L6/$J$4,3)","v":{"$error":"#DIV/0!"}}]
["中学校",{"$f":"全体集計表!AL11","v":0},null,{"$f":"D8+D9","v":0},{"$f":"ROUND(D7/$B$7,3)","v":{"$error":"#DIV/0!"}},{"$f":"全体集計表!AM11","v":0},null,{"$f":"H8+H9","v":0},{"$f":"ROUND(H7/$F$7,3)","v":{"$error":"#DIV/0!"}},{"$f":"B7+F7","v":0},null,{"$f":"L8+L9","v":0},{"$f":"ROUND(L7/$J$7,3)","v":{"$error":"#DIV/0!"}}]
[null,null,"（中）",{"$f":"全体集計表!AH11","v":0},{"$f":"ROUND(D8/$B$7,3)","v":{"$error":"#DIV/0!"}},null,"（中）",{"$f":"全体集計表!AI11","v":0},{"$f":"ROUND(H8/$F$7,3)","v":{"$error":"#DIV/0!"}},null,"（中）",{"$f":"D8+H8","v":0},{"$f":"ROUND(L8/$J$7,3)","v":{"$error":"#DIV/0!"}}]
[null,null,"（高）",{"$f":"全体集計表!AJ11","v":0},{"$f":"ROUND(D9/$B$7,3)","v":{"$error":"#DIV/0!"}},null,"（高）",{"$f":"全体集計表!AK11","v":0},{"$f":"ROUND(H9/$F$7,3)","v":{"$error":"#DIV/0!"}},null,"（高）",{"$f":"D9+H9","v":0},{"$f":"ROUND(L9/$J$7,3)","v":{"$error":"#DIV/0!"}}]
["高　校",{"$f":"全体集計表!AL15","v":0},null,{"$f":"D11+D12","v":0},{"$f":"ROUND(D10/$B$10,3)","v":{"$error":"#DIV/0!"}},{"$f":"全体集計表!AM15","v":0},null,{"$f":"H11+H12","v":0},{"$f":"ROUND(H10/$F$10,3)","v":{"$error":"#DIV/0!"}},{"$f":"B10+F10","v":0},null,{"$f":"L11+L12","v":0},{"$f":"ROUND(L10/$J$10,3)","v":{"$error":"#DIV/0!"}}]
[null,null,"（中）",{"$f":"全体集計表!AH15","v":0},{"$f":"ROUND(D11/$B$10,3)","v":{"$error":"#DIV/0!"}},null,"（中）",{"$f":"全体集計表!AI15","v":0},{"$f":"ROUND(H11/$F$10,3)","v":{"$error":"#DIV/0!"}},null,"（中）",{"$f":"D11+H11","v":0},{"$f":"ROUND(L11/$J$10,3)","v":{"$error":"#DIV/0!"}}]
[null,null,"（高）",{"$f":"全体集計表!AJ15","v":0},{"$f":"ROUND(D12/$B$10,3)","v":{"$error":"#DIV/0!"}},null,"（高）",{"$f":"全体集計表!AK15","v":0},{"$f":"ROUND(H12/$F$10,3)","v":{"$error":"#DIV/0!"}},null,"（高）",{"$f":"D12+H12","v":0},{"$f":"ROUND(L12/$J$10,3)","v":{"$error":"#DIV/0!"}}]
["特別支援",{"$f":"全体集計表!AL19+全体集計表!AL23+全体集計表!AL27","v":0},null,{"$f":"D14+D15","v":0},{"$f":"ROUND(D13/$B$13,3)","v":{"$error":"#DIV/0!"}},{"$f":"全体集計表!AM19+全体集計表!AM23+全体集計表!AM27","v":0},null,{"$f":"H14+H15","v":0},{"$f":"ROUND(H13/$F$13,3)","v":{"$error":"#DIV/0!"}},{"$f":"B13+F13","v":0},null,{"$f":"L14+L15","v":0},{"$f":"ROUND(L13/$J$13,3)","v":{"$error":"#DIV/0!"}}]
[null,null,"（中）",{"$f":"全体集計表!AH19+全体集計表!AH23+全体集計表!AH27","v":0},{"$f":"ROUND(D14/$B$13,3)","v":{"$error":"#DIV/0!"}},null,"（中）",{"$f":"全体集計表!AI19+全体集計表!AI23+全体集計表!AI27","v":0},{"$f":"ROUND(H14/$F$13,3)","v":{"$error":"#DIV/0!"}},null,"（中）",{"$f":"D14+H14","v":0},{"$f":"ROUND(L14/$J$13,3)","v":{"$error":"#DIV/0!"}}]
[null,null,"（高）",{"$f":"全体集計表!AJ19+全体集計表!AJ23+全体集計表!AJ27","v":0},{"$f":"ROUND(D15/$B$13,3)","v":{"$error":"#DIV/0!"}},null,"（高）",{"$f":"全体集計表!AK19+全体集計表!AK23+全体集計表!AK27","v":0},{"$f":"ROUND(H15/$F$13,3)","v":{"$error":"#DIV/0!"}},null,"（高）",{"$f":"D15+H15","v":0},{"$f":"ROUND(L15/$J$13,3)","v":{"$error":"#DIV/0!"}}]
["計",{"$f":"B4+B7+B10+B13","v":0},null,{"$f":"D17+D18","v":0},{"$f":"ROUND(D16/$B$16,3)","v":{"$error":"#DIV/0!"}},{"$f":"F4+F7+F10+F13","v":0},null,{"$f":"H17+H18","v":0},{"$f":"ROUND(H16/$F$16,3)","v":{"$error":"#DIV/0!"}},{"$f":"J4+J7+J10+J13","v":0},null,{"$f":"L17+L18","v":0},{"$f":"ROUND(L16/$J$16,3)","v":{"$error":"#DIV/0!"}}]
[null,null,"（中）",{"$f":"D5+D8+D11+D14","v":0},{"$f":"ROUND(D17/$B$16,3)","v":{"$error":"#DIV/0!"}},null,"（中）",{"$f":"H5+H8+H11+H14","v":0},{"$f":"ROUND(H17/$F$16,3)","v":{"$error":"#DIV/0!"}},null,"（中）",{"$f":"D17+H17","v":0},{"$f":"ROUND(L17/$J$16,3)","v":{"$error":"#DIV/0!"}}]
[null,null,"（高）",{"$f":"D6+D9+D12+D15","v":0},{"$f":"ROUND(D18/$B$16,3)","v":{"$error":"#DIV/0!"}},null,"（高）",{"$f":"H6+H9+H12+H15","v":0},{"$f":"ROUND(H18/$F$16,3)","v":{"$error":"#DIV/0!"}},null,"（高）",{"$f":"D18+H18","v":0},{"$f":"ROUND(L18/$J$16,3)","v":{"$error":"#DIV/0!"}}]

{"sheet":"全体集計表","index":7,"n_rows":52,"n_cols":39,"rows_kept":52,"cut":false,"hidden":false,"merged":[[31,4,31,5],[31,6,31,7],[31,8,31,9],[33,26,34,26],[33,3,33,11],[33,12,33,17],[31,24,31,25],[31,26,31,27],[31,10,31,11],[31,13,31,14],[31,15,31,16],[31,17,31,18],[31,19,31,20],[33,18,33,25],[31,28,31,29],[31,31,31,32],[31,33,31,34],[1,37,1,38],[0,31,0,38],[0,22,0,29],[31,22,31,23],[31,35,31,36],[31,37,31,38],[0,30,2,30],[1,31,1,32],[1,33,1,34],[1,35,1,36],[1,19,1,20],[0,13,0,20],[1,28,1,29],[0,21,2,21],[1,22,1,23],[1,24,1,25],[1,26,1,27],[1,15,1,16],[1,17,1,18],[1,13,1,14],[39,0,42,1],[43,0,46,1],[47,0,47,2],[33,0,34,2],[27,0,31,1],[30,2,31,2],[35,0,38,1],[0,0,2,2],[0,3,2,3],[3,0,6,1],[0,12,2,12],[1,4,1,5],[1,6,1,7],[1,8,1,9],[0,4,0,11],[1,10,1,11],[11,0,14,1],[15,0,26,0],[15,1,18,1],[19,1,22,1],[7,0,10,1],[23,1,26,1]]}
[null,null,null,"学校\n数","公立",null,null,null,null,null,null,null,"学校\n数","私立",null,null,null,null,null,null,null,"学校\n数","フリーユーザ",null,null,null,null,null,null,null,"学校\n数","合計"]
[null,null,null,null,"リスクなし",null,"中リスク",null,"高リスク",null,"計",null,null,"リスクなし",null,"中リスク",null,"高リスク",null,"計",null,null,"リスクなし",null,"中リスク",null,"高リスク",null,"計",null,null,"リスクなし",null,"中リスク",null,"高リスク",null,"計"]
[null,null,null,null,"子供","親","子供","親","子供","親","子供","親",null,"子供","親","子供","親","子供","親","子供","親",null,"子供","親","子供","親","子供","親","子供","親",null,"子供","親","子供","親","子供","親","子供","親"]
["小学生",null,"男",null,null,null,null,null,null,null,{"$f":"E4+G4+I4","v":0},{"$f":"F4+H4+J4","v":0},null,null,null,null,null,null,null,{"$f":"N4+P4+R4","v":0},{"$f":"O4+Q4+S4","v":0},null,null,null,null,null,null,null,{"$f":"W4+Y4+AA4","v":0},{"$f":"X4+Z4+AB4","v":0},null,{"$f":"E4+N4+W4","v":0},0,0,0,0,0,{"$f":"AF4+AH4+AJ4","v":0},{"$f":"AG4+AI4+AK4","v":0}]
[null,null,"女",null,null,null,null,null,null,null,{"$f":"E5+G5+I5","v":0},{"$f":"F5+H5+J5","v":0},null,null,null,null,null,null,null,{"$f":"N5+P5+R5","v":0},{"$f":"O5+Q5+S5","v":0},null,null,null,null,null,null,null,{"$f":"W5+Y5+AA5","v":0},{"$f":"X5+Z5+AB5","v":0},null,0,0,0,0,0,0,{"$f":"AF5+AH5+AJ5","v":0},{"$f":"AG5+AI5+AK5","v":0}]
[null,null,"－",null,null,null,null,null,null,null,0,0,null,null,null,null,null,null,null,0,0,null,null,null,null,null,null,null,0,0,null,0,0,0,0,0,0,{"$f":"AF6+AH6+AJ6","v":0},0]
[null,null,"計",null,{"$f":"SUM(E4:E6)","v":0},0,0,0,0,0,0,{"$f":"F7+H7+J7","v":0},null,{"$f":"SUM(N4:N6)","v":0},0,0,0,0,0,0,0,null,{"$f":"SUM(W4:W6)","v":0},0,0,0,0,0,0,0,{"$f":"D7+M7+V7","v":0},{"$f":"SUM(AF4:AF6)","v":0},0,0,0,0,0,0,0]
["中学生",null,"男",null,null,null,null,null,null,null,0,0,null,null,null,null,null,null,null,0,0,null,null,null,null,null,null,null,0,0,null,{"$f":"E8+N8+W8","v":0},0,0,0,0,0,0,0]
[null,null,"女",null,null,null,null,null,null,null,0,0,null,null,null,null,null,null,null,0,0,null,null,null,null,null,null,null,0,0,null,0,0,0,0,0,0,0,0]
[null,null,"－",null,null,null,null,null,null,null,0,0,null,null,null,null,null,null,null,0,0,null,null,null,null,null,null,null,0,0,null,0,0,0,0,0,0,0,0]
[null,null,"計",null,{"$f":"SUM(E8:E10)","v":0},0,0,0,0,0,0,{"$f":"F11+H11+J11","v":0},null,{"$f":"SUM(N8:N10)","v":0},0,0,0,0,0,0,0,null,{"$f":"SUM(W8:W10)","v":0},0,0,0,0,0,0,0,{"$f":"D11+M11+V11","v":0},{"$f":"SUM(AF8:AF10)","v":0},0,0,0,0,0,0,0]
["高校生",null,"男",null,null,null,null,null,null,null,0,0,null,null,null,null,null,null,null,0,0,null,null,null,null,null,null,null,0,0,null,{"$f":"E12+N12+W12","v":0},0,0,0,0,0,0,0]
[null,null,"女",null,null,null,null,null,null,null,0,0,null,null,null,null,null,null,null,0,0,null,null,null,null,null,null,null,0,0,null,0,0,0,0,0,0,0,0]
[null,null,"－",null,null,null,null,null,null,null,0,0,null,null,null,null,null,null,null,0,0,null,null,null,null,null,null,null,0,0,null,0,0,0,0,0,0,0,0]
[null,null,"計",null,{"$f":"SUM(E12:E14)","v":0},0,0,0,0,0,0,{"$f":"F15+H15+J15","v":0},null,{"$f":"SUM(N12:N14)","v":0},0,0,0,0,0,0,0,null,{"$f":"SUM(W12:W14)","v":0},0,0,0,0,0,0,0,{"$f":"D15+M15+V15","v":0},{"$f":"SUM(AF12:AF14)","v":0},0,0,0,0,0,0,0]
["特\n別\n支\n援","小","男",null,null,null,null,null,null,null,0,0,null,null,null,null,null,null,null,0,0,null,null,null,null,null,null,null,0,0,null,{"$f":"E16+N16+W16","v":0},0,0,0,0,0,0,0]
[null,null,"女",null,null,null,null,null,null,null,0,0,null,null,null,null,null,null,null,0,0,null,null,null,null,null,null,null,0,0,null,0,0,0,0,0,0,0,0]
[null,null,"－",null,null,null,null,null,null,null,0,0,null,null,null,null,null,null,null,0,0,null,null,null,null,null,null,null,0,0,null,0,0,0,0,0,0,0,0]
[null,null,"計",null,{"$f":"SUM(E16:E18)","v":0},0,0,0,0,0,0,{"$f":"F19+H19+J19","v":0},null,{"$f":"SUM(N16:N18)","v":0},0,0,0,null,0,0,0,null,{"$f":"SUM(W16:W18)","v":0},0,0,0,0,0,0,0,{"$f":"D19+M19+V19","v":0},{"$f":"SUM(AF16:AF18)","v":0},0,0,0,0,0,0,0]
[null,"中","男",null,null,null,null,null,null,null,0,0,null,null,null,null,null,null,null,0,0,null,null,null,null,null,null,null,0,0,null,{"$f":"E20+N20+W20","v":0},0,0,0,0,0,0,0]
[null,null,"女",null,null,null,null,null,null,null,0,0,null,null,null,null,null,null,null,0,0,null,null,null,null,null,null,null,0,0,null,0,0,0,0,0,0,0,0]
[null,null,"－",null,null,null,null,null,null,null,0,0,null,null,null,null,null,null,null,0,0,null,null,null,null,null,null,null,0,0,null,0,0,0,0,0,0,0,0]
[null,null,"計",null,{"$f":"SUM(E20:E22)","v":0},0,0,0,0,0,{"$f":"E23+G23+I23","v":0},0,null,{"$f":"SUM(N20:N22)","v":0},0,0,0,null,0,{"$f":"N23+P23+R23","v":0},{"$f":"O23+Q23+S23","v":0},null,{"$f":"SUM(W20:W22)","v":0},0,0,0,0,0,{"$f":"W23+Y23+AA23","v":0},{"$f":"X23+Z23+AB23","v":0},{"$f":"D23+M23+V23","v":0},{"$f":"SUM(AF20:AF22)","v":0},0,0,0,0,0,{"$f":"AF23+AH23+AJ23","v":0},{"$f":"AG23+AI23+AK23","v":0}]
[null,"高","男",null,null,null,null,null,null,null,0,0,null,null,null,null,null,null,null,0,0,null,null,null,null,null,null,null,0,0,null,{"$f":"E24+N24+W24","v":0},0,0,0,0,0,0,0]
[null,null,"女",null,null,null,null,null,null,null,0,0,null,null,null,null,null,null,null,0,0,null,null,null,null,null,null,null,0,0,null,0,0,0,0,0,0,0,0]
[null,null,"－",null,null,null,null,null,null,null,0,0,null,null,null,null,null,null,null,0,0,null,null,null,null,null,null,null,0,0,null,0,0,0,0,0,0,0,0]
[null,null,"計",null,{"$f":"SUM(E24:E26)","v":0},0,0,0,0,0,0,{"$f":"F27+H27+J27","v":0},null,{"$f":"SUM(N24:N26)","v":0},0,0,0,null,0,0,0,null,{"$f":"SUM(W24:W26)","v":0},0,0,0,0,0,0,0,{"$f":"D27+M27+V27","v":0},{"$f":"SUM(AF24:AF26)","v":0},0,0,0,0,0,0,0]
["合計",null,"男",null,{"$f":"E4+E8+E12+E16+E20+E24","v":0},0,0,0,0,0,0,0,null,{"$f":"N4+N8+N12+N16+N20+N24","v":0},0,0,0,0,0,0,0,null,{"$f":"W4+W8+W12+W16+W20+W24","v":0},0,0,0,0,0,0,0,null,{"$f":"E28+N28+W28","v":0},0,0,0,0,0,0,0]
[null,null,"女",null,0,0,0,0,0,0,0,0,null,0,0,0,0,0,0,0,0,null,0,0,0,0,0,0,0,0,null,0,0,0,0,0,0,0,0]
[null,null,"－",null,0,0,0,0,0,0,0,0,null,0,0,0,0,0,0,0,0,null,0,0,0,0,0,0,0,0,null,0,0,0,0,0,0,0,0]
[null,null,"計",{"$f":"D7+D11+D15+D19+D23+D27","v":0},0,0,0,0,0,0,0,0,{"$f":"M7+M11+M15+M19+M23+M27","v":0},0,0,0,0,0,0,0,0,{"$f":"V7+V11+V15+V19+V23+V27","v":0},0,0,0,0,0,0,0,0,0,0,0,0,0,0,0,0,0]
[null,null,null,null,{"$f":"E31+F31","v":0},null,{"$f":"G31+H31","v":0},null,{"$f":"I31+J31","v":0},null,{"$f":"K31+L31","v":0},null,null,{"$f":"N31+O31","v":0},null,{"$f":"P31+Q31","v":0},null,{"$f":"R31+S31","v":0},null,{"$f":"T31+U31","v":0},null,null,{"$f":"W31+X31","v":0},null,{"$f":"Y31+Z31","v":0},null,{"$f":"AA31+AB31","v":0},null,{"$f":"AC31+AD31","v":0},null,null,{"$f":"AF31+AG31","v":0},null,{"$f":"AH31+AI31","v":0},null,{"$f":"AJ31+AK31","v":0},null,{"$f":"AL31+AM31","v":0}]
[]
[null,null,null,"小学校相当年齢",null,null,null,null,null,null,null,null,"中学校相当年齢",null,null,null,null,null,"高校生相当年齢以上",null,null,null,null,null,null,null,"合計"]
[null,null,null,"１年","２年","３年","４年","５年","６年","－",null,"計","１年","２年","３年","－",null,"計","１年","２年","３年","４年","その他","－",null,"計"]
["リスク\nなし",null,"男",null,null,null,null,null,null,null,null,{"$f":"SUM(D36:K36)","v":0},null,null,null,null,null,{"$f":"SUM(M36:Q36)","v":0},null,null,null,null,null,null,null,{"$f":"SUM(S36:Y36)","v":0},{"$f":"L36+R36+Z36","v":0}]
[null,null,"女",null,null,null,null,null,null,null,null,{"$f":"SUM(D37:K37)","v":0},null,null,null,null,null,{"$f":"SUM(M37:Q37)","v":0},null,null,null,null,null,null,null,{"$f":"SUM(S37:Y37)","v":0},{"$f":"L37+R37+Z37","v":0}]
[null,null,"－",null,null,null,null,null,null,null,null,{"$f":"SUM(D38:K38)","v":0},null,null,null,null,null,{"$f":"SUM(M38:Q38)","v":0},null,null,null,null,null,null,null,{"$f":"SUM(S38:Y38)","v":0},{"$f":"L38+R38+Z38","v":0}]
[null,null,"計",{"$f":"SUM(D36:D38)","v":0},0,0,0,0,0,0,0,{"$f":"SUM(L36:L38)","v":0},0,0,0,0,0,{"$f":"SUM(R36:R38)","v":0},0,0,0,0,0,{"$f":"SUM(X36:X38)","v":0},0,{"$f":"SUM(Z36:Z38)","v":0},0]
["中\nリスク",null,"男",null,null,null,null,null,null,null,null,{"$f":"SUM(D40:K40)","v":0},null,null,null,null,null,{"$f":"SUM(M40:Q40)","v":0},null,null,null,null,null,null,null,{"$f":"SUM(S40:Y40)","v":0},{"$f":"L40+R40+Z40","v":0}]
[null,null,"女",null,null,null,null,null,null,null,null,{"$f":"SUM(D41:K41)","v":0},null,null,null,null,null,{"$f":"SUM(M41:Q41)","v":0},null,null,null,null,null,null,null,{"$f":"SUM(S41:Y41)","v":0},{"$f":"L41+R41+Z41","v":0}]
[null,null,"－",null,null,null,null,null,null,null,null,{"$f":"SUM(D42:K42)","v":0},null,null,null,null,null,{"$f":"SUM(M42:Q42)","v":0},null,null,null,null,null,null,null,{"$f":"SUM(S42:Y42)","v":0},{"$f":"L42+R42+Z42","v":0}]
[null,null,"計",{"$f":"SUM(D40:D42)","v":0},0,0,0,0,0,0,0,{"$f":"SUM(L40:L42)","v":0},0,0,0,0,0,0,0,0,0,0,0,0,0,0,0]
["高\nリスク",null,"男",null,null,null,null,null,null,null,null,{"$f":"SUM(D44:K44)","v":0},null,null,null,null,null,{"$f":"SUM(M44:Q44)","v":0},null,null,null,null,null,null,null,{"$f":"SUM(S44:Y44)","v":0},{"$f":"L44+R44+Z44","v":0}]
[null,null,"女",null,null,null,null,null,null,null,null,{"$f":"SUM(D45:K45)","v":0},null,null,null,null,null,{"$f":"SUM(M45:Q45)","v":0},null,null,null,null,null,null,null,{"$f":"SUM(S45:Y45)","v":0},{"$f":"L45+R45+Z45","v":0}]
[null,null,"－",null,null,null,null,null,null,null,null,{"$f":"SUM(D46:K46)","v":0},null,null,null,null,null,{"$f":"SUM(M46:Q46)","v":0},null,null,null,null,null,null,null,{"$f":"SUM(S46:Y46)","v":0},{"$f":"L46+R46+Z46","v":0}]
[null,null,"計",{"$f":"SUM(D44:D46)","v":0},0,0,0,0,0,0,{"$f":"SUM(K44:K46)","v":0},0,0,0,0,{"$f":"SUM(P44:P46)","v":0},{"$f":"SUM(Q44:Q46)","v":0},0,0,0,0,{"$f":"SUM(V44:V46)","v":0},{"$f":"SUM(W44:W46)","v":0},0,0,0,0]
["合計",null,null,{"$f":"SUM(D39,D43,D47)","v":0},{"$f":"SUM(E39,E43,E47)","v":0},0,0,0,0,0,0,0,0,0,0,0,0,0,0,0,0,{"$f":"SUM(V39,V43,V47)","v":0},0,0,0,0,0]
[]
[null,null,null,0,0,0,0,0,0,0,0,null,0,0,0,0,0,null,0,0,0,0,0,0,0]
[null,null,null,0,0,0,0,0,0,0,0,null,0,0,0,0,0,null,0,0,0,0,0,0,0]
[null,null,null,0,0,0,0,0,0,0,0,null,0,0,0,0,0,null,0,0,0,0,0,0,0]

{"sheet":"学校別集計","index":8,"n_rows":4,"n_cols":486,"rows_kept":4,"cut":false,"hidden":false,"merged":[[1,256,1,485],[2,10,2,12],[2,13,2,15],[2,16,2,18],[2,19,2,21],[2,22,2,24],[2,110,2,209],[2,469,2,485],[2,256,2,271],[2,272,2,331],[2,332,2,431],[2,432,2,468],[1,0,2,9],[1,10,1,21],[1,22,1,33],[1,34,1,255],[2,25,2,27],[2,28,2,30],[2,31,2,33],[2,34,2,49],[2,50,2,109],[2,210,2,238],[2,239,2,255]]}
[1,2,3,4,5,6,7,8,9,10,11,12,13,14,15,16,17,18,19,20,21,22,23,24,25,26,27,28,29,30,31,32,33,34,35,36,37,38,39,40,41,42,43,44,45,46,47,48,49,50,51,52,53,54,55,56,57,58,59,60,61,62,63,64,65,66,67,68,69,70,71,72,73,74,75,76,77,78,79,80,81,82,83,84,85,86,87,88,89,90,91,92,93,94,95,96,97,98,99,100,101,102,103,104,105,106,107,108,109,110,111,112,113,114,115,116,117,118,119,120,121,122,123,124,125,126,127,128,129,130,131,132,133,134,135,136,137,138,139,140,141,142,143,144,145,146,147,148,149,150,151,152,153,154,155,156,157,158,159,160,161,162,163,164,165,166,167,168,169,170,171,172,173,174,175,176,177,178,179,180,181,182,183,184,185,186,187,188,189,190,191,192,193,194,195,196,197,198,199,200,201,202,203,204,205,206,207,208,209,210,211,212,213,214,215,216,217,218,219,220,221,222,223,224,225,226,227,228,229,230,231,232,233,234,235,236,237,238,239,240,241,242,243,244,245,246,247,248,249,250,251,252,253,254,255,256,257,258,259,260,261,262,263,264,265,266,267,268,269,270,271,272,273,274,275,276,277,278,279,280,281,282,283,284,285,286,287,288,289,290,291,292,293,294,295,296,297,298,299,300,301,302,303,304,305,306,307,308,309,310,311,312,313,314,315,316,317,318,319,320,321,322,323,324,325,326,327,328,329,330,331,332,333,334,335,336,337,338,339,340,341,342,343,344,345,346,347,348,349,350,351,352,353,354,355,356,357,358,359,360,361,362,363,364,365,366,367,368,369,370,371,372,373,374,375,376,377,378,379,380,381,382,383,384,385,386,387,388,389,390,391,392,393,394,395,396,397,398,399,400,401,402,403,404,405,406,407,408,409,410,411,412,413,414,415,416,417,418,419,420,421,422,423,424,425,426,427,428,429,430,431,432,433,434,435,436,437,438,439,440,441,442,443,444,445,446,447,448,449,450,451,452,453,454,455,456,457,458,459,460,461,462,463,464,465,466,467,468,469,470,471,472,473,474,475,476,477,478,479,480,481,482,483,484,485,486]
["学校区分",null,null,null,null,null,null,null,null,null,"児童・生徒",null,null,null,null,null,null,null,null,null,null,null,"保護者",null,null,null,null,null,null,null,null,null,null,null,"児童・生徒",null,null,null,null,null,null,null,null,null,null,null,null,null,null,null,null,null,null,null,null,null,null,null,null,null,null,null,null,null,null,null,null,null,null,null,null,null,null,null,null,null,null,null,null,null,null,null,null,null,null,null,null,null,null,null,null,null,null,null,null,null,null,null,null,null,null,null,null,null,null,null,null,null,null,null,null,null,null,null,null,null,null,null,null,null,null,null,null,null,null,null,null,null,null,null,null,null,null,null,null,null,null,null,null,null,null,null,null,null,null,null,null,null,null,null,null,null,null,null,null,null,null,null,null,null,null,null,null,null,null,null,null,null,null,null,null,null,null,null,null,null,null,null,null,null,null,null,null,null,null,null,null,null,null,null,null,null,null,null,null,null,null,null,null,null,null,null,null,null,null,null,null,null,null,null,null,null,null,null,null,null,null,null,null,null,null,null,null,null,null,null,null,null,null,null,null,null,null,null,null,null,null,null,null,null,null,null,null,null,null,null,null,null,null,null,null,null,null,null,null,null,"保護者"]
[null,null,null,null,null,null,null,null,null,null,"総合判定",null,null,"Ｋスケール",null,null,"ＩＡＴ",null,null,"ＤＱ（参考）",null,null,"総合判定",null,null,"Ｋスケール",null,null,"ＩＡＴ",null,null,"ＤＱ（参考）",null,null,"ＤＱ",null,null,null,null,null,null,null,null,null,null,null,null,null,null,null,"Ｋスケール",null,null,null,null,null,null,null,null,null,null,null,null,null,null,null,null,null,null,null,null,null,null,null,null,null,null,null,null,null,null,null,null,null,null,null,null,null,null,null,null,null,null,null,null,null,null,null,null,null,null,null,null,null,null,null,null,null,null,null,"ＩＡＴ",null,null,null,null,null,null,null,null,null,null,null,null,null,null,null,null,null,null,null,null,null,null,null,null,null,null,null,null,null,null,null,null,null,null,null,null,null,null,null,null,null,null,null,null,null,null,null,null,null,null,null,null,null,null,null,null,null,null,null,null,null,null,null,null,null,null,null,null,null,null,null,null,null,null,null,null,null,null,null,null,null,null,null,null,null,null,null,null,null,null,null,null,null,null,null,null,null,null,null,"基本項目",null,null,null,null,null,null,null,null,null,null,null,null,null,null,null,null,null,null,null,null,null,null,null,null,null,null,null,null,"アンケート",null,null,null,null,null,null,null,null,null,null,null,null,null,null,null,null,"ＤＱ",null,null,null,null,null,null,null,null,null,null,null,null,null,null,null,"Ｋスケール",null,null,null,null,null,null,null,null,null,null,null,null,null,null,null,null,null,null,null,null,null,null,null,null,null,null,null,null,null,null,null,null,null,null,null,null,null,null,null,null,null,null,null,null,null,null,null,null,null,null,null,null,null,null,null,null,null,null,null,"ＩＡＴ",null,null,null,null,null,null,null,null,null,null,null,null,null,null,null,null,null,null,null,null,null,null,null,null,null,null,null,null,null,null,null,null,null,null,null,null,null,null,null,null,null,null,null,null,null,null,null,null,null,null,null,null,null,null,null,null,null,null,null,null,null,null,null,null,null,null,null,null,null,null,null,null,null,null,null,null,null,null,null,null,null,null,null,null,null,null,null,null,null,null,null,null,null,null,null,null,null,null,null,"基本項目",null,null,null,null,null,null,null,null,null,null,null,null,null,null,null,null,null,null,null,null,null,null,null,null,null,null,null,null,null,null,null,null,null,null,null,null,"アンケート"]
["学校番号","市町区分","設置区分","学校名","期間番号","校種区分","学年","クラス","性別","人数","問題なし","要注意","ネット依存が疑われる","リスクなし","中リスク","高リスク","リスクなし","中リスク","高リスク","リスクなし","中リスク","高リスク","問題なし","要注意","ネット依存が疑われる","リスクなし","中リスク","高リスク","リスクなし","中リスク","高リスク","リスクなし","中リスク","高リスク","質問４(1)","質問４(2)","質問５(1)","質問５(2)","質問６(1)","質問６(2)","質問７(1)","質問７(2)","質問８(1)","質問８(2)","質問９(1)","質問９(2)","質問10(1)","質問10(2)","質問11(1)","質問11(2)","質問12(1)","質問12(2)","質問12(3)","質問12(4)","質問13(1)","質問13(2)","質問13(3)","質問13(4)","質問14(1)","質問14(2)","質問14(3)","質問14(4)","質問15(1)","質問15(2)","質問15(3)","質問15(4)","質問16(1)","質問16(2)","質問16(3)","質問16(4)","質問17(1)","質問17(2)","質問17(3)","質問17(4)","質問18(1)","質問18(2)","質問18(3)","質問18(4)","質問19(1)","質問19(2)","質問19(3)","質問19(4)","質問20(1)","質問20(2)","質問20(3)","質問20(4)","質問21(1)","質問21(2)","質問21(3)","質問21(4)","質問22(1)","質問22(2)","質問22(3)","質問22(4)","質問23(1)","質問23(2)","質問23(3)","質問23(4)","質問24(1)","質問24(2)","質問24(3)","質問24(4)","質問25(1)","質問25(2)","質問25(3)","質問25(4)","質問26(1)","質問26(2)","質問26(3)","質問26(4)","質問27(1)","質問27(2)","質問27(3)","質問27(4)","質問27(5)","質問28(1)","質問28(2)","質問28(3)","質問28(4)","質問28(5)","質問29(1)","質問29(2)","質問29(3)","質問29(4)","質問29(5)","質問30(1)","質問30(2)","質問30(3)","質問30(4)","質問30(5)","質問31(1)","質問31(2)","質問31(3)","質問31(4)","質問31(5)","質問32(1)","質問32(2)","質問32(3)","質問32(4)","質問32(5)","質問33(1)","質問33(2)","質問33(3)","質問33(4)","質問33(5)","質問34(1)","質問34(2)","質問34(3)","質問34(4)","質問34(5)","質問35(1)","質問35(2)","質問35(3)","質問35(4)","質問35(5)","質問36(1)","質問36(2)","質問36(3)","質問36(4)","質問36(5)","質問37(1)","質問37(2)","質問37(3)","質問37(4)","質問37(5)","質問38(1)","質問38(2)","質問38(3)","質問38(4)","質問38(5)","質問39(1)","質問39(2)","質問39(3)","質問39(4)","質問39(5)","質問40(1)","質問40(2)","質問40(3)","質問40(4)","質問40(5)","質問41(1)","質問41(2)","質問41(3)","質問41(4)","質問41(5)","質問42(1)","質問42(2)","質問42(3)","質問42(4)","質問42(5)","質問43(1)","質問43(2)","質問43(3)","質問43(4)","質問43(5)","質問44(1)","質問44(2)","質問44(3)","質問44(4)","質問44(5)","質問45(1)","質問45(2)","質問45(3)","質問45(4)","質問45(5)","質問46(1)","質問46(2)","質問46(3)","質問46(4)","質問46(5)","質問１(1)","質問１(2)","質問１(3)","質問１(4)","質問１(5)","質問１(6)","質問１(7)","質問２(1)","質問２(2)","質問２(3)","質問２(4)","質問２(5)","質問２(6)","質問２(7)","質問２(8)","質問２(9)","質問２(10)","質問２(11)","質問２(12)","質問３(1)","質問３(2)","質問３(3)","質問３(4)","質問３(5)","質問３(6)","質問３(7)","質問３(8)","質問３(9)","質問３(10)","質問47(1)","質問47(2)","質問47(3)","質問47(4)","質問47(5)","質問47(6)","質問47(7)","質問47(8)","質問47(9)","質問47(10)","質問47(11)","質問47(12)","質問47(13)","質問47(14)","質問47(15)","質問47(16)","質問48","質問５(1)","質問５(2)","質問６(1)","質問６(2)","質問７(1)","質問７(2)","質問８(1)","質問８(2)","質問９(1)","質問９(2)","質問10(1)","質問10(2)","質問11(1)","質問11(2)","質問12(1)","質問12(2)","質問13(1)","質問13(2)","質問13(3)","質問13(4)","質問14(1)","質問14(2)","質問14(3)","質問14(4)","質問15(1)","質問15(2)","質問15(3)","質問15(4)","質問16(1)","質問16(2)","質問16(3)","質問16(4)","質問17(1)","質問17(2)","質問17(3)","質問17(4)","質問18(1)","質問18(2)","質問18(3)","質問18(4)","質問19(1)","質問19(2)","質問19(3)","質問19(4)","質問20(1)","質問20(2)","質問20(3)","質問20(4)","質問21(1)","質問21(2)","質問21(3)","質問21(4)","質問22(1)","質問22(2)","質問22(3)","質問22(4)","質問23(1)","質問23(2)","質問23(3)","質問23(4)","質問24(1)","質問24(2)","質問24(3)","質問24(4)","質問25(1)","質問25(2)","質問25(3)","質問25(4)","質問26(1)","質問26(2)","質問26(3)","質問26(4)","質問27(1)","質問27(2)","質問27(3)","質問27(4)","質問28(1)","質問28(2)","質問28(3)","質問28(4)","質問28(5)","質問29(1)","質問29(2)","質問29(3)","質問29(4)","質問29(5)","質問30(1)","質問30(2)","質問30(3)","質問30(4)","質問30(5)","質問31(1)","質問31(2)","質問31(3)","質問31(4)","質問31(5)","質問32(1)","質問32(2)","質問32(3)","質問32(4)","質問32(5)","質問33(1)","質問33(2)","質問33(3)","質問33(4)","質問33(5)","質問34(1)","質問34(2)","質問34(3)","質問34(4)","質問34(5)","質問35(1)","質問35(2)","質問35(3)","質問35(4)","質問35(5)","質問36(1)","質問36(2)","質問36(3)","質問36(4)","質問36(5)","質問37(1)","質問37(2)","質問37(3)","質問37(4)","質問37(5)","質問38(1)","質問38(2)","質問38(3)","質問38(4)","質問38(5)","質問39(1)","質問39(2)","質問39(3)","質問39(4)","質問39(5)","質問40(1)","質問40(2)","質問40(3)","質問40(4)","質問40(5)","質問41(1)","質問41(2)","質問41(3)","質問41(4)","質問41(5)","質問42(1)","質問42(2)","質問42(3)","質問42(4)","質問42(5)","質問43(1)","質問43(2)","質問43(3)","質問43(4)","質問43(5)","質問44(1)","質問44(2)","質問44(3)","質問44(4)","質問44(5)","質問45(1)","質問45(2)","質問45(3)","質問45(4)","質問45(5)","質問46(1)","質問46(2)","質問46(3)","質問46(4)","質問46(5)","質問47(1)","質問47(2)","質問47(3)","質問47(4)","質問47(5)","質問１(1)","質問１(2)","質問１(3)","質問１(4)","質問１(5)","質問１(6)","質問１(7)","質問２(1)","質問２(2)","質問２(3)","質問２(4)","質問２(5)","質問２(6)","質問２(7)","質問２(8)","質問２(9)","質問２(10)","質問２(11)","質問２(12)","質問３(1)","質問３(2)","質問３(3)","質問３(4)","質問３(5)","質問３(6)","質問３(7)","質問３(8)","質問３(9)","質問３(10)","質問４(1)","質問４(2)","質問４(3)","質問４(4)","質問４(5)","質問４(6)","質問４(7)","質問４(8)","質問48(1)","質問48(2)","質問48(3)","質問48(4)","質問48(5)","質問48(6)","質問48(7)","質問48(8)","質問48(9)","質問48(10)","質問48(11)","質問48(12)","質問48(13)","質問48(14)","質問48(15)","質問48(16)","質問49"]

{"sheet":"集計","index":9,"n_rows":4,"n_cols":486,"rows_kept":4,"cut":false,"hidden":false,"merged":[[1,34,1,255],[2,210,2,238],[2,239,2,255],[2,34,2,49],[2,50,2,109],[2,110,2,209],[1,256,1,485],[2,432,2,468],[2,469,2,485],[2,256,2,271],[2,272,2,331],[2,332,2,431],[1,0,2,9],[2,28,2,30],[2,31,2,33],[1,22,1,33],[2,10,2,12],[2,13,2,15],[2,16,2,18],[2,19,2,21],[1,10,1,21],[2,22,2,24],[2,25,2,27]]}
[1,2,3,4,5,6,7,8,9,10,11,12,13,14,15,16,17,18,19,20,21,22,23,24,25,26,27,28,29,30,31,32,33,34,35,36,37,38,39,40,41,42,43,44,45,46,47,48,49,50,51,52,53,54,55,56,57,58,59,60,61,62,63,64,65,66,67,68,69,70,71,72,73,74,75,76,77,78,79,80,81,82,83,84,85,86,87,88,89,90,91,92,93,94,95,96,97,98,99,100,101,102,103,104,105,106,107,108,109,110,111,112,113,114,115,116,117,118,119,120,121,122,123,124,125,126,127,128,129,130,131,132,133,134,135,136,137,138,139,140,141,142,143,144,145,146,147,148,149,150,151,152,153,154,155,156,157,158,159,160,161,162,163,164,165,166,167,168,169,170,171,172,173,174,175,176,177,178,179,180,181,182,183,184,185,186,187,188,189,190,191,192,193,194,195,196,197,198,199,200,201,202,203,204,205,206,207,208,209,210,211,212,213,214,215,216,217,218,219,220,221,222,223,224,225,226,227,228,229,230,231,232,233,234,235,236,237,238,239,240,241,242,243,244,245,246,247,248,249,250,251,252,253,254,255,256,257,258,259,260,261,262,263,264,265,266,267,268,269,270,271,272,273,274,275,276,277,278,279,280,281,282,283,284,285,286,287,288,289,290,291,292,293,294,295,296,297,298,299,300,301,302,303,304,305,306,307,308,309,310,311,312,313,314,315,316,317,318,319,320,321,322,323,324,325,326,327,328,329,330,331,332,333,334,335,336,337,338,339,340,341,342,343,344,345,346,347,348,349,350,351,352,353,354,355,356,357,358,359,360,361,362,363,364,365,366,367,368,369,370,371,372,373,374,375,376,377,378,379,380,381,382,383,384,385,386,387,388,389,390,391,392,393,394,395,396,397,398,399,400,401,402,403,404,405,406,407,408,409,410,411,412,413,414,415,416,417,418,419,420,421,422,423,424,425,426,427,428,429,430,431,432,433,434,435,436,437,438,439,440,441,442,443,444,445,446,447,448,449,450,451,452,453,454,455,456,457,458,459,460,461,462,463,464,465,466,467,468,469,470,471,472,473,474,475,476,477,478,479,480,481,482,483,484,485,486]
["学校区分",null,null,null,null,null,null,null,null,null,"児童・生徒",null,null,null,null,null,null,null,null,null,null,null,"保護者",null,null,null,null,null,null,null,null,null,null,null,"児童・生徒",null,null,null,null,null,null,null,null,null,null,null,null,null,null,null,null,null,null,null,null,null,null,null,null,null,null,null,null,null,null,null,null,null,null,null,null,null,null,null,null,null,null,null,null,null,null,null,null,null,null,null,null,null,null,null,null,null,null,null,null,null,null,null,null,null,null,null,null,null,null,null,null,null,null,null,null,null,null,null,null,null,null,null,null,null,null,null,null,null,null,null,null,null,null,null,null,null,null,null,null,null,null,null,null,null,null,null,null,null,null,null,null,null,null,null,null,null,null,null,null,null,null,null,null,null,null,null,null,null,null,null,null,null,null,null,null,null,null,null,null,null,null,null,null,null,null,null,null,null,null,null,null,null,null,null,null,null,null,null,null,null,null,null,null,null,null,null,null,null,null,null,null,null,null,null,null,null,null,null,null,null,null,null,null,null,null,null,null,null,null,null,null,null,null,null,null,null,null,null,null,null,null,null,null,null,null,null,null,null,null,null,null,null,null,null,null,null,null,null,null,null,"保護者"]
[null,null,null,null,null,null,null,null,null,null,"総合判定",null,null,"Ｋスケール",null,null,"ＩＡＴ",null,null,"ＤＱ（参考）",null,null,"総合判定",null,null,"Ｋスケール",null,null,"ＩＡＴ",null,null,"ＤＱ（参考）",null,null,"ＤＱ",null,null,null,null,null,null,null,null,null,null,null,null,null,null,null,"Ｋスケール",null,null,null,null,null,null,null,null,null,null,null,null,null,null,null,null,null,null,null,null,null,null,null,null,null,null,null,null,null,null,null,null,null,null,null,null,null,null,null,null,null,null,null,null,null,null,null,null,null,null,null,null,null,null,null,null,null,null,null,"ＩＡＴ",null,null,null,null,null,null,null,null,null,null,null,null,null,null,null,null,null,null,null,null,null,null,null,null,null,null,null,null,null,null,null,null,null,null,null,null,null,null,null,null,null,null,null,null,null,null,null,null,null,null,null,null,null,null,null,null,null,null,null,null,null,null,null,null,null,null,null,null,null,null,null,null,null,null,null,null,null,null,null,null,null,null,null,null,null,null,null,null,null,null,null,null,null,null,null,null,null,null,null,"基本項目",null,null,null,null,null,null,null,null,null,null,null,null,null,null,null,null,null,null,null,null,null,null,null,null,null,null,null,null,"アンケート",null,null,null,null,null,null,null,null,null,null,null,null,null,null,null,null,"ＤＱ",null,null,null,null,null,null,null,null,null,null,null,null,null,null,null,"Ｋスケール",null,null,null,null,null,null,null,null,null,null,null,null,null,null,null,null,null,null,null,null,null,null,null,null,null,null,null,null,null,null,null,null,null,null,null,null,null,null,null,null,null,null,null,null,null,null,null,null,null,null,null,null,null,null,null,null,null,null,null,"ＩＡＴ",null,null,null,null,null,null,null,null,null,null,null,null,null,null,null,null,null,null,null,null,null,null,null,null,null,null,null,null,null,null,null,null,null,null,null,null,null,null,null,null,null,null,null,null,null,null,null,null,null,null,null,null,null,null,null,null,null,null,null,null,null,null,null,null,null,null,null,null,null,null,null,null,null,null,null,null,null,null,null,null,null,null,null,null,null,null,null,null,null,null,null,null,null,null,null,null,null,null,null,"基本項目",null,null,null,null,null,null,null,null,null,null,null,null,null,null,null,null,null,null,null,null,null,null,null,null,null,null,null,null,null,null,null,null,null,null,null,null,"アンケート"]
["学校番号","市町区分","設置区分","学校名","期間番号","校種区分","学年","クラス","性別","人数","問題なし","要注意","ネット依存が疑われる","リスクなし","中リスク","高リスク","リスクなし","中リスク","高リスク","リスクなし","中リスク","高リスク","問題なし","要注意","ネット依存が疑われる","リスクなし","中リスク","高リスク","リスクなし","中リスク","高リスク","リスクなし","中リスク","高リスク","質問４(1)","質問４(2)","質問５(1)","質問５(2)","質問６(1)","質問６(2)","質問７(1)","質問７(2)","質問８(1)","質問８(2)","質問９(1)","質問９(2)","質問10(1)","質問10(2)","質問11(1)","質問11(2)","質問12(1)","質問12(2)","質問12(3)","質問12(4)","質問13(1)","質問13(2)","質問13(3)","質問13(4)","質問14(1)","質問14(2)","質問14(3)","質問14(4)","質問15(1)","質問15(2)","質問15(3)","質問15(4)","質問16(1)","質問16(2)","質問16(3)","質問16(4)","質問17(1)","質問17(2)","質問17(3)","質問17(4)","質問18(1)","質問18(2)","質問18(3)","質問18(4)","質問19(1)","質問19(2)","質問19(3)","質問19(4)","質問20(1)","質問20(2)","質問20(3)","質問20(4)","質問21(1)","質問21(2)","質問21(3)","質問21(4)","質問22(1)","質問22(2)","質問22(3)","質問22(4)","質問23(1)","質問23(2)","質問23(3)","質問23(4)","質問24(1)","質問24(2)","質問24(3)","質問24(4)","質問25(1)","質問25(2)","質問25(3)","質問25(4)","質問26(1)","質問26(2)","質問26(3)","質問26(4)","質問27(1)","質問27(2)","質問27(3)","質問27(4)","質問27(5)","質問28(1)","質問28(2)","質問28(3)","質問28(4)","質問28(5)","質問29(1)","質問29(2)","質問29(3)","質問29(4)","質問29(5)","質問30(1)","質問30(2)","質問30(3)","質問30(4)","質問30(5)","質問31(1)","質問31(2)","質問31(3)","質問31(4)","質問31(5)","質問32(1)","質問32(2)","質問32(3)","質問32(4)","質問32(5)","質問33(1)","質問33(2)","質問33(3)","質問33(4)","質問33(5)","質問34(1)","質問34(2)","質問34(3)","質問34(4)","質問34(5)","質問35(1)","質問35(2)","質問35(3)","質問35(4)","質問35(5)","質問36(1)","質問36(2)","質問36(3)","質問36(4)","質問36(5)","質問37(1)","質問37(2)","質問37(3)","質問37(4)","質問37(5)","質問38(1)","質問38(2)","質問38(3)","質問38(4)","質問38(5)","質問39(1)","質問39(2)","質問39(3)","質問39(4)","質問39(5)","質問40(1)","質問40(2)","質問40(3)","質問40(4)","質問40(5)","質問41(1)","質問41(2)","質問41(3)","質問41(4)","質問41(5)","質問42(1)","質問42(2)","質問42(3)","質問42(4)","質問42(5)","質問43(1)","質問43(2)","質問43(3)","質問43(4)","質問43(5)","質問44(1)","質問44(2)","質問44(3)","質問44(4)","質問44(5)","質問45(1)","質問45(2)","質問45(3)","質問45(4)","質問45(5)","質問46(1)","質問46(2)","質問46(3)","質問46(4)","質問46(5)","質問１(1)","質問１(2)","質問１(3)","質問１(4)","質問１(5)","質問１(6)","質問１(7)","質問２(1)","質問２(2)","質問２(3)","質問２(4)","質問２(5)","質問２(6)","質問２(7)","質問２(8)","質問２(9)","質問２(10)","質問２(11)","質問２(12)","質問３(1)","質問３(2)","質問３(3)","質問３(4)","質問３(5)","質問３(6)","質問３(7)","質問３(8)","質問３(9)","質問３(10)","質問47(1)","質問47(2)","質問47(3)","質問47(4)","質問47(5)","質問47(6)","質問47(7)","質問47(8)","質問47(9)","質問47(10)","質問47(11)","質問47(12)","質問47(13)","質問47(14)","質問47(15)","質問47(16)","質問48","質問５(1)","質問５(2)","質問６(1)","質問６(2)","質問７(1)","質問７(2)","質問８(1)","質問８(2)","質問９(1)","質問９(2)","質問10(1)","質問10(2)","質問11(1)","質問11(2)","質問12(1)","質問12(2)","質問13(1)","質問13(2)","質問13(3)","質問13(4)","質問14(1)","質問14(2)","質問14(3)","質問14(4)","質問15(1)","質問15(2)","質問15(3)","質問15(4)","質問16(1)","質問16(2)","質問16(3)","質問16(4)","質問17(1)","質問17(2)","質問17(3)","質問17(4)","質問18(1)","質問18(2)","質問18(3)","質問18(4)","質問19(1)","質問19(2)","質問19(3)","質問19(4)","質問20(1)","質問20(2)","質問20(3)","質問20(4)","質問21(1)","質問21(2)","質問21(3)","質問21(4)","質問22(1)","質問22(2)","質問22(3)","質問22(4)","質問23(1)","質問23(2)","質問23(3)","質問23(4)","質問24(1)","質問24(2)","質問24(3)","質問24(4)","質問25(1)","質問25(2)","質問25(3)","質問25(4)","質問26(1)","質問26(2)","質問26(3)","質問26(4)","質問27(1)","質問27(2)","質問27(3)","質問27(4)","質問28(1)","質問28(2)","質問28(3)","質問28(4)","質問28(5)","質問29(1)","質問29(2)","質問29(3)","質問29(4)","質問29(5)","質問30(1)","質問30(2)","質問30(3)","質問30(4)","質問30(5)","質問31(1)","質問31(2)","質問31(3)","質問31(4)","質問31(5)","質問32(1)","質問32(2)","質問32(3)","質問32(4)","質問32(5)","質問33(1)","質問33(2)","質問33(3)","質問33(4)","質問33(5)","質問34(1)","質問34(2)","質問34(3)","質問34(4)","質問34(5)","質問35(1)","質問35(2)","質問35(3)","質問35(4)","質問35(5)","質問36(1)","質問36(2)","質問36(3)","質問36(4)","質問36(5)","質問37(1)","質問37(2)","質問37(3)","質問37(4)","質問37(5)","質問38(1)","質問38(2)","質問38(3)","質問38(4)","質問38(5)","質問39(1)","質問39(2)","質問39(3)","質問39(4)","質問39(5)","質問40(1)","質問40(2)","質問40(3)","質問40(4)","質問40(5)","質問41(1)","質問41(2)","質問41(3)","質問41(4)","質問41(5)","質問42(1)","質問42(2)","質問42(3)","質問42(4)","質問42(5)","質問43(1)","質問43(2)","質問43(3)","質問43(4)","質問43(5)","質問44(1)","質問44(2)","質問44(3)","質問44(4)","質問44(5)","質問45(1)","質問45(2)","質問45(3)","質問45(4)","質問45(5)","質問46(1)","質問46(2)","質問46(3)","質問46(4)","質問46(5)","質問47(1)","質問47(2)","質問47(3)","質問47(4)","質問47(5)","質問１(1)","質問１(2)","質問１(3)","質問１(4)","質問１(5)","質問１(6)","質問１(7)","質問２(1)","質問２(2)","質問２(3)","質問２(4)","質問２(5)","質問２(6)","質問２(7)","質問２(8)","質問２(9)","質問２(10)","質問２(11)","質問２(12)","質問３(1)","質問３(2)","質問３(3)","質問３(4)","質問３(5)","質問３(6)","質問３(7)","質問３(8)","質問３(9)","質問３(10)","質問４(1)","質問４(2)","質問４(3)","質問４(4)","質問４(5)","質問４(6)","質問４(7)","質問４(8)","質問48(1)","質問48(2)","質問48(3)","質問48(4)","質問48(5)","質問48(6)","質問48(7)","質問48(8)","質問48(9)","質問48(10)","質問48(11)","質問48(12)","質問48(13)","質問48(14)","質問48(15)","質問48(16)","質問49"]

{"sheet":"一時保存","index":10,"n_rows":4,"n_cols":208,"rows_kept":4,"cut":false,"hidden":false,"merged":[[1,12,1,22],[2,12,2,14],[2,15,2,16],[1,7,2,11],[1,0,2,6],[2,20,2,21],[1,23,1,33],[2,23,2,25],[2,26,2,27],[2,28,2,30],[2,31,2,32],[1,117,1,207],[2,100,2,116],[2,117,2,124],[2,125,2,139],[2,140,2,159],[2,160,2,190],[2,191,2,207],[1,34,1,116],[2,34,2,41],[2,42,2,56],[2,57,2,76],[2,77,2,99]]}
[1,2,3,4,5,6,7,8,9,10,11,12,13,14,15,16,17,18,19,20,21,22,23,24,25,26,27,28,29,30,31,32,33,34,35,36,37,38,39,40,41,42,43,44,45,46,47,48,49,50,51,52,53,54,55,56,57,58,59,60,61,62,63,64,65,66,67,68,69,70,71,72,73,74,75,76,77,78,79,80,81,82,83,84,85,86,87,88,89,90,91,92,93,94,95,96,97,98,99,100,101,102,103,104,105,106,107,108,109,110,111,112,113,114,115,116,117,118,119,120,121,122,123,124,125,126,127,128,129,130,131,132,133,134,135,136,137,138,139,140,141,142,143,144,145,146,147,148,149,150,151,152,153,154,155,156,157,158,159,160,161,162,163,164,165,166,167,168,169,170,171,172,173,174,175,176,177,178,179,180,181,182,183,184,185,186,187,188,189,190,191,192,193,194,195,196,197,198,199,200,201,202,203,204,205,206,207,208]
["学校区分",null,null,null,null,null,null,"個別区分",null,null,null,null,"児童・生徒",null,null,null,null,null,null,null,null,null,null,"保護者",null,null,null,null,null,null,null,null,null,null,"児童・生徒",null,null,null,null,null,null,null,null,null,null,null,null,null,null,null,null,null,null,null,null,null,null,null,null,null,null,null,null,null,null,null,null,null,null,null,null,null,null,null,null,null,null,null,null,null,null,null,null,null,null,null,null,null,null,null,null,null,null,null,null,null,null,null,null,null,null,null,null,null,null,null,null,null,null,null,null,null,null,null,null,null,null,"保護者"]
[null,null,null,null,null,null,null,null,null,null,null,null,"判定",null,null,"点数",null,"Ｋスケール要因別点数",null,null,"ＤＱ（参考）",null,"受検日","判定",null,null,"点数",null,"Ｋスケール要因別点数",null,null,"ＤＱ（参考）",null,"受検日","ＤＱ",null,null,null,null,null,null,null,"Ｋスケール",null,null,null,null,null,null,null,null,null,null,null,null,null,null,"ＩＡＴ",null,null,null,null,null,null,null,null,null,null,null,null,null,null,null,null,null,null,null,"基本項目",null,null,null,null,null,null,null,null,null,null,null,null,null,null,null,null,null,null,null,null,null,null,"アンケート",null,null,null,null,null,null,null,null,null,null,null,null,null,null,null,null,"ＤＱ",null,null,null,null,null,null,null,"Ｋスケール",null,null,null,null,null,null,null,null,null,null,null,null,null,null,"ＩＡＴ",null,null,null,null,null,null,null,null,null,null,null,null,null,null,null,null,null,null,null,"基本項目",null,null,null,null,null,null,null,null,null,null,null,null,null,null,null,null,null,null,null,null,null,null,null,null,null,null,null,null,null,null,"アンケート"]
["学校番号","学校名","期間番号","期間","設置区分","市町区分","校種区分","個別番号","学年","クラス","出席番号","性別","総合","Ｋスケール","ＩＡＴ","Ｋスケール点数","ＩＡＴ","Ａ要因","Ｂ要因","Ｃ要因","判定","点数","受検日","総合","Ｋスケール","ＩＡＴ","Ｋスケール点数","ＩＡＴ","Ａ要因","Ｂ要因","Ｃ要因","判定","点数","受検日","質問４","質問５","質問６","質問７","質問８","質問９","質問10","質問11","質問12","質問13","質問14","質問15","質問16","質問17","質問18","質問19","質問20","質問21","質問22","質問23","質問24","質問25","質問26","質問27","質問28","質問29","質問30","質問31","質問32","質問33","質問34","質問35","質問36","質問37","質問38","質問39","質問40","質問41","質問42","質問43","質問44","質問45","質問46","質問１","質問２(1)","質問２(2)","質問２(3)","質問２(4)","質問２(5)","質問２(6)","質問２(7)","質問２(8)","質問２(9)","質問２(10)","質問２(11)","質問２(12)","質問３(1)","質問３(2)","質問３(3)","質問３(4)","質問３(5)","質問３(6)","質問３(7)","質問３(8)","質問３(9)","質問３(10)","質問47(1)","質問47(2)","質問47(3)","質問47(4)","質問47(5)","質問47(6)","質問47(7)","質問47(8)","質問47(9)","質問47(10)","質問47(11)","質問47(12)","質問47(13)","質問47(14)","質問47(15)","質問47(16)","質問48","質問５","質問６","質問７","質問８","質問９","質問10","質問11","質問12","質問13","質問14","質問15","質問16","質問17","質問18","質問19","質問20","質問21","質問22","質問23","質問24","質問25","質問26","質問27","質問28","質問29","質問30","質問31","質問32","質問33","質問34","質問35","質問36","質問37","質問38","質問39","質問40","質問41","質問42","質問43","質問44","質問45","質問46","質問47","質問１","質問２(1)","質問２(2)","質問２(3)","質問２(4)","質問２(5)","質問２(6)","質問２(7)","質問２(8)","質問２(9)","質問２(10)","質問２(11)","質問２(12)","質問３(1)","質問３(2)","質問３(3)","質問３(4)","質問３(5)","質問３(6)","質問３(7)","質問３(8)","質問３(9)","質問３(10)","質問４(1)","質問４(2)","質問４(3)","質問４(4)","質問４(5)","質問４(6)","質問４(7)","質問４(8)","質問48(1)","質問48(2)","質問48(3)","質問48(4)","質問48(5)","質問48(6)","質問48(7)","質問48(8)","質問48(9)","質問48(10)","質問48(11)","質問48(12)","質問48(13)","質問48(14)","質問48(15)","質問48(16)","質問49"]

{"sheet":"学校番号","index":11,"n_rows":1046,"n_cols":5,"rows_kept":1046,"cut":false,"hidden":true,"merged":[]}
["処理校数","学校番号","学校名","校種","市町"]
[18659,1,"静大教育学部附属静岡小学校","小学校","静岡市"]
[null,2,"静大教育学部附属浜松小学校","小学校","浜松市"]
[null,3,"静岡市立新通小学校","小学校","静岡市"]
[null,4,"静岡市立伝馬町小学校","小学校","静岡市"]
[null,5,"静岡市立安西小学校","小学校","静岡市"]
[null,6,"静岡市立横内小学校","小学校","静岡市"]
[null,7,"静岡市立田町小学校","小学校","静岡市"]
[null,8,"静岡市立北沼上小学校","小学校","静岡市"]
[null,9,"静岡市立駒形小学校","小学校","静岡市"]
[null,10,"静岡市立井宮小学校","小学校","静岡市"]
[null,11,"静岡市立安東小学校","小学校","静岡市"]
[null,12,"静岡市立賤機南小学校","小学校","静岡市"]
[null,13,"静岡市立賤機中小学校","小学校","静岡市"]
[null,14,"静岡市立賤機北小学校","小学校","静岡市"]
[null,15,"静岡市立千代田小学校","小学校","静岡市"]
[null,16,"静岡市立麻機小学校","小学校","静岡市"]
[null,17,"静岡市立西奈小学校","小学校","静岡市"]
[null,18,"静岡市立竜南小学校","小学校","静岡市"]
[null,19,"静岡市立松野小学校","小学校","静岡市"]
[null,20,"静岡市立安倍口小学校","小学校","静岡市"]
[null,21,"静岡市立足久保小学校","小学校","静岡市"]
[null,22,"静岡市立服織小学校","小学校","静岡市"]
[null,23,"静岡市立服織西小学校","小学校","静岡市"]
[null,24,"静岡市立中藁科小学校","小学校","静岡市"]
[null,25,"静岡市立水見色小学校","小学校","静岡市"]
[null,26,"静岡市立南藁科小学校","小学校","静岡市"]
[null,27,"（休校中）静岡市立中藁科小学校小布杉分校","小学校","静岡市"]
[null,28,"静岡市立井宮北小学校","小学校","静岡市"]
[null,29,"静岡市立千代田東小学校","小学校","静岡市"]
[null,30,"静岡市立西奈南小学校","小学校","静岡市"]
[null,31,"静岡市立大河内小学校","小学校","静岡市"]
[null,32,"静岡市立梅ケ島小学校","小学校","静岡市"]
[null,33,"静岡市立玉川小学校","小学校","静岡市"]
[null,34,"静岡市立井川小学校","小学校","静岡市"]
[null,35,"静岡市立清沢小学校","小学校","静岡市"]
[null,36,"静岡市立峰山小学校","小学校","静岡市"]
[null,37,"静岡市立大川小学校","小学校","静岡市"]
[null,38,"静岡市立美和小学校","小学校","静岡市"]
[null,39,"静岡市立城北小学校","小学校","静岡市"]
[null,40,"静岡市立番町小学校","小学校","静岡市"]
[null,41,"静岡市立葵小学校","小学校","静岡市"]
[null,42,"静岡市立森下小学校","小学校","静岡市"]
[null,43,"静岡市立中田小学校","小学校","静岡市"]
[null,44,"静岡市立中島小学校","小学校","静岡市"]
[null,45,"静岡市立東豊田小学校","小学校","静岡市"]
[null,46,"静岡市立西豊田小学校","小学校","静岡市"]
[null,47,"静岡市立大里東小学校","小学校","静岡市"]
[null,48,"静岡市立大里西小学校","小学校","静岡市"]
[null,49,"静岡市立大谷小学校","小学校","静岡市"]
[null,50,"静岡市立久能小学校","小学校","静岡市"]
[null,51,"静岡市立長田西小学校","小学校","静岡市"]
[null,52,"静岡市立長田南小学校","小学校","静岡市"]
[null,53,"静岡市立富士見小学校","小学校","静岡市"]
[null,54,"静岡市立南部小学校","小学校","静岡市"]
[null,55,"静岡市立長田東小学校","小学校","静岡市"]
[null,56,"静岡市立長田北小学校","小学校","静岡市"]
[null,57,"静岡市立川原小学校","小学校","静岡市"]
[null,58,"静岡市立宮竹小学校","小学校","静岡市"]
[null,59,"静岡市立東源台小学校","小学校","静岡市"]
[null,60,"静岡市立清水辻小学校","小学校","静岡市"]
[null,61,"静岡市立清水江尻小学校","小学校","静岡市"]
[null,62,"静岡市立清水入江小学校","小学校","静岡市"]
[null,63,"静岡市立清水岡小学校","小学校","静岡市"]
[null,64,"静岡市立清水小学校","小学校","静岡市"]
[null,65,"静岡市立清水不二見小学校","小学校","静岡市"]
[null,66,"静岡市立清水駒越小学校","小学校","静岡市"]
[null,67,"静岡市立清水三保第一小学校","小学校","静岡市"]
[null,68,"静岡市立清水浜田小学校","小学校","静岡市"]
[null,69,"静岡市立清水飯田小学校","小学校","静岡市"]
[null,70,"静岡市立清水高部小学校","小学校","静岡市"]
[null,71,"静岡市立清水有度第一小学校","小学校","静岡市"]
[null,72,"静岡市立清水袖師小学校","小学校","静岡市"]
[null,73,"靜岡市立清水庵原小学校","小学校","静岡市"]
[null,74,"静岡市立清水興津小学校","小学校","静岡市"]
[null,75,"静岡市立清水小島小学校","小学校","静岡市"]
[null,76,"静岡市立清水小河内小学校","小学校","静岡市"]
[null,77,"静岡市立清水宍原小学校","小学校","静岡市"]
[null,78,"静岡市立清水和田島小学校","小学校","静岡市"]
[null,79,"静岡市立清水中河内小学校","小学校","静岡市"]
[null,80,"静岡市立清水西河内小学校","小学校","静岡市"]
[null,81,"静岡市立清水有度第二小学校","小学校","静岡市"]
[null,82,"静岡市立清水三保第二小学校","小学校","静岡市"]
[null,83,"静岡市立清水船越小学校","小学校","静岡市"]
[null,84,"静岡市立清水飯田東小学校","小学校","静岡市"]
[null,85,"静岡市立清水高部東小学校","小学校","静岡市"]
[null,86,"静岡市立蒲原西小学校","小学校","静岡市"]
[null,87,"静岡市立蒲原東小学校","小学校","静岡市"]
[null,88,"静岡市立由比小学校","小学校","静岡市"]
[null,89,"静岡市立由比北小学校","小学校","静岡市"]
[null,90,"浜松市立西小学校","小学校","浜松市"]
[null,91,"浜松市立東小学校","小学校","浜松市"]
[null,92,"浜松市立県居小学校","小学校","浜松市"]
[null,93,"浜松市立相生小学校","小学校","浜松市"]
[null,94,"浜松市立竜禅寺小学校","小学校","浜松市"]
[null,95,"浜松市立追分小学校","小学校","浜松市"]
[null,96,"浜松市立佐藤小学校","小学校","浜松市"]
[null,97,"浜松市立広沢小学校","小学校","浜松市"]
[null,98,"浜松市立曳馬小学校","小学校","浜松市"]
[null,99,"浜松市立萩丘小学校","小学校","浜松市"]
[null,100,"浜松市立富塚小学校","小学校","浜松市"]
[null,101,"浜松市立浅間小学校","小学校","浜松市"]
[null,102,"浜松市立上島小学校","小学校","浜松市"]
[null,103,"浜松市立鴨江小学校","小学校","浜松市"]
[null,104,"浜松市立船越小学校","小学校","浜松市"]
[null,105,"浜松市立城北小学校","小学校","浜松市"]
[null,106,"浜松市立花川小学校","小学校","浜松市"]
[null,107,"浜松市立葵が丘小学校","小学校","浜松市"]
[null,108,"浜松市立泉小学校","小学校","浜松市"]
[null,109,"浜松市立佐鳴台小学校","小学校","浜松市"]
[null,110,"浜松市立瑞穂小学校","小学校","浜松市"]
[null,111,"浜松市立富塚西小学校","小学校","浜松市"]
[null,112,"浜松市立葵西小学校","小学校","浜松市"]
[null,113,"浜松市立双葉小学校","小学校","浜松市"]
[null,114,"浜松市立中部小学校","小学校","浜松市"]
[null,115,"浜松市立蒲小学校","小学校","浜松市"]
[null,116,"浜松市立和田小学校","小学校","浜松市"]
[null,117,"浜松市立与進小学校","小学校","浜松市"]
[null,118,"浜松市立豊西小学校","小学校","浜松市"]
[null,119,"浜松市立笠井小学校","小学校","浜松市"]
[null,120,"浜松市立中ノ町小学校","小学校","浜松市"]
[null,121,"浜松市立積志小学校","小学校","浜松市"]
[null,122,"浜松市立大瀬小学校","小学校","浜松市"]
[null,123,"浜松市立中郡小学校","小学校","浜松市"]
[null,124,"浜松市立与進北小学校","小学校","浜松市"]
[null,125,"浜松市立有玉小学校","小学校","浜松市"]
[null,126,"浜松市立和田東小学校","小学校","浜松市"]
[null,127,"浜松市立有玉小学校萩原分校","小学校","浜松市"]
[null,128,"浜松市立神久呂小学校","小学校","浜松市"]
[null,129,"浜松市立入野小学校","小学校","浜松市"]
[null,130,"浜松市立伊佐見小学校","小学校","浜松市"]
[null,131,"浜松市立和地小学校","小学校","浜松市"]
[null,132,"浜松市立篠原小学校","小学校","浜松市"]
[null,133,"浜松市立村櫛小学校","小学校","浜松市"]
[null,134,"浜松市立西都台小学校","小学校","浜松市"]
[null,135,"浜松市立大平台小学校","小学校","浜松市"]
[null,136,"浜松市立庄内小学校","小学校","浜松市"]
[null,137,"浜松市立舞阪小学校","小学校","浜松市"]
[null,138,"浜松市立雄踏小学校","小学校","浜松市"]
[null,139,"浜松市立白脇小学校","小学校","浜松市"]
[null,140,"浜松市立新津小学校","小学校","浜松市"]
[null,141,"浜松市立河輪小学校","小学校","浜松市"]
[null,142,"浜松市立芳川小学校","小学校","浜松市"]
[null,143,"浜松市立飯田小学校","小学校","浜松市"]
[null,144,"浜松市立砂丘小学校","小学校","浜松市"]
[null,145,"浜松市立芳川北小学校","小学校","浜松市"]
[null,146,"浜松市立南の星小学校","小学校","浜松市"]
[null,147,"浜松市立可美小学校","小学校","浜松市"]
[null,148,"浜松市立三方原小学校","小学校","浜松市"]
[null,149,"浜松市立豊岡小学校","小学校","浜松市"]
[null,150,"浜松市立都田小学校","小学校","浜松市"]
[null,151,"浜松市立都田南小学校","小学校","浜松市"]
[null,152,"浜松市立初生小学校","小学校","浜松市"]
[null,153,"浜松市立気賀小学校","小学校","浜松市"]
[null,154,"浜松市立西気賀小学校","小学校","浜松市"]
[null,155,"浜松市立伊目小学校","小学校","浜松市"]
[null,156,"浜松市立中川小学校","小学校","浜松市"]
[null,157,"浜松市立井伊谷小学校","小学校","浜松市"]
[null,158,"浜松市立金指小学校","小学校","浜松市"]
[null,159,"浜松市立奥山小学校","小学校","浜松市"]
[null,160,"浜松市立引佐北部小学校","小学校","浜松市"]
[null,161,"浜松市立三ヶ日東小学校","小学校","浜松市"]
[null,162,"浜松市立三ヶ日西小学校","小学校","浜松市"]
[null,163,"浜松市立平山小学校","小学校","浜松市"]
[null,164,"浜松市立尾奈小学校","小学校","浜松市"]
[null,165,"浜松市立浜名小学校","小学校","浜松市"]
[null,166,"浜松市立北浜小学校","小学校","浜松市"]
[null,167,"浜松市立北浜東小学校","小学校","浜松市"]
[null,168,"浜松市立中瀬小学校","小学校","浜松市"]
[null,169,"浜松市立赤佐小学校","小学校","浜松市"]
[null,170,"浜松市立麁玉小学校","小学校","浜松市"]
[null,171,"浜松市立新原小学校","小学校","浜松市"]
[null,172,"浜松市立北浜北小学校","小学校","浜松市"]
[null,173,"浜松市立内野小学校","小学校","浜松市"]
[null,174,"浜松市立北浜南小学校","小学校","浜松市"]
[null,175,"浜松市立伎倍小学校","小学校","浜松市"]
[null,176,"浜松市立二俣小学校","小学校","浜松市"]
[null,177,"浜松市立上阿多古小学校","小学校","浜松市"]
[null,178,"浜松市立下阿多古小学校","小学校","浜松市"]
[null,179,"浜松市立熊小学校","小学校","浜松市"]
[null,180,"浜松市立横山小学校","小学校","浜松市"]
[null,181,"浜松市立光明小学校","小学校","浜松市"]
[null,182,"浜松市立犬居小学校","小学校","浜松市"]
[null,183,"浜松市立気田小学校","小学校","浜松市"]
[null,184,"浜松市立佐久間小学校","小学校","浜松市"]
[null,185,"浜松市立浦川小学校","小学校","浜松市"]
[null,186,"浜松市立水窪小学校","小学校","浜松市"]
[null,187,"沼津市立第一小学校","小学校","沼津市"]
[null,188,"沼津市立第二小学校","小学校","沼津市"]
[null,189,"沼津市立第三小学校","小学校","沼津市"]
[null,190,"沼津市立第四小学校","小学校","沼津市"]
[null,191,"沼津市立第五小学校","小学校","沼津市"]
[null,192,"沼津市立開北小学校","小学校","沼津市"]
[null,193,"沼津市立千本小学校","小学校","沼津市"]
[null,194,"沼津市立片浜小学校","小学校","沼津市"]
[null,195,"沼津市立金岡小学校","小学校","沼津市"]
[null,196,"沼津市立大岡小学校","小学校","沼津市"]
[null,197,"沼津市立静浦小学校","小学校","沼津市"]
[null,198,"沼津市立愛鷹小学校","小学校","沼津市"]
[null,199,"沼津市立大平小学校","小学校","沼津市"]
[null,200,"沼津市立香貫小学校","小学校","沼津市"]
[null,201,"沼津市立門池小学校","小学校","沼津市"]
[null,202,"沼津市立今沢小学校","小学校","沼津市"]
[null,203,"沼津市立沢田小学校","小学校","沼津市"]
[null,204,"沼津市立原東小学校","小学校","沼津市"]
[null,205,"沼津市立戸田小学校","小学校","沼津市"]
[null,206,"沼津市立原小学校","小学校","沼津市"]
[null,207,"沼津市立浮島小学校","小学校","沼津市"]
[null,208,"沼津市立大岡南小学校","小学校","沼津市"]
[null,209,"沼津市立長井崎小学校","小学校","沼津市"]
[null,210,"熱海市立第一小学校","小学校","熱海市"]
[null,211,"熱海市立初島小学校","小学校","熱海市"]
[null,212,"熱海市立第二小学校","小学校","熱海市"]
[null,213,"熱海市立多賀小学校","小学校","熱海市"]
[null,214,"熱海市立伊豆山小学校","小学校","熱海市"]
[null,215,"熱海市立桃山小学校","小学校","熱海市"]
[null,216,"熱海市立泉小学校","小学校","熱海市"]
[null,217,"三島市立東小学校","小学校","三島市"]
[null,218,"三島市立西小学校","小学校","三島市"]
[null,219,"三島市立南小学校","小学校","三島市"]
[null,220,"三島市立北小学校","小学校","三島市"]
[null,221,"三島市立錦田小学校","小学校","三島市"]
[null,222,"三島市立徳倉小学校","小学校","三島市"]
[null,223,"三島市立坂小学校","小学校","三島市"]
[null,224,"三島市立佐野小学校","小学校","三島市"]
[null,225,"三島市立中郷小学校","小学校","三島市"]
[null,226,"三島市立沢地小学校","小学校","三島市"]
[null,227,"三島市立向山小学校","小学校","三島市"]
[null,228,"三島市立北上小学校","小学校","三島市"]
[null,229,"三島市立山田小学校","小学校","三島市"]
[null,230,"三島市立長伏小学校","小学校","三島市"]
[null,231,"富士宮市立東小学校","小学校","富士宮市"]
[null,232,"富士宮市立黒田小学校","小学校","富士宮市"]
[null,233,"富士宮市立大宮小学校","小学校","富士宮市"]
[null,234,"富士宮市立貴船小学校","小学校","富士宮市"]
[null,235,"富士宮市立富丘小学校","小学校","富士宮市"]
[null,236,"富士宮市立西小学校","小学校","富士宮市"]
[null,237,"富士宮市立大富士小学校","小学校","富士宮市"]
[null,238,"富士宮市立富士根南小学校","小学校","富士宮市"]
[null,239,"富士宮市立富士根北小学校","小学校","富士宮市"]
[null,240,"富士宮市立富士根北小学校粟倉分校","小学校","富士宮市"]
[null,241,"富士宮市立北山小学校","小学校","富士宮市"]
[null,242,"富士宮市立山宮小学校","小学校","富士宮市"]
[null,243,"富士宮市立上井出小学校","小学校","富士宮市"]
[null,244,"富士宮市立人穴小学校","小学校","富士宮市"]
[null,245,"富士宮市立井之頭小学校","小学校","富士宮市"]
[null,246,"（休校中）富士宮市立井之頭小学校根原分校","小学校","富士宮市"]
[null,247,"富士宮市立白糸小学校","小学校","富士宮市"]
[null,248,"富士宮市立上野小学校","小学校","富士宮市"]
[null,249,"富士宮市立富士見小学校","小学校","富士宮市"]
[null,250,"富士宮市立芝富小学校","小学校","富士宮市"]
[null,251,"富士宮市立内房小学校","小学校","富士宮市"]
[null,252,"富士宮市立柚野小学校","小学校","富士宮市"]
[null,253,"富士宮市立稲子小学校","小学校","富士宮市"]
[null,254,"伊東市立東小学校","小学校","伊東市"]
[null,255,"伊東市立西小学校","小学校","伊東市"]
[null,256,"伊東市立大池小学校","小学校","伊東市"]
[null,257,"伊東市立宇佐美小学校","小学校","伊東市"]
[null,258,"伊東市立八幡野小学校","小学校","伊東市"]
[null,259,"伊東市立富戸小学校","小学校","伊東市"]
[null,260,"伊東市立池小学校","小学校","伊東市"]
[null,261,"伊東市立南小学校","小学校","伊東市"]
[null,262,"伊東市立旭小学校","小学校","伊東市"]
[null,263,"富士市立吉原小学校","小学校","富士市"]
[null,264,"富士市立今泉小学校","小学校","富士市"]
[null,265,"富士市立伝法小学校","小学校","富士市"]
[null,266,"富士市立神戸小学校","小学校","富士市"]
[null,267,"富士市立元吉原小学校","小学校","富士市"]
[null,268,"富士市立東小学校","小学校","富士市"]
[null,269,"富士市立須津小学校","小学校","富士市"]
[null,270,"富士市立吉永第一小学校","小学校","富士市"]
[null,271,"富士市立吉永第二小学校","小学校","富士市"]
[null,272,"冨士市立原田小学校","小学校","富士市"]
[null,273,"富士市立大淵第一小学校","小学校","富士市"]
[null,274,"富士市立大淵第二小学校","小学校","富士市"]
[null,275,"富士市立富士第一小学校","小学校","富士市"]
[null,276,"富士市立富士第二小学校","小学校","富士市"]
[null,277,"富士市立田子浦小学校","小学校","富士市"]
[null,278,"富士市立岩松小学校","小学校","富士市"]
[null,279,"富士市立鷹岡小学校","小学校","富士市"]
[null,280,"富士市立広見小学校","小学校","富士市"]
[null,281,"富士市立丘小学校","小学校","富士市"]
[null,282,"富士市立富士見台小学校","小学校","富士市"]
[null,283,"富士市立富士南小学校","小学校","富士市"]
[null,284,"富士市立天間小学校","小学校","富士市"]
[null,285,"富士市立岩松北小学校","小学校","富士市"]
[null,286,"富士市立富士中央小学校","小学校","富士市"]
[null,287,"富士市立青葉台小学校","小学校","富士市"]
[null,288,"富士市立富士川第一小学校","小学校","富士市"]
[null,289,"富士市立富士川第二小学校","小学校","富士市"]
[null,290,"御殿場市立御殿場小学校","小学校","御殿場市"]
[null,291,"御殿場市立御殿場南小学校","小学校","御殿場市"]
[null,292,"御殿場市立富士岡小学校","小学校","御殿場市"]
[null,293,"御殿場市立神山小学校","小学校","御殿場市"]
[null,294,"御殿場市立原里小学校","小学校","御殿場市"]
[null,295,"御殿場市立玉穂小学校","小学校","御殿場市"]
[null,296,"御殿場市立印野小学校","小学校","御殿場市"]
[null,297,"御殿場市立高根小学校","小学校","御殿場市"]
[null,298,"御殿場市立高根小学校上小林分校","小学校","御殿場市"]
[null,299,"御殿場市立朝日小学校","小学校","御殿場市"]
[null,300,"御殿場市立東小学校","小学校","御殿場市"]
[null,301,"下田市立稲梓小学校","小学校","下田市"]
[null,302,"下田市立稲生沢小学校","小学校","下田市"]
[null,303,"下田市立白浜小学校","小学校","下田市"]
[null,304,"下田市立浜崎小学校","小学校","下田市"]
[null,305,"下田市立下田小学校","小学校","下田市"]
[null,306,"下田市立大賀茂小学校","小学校","下田市"]
[null,307,"下田市立朝日小学校","小学校","下田市"]
[null,308,"裾野市立東小学校","小学校","裾野市"]
[null,309,"裾野市立西小学校","小学校","裾野市"]
[null,310,"裾野市立深良小学校","小学校","裾野市"]
[null,311,"裾野市立富岡第一小学校","小学校","裾野市"]
[null,312,"裾野市立富岡第二小学校","小学校","裾野市"]
[null,313,"裾野市立須山小学校","小学校","裾野市"]
[null,314,"裾野市立向田小学校","小学校","裾野市"]
[null,315,"裾野市立千福が丘小学校","小学校","裾野市"]
[null,316,"裾野市立南小学校","小学校","裾野市"]
[null,317,"伊豆市立修善寺小学校","小学校","伊豆市"]
[null,318,"伊豆市立熊坂小学校","小学校","伊豆市"]
[null,319,"伊豆市立修善寺東小学校","小学校","伊豆市"]
[null,320,"伊豆市立修善寺南小学校","小学校","伊豆市"]
[null,321,"伊豆市立中伊豆小学校","小学校","伊豆市"]
[null,322,"伊豆市立天城小学校","小学校","伊豆市"]
[null,323,"伊豆市立土肥小中一貫校（前期課程）","小学校","伊豆市"]
[null,324,"伊豆の国市立長岡南小学校","小学校","伊豆の国市"]
[null,325,"伊豆の国市立長岡北小学校","小学校","伊豆の国市"]
[null,326,"伊豆の国市立韮山小学校","小学校","伊豆の国市"]
[null,327,"伊豆の国市立韮山南小学校","小学校","伊豆の国市"]
[null,328,"伊豆の国市立大仁小学校","小学校","伊豆の国市"]
[null,329,"伊豆の国市立大仁北小学校","小学校","伊豆の国市"]
[null,330,"東伊豆町立稲取小学校","小学校","東伊豆町"]
[null,331,"東伊豆町立熱川小学校","小学校","東伊豆町"]
[null,332,"河津町立東小学校","小学校","河津町"]
[null,333,"河津町立西小学校","小学校","河津町"]
[null,334,"河津町立南小学校","小学校","河津町"]
[null,335,"南伊豆町立南中小学校","小学校","南伊豆町"]
[null,336,"南伊豆町立南上小学校","小学校","南伊豆町"]
[null,337,"南伊豆町立南伊豆東小学校","小学校","南伊豆町"]
[null,338,"松崎町立松崎小学校","小学校","松崎町"]
[null,339,"西伊豆町立仁科小学校","小学校","西伊豆町"]
[null,340,"西伊豆町立田子小学校","小学校","西伊豆町"]
[null,341,"西伊豆町立賀茂小学校","小学校","西伊豆町"]
[null,342,"函南町立函南小学校","小学校","函南町"]
[null,343,"函南町立丹那小学校","小学校","函南町"]
[null,344,"函南町立桑村小学校","小学校","函南町"]
[null,345,"函南町立東小学校","小学校","函南町"]
[null,346,"函南町立西小学校","小学校","函南町"]
[null,347,"清水町立清水小学校","小学校","清水町"]
[null,348,"清水町立南小学校","小学校","清水町"]
[null,349,"清水町立西小学校","小学校","清水町"]
[null,350,"長泉町立長泉小学校","小学校","清水町"]
[null,351,"長泉町立南小学校","小学校","清水町"]
[null,352,"長泉町立北小学校","小学校","清水町"]
[null,353,"小山町立成美小学校","小学校","小山町"]
[null,354,"小山町立明倫小学校","小学校","小山町"]
[null,355,"小山町立足柄小学校","小学校","小山町"]
[null,356,"小山町立北郷小学校","小学校","小山町"]
[null,357,"小山町立須走小学校","小学校","小山町"]
[null,358,"島田市立島田第一小学校","小学校","島田市"]
[null,359,"島田市立島田第二小学校","小学校","島田市"]
[null,360,"島田市立島田第三小学校","小学校","島田市"]
[null,361,"島田市立島田第四小学校","小学校","島田市"]
[null,362,"島田市立六合小学校","小学校","島田市"]
[null,363,"島田市立大津小学校","小学校","島田市"]
[null,364,"島田市立伊太小学校","小学校","島田市"]
[null,365,"島田市立相賀小学校","小学校","島田市"]
[null,366,"島田市立神座小学校","小学校","島田市"]
[null,367,"島田市立伊久美小学校","小学校","島田市"]
[null,368,"島田市立初倉小学校","小学校","島田市"]
[null,369,"島田市立島田第五小学校","小学校","島田市"]
[null,370,"島田市立初倉南小学校","小学校","島田市"]
[null,371,"島田市立六合東小学校","小学校","島田市"]
[null,372,"島田市立金谷小学校","小学校","島田市"]
[null,373,"島田市立五和小学校","小学校","島田市"]
[null,374,"島田市立川根小学校","小学校","島田市"]
[null,375,"磐田市立磐田北小学校","小学校","磐田市"]
[null,376,"磐田市立磐田中部小学校","小学校","磐田市"]
[null,377,"磐田市立磐田西小学校","小学校","磐田市"]
[null,378,"磐田市立磐田南小学校","小学校","磐田市"]
[null,379,"磐田市立東部小学校","小学校","磐田市"]
[null,380,"磐田市立大藤小学校","小学校","磐田市"]
[null,381,"磐田市立向笠小学校","小学校","磐田市"]
[null,382,"磐田市立長野小学校","小学校","磐田市"]
[null,383,"磐田市立岩田小学校","小学校","磐田市"]
[null,384,"磐田市立田原小学校","小学校","磐田市"]
[null,385,"磐田市立富士見小学校","小学校","磐田市"]
[null,386,"磐田市立福田小学校","小学校","磐田市"]
[null,387,"磐田市立豊浜小学校","小学校","磐田市"]
[null,388,"磐田市立竜洋東小学校","小学校","磐田市"]
[null,389,"磐田市立竜洋西小学校","小学校","磐田市"]
[null,390,"磐田市立竜洋北小学校","小学校","磐田市"]
[null,391,"磐田市立豊田南小学校","小学校","磐田市"]
[null,392,"磐田市立豊田北部小学校","小学校","磐田市"]
[null,393,"磐田市立青城小学校","小学校","磐田市"]
[null,394,"磐田市立豊田東小学校","小学校","磐田市"]
[null,395,"磐田市立豊岡南小学校","小学校","磐田市"]
[null,396,"磐田市立豊岡北小学校","小学校","磐田市"]
[null,397,"焼津市立焼津東小学校","小学校","焼津市"]
[null,398,"焼津市立焼津西小学校","小学校","焼津市"]
[null,399,"焼津市立焼津南小学校","小学校","焼津市"]
[null,400,"焼津市立豊田小学校","小学校","焼津市"]
[null,401,"焼津市立小川小学校","小学校","焼津市"]
[null,402,"焼津市立東益津小学校","小学校","焼津市"]
[null,403,"焼津市立大富小学校","小学校","焼津市"]
[null,404,"焼津市立和田小学校","小学校","焼津市"]
[null,405,"焼津市立港小学校","小学校","焼津市"]
[null,406,"焼津市立黒石小学校","小学校","焼津市"]
[null,407,"焼津市立大井川東小学校","小学校","焼津市"]
[null,408,"焼津市立大井川西小学校","小学校","焼津市"]
[null,409,"焼津市立大井川南小学校","小学校","焼津市"]
[null,410,"掛川市立日坂小学校","小学校","掛川市"]
[null,411,"掛川市立東山口小学校","小学校","掛川市"]
[null,412,"掛川市立西山口小学校","小学校","掛川市"]
[null,413,"掛川市立上内田小学校","小学校","掛川市"]
[null,414,"掛川市立第一小学校","小学校","掛川市"]
[null,415,"掛川市立第二小学校","小学校","掛川市"]
[null,416,"掛川市立中央小学校","小学校","掛川市"]
[null,417,"掛川市立曽我小学校","小学校","掛川市"]
[null,418,"掛川市立桜木小学校","小学校","掛川市"]
[null,419,"掛川市立和田岡小学校","小学校","掛川市"]
[null,420,"掛川市立原谷小学校","小学校","掛川市"]
[null,421,"掛川市立原田小学校","小学校","掛川市"]
[null,422,"掛川市立西郷小学校","小学校","掛川市"]
[null,423,"掛川市立倉真小学校","小学校","掛川市"]
[null,424,"掛川市立城北小学校","小学校","掛川市"]
[null,425,"掛川市立土方小学校","小学校","掛川市"]
[null,426,"掛川市立佐束小学校","小学校","掛川市"]
[null,427,"掛川市立中小学校","小学校","掛川市"]
[null,428,"掛川市立横須賀小学校","小学校","掛川市"]
[null,429,"掛川市立大渕小学校","小学校","掛川市"]
[null,430,"掛川市立大坂小学校","小学校","掛川市"]
[null,431,"掛川市立千浜小学校","小学校","掛川市"]
[null,432,"藤枝市立藤枝小学校","小学校","藤枝市"]
[null,433,"藤枝市立藤枝中央小学校","小学校","藤枝市"]
[null,434,"藤枝市立西益津小学校","小学校","藤枝市"]
[null,435,"藤枝市立青島小学校","小学校","藤枝市"]
[null,436,"藤枝市立青島東小学校","小学校","藤枝市"]
[null,437,"藤枝市立葉梨小学校","小学校","藤枝市"]
[null,438,"藤枝市立葉梨西北小学校","小学校","藤枝市"]
[null,439,"藤枝市立高洲小学校","小学校","藤枝市"]
[null,440,"藤枝市立大洲小学校","小学校","藤枝市"]
[null,441,"藤枝市立稲葉小学校","小学校","藤枝市"]
[null,442,"藤枝市立広幡小学校","小学校","藤枝市"]
[null,443,"藤枝市立瀬戸谷小学校","小学校","藤枝市"]
[null,444,"藤枝市立藤岡小学校","小学校","藤枝市"]
[null,445,"藤枝市立高洲南小学校","小学校","藤枝市"]
[null,446,"藤枝市立青島北小学校","小学校","藤枝市"]
[null,447,"藤枝市立岡部小学校","小学校","藤枝市"]
[null,448,"藤枝市立朝比奈第一小学校","小学校","藤枝市"]
[null,449,"袋井市立袋井東小学校","小学校","袋井市"]
[null,450,"袋井市立袋井西小学校","小学校","袋井市"]
[null,451,"袋井市立袋井南小学校","小学校","袋井市"]
[null,452,"袋井市立袋井北小学校","小学校","袋井市"]
[null,453,"袋井市立今井小学校","小学校","袋井市"]
[null,454,"袋井市立三川小学校","小学校","袋井市"]
[null,455,"袋井市立笠原小学校","小学校","袋井市"]
[null,456,"袋井市立山名小学校","小学校","袋井市"]
[null,457,"袋井市立高南小学校","小学校","袋井市"]
[null,458,"袋井市立浅羽南小学校","小学校","袋井市"]
[null,459,"袋井市立浅羽北小学校","小学校","袋井市"]
[null,460,"袋井市立浅羽東小学校","小学校","袋井市"]
[null,461,"湖西市立新居小学校","小学校","湖西市"]
[null,462,"湖西市立鷲津小学校","小学校","湖西市"]
[null,463,"湖西市立白須賀小学校","小学校","湖西市"]
[null,464,"湖西市立東小学校","小学校","湖西市"]
[null,465,"湖西市立岡崎小学校","小学校","湖西市"]
[null,466,"湖西市立知波田小学校","小学校","湖西市"]
[null,467,"御前崎市立御前崎小学校","小学校","御前崎市"]
[null,468,"御前崎市立白羽小学校","小学校","御前崎市"]
[null,469,"御前崎市立第一小学校","小学校","御前崎市"]
[null,470,"御前崎市立浜岡東小学校","小学校","御前崎市"]
[null,471,"御前崎市立浜岡北小学校","小学校","御前崎市"]
[null,472,"菊川市立小笠東小学校","小学校","菊川市"]
[null,473,"菊川市立小笠南小学校","小学校","菊川市"]
[null,474,"菊川市立小笠北小学校","小学校","菊川市"]
[null,475,"菊川市立六郷小学校","小学校","菊川市"]
[null,476,"菊川市立内田小学校","小学校","菊川市"]
[null,477,"菊川市立横地小学校","小学校","菊川市"]
[null,478,"菊川市立加茂小学校","小学校","菊川市"]
[null,479,"菊川市立堀之内小学校","小学校","菊川市"]
[null,480,"菊川市立河城小学校","小学校","菊川市"]
[null,481,"牧之原市立相良小学校","小学校","牧之原市"]
[null,482,"牧之原市立菅山小学校","小学校","牧之原市"]
[null,483,"牧之原市立地頭方小学校","小学校","牧之原市"]
[null,484,"牧之原市菊川市学校組合立牧之原小学校","小学校","牧之原市"]
[null,485,"牧之原市立萩間小学校","小学校","牧之原市"]
[null,486,"牧之原市立川崎小学校","小学校","牧之原市"]
[null,487,"牧之原市立細江小学校","小学校","牧之原市"]
[null,488,"牧之原市立勝間田小学校","小学校","牧之原市"]
[null,489,"牧之原市立坂部小学校","小学校","牧之原市"]
[null,490,"吉田町立住吉小学校","小学校","吉田町"]
[null,491,"吉田町立中央小学校","小学校","吉田町"]
[null,492,"吉田町立自彊小学校","小学校","吉田町"]
[null,493,"川根本町立中川根第一小学校","小学校","川根本町"]
[null,494,"川根本町立中央小学校","小学校","川根本町"]
[null,495,"川根本町立中川根南部小学校","小学校","川根本町"]
[null,496,"川根本町立本川根小学校","小学校","川根本町"]
[null,497,"森町立飯田小学校","小学校","森町"]
[null,498,"森町立宮園小学校","小学校","森町"]
[null,499,"森町立森小学校","小学校","森町"]
[null,500,"静岡サレジオ小学校","小学校","静岡市"]
[null,501,"東海大学付属静岡翔洋小学校","小学校","静岡市"]
[null,502,"加藤学園暁秀初等学校","小学校","沼津市"]
[null,503,"常葉大学教育学部附属橘小学校","小学校","静岡市"]
[null,504,"聖隷クリストファー小学校","小学校","浜松市"]
[null,505,"静大教育学部附属静岡中学校","中学校","静岡市"]
[null,506,"静大教育学部附属浜松中学校","中学校","浜松市"]
[null,507,"静大教育学部附属島田中学校","中学校","島田市"]
[null,508,"静岡県立清水南高等学校中等部","中学校","静岡市"]
[null,509,"静岡県立浜松西高等学校中等部","中学校","浜松市"]
[null,510,"静岡市立籠上中学校","中学校","静岡市"]
[null,511,"静岡市立末広中学校","中学校","静岡市"]
[null,512,"静岡市立城内中学校","中学校","静岡市"]
[null,513,"静岡市立安東中学校","中学校","静岡市"]
[null,514,"静岡市立東中学校","中学校","静岡市"]
[null,515,"静岡市立賤機中学校","中学校","静岡市"]
[null,516,"静岡市立西奈中学校","中学校","静岡市"]
[null,517,"静岡市立安倍川中学校","中学校","静岡市"]
[null,518,"静岡市立美和中学校","中学校","静岡市"]
[null,519,"静岡市立服織中学校","中学校","静岡市"]
[null,520,"静岡市立藁科中学校","中学校","静岡市"]
[null,521,"静岡市立観山中学校","中学校","静岡市"]
[null,522,"静岡市立大河内中学校","中学校","静岡市"]
[null,523,"静岡市立梅ケ島中学校","中学校","静岡市"]
[null,524,"静岡市立玉川中学校","中学校","静岡市"]
[null,525,"静岡市立井川中学校","中学校","静岡市"]
[null,526,"静岡市立大川中学校","中学校","静岡市"]
[null,527,"静岡市立竜爪中学校","中学校","静岡市"]
[null,528,"静岡市立大里中学校","中学校","静岡市"]
[null,529,"静岡市立豊田中学校","中学校","静岡市"]
[null,530,"静岡市立東豊田中学校","中学校","静岡市"]
[null,531,"静岡市立高松中学校","中学校","静岡市"]
[null,532,"静岡市立長田西中学校","中学校","静岡市"]
[null,533,"静岡市立長田南中学校","中学校","静岡市"]
[null,534,"静岡市立南中学校","中学校","静岡市"]
[null,535,"静岡市立城山中学校","中学校","静岡市"]
[null,536,"静岡市立中島中学校","中学校","静岡市"]
[null,537,"静岡市立清水第一中学校","中学校","静岡市"]
[null,538,"静岡市立清水第二中学校","中学校","静岡市"]
[null,539,"静岡市立清水第三中学校","中学校","静岡市"]
[null,540,"静岡市立清水第四中学校","中学校","静岡市"]
[null,541,"静岡市立清水第五中学校","中学校","静岡市"]
[null,542,"静岡市立清水第六中学校","中学校","静岡市"]
[null,543,"静岡市立清水第七中学校","中学校","静岡市"]
[null,544,"静岡市立清水第八中学校","中学校","静岡市"]
[null,545,"静岡市立清水袖師中学校","中学校","静岡市"]
[null,546,"静岡市立清水庵原中学校","中学校","静岡市"]
[null,547,"静岡市立清水興津中学校","中学校","静岡市"]
[null,548,"静岡市立清水小島中学校","中学校","静岡市"]
[null,549,"静岡市立清水両河内中学校","中学校","静岡市"]
[null,550,"静岡市立清水飯田中学校","中学校","静岡市"]
[null,551,"静岡市立蒲原中学校","中学校","静岡市"]
[null,552,"静岡市立由比中学校","中学校","静岡市"]
[null,553,"浜松市立西部中学校","中学校","浜松市"]
[null,554,"浜松市立南部中学校","中学校","浜松市"]
[null,555,"浜松市立北部中学校","中学校","浜松市"]
[null,556,"浜松市立中部中学校","中学校","浜松市"]
[null,557,"浜松市立八幡中学校","中学校","浜松市"]
[null,558,"浜松市立曳馬中学校","中学校","浜松市"]
[null,559,"浜松市立江西中学校","中学校","浜松市"]
[null,560,"浜松市立蜆塚中学校","中学校","浜松市"]
[null,561,"浜松市立高台中学校","中学校","浜松市"]
[null,562,"浜松市立開成中学校","中学校","浜松市"]
[null,563,"浜松市立佐鳴台中学校","中学校","浜松市"]
[null,564,"浜松市立富塚中学校","中学校","浜松市"]
[null,565,"浜松市立天竜中学校","中学校","浜松市"]
[null,566,"浜松市立与進中学校","中学校","浜松市"]
[null,567,"浜松市立笠井中学校","中学校","浜松市"]
[null,568,"浜松市立積志中学校","中学校","浜松市"]
[null,569,"浜松市立丸塚中学校","中学校","浜松市"]
[null,570,"浜松市立中郡中学校","中学校","浜松市"]
[null,571,"浜松市立積志中学校萩原分校","中学校","浜松市"]
[null,572,"浜松市立神久呂中学校","中学校","浜松市"]
[null,573,"浜松市立入野中学校","中学校","浜松市"]
[null,574,"浜松市立湖東中学校","中学校","浜松市"]
[null,575,"浜松市立篠原中学校","中学校","浜松市"]
[null,576,"浜松市立庄内中学校","中学校","浜松市"]
[null,577,"浜松市立舞阪中学校","中学校","浜松市"]
[null,578,"浜松市立雄踏中学校","中学校","浜松市"]
[null,579,"浜松市立東部中学校","中学校","浜松市"]
[null,580,"浜松市立新津中学校","中学校","浜松市"]
[null,581,"浜松市立南陽中学校","中学校","浜松市"]
[null,582,"浜松市立江南中学校","中学校","浜松市"]
[null,583,"浜松市立東陽中学校","中学校","浜松市"]
[null,584,"浜松市立可美中学校","中学校","浜松市"]
[null,585,"浜松市立北星中学校","中学校","浜松市"]
[null,586,"浜松市立都田中学校","中学校","浜松市"]
[null,587,"浜松市立三方原中学校","中学校","浜松市"]
[null,588,"浜松市立細江中学校","中学校","浜松市"]
[null,589,"浜松市立引佐北部中学校","中学校","浜松市"]
[null,590,"浜松市立引佐南部中学校","中学校","浜松市"]
[null,591,"浜松市立三ヶ日中学校","中学校","浜松市"]
[null,592,"浜松市立浜名中学校","中学校","浜松市"]
[null,593,"浜松市立北浜中学校","中学校","浜松市"]
[null,594,"浜松市立浜北北部中学校","中学校","浜松市"]
[null,595,"浜松市立麁玉中学校","中学校","浜松市"]
[null,596,"浜松市立北浜東部中学校","中学校","浜松市"]
[null,597,"浜松市立清竜中学校","中学校","浜松市"]
[null,598,"浜松市立光が丘中学校","中学校","浜松市"]
[null,599,"浜松市立春野中学校","中学校","浜松市"]
[null,600,"浜松市立佐久間中学校","中学校","浜松市"]
[null,601,"浜松市立水窪中学校","中学校","浜松市"]
[null,602,"沼津市立第一中学校","中学校","沼津市"]
[null,603,"沼津市立第二中学校","中学校","沼津市"]
[null,604,"沼津市立第三中学校","中学校","沼津市"]
[null,605,"沼津市立第四中学校","中学校","沼津市"]
[null,606,"沼津市立第五中学校","中学校","沼津市"]
[null,607,"沼津市立片浜中学校","中学校","沼津市"]
[null,608,"沼津市立金岡中学校","中学校","沼津市"]
[null,609,"沼津市立大岡中学校","中学校","沼津市"]
[null,610,"沼津市立静浦中学校","中学校","沼津市"]
[null,611,"沼津市立愛鷹中学校","中学校","沼津市"]
[null,612,"沼津市立大平中学校","中学校","沼津市"]
[null,613,"沼津市立今沢中学校","中学校","沼津市"]
[null,614,"沼津市立門池中学校","中学校","沼津市"]
[null,615,"沼津市立沼津高等学校中等部","中学校","沼津市"]
[null,616,"沼津市立戸田中学校","中学校","沼津市"]
[null,617,"沼津市立原中学校","中学校","沼津市"]
[null,618,"沼津市立浮島中学校","中学校","沼津市"]
[null,619,"沼津市立長井崎中学校","中学校","沼津市"]
[null,620,"熱海市立初島中学校","中学校","熱海市"]
[null,621,"熱海市立多賀中学校","中学校","熱海市"]
[null,622,"熱海市立泉中学校","中学校","熱海市"]
[null,623,"熱海市立熱海中学校","中学校","熱海市"]
[null,624,"三島市立南中学校","中学校","三島市"]
[null,625,"三島市立北中学校","中学校","三島市"]
[null,626,"三島市立中郷中学校","中学校","三島市"]
[null,627,"三島市立錦田中学校","中学校","三島市"]
[null,628,"三島市立北上中学校","中学校","三島市"]
[null,629,"三島市立中郷西中学校","中学校","三島市"]
[null,630,"三島市立山田中学校","中学校","三島市"]
[null,631,"富士宮市立富士宮第一中学校","中学校","富士宮市"]
[null,632,"富士宮市立富士宮第二中学校","中学校","富士宮市"]
[null,633,"富士宮市立富士宮第三中学校","中学校","富士宮市"]
[null,634,"富士宮市立富士宮第四中学校","中学校","富士宮市"]
[null,635,"富士宮市立富士根南中学校","中学校","富士宮市"]
[null,636,"富士宮市立富士根北中学校","中学校","富士宮市"]
[null,637,"富士宮市立北山中学校","中学校","富士宮市"]
[null,638,"富士宮市立西富士中学校","中学校","富士宮市"]
[null,639,"富士宮市立井之頭中学校","中学校","富士宮市"]
[null,640,"富士宮市立上野中学校","中学校","富士宮市"]
[null,641,"富士宮市立大富士中学校","中学校","富士宮市"]
[null,642,"富士宮市立芝川中学校","中学校","富士宮市"]
[null,643,"富士宮市立柚野中学校","中学校","富士宮市"]
[null,644,"伊東市立南中学校","中学校","伊東市"]
[null,645,"伊東市立北中学校","中学校","伊東市"]
[null,646,"伊東市立宇佐美中学校","中学校","伊東市"]
[null,647,"伊東市立対島中学校","中学校","伊東市"]
[null,648,"伊東市立門野中学校","中学校","伊東市"]
[null,649,"富士市立吉原第一中学校","中学校","富士市"]
[null,650,"富士市立吉原第二中学校","中学校","富士市"]
[null,651,"富士市立吉原第三中学校","中学校","富士市"]
[null,652,"富士市立吉原東中学校","中学校","富士市"]
[null,653,"富士市立元吉原中学校","中学校","富士市"]
[null,654,"富士市立須津中学校","中学校","富士市"]
[null,655,"富士市立大淵中学校","中学校","富士市"]
[null,656,"富士市立富士中学校","中学校","富士市"]
[null,657,"富士市立富士南中学校","中学校","富士市"]
[null,658,"富士市立田子浦中学校","中学校","富士市"]
[null,659,"富士市立岩松中学校","中学校","富士市"]
[null,660,"富士市立鷹岡中学校","中学校","富士市"]
[null,661,"富士市立岳陽中学校","中学校","富士市"]
[null,662,"富士市立吉原北中学校","中学校","富士市"]
[null,663,"富士市立富士川第一中学校","中学校","富士市"]
[null,664,"富士市立富士川第二中学校","中学校","富士市"]
[null,665,"御殿場市立御殿場中学校","中学校","御殿場市"]
[null,666,"御殿場市立富士岡中学校","中学校","御殿場市"]
[null,667,"御殿場市立原里中学校","中学校","御殿場市"]
[null,668,"御殿場市立西中学校","中学校","御殿場市"]
[null,669,"御殿場市立高根中学校","中学校","御殿場市"]
[null,670,"御殿場市立南中学校","中学校","御殿場市"]
[null,671,"下田市立稲梓中学校","中学校","下田市"]
[null,672,"下田市立稲生沢中学校","中学校","下田市"]
[null,673,"下田市立下田東中学校","中学校","下田市"]
[null,674,"下田市立下田中学校","中学校","下田市"]
[null,675,"裾野市立東中学校","中学校","裾野市"]
[null,676,"裾野市立西中学校","中学校","裾野市"]
[null,677,"裾野市立深良中学校","中学校","裾野市"]
[null,678,"裾野市立富岡中学校","中学校","裾野市"]
[null,679,"裾野市立須山中学校","中学校","裾野市"]
[null,680,"伊豆市立修善寺中学校","中学校","伊豆市"]
[null,681,"伊豆市立天城中学校","中学校","伊豆市"]
[null,682,"伊豆市立中伊豆中学校","中学校","伊豆市"]
[null,683,"伊豆市立土肥小中一貫校（後期課程）","中学校","伊豆市"]
[null,684,"伊豆の国市立長岡中学校","中学校","伊豆の国市"]
[null,685,"伊豆の国市立韮山中学校","中学校","伊豆の国市"]
[null,686,"伊豆の国市立大仁中学校","中学校","伊豆の国市"]
[null,687,"東伊豆町立稲取中学校","中学校","東伊豆町"]
[null,688,"東伊豆町立熱川中学校","中学校","東伊豆町"]
[null,689,"河津町立河津中学校","中学校","河津町"]
[null,690,"南伊豆町立南伊豆東中学校","中学校","南伊豆町"]
[null,691,"南伊豆町立南伊豆中学校","中学校","南伊豆町"]
[null,692,"松崎町立松崎中学校","中学校","松崎町"]
[null,693,"西伊豆町立西伊豆中学校","中学校","西伊豆町"]
[null,694,"函南町立函南中学校","中学校","函南町"]
[null,695,"函南町立東中学校","中学校","函南町"]
[null,696,"清水町立清水中学校","中学校","清水町"]
[null,697,"清水町立南中学校","中学校","清水町"]
[null,698,"長泉町立長泉中学校","中学校","長泉町"]
[null,699,"長泉町立北中学校","中学校","長泉町"]
[null,700,"小山町立小山中学校","中学校","小山町"]
[null,701,"小山町立北郷中学校","中学校","小山町"]
[null,702,"小山町立須走中学校","中学校","小山町"]
[null,703,"島田市立島田第一中学校","中学校","島田市"]
[null,704,"島田市立島田第二中学校","中学校","島田市"]
[null,705,"島田市立六合中学校","中学校","島田市"]
[null,706,"島田市立初倉中学校","中学校","島田市"]
[null,707,"島田市立金谷中学校","中学校","島田市"]
[null,708,"島田市立川根中学校","中学校","島田市"]
[null,709,"磐田市立磐田第一中学校","中学校","磐田市"]
[null,710,"磐田市立城山中学校","中学校","磐田市"]
[null,711,"磐田市立向陽中学校","中学校","磐田市"]
[null,712,"磐田市立神明中学校","中学校","磐田市"]
[null,713,"磐田市立南部中学校","中学校","磐田市"]
[null,714,"磐田市立福田中学校","中学校","磐田市"]
[null,715,"磐田市立竜洋中学校","中学校","磐田市"]
[null,716,"磐田市立豊田中学校","中学校","磐田市"]
[null,717,"磐田市立豊田南中学校","中学校","磐田市"]
[null,718,"磐田市立豊岡中学校","中学校","磐田市"]
[null,719,"焼津市立焼津中学校","中学校","焼津市"]
[null,720,"焼津市立大村中学校","中学校","焼津市"]
[null,721,"焼津市立豊田中学校","中学校","焼津市"]
[null,722,"焼津市立小川中学校","中学校","焼津市"]
[null,723,"焼津市立東益津中学校","中学校","焼津市"]
[null,724,"焼津市立大富中学校","中学校","焼津市"]
[null,725,"焼津市立和田中学校","中学校","焼津市"]
[null,726,"焼津市立港中学校","中学校","焼津市"]
[null,727,"焼津市立大井川中学校","中学校","焼津市"]
[null,728,"掛川市立栄川中学校","中学校","掛川市"]
[null,729,"掛川市立東中学校","中学校","掛川市"]
[null,730,"掛川市立西中学校","中学校","掛川市"]
[null,731,"掛川市立桜が丘中学校","中学校","掛川市"]
[null,732,"掛川市立原野谷中学校","中学校","掛川市"]
[null,733,"掛川市立北中学校","中学校","掛川市"]
[null,734,"掛川市立城東中学校","中学校","掛川市"]
[null,735,"掛川市立大須賀中学校","中学校","掛川市"]
[null,736,"掛川市立大浜中学校","中学校","掛川市"]
[null,737,"藤枝市立藤枝中学校","中学校","藤枝市"]
[null,738,"藤枝市立西益津中学校","中学校","藤枝市"]
[null,739,"藤枝市立青島中学校","中学校","藤枝市"]
[null,740,"藤枝市立葉梨中学校","中学校","藤枝市"]
[null,741,"藤枝市立高洲中学校","中学校","藤枝市"]
[null,742,"藤枝市立大洲中学校","中学校","藤枝市"]
[null,743,"藤枝市立瀬戸谷中学校","中学校","藤枝市"]
[null,744,"藤枝市立広幡中学校","中学校","藤枝市"]
[null,745,"藤枝市立青島北中学校","中学校","藤枝市"]
[null,746,"藤枝市立岡部中学校","中学校","藤枝市"]
[null,747,"袋井市立袋井中学校","中学校","袋井市"]
[null,748,"袋井市立周南中学校","中学校","袋井市"]
[null,749,"袋井市立袋井南中学校","中学校","袋井市"]
[null,750,"袋井市立浅羽中学校","中学校","袋井市"]
[null,751,"湖西市立新居中学校","中学校","湖西市"]
[null,752,"湖西市立鷲津中学校","中学校","湖西市"]
[null,753,"湖西市立白須賀中学校","中学校","湖西市"]
[null,754,"湖西市立湖西中学校","中学校","湖西市"]
[null,755,"湖西市立岡崎中学校","中学校","湖西市"]
[null,756,"御前崎市牧之原市学校組合立御前崎中学校","中学校","牧之原市"]
[null,757,"御前崎市立浜岡中学校","中学校","御前崎市"]
[null,758,"菊川市立岳洋中学校","中学校","菊川市"]
[null,759,"菊川市立菊川西中学校","中学校","菊川市"]
[null,760,"菊川市立菊川東中学校","中学校","菊川市"]
[null,761,"牧之原市立相良中学校","中学校","牧之原市"]
[null,762,"牧之原市菊川市学校組合立牧之原中学校","中学校","牧之原市"]
[null,763,"牧之原市立榛原中学校","中学校","牧之原市"]
[null,764,"吉田町立吉田中学校","中学校","吉田町"]
[null,765,"川根本町立中川根中学校","中学校","川根本町"]
[null,766,"川根本町立本川根中学校","中学校","川根本町"]
[null,767,"森町立旭が丘中学校","中学校","森町"]
[null,768,"森町立森中学校","中学校","森町"]
[null,769,"不二聖心女子学院中学校","中学校","裾野市"]
[null,770,"加藤学園暁秀中学校","中学校","沼津市"]
[null,771,"（休校中）清水国際中学校","中学校","静岡市"]
[null,772,"静岡サレジオ中学校","中学校","静岡市"]
[null,773,"東海大学付属静岡翔洋高等学校中等部","中学校","静岡市"]
[null,774,"静岡大成中学校","中学校","静岡市"]
[null,775,"静岡英和女学院中学校","中学校","静岡市"]
[null,776,"静岡雙葉中学校","中学校","静岡市"]
[null,777,"城南静岡中学校","中学校","静岡市"]
[null,778,"常葉大学附属常葉中学校","中学校","静岡市"]
[null,779,"常葉大学附属橘中学校","中学校","静岡市"]
[null,780,"静岡県西遠女子学園中学校","中学校","浜松市"]
[null,781,"浜松開誠館中学校","中学校","浜松市"]
[null,782,"浜松修学舎中学校","中学校","浜松市"]
[null,783,"静岡聖光学院中学校","中学校","静岡市"]
[null,784,"静岡学園中学校","中学校","静岡市"]
[null,785,"浜松日体中学校","中学校","浜松市"]
[null,786,"日本大学三島中学校","中学校","三島市"]
[null,787,"藤枝順心中学校","中学校","藤枝市"]
[null,788,"藤枝明誠中学校","中学校","藤枝市"]
[null,789,"常葉大学附属菊川中学校","中学校","菊川市"]
[null,790,"磐田東中学校","中学校","磐田市"]
[null,791,"浜松学院中学校","中学校","浜松市"]
[null,792,"浜松学芸中学校","中学校","浜松市"]
[null,793,"聖隷クリストファー中学校","中学校","浜松市"]
[null,794,"静岡北中学校","中学校","静岡市"]
[null,795,"星陵中学校","中学校","富士宮市"]
[null,796,"静岡県富士見中学校","中学校","富士市"]
[null,797,"静岡大学教育学部附属特別支援学校","特別支援学校","静岡市"]
[null,798,"静岡県立沼津視覚特別支援学校","特別支援学校","沼津市"]
[null,799,"静岡県立静岡視覚特別支援学校","特別支援学校","静岡市"]
[null,800,"静岡県立浜松視覚特別支援学校","特別支援学校","浜松市"]
[null,801,"静岡県立沼津聴覚特別支援学校","特別支援学校","沼津市"]
[null,802,"静岡県立静岡聴覚特別支援学校","特別支援学校","静岡市"]
[null,803,"静岡県立浜松聴覚特別支援学校","特別支援学校","浜松市"]
[null,804,"静岡県立東部特別支援学校","特別支援学校","伊豆の国市"]
[null,805,"静岡県立東部特別支援学校伊東分校","特別支援学校","伊東市"]
[null,806,"静岡県立東部特別支援学校伊豆高原分校","特別支援学校","伊東市"]
[null,807,"静岡県立伊豆の国特別支援学校伊豆下田分校","特別支援学校","下田市"]
[null,808,"静岡県立伊豆の国特別支援学校伊豆松崎分校","特別支援学校","松崎町"]
[null,809,"静岡県立御殿場特別支援学校","特別支援学校","御殿場市"]
[null,810,"静岡県立沼津特別支援学校","特別支援学校","沼津市"]
[null,811,"静岡県立沼津特別支援学校伊豆田方分校","特別支援学校","函南町"]
[null,812,"静岡県立沼津特別支援学校愛鷹分校","特別支援学校","沼津市"]
[null,813,"静岡県立富士特別支援学校","特別支援学校","富士市"]
[null,814,"静岡県立富士特別支援学校富士宮分校","特別支援学校","富士宮市"]
[null,815,"静岡県立清水特別支援学校","特別支援学校","静岡市"]
[null,816,"静岡県立静岡南部特別支援学校","特別支援学校","静岡市"]
[null,817,"静岡県立静岡北特別支援学校","特別支援学校","静岡市"]
[null,818,"静岡県立静岡北特別支援学校南の丘分校","特別支援学校","静岡市"]
[null,819,"静岡県立中央特別支援学校","特別支援学校","静岡市"]
[null,820,"静岡県立藤枝特別支援学校","特別支援学校","藤枝市"]
[null,821,"静岡県立藤枝特別支援学校焼津分校","特別支援学校","焼津市"]
[null,822,"静岡県立吉田特別支援学校","特別支援学校","吉田町"]
[null,823,"静岡県立吉田特別支援学校駿遠分教室","特別支援学校","島田市"]
[null,824,"静岡県立掛川特別支援学校","特別支援学校","掛川市"]
[null,825,"静岡県立掛川特別支援学校御前崎分校","特別支援学校","御前崎市"]
[null,826,"静岡県立袋井特別支援学校","特別支援学校","袋井市"]
[null,827,"静岡県立袋井特別支援学校磐田見付分校","特別支援学校","磐田市"]
[null,828,"静岡県立浜北特別支援学校","特別支援学校","浜松市"]
[null,829,"静岡県立天竜特別支援学校","特別支援学校","浜松市"]
[null,830,"静岡県立浜松特別支援学校","特別支援学校","浜松市"]
[null,831,"静岡県立浜松特別支援学校磐田分校","特別支援学校","磐田市"]
[null,832,"静岡県立浜松特別支援学校城北分校","特別支援学校","浜松市"]
[null,833,"静岡県立西部特別支援学校","特別支援学校","浜松市"]
[null,834,"静岡県立浜名特別支援学校","特別支援学校","湖西市"]
[null,835,"静岡県立伊豆の国特別支援学校","特別支援学校","伊豆の国市"]
[null,836,"静岡県立浜松みをつくし特別支援学校","特別支援学校","浜松市"]
[null,837,"特別支援学校ねむの木","特別支援学校","掛川市"]
[null,838,"静岡県立下田高等学校　全日制","高校","下田市"]
[null,839,"静岡県立下田高等学校　定時制","高校","下田市"]
[null,840,"静岡県立下田高等学校南伊豆分校","高校","南伊豆町"]
[null,841,"静岡県立松崎高等学校","高校","松崎町"]
[null,842,"静岡県立稲取高等学校","高校","東伊豆町"]
[null,843,"静岡県立伊東高等学校　全日制","高校","伊東市"]
[null,844,"静岡県立伊東高等学校　定時制","高校","伊東市"]
[null,845,"静岡県立伊東高等学校城ヶ崎分校","高校","伊東市"]
[null,846,"静岡県立伊東商業高等学校","高校","伊東市"]
[null,847,"静岡県立熱海高等学校","高校","熱海市"]
[null,848,"静岡県立伊豆総合高等学校","高校","伊豆市"]
[null,849,"静岡県立伊豆総合高等学校土肥分校","高校","伊豆市"]
[null,850,"静岡県立韮山高等学校","高校","伊豆の国市"]
[null,851,"静岡県立伊豆中央高等学校","高校","伊豆の国市"]
[null,852,"静岡県立田方農業高等学校","高校","函南町"]
[null,853,"静岡県立三島南高等学校","高校","三島市"]
[null,854,"静岡県立三島北高等学校","高校","三島市"]
[null,855,"静岡県立三島長陵高等学校","高校","三島市"]
[null,856,"静岡県立御殿場高等学校","高校","御殿場市"]
[null,857,"静岡県立御殿場南高等学校","高校","御殿場市"]
[null,858,"静岡県立小山高等学校　全日制","高校","小山町"]
[null,859,"静岡県立小山高等学校　定時制","高校","小山町"]
[null,860,"静岡県立裾野高等学校","高校","裾野市"]
[null,861,"静岡県立沼津東高等学校","高校","沼津市"]
[null,862,"静岡県立沼津西高等学校","高校","沼津市"]
[null,863,"静岡県立沼津城北高等学校","高校","沼津市"]
[null,864,"静岡県立沼津工業高等学校　全日制","高校","沼津市"]
[null,865,"静岡県立沼津工業高等学校　定時制","高校","沼津市"]
[null,866,"静岡県立沼津商業高等学校","高校","清水町"]
[null,867,"静岡県立吉原高等学校","高校","富士市"]
[null,868,"静岡県立吉原工業高等学校","高校","富士市"]
[null,869,"静岡県立富士高等学校　全日制","高校","富士市"]
[null,870,"静岡県立富士高等学校　定時制","高校","富士市"]
[null,871,"静岡県立富士東高等学校","高校","富士市"]
[null,872,"静岡県立富士宮東高等学校　全日制","高校","富士宮市"]
[null,873,"静岡県立富士宮東高等学校　定時制","高校","富士宮市"]
[null,874,"静岡県立富士宮北高等学校","高校","富士宮市"]
[null,875,"静岡県立富士宮西高等学校","高校","富士宮市"]
[null,876,"静岡県立富岳館高等学校","高校","富士宮市"]
[null,877,"静岡県立清水東高等学校　全日制","高校","静岡市"]
[null,878,"静岡県立清水東高等学校　定時制","高校","静岡市"]
[null,879,"静岡県立清水西高等学校","高校","静岡市"]
[null,880,"静岡県立清水南高等学校","高校","静岡市"]
[null,881,"静岡県立静岡高等学校　全日制","高校","静岡市"]
[null,882,"静岡県立静岡高等学校　定時制","高校","静岡市"]
[null,883,"静岡県立静岡城北高等学校","高校","静岡市"]
[null,884,"静岡県立静岡東高等学校","高校","静岡市"]
[null,885,"静岡県立静岡西高等学校","高校","静岡市"]
[null,886,"静岡県立駿河総合高等学校","高校","静岡市"]
[null,887,"静岡県立静岡農業高等学校","高校","静岡市"]
[null,888,"静岡県立科学技術高等学校　全日制","高校","静岡市"]
[null,889,"静岡県立科学技術高等学校　定時制","高校","静岡市"]
[null,890,"静岡県立静岡商業高等学校　","高校","静岡市"]
[null,891,"静岡県立静岡中央高等学校　定時制","高校","静岡市"]
[null,892,"静岡県立静岡中央高等学校　通信制","高校","静岡市"]
[null,893,"静岡県立焼津中央高等学校","高校","焼津市"]
[null,894,"静岡県立焼津水産高等学校","高校","焼津市"]
[null,895,"静岡県立清流館高等学校","高校","焼津市"]
[null,896,"静岡県立藤枝東高等学校　全日制","高校","藤枝市"]
[null,897,"静岡県立藤枝東高等学校　定時制","高校","藤枝市"]
[null,898,"静岡県立藤枝西高等学校","高校","藤枝市"]
[null,899,"静岡県立藤枝北高等学校","高校","藤枝市"]
[null,900,"静岡県立島田高等学校","高校","島田市"]
[null,901,"静岡県立島田工業高等学校","高校","島田市"]
[null,902,"静岡県立島田商業高等学校　全日制","高校","島田市"]
[null,903,"静岡県立島田商業高等学校　定時制","高校","島田市"]
[null,904,"静岡県立金谷高等学校","高校","島田市"]
[null,905,"静岡県立川根高等学校","高校","川根本町"]
[null,906,"静岡県立榛原高等学校　全日制","高校","牧之原市"]
[null,907,"静岡県立榛原高等学校　定時制","高校","牧之原市"]
[null,908,"静岡県立相良高等学校","高校","牧之原市"]
[null,909,"静岡県立掛川東高等学校","高校","掛川市"]
[null,910,"静岡県立掛川西高等学校","高校","掛川市"]
[null,911,"静岡県立掛川工業高等学校","高校","掛川市"]
[null,912,"静岡県立横須賀高等学校","高校","掛川市"]
[null,913,"静岡県立池新田高等学校","高校","御前崎市"]
[null,914,"静岡県立小笠高等学校","高校","菊川市"]
[null,915,"静岡県立遠江総合高等学校","高校","森町"]
[null,916,"静岡県立袋井高等学校","高校","袋井市"]
[null,917,"静岡県立袋井商業高等学校","高校","袋井市"]
[null,918,"静岡県立磐田南高等学校　全日制","高校","磐田市"]
[null,919,"静岡県立磐田南高等学校　定時制","高校","磐田市"]
[null,920,"静岡県立磐田北高等学校","高校","磐田市"]
[null,921,"静岡県立磐田農業高等学校","高校","磐田市"]
[null,922,"静岡県立磐田西高等学校","高校","磐田市"]
[null,923,"静岡県立天竜高等学校","高校","浜松市"]
[null,924,"静岡県立天竜高等学校春野校舎","高校","浜松市"]
[null,925,"静岡県立浜松北高等学校　全日制","高校","浜松市"]
[null,926,"静岡県立浜松北高等学校　定時制","高校","浜松市"]
[null,927,"静岡県立浜松西高等学校","高校","浜松市"]
[null,928,"静岡県立浜松南高等学校","高校","浜松市"]
[null,929,"静岡県立浜松湖東高等学校","高校","浜松市"]
[null,930,"静岡県立浜松湖南高等学校","高校","浜松市"]
[null,931,"静岡県立浜松江之島高等学校","高校","浜松市"]
[null,932,"静岡県立浜松東高等学校","高校","浜松市"]
[null,933,"静岡県立浜松大平台高等学校　全日制","高校","浜松市"]
[null,934,"静岡県立浜松大平台高等学校　定時制","高校","浜松市"]
[null,935,"静岡県立浜松工業高等学校　全日制","高校","浜松市"]
[null,936,"静岡県立浜松工業高等学校　定時制","高校","浜松市"]
[null,937,"静岡県立浜松城北工業高等学校","高校","浜松市"]
[null,938,"静岡県立浜松商業高等学校","高校","浜松市"]
[null,939,"静岡県立浜名高等学校　全日制","高校","浜松市"]
[null,940,"静岡県立浜名高等学校　定時制","高校","浜松市"]
[null,941,"静岡県立浜北西高等学校","高校","浜松市"]
[null,942,"静岡県立浜松湖北高等学校","高校","浜松市"]
[null,943,"静岡県立浜松湖北高等学校佐久間分校","高校","浜松市"]
[null,944,"静岡県立新居高等学校　全日制","高校","湖西市"]
[null,945,"静岡県立新居高等学校　定時制","高校","湖西市"]
[null,946,"静岡県立湖西高等学校","高校","湖西市"]
[null,947,"沼津市立沼津高等学校","高校","沼津市"]
[null,948,"富士市立高等学校","高校","富士市"]
[null,949,"静岡市立高等学校　全日制","高校","静岡市"]
[null,950,"静岡市立高等学校　定時制","高校","静岡市"]
[null,951,"浜松市立高等学校","高校","浜松市"]
[null,952,"静岡市立清水桜が丘高等学校","高校","静岡市"]
[null,953,"知徳高等学校","高校","長泉町"]
[null,954,"不二聖心女子学院高等学校","高校","裾野市"]
[null,955,"日本大学三島高等学校","高校","三島市"]
[null,956,"沼津中央高等学校","高校","沼津市"]
[null,957,"飛龍高等学校","高校","沼津市"]
[null,958,"加藤学園高等学校","高校","沼津市"]
[null,959,"誠恵高等学校","高校","沼津市"]
[null,960,"御殿場西高等学校","高校","御殿場市"]
[null,961,"静岡県富士見高等学校","高校","富士市"]
[null,962,"星陵高等学校","高校","富士宮市"]
[null,963,"桐陽高等学校","高校","沼津市"]
[null,964,"加藤学園暁秀高等学校","高校","沼津市"]
[null,965,"菊川南陵高等学校","高校","菊川市"]
[null,966,"清水国際高等学校","高校","静岡市"]
[null,967,"静岡サレジオ高等学校","高校","静岡市"]
[null,968,"東海大学付属静岡翔洋高等学校","高校","静岡市"]
[null,969,"静清高等学校","高校","藤枝市"]
[null,970,"静岡大成高等学校","高校","静岡市"]
[null,971,"静岡英和女学院高等学校","高校","静岡市"]
[null,972,"静岡雙葉高等学校","高校","静岡市"]
[null,973,"城南静岡高等学校","高校","静岡市"]
[null,974,"静岡女子高等学校","高校","静岡市"]
[null,975,"常葉大学附属常葉高等学校","高校","静岡市"]
[null,976,"常葉大学附属橘高等学校","高校","静岡市"]
[null,977,"静岡北高等学校","高校","静岡市"]
[null,978,"静岡学園高等学校","高校","静岡市"]
[null,979,"焼津高等学校","高校","焼津市"]
[null,980,"藤枝順心高等学校","高校","藤枝市"]
[null,981,"島田樟誠高等学校","高校","島田市"]
[null,982,"静岡聖光学院高等学校","高校","静岡市"]
[null,983,"常葉大学附属菊川高等学校","高校","菊川市"]
[null,984,"藤枝明誠高等学校","高校","藤枝市"]
[null,985,"磐田東高等学校","高校","磐田市"]
[null,986,"浜松学院高等学校","高校","浜松市"]
[null,987,"静岡県西遠女子学園高等学校","高校","浜松市"]
[null,988,"浜松開誠館高等学校","高校","浜松市"]
[null,989,"浜松学芸高等学校","高校","浜松市"]
[null,990,"浜松修学舎高等学校","高校","浜松市"]
[null,991,"浜松聖星高等学校","高校","浜松市"]
[null,992,"浜松日体高等学校","高校","浜松市"]
[null,993,"聖隷クリストファー高等学校","高校","浜松市"]
[null,994,"オイスカ高等学校","高校","浜松市"]
[null,995,"浜松啓陽高等学校","高校","浜松市"]
[null,996,"キラリ高等学校","高校","吉田町"]
[null,997,"沼津工業高等専門学校　本科","高校","沼津市"]
[null,998,"島田実業高等専修学校","高校","島田市"]
[null,999,"東海文化高等専修学校","高校","磐田市"]
[null,1000,"静岡新美容専門学校","高校","磐田市"]
[null,1001,"デザインテクノロジー専門学校","高校","浜松市"]
[null,1002,"富士宮高等専修学校","高校","富士宮市"]
[null,1003,"富士コンピュ－タ専門学校","高校","伊豆市"]
[null,1004,"富士調理技術専門学校","高校","富士市"]
[null,1005,"駿河学院専門学校","高校","静岡市"]
[null,1006,"藤枝学院高等専修学校","高校","藤枝市"]
[null,1007,"清水学院高等専修学校","高校","静岡市"]
[null,1008,"静進情報高等専修学校","高校","静岡市"]
[null,1009,"川口調理師専門学校","高校","静岡市"]
[null,1010,"静岡アルス美容専門学校","高校","掛川市"]
[null,1011,"中遠調理師専門学校","高校","御前崎市"]
[null,1012,"浜松市医師会看護高等専修学校","高校","浜松市"]
[null,2001,"教育政策課","小学校","県教委他"]
[null,2002,"義務教育課","小学校","県教委他"]
[null,2003,"高校教育課","小学校","県教委他"]
[null,2004,"特別支援学校別支援教育課","小学校","県教委他"]
[null,2005,"健康体育課","小学校","県教委他"]
[null,2006,"社会教育課","小学校","県教委他"]
[null,2007,"総合教育センター","小学校","県教委他"]
[null,2008,"私学振興課","小学校","県教委他"]
[null,2009,"障害福祉課","小学校","県教委他"]
[null,2010,"精神保健福祉センター","小学校","県教委他"]
[null,2011,"フリーユーザ","小学校","ﾌﾘｰﾕｰｻﾞ"]
[null,2012,"教育政策課","中学校","県教委他"]
[null,2013,"義務教育課","中学校","県教委他"]
[null,2014,"高校教育課","中学校","県教委他"]
[null,2015,"特別支援学校別支援教育課","中学校","県教委他"]
[null,2016,"健康体育課","中学校","県教委他"]
[null,2017,"社会教育課","中学校","県教委他"]
[null,2018,"総合教育センター","中学校","県教委他"]
[null,2019,"私学振興課","中学校","県教委他"]
[null,2020,"障害福祉課","中学校","県教委他"]
[null,2021,"精神保健福祉センター","中学校","県教委他"]
[null,2022,"フリーユーザ","中学校","ﾌﾘｰﾕｰｻﾞ"]
[null,2023,"教育政策課","高校","県教委他"]
[null,2024,"義務教育課","高校","県教委他"]
[null,2025,"高校教育課","高校","県教委他"]
[null,2026,"特別支援学校別支援教育課","高校","県教委他"]
[null,2027,"健康体育課","高校","県教委他"]
[null,2028,"社会教育課","高校","県教委他"]
[null,2029,"総合教育センター","高校","県教委他"]
[null,2030,"私学振興課","高校","県教委他"]
[null,2031,"障害福祉課","高校","県教委他"]
[null,2032,"精神保健福祉センター","高校","県教委他"]
[null,2033,"フリーユーザ","高校","ﾌﾘｰﾕｰｻﾞ"]