Workbook
Name 下請表: OFFSET([1]工事入力!$A$17,1,,COUNTA([1]工事入力!$A$1:$A$65536)-17,13)
Name 会社名: OFFSET([1]会社データ!$B$2,1,,[1]会社データ!$C$2,1)
Name 関係会社: OFFSET([1]工事入力!$S$1,1,,[1]工事入力!$S$1,1)
Name 良否: [2]ｃｏｎｆｉｇ!$U$2:$U$3

Sheet 入力(委)
A1: 委託業務情報入力
A2: 提案内容 | C2: 提出書 | D2: プルダウン選択 | E2: ← 「鑑」作成毎に変更
A3: 業務番号 | C3: 37-X9999-01-11-01 | D3: 直接入力
A4: 発注年度 | C4: 令和７年度[第37-X9999-01号] | D4: 直接入力
B5: 路線河川名 | C5: 二級河川○○川 | D5: 直接入力
B6: 事業名 | C6: ○○整備事業工事
B8: 工種名 | C8: に伴う測量業務委託
A9: 事業名 | C9: =CONCATENATE(C5,C6,C8) -> 二級河川○○川○○整備事業工事に伴う測量業務委託 | D9: 自動
A10: 当初契約額 | C10: 10000000 | D10: 直接入力
A12: 変更契約額 | D12: 直接入力
A13: 業務箇所 | C13: 静岡市葵区追手町地先 | D13: 直接入力
A14: 着手年月日 | C14: 07.10.05 | D14: 直接入力 | E14: 45935
A15: 当初履行期限 | C15: 08.03.15 | D15: 直接入力 | E15: 46096
A16: 変更履行期限 | D16: 直接入力
A17: （監督員） 所属名 | C17: 建設経済局技術調査課 | D17: 直接入力
A18: 監督員 | C18: ○○ ○○ | D18: 直接入力
A19: 受注者名 | C19: 株式会社○○○○ | D19: 直接入力
A20: 管理技術者等 | C20: ○○ ○○ | D20: 直接入力
A21: 決裁欄 | C21: 企画検査課 | D21: 選択 | E21: ← （決裁欄について） 監督員に確認
A22: 契約担当者 | C22: 企画検査課長 | D22: リスト
C23: 検査監
C24: 企画班長
C25: 維持管理課長
C26: 維持調査班長
C28: ↑まずはここを入力しよう！
C30: ～提出用「鑑」作成手順～
C32: １．上記「工事情報入力」に必要情報を入力する。
C33: →土木工事共通仕様書に基づき、［提案内容］を選択する。
C34: （既定のタブ（［施工計画書］等）は、タブ内で［提案内容］を記入・選択する。）
C35: ↓
C36: ２．タブ［鑑］の水色塗りつぶしセルを編集（記載）する。
C37: （プルダウン選択有）
... C40: 上記「工事情報入力」黄色セルに必要情報を入力する。

Sheet 鑑(委)
B1: 様式第5号（第2条関係） | AM1: （起案用）
S3: 決 裁 欄 | T3: 設 計 内 容 確 認 者 | AI3: 監督員
T4: 所長 | W4: 課僚 | AI4: 総括
AI6: 主任
AI8: 担当
BY10: （監督員用） | DK10: （受注者用）
C12: ='入力(委)'!$C$2 -> 提出書 | AO12: =C12 -> 提出書 | CA12: =C12 -> 提出書
B14: 業務番号 | C14: ='入力(委)'!$C$3 -> 37-X9999-01-11-01 | AN14: 業務番号 | AO14: =C14 -> 37-X9999-01-11-01 | BZ14: 業務番号 | CA14: =C14 -> 37-X9999-01-11-01
B15: 業務名 | D15: =CONCATENATE('入力(委)'!C4,'入力(委)'!C9) -> 令和７年度[第37-X9999-01号]二級河川○○川○○整備事業工事に伴う測量業務委託 | AN15: 業務名 | AP15: =D15 -> 令和７年度[第37-X9999-01号]二級河川○○川○○整備事業工事に伴う測量業務委託 | BZ15: 業務名 | CB15: =D15 -> 令和７年度[第37-X9999-01号]二級河川○○川○○整備事業工事に伴う測量業務委託
B16: 契約金額 | C16: ='入力(委)'!$C$10 -> 10000000 | I16: 円 | K16: 履行期間 | O16: 令和 | Q16: =MIDB('入力(委)'!C14,1,2) -> 07 | S16: 年 | T16: =MIDB('入力(委)'!C14,4,2) -> 10 | V16: 月 | W16: =MIDB('入力(委)'!C14,7,2) -> 05 | Y16: 日 | Z16: ～ | AB16: 令和 | AD16: =IF('入力(委)'!C16="",MIDB('入力(委)'!C15,1,2),MIDB('入力(委)'!C16,1,2)) -> 08 | AF16: 年 | AG16: =IF('入力(委)'!C16="",MIDB('入力(委)'!C15,4,2),MIDB('入力(委)'!C16,4,2)) -> 03 | AI16: 月 | AJ16: =IF('入力(委)'!C16="",MIDB('入力(委)'!C15,7,2),MIDB('入力(委)'!C16,7,2)) -> 15 | AL16: 日 | AN16: 契約金額 | AO16: =C16 -> 10000000 | AU16: 円 | AW16: =K16 -> 履行期間 | BA16: =O16 -> 令和 | BC16: =Q16 -> 07 | BE16: =S16 -> 年 | BF16: =T16 -> 10 | BH16: =V16 -> 月 | BI16: =W16 -> 05 | BK16: =Y16 -> 日 | BL16: =Z16 -> ～ | BN16: =AB16 -> 令和 | BP16: =AD16 -> 08 | BR16: =AF16 -> 年 | BS16: =AG16 -> 03 | BU16: =AI16 -> 月 | BV16: =AJ16 -> 15 | BX16: =AL16 -> 日 | BZ16: 契約金額 | CA16: =C16 -> 10000000 | CG16: 円 | CI16: =K16 -> 履行期間 | CM16: =O16 -> 令和 | CO16: =Q16 -> 07 | CQ16: =S16 -> 年 | CR16: =T16 -> 10 | CT16: =V16 -> 月 | CU16: =W16 -> 05 | CW16: =Y16 -> 日 | CX16: =Z16 -> ～ | CZ16: =AB16 -> 令和 | DB16: =AD16 -> 08 | DD16: =AF16 -> 年 | DE16: =AG16 -> 03 | DG16: =AI16 -> 月 | DH16: =AJ16 -> 15 | DJ16: =AL16 -> 日
B18: 下記のとおり | F18: =MIDB(C12,1,4) -> 提出 | K18: する。 | AN18: 下記のとおり | AR18: =$F$18 -> 提出 | AW18: =$K$18 -> する。 | BZ18: 下記のとおり | CD18: =$F$18 -> 提出 | CI18: =$K$18 -> する。
E20: 令和 | I20: 年 | L20: 月 | O20: 日 | AQ20: 令和 | AS20: =G20 -> 0 | AU20: 年 | AV20: =J20 -> 0 | AX20: 月 | AY20: =M20 -> 0 | BA20: 日 | CC20: 令和 | CE20: =G20 -> 0 | CG20: 年 | CH20: =J20 -> 0 | CJ20: 月 | CK20: =M20 -> 0 | CM20: 日
R21: 契約担当者名 | Y21: ='入力(委)'!C19 -> 株式会社○○○○ | BD21: =$R$21 -> 契約担当者名 | BK21: =$Y$21 -> 株式会社○○○○ | CP21: =$R$21 -> 契約担当者名 | CW21: =$Y$21 -> 株式会社○○○○
R22: 監督員名 | Z22: ='入力(委)'!C20 -> ○○ ○○ | BD22: =$R$22 -> 監督員名 | BL22: =$Z$22 -> ○○ ○○ | CP22: =$R$22 -> 監督員名 | CX22: =$Z$22 -> ○○ ○○
R23: 受注者名 | BD23: =$R$23 -> 受注者名 | CP23: =$R$23 -> 受注者名
AN24: =$B$24 -> 0 | BZ24: =$B$24 -> 0
AN25: =$B$25 -> 0 | BZ25: =$B$25 -> 0
AN26: =$B$26 -> 0 | BZ26: =$B$26 -> 0
AN27: =$B$27 -> 0 | BZ27: =$B$27 -> 0
AN28: =$B$28 -> 0 | BZ28: =$B$28 -> 0
AN29: =$B$29 -> 0 | BZ29: =$B$29 -> 0
AN30: =$B$30 -> 0 | BZ30: =$B$30 -> 0
AN31: =$B$31 -> 0 | BZ31: =$B$31 -> 0
AN32: =$B$32 -> 0 | BZ32: =$B$32 -> 0
AN33: =$B$33 -> 0 | BZ33: =$B$33 -> 0
AN34: =$B$34 -> 0 | BZ34: =$B$34 -> 0
AN35: =$B$35 -> 0 | BZ35: =$B$35 -> 0
AN36: =$B$36 -> 0 | BZ36: =$B$36 -> 0
B37: 上記について、 | F37: 承諾する。 | AA37: 令和 | AE37: 年 | AH37: 月 | AK37: 日 | AN37: =B37 -> 上記について、 | AR37: =F37 -> 承諾する。 | BM37: =AA37 -> 令和 | BO37: =AC37 -> 0 | BQ37: =AE37 -> 年 | BR37: =AF37 -> 0 | BT37: =AH37 -> 月 | BU37: =AI37 -> 0 | BW37: =AK37 -> 日 | BZ37: =B37 -> 上記について、 | CD37: =F37 -> 承諾する。 | CY37: =AA37 -> 令和 | DA37: =AC37 -> 0 | DC37: =AE37 -> 年 | DD37: =AF37 -> 0 | DF37: =AH37 -> 月 | DG37: =AI37 -> 0 | DI37: =AK37 -> 日
F38: 受理する。 | N38: 契約担当者名 | AR38: =F38 -> 受理する。 | AZ38: =N38 -> 契約担当者名 | BG38: =U38 -> 0 | CD38: =F38 -> 受理する。 | CL38: =N38 -> 契約担当者名 | CS38: =U38 -> 0
N39: 監督員名 | U39: ='入力(委)'!C17 -> 建設経済局技術調査課 | AZ39: =N39 -> 監督員名 | BG39: =U39 -> 建設経済局技術調査課 | CL39: =N39 -> 監督員名 | CS39: =U39 -> 建設経済局技術調査課
N40: 受注者名 | U40: ='入力(委)'!C18 -> ○○ ○○ | AZ40: =N40 -> 受注者名 | BG40: =U40 -> ○○ ○○ | CL40: =N40 -> 受注者名 | CS40: =U40 -> ○○ ○○
B42: 注1.不要な文字は＝で消すこと。 | AN42: 注1.不要な文字は＝で消すこと。 | BZ42: 注1.不要な文字は＝で消すこと。
B43: 2.起案用、監督員控用、受注者用の３部複写とする。 | Y43: ※承諾の場合は署名とする。 | AN43: 2.起案用、監督員控用、受注者用の３部複写とする。 | BL43: ※承諾の場合は署名とする。 | BZ43: 2.起案用、監督員控用、受注者用の３部複写とする。 | CW43: ※承諾の場合は署名とする。
B44: 3.起案用は上欄に決裁欄を設ける。 | AN44: 3.起案用は上欄に決裁欄を設ける。 | BZ44: 3.起案用は上欄に決裁欄を設ける。
B46: 条件リスト
B47: １．静岡県業務委託契約約款第１８条第４項により、別紙のとおり設計図書の変更を行うよう協議する。
B48: １．静岡県業務委託契約約款第１９条により、別紙のとおり設計図書の変更を行うよう協議する。
B49: １．静岡県業務委託契約約款第２０条により、別紙のとおり設計図書の変更を行うよう協議する。
B50: １．静岡県業務委託契約約款第２１条により、別紙のとおり設計図書の変更を行うよう協議する。
...

Sheet 業務計画書
B1: 様式第5号 | AM1: （起案用）
S3: 決 裁 欄 | T3: 設 計 内 容 確 認 者 | AI3: 監督員
T4: 所長 | W4: 課僚 | AI4: 総括
AI6: 主任
AI8: 担当
BY10: （監督員用） | DK10: （受注者用）
C12: ='入力(委)'!$C$2 -> 提出書 | AO12: =C12 -> 提出書 | CA12: =C12 -> 提出書
B14: 業務番号 | C14: ='入力(委)'!$C$3 -> 37-X9999-01-11-01 | AN14: 業務番号 | AO14: =C14 -> 37-X9999-01-11-01 | BZ14: 業務番号 | CA14: =C14 -> 37-X9999-01-11-01
B15: 業務名 | D15: =CONCATENATE('入力(委)'!C4,'入力(委)'!C9) -> 令和７年度[第37-X9999-01号]二級河川○○川○○整備事業工事に伴う測量業務委託 | AN15: 業務名 | AP15: =D15 -> 令和７年度[第37-X9999-01号]二級河川○○川○○整備事業工事に伴う測量業務委託 | BZ15: 業務名 | CB15: =D15 -> 令和７年度[第37-X9999-01号]二級河川○○川○○整備事業工事に伴う測量業務委託
B16: 契約金額 | C16: ='入力(委)'!$C$10 -> 10000000 | I16: 円 | K16: 履行期間 | O16: 令和 | Q16: =MIDB('入力(委)'!C14,1,2) -> 07 | S16: 年 | T16: =MIDB('入力(委)'!C14,4,2) -> 10 | V16: 月 | W16: =MIDB('入力(委)'!C14,7,2) -> 05 | Y16: 日 | Z16: ～ | AB16: 令和 | AD16: =IF('入力(委)'!C16="",MIDB('入力(委)'!C15,1,2),MIDB('入力(委)'!C16,1,2)) -> 08 | AF16: 年 | AG16: =IF('入力(委)'!C16="",MIDB('入力(委)'!C15,4,2),MIDB('入力(委)'!C16,4,2)) -> 03 | AI16: 月 | AJ16: =IF('入力(委)'!C16="",MIDB('入力(委)'!C15,7,2),MIDB('入力(委)'!C16,7,2)) -> 15 | AL16: 日 | AN16: 契約金額 | AO16: =C16 -> 10000000 | AU16: 円 | AW16: =K16 -> 履行期間 | BA16: =O16 -> 令和 | BC16: =Q16 -> 07 | BE16: =S16 -> 年 | BF16: =T16 -> 10 | BH16: =V16 -> 月 | BI16: =W16 -> 05 | BK16: =Y16 -> 日 | BL16: =Z16 -> ～ | BN16: =AB16 -> 令和 | BP16: =AD16 -> 08 | BR16: =AF16 -> 年 | BS16: =AG16 -> 03 | BU16: =AI16 -> 月 | BV16: =AJ16 -> 15 | BX16: =AL16 -> 日 | BZ16: 契約金額 | CA16: =C16 -> 10000000 | CG16: 円 | CI16: =K16 -> 履行期間 | CM16: =O16 -> 令和 | CO16: =Q16 -> 07 | CQ16: =S16 -> 年 | CR16: =T16 -> 10 | CT16: =V16 -> 月 | CU16: =W16 -> 05 | CW16: =Y16 -> 日 | CX16: =Z16 -> ～ | CZ16: =AB16 -> 令和 | DB16: =AD16 -> 08 | DD16: =AF16 -> 年 | DE16: =AG16 -> 03 | DG16: =AI16 -> 月 | DH16: =AJ16 -> 15 | DJ16: =AL16 -> 日
B18: 下記のとおり | F18: =MIDB(C12,1,4) -> 提出 | K18: する。 | AN18: 下記のとおり | AR18: =$F$18 -> 提出 | AW18: =$K$18 -> する。 | BZ18: 下記のとおり | CD18: =$F$18 -> 提出 | CI18: =$K$18 -> する。
E20: 令和 | I20: 年 | L20: 月 | O20: 日 | AQ20: 令和 | AS20: =G20 -> 0 | AU20: 年 | AV20: =J20 -> 0 | AX20: 月 | AY20: =M20 -> 0 | BA20: 日 | CC20: 令和 | CE20: =G20 -> 0 | CG20: 年 | CH20: =J20 -> 0 | CJ20: 月 | CK20: =M20 -> 0 | CM20: 日
R21: 契約担当者名 | Y21: ='入力(委)'!C19 -> 株式会社○○○○ | BD21: =$R$21 -> 契約担当者名 | BK21: =$Y$21 -> 株式会社○○○○ | CP21: =$R$21 -> 契約担当者名 | CW21: =$Y$21 -> 株式会社○○○○
R22: 監督員名 | Z22: ='入力(委)'!C20 -> ○○ ○○ | BD22: =$R$22 -> 監督員名 | BL22: =$Z$22 -> ○○ ○○ | CP22: =$R$22 -> 監督員名 | CX22: =$Z$22 -> ○○ ○○
R23: 受注者名 | BD23: =$R$23 -> 受注者名 | CP23: =$R$23 -> 受注者名
B24: 静岡県業務委託共通仕様書 測量作業共通仕様書 第113条に基づき、業務計画書を提出する。 | AN24: =$B$24 -> 静岡県業務委託共通仕様書 測量作業共通仕様書 第113条に基づき、業務計画書を提出する。 | BZ24: =$B$24 -> 静岡県業務委託共通仕様書 測量作業共通仕様書 第113条に基づき、業務計画書を提出する。
B25: （内容） | AN25: =$B$25 -> （内容） | BZ25: =$B$25 -> （内容）
B26: ・業務計画書（当初） | AN26: =$B$26 -> ・業務計画書（当初） | BZ26: =$B$26 -> ・業務計画書（当初）
AN27: =$B$27 -> 0 | BZ27: =$B$27 -> 0
AN28: =$B$28 -> 0 | BZ28: =$B$28 -> 0
AN29: =$B$29 -> 0 | BZ29: =$B$29 -> 0
AN30: =$B$30 -> 0 | BZ30: =$B$30 -> 0
AN31: =$B$31 -> 0 | BZ31: =$B$31 -> 0
AN32: =$B$32 -> 0 | BZ32: =$B$32 -> 0
AN33: =$B$33 -> 0 | BZ33: =$B$33 -> 0
AN34: =$B$34 -> 0 | BZ34: =$B$34 -> 0
AN35: =$B$35 -> 0 | BZ35: =$B$35 -> 0
AN36: =$B$36 -> 0 | BZ36: =$B$36 -> 0
B37: 上記について、 | F37: 承諾する。 | AA37: 令和 | AE37: 年 | AH37: 月 | AK37: 日 | AN37: =B37 -> 上記について、 | AR37: =F37 -> 承諾する。 | BM37: =AA37 -> 令和 | BO37: =AC37 -> 0 | BQ37: =AE37 -> 年 | BR37: =AF37 -> 0 | BT37: =AH37 -> 月 | BU37: =AI37 -> 0 | BW37: =AK37 -> 日 | BZ37: =B37 -> 上記について、 | CD37: =F37 -> 承諾する。 | CY37: =AA37 -> 令和 | DA37: =AC37 -> 0 | DC37: =AE37 -> 年 | DD37: =AF37 -> 0 | DF37: =AH37 -> 月 | DG37: =AI37 -> 0 | DI37: =AK37 -> 日
F38: 受理する。 | N38: 契約担当者名 | AR38: =F38 -> 受理する。 | AZ38: =N38 -> 契約担当者名 | BG38: =U38 -> 0 | CD38: =F38 -> 受理する。 | CL38: =N38 -> 契約担当者名 | CS38: =U38 -> 0
N39: 監督員名 | U39: ='入力(委)'!C17 -> 建設経済局技術調査課 | AZ39: =N39 -> 監督員名 | BG39: =U39 -> 建設経済局技術調査課 | CL39: =N39 -> 監督員名 | CS39: =U39 -> 建設経済局技術調査課
N40: 受注者名 | U40: ='入力(委)'!C18 -> ○○ ○○ | AZ40: =N40 -> 受注者名 | BG40: =U40 -> ○○ ○○ | CL40: =N40 -> 受注者名 | CS40: =U40 -> ○○ ○○
B42: 注1.不要な文字は＝で消すこと。 | AN42: 注1.不要な文字は＝で消すこと。 | BZ42: 注1.不要な文字は＝で消すこと。
B43: 2.起案用、監督員控用、受注者用の３部複写とする。 | Y43: ※承諾の場合は署名とする。 | AN43: 2.起案用、監督員控用、受注者用の３部複写とする。 | BL43: ※承諾の場合は署名とする。 | BZ43: 2.起案用、監督員控用、受注者用の３部複写とする。 | CW43: ※承諾の場合は署名とする。
B44: 3.起案用は上欄に決裁欄を設ける。 | AN44: 3.起案用は上欄に決裁欄を設ける。 | BZ44: 3.起案用は上欄に決裁欄を設ける。
B46: 条件リスト
B47: 静岡県業務委託共通仕様書 測量作業共通仕様書 第113条に基づき、業務計画書を提出する。
B48: 静岡県業務委託共通仕様書 地質・土質調査業務共通仕様書 第113条に基づき、業務計画書を提出する。
B49: 静岡県業務委託共通仕様書 第1112条に基づき、業務計画書を提出する。

Sheet 変更協議
B1: 様式第5号 | AM1: （起案用）
S3: 決 裁 欄 | T3: 設 計 内 容 確 認 者 | AI3: 監督員
T4: 所長 | W4: 課僚 | AI4: 総括
AI6: 主任
AI8: 担当
BY10: （監督員用） | DK10: （受注者用）
C12: ='入力(委)'!$C$2 -> 提出書 | AO12: =C12 -> 提出書 | CA12: =C12 -> 提出書
B14: 業務番号 | C14: ='入力(委)'!$C$3 -> 37-X9999-01-11-01 | AN14: 業務番号 | AO14: =C14 -> 37-X9999-01-11-01 | BZ14: 業務番号 | CA14: =C14 -> 37-X9999-01-11-01
B15: 業務名 | D15: =CONCATENATE('入力(委)'!C4,'入力(委)'!C9) -> 令和７年度[第37-X9999-01号]二級河川○○川○○整備事業工事に伴う測量業務委託 | AN15: 業務名 | AP15: =D15 -> 令和７年度[第37-X9999-01号]二級河川○○川○○整備事業工事に伴う測量業務委託 | BZ15: 業務名 | CB15: =D15 -> 令和７年度[第37-X9999-01号]二級河川○○川○○整備事業工事に伴う測量業務委託
B16: 契約金額 | C16: ='入力(委)'!$C$10 -> 10000000 | I16: 円 | K16: 履行期間 | O16: 令和 | Q16: =MIDB('入力(委)'!C14,1,2) -> 07 | S16: 年 | T16: =MIDB('入力(委)'!C14,4,2) -> 10 | V16: 月 | W16: =MIDB('入力(委)'!C14,7,2) -> 05 | Y16: 日 | Z16: ～ | AB16: 令和 | AD16: =IF('入力(委)'!C16="",MIDB('入力(委)'!C15,1,2),MIDB('入力(委)'!C16,1,2)) -> 08 | AF16: 年 | AG16: =IF('入力(委)'!C16="",MIDB('入力(委)'!C15,4,2),MIDB('入力(委)'!C16,4,2)) -> 03 | AI16: 月 | AJ16: =IF('入力(委)'!C16="",MIDB('入力(委)'!C15,7,2),MIDB('入力(委)'!C16,7,2)) -> 15 | AL16: 日 | AN16: 契約金額 | AO16: =C16 -> 10000000 | AU16: 円 | AW16: =K16 -> 履行期間 | BA16: =O16 -> 令和 | BC16: =Q16 -> 07 | BE16: =S16 -> 年 | BF16: =T16 -> 10 | BH16: =V16 -> 月 | BI16: =W16 -> 05 | BK16: =Y16 -> 日 | BL16: =Z16 -> ～ | BN16: =AB16 -> 令和 | BP16: =AD16 -> 08 | BR16: =AF16 -> 年 | BS16: =AG16 -> 03 | BU16: =AI16 -> 月 | BV16: =AJ16 -> 15 | BX16: =AL16 -> 日 | BZ16: 契約金額 | CA16: =C16 -> 10000000 | CG16: 円 | CI16: =K16 -> 履行期間 | CM16: =O16 -> 令和 | CO16: =Q16 -> 07 | CQ16: =S16 -> 年 | CR16: =T16 -> 10 | CT16: =V16 -> 月 | CU16: =W16 -> 05 | CW16: =Y16 -> 日 | CX16: =Z16 -> ～ | CZ16: =AB16 -> 令和 | DB16: =AD16 -> 08 | DD16: =AF16 -> 年 | DE16: =AG16 -> 03 | DG16: =AI16 -> 月 | DH16: =AJ16 -> 15 | DJ16: =AL16 -> 日
B18: 下記のとおり | F18: =MIDB(C12,1,4) -> 提出 | K18: する。 | AN18: 下記のとおり | AR18: =$F$18 -> 提出 | AW18: =$K$18 -> する。 | BZ18: 下記のとおり | CD18: =$F$18 -> 提出 | CI18: =$K$18 -> する。
E20: 令和 | I20: 年 | L20: 月 | O20: 日 | AQ20: 令和 | AS20: =G20 -> 0 | AU20: 年 | AV20: =J20 -> 0 | AX20: 月 | AY20: =M20 -> 0 | BA20: 日 | CC20: 令和 | CE20: =G20 -> 0 | CG20: 年 | CH20: =J20 -> 0 | CJ20: 月 | CK20: =M20 -> 0 | CM20: 日
R21: 契約担当者名 | Y21: ='入力(委)'!C19 -> 株式会社○○○○ | BD21: =$R$21 -> 契約担当者名 | BK21: =$Y$21 -> 株式会社○○○○ | CP21: =$R$21 -> 契約担当者名 | CW21: =$Y$21 -> 株式会社○○○○
R22: 監督員名 | Z22: ='入力(委)'!C20 -> ○○ ○○ | BD22: =$R$22 -> 監督員名 | BL22: =$Z$22 -> ○○ ○○ | CP22: =$R$22 -> 監督員名 | CX22: =$Z$22 -> ○○ ○○
R23: 受注者名 | BD23: =$R$23 -> 受注者名 | CP23: =$R$23 -> 受注者名
B24: １．静岡県業務委託契約約款第１８条第４項により、別紙のとおり設計図書の変更を行うよう協議する。 | AN24: =$B$24 -> １．静岡県業務委託契約約款第１８条第４項により、別紙のとおり設計図書の変更を行うよう協議する。 | BZ24: =$B$24 -> １．静岡県業務委託契約約款第１８条第４項により、別紙のとおり設計図書の変更を行うよう協議する。
B25: １）設計変更内容 | AN25: =$B$25 -> １）設計変更内容 | BZ25: =$B$25 -> １）設計変更内容
B26: 路線測量 Ｌ＝0.1km増工する。 （別添に示す資料等による） | AN26: =$B$26 -> 路線測量 Ｌ＝0.1km増工する。 （別添に示す資料等による） | BZ26: =$B$26 -> 路線測量 Ｌ＝0.1km増工する。 （別添に示す資料等による）
AN27: =$B$27 -> 0 | BZ27: =$B$27 -> 0
AN28: =$B$28 -> 0 | BZ28: =$B$28 -> 0
AN29: =$B$29 -> 0 | BZ29: =$B$29 -> 0
B30: ２．本設計に係る変更概算金額（及び延長日数）については、下記のとおり協議する。 | AN30: =$B$30 -> ２．本設計に係る変更概算金額（及び延長日数）については、下記のとおり協議する。 | BZ30: =$B$30 -> ２．本設計に係る変更概算金額（及び延長日数）については、下記のとおり協議する。
B31: １）直接工事費 約○○千円増 | AN31: =$B$31 -> １）直接工事費 約○○千円増 | BZ31: =$B$31 -> １）直接工事費 約○○千円増
B32: ２）延長日数 ○○日 | AN32: =$B$32 -> ２）延長日数 ○○日 | BZ32: =$B$32 -> ２）延長日数 ○○日
AN33: =$B$33 -> 0 | BZ33: =$B$33 -> 0
AN34: =$B$34 -> 0 | BZ34: =$B$34 -> 0
AN35: =$B$35 -> 0 | BZ35: =$B$35 -> 0
AN36: =$B$36 -> 0 | BZ36: =$B$36 -> 0
B37: 上記について、 | F37: 承諾する。 | AA37: 令和 | AE37: 年 | AH37: 月 | AK37: 日 | AN37: =B37 -> 上記について、 | AR37: =F37 -> 承諾する。 | BM37: =AA37 -> 令和 | BO37: =AC37 -> 0 | BQ37: =AE37 -> 年 | BR37: =AF37 -> 0 | BT37: =AH37 -> 月 | BU37: =AI37 -> 0 | BW37: =AK37 -> 日 | BZ37: =B37 -> 上記について、 | CD37: =F37 -> 承諾する。 | CY37: =AA37 -> 令和 | DA37: =AC37 -> 0 | DC37: =AE37 -> 年 | DD37: =AF37 -> 0 | DF37: =AH37 -> 月 | DG37: =AI37 -> 0 | DI37: =AK37 -> 日
F38: 受理する。 | N38: 契約担当者名 | AR38: =F38 -> 受理する。 | AZ38: =N38 -> 契約担当者名 | BG38: =U38 -> 0 | CD38: =F38 -> 受理する。 | CL38: =N38 -> 契約担当者名 | CS38: =U38 -> 0
N39: 監督員名 | U39: ='入力(委)'!C17 -> 建設経済局技術調査課 | AZ39: =N39 -> 監督員名 | BG39: =U39 -> 建設経済局技術調査課 | CL39: =N39 -> 監督員名 | CS39: =U39 -> 建設経済局技術調査課
N40: 受注者名 | U40: ='入力(委)'!C18 -> ○○ ○○ | AZ40: =N40 -> 受注者名 | BG40: =U40 -> ○○ ○○ | CL40: =N40 -> 受注者名 | CS40: =U40 -> ○○ ○○
B42: 注1.不要な文字は＝で消すこと。 | AN42: 注1.不要な文字は＝で消すこと。 | BZ42: 注1.不要な文字は＝で消すこと。
B43: 2.起案用、監督員控用、受注者用の３部複写とする。 | Y43: ※承諾の場合は署名とする。 | AN43: 2.起案用、監督員控用、受注者用の３部複写とする。 | BL43: ※承諾の場合は署名とする。 | BZ43: 2.起案用、監督員控用、受注者用の３部複写とする。 | CW43: ※承諾の場合は署名とする。
B44: 3.起案用は上欄に決裁欄を設ける。 | AN44: 3.起案用は上欄に決裁欄を設ける。 | BZ44: 3.起案用は上欄に決裁欄を設ける。
B46: 条件リスト
B47: １．静岡県業務委託契約約款第１８条第４項により、別紙のとおり設計図書の変更を行うよう協議する。
B48: １．静岡県業務委託契約約款第１９条により、別紙のとおり設計図書の変更を行うよう協議する。
B49: １．静岡県業務委託契約約款第２０条により、別紙のとおり設計図書の変更を行うよう協議する。
B50: １．静岡県業務委託契約約款第２１条により、別紙のとおり設計図書の変更を行うよう協議する。
...
