Workbook

Sheet 令和８年１月
F2: 新設住宅着工戸数 市区町月間データ | G2: =[7]データ!A2&"年"&[7]データ!B2&"月" -> 2026年1月
H3: （単位：戸）
B4: 市町名 | C4: 総計 | D4: 持家 | E4: 貸家 | F4: 給与住宅 | G4: 分譲住宅 | H4: うちマンション
B5: 葵区 | C5: =IFERROR(VLOOKUP($B5,'[7]11市町別戸数'!$A:$G,7,FALSE),0) -> 117 | D5: =IFERROR(VLOOKUP($B5,'[7]11市町別戸数'!$A:$G,3,FALSE),0) -> 51 | E5: =IFERROR(VLOOKUP($B5,'[7]11市町別戸数'!$A:$G,4,FALSE),0) -> 53 | F5: =IFERROR(VLOOKUP($B5,'[7]11市町別戸数'!$A:$G,5,FALSE),0) -> 0 | G5: =IFERROR(VLOOKUP($B5,'[7]11市町別戸数'!$A:$G,6,FALSE),0) -> 13 | H5: =IFERROR(VLOOKUP($B5,'[7]11市町別マンション戸数'!A:C,3,FALSE),0) -> 0
B6: 駿河区 | C6: =IFERROR(VLOOKUP($B6,'[7]11市町別戸数'!$A:$G,7,FALSE),0) -> 97 | D6: =IFERROR(VLOOKUP($B6,'[7]11市町別戸数'!$A:$G,3,FALSE),0) -> 35 | E6: =IFERROR(VLOOKUP($B6,'[7]11市町別戸数'!$A:$G,4,FALSE),0) -> 47 | F6: =IFERROR(VLOOKUP($B6,'[7]11市町別戸数'!$A:$G,5,FALSE),0) -> 1 | G6: =IFERROR(VLOOKUP($B6,'[7]11市町別戸数'!$A:$G,6,FALSE),0) -> 14 | H6: =IFERROR(VLOOKUP($B6,'[7]11市町別マンション戸数'!A:C,3,FALSE),0) -> 0
B7: 清水区 | C7: =IFERROR(VLOOKUP($B7,'[7]11市町別戸数'!$A:$G,7,FALSE),0) -> 62 | D7: =IFERROR(VLOOKUP($B7,'[7]11市町別戸数'!$A:$G,3,FALSE),0) -> 43 | E7: =IFERROR(VLOOKUP($B7,'[7]11市町別戸数'!$A:$G,4,FALSE),0) -> 8 | F7: =IFERROR(VLOOKUP($B7,'[7]11市町別戸数'!$A:$G,5,FALSE),0) -> 0 | G7: =IFERROR(VLOOKUP($B7,'[7]11市町別戸数'!$A:$G,6,FALSE),0) -> 11 | H7: =IFERROR(VLOOKUP($B7,'[7]11市町別マンション戸数'!A:C,3,FALSE),0) -> 0
B8: 静岡市 | C8: =SUM(C5:C7) -> 276 | D8: =SUM(D5:D7) -> 129 | E8: =SUM(E5:E7) -> 108 | F8: =SUM(F5:F7) -> 1 | G8: =SUM(G5:G7) -> 38 | H8: =SUM(H5:H7) -> 0
B9: 中央区 | C9: =IFERROR(VLOOKUP($B9,'[7]11市町別戸数'!$A:$G,7,FALSE),0) -> 313 | D9: =IFERROR(VLOOKUP($B9,'[7]11市町別戸数'!$A:$G,3,FALSE),0) -> 95 | E9: =IFERROR(VLOOKUP($B9,'[7]11市町別戸数'!$A:$G,4,FALSE),0) -> 183 | F9: =IFERROR(VLOOKUP($B9,'[7]11市町別戸数'!$A:$G,5,FALSE),0) -> 1 | G9: =IFERROR(VLOOKUP($B9,'[7]11市町別戸数'!$A:$G,6,FALSE),0) -> 34 | H9: =IFERROR(VLOOKUP($B9,'[7]11市町別マンション戸数'!A:C,3,FALSE),0) -> 0
B10: 浜名区 | C10: =IFERROR(VLOOKUP($B10,'[7]11市町別戸数'!$A:$G,7,FALSE),0) -> 74 | D10: =IFERROR(VLOOKUP($B10,'[7]11市町別戸数'!$A:$G,3,FALSE),0) -> 36 | E10: =IFERROR(VLOOKUP($B10,'[7]11市町別戸数'!$A:$G,4,FALSE),0) -> 34 | F10: =IFERROR(VLOOKUP($B10,'[7]11市町別戸数'!$A:$G,5,FALSE),0) -> 0 | G10: =IFERROR(VLOOKUP($B10,'[7]11市町別戸数'!$A:$G,6,FALSE),0) -> 4 | H10: =IFERROR(VLOOKUP($B10,'[7]11市町別マンション戸数'!A:C,3,FALSE),0) -> 0
B11: 天竜区 | C11: =IFERROR(VLOOKUP($B11,'[7]11市町別戸数'!$A:$G,7,FALSE),0) -> 4 | D11: =IFERROR(VLOOKUP($B11,'[7]11市町別戸数'!$A:$G,3,FALSE),0) -> 4 | E11: =IFERROR(VLOOKUP($B11,'[7]11市町別戸数'!$A:$G,4,FALSE),0) -> 0 | F11: =IFERROR(VLOOKUP($B11,'[7]11市町別戸数'!$A:$G,5,FALSE),0) -> 0 | G11: =IFERROR(VLOOKUP($B11,'[7]11市町別戸数'!$A:$G,6,FALSE),0) -> 0 | H11: =IFERROR(VLOOKUP($B11,'[7]11市町別マンション戸数'!A:C,3,FALSE),0) -> 0
B12: 浜松市 | C12: =SUM(C9:C11) -> 391 | D12: =SUM(D9:D11) -> 135 | E12: =SUM(E9:E11) -> 217 | F12: =SUM(F9:F11) -> 1 | G12: =SUM(G9:G11) -> 38 | H12: =SUM(H9:H11) -> 0
B13: 沼津市 | C13: =IFERROR(VLOOKUP($B13,'[7]11市町別戸数'!$A:$G,7,FALSE),0) -> 46 | D13: =IFERROR(VLOOKUP($B13,'[7]11市町別戸数'!$A:$G,3,FALSE),0) -> 24 | E13: =IFERROR(VLOOKUP($B13,'[7]11市町別戸数'!$A:$G,4,FALSE),0) -> 18 | F13: =IFERROR(VLOOKUP($B13,'[7]11市町別戸数'!$A:$G,5,FALSE),0) -> 0 | G13: =IFERROR(VLOOKUP($B13,'[7]11市町別戸数'!$A:$G,6,FALSE),0) -> 4 | H13: =IFERROR(VLOOKUP($B13,'[7]11市町別マンション戸数'!A:C,3,FALSE),0) -> 0
B14: 熱海市 | C14: =IFERROR(VLOOKUP($B14,'[7]11市町別戸数'!$A:$G,7,FALSE),0) -> 9 | D14: =IFERROR(VLOOKUP($B14,'[7]11市町別戸数'!$A:$G,3,FALSE),0) -> 2 | E14: =IFERROR(VLOOKUP($B14,'[7]11市町別戸数'!$A:$G,4,FALSE),0) -> 6 | F14: =IFERROR(VLOOKUP($B14,'[7]11市町別戸数'!$A:$G,5,FALSE),0) -> 0 | G14: =IFERROR(VLOOKUP($B14,'[7]11市町別戸数'!$A:$G,6,FALSE),0) -> 1 | H14: =IFERROR(VLOOKUP($B14,'[7]11市町別マンション戸数'!A:C,3,FALSE),0) -> 0
B15: 三島市 | C15: =IFERROR(VLOOKUP($B15,'[7]11市町別戸数'!$A:$G,7,FALSE),0) -> 54 | D15: =IFERROR(VLOOKUP($B15,'[7]11市町別戸数'!$A:$G,3,FALSE),0) -> 20 | E15: =IFERROR(VLOOKUP($B15,'[7]11市町別戸数'!$A:$G,4,FALSE),0) -> 22 | F15: =IFERROR(VLOOKUP($B15,'[7]11市町別戸数'!$A:$G,5,FALSE),0) -> 0 | G15: =IFERROR(VLOOKUP($B15,'[7]11市町別戸数'!$A:$G,6,FALSE),0) -> 12 | H15: =IFERROR(VLOOKUP($B15,'[7]11市町別マンション戸数'!A:C,3,FALSE),0) -> 0
B16: 富士宮市 | C16: =IFERROR(VLOOKUP($B16,'[7]11市町別戸数'!$A:$G,7,FALSE),0) -> 33 | D16: =IFERROR(VLOOKUP($B16,'[7]11市町別戸数'!$A:$G,3,FALSE),0) -> 19 | E16: =IFERROR(VLOOKUP($B16,'[7]11市町別戸数'!$A:$G,4,FALSE),0) -> 6 | F16: =IFERROR(VLOOKUP($B16,'[7]11市町別戸数'!$A:$G,5,FALSE),0) -> 0 | G16: =IFERROR(VLOOKUP($B16,'[7]11市町別戸数'!$A:$G,6,FALSE),0) -> 8 | H16: =IFERROR(VLOOKUP($B16,'[7]11市町別マンション戸数'!A:C,3,FALSE),0) -> 0
B17: 伊東市 | C17: =IFERROR(VLOOKUP($B17,'[7]11市町別戸数'!$A:$G,7,FALSE),0) -> 7 | D17: =IFERROR(VLOOKUP($B17,'[7]11市町別戸数'!$A:$G,3,FALSE),0) -> 6 | E17: =IFERROR(VLOOKUP($B17,'[7]11市町別戸数'!$A:$G,4,FALSE),0) -> 0 | F17: =IFERROR(VLOOKUP($B17,'[7]11市町別戸数'!$A:$G,5,FALSE),0) -> 0 | G17: =IFERROR(VLOOKUP($B17,'[7]11市町別戸数'!$A:$G,6,FALSE),0) -> 1 | H17: =IFERROR(VLOOKUP($B17,'[7]11市町別マンション戸数'!A:C,3,FALSE),0) -> 0
B18: 島田市 | C18: =IFERROR(VLOOKUP($B18,'[7]11市町別戸数'!$A:$G,7,FALSE),0) -> 40 | D18: =IFERROR(VLOOKUP($B18,'[7]11市町別戸数'!$A:$G,3,FALSE),0) -> 16 | E18: =IFERROR(VLOOKUP($B18,'[7]11市町別戸数'!$A:$G,4,FALSE),0) -> 16 | F18: =IFERROR(VLOOKUP($B18,'[7]11市町別戸数'!$A:$G,5,FALSE),0) -> 0 | G18: =IFERROR(VLOOKUP($B18,'[7]11市町別戸数'!$A:$G,6,FALSE),0) -> 8 | H18: =IFERROR(VLOOKUP($B18,'[7]11市町別マンション戸数'!A:C,3,FALSE),0) -> 0
B19: 富士市 | C19: =IFERROR(VLOOKUP($B19,'[7]11市町別戸数'!$A:$G,7,FALSE),0) -> 34 | D19: =IFERROR(VLOOKUP($B19,'[7]11市町別戸数'!$A:$G,3,FALSE),0) -> 24 | E19: =IFERROR(VLOOKUP($B19,'[7]11市町別戸数'!$A:$G,4,FALSE),0) -> 6 | F19: =IFERROR(VLOOKUP($B19,'[7]11市町別戸数'!$A:$G,5,FALSE),0) -> 0 | G19: =IFERROR(VLOOKUP($B19,'[7]11市町別戸数'!$A:$G,6,FALSE),0) -> 4 | H19: =IFERROR(VLOOKUP($B19,'[7]11市町別マンション戸数'!A:C,3,FALSE),0) -> 0
B20: 磐田市 | C20: =IFERROR(VLOOKUP($B20,'[7]11市町別戸数'!$A:$G,7,FALSE),0) -> 84 | D20: =IFERROR(VLOOKUP($B20,'[7]11市町別戸数'!$A:$G,3,FALSE),0) -> 48 | E20: =IFERROR(VLOOKUP($B20,'[7]11市町別戸数'!$A:$G,4,FALSE),0) -> 8 | F20: =IFERROR(VLOOKUP($B20,'[7]11市町別戸数'!$A:$G,5,FALSE),0) -> 0 | G20: =IFERROR(VLOOKUP($B20,'[7]11市町別戸数'!$A:$G,6,FALSE),0) -> 28 | H20: =IFERROR(VLOOKUP($B20,'[7]11市町別マンション戸数'!A:C,3,FALSE),0) -> 0
B21: 焼津市 | C21: =IFERROR(VLOOKUP($B21,'[7]11市町別戸数'!$A:$G,7,FALSE),0) -> 43 | D21: =IFERROR(VLOOKUP($B21,'[7]11市町別戸数'!$A:$G,3,FALSE),0) -> 31 | E21: =IFERROR(VLOOKUP($B21,'[7]11市町別戸数'!$A:$G,4,FALSE),0) -> 4 | F21: =IFERROR(VLOOKUP($B21,'[7]11市町別戸数'!$A:$G,5,FALSE),0) -> 0 | G21: =IFERROR(VLOOKUP($B21,'[7]11市町別戸数'!$A:$G,6,FALSE),0) -> 8 | H21: =IFERROR(VLOOKUP($B21,'[7]11市町別マンション戸数'!A:C,3,FALSE),0) -> 0
B22: 掛川市 | C22: =IFERROR(VLOOKUP($B22,'[7]11市町別戸数'!$A:$G,7,FALSE),0) -> 40 | D22: =IFERROR(VLOOKUP($B22,'[7]11市町別戸数'!$A:$G,3,FALSE),0) -> 28 | E22: =IFERROR(VLOOKUP($B22,'[7]11市町別戸数'!$A:$G,4,FALSE),0) -> 0 | F22: =IFERROR(VLOOKUP($B22,'[7]11市町別戸数'!$A:$G,5,FALSE),0) -> 0 | G22: =IFERROR(VLOOKUP($B22,'[7]11市町別戸数'!$A:$G,6,FALSE),0) -> 12 | H22: =IFERROR(VLOOKUP($B22,'[7]11市町別マンション戸数'!A:C,3,FALSE),0) -> 0
B23: 藤枝市 | C23: =IFERROR(VLOOKUP($B23,'[7]11市町別戸数'!$A:$G,7,FALSE),0) -> 37 | D23: =IFERROR(VLOOKUP($B23,'[7]11市町別戸数'!$A:$G,3,FALSE),0) -> 17 | E23: =IFERROR(VLOOKUP($B23,'[7]11市町別戸数'!$A:$G,4,FALSE),0) -> 16 | F23: =IFERROR(VLOOKUP($B23,'[7]11市町別戸数'!$A:$G,5,FALSE),0) -> 0 | G23: =IFERROR(VLOOKUP($B23,'[7]11市町別戸数'!$A:$G,6,FALSE),0) -> 4 | H23: =IFERROR(VLOOKUP($B23,'[7]11市町別マンション戸数'!A:C,3,FALSE),0) -> 0
B24: 御殿場市 | C24: =IFERROR(VLOOKUP($B24,'[7]11市町別戸数'!$A:$G,7,FALSE),0) -> 22 | D24: =IFERROR(VLOOKUP($B24,'[7]11市町別戸数'!$A:$G,3,FALSE),0) -> 9 | E24: =IFERROR(VLOOKUP($B24,'[7]11市町別戸数'!$A:$G,4,FALSE),0) -> 13 | F24: =IFERROR(VLOOKUP($B24,'[7]11市町別戸数'!$A:$G,5,FALSE),0) -> 0 | G24: =IFERROR(VLOOKUP($B24,'[7]11市町別戸数'!$A:$G,6,FALSE),0) -> 0 | H24: =IFERROR(VLOOKUP($B24,'[7]11市町別マンション戸数'!A:C,3,FALSE),0) -> 0
... B45: 森町 | C45: =IFERROR(VLOOKUP($B45,'[7]11市町別戸数'!$A:$G,7,FALSE),0) -> 3 | D45: =IFERROR(VLOOKUP($B45,'[7]11市町別戸数'!$A:$G,3,FALSE),0) -> 3 | E45: =IFERROR(VLOOKUP($B45,'[7]11市町別戸数'!$A:$G,4,FALSE),0) -> 0 | F45: =IFERROR(VLOOKUP($B45,'[7]11市町別戸数'!$A:$G,5,FALSE),0) -> 0 | G45: =IFERROR(VLOOKUP($B45,'[7]11市町別戸数'!$A:$G,6,FALSE),0) -> 0 | H45: =IFERROR(VLOOKUP($B45,'[7]11市町別マンション戸数'!A:C,3,FALSE),0) -> 0
B46: 合計 | C46: =SUM(C5:C45)-C8-C12 -> 1316 | D46: =SUM(D5:D45)-D8-D12 -> 602 | E46: =SUM(E5:E45)-E8-E12 -> 502 | F46: =SUM(F5:F45)-F8-F12 -> 2 | G46: =SUM(G5:G45)-G8-G12 -> 210 | H46: =SUM(H5:H45)-H8-H12 -> 0

Sheet 令和８年２月
F2: 新設住宅着工戸数 市区町月間データ | G2: =[8]データ!A2&"年"&[8]データ!B2&"月" -> 2026年2月
H3: （単位：戸）
B4: 市町名 | C4: 総計 | D4: 持家 | E4: 貸家 | F4: 給与住宅 | G4: 分譲住宅 | H4: うちマンション
B5: 葵区 | C5: =IFERROR(VLOOKUP($B5,'[8]11市町別戸数'!$A:$G,7,FALSE),0) -> 88 | D5: =IFERROR(VLOOKUP($B5,'[8]11市町別戸数'!$A:$G,3,FALSE),0) -> 33 | E5: =IFERROR(VLOOKUP($B5,'[8]11市町別戸数'!$A:$G,4,FALSE),0) -> 45 | F5: =IFERROR(VLOOKUP($B5,'[8]11市町別戸数'!$A:$G,5,FALSE),0) -> 0 | G5: =IFERROR(VLOOKUP($B5,'[8]11市町別戸数'!$A:$G,6,FALSE),0) -> 10 | H5: =IFERROR(VLOOKUP($B5,'[8]11市町別マンション戸数'!A:C,3,FALSE),0) -> 0
B6: 駿河区 | C6: =IFERROR(VLOOKUP($B6,'[8]11市町別戸数'!$A:$G,7,FALSE),0) -> 52 | D6: =IFERROR(VLOOKUP($B6,'[8]11市町別戸数'!$A:$G,3,FALSE),0) -> 22 | E6: =IFERROR(VLOOKUP($B6,'[8]11市町別戸数'!$A:$G,4,FALSE),0) -> 16 | F6: =IFERROR(VLOOKUP($B6,'[8]11市町別戸数'!$A:$G,5,FALSE),0) -> 0 | G6: =IFERROR(VLOOKUP($B6,'[8]11市町別戸数'!$A:$G,6,FALSE),0) -> 14 | H6: =IFERROR(VLOOKUP($B6,'[8]11市町別マンション戸数'!A:C,3,FALSE),0) -> 0
B7: 清水区 | C7: =IFERROR(VLOOKUP($B7,'[8]11市町別戸数'!$A:$G,7,FALSE),0) -> 152 | D7: =IFERROR(VLOOKUP($B7,'[8]11市町別戸数'!$A:$G,3,FALSE),0) -> 35 | E7: =IFERROR(VLOOKUP($B7,'[8]11市町別戸数'!$A:$G,4,FALSE),0) -> 106 | F7: =IFERROR(VLOOKUP($B7,'[8]11市町別戸数'!$A:$G,5,FALSE),0) -> 0 | G7: =IFERROR(VLOOKUP($B7,'[8]11市町別戸数'!$A:$G,6,FALSE),0) -> 11 | H7: =IFERROR(VLOOKUP($B7,'[8]11市町別マンション戸数'!A:C,3,FALSE),0) -> 0
B8: 静岡市 | C8: =SUM(C5:C7) -> 292 | D8: =SUM(D5:D7) -> 90 | E8: =SUM(E5:E7) -> 167 | F8: =SUM(F5:F7) -> 0 | G8: =SUM(G5:G7) -> 35 | H8: =SUM(H5:H7) -> 0
B9: 中央区 | C9: =IFERROR(VLOOKUP($B9,'[8]11市町別戸数'!$A:$G,7,FALSE),0) -> 232 | D9: =IFERROR(VLOOKUP($B9,'[8]11市町別戸数'!$A:$G,3,FALSE),0) -> 88 | E9: =IFERROR(VLOOKUP($B9,'[8]11市町別戸数'!$A:$G,4,FALSE),0) -> 98 | F9: =IFERROR(VLOOKUP($B9,'[8]11市町別戸数'!$A:$G,5,FALSE),0) -> 0 | G9: =IFERROR(VLOOKUP($B9,'[8]11市町別戸数'!$A:$G,6,FALSE),0) -> 46 | H9: =IFERROR(VLOOKUP($B9,'[8]11市町別マンション戸数'!A:C,3,FALSE),0) -> 0
B10: 浜名区 | C10: =IFERROR(VLOOKUP($B10,'[8]11市町別戸数'!$A:$G,7,FALSE),0) -> 67 | D10: =IFERROR(VLOOKUP($B10,'[8]11市町別戸数'!$A:$G,3,FALSE),0) -> 32 | E10: =IFERROR(VLOOKUP($B10,'[8]11市町別戸数'!$A:$G,4,FALSE),0) -> 28 | F10: =IFERROR(VLOOKUP($B10,'[8]11市町別戸数'!$A:$G,5,FALSE),0) -> 0 | G10: =IFERROR(VLOOKUP($B10,'[8]11市町別戸数'!$A:$G,6,FALSE),0) -> 7 | H10: =IFERROR(VLOOKUP($B10,'[8]11市町別マンション戸数'!A:C,3,FALSE),0) -> 0
B11: 天竜区 | C11: =IFERROR(VLOOKUP($B11,'[8]11市町別戸数'!$A:$G,7,FALSE),0) -> 4 | D11: =IFERROR(VLOOKUP($B11,'[8]11市町別戸数'!$A:$G,3,FALSE),0) -> 4 | E11: =IFERROR(VLOOKUP($B11,'[8]11市町別戸数'!$A:$G,4,FALSE),0) -> 0 | F11: =IFERROR(VLOOKUP($B11,'[8]11市町別戸数'!$A:$G,5,FALSE),0) -> 0 | G11: =IFERROR(VLOOKUP($B11,'[8]11市町別戸数'!$A:$G,6,FALSE),0) -> 0 | H11: =IFERROR(VLOOKUP($B11,'[8]11市町別マンション戸数'!A:C,3,FALSE),0) -> 0
B12: 浜松市 | C12: =SUM(C9:C11) -> 303 | D12: =SUM(D9:D11) -> 124 | E12: =SUM(E9:E11) -> 126 | F12: =SUM(F9:F11) -> 0 | G12: =SUM(G9:G11) -> 53 | H12: =SUM(H9:H11) -> 0
B13: 沼津市 | C13: =IFERROR(VLOOKUP($B13,'[8]11市町別戸数'!$A:$G,7,FALSE),0) -> 50 | D13: =IFERROR(VLOOKUP($B13,'[8]11市町別戸数'!$A:$G,3,FALSE),0) -> 20 | E13: =IFERROR(VLOOKUP($B13,'[8]11市町別戸数'!$A:$G,4,FALSE),0) -> 18 | F13: =IFERROR(VLOOKUP($B13,'[8]11市町別戸数'!$A:$G,5,FALSE),0) -> 0 | G13: =IFERROR(VLOOKUP($B13,'[8]11市町別戸数'!$A:$G,6,FALSE),0) -> 12 | H13: =IFERROR(VLOOKUP($B13,'[8]11市町別マンション戸数'!A:C,3,FALSE),0) -> 0
B14: 熱海市 | C14: =IFERROR(VLOOKUP($B14,'[8]11市町別戸数'!$A:$G,7,FALSE),0) -> 2 | D14: =IFERROR(VLOOKUP($B14,'[8]11市町別戸数'!$A:$G,3,FALSE),0) -> 2 | E14: =IFERROR(VLOOKUP($B14,'[8]11市町別戸数'!$A:$G,4,FALSE),0) -> 0 | F14: =IFERROR(VLOOKUP($B14,'[8]11市町別戸数'!$A:$G,5,FALSE),0) -> 0 | G14: =IFERROR(VLOOKUP($B14,'[8]11市町別戸数'!$A:$G,6,FALSE),0) -> 0 | H14: =IFERROR(VLOOKUP($B14,'[8]11市町別マンション戸数'!A:C,3,FALSE),0) -> 0
B15: 三島市 | C15: =IFERROR(VLOOKUP($B15,'[8]11市町別戸数'!$A:$G,7,FALSE),0) -> 32 | D15: =IFERROR(VLOOKUP($B15,'[8]11市町別戸数'!$A:$G,3,FALSE),0) -> 15 | E15: =IFERROR(VLOOKUP($B15,'[8]11市町別戸数'!$A:$G,4,FALSE),0) -> 9 | F15: =IFERROR(VLOOKUP($B15,'[8]11市町別戸数'!$A:$G,5,FALSE),0) -> 0 | G15: =IFERROR(VLOOKUP($B15,'[8]11市町別戸数'!$A:$G,6,FALSE),0) -> 8 | H15: =IFERROR(VLOOKUP($B15,'[8]11市町別マンション戸数'!A:C,3,FALSE),0) -> 0
B16: 富士宮市 | C16: =IFERROR(VLOOKUP($B16,'[8]11市町別戸数'!$A:$G,7,FALSE),0) -> 40 | D16: =IFERROR(VLOOKUP($B16,'[8]11市町別戸数'!$A:$G,3,FALSE),0) -> 22 | E16: =IFERROR(VLOOKUP($B16,'[8]11市町別戸数'!$A:$G,4,FALSE),0) -> 11 | F16: =IFERROR(VLOOKUP($B16,'[8]11市町別戸数'!$A:$G,5,FALSE),0) -> 0 | G16: =IFERROR(VLOOKUP($B16,'[8]11市町別戸数'!$A:$G,6,FALSE),0) -> 7 | H16: =IFERROR(VLOOKUP($B16,'[8]11市町別マンション戸数'!A:C,3,FALSE),0) -> 0
B17: 伊東市 | C17: =IFERROR(VLOOKUP($B17,'[8]11市町別戸数'!$A:$G,7,FALSE),0) -> 4 | D17: =IFERROR(VLOOKUP($B17,'[8]11市町別戸数'!$A:$G,3,FALSE),0) -> 4 | E17: =IFERROR(VLOOKUP($B17,'[8]11市町別戸数'!$A:$G,4,FALSE),0) -> 0 | F17: =IFERROR(VLOOKUP($B17,'[8]11市町別戸数'!$A:$G,5,FALSE),0) -> 0 | G17: =IFERROR(VLOOKUP($B17,'[8]11市町別戸数'!$A:$G,6,FALSE),0) -> 0 | H17: =IFERROR(VLOOKUP($B17,'[8]11市町別マンション戸数'!A:C,3,FALSE),0) -> 0
B18: 島田市 | C18: =IFERROR(VLOOKUP($B18,'[8]11市町別戸数'!$A:$G,7,FALSE),0) -> 26 | D18: =IFERROR(VLOOKUP($B18,'[8]11市町別戸数'!$A:$G,3,FALSE),0) -> 15 | E18: =IFERROR(VLOOKUP($B18,'[8]11市町別戸数'!$A:$G,4,FALSE),0) -> 5 | F18: =IFERROR(VLOOKUP($B18,'[8]11市町別戸数'!$A:$G,5,FALSE),0) -> 0 | G18: =IFERROR(VLOOKUP($B18,'[8]11市町別戸数'!$A:$G,6,FALSE),0) -> 6 | H18: =IFERROR(VLOOKUP($B18,'[8]11市町別マンション戸数'!A:C,3,FALSE),0) -> 0
B19: 富士市 | C19: =IFERROR(VLOOKUP($B19,'[8]11市町別戸数'!$A:$G,7,FALSE),0) -> 91 | D19: =IFERROR(VLOOKUP($B19,'[8]11市町別戸数'!$A:$G,3,FALSE),0) -> 45 | E19: =IFERROR(VLOOKUP($B19,'[8]11市町別戸数'!$A:$G,4,FALSE),0) -> 28 | F19: =IFERROR(VLOOKUP($B19,'[8]11市町別戸数'!$A:$G,5,FALSE),0) -> 1 | G19: =IFERROR(VLOOKUP($B19,'[8]11市町別戸数'!$A:$G,6,FALSE),0) -> 17 | H19: =IFERROR(VLOOKUP($B19,'[8]11市町別マンション戸数'!A:C,3,FALSE),0) -> 0
B20: 磐田市 | C20: =IFERROR(VLOOKUP($B20,'[8]11市町別戸数'!$A:$G,7,FALSE),0) -> 62 | D20: =IFERROR(VLOOKUP($B20,'[8]11市町別戸数'!$A:$G,3,FALSE),0) -> 22 | E20: =IFERROR(VLOOKUP($B20,'[8]11市町別戸数'!$A:$G,4,FALSE),0) -> 26 | F20: =IFERROR(VLOOKUP($B20,'[8]11市町別戸数'!$A:$G,5,FALSE),0) -> 0 | G20: =IFERROR(VLOOKUP($B20,'[8]11市町別戸数'!$A:$G,6,FALSE),0) -> 14 | H20: =IFERROR(VLOOKUP($B20,'[8]11市町別マンション戸数'!A:C,3,FALSE),0) -> 0
B21: 焼津市 | C21: =IFERROR(VLOOKUP($B21,'[8]11市町別戸数'!$A:$G,7,FALSE),0) -> 65 | D21: =IFERROR(VLOOKUP($B21,'[8]11市町別戸数'!$A:$G,3,FALSE),0) -> 25 | E21: =IFERROR(VLOOKUP($B21,'[8]11市町別戸数'!$A:$G,4,FALSE),0) -> 24 | F21: =IFERROR(VLOOKUP($B21,'[8]11市町別戸数'!$A:$G,5,FALSE),0) -> 0 | G21: =IFERROR(VLOOKUP($B21,'[8]11市町別戸数'!$A:$G,6,FALSE),0) -> 16 | H21: =IFERROR(VLOOKUP($B21,'[8]11市町別マンション戸数'!A:C,3,FALSE),0) -> 0
B22: 掛川市 | C22: =IFERROR(VLOOKUP($B22,'[8]11市町別戸数'!$A:$G,7,FALSE),0) -> 16 | D22: =IFERROR(VLOOKUP($B22,'[8]11市町別戸数'!$A:$G,3,FALSE),0) -> 15 | E22: =IFERROR(VLOOKUP($B22,'[8]11市町別戸数'!$A:$G,4,FALSE),0) -> 0 | F22: =IFERROR(VLOOKUP($B22,'[8]11市町別戸数'!$A:$G,5,FALSE),0) -> 0 | G22: =IFERROR(VLOOKUP($B22,'[8]11市町別戸数'!$A:$G,6,FALSE),0) -> 1 | H22: =IFERROR(VLOOKUP($B22,'[8]11市町別マンション戸数'!A:C,3,FALSE),0) -> 0
B23: 藤枝市 | C23: =IFERROR(VLOOKUP($B23,'[8]11市町別戸数'!$A:$G,7,FALSE),0) -> 34 | D23: =IFERROR(VLOOKUP($B23,'[8]11市町別戸数'!$A:$G,3,FALSE),0) -> 22 | E23: =IFERROR(VLOOKUP($B23,'[8]11市町別戸数'!$A:$G,4,FALSE),0) -> 6 | F23: =IFERROR(VLOOKUP($B23,'[8]11市町別戸数'!$A:$G,5,FALSE),0) -> 0 | G23: =IFERROR(VLOOKUP($B23,'[8]11市町別戸数'!$A:$G,6,FALSE),0) -> 6 | H23: =IFERROR(VLOOKUP($B23,'[8]11市町別マンション戸数'!A:C,3,FALSE),0) -> 0
B24: 御殿場市 | C24: =IFERROR(VLOOKUP($B24,'[8]11市町別戸数'!$A:$G,7,FALSE),0) -> 33 | D24: =IFERROR(VLOOKUP($B24,'[8]11市町別戸数'!$A:$G,3,FALSE),0) -> 17 | E24: =IFERROR(VLOOKUP($B24,'[8]11市町別戸数'!$A:$G,4,FALSE),0) -> 8 | F24: =IFERROR(VLOOKUP($B24,'[8]11市町別戸数'!$A:$G,5,FALSE),0) -> 0 | G24: =IFERROR(VLOOKUP($B24,'[8]11市町別戸数'!$A:$G,6,FALSE),0) -> 8 | H24: =IFERROR(VLOOKUP($B24,'[8]11市町別マンション戸数'!A:C,3,FALSE),0) -> 0
... B45: 森町 | C45: =IFERROR(VLOOKUP($B45,'[8]11市町別戸数'!$A:$G,7,FALSE),0) -> 3 | D45: =IFERROR(VLOOKUP($B45,'[8]11市町別戸数'!$A:$G,3,FALSE),0) -> 3 | E45: =IFERROR(VLOOKUP($B45,'[8]11市町別戸数'!$A:$G,4,FALSE),0) -> 0 | F45: =IFERROR(VLOOKUP($B45,'[8]11市町別戸数'!$A:$G,5,FALSE),0) -> 0 | G45: =IFERROR(VLOOKUP($B45,'[8]11市町別戸数'!$A:$G,6,FALSE),0) -> 0 | H45: =IFERROR(VLOOKUP($B45,'[8]11市町別マンション戸数'!A:C,3,FALSE),0) -> 0
B46: 合計 | C46: =SUM(C5:C45)-C8-C12 -> 1261 | D46: =SUM(D5:D45)-D8-D12 -> 536 | E46: =SUM(E5:E45)-E8-E12 -> 509 | F46: =SUM(F5:F45)-F8-F12 -> 1 | G46: =SUM(G5:G45)-G8-G12 -> 215 | H46: =SUM(H5:H45)-H8-H12 -> 0

Sheet 令和８年３月
F2: 新設住宅着工戸数 市区町月間データ | G2: =[6]データ!A2&"年"&[6]データ!B2&"月" -> 2026年3月
H3: （単位：戸）
B4: 市町名 | C4: 総計 | D4: 持家 | E4: 貸家 | F4: 給与住宅 | G4: 分譲住宅 | H4: うちマンション
B5: 葵区 | C5: =IFERROR(VLOOKUP($B5,'[6]11市町別戸数'!$A:$G,7,FALSE),0) -> 64 | D5: =IFERROR(VLOOKUP($B5,'[6]11市町別戸数'!$A:$G,3,FALSE),0) -> 43 | E5: =IFERROR(VLOOKUP($B5,'[6]11市町別戸数'!$A:$G,4,FALSE),0) -> 12 | F5: =IFERROR(VLOOKUP($B5,'[6]11市町別戸数'!$A:$G,5,FALSE),0) -> 0 | G5: =IFERROR(VLOOKUP($B5,'[6]11市町別戸数'!$A:$G,6,FALSE),0) -> 9 | H5: =IFERROR(VLOOKUP($B5,'[6]11市町別マンション戸数'!A:C,3,FALSE),0) -> 0
B6: 駿河区 | C6: =IFERROR(VLOOKUP($B6,'[6]11市町別戸数'!$A:$G,7,FALSE),0) -> 94 | D6: =IFERROR(VLOOKUP($B6,'[6]11市町別戸数'!$A:$G,3,FALSE),0) -> 37 | E6: =IFERROR(VLOOKUP($B6,'[6]11市町別戸数'!$A:$G,4,FALSE),0) -> 47 | F6: =IFERROR(VLOOKUP($B6,'[6]11市町別戸数'!$A:$G,5,FALSE),0) -> 0 | G6: =IFERROR(VLOOKUP($B6,'[6]11市町別戸数'!$A:$G,6,FALSE),0) -> 10 | H6: =IFERROR(VLOOKUP($B6,'[6]11市町別マンション戸数'!A:C,3,FALSE),0) -> 0
B7: 清水区 | C7: =IFERROR(VLOOKUP($B7,'[6]11市町別戸数'!$A:$G,7,FALSE),0) -> 68 | D7: =IFERROR(VLOOKUP($B7,'[6]11市町別戸数'!$A:$G,3,FALSE),0) -> 47 | E7: =IFERROR(VLOOKUP($B7,'[6]11市町別戸数'!$A:$G,4,FALSE),0) -> 12 | F7: =IFERROR(VLOOKUP($B7,'[6]11市町別戸数'!$A:$G,5,FALSE),0) -> 1 | G7: =IFERROR(VLOOKUP($B7,'[6]11市町別戸数'!$A:$G,6,FALSE),0) -> 8 | H7: =IFERROR(VLOOKUP($B7,'[6]11市町別マンション戸数'!A:C,3,FALSE),0) -> 0
B8: 静岡市 | C8: =SUM(C5:C7) -> 226 | D8: =SUM(D5:D7) -> 127 | E8: =SUM(E5:E7) -> 71 | F8: =SUM(F5:F7) -> 1 | G8: =SUM(G5:G7) -> 27 | H8: =SUM(H5:H7) -> 0
B9: 中央区 | C9: =IFERROR(VLOOKUP($B9,'[6]11市町別戸数'!$A:$G,7,FALSE),0) -> 344 | D9: =IFERROR(VLOOKUP($B9,'[6]11市町別戸数'!$A:$G,3,FALSE),0) -> 123 | E9: =IFERROR(VLOOKUP($B9,'[6]11市町別戸数'!$A:$G,4,FALSE),0) -> 93 | F9: =IFERROR(VLOOKUP($B9,'[6]11市町別戸数'!$A:$G,5,FALSE),0) -> 0 | G9: =IFERROR(VLOOKUP($B9,'[6]11市町別戸数'!$A:$G,6,FALSE),0) -> 128 | H9: =IFERROR(VLOOKUP($B9,'[6]11市町別マンション戸数'!A:C,3,FALSE),0) -> 83
B10: 浜名区 | C10: =IFERROR(VLOOKUP($B10,'[6]11市町別戸数'!$A:$G,7,FALSE),0) -> 62 | D10: =IFERROR(VLOOKUP($B10,'[6]11市町別戸数'!$A:$G,3,FALSE),0) -> 37 | E10: =IFERROR(VLOOKUP($B10,'[6]11市町別戸数'!$A:$G,4,FALSE),0) -> 21 | F10: =IFERROR(VLOOKUP($B10,'[6]11市町別戸数'!$A:$G,5,FALSE),0) -> 0 | G10: =IFERROR(VLOOKUP($B10,'[6]11市町別戸数'!$A:$G,6,FALSE),0) -> 4 | H10: =IFERROR(VLOOKUP($B10,'[6]11市町別マンション戸数'!A:C,3,FALSE),0) -> 0
B11: 天竜区 | C11: =IFERROR(VLOOKUP($B11,'[6]11市町別戸数'!$A:$G,7,FALSE),0) -> 7 | D11: =IFERROR(VLOOKUP($B11,'[6]11市町別戸数'!$A:$G,3,FALSE),0) -> 5 | E11: =IFERROR(VLOOKUP($B11,'[6]11市町別戸数'!$A:$G,4,FALSE),0) -> 0 | F11: =IFERROR(VLOOKUP($B11,'[6]11市町別戸数'!$A:$G,5,FALSE),0) -> 0 | G11: =IFERROR(VLOOKUP($B11,'[6]11市町別戸数'!$A:$G,6,FALSE),0) -> 2 | H11: =IFERROR(VLOOKUP($B11,'[6]11市町別マンション戸数'!A:C,3,FALSE),0) -> 0
B12: 浜松市 | C12: =SUM(C9:C11) -> 413 | D12: =SUM(D9:D11) -> 165 | E12: =SUM(E9:E11) -> 114 | F12: =SUM(F9:F11) -> 0 | G12: =SUM(G9:G11) -> 134 | H12: =SUM(H9:H11) -> 83
B13: 沼津市 | C13: =IFERROR(VLOOKUP($B13,'[6]11市町別戸数'!$A:$G,7,FALSE),0) -> 44 | D13: =IFERROR(VLOOKUP($B13,'[6]11市町別戸数'!$A:$G,3,FALSE),0) -> 32 | E13: =IFERROR(VLOOKUP($B13,'[6]11市町別戸数'!$A:$G,4,FALSE),0) -> 0 | F13: =IFERROR(VLOOKUP($B13,'[6]11市町別戸数'!$A:$G,5,FALSE),0) -> 0 | G13: =IFERROR(VLOOKUP($B13,'[6]11市町別戸数'!$A:$G,6,FALSE),0) -> 12 | H13: =IFERROR(VLOOKUP($B13,'[6]11市町別マンション戸数'!A:C,3,FALSE),0) -> 0
B14: 熱海市 | C14: =IFERROR(VLOOKUP($B14,'[6]11市町別戸数'!$A:$G,7,FALSE),0) -> 2 | D14: =IFERROR(VLOOKUP($B14,'[6]11市町別戸数'!$A:$G,3,FALSE),0) -> 2 | E14: =IFERROR(VLOOKUP($B14,'[6]11市町別戸数'!$A:$G,4,FALSE),0) -> 0 | F14: =IFERROR(VLOOKUP($B14,'[6]11市町別戸数'!$A:$G,5,FALSE),0) -> 0 | G14: =IFERROR(VLOOKUP($B14,'[6]11市町別戸数'!$A:$G,6,FALSE),0) -> 0 | H14: =IFERROR(VLOOKUP($B14,'[6]11市町別マンション戸数'!A:C,3,FALSE),0) -> 0
B15: 三島市 | C15: =IFERROR(VLOOKUP($B15,'[6]11市町別戸数'!$A:$G,7,FALSE),0) -> 33 | D15: =IFERROR(VLOOKUP($B15,'[6]11市町別戸数'!$A:$G,3,FALSE),0) -> 16 | E15: =IFERROR(VLOOKUP($B15,'[6]11市町別戸数'!$A:$G,4,FALSE),0) -> 9 | F15: =IFERROR(VLOOKUP($B15,'[6]11市町別戸数'!$A:$G,5,FALSE),0) -> 0 | G15: =IFERROR(VLOOKUP($B15,'[6]11市町別戸数'!$A:$G,6,FALSE),0) -> 8 | H15: =IFERROR(VLOOKUP($B15,'[6]11市町別マンション戸数'!A:C,3,FALSE),0) -> 0
B16: 富士宮市 | C16: =IFERROR(VLOOKUP($B16,'[6]11市町別戸数'!$A:$G,7,FALSE),0) -> 31 | D16: =IFERROR(VLOOKUP($B16,'[6]11市町別戸数'!$A:$G,3,FALSE),0) -> 14 | E16: =IFERROR(VLOOKUP($B16,'[6]11市町別戸数'!$A:$G,4,FALSE),0) -> 5 | F16: =IFERROR(VLOOKUP($B16,'[6]11市町別戸数'!$A:$G,5,FALSE),0) -> 0 | G16: =IFERROR(VLOOKUP($B16,'[6]11市町別戸数'!$A:$G,6,FALSE),0) -> 12 | H16: =IFERROR(VLOOKUP($B16,'[6]11市町別マンション戸数'!A:C,3,FALSE),0) -> 0
B17: 伊東市 | C17: =IFERROR(VLOOKUP($B17,'[6]11市町別戸数'!$A:$G,7,FALSE),0) -> 12 | D17: =IFERROR(VLOOKUP($B17,'[6]11市町別戸数'!$A:$G,3,FALSE),0) -> 10 | E17: =IFERROR(VLOOKUP($B17,'[6]11市町別戸数'!$A:$G,4,FALSE),0) -> 0 | F17: =IFERROR(VLOOKUP($B17,'[6]11市町別戸数'!$A:$G,5,FALSE),0) -> 0 | G17: =IFERROR(VLOOKUP($B17,'[6]11市町別戸数'!$A:$G,6,FALSE),0) -> 2 | H17: =IFERROR(VLOOKUP($B17,'[6]11市町別マンション戸数'!A:C,3,FALSE),0) -> 0
B18: 島田市 | C18: =IFERROR(VLOOKUP($B18,'[6]11市町別戸数'!$A:$G,7,FALSE),0) -> 32 | D18: =IFERROR(VLOOKUP($B18,'[6]11市町別戸数'!$A:$G,3,FALSE),0) -> 26 | E18: =IFERROR(VLOOKUP($B18,'[6]11市町別戸数'!$A:$G,4,FALSE),0) -> 0 | F18: =IFERROR(VLOOKUP($B18,'[6]11市町別戸数'!$A:$G,5,FALSE),0) -> 0 | G18: =IFERROR(VLOOKUP($B18,'[6]11市町別戸数'!$A:$G,6,FALSE),0) -> 6 | H18: =IFERROR(VLOOKUP($B18,'[6]11市町別マンション戸数'!A:C,3,FALSE),0) -> 0
B19: 富士市 | C19: =IFERROR(VLOOKUP($B19,'[6]11市町別戸数'!$A:$G,7,FALSE),0) -> 70 | D19: =IFERROR(VLOOKUP($B19,'[6]11市町別戸数'!$A:$G,3,FALSE),0) -> 41 | E19: =IFERROR(VLOOKUP($B19,'[6]11市町別戸数'!$A:$G,4,FALSE),0) -> 8 | F19: =IFERROR(VLOOKUP($B19,'[6]11市町別戸数'!$A:$G,5,FALSE),0) -> 0 | G19: =IFERROR(VLOOKUP($B19,'[6]11市町別戸数'!$A:$G,6,FALSE),0) -> 21 | H19: =IFERROR(VLOOKUP($B19,'[6]11市町別マンション戸数'!A:C,3,FALSE),0) -> 0
B20: 磐田市 | C20: =IFERROR(VLOOKUP($B20,'[6]11市町別戸数'!$A:$G,7,FALSE),0) -> 83 | D20: =IFERROR(VLOOKUP($B20,'[6]11市町別戸数'!$A:$G,3,FALSE),0) -> 32 | E20: =IFERROR(VLOOKUP($B20,'[6]11市町別戸数'!$A:$G,4,FALSE),0) -> 38 | F20: =IFERROR(VLOOKUP($B20,'[6]11市町別戸数'!$A:$G,5,FALSE),0) -> 0 | G20: =IFERROR(VLOOKUP($B20,'[6]11市町別戸数'!$A:$G,6,FALSE),0) -> 13 | H20: =IFERROR(VLOOKUP($B20,'[6]11市町別マンション戸数'!A:C,3,FALSE),0) -> 0
B21: 焼津市 | C21: =IFERROR(VLOOKUP($B21,'[6]11市町別戸数'!$A:$G,7,FALSE),0) -> 44 | D21: =IFERROR(VLOOKUP($B21,'[6]11市町別戸数'!$A:$G,3,FALSE),0) -> 29 | E21: =IFERROR(VLOOKUP($B21,'[6]11市町別戸数'!$A:$G,4,FALSE),0) -> 4 | F21: =IFERROR(VLOOKUP($B21,'[6]11市町別戸数'!$A:$G,5,FALSE),0) -> 0 | G21: =IFERROR(VLOOKUP($B21,'[6]11市町別戸数'!$A:$G,6,FALSE),0) -> 11 | H21: =IFERROR(VLOOKUP($B21,'[6]11市町別マンション戸数'!A:C,3,FALSE),0) -> 0
B22: 掛川市 | C22: =IFERROR(VLOOKUP($B22,'[6]11市町別戸数'!$A:$G,7,FALSE),0) -> 21 | D22: =IFERROR(VLOOKUP($B22,'[6]11市町別戸数'!$A:$G,3,FALSE),0) -> 18 | E22: =IFERROR(VLOOKUP($B22,'[6]11市町別戸数'!$A:$G,4,FALSE),0) -> 0 | F22: =IFERROR(VLOOKUP($B22,'[6]11市町別戸数'!$A:$G,5,FALSE),0) -> 0 | G22: =IFERROR(VLOOKUP($B22,'[6]11市町別戸数'!$A:$G,6,FALSE),0) -> 3 | H22: =IFERROR(VLOOKUP($B22,'[6]11市町別マンション戸数'!A:C,3,FALSE),0) -> 0
B23: 藤枝市 | C23: =IFERROR(VLOOKUP($B23,'[6]11市町別戸数'!$A:$G,7,FALSE),0) -> 79 | D23: =IFERROR(VLOOKUP($B23,'[6]11市町別戸数'!$A:$G,3,FALSE),0) -> 33 | E23: =IFERROR(VLOOKUP($B23,'[6]11市町別戸数'!$A:$G,4,FALSE),0) -> 25 | F23: =IFERROR(VLOOKUP($B23,'[6]11市町別戸数'!$A:$G,5,FALSE),0) -> 0 | G23: =IFERROR(VLOOKUP($B23,'[6]11市町別戸数'!$A:$G,6,FALSE),0) -> 21 | H23: =IFERROR(VLOOKUP($B23,'[6]11市町別マンション戸数'!A:C,3,FALSE),0) -> 0
B24: 御殿場市 | C24: =IFERROR(VLOOKUP($B24,'[6]11市町別戸数'!$A:$G,7,FALSE),0) -> 17 | D24: =IFERROR(VLOOKUP($B24,'[6]11市町別戸数'!$A:$G,3,FALSE),0) -> 16 | E24: =IFERROR(VLOOKUP($B24,'[6]11市町別戸数'!$A:$G,4,FALSE),0) -> 0 | F24: =IFERROR(VLOOKUP($B24,'[6]11市町別戸数'!$A:$G,5,FALSE),0) -> 0 | G24: =IFERROR(VLOOKUP($B24,'[6]11市町別戸数'!$A:$G,6,FALSE),0) -> 1 | H24: =IFERROR(VLOOKUP($B24,'[6]11市町別マンション戸数'!A:C,3,FALSE),0) -> 0
... B45: 森町 | C45: =IFERROR(VLOOKUP($B45,'[6]11市町別戸数'!$A:$G,7,FALSE),0) -> 1 | D45: =IFERROR(VLOOKUP($B45,'[6]11市町別戸数'!$A:$G,3,FALSE),0) -> 1 | E45: =IFERROR(VLOOKUP($B45,'[6]11市町別戸数'!$A:$G,4,FALSE),0) -> 0 | F45: =IFERROR(VLOOKUP($B45,'[6]11市町別戸数'!$A:$G,5,FALSE),0) -> 0 | G45: =IFERROR(VLOOKUP($B45,'[6]11市町別戸数'!$A:$G,6,FALSE),0) -> 0 | H45: =IFERROR(VLOOKUP($B45,'[6]11市町別マンション戸数'!A:C,3,FALSE),0) -> 0
B46: 合計 | C46: =SUM(C5:C45)-C8-C12 -> 1371 | D46: =SUM(D5:D45)-D8-D12 -> 667 | E46: =SUM(E5:E45)-E8-E12 -> 392 | F46: =SUM(F5:F45)-F8-F12 -> 2 | G46: =SUM(G5:G45)-G8-G12 -> 310 | H46: =SUM(H5:H45)-H8-H12 -> 83

Sheet 令和８年４月
F2: 新設住宅着工戸数 市区町月間データ | G2: =[5]データ!A2&"年"&[5]データ!B2&"月" -> 2026年4月
H3: （単位：戸）
B4: 市町名 | C4: 総計 | D4: 持家 | E4: 貸家 | F4: 給与住宅 | G4: 分譲住宅 | H4: うちマンション
B5: 葵区 | C5: =IFERROR(VLOOKUP($B5,'[5]11市町別戸数'!$A:$G,7,FALSE),0) -> 96 | D5: =IFERROR(VLOOKUP($B5,'[5]11市町別戸数'!$A:$G,3,FALSE),0) -> 53 | E5: =IFERROR(VLOOKUP($B5,'[5]11市町別戸数'!$A:$G,4,FALSE),0) -> 17 | F5: =IFERROR(VLOOKUP($B5,'[5]11市町別戸数'!$A:$G,5,FALSE),0) -> 1 | G5: =IFERROR(VLOOKUP($B5,'[5]11市町別戸数'!$A:$G,6,FALSE),0) -> 25 | H5: =IFERROR(VLOOKUP($B5,'[5]11市町別マンション戸数'!A:C,3,FALSE),0) -> 0
B6: 駿河区 | C6: =IFERROR(VLOOKUP($B6,'[5]11市町別戸数'!$A:$G,7,FALSE),0) -> 127 | D6: =IFERROR(VLOOKUP($B6,'[5]11市町別戸数'!$A:$G,3,FALSE),0) -> 25 | E6: =IFERROR(VLOOKUP($B6,'[5]11市町別戸数'!$A:$G,4,FALSE),0) -> 81 | F6: =IFERROR(VLOOKUP($B6,'[5]11市町別戸数'!$A:$G,5,FALSE),0) -> 0 | G6: =IFERROR(VLOOKUP($B6,'[5]11市町別戸数'!$A:$G,6,FALSE),0) -> 21 | H6: =IFERROR(VLOOKUP($B6,'[5]11市町別マンション戸数'!A:C,3,FALSE),0) -> 0
B7: 清水区 | C7: =IFERROR(VLOOKUP($B7,'[5]11市町別戸数'!$A:$G,7,FALSE),0) -> 95 | D7: =IFERROR(VLOOKUP($B7,'[5]11市町別戸数'!$A:$G,3,FALSE),0) -> 31 | E7: =IFERROR(VLOOKUP($B7,'[5]11市町別戸数'!$A:$G,4,FALSE),0) -> 44 | F7: =IFERROR(VLOOKUP($B7,'[5]11市町別戸数'!$A:$G,5,FALSE),0) -> 0 | G7: =IFERROR(VLOOKUP($B7,'[5]11市町別戸数'!$A:$G,6,FALSE),0) -> 20 | H7: =IFERROR(VLOOKUP($B7,'[5]11市町別マンション戸数'!A:C,3,FALSE),0) -> 0
B8: 静岡市 | C8: =SUM(C5:C7) -> 318 | D8: =SUM(D5:D7) -> 109 | E8: =SUM(E5:E7) -> 142 | F8: =SUM(F5:F7) -> 1 | G8: =SUM(G5:G7) -> 66 | H8: =SUM(H5:H7) -> 0
B9: 中央区 | C9: =IFERROR(VLOOKUP($B9,'[5]11市町別戸数'!$A:$G,7,FALSE),0) -> 299 | D9: =IFERROR(VLOOKUP($B9,'[5]11市町別戸数'!$A:$G,3,FALSE),0) -> 129 | E9: =IFERROR(VLOOKUP($B9,'[5]11市町別戸数'!$A:$G,4,FALSE),0) -> 104 | F9: =IFERROR(VLOOKUP($B9,'[5]11市町別戸数'!$A:$G,5,FALSE),0) -> 0 | G9: =IFERROR(VLOOKUP($B9,'[5]11市町別戸数'!$A:$G,6,FALSE),0) -> 66 | H9: =IFERROR(VLOOKUP($B9,'[5]11市町別マンション戸数'!A:C,3,FALSE),0) -> 27
B10: 浜名区 | C10: =IFERROR(VLOOKUP($B10,'[5]11市町別戸数'!$A:$G,7,FALSE),0) -> 72 | D10: =IFERROR(VLOOKUP($B10,'[5]11市町別戸数'!$A:$G,3,FALSE),0) -> 50 | E10: =IFERROR(VLOOKUP($B10,'[5]11市町別戸数'!$A:$G,4,FALSE),0) -> 15 | F10: =IFERROR(VLOOKUP($B10,'[5]11市町別戸数'!$A:$G,5,FALSE),0) -> 0 | G10: =IFERROR(VLOOKUP($B10,'[5]11市町別戸数'!$A:$G,6,FALSE),0) -> 7 | H10: =IFERROR(VLOOKUP($B10,'[5]11市町別マンション戸数'!A:C,3,FALSE),0) -> 0
B11: 天竜区 | C11: =IFERROR(VLOOKUP($B11,'[5]11市町別戸数'!$A:$G,7,FALSE),0) -> 3 | D11: =IFERROR(VLOOKUP($B11,'[5]11市町別戸数'!$A:$G,3,FALSE),0) -> 3 | E11: =IFERROR(VLOOKUP($B11,'[5]11市町別戸数'!$A:$G,4,FALSE),0) -> 0 | F11: =IFERROR(VLOOKUP($B11,'[5]11市町別戸数'!$A:$G,5,FALSE),0) -> 0 | G11: =IFERROR(VLOOKUP($B11,'[5]11市町別戸数'!$A:$G,6,FALSE),0) -> 0 | H11: =IFERROR(VLOOKUP($B11,'[5]11市町別マンション戸数'!A:C,3,FALSE),0) -> 0
B12: 浜松市 | C12: =SUM(C9:C11) -> 374 | D12: =SUM(D9:D11) -> 182 | E12: =SUM(E9:E11) -> 119 | F12: =SUM(F9:F11) -> 0 | G12: =SUM(G9:G11) -> 73 | H12: =SUM(H9:H11) -> 27
B13: 沼津市 | C13: =IFERROR(VLOOKUP($B13,'[5]11市町別戸数'!$A:$G,7,FALSE),0) -> 55 | D13: =IFERROR(VLOOKUP($B13,'[5]11市町別戸数'!$A:$G,3,FALSE),0) -> 31 | E13: =IFERROR(VLOOKUP($B13,'[5]11市町別戸数'!$A:$G,4,FALSE),0) -> 0 | F13: =IFERROR(VLOOKUP($B13,'[5]11市町別戸数'!$A:$G,5,FALSE),0) -> 0 | G13: =IFERROR(VLOOKUP($B13,'[5]11市町別戸数'!$A:$G,6,FALSE),0) -> 24 | H13: =IFERROR(VLOOKUP($B13,'[5]11市町別マンション戸数'!A:C,3,FALSE),0) -> 0
B14: 熱海市 | C14: =IFERROR(VLOOKUP($B14,'[5]11市町別戸数'!$A:$G,7,FALSE),0) -> 8 | D14: =IFERROR(VLOOKUP($B14,'[5]11市町別戸数'!$A:$G,3,FALSE),0) -> 3 | E14: =IFERROR(VLOOKUP($B14,'[5]11市町別戸数'!$A:$G,4,FALSE),0) -> 4 | F14: =IFERROR(VLOOKUP($B14,'[5]11市町別戸数'!$A:$G,5,FALSE),0) -> 1 | G14: =IFERROR(VLOOKUP($B14,'[5]11市町別戸数'!$A:$G,6,FALSE),0) -> 0 | H14: =IFERROR(VLOOKUP($B14,'[5]11市町別マンション戸数'!A:C,3,FALSE),0) -> 0
B15: 三島市 | C15: =IFERROR(VLOOKUP($B15,'[5]11市町別戸数'!$A:$G,7,FALSE),0) -> 41 | D15: =IFERROR(VLOOKUP($B15,'[5]11市町別戸数'!$A:$G,3,FALSE),0) -> 25 | E15: =IFERROR(VLOOKUP($B15,'[5]11市町別戸数'!$A:$G,4,FALSE),0) -> 0 | F15: =IFERROR(VLOOKUP($B15,'[5]11市町別戸数'!$A:$G,5,FALSE),0) -> 0 | G15: =IFERROR(VLOOKUP($B15,'[5]11市町別戸数'!$A:$G,6,FALSE),0) -> 16 | H15: =IFERROR(VLOOKUP($B15,'[5]11市町別マンション戸数'!A:C,3,FALSE),0) -> 0
B16: 富士宮市 | C16: =IFERROR(VLOOKUP($B16,'[5]11市町別戸数'!$A:$G,7,FALSE),0) -> 49 | D16: =IFERROR(VLOOKUP($B16,'[5]11市町別戸数'!$A:$G,3,FALSE),0) -> 22 | E16: =IFERROR(VLOOKUP($B16,'[5]11市町別戸数'!$A:$G,4,FALSE),0) -> 18 | F16: =IFERROR(VLOOKUP($B16,'[5]11市町別戸数'!$A:$G,5,FALSE),0) -> 0 | G16: =IFERROR(VLOOKUP($B16,'[5]11市町別戸数'!$A:$G,6,FALSE),0) -> 9 | H16: =IFERROR(VLOOKUP($B16,'[5]11市町別マンション戸数'!A:C,3,FALSE),0) -> 0
B17: 伊東市 | C17: =IFERROR(VLOOKUP($B17,'[5]11市町別戸数'!$A:$G,7,FALSE),0) -> 5 | D17: =IFERROR(VLOOKUP($B17,'[5]11市町別戸数'!$A:$G,3,FALSE),0) -> 5 | E17: =IFERROR(VLOOKUP($B17,'[5]11市町別戸数'!$A:$G,4,FALSE),0) -> 0 | F17: =IFERROR(VLOOKUP($B17,'[5]11市町別戸数'!$A:$G,5,FALSE),0) -> 0 | G17: =IFERROR(VLOOKUP($B17,'[5]11市町別戸数'!$A:$G,6,FALSE),0) -> 0 | H17: =IFERROR(VLOOKUP($B17,'[5]11市町別マンション戸数'!A:C,3,FALSE),0) -> 0
B18: 島田市 | C18: =IFERROR(VLOOKUP($B18,'[5]11市町別戸数'!$A:$G,7,FALSE),0) -> 44 | D18: =IFERROR(VLOOKUP($B18,'[5]11市町別戸数'!$A:$G,3,FALSE),0) -> 32 | E18: =IFERROR(VLOOKUP($B18,'[5]11市町別戸数'!$A:$G,4,FALSE),0) -> 6 | F18: =IFERROR(VLOOKUP($B18,'[5]11市町別戸数'!$A:$G,5,FALSE),0) -> 0 | G18: =IFERROR(VLOOKUP($B18,'[5]11市町別戸数'!$A:$G,6,FALSE),0) -> 6 | H18: =IFERROR(VLOOKUP($B18,'[5]11市町別マンション戸数'!A:C,3,FALSE),0) -> 0
B19: 富士市 | C19: =IFERROR(VLOOKUP($B19,'[5]11市町別戸数'!$A:$G,7,FALSE),0) -> 111 | D19: =IFERROR(VLOOKUP($B19,'[5]11市町別戸数'!$A:$G,3,FALSE),0) -> 47 | E19: =IFERROR(VLOOKUP($B19,'[5]11市町別戸数'!$A:$G,4,FALSE),0) -> 44 | F19: =IFERROR(VLOOKUP($B19,'[5]11市町別戸数'!$A:$G,5,FALSE),0) -> 1 | G19: =IFERROR(VLOOKUP($B19,'[5]11市町別戸数'!$A:$G,6,FALSE),0) -> 19 | H19: =IFERROR(VLOOKUP($B19,'[5]11市町別マンション戸数'!A:C,3,FALSE),0) -> 0
B20: 磐田市 | C20: =IFERROR(VLOOKUP($B20,'[5]11市町別戸数'!$A:$G,7,FALSE),0) -> 86 | D20: =IFERROR(VLOOKUP($B20,'[5]11市町別戸数'!$A:$G,3,FALSE),0) -> 34 | E20: =IFERROR(VLOOKUP($B20,'[5]11市町別戸数'!$A:$G,4,FALSE),0) -> 26 | F20: =IFERROR(VLOOKUP($B20,'[5]11市町別戸数'!$A:$G,5,FALSE),0) -> 1 | G20: =IFERROR(VLOOKUP($B20,'[5]11市町別戸数'!$A:$G,6,FALSE),0) -> 25 | H20: =IFERROR(VLOOKUP($B20,'[5]11市町別マンション戸数'!A:C,3,FALSE),0) -> 0
B21: 焼津市 | C21: =IFERROR(VLOOKUP($B21,'[5]11市町別戸数'!$A:$G,7,FALSE),0) -> 55 | D21: =IFERROR(VLOOKUP($B21,'[5]11市町別戸数'!$A:$G,3,FALSE),0) -> 17 | E21: =IFERROR(VLOOKUP($B21,'[5]11市町別戸数'!$A:$G,4,FALSE),0) -> 35 | F21: =IFERROR(VLOOKUP($B21,'[5]11市町別戸数'!$A:$G,5,FALSE),0) -> 0 | G21: =IFERROR(VLOOKUP($B21,'[5]11市町別戸数'!$A:$G,6,FALSE),0) -> 3 | H21: =IFERROR(VLOOKUP($B21,'[5]11市町別マンション戸数'!A:C,3,FALSE),0) -> 0
B22: 掛川市 | C22: =IFERROR(VLOOKUP($B22,'[5]11市町別戸数'!$A:$G,7,FALSE),0) -> 53 | D22: =IFERROR(VLOOKUP($B22,'[5]11市町別戸数'!$A:$G,3,FALSE),0) -> 34 | E22: =IFERROR(VLOOKUP($B22,'[5]11市町別戸数'!$A:$G,4,FALSE),0) -> 14 | F22: =IFERROR(VLOOKUP($B22,'[5]11市町別戸数'!$A:$G,5,FALSE),0) -> 0 | G22: =IFERROR(VLOOKUP($B22,'[5]11市町別戸数'!$A:$G,6,FALSE),0) -> 5 | H22: =IFERROR(VLOOKUP($B22,'[5]11市町別マンション戸数'!A:C,3,FALSE),0) -> 0
B23: 藤枝市 | C23: =IFERROR(VLOOKUP($B23,'[5]11市町別戸数'!$A:$G,7,FALSE),0) -> 52 | D23: =IFERROR(VLOOKUP($B23,'[5]11市町別戸数'!$A:$G,3,FALSE),0) -> 23 | E23: =IFERROR(VLOOKUP($B23,'[5]11市町別戸数'!$A:$G,4,FALSE),0) -> 23 | F23: =IFERROR(VLOOKUP($B23,'[5]11市町別戸数'!$A:$G,5,FALSE),0) -> 1 | G23: =IFERROR(VLOOKUP($B23,'[5]11市町別戸数'!$A:$G,6,FALSE),0) -> 5 | H23: =IFERROR(VLOOKUP($B23,'[5]11市町別マンション戸数'!A:C,3,FALSE),0) -> 0
B24: 御殿場市 | C24: =IFERROR(VLOOKUP($B24,'[5]11市町別戸数'!$A:$G,7,FALSE),0) -> 34 | D24: =IFERROR(VLOOKUP($B24,'[5]11市町別戸数'!$A:$G,3,FALSE),0) -> 18 | E24: =IFERROR(VLOOKUP($B24,'[5]11市町別戸数'!$A:$G,4,FALSE),0) -> 8 | F24: =IFERROR(VLOOKUP($B24,'[5]11市町別戸数'!$A:$G,5,FALSE),0) -> 0 | G24: =IFERROR(VLOOKUP($B24,'[5]11市町別戸数'!$A:$G,6,FALSE),0) -> 8 | H24: =IFERROR(VLOOKUP($B24,'[5]11市町別マンション戸数'!A:C,3,FALSE),0) -> 0
... B45: 森町 | C45: =IFERROR(VLOOKUP($B45,'[5]11市町別戸数'!$A:$G,7,FALSE),0) -> 4 | D45: =IFERROR(VLOOKUP($B45,'[5]11市町別戸数'!$A:$G,3,FALSE),0) -> 4 | E45: =IFERROR(VLOOKUP($B45,'[5]11市町別戸数'!$A:$G,4,FALSE),0) -> 0 | F45: =IFERROR(VLOOKUP($B45,'[5]11市町別戸数'!$A:$G,5,FALSE),0) -> 0 | G45: =IFERROR(VLOOKUP($B45,'[5]11市町別戸数'!$A:$G,6,FALSE),0) -> 0 | H45: =IFERROR(VLOOKUP($B45,'[5]11市町別マンション戸数'!A:C,3,FALSE),0) -> 0
B46: 合計 | C46: =SUM(C5:C45)-C8-C12 -> 1573 | D46: =SUM(D5:D45)-D8-D12 -> 703 | E46: =SUM(E5:E45)-E8-E12 -> 579 | F46: =SUM(F5:F45)-F8-F12 -> 8 | G46: =SUM(G5:G45)-G8-G12 -> 283 | H46: =SUM(H5:H45)-H8-H12 -> 27

Sheet 令和８年５月
F2: 新設住宅着工戸数 市区町月間データ | G2: =[4]データ!A2&"年"&[4]データ!B2&"月" -> 2026年5月
H3: （単位：戸）
B4: 市町名 | C4: 総計 | D4: 持家 | E4: 貸家 | F4: 給与住宅 | G4: 分譲住宅 | H4: うちマンション
B5: 葵区 | C5: =IFERROR(VLOOKUP($B5,'[4]11市町別戸数'!$A:$G,7,FALSE),0) -> 79 | D5: =IFERROR(VLOOKUP($B5,'[4]11市町別戸数'!$A:$G,3,FALSE),0) -> 29 | E5: =IFERROR(VLOOKUP($B5,'[4]11市町別戸数'!$A:$G,4,FALSE),0) -> 41 | F5: =IFERROR(VLOOKUP($B5,'[4]11市町別戸数'!$A:$G,5,FALSE),0) -> 0 | G5: =IFERROR(VLOOKUP($B5,'[4]11市町別戸数'!$A:$G,6,FALSE),0) -> 9 | H5: =IFERROR(VLOOKUP($B5,'[4]11市町別マンション戸数'!A:C,3,FALSE),0) -> 0
B6: 駿河区 | C6: =IFERROR(VLOOKUP($B6,'[4]11市町別戸数'!$A:$G,7,FALSE),0) -> 76 | D6: =IFERROR(VLOOKUP($B6,'[4]11市町別戸数'!$A:$G,3,FALSE),0) -> 31 | E6: =IFERROR(VLOOKUP($B6,'[4]11市町別戸数'!$A:$G,4,FALSE),0) -> 24 | F6: =IFERROR(VLOOKUP($B6,'[4]11市町別戸数'!$A:$G,5,FALSE),0) -> 0 | G6: =IFERROR(VLOOKUP($B6,'[4]11市町別戸数'!$A:$G,6,FALSE),0) -> 21 | H6: =IFERROR(VLOOKUP($B6,'[4]11市町別マンション戸数'!A:C,3,FALSE),0) -> 0
B7: 清水区 | C7: =IFERROR(VLOOKUP($B7,'[4]11市町別戸数'!$A:$G,7,FALSE),0) -> 60 | D7: =IFERROR(VLOOKUP($B7,'[4]11市町別戸数'!$A:$G,3,FALSE),0) -> 23 | E7: =IFERROR(VLOOKUP($B7,'[4]11市町別戸数'!$A:$G,4,FALSE),0) -> 16 | F7: =IFERROR(VLOOKUP($B7,'[4]11市町別戸数'!$A:$G,5,FALSE),0) -> 1 | G7: =IFERROR(VLOOKUP($B7,'[4]11市町別戸数'!$A:$G,6,FALSE),0) -> 20 | H7: =IFERROR(VLOOKUP($B7,'[4]11市町別マンション戸数'!A:C,3,FALSE),0) -> 0
B8: 静岡市 | C8: =SUM(C5:C7) -> 215 | D8: =SUM(D5:D7) -> 83 | E8: =SUM(E5:E7) -> 81 | F8: =SUM(F5:F7) -> 1 | G8: =SUM(G5:G7) -> 50 | H8: =SUM(H5:H7) -> 0
B9: 中央区 | C9: =IFERROR(VLOOKUP($B9,'[4]11市町別戸数'!$A:$G,7,FALSE),0) -> 223 | D9: =IFERROR(VLOOKUP($B9,'[4]11市町別戸数'!$A:$G,3,FALSE),0) -> 70 | E9: =IFERROR(VLOOKUP($B9,'[4]11市町別戸数'!$A:$G,4,FALSE),0) -> 91 | F9: =IFERROR(VLOOKUP($B9,'[4]11市町別戸数'!$A:$G,5,FALSE),0) -> 0 | G9: =IFERROR(VLOOKUP($B9,'[4]11市町別戸数'!$A:$G,6,FALSE),0) -> 62 | H9: =IFERROR(VLOOKUP($B9,'[4]11市町別マンション戸数'!A:C,3,FALSE),0) -> 12
B10: 浜名区 | C10: =IFERROR(VLOOKUP($B10,'[4]11市町別戸数'!$A:$G,7,FALSE),0) -> 45 | D10: =IFERROR(VLOOKUP($B10,'[4]11市町別戸数'!$A:$G,3,FALSE),0) -> 23 | E10: =IFERROR(VLOOKUP($B10,'[4]11市町別戸数'!$A:$G,4,FALSE),0) -> 14 | F10: =IFERROR(VLOOKUP($B10,'[4]11市町別戸数'!$A:$G,5,FALSE),0) -> 0 | G10: =IFERROR(VLOOKUP($B10,'[4]11市町別戸数'!$A:$G,6,FALSE),0) -> 8 | H10: =IFERROR(VLOOKUP($B10,'[4]11市町別マンション戸数'!A:C,3,FALSE),0) -> 0
B11: 天竜区 | C11: =IFERROR(VLOOKUP($B11,'[4]11市町別戸数'!$A:$G,7,FALSE),0) -> 1 | D11: =IFERROR(VLOOKUP($B11,'[4]11市町別戸数'!$A:$G,3,FALSE),0) -> 1 | E11: =IFERROR(VLOOKUP($B11,'[4]11市町別戸数'!$A:$G,4,FALSE),0) -> 0 | F11: =IFERROR(VLOOKUP($B11,'[4]11市町別戸数'!$A:$G,5,FALSE),0) -> 0 | G11: =IFERROR(VLOOKUP($B11,'[4]11市町別戸数'!$A:$G,6,FALSE),0) -> 0 | H11: =IFERROR(VLOOKUP($B11,'[4]11市町別マンション戸数'!A:C,3,FALSE),0) -> 0
B12: 浜松市 | C12: =SUM(C9:C11) -> 269 | D12: =SUM(D9:D11) -> 94 | E12: =SUM(E9:E11) -> 105 | F12: =SUM(F9:F11) -> 0 | G12: =SUM(G9:G11) -> 70 | H12: =SUM(H9:H11) -> 12
B13: 沼津市 | C13: =IFERROR(VLOOKUP($B13,'[4]11市町別戸数'!$A:$G,7,FALSE),0) -> 90 | D13: =IFERROR(VLOOKUP($B13,'[4]11市町別戸数'!$A:$G,3,FALSE),0) -> 36 | E13: =IFERROR(VLOOKUP($B13,'[4]11市町別戸数'!$A:$G,4,FALSE),0) -> 32 | F13: =IFERROR(VLOOKUP($B13,'[4]11市町別戸数'!$A:$G,5,FALSE),0) -> 0 | G13: =IFERROR(VLOOKUP($B13,'[4]11市町別戸数'!$A:$G,6,FALSE),0) -> 22 | H13: =IFERROR(VLOOKUP($B13,'[4]11市町別マンション戸数'!A:C,3,FALSE),0) -> 0
B14: 熱海市 | C14: =IFERROR(VLOOKUP($B14,'[4]11市町別戸数'!$A:$G,7,FALSE),0) -> 5 | D14: =IFERROR(VLOOKUP($B14,'[4]11市町別戸数'!$A:$G,3,FALSE),0) -> 3 | E14: =IFERROR(VLOOKUP($B14,'[4]11市町別戸数'!$A:$G,4,FALSE),0) -> 0 | F14: =IFERROR(VLOOKUP($B14,'[4]11市町別戸数'!$A:$G,5,FALSE),0) -> 0 | G14: =IFERROR(VLOOKUP($B14,'[4]11市町別戸数'!$A:$G,6,FALSE),0) -> 2 | H14: =IFERROR(VLOOKUP($B14,'[4]11市町別マンション戸数'!A:C,3,FALSE),0) -> 0
B15: 三島市 | C15: =IFERROR(VLOOKUP($B15,'[4]11市町別戸数'!$A:$G,7,FALSE),0) -> 28 | D15: =IFERROR(VLOOKUP($B15,'[4]11市町別戸数'!$A:$G,3,FALSE),0) -> 20 | E15: =IFERROR(VLOOKUP($B15,'[4]11市町別戸数'!$A:$G,4,FALSE),0) -> 0 | F15: =IFERROR(VLOOKUP($B15,'[4]11市町別戸数'!$A:$G,5,FALSE),0) -> 0 | G15: =IFERROR(VLOOKUP($B15,'[4]11市町別戸数'!$A:$G,6,FALSE),0) -> 8 | H15: =IFERROR(VLOOKUP($B15,'[4]11市町別マンション戸数'!A:C,3,FALSE),0) -> 0
B16: 富士宮市 | C16: =IFERROR(VLOOKUP($B16,'[4]11市町別戸数'!$A:$G,7,FALSE),0) -> 12 | D16: =IFERROR(VLOOKUP($B16,'[4]11市町別戸数'!$A:$G,3,FALSE),0) -> 7 | E16: =IFERROR(VLOOKUP($B16,'[4]11市町別戸数'!$A:$G,4,FALSE),0) -> 0 | F16: =IFERROR(VLOOKUP($B16,'[4]11市町別戸数'!$A:$G,5,FALSE),0) -> 1 | G16: =IFERROR(VLOOKUP($B16,'[4]11市町別戸数'!$A:$G,6,FALSE),0) -> 4 | H16: =IFERROR(VLOOKUP($B16,'[4]11市町別マンション戸数'!A:C,3,FALSE),0) -> 0
B17: 伊東市 | C17: =IFERROR(VLOOKUP($B17,'[4]11市町別戸数'!$A:$G,7,FALSE),0) -> 9 | D17: =IFERROR(VLOOKUP($B17,'[4]11市町別戸数'!$A:$G,3,FALSE),0) -> 5 | E17: =IFERROR(VLOOKUP($B17,'[4]11市町別戸数'!$A:$G,4,FALSE),0) -> 0 | F17: =IFERROR(VLOOKUP($B17,'[4]11市町別戸数'!$A:$G,5,FALSE),0) -> 0 | G17: =IFERROR(VLOOKUP($B17,'[4]11市町別戸数'!$A:$G,6,FALSE),0) -> 4 | H17: =IFERROR(VLOOKUP($B17,'[4]11市町別マンション戸数'!A:C,3,FALSE),0) -> 0
B18: 島田市 | C18: =IFERROR(VLOOKUP($B18,'[4]11市町別戸数'!$A:$G,7,FALSE),0) -> 24 | D18: =IFERROR(VLOOKUP($B18,'[4]11市町別戸数'!$A:$G,3,FALSE),0) -> 18 | E18: =IFERROR(VLOOKUP($B18,'[4]11市町別戸数'!$A:$G,4,FALSE),0) -> 0 | F18: =IFERROR(VLOOKUP($B18,'[4]11市町別戸数'!$A:$G,5,FALSE),0) -> 1 | G18: =IFERROR(VLOOKUP($B18,'[4]11市町別戸数'!$A:$G,6,FALSE),0) -> 5 | H18: =IFERROR(VLOOKUP($B18,'[4]11市町別マンション戸数'!A:C,3,FALSE),0) -> 0
B19: 富士市 | C19: =IFERROR(VLOOKUP($B19,'[4]11市町別戸数'!$A:$G,7,FALSE),0) -> 86 | D19: =IFERROR(VLOOKUP($B19,'[4]11市町別戸数'!$A:$G,3,FALSE),0) -> 48 | E19: =IFERROR(VLOOKUP($B19,'[4]11市町別戸数'!$A:$G,4,FALSE),0) -> 24 | F19: =IFERROR(VLOOKUP($B19,'[4]11市町別戸数'!$A:$G,5,FALSE),0) -> 0 | G19: =IFERROR(VLOOKUP($B19,'[4]11市町別戸数'!$A:$G,6,FALSE),0) -> 14 | H19: =IFERROR(VLOOKUP($B19,'[4]11市町別マンション戸数'!A:C,3,FALSE),0) -> 0
B20: 磐田市 | C20: =IFERROR(VLOOKUP($B20,'[4]11市町別戸数'!$A:$G,7,FALSE),0) -> 61 | D20: =IFERROR(VLOOKUP($B20,'[4]11市町別戸数'!$A:$G,3,FALSE),0) -> 32 | E20: =IFERROR(VLOOKUP($B20,'[4]11市町別戸数'!$A:$G,4,FALSE),0) -> 22 | F20: =IFERROR(VLOOKUP($B20,'[4]11市町別戸数'!$A:$G,5,FALSE),0) -> 0 | G20: =IFERROR(VLOOKUP($B20,'[4]11市町別戸数'!$A:$G,6,FALSE),0) -> 7 | H20: =IFERROR(VLOOKUP($B20,'[4]11市町別マンション戸数'!A:C,3,FALSE),0) -> 0
B21: 焼津市 | C21: =IFERROR(VLOOKUP($B21,'[4]11市町別戸数'!$A:$G,7,FALSE),0) -> 58 | D21: =IFERROR(VLOOKUP($B21,'[4]11市町別戸数'!$A:$G,3,FALSE),0) -> 29 | E21: =IFERROR(VLOOKUP($B21,'[4]11市町別戸数'!$A:$G,4,FALSE),0) -> 13 | F21: =IFERROR(VLOOKUP($B21,'[4]11市町別戸数'!$A:$G,5,FALSE),0) -> 0 | G21: =IFERROR(VLOOKUP($B21,'[4]11市町別戸数'!$A:$G,6,FALSE),0) -> 16 | H21: =IFERROR(VLOOKUP($B21,'[4]11市町別マンション戸数'!A:C,3,FALSE),0) -> 0
B22: 掛川市 | C22: =IFERROR(VLOOKUP($B22,'[4]11市町別戸数'!$A:$G,7,FALSE),0) -> 36 | D22: =IFERROR(VLOOKUP($B22,'[4]11市町別戸数'!$A:$G,3,FALSE),0) -> 34 | E22: =IFERROR(VLOOKUP($B22,'[4]11市町別戸数'!$A:$G,4,FALSE),0) -> 0 | F22: =IFERROR(VLOOKUP($B22,'[4]11市町別戸数'!$A:$G,5,FALSE),0) -> 0 | G22: =IFERROR(VLOOKUP($B22,'[4]11市町別戸数'!$A:$G,6,FALSE),0) -> 2 | H22: =IFERROR(VLOOKUP($B22,'[4]11市町別マンション戸数'!A:C,3,FALSE),0) -> 0
B23: 藤枝市 | C23: =IFERROR(VLOOKUP($B23,'[4]11市町別戸数'!$A:$G,7,FALSE),0) -> 44 | D23: =IFERROR(VLOOKUP($B23,'[4]11市町別戸数'!$A:$G,3,FALSE),0) -> 25 | E23: =IFERROR(VLOOKUP($B23,'[4]11市町別戸数'!$A:$G,4,FALSE),0) -> 6 | F23: =IFERROR(VLOOKUP($B23,'[4]11市町別戸数'!$A:$G,5,FALSE),0) -> 0 | G23: =IFERROR(VLOOKUP($B23,'[4]11市町別戸数'!$A:$G,6,FALSE),0) -> 13 | H23: =IFERROR(VLOOKUP($B23,'[4]11市町別マンション戸数'!A:C,3,FALSE),0) -> 0
B24: 御殿場市 | C24: =IFERROR(VLOOKUP($B24,'[4]11市町別戸数'!$A:$G,7,FALSE),0) -> 39 | D24: =IFERROR(VLOOKUP($B24,'[4]11市町別戸数'!$A:$G,3,FALSE),0) -> 7 | E24: =IFERROR(VLOOKUP($B24,'[4]11市町別戸数'!$A:$G,4,FALSE),0) -> 30 | F24: =IFERROR(VLOOKUP($B24,'[4]11市町別戸数'!$A:$G,5,FALSE),0) -> 0 | G24: =IFERROR(VLOOKUP($B24,'[4]11市町別戸数'!$A:$G,6,FALSE),0) -> 2 | H24: =IFERROR(VLOOKUP($B24,'[4]11市町別マンション戸数'!A:C,3,FALSE),0) -> 0
... B45: 森町 | C45: =IFERROR(VLOOKUP($B45,'[4]11市町別戸数'!$A:$G,7,FALSE),0) -> 5 | D45: =IFERROR(VLOOKUP($B45,'[4]11市町別戸数'!$A:$G,3,FALSE),0) -> 4 | E45: =IFERROR(VLOOKUP($B45,'[4]11市町別戸数'!$A:$G,4,FALSE),0) -> 0 | F45: =IFERROR(VLOOKUP($B45,'[4]11市町別戸数'!$A:$G,5,FALSE),0) -> 1 | G45: =IFERROR(VLOOKUP($B45,'[4]11市町別戸数'!$A:$G,6,FALSE),0) -> 0 | H45: =IFERROR(VLOOKUP($B45,'[4]11市町別マンション戸数'!A:C,3,FALSE),0) -> 0
B46: 合計 | C46: =SUM(C5:C45)-C8-C12 -> 1148 | D46: =SUM(D5:D45)-D8-D12 -> 556 | E46: =SUM(E5:E45)-E8-E12 -> 331 | F46: =SUM(F5:F45)-F8-F12 -> 4 | G46: =SUM(G5:G45)-G8-G12 -> 257 | H46: =SUM(H5:H45)-H8-H12 -> 12

Sheet 令和８年６月
F2: 新設住宅着工戸数 市区町月間データ | G2: =[3]データ!A2&"年"&[3]データ!B2&"月" -> 2026年6月
H3: （単位：戸）
B4: 市町名 | C4: 総計 | D4: 持家 | E4: 貸家 | F4: 給与住宅 | G4: 分譲住宅 | H4: うちマンション
B5: 葵区 | C5: =IFERROR(VLOOKUP($B5,'[3]11市町別戸数'!$A:$G,7,FALSE),0) -> 84 | D5: =IFERROR(VLOOKUP($B5,'[3]11市町別戸数'!$A:$G,3,FALSE),0) -> 43 | E5: =IFERROR(VLOOKUP($B5,'[3]11市町別戸数'!$A:$G,4,FALSE),0) -> 24 | F5: =IFERROR(VLOOKUP($B5,'[3]11市町別戸数'!$A:$G,5,FALSE),0) -> 0 | G5: =IFERROR(VLOOKUP($B5,'[3]11市町別戸数'!$A:$G,6,FALSE),0) -> 17 | H5: =IFERROR(VLOOKUP($B5,'[3]11市町別マンション戸数'!A:C,3,FALSE),0) -> 0
B6: 駿河区 | C6: =IFERROR(VLOOKUP($B6,'[3]11市町別戸数'!$A:$G,7,FALSE),0) -> 124 | D6: =IFERROR(VLOOKUP($B6,'[3]11市町別戸数'!$A:$G,3,FALSE),0) -> 35 | E6: =IFERROR(VLOOKUP($B6,'[3]11市町別戸数'!$A:$G,4,FALSE),0) -> 67 | F6: =IFERROR(VLOOKUP($B6,'[3]11市町別戸数'!$A:$G,5,FALSE),0) -> 0 | G6: =IFERROR(VLOOKUP($B6,'[3]11市町別戸数'!$A:$G,6,FALSE),0) -> 22 | H6: =IFERROR(VLOOKUP($B6,'[3]11市町別マンション戸数'!A:C,3,FALSE),0) -> 0
B7: 清水区 | C7: =IFERROR(VLOOKUP($B7,'[3]11市町別戸数'!$A:$G,7,FALSE),0) -> 82 | D7: =IFERROR(VLOOKUP($B7,'[3]11市町別戸数'!$A:$G,3,FALSE),0) -> 43 | E7: =IFERROR(VLOOKUP($B7,'[3]11市町別戸数'!$A:$G,4,FALSE),0) -> 28 | F7: =IFERROR(VLOOKUP($B7,'[3]11市町別戸数'!$A:$G,5,FALSE),0) -> 0 | G7: =IFERROR(VLOOKUP($B7,'[3]11市町別戸数'!$A:$G,6,FALSE),0) -> 11 | H7: =IFERROR(VLOOKUP($B7,'[3]11市町別マンション戸数'!A:C,3,FALSE),0) -> 0
B8: 静岡市 | C8: =SUM(C5:C7) -> 290 | D8: =SUM(D5:D7) -> 121 | E8: =SUM(E5:E7) -> 119 | F8: =SUM(F5:F7) -> 0 | G8: =SUM(G5:G7) -> 50 | H8: =SUM(H5:H7) -> 0
B9: 中央区 | C9: =IFERROR(VLOOKUP($B9,'[3]11市町別戸数'!$A:$G,7,FALSE),0) -> 473 | D9: =IFERROR(VLOOKUP($B9,'[3]11市町別戸数'!$A:$G,3,FALSE),0) -> 128 | E9: =IFERROR(VLOOKUP($B9,'[3]11市町別戸数'!$A:$G,4,FALSE),0) -> 225 | F9: =IFERROR(VLOOKUP($B9,'[3]11市町別戸数'!$A:$G,5,FALSE),0) -> 0 | G9: =IFERROR(VLOOKUP($B9,'[3]11市町別戸数'!$A:$G,6,FALSE),0) -> 120 | H9: =IFERROR(VLOOKUP($B9,'[3]11市町別マンション戸数'!A:C,3,FALSE),0) -> 60
B10: 浜名区 | C10: =IFERROR(VLOOKUP($B10,'[3]11市町別戸数'!$A:$G,7,FALSE),0) -> 94 | D10: =IFERROR(VLOOKUP($B10,'[3]11市町別戸数'!$A:$G,3,FALSE),0) -> 38 | E10: =IFERROR(VLOOKUP($B10,'[3]11市町別戸数'!$A:$G,4,FALSE),0) -> 40 | F10: =IFERROR(VLOOKUP($B10,'[3]11市町別戸数'!$A:$G,5,FALSE),0) -> 0 | G10: =IFERROR(VLOOKUP($B10,'[3]11市町別戸数'!$A:$G,6,FALSE),0) -> 16 | H10: =IFERROR(VLOOKUP($B10,'[3]11市町別マンション戸数'!A:C,3,FALSE),0) -> 0
B11: 天竜区 | C11: =IFERROR(VLOOKUP($B11,'[3]11市町別戸数'!$A:$G,7,FALSE),0) -> 4 | D11: =IFERROR(VLOOKUP($B11,'[3]11市町別戸数'!$A:$G,3,FALSE),0) -> 4 | E11: =IFERROR(VLOOKUP($B11,'[3]11市町別戸数'!$A:$G,4,FALSE),0) -> 0 | F11: =IFERROR(VLOOKUP($B11,'[3]11市町別戸数'!$A:$G,5,FALSE),0) -> 0 | G11: =IFERROR(VLOOKUP($B11,'[3]11市町別戸数'!$A:$G,6,FALSE),0) -> 0 | H11: =IFERROR(VLOOKUP($B11,'[3]11市町別マンション戸数'!A:C,3,FALSE),0) -> 0
B12: 浜松市 | C12: =SUM(C9:C11) -> 571 | D12: =SUM(D9:D11) -> 170 | E12: =SUM(E9:E11) -> 265 | F12: =SUM(F9:F11) -> 0 | G12: =SUM(G9:G11) -> 136 | H12: =SUM(H9:H11) -> 60
B13: 沼津市 | C13: =IFERROR(VLOOKUP($B13,'[3]11市町別戸数'!$A:$G,7,FALSE),0) -> 58 | D13: =IFERROR(VLOOKUP($B13,'[3]11市町別戸数'!$A:$G,3,FALSE),0) -> 24 | E13: =IFERROR(VLOOKUP($B13,'[3]11市町別戸数'!$A:$G,4,FALSE),0) -> 25 | F13: =IFERROR(VLOOKUP($B13,'[3]11市町別戸数'!$A:$G,5,FALSE),0) -> 0 | G13: =IFERROR(VLOOKUP($B13,'[3]11市町別戸数'!$A:$G,6,FALSE),0) -> 9 | H13: =IFERROR(VLOOKUP($B13,'[3]11市町別マンション戸数'!A:C,3,FALSE),0) -> 0
B14: 熱海市 | C14: =IFERROR(VLOOKUP($B14,'[3]11市町別戸数'!$A:$G,7,FALSE),0) -> 3 | D14: =IFERROR(VLOOKUP($B14,'[3]11市町別戸数'!$A:$G,3,FALSE),0) -> 1 | E14: =IFERROR(VLOOKUP($B14,'[3]11市町別戸数'!$A:$G,4,FALSE),0) -> 0 | F14: =IFERROR(VLOOKUP($B14,'[3]11市町別戸数'!$A:$G,5,FALSE),0) -> 2 | G14: =IFERROR(VLOOKUP($B14,'[3]11市町別戸数'!$A:$G,6,FALSE),0) -> 0 | H14: =IFERROR(VLOOKUP($B14,'[3]11市町別マンション戸数'!A:C,3,FALSE),0) -> 0
B15: 三島市 | C15: =IFERROR(VLOOKUP($B15,'[3]11市町別戸数'!$A:$G,7,FALSE),0) -> 35 | D15: =IFERROR(VLOOKUP($B15,'[3]11市町別戸数'!$A:$G,3,FALSE),0) -> 20 | E15: =IFERROR(VLOOKUP($B15,'[3]11市町別戸数'!$A:$G,4,FALSE),0) -> 10 | F15: =IFERROR(VLOOKUP($B15,'[3]11市町別戸数'!$A:$G,5,FALSE),0) -> 0 | G15: =IFERROR(VLOOKUP($B15,'[3]11市町別戸数'!$A:$G,6,FALSE),0) -> 5 | H15: =IFERROR(VLOOKUP($B15,'[3]11市町別マンション戸数'!A:C,3,FALSE),0) -> 0
B16: 富士宮市 | C16: =IFERROR(VLOOKUP($B16,'[3]11市町別戸数'!$A:$G,7,FALSE),0) -> 66 | D16: =IFERROR(VLOOKUP($B16,'[3]11市町別戸数'!$A:$G,3,FALSE),0) -> 28 | E16: =IFERROR(VLOOKUP($B16,'[3]11市町別戸数'!$A:$G,4,FALSE),0) -> 22 | F16: =IFERROR(VLOOKUP($B16,'[3]11市町別戸数'!$A:$G,5,FALSE),0) -> 1 | G16: =IFERROR(VLOOKUP($B16,'[3]11市町別戸数'!$A:$G,6,FALSE),0) -> 15 | H16: =IFERROR(VLOOKUP($B16,'[3]11市町別マンション戸数'!A:C,3,FALSE),0) -> 0
B17: 伊東市 | C17: =IFERROR(VLOOKUP($B17,'[3]11市町別戸数'!$A:$G,7,FALSE),0) -> 13 | D17: =IFERROR(VLOOKUP($B17,'[3]11市町別戸数'!$A:$G,3,FALSE),0) -> 11 | E17: =IFERROR(VLOOKUP($B17,'[3]11市町別戸数'!$A:$G,4,FALSE),0) -> 0 | F17: =IFERROR(VLOOKUP($B17,'[3]11市町別戸数'!$A:$G,5,FALSE),0) -> 0 | G17: =IFERROR(VLOOKUP($B17,'[3]11市町別戸数'!$A:$G,6,FALSE),0) -> 2 | H17: =IFERROR(VLOOKUP($B17,'[3]11市町別マンション戸数'!A:C,3,FALSE),0) -> 0
B18: 島田市 | C18: =IFERROR(VLOOKUP($B18,'[3]11市町別戸数'!$A:$G,7,FALSE),0) -> 29 | D18: =IFERROR(VLOOKUP($B18,'[3]11市町別戸数'!$A:$G,3,FALSE),0) -> 26 | E18: =IFERROR(VLOOKUP($B18,'[3]11市町別戸数'!$A:$G,4,FALSE),0) -> 0 | F18: =IFERROR(VLOOKUP($B18,'[3]11市町別戸数'!$A:$G,5,FALSE),0) -> 0 | G18: =IFERROR(VLOOKUP($B18,'[3]11市町別戸数'!$A:$G,6,FALSE),0) -> 3 | H18: =IFERROR(VLOOKUP($B18,'[3]11市町別マンション戸数'!A:C,3,FALSE),0) -> 0
B19: 富士市 | C19: =IFERROR(VLOOKUP($B19,'[3]11市町別戸数'!$A:$G,7,FALSE),0) -> 161 | D19: =IFERROR(VLOOKUP($B19,'[3]11市町別戸数'!$A:$G,3,FALSE),0) -> 50 | E19: =IFERROR(VLOOKUP($B19,'[3]11市町別戸数'!$A:$G,4,FALSE),0) -> 84 | F19: =IFERROR(VLOOKUP($B19,'[3]11市町別戸数'!$A:$G,5,FALSE),0) -> 0 | G19: =IFERROR(VLOOKUP($B19,'[3]11市町別戸数'!$A:$G,6,FALSE),0) -> 27 | H19: =IFERROR(VLOOKUP($B19,'[3]11市町別マンション戸数'!A:C,3,FALSE),0) -> 0
B20: 磐田市 | C20: =IFERROR(VLOOKUP($B20,'[3]11市町別戸数'!$A:$G,7,FALSE),0) -> 50 | D20: =IFERROR(VLOOKUP($B20,'[3]11市町別戸数'!$A:$G,3,FALSE),0) -> 31 | E20: =IFERROR(VLOOKUP($B20,'[3]11市町別戸数'!$A:$G,4,FALSE),0) -> 16 | F20: =IFERROR(VLOOKUP($B20,'[3]11市町別戸数'!$A:$G,5,FALSE),0) -> 0 | G20: =IFERROR(VLOOKUP($B20,'[3]11市町別戸数'!$A:$G,6,FALSE),0) -> 3 | H20: =IFERROR(VLOOKUP($B20,'[3]11市町別マンション戸数'!A:C,3,FALSE),0) -> 0
B21: 焼津市 | C21: =IFERROR(VLOOKUP($B21,'[3]11市町別戸数'!$A:$G,7,FALSE),0) -> 47 | D21: =IFERROR(VLOOKUP($B21,'[3]11市町別戸数'!$A:$G,3,FALSE),0) -> 18 | E21: =IFERROR(VLOOKUP($B21,'[3]11市町別戸数'!$A:$G,4,FALSE),0) -> 14 | F21: =IFERROR(VLOOKUP($B21,'[3]11市町別戸数'!$A:$G,5,FALSE),0) -> 0 | G21: =IFERROR(VLOOKUP($B21,'[3]11市町別戸数'!$A:$G,6,FALSE),0) -> 15 | H21: =IFERROR(VLOOKUP($B21,'[3]11市町別マンション戸数'!A:C,3,FALSE),0) -> 0
B22: 掛川市 | C22: =IFERROR(VLOOKUP($B22,'[3]11市町別戸数'!$A:$G,7,FALSE),0) -> 37 | D22: =IFERROR(VLOOKUP($B22,'[3]11市町別戸数'!$A:$G,3,FALSE),0) -> 28 | E22: =IFERROR(VLOOKUP($B22,'[3]11市町別戸数'!$A:$G,4,FALSE),0) -> 8 | F22: =IFERROR(VLOOKUP($B22,'[3]11市町別戸数'!$A:$G,5,FALSE),0) -> 0 | G22: =IFERROR(VLOOKUP($B22,'[3]11市町別戸数'!$A:$G,6,FALSE),0) -> 1 | H22: =IFERROR(VLOOKUP($B22,'[3]11市町別マンション戸数'!A:C,3,FALSE),0) -> 0
B23: 藤枝市 | C23: =IFERROR(VLOOKUP($B23,'[3]11市町別戸数'!$A:$G,7,FALSE),0) -> 42 | D23: =IFERROR(VLOOKUP($B23,'[3]11市町別戸数'!$A:$G,3,FALSE),0) -> 33 | E23: =IFERROR(VLOOKUP($B23,'[3]11市町別戸数'!$A:$G,4,FALSE),0) -> 8 | F23: =IFERROR(VLOOKUP($B23,'[3]11市町別戸数'!$A:$G,5,FALSE),0) -> 0 | G23: =IFERROR(VLOOKUP($B23,'[3]11市町別戸数'!$A:$G,6,FALSE),0) -> 1 | H23: =IFERROR(VLOOKUP($B23,'[3]11市町別マンション戸数'!A:C,3,FALSE),0) -> 0
B24: 御殿場市 | C24: =IFERROR(VLOOKUP($B24,'[3]11市町別戸数'!$A:$G,7,FALSE),0) -> 71 | D24: =IFERROR(VLOOKUP($B24,'[3]11市町別戸数'!$A:$G,3,FALSE),0) -> 20 | E24: =IFERROR(VLOOKUP($B24,'[3]11市町別戸数'!$A:$G,4,FALSE),0) -> 48 | F24: =IFERROR(VLOOKUP($B24,'[3]11市町別戸数'!$A:$G,5,FALSE),0) -> 0 | G24: =IFERROR(VLOOKUP($B24,'[3]11市町別戸数'!$A:$G,6,FALSE),0) -> 3 | H24: =IFERROR(VLOOKUP($B24,'[3]11市町別マンション戸数'!A:C,3,FALSE),0) -> 0
... B45: 森町 | C45: =IFERROR(VLOOKUP($B45,'[3]11市町別戸数'!$A:$G,7,FALSE),0) -> 4 | D45: =IFERROR(VLOOKUP($B45,'[3]11市町別戸数'!$A:$G,3,FALSE),0) -> 4 | E45: =IFERROR(VLOOKUP($B45,'[3]11市町別戸数'!$A:$G,4,FALSE),0) -> 0 | F45: =IFERROR(VLOOKUP($B45,'[3]11市町別戸数'!$A:$G,5,FALSE),0) -> 0 | G45: =IFERROR(VLOOKUP($B45,'[3]11市町別戸数'!$A:$G,6,FALSE),0) -> 0 | H45: =IFERROR(VLOOKUP($B45,'[3]11市町別マンション戸数'!A:C,3,FALSE),0) -> 0
B46: 合計 | C46: =SUM(C5:C45)-C8-C12 -> 1659 | D46: =SUM(D5:D45)-D8-D12 -> 674 | E46: =SUM(E5:E45)-E8-E12 -> 679 | F46: =SUM(F5:F45)-F8-F12 -> 4 | G46: =SUM(G5:G45)-G8-G12 -> 302 | H46: =SUM(H5:H45)-H8-H12 -> 60

Sheet 令和８年７月
F2: 新設住宅着工戸数 市区町月間データ | G2: =[2]データ!A2&"年"&[2]データ!B2&"月" -> 2026年7月
H3: （単位：戸）
B4: 市町名 | C4: 総計 | D4: 持家 | E4: 貸家 | F4: 給与住宅 | G4: 分譲住宅 | H4: うちマンション
B5: 葵区 | C5: =IFERROR(VLOOKUP($B5,'[2]11市町別戸数'!$A:$G,7,FALSE),0) -> 82 | D5: =IFERROR(VLOOKUP($B5,'[2]11市町別戸数'!$A:$G,3,FALSE),0) -> 52 | E5: =IFERROR(VLOOKUP($B5,'[2]11市町別戸数'!$A:$G,4,FALSE),0) -> 14 | F5: =IFERROR(VLOOKUP($B5,'[2]11市町別戸数'!$A:$G,5,FALSE),0) -> 1 | G5: =IFERROR(VLOOKUP($B5,'[2]11市町別戸数'!$A:$G,6,FALSE),0) -> 15 | H5: =IFERROR(VLOOKUP($B5,'[2]11市町別マンション戸数'!A:C,3,FALSE),0) -> 0
B6: 駿河区 | C6: =IFERROR(VLOOKUP($B6,'[2]11市町別戸数'!$A:$G,7,FALSE),0) -> 46 | D6: =IFERROR(VLOOKUP($B6,'[2]11市町別戸数'!$A:$G,3,FALSE),0) -> 34 | E6: =IFERROR(VLOOKUP($B6,'[2]11市町別戸数'!$A:$G,4,FALSE),0) -> 0 | F6: =IFERROR(VLOOKUP($B6,'[2]11市町別戸数'!$A:$G,5,FALSE),0) -> 1 | G6: =IFERROR(VLOOKUP($B6,'[2]11市町別戸数'!$A:$G,6,FALSE),0) -> 11 | H6: =IFERROR(VLOOKUP($B6,'[2]11市町別マンション戸数'!A:C,3,FALSE),0) -> 0
B7: 清水区 | C7: =IFERROR(VLOOKUP($B7,'[2]11市町別戸数'!$A:$G,7,FALSE),0) -> 107 | D7: =IFERROR(VLOOKUP($B7,'[2]11市町別戸数'!$A:$G,3,FALSE),0) -> 44 | E7: =IFERROR(VLOOKUP($B7,'[2]11市町別戸数'!$A:$G,4,FALSE),0) -> 51 | F7: =IFERROR(VLOOKUP($B7,'[2]11市町別戸数'!$A:$G,5,FALSE),0) -> 0 | G7: =IFERROR(VLOOKUP($B7,'[2]11市町別戸数'!$A:$G,6,FALSE),0) -> 12 | H7: =IFERROR(VLOOKUP($B7,'[2]11市町別マンション戸数'!A:C,3,FALSE),0) -> 0
B8: 静岡市 | C8: =SUM(C5:C7) -> 235 | D8: =SUM(D5:D7) -> 130 | E8: =SUM(E5:E7) -> 65 | F8: =SUM(F5:F7) -> 2 | G8: =SUM(G5:G7) -> 38 | H8: =SUM(H5:H7) -> 0
B9: 中央区 | C9: =IFERROR(VLOOKUP($B9,'[2]11市町別戸数'!$A:$G,7,FALSE),0) -> 310 | D9: =IFERROR(VLOOKUP($B9,'[2]11市町別戸数'!$A:$G,3,FALSE),0) -> 129 | E9: =IFERROR(VLOOKUP($B9,'[2]11市町別戸数'!$A:$G,4,FALSE),0) -> 115 | F9: =IFERROR(VLOOKUP($B9,'[2]11市町別戸数'!$A:$G,5,FALSE),0) -> 2 | G9: =IFERROR(VLOOKUP($B9,'[2]11市町別戸数'!$A:$G,6,FALSE),0) -> 64 | H9: =IFERROR(VLOOKUP($B9,'[2]11市町別マンション戸数'!A:C,3,FALSE),0) -> 15
B10: 浜名区 | C10: =IFERROR(VLOOKUP($B10,'[2]11市町別戸数'!$A:$G,7,FALSE),0) -> 78 | D10: =IFERROR(VLOOKUP($B10,'[2]11市町別戸数'!$A:$G,3,FALSE),0) -> 31 | E10: =IFERROR(VLOOKUP($B10,'[2]11市町別戸数'!$A:$G,4,FALSE),0) -> 38 | F10: =IFERROR(VLOOKUP($B10,'[2]11市町別戸数'!$A:$G,5,FALSE),0) -> 0 | G10: =IFERROR(VLOOKUP($B10,'[2]11市町別戸数'!$A:$G,6,FALSE),0) -> 9 | H10: =IFERROR(VLOOKUP($B10,'[2]11市町別マンション戸数'!A:C,3,FALSE),0) -> 0
B11: 天竜区 | C11: =IFERROR(VLOOKUP($B11,'[2]11市町別戸数'!$A:$G,7,FALSE),0) -> 3 | D11: =IFERROR(VLOOKUP($B11,'[2]11市町別戸数'!$A:$G,3,FALSE),0) -> 3 | E11: =IFERROR(VLOOKUP($B11,'[2]11市町別戸数'!$A:$G,4,FALSE),0) -> 0 | F11: =IFERROR(VLOOKUP($B11,'[2]11市町別戸数'!$A:$G,5,FALSE),0) -> 0 | G11: =IFERROR(VLOOKUP($B11,'[2]11市町別戸数'!$A:$G,6,FALSE),0) -> 0 | H11: =IFERROR(VLOOKUP($B11,'[2]11市町別マンション戸数'!A:C,3,FALSE),0) -> 0
B12: 浜松市 | C12: =SUM(C9:C11) -> 391 | D12: =SUM(D9:D11) -> 163 | E12: =SUM(E9:E11) -> 153 | F12: =SUM(F9:F11) -> 2 | G12: =SUM(G9:G11) -> 73 | H12: =SUM(H9:H11) -> 15
B13: 沼津市 | C13: =IFERROR(VLOOKUP($B13,'[2]11市町別戸数'!$A:$G,7,FALSE),0) -> 69 | D13: =IFERROR(VLOOKUP($B13,'[2]11市町別戸数'!$A:$G,3,FALSE),0) -> 40 | E13: =IFERROR(VLOOKUP($B13,'[2]11市町別戸数'!$A:$G,4,FALSE),0) -> 8 | F13: =IFERROR(VLOOKUP($B13,'[2]11市町別戸数'!$A:$G,5,FALSE),0) -> 1 | G13: =IFERROR(VLOOKUP($B13,'[2]11市町別戸数'!$A:$G,6,FALSE),0) -> 20 | H13: =IFERROR(VLOOKUP($B13,'[2]11市町別マンション戸数'!A:C,3,FALSE),0) -> 0
B14: 熱海市 | C14: =IFERROR(VLOOKUP($B14,'[2]11市町別戸数'!$A:$G,7,FALSE),0) -> 0 | D14: =IFERROR(VLOOKUP($B14,'[2]11市町別戸数'!$A:$G,3,FALSE),0) -> 0 | E14: =IFERROR(VLOOKUP($B14,'[2]11市町別戸数'!$A:$G,4,FALSE),0) -> 0 | F14: =IFERROR(VLOOKUP($B14,'[2]11市町別戸数'!$A:$G,5,FALSE),0) -> 0 | G14: =IFERROR(VLOOKUP($B14,'[2]11市町別戸数'!$A:$G,6,FALSE),0) -> 0 | H14: =IFERROR(VLOOKUP($B14,'[2]11市町別マンション戸数'!A:C,3,FALSE),0) -> 0
B15: 三島市 | C15: =IFERROR(VLOOKUP($B15,'[2]11市町別戸数'!$A:$G,7,FALSE),0) -> 58 | D15: =IFERROR(VLOOKUP($B15,'[2]11市町別戸数'!$A:$G,3,FALSE),0) -> 23 | E15: =IFERROR(VLOOKUP($B15,'[2]11市町別戸数'!$A:$G,4,FALSE),0) -> 35 | F15: =IFERROR(VLOOKUP($B15,'[2]11市町別戸数'!$A:$G,5,FALSE),0) -> 0 | G15: =IFERROR(VLOOKUP($B15,'[2]11市町別戸数'!$A:$G,6,FALSE),0) -> 0 | H15: =IFERROR(VLOOKUP($B15,'[2]11市町別マンション戸数'!A:C,3,FALSE),0) -> 0
B16: 富士宮市 | C16: =IFERROR(VLOOKUP($B16,'[2]11市町別戸数'!$A:$G,7,FALSE),0) -> 72 | D16: =IFERROR(VLOOKUP($B16,'[2]11市町別戸数'!$A:$G,3,FALSE),0) -> 30 | E16: =IFERROR(VLOOKUP($B16,'[2]11市町別戸数'!$A:$G,4,FALSE),0) -> 28 | F16: =IFERROR(VLOOKUP($B16,'[2]11市町別戸数'!$A:$G,5,FALSE),0) -> 1 | G16: =IFERROR(VLOOKUP($B16,'[2]11市町別戸数'!$A:$G,6,FALSE),0) -> 13 | H16: =IFERROR(VLOOKUP($B16,'[2]11市町別マンション戸数'!A:C,3,FALSE),0) -> 0
B17: 伊東市 | C17: =IFERROR(VLOOKUP($B17,'[2]11市町別戸数'!$A:$G,7,FALSE),0) -> 21 | D17: =IFERROR(VLOOKUP($B17,'[2]11市町別戸数'!$A:$G,3,FALSE),0) -> 11 | E17: =IFERROR(VLOOKUP($B17,'[2]11市町別戸数'!$A:$G,4,FALSE),0) -> 10 | F17: =IFERROR(VLOOKUP($B17,'[2]11市町別戸数'!$A:$G,5,FALSE),0) -> 0 | G17: =IFERROR(VLOOKUP($B17,'[2]11市町別戸数'!$A:$G,6,FALSE),0) -> 0 | H17: =IFERROR(VLOOKUP($B17,'[2]11市町別マンション戸数'!A:C,3,FALSE),0) -> 0
B18: 島田市 | C18: =IFERROR(VLOOKUP($B18,'[2]11市町別戸数'!$A:$G,7,FALSE),0) -> 47 | D18: =IFERROR(VLOOKUP($B18,'[2]11市町別戸数'!$A:$G,3,FALSE),0) -> 28 | E18: =IFERROR(VLOOKUP($B18,'[2]11市町別戸数'!$A:$G,4,FALSE),0) -> 10 | F18: =IFERROR(VLOOKUP($B18,'[2]11市町別戸数'!$A:$G,5,FALSE),0) -> 0 | G18: =IFERROR(VLOOKUP($B18,'[2]11市町別戸数'!$A:$G,6,FALSE),0) -> 9 | H18: =IFERROR(VLOOKUP($B18,'[2]11市町別マンション戸数'!A:C,3,FALSE),0) -> 0
B19: 富士市 | C19: =IFERROR(VLOOKUP($B19,'[2]11市町別戸数'!$A:$G,7,FALSE),0) -> 169 | D19: =IFERROR(VLOOKUP($B19,'[2]11市町別戸数'!$A:$G,3,FALSE),0) -> 57 | E19: =IFERROR(VLOOKUP($B19,'[2]11市町別戸数'!$A:$G,4,FALSE),0) -> 93 | F19: =IFERROR(VLOOKUP($B19,'[2]11市町別戸数'!$A:$G,5,FALSE),0) -> 0 | G19: =IFERROR(VLOOKUP($B19,'[2]11市町別戸数'!$A:$G,6,FALSE),0) -> 19 | H19: =IFERROR(VLOOKUP($B19,'[2]11市町別マンション戸数'!A:C,3,FALSE),0) -> 0
B20: 磐田市 | C20: =IFERROR(VLOOKUP($B20,'[2]11市町別戸数'!$A:$G,7,FALSE),0) -> 80 | D20: =IFERROR(VLOOKUP($B20,'[2]11市町別戸数'!$A:$G,3,FALSE),0) -> 44 | E20: =IFERROR(VLOOKUP($B20,'[2]11市町別戸数'!$A:$G,4,FALSE),0) -> 29 | F20: =IFERROR(VLOOKUP($B20,'[2]11市町別戸数'!$A:$G,5,FALSE),0) -> 0 | G20: =IFERROR(VLOOKUP($B20,'[2]11市町別戸数'!$A:$G,6,FALSE),0) -> 7 | H20: =IFERROR(VLOOKUP($B20,'[2]11市町別マンション戸数'!A:C,3,FALSE),0) -> 0
B21: 焼津市 | C21: =IFERROR(VLOOKUP($B21,'[2]11市町別戸数'!$A:$G,7,FALSE),0) -> 67 | D21: =IFERROR(VLOOKUP($B21,'[2]11市町別戸数'!$A:$G,3,FALSE),0) -> 27 | E21: =IFERROR(VLOOKUP($B21,'[2]11市町別戸数'!$A:$G,4,FALSE),0) -> 23 | F21: =IFERROR(VLOOKUP($B21,'[2]11市町別戸数'!$A:$G,5,FALSE),0) -> 0 | G21: =IFERROR(VLOOKUP($B21,'[2]11市町別戸数'!$A:$G,6,FALSE),0) -> 17 | H21: =IFERROR(VLOOKUP($B21,'[2]11市町別マンション戸数'!A:C,3,FALSE),0) -> 0
B22: 掛川市 | C22: =IFERROR(VLOOKUP($B22,'[2]11市町別戸数'!$A:$G,7,FALSE),0) -> 40 | D22: =IFERROR(VLOOKUP($B22,'[2]11市町別戸数'!$A:$G,3,FALSE),0) -> 30 | E22: =IFERROR(VLOOKUP($B22,'[2]11市町別戸数'!$A:$G,4,FALSE),0) -> 8 | F22: =IFERROR(VLOOKUP($B22,'[2]11市町別戸数'!$A:$G,5,FALSE),0) -> 0 | G22: =IFERROR(VLOOKUP($B22,'[2]11市町別戸数'!$A:$G,6,FALSE),0) -> 2 | H22: =IFERROR(VLOOKUP($B22,'[2]11市町別マンション戸数'!A:C,3,FALSE),0) -> 0
B23: 藤枝市 | C23: =IFERROR(VLOOKUP($B23,'[2]11市町別戸数'!$A:$G,7,FALSE),0) -> 62 | D23: =IFERROR(VLOOKUP($B23,'[2]11市町別戸数'!$A:$G,3,FALSE),0) -> 39 | E23: =IFERROR(VLOOKUP($B23,'[2]11市町別戸数'!$A:$G,4,FALSE),0) -> 16 | F23: =IFERROR(VLOOKUP($B23,'[2]11市町別戸数'!$A:$G,5,FALSE),0) -> 0 | G23: =IFERROR(VLOOKUP($B23,'[2]11市町別戸数'!$A:$G,6,FALSE),0) -> 7 | H23: =IFERROR(VLOOKUP($B23,'[2]11市町別マンション戸数'!A:C,3,FALSE),0) -> 0
B24: 御殿場市 | C24: =IFERROR(VLOOKUP($B24,'[2]11市町別戸数'!$A:$G,7,FALSE),0) -> 31 | D24: =IFERROR(VLOOKUP($B24,'[2]11市町別戸数'!$A:$G,3,FALSE),0) -> 17 | E24: =IFERROR(VLOOKUP($B24,'[2]11市町別戸数'!$A:$G,4,FALSE),0) -> 9 | F24: =IFERROR(VLOOKUP($B24,'[2]11市町別戸数'!$A:$G,5,FALSE),0) -> 0 | G24: =IFERROR(VLOOKUP($B24,'[2]11市町別戸数'!$A:$G,6,FALSE),0) -> 5 | H24: =IFERROR(VLOOKUP($B24,'[2]11市町別マンション戸数'!A:C,3,FALSE),0) -> 0
... B45: 森町 | C45: =IFERROR(VLOOKUP($B45,'[2]11市町別戸数'!$A:$G,7,FALSE),0) -> 2 | D45: =IFERROR(VLOOKUP($B45,'[2]11市町別戸数'!$A:$G,3,FALSE),0) -> 2 | E45: =IFERROR(VLOOKUP($B45,'[2]11市町別戸数'!$A:$G,4,FALSE),0) -> 0 | F45: =IFERROR(VLOOKUP($B45,'[2]11市町別戸数'!$A:$G,5,FALSE),0) -> 0 | G45: =IFERROR(VLOOKUP($B45,'[2]11市町別戸数'!$A:$G,6,FALSE),0) -> 0 | H45: =IFERROR(VLOOKUP($B45,'[2]11市町別マンション戸数'!A:C,3,FALSE),0) -> 0
B46: 合計 | C46: =SUM(C5:C45)-C8-C12 -> 1535 | D46: =SUM(D5:D45)-D8-D12 -> 755 | E46: =SUM(E5:E45)-E8-E12 -> 516 | F46: =SUM(F5:F45)-F8-F12 -> 6 | G46: =SUM(G5:G45)-G8-G12 -> 258 | H46: =SUM(H5:H45)-H8-H12 -> 15

Sheet 令和８年８月
F2: 新設住宅着工戸数 市区町月間データ | G2: =[1]データ!A2&"年"&[1]データ!B2&"月" -> 2026年8月
H3: （単位：戸）
B4: 市町名 | C4: 総計 | D4: 持家 | E4: 貸家 | F4: 給与住宅 | G4: 分譲住宅 | H4: うちマンション
B5: 葵区 | C5: =IFERROR(VLOOKUP($B5,'[1]11市町別戸数'!$A:$G,7,FALSE),0) -> 181 | D5: =IFERROR(VLOOKUP($B5,'[1]11市町別戸数'!$A:$G,3,FALSE),0) -> 52 | E5: =IFERROR(VLOOKUP($B5,'[1]11市町別戸数'!$A:$G,4,FALSE),0) -> 107 | F5: =IFERROR(VLOOKUP($B5,'[1]11市町別戸数'!$A:$G,5,FALSE),0) -> 1 | G5: =IFERROR(VLOOKUP($B5,'[1]11市町別戸数'!$A:$G,6,FALSE),0) -> 21 | H5: =IFERROR(VLOOKUP($B5,'[1]11市町別マンション戸数'!A:C,3,FALSE),0) -> 0
B6: 駿河区 | C6: =IFERROR(VLOOKUP($B6,'[1]11市町別戸数'!$A:$G,7,FALSE),0) -> 64 | D6: =IFERROR(VLOOKUP($B6,'[1]11市町別戸数'!$A:$G,3,FALSE),0) -> 34 | E6: =IFERROR(VLOOKUP($B6,'[1]11市町別戸数'!$A:$G,4,FALSE),0) -> 15 | F6: =IFERROR(VLOOKUP($B6,'[1]11市町別戸数'!$A:$G,5,FALSE),0) -> 1 | G6: =IFERROR(VLOOKUP($B6,'[1]11市町別戸数'!$A:$G,6,FALSE),0) -> 14 | H6: =IFERROR(VLOOKUP($B6,'[1]11市町別マンション戸数'!A:C,3,FALSE),0) -> 0
B7: 清水区 | C7: =IFERROR(VLOOKUP($B7,'[1]11市町別戸数'!$A:$G,7,FALSE),0) -> 55 | D7: =IFERROR(VLOOKUP($B7,'[1]11市町別戸数'!$A:$G,3,FALSE),0) -> 47 | E7: =IFERROR(VLOOKUP($B7,'[1]11市町別戸数'!$A:$G,4,FALSE),0) -> 0 | F7: =IFERROR(VLOOKUP($B7,'[1]11市町別戸数'!$A:$G,5,FALSE),0) -> 1 | G7: =IFERROR(VLOOKUP($B7,'[1]11市町別戸数'!$A:$G,6,FALSE),0) -> 7 | H7: =IFERROR(VLOOKUP($B7,'[1]11市町別マンション戸数'!A:C,3,FALSE),0) -> 0
B8: 静岡市 | C8: =SUM(C5:C7) -> 300 | D8: =SUM(D5:D7) -> 133 | E8: =SUM(E5:E7) -> 122 | F8: =SUM(F5:F7) -> 3 | G8: =SUM(G5:G7) -> 42 | H8: =SUM(H5:H7) -> 0
B9: 中央区 | C9: =IFERROR(VLOOKUP($B9,'[1]11市町別戸数'!$A:$G,7,FALSE),0) -> 463 | D9: =IFERROR(VLOOKUP($B9,'[1]11市町別戸数'!$A:$G,3,FALSE),0) -> 149 | E9: =IFERROR(VLOOKUP($B9,'[1]11市町別戸数'!$A:$G,4,FALSE),0) -> 253 | F9: =IFERROR(VLOOKUP($B9,'[1]11市町別戸数'!$A:$G,5,FALSE),0) -> 0 | G9: =IFERROR(VLOOKUP($B9,'[1]11市町別戸数'!$A:$G,6,FALSE),0) -> 61 | H9: =IFERROR(VLOOKUP($B9,'[1]11市町別マンション戸数'!A:C,3,FALSE),0) -> 0
B10: 浜名区 | C10: =IFERROR(VLOOKUP($B10,'[1]11市町別戸数'!$A:$G,7,FALSE),0) -> 90 | D10: =IFERROR(VLOOKUP($B10,'[1]11市町別戸数'!$A:$G,3,FALSE),0) -> 39 | E10: =IFERROR(VLOOKUP($B10,'[1]11市町別戸数'!$A:$G,4,FALSE),0) -> 33 | F10: =IFERROR(VLOOKUP($B10,'[1]11市町別戸数'!$A:$G,5,FALSE),0) -> 0 | G10: =IFERROR(VLOOKUP($B10,'[1]11市町別戸数'!$A:$G,6,FALSE),0) -> 18 | H10: =IFERROR(VLOOKUP($B10,'[1]11市町別マンション戸数'!A:C,3,FALSE),0) -> 0
B11: 天竜区 | C11: =IFERROR(VLOOKUP($B11,'[1]11市町別戸数'!$A:$G,7,FALSE),0) -> 12 | D11: =IFERROR(VLOOKUP($B11,'[1]11市町別戸数'!$A:$G,3,FALSE),0) -> 2 | E11: =IFERROR(VLOOKUP($B11,'[1]11市町別戸数'!$A:$G,4,FALSE),0) -> 10 | F11: =IFERROR(VLOOKUP($B11,'[1]11市町別戸数'!$A:$G,5,FALSE),0) -> 0 | G11: =IFERROR(VLOOKUP($B11,'[1]11市町別戸数'!$A:$G,6,FALSE),0) -> 0 | H11: =IFERROR(VLOOKUP($B11,'[1]11市町別マンション戸数'!A:C,3,FALSE),0) -> 0
B12: 浜松市 | C12: =SUM(C9:C11) -> 565 | D12: =SUM(D9:D11) -> 190 | E12: =SUM(E9:E11) -> 296 | F12: =SUM(F9:F11) -> 0 | G12: =SUM(G9:G11) -> 79 | H12: =SUM(H9:H11) -> 0
B13: 沼津市 | C13: =IFERROR(VLOOKUP($B13,'[1]11市町別戸数'!$A:$G,7,FALSE),0) -> 156 | D13: =IFERROR(VLOOKUP($B13,'[1]11市町別戸数'!$A:$G,3,FALSE),0) -> 32 | E13: =IFERROR(VLOOKUP($B13,'[1]11市町別戸数'!$A:$G,4,FALSE),0) -> 95 | F13: =IFERROR(VLOOKUP($B13,'[1]11市町別戸数'!$A:$G,5,FALSE),0) -> 0 | G13: =IFERROR(VLOOKUP($B13,'[1]11市町別戸数'!$A:$G,6,FALSE),0) -> 29 | H13: =IFERROR(VLOOKUP($B13,'[1]11市町別マンション戸数'!A:C,3,FALSE),0) -> 0
B14: 熱海市 | C14: =IFERROR(VLOOKUP($B14,'[1]11市町別戸数'!$A:$G,7,FALSE),0) -> 2 | D14: =IFERROR(VLOOKUP($B14,'[1]11市町別戸数'!$A:$G,3,FALSE),0) -> 2 | E14: =IFERROR(VLOOKUP($B14,'[1]11市町別戸数'!$A:$G,4,FALSE),0) -> 0 | F14: =IFERROR(VLOOKUP($B14,'[1]11市町別戸数'!$A:$G,5,FALSE),0) -> 0 | G14: =IFERROR(VLOOKUP($B14,'[1]11市町別戸数'!$A:$G,6,FALSE),0) -> 0 | H14: =IFERROR(VLOOKUP($B14,'[1]11市町別マンション戸数'!A:C,3,FALSE),0) -> 0
B15: 三島市 | C15: =IFERROR(VLOOKUP($B15,'[1]11市町別戸数'!$A:$G,7,FALSE),0) -> 46 | D15: =IFERROR(VLOOKUP($B15,'[1]11市町別戸数'!$A:$G,3,FALSE),0) -> 21 | E15: =IFERROR(VLOOKUP($B15,'[1]11市町別戸数'!$A:$G,4,FALSE),0) -> 20 | F15: =IFERROR(VLOOKUP($B15,'[1]11市町別戸数'!$A:$G,5,FALSE),0) -> 0 | G15: =IFERROR(VLOOKUP($B15,'[1]11市町別戸数'!$A:$G,6,FALSE),0) -> 5 | H15: =IFERROR(VLOOKUP($B15,'[1]11市町別マンション戸数'!A:C,3,FALSE),0) -> 0
B16: 富士宮市 | C16: =IFERROR(VLOOKUP($B16,'[1]11市町別戸数'!$A:$G,7,FALSE),0) -> 39 | D16: =IFERROR(VLOOKUP($B16,'[1]11市町別戸数'!$A:$G,3,FALSE),0) -> 26 | E16: =IFERROR(VLOOKUP($B16,'[1]11市町別戸数'!$A:$G,4,FALSE),0) -> 0 | F16: =IFERROR(VLOOKUP($B16,'[1]11市町別戸数'!$A:$G,5,FALSE),0) -> 0 | G16: =IFERROR(VLOOKUP($B16,'[1]11市町別戸数'!$A:$G,6,FALSE),0) -> 13 | H16: =IFERROR(VLOOKUP($B16,'[1]11市町別マンション戸数'!A:C,3,FALSE),0) -> 0
B17: 伊東市 | C17: =IFERROR(VLOOKUP($B17,'[1]11市町別戸数'!$A:$G,7,FALSE),0) -> 9 | D17: =IFERROR(VLOOKUP($B17,'[1]11市町別戸数'!$A:$G,3,FALSE),0) -> 8 | E17: =IFERROR(VLOOKUP($B17,'[1]11市町別戸数'!$A:$G,4,FALSE),0) -> 0 | F17: =IFERROR(VLOOKUP($B17,'[1]11市町別戸数'!$A:$G,5,FALSE),0) -> 1 | G17: =IFERROR(VLOOKUP($B17,'[1]11市町別戸数'!$A:$G,6,FALSE),0) -> 0 | H17: =IFERROR(VLOOKUP($B17,'[1]11市町別マンション戸数'!A:C,3,FALSE),0) -> 0
B18: 島田市 | C18: =IFERROR(VLOOKUP($B18,'[1]11市町別戸数'!$A:$G,7,FALSE),0) -> 57 | D18: =IFERROR(VLOOKUP($B18,'[1]11市町別戸数'!$A:$G,3,FALSE),0) -> 32 | E18: =IFERROR(VLOOKUP($B18,'[1]11市町別戸数'!$A:$G,4,FALSE),0) -> 22 | F18: =IFERROR(VLOOKUP($B18,'[1]11市町別戸数'!$A:$G,5,FALSE),0) -> 0 | G18: =IFERROR(VLOOKUP($B18,'[1]11市町別戸数'!$A:$G,6,FALSE),0) -> 3 | H18: =IFERROR(VLOOKUP($B18,'[1]11市町別マンション戸数'!A:C,3,FALSE),0) -> 0
B19: 富士市 | C19: =IFERROR(VLOOKUP($B19,'[1]11市町別戸数'!$A:$G,7,FALSE),0) -> 144 | D19: =IFERROR(VLOOKUP($B19,'[1]11市町別戸数'!$A:$G,3,FALSE),0) -> 45 | E19: =IFERROR(VLOOKUP($B19,'[1]11市町別戸数'!$A:$G,4,FALSE),0) -> 82 | F19: =IFERROR(VLOOKUP($B19,'[1]11市町別戸数'!$A:$G,5,FALSE),0) -> 0 | G19: =IFERROR(VLOOKUP($B19,'[1]11市町別戸数'!$A:$G,6,FALSE),0) -> 17 | H19: =IFERROR(VLOOKUP($B19,'[1]11市町別マンション戸数'!A:C,3,FALSE),0) -> 0
B20: 磐田市 | C20: =IFERROR(VLOOKUP($B20,'[1]11市町別戸数'!$A:$G,7,FALSE),0) -> 79 | D20: =IFERROR(VLOOKUP($B20,'[1]11市町別戸数'!$A:$G,3,FALSE),0) -> 30 | E20: =IFERROR(VLOOKUP($B20,'[1]11市町別戸数'!$A:$G,4,FALSE),0) -> 43 | F20: =IFERROR(VLOOKUP($B20,'[1]11市町別戸数'!$A:$G,5,FALSE),0) -> 0 | G20: =IFERROR(VLOOKUP($B20,'[1]11市町別戸数'!$A:$G,6,FALSE),0) -> 6 | H20: =IFERROR(VLOOKUP($B20,'[1]11市町別マンション戸数'!A:C,3,FALSE),0) -> 0
B21: 焼津市 | C21: =IFERROR(VLOOKUP($B21,'[1]11市町別戸数'!$A:$G,7,FALSE),0) -> 29 | D21: =IFERROR(VLOOKUP($B21,'[1]11市町別戸数'!$A:$G,3,FALSE),0) -> 18 | E21: =IFERROR(VLOOKUP($B21,'[1]11市町別戸数'!$A:$G,4,FALSE),0) -> 6 | F21: =IFERROR(VLOOKUP($B21,'[1]11市町別戸数'!$A:$G,5,FALSE),0) -> 0 | G21: =IFERROR(VLOOKUP($B21,'[1]11市町別戸数'!$A:$G,6,FALSE),0) -> 5 | H21: =IFERROR(VLOOKUP($B21,'[1]11市町別マンション戸数'!A:C,3,FALSE),0) -> 0
B22: 掛川市 | C22: =IFERROR(VLOOKUP($B22,'[1]11市町別戸数'!$A:$G,7,FALSE),0) -> 70 | D22: =IFERROR(VLOOKUP($B22,'[1]11市町別戸数'!$A:$G,3,FALSE),0) -> 32 | E22: =IFERROR(VLOOKUP($B22,'[1]11市町別戸数'!$A:$G,4,FALSE),0) -> 18 | F22: =IFERROR(VLOOKUP($B22,'[1]11市町別戸数'!$A:$G,5,FALSE),0) -> 0 | G22: =IFERROR(VLOOKUP($B22,'[1]11市町別戸数'!$A:$G,6,FALSE),0) -> 20 | H22: =IFERROR(VLOOKUP($B22,'[1]11市町別マンション戸数'!A:C,3,FALSE),0) -> 12
B23: 藤枝市 | C23: =IFERROR(VLOOKUP($B23,'[1]11市町別戸数'!$A:$G,7,FALSE),0) -> 41 | D23: =IFERROR(VLOOKUP($B23,'[1]11市町別戸数'!$A:$G,3,FALSE),0) -> 22 | E23: =IFERROR(VLOOKUP($B23,'[1]11市町別戸数'!$A:$G,4,FALSE),0) -> 8 | F23: =IFERROR(VLOOKUP($B23,'[1]11市町別戸数'!$A:$G,5,FALSE),0) -> 0 | G23: =IFERROR(VLOOKUP($B23,'[1]11市町別戸数'!$A:$G,6,FALSE),0) -> 11 | H23: =IFERROR(VLOOKUP($B23,'[1]11市町別マンション戸数'!A:C,3,FALSE),0) -> 0
B24: 御殿場市 | C24: =IFERROR(VLOOKUP($B24,'[1]11市町別戸数'!$A:$G,7,FALSE),0) -> 69 | D24: =IFERROR(VLOOKUP($B24,'[1]11市町別戸数'!$A:$G,3,FALSE),0) -> 22 | E24: =IFERROR(VLOOKUP($B24,'[1]11市町別戸数'!$A:$G,4,FALSE),0) -> 22 | F24: =IFERROR(VLOOKUP($B24,'[1]11市町別戸数'!$A:$G,5,FALSE),0) -> 20 | G24: =IFERROR(VLOOKUP($B24,'[1]11市町別戸数'!$A:$G,6,FALSE),0) -> 5 | H24: =IFERROR(VLOOKUP($B24,'[1]11市町別マンション戸数'!A:C,3,FALSE),0) -> 0
... B45: 森町 | C45: =IFERROR(VLOOKUP($B45,'[1]11市町別戸数'!$A:$G,7,FALSE),0) -> 3 | D45: =IFERROR(VLOOKUP($B45,'[1]11市町別戸数'!$A:$G,3,FALSE),0) -> 3 | E45: =IFERROR(VLOOKUP($B45,'[1]11市町別戸数'!$A:$G,4,FALSE),0) -> 0 | F45: =IFERROR(VLOOKUP($B45,'[1]11市町別戸数'!$A:$G,5,FALSE),0) -> 0 | G45: =IFERROR(VLOOKUP($B45,'[1]11市町別戸数'!$A:$G,6,FALSE),0) -> 0 | H45: =IFERROR(VLOOKUP($B45,'[1]11市町別マンション戸数'!A:C,3,FALSE),0) -> 0
B46: 合計 | C46: =SUM(C5:C45)-C8-C12 -> 1914 | D46: =SUM(D5:D45)-D8-D12 -> 736 | E46: =SUM(E5:E45)-E8-E12 -> 881 | F46: =SUM(F5:F45)-F8-F12 -> 24 | G46: =SUM(G5:G45)-G8-G12 -> 273 | H46: =SUM(H5:H45)-H8-H12 -> 12
